Workbook
Name ___con3000: [1]APU!$F$36
Name Acero: [2]APU!$F$306
Name agua: [3]Materiales!$E$10
Name AIU: [4]AIU!$G$75
Name arena: [3]Materiales!$E$7
Name AYUDANTE: [2]Tablas!$C$21
Name CADENERO: '[3]Salarios M.L.V.D'!$C$17
Name CDIRECTO: [2]Presupuesto!$F$144
Name cemento: [3]Materiales!$E$6
Name Concmuros: [2]APU!$F$190
Name ConcrecolPPISO: [2]APU!$F$249
Name Concretom3: [2]APU!$F$215
Name Concretoplacas: [2]APU!$F$637
Name Concrevigasppiso: [2]APU!$F$281
Name Descapote: [2]APU!$F$21
Name EstucoPintura: [2]APU!$F$589
Name Excam3: [2]APU!$F$91
Name fp: [2]Tablas!$H$11
Name grava: [3]Materiales!$E$8
Name item1: #REF!
Name LORE: [5]Cuadrillas!$D$18
Name MAESTRO: [2]Tablas!$C$19
Name mangle: [5]Materiales!$E$21
Name moto: '[5]Herramientas y Equipos'!$D$9
Name Muros: [2]APU!$F$331
Name objeto: '[6]CANT LA'!$E$10
Name OBRERO: #REF!
Name oficial: #REF!
Name OPERADOR: [2]Tablas!$C$31
Name Pañete: [2]APU!$F$356
Name PisoASCH: [2]APU!$F$509
Name PisosBC: [2]APU!$F$534
Name Puerta100cm: [2]APU!$F$446
Name puerta80cm: [2]APU!$F$386
Name puerta90cm: [2]APU!$F$416
Name Relleno: [2]APU!$F$165
Name rmoto: '[5]Herramientas y Equipos'!$F$9
Name SMLVD: [2]Tablas!$A$34
Name sobrecimiento: [2]APU!$F$141
Name SOLADO: [2]APU!$F$116
Name tarhm: [5]PROPUESTA!$H$28
Name TCOSD1: [3]APU!$F$37
Name TCOSD2: [3]APU!$F$72
Name TCOSD3: [3]APU!$F$106
Name TCOSD4: [3]APU!$F$141
Name TCOSD5: [3]APU!$F$176
Name TOPOGRAFO: '[3]Salarios M.L.V.D'!$C$18
Name Trazado: [2]APU!$F$46
Name Tuberíahid: [2]APU!$F$612
Name Ventana: [2]APU!$F$483

Sheet PRESUPUESTO
B2: LIMPIEZA Y MATENIMIENTO DE BOX CULVERTS CON TAPAS, PARA EL MANEJO Y DRENAJE DE AGUAS PLUVIABLES, EN LA ZONA URBANA DEL MUNICIPIO DE LA APARTADA, CÓRDOBA.
B3: PRESUPUESTO OFICIAL
B4: ITEM | C4: DESCRIPCIÓN | D4: UNIDAD | E4: CANTIDAD | F4: VALOR UNITARIO | G4: VALOR SUB TOTAL
B6: 1 | C6: LIMPIEZA BOXCULVER CON TAPAS PARALELO A LA CARRERA 11, DESDE LA CALLE 36 DEL BARRIO TIERRA SANTA HASTA LA CALLE 41 DEL BARRIO 24 DE NOVIEMBRE. | D6: Longitud del canal: 166 metros Longitud a intervenir: 166 metros | G6: =SUM(G8:G17) -> 16418992
B7: 1.1 | C7: =+'[7]PRESUPUESTO (2)'!C8 -> PRELIMINARES
B8: 1.1.1 | C8: Remoción de tapas en concreto reforzado | D8: UND | E8: =+(166/0.5)-10 -> 322 | F8: =+'APU 1.1.1'!G40 -> 8565 | G8: =+E8*F8 -> 2757930
B9: 1.1.2 | C9: Extraccion manual de material de colmatacion, fango, arena, escombros, residuos solidos, material vegetal con 50% de agua contaminada | D9: M3 | E9: 58.826 | F9: =+'APU 1.1.2.'!G40 -> 98141 | G9: =E9*F9 -> 5773242.5
B10: 1.2 | C10: =+'[7]PRESUPUESTO (2)'!C11 -> MOVIMIENTOS DE TIERRA
B11: 1.2.1 | C11: Acarreo manual de material contaminado en carreta de llantas desde el sitio de acopio en superficie hasta superficie de cargue (incluye paleado del material). | D11: M3 | E11: =+E9 -> 58.826 | F11: =+'APU 1.2.1'!G40 -> 38023 | G11: =+E11*F11 -> 2236741
B12: 1.2.2 | C12: =+'[7]PRESUPUESTO (2)'!C12 -> Cargue de material contaminado con minicargador mecanico | D12: =+D13 -> M3 | E12: =+E11 -> 58.826 | F12: =+'APU 1.2.2'!G40 -> 12905 | G12: =E12*F12 -> 759149.53
B13: 1.2.3 | C13: Transporte Material Contaminado en Volqueta senciila de 6 m3 a distancia de 2 Km fuera del perímetro urbano. | D13: M3 | E13: =+E12 -> 58.826 | F13: =+'APU 1.2.3'!G40 -> 9784 | G13: =E13*F13 -> 575553.58
B14: 1.2.4 | C14: Reinstalación de tapas en concreto reforzado | D14: UND | E14: =(166/0.5) -> 332 | F14: =+'APU 1.2.4'!G40 -> 8565 | G14: =+E14*F14 -> 2843580
B15: 1.3 | C15: =+'[7]PRESUPUESTO (2)'!C14 -> OTROS
B16: 1.3.1 | C16: Contrucción de tapas en concreto reforzado de 3000 psi de 0.50 mts x 1.40 mts x 0.07 mts, incluye acero de refuero #3@0.15 m. | D16: UND | E16: 10 | F16: =+'APU 1.3.1'!G46 -> 93748 | G16: =+E16*F16 -> 937480
B17: 1.3.2 | C17: Señalización Vial - Control de Tráfico ( PALETERO ) | D17: JORNAL | E17: 5 | F17: =+'APU 1.3.2'!G40 -> 107063 | G17: =E17*F17 -> 535315
B18: SUB-TOTAL | G18: =+SUM(G7:G17) -> 16418992
B19: 2 | C19: LIMPIEZA BOXCULVER CON TAPAS PARALELO A CALLE 24 BARRIO EL ORIENTE HASTA LA QUEBRADA SAN MATEO. | D19: Longitud del canal: 362.3 metros Longitud a intervenir: 247 metros | G19: =SUM(G21:G30) -> 22575472
B20: 2.1 | C20: =+C7 -> PRELIMINARES
B21: 2.1.1 | C21: Remoción de tapas en concreto reforzado | D21: UND | E21: =(247/0.5)-12 -> 482 | F21: =+'APU 1.1.1'!G40 -> 8565 | G21: =+E21*F21 -> 4128330
B22: 2.1.2 | C22: =+C9 -> Extraccion manual de material de colmatacion, fango, arena, escombros, residuos solidos, material vegetal con 50% de agua contaminada | D22: M3 | E22: 79.04 | F22: =+F9 -> 98141 | G22: =E22*F22 -> 7757064.6
B23: 2.2 | C23: =+C10 -> MOVIMIENTOS DE TIERRA
B24: 2.2.1 | C24: =+C11 -> Acarreo manual de material contaminado en carreta de llantas desde el sitio de acopio en superficie hasta superficie de cargue (incluye paleado del material). | D24: M3 | E24: 79.04 | F24: =+F11 -> 38023 | G24: =+E24*F24 -> 3005337.9
B25: 2.2.2 | C25: =+C12 -> Cargue de material contaminado con minicargador mecanico | D25: M3 | E25: 79.04 | F25: =+F12 -> 12905 | G25: =E25*F25 -> 1020011.2
B26: 2.2.3 | C26: =+C13 -> Transporte Material Contaminado en Volqueta senciila de 6 m3 a distancia de 2 Km fuera del perímetro urbano. | D26: M3 | E26: 79.04 | F26: =+F13 -> 9784 | G26: =E26*F26 -> 773327.36
B27: 2.2.4 | C27: Reinstalación de tapas en concreto reforzado | D27: UND | E27: =+(247/0.5) -> 494 | F27: =+'APU 1.2.4'!G40 -> 8565 | G27: =+E27*F27 -> 4231110
B28: 2.3 | C28: =+C15 -> OTROS
B29: 2.3.1 | C29: Contrucción de tapas en concreto reforzado de 3000 psi de 0.50 mts x 1.40 mts x 0.07 mts, incluye acero de refuero #3@0.15 m. | D29: UND | E29: 12 | F29: =+F16 -> 93748 | G29: =+E29*F29 -> 1124976
B30: 2.3.2 | C30: Señalización Vial - Control de Tráfico ( PALETERO ) | D30: JORNAL | E30: 5 | F30: =+F17 -> 107063 | G30: =E30*F30 -> 535315
B31: SUB-TOTAL | G31: =+SUM(G20:G30) -> 22575472
B32: 3 | C32: LIMPIEZA BOXCULVER CON TAPAS PARALELO A LA CALLE 19 ENTRE LA CARRERA 10, HASTA EL CANAL DEL BARRIO MONTELÍBANO. | D32: Longitud del canal: 227.7 metros Longitud a intervenir: 197.7 metros | G32: =SUM(G34:G43) -> 17581918
B33: 3.1 | C33: =+C20 -> PRELIMINARES
B34: 3.1.1 | C34: Remoción de tapas en concreto reforzado | D34: UND | E34: =+(197.7/0.5)-10 -> 385.4 | F34: =+'APU 1.1.1'!G40 -> 8565 | G34: =+E34*F34 -> 3300951
B35: 3.1.2 | C35: =+C22 -> Extraccion manual de material de colmatacion, fango, arena, escombros, residuos solidos, material vegetal con 50% de agua contaminada | D35: M3 | E35: 59.31 | F35: =+F22 -> 98141 | G35: =E35*F35 -> 5820742.7
B36: 3.2 | C36: =+C23 -> MOVIMIENTOS DE TIERRA
B37: 3.2.1 | C37: =+C11 -> Acarreo manual de material contaminado en carreta de llantas desde el sitio de acopio en superficie hasta superficie de cargue (incluye paleado del material). | D37: M3 | E37: 59.31 | F37: =+F24 -> 38023 | G37: =+E37*F37 -> 2255144.1
B38: 3.2.2 | C38: =+C25 -> Cargue de material contaminado con minicargador mecanico | D38: M3 | E38: 59.31 | F38: =+F25 -> 12905 | G38: =E38*F38 -> 765395.55
B39: 3.2.3 | C39: =+C26 -> Transporte Material Contaminado en Volqueta senciila de 6 m3 a distancia de 2 Km fuera del perímetro urbano. | D39: M3 | E39: 59.31 | F39: =+F26 -> 9784 | G39: =E39*F39 -> 580289.04
B40: 3.2.4 | C40: Reinstalación de tapas en concreto reforzado | D40: UND | E40: =+(197.7/0.5) -> 395.4 | F40: =+'APU 1.2.4'!G40 -> 8565 | G40: =+E40*F40 -> 3386601
B41: 3.3 | C41: =+C28 -> OTROS
B42: 3.3.1 | C42: Contrucción de tapas en concreto reforzado de 3000 psi de 0.50 mts x 1.40 mts x 0.07 mts, incluye acero de refuero #3@0.15 m. | D42: UND | E42: 10 | F42: =+F29 -> 93748 | G42: =+E42*F42 -> 937480
B43: 3.3.2 | C43: Señalización Vial - Control de Tráfico ( PALETERO ) | D43: JORNAL | E43: 5 | F43: =+F30 -> 107063 | G43: =E43*F43 -> 535315
B44: SUB-TOTAL | G44: =+SUM(G33:G43) -> 17581918
B45: 4 | C45: LIMPIEZA BOXCULVER CON TAPAS PARALELO A LA CALLE 21 DESDE LA CARRERA 19 BARRIO LA RAYA, HASTA LA CALLE 17 CON CARRERA 16 DEL BARRIO LA FLORIDA. | D45: Longitud del canal: 470 metros Longitud a intervenir: 270 metros | G45: =SUM(G47:G56) -> 28025113
B46: 4.1 | C46: =+C33 -> PRELIMINARES
B47: 4.1.1 | C47: Remoción de tapas en concreto reforzado | D47: UND | E47: =(270/0.5)-53 -> 487 | F47: =+'APU 1.1.1'!G40 -> 8565 | G47: =+E47*F47 -> 4171155
B48: 4.1.2 | C48: =+C35 -> Extraccion manual de material de colmatacion, fango, arena, escombros, residuos solidos, material vegetal con 50% de agua contaminada | D48: M3 | E48: 86.4 | F48: =+F35 -> 98141 | G48: =E48*F48 -> 8479382.4
B49: 4.2 | C49: =+C36 -> MOVIMIENTOS DE TIERRA
B50: 4.2.1 | C50: =+C37 -> Acarreo manual de material contaminado en carreta de llantas desde el sitio de acopio en superficie hasta superficie de cargue (incluye paleado del material). | D50: M3 | E50: =+E48 -> 86.4 | F50: =+F37 -> 38023 | G50: =+E50*F50 -> 3285187.2
B51: 4.2.2 | C51: =+C38 -> Cargue de material contaminado con minicargador mecanico | D51: M3 | E51: =+E50 -> 86.4 | F51: =+F38 -> 12905 | G51: =E51*F51 -> 1114992
B52: 4.2.3 | C52: =+C39 -> Transporte Material Contaminado en Volqueta senciila de 6 m3 a distancia de 2 Km fuera del perímetro urbano. | D52: M3 | E52: =+E51 -> 86.4 | F52: =+F39 -> 9784 | G52: =E52*F52 -> 845337.6
B53: 4.2.4 | C53: Reinstalación de tapas en concreto reforzado | D53: UND | E53: =(270/0.5) -> 540 | F53: =+'APU 1.2.4'!G40 -> 8565 | G53: =+E53*F53 -> 4625100
B54: 4.3 | C54: =+C41 -> OTROS
B55: 4.3.1 | C55: Contrucción de tapas en concreto reforzado de 3000 psi de 0.50 mts x 1.40 mts x 0.07 mts, incluye acero de refuero #3@0.15 m. | D55: UND | E55: 53 | F55: =+F42 -> 93748 | G55: =+E55*F55 -> 4968644
B56: 4.3.2 | C56: Señalización Vial - Control de Tráfico ( PALETERO ) | D56: JORNAL | E56: 5 | F56: =+F43 -> 107063 | G56: =E56*F56 -> 535315
B57: SUB-TOTAL | G57: =+SUM(G46:G56) -> 28025113
C59: TOTAL COSTOS DIRECTOS | G59: =+SUM(G6+G19+G32+G45) -> 84601495
C60: ADMINISTRACION | F60: 0.24 | G60: =+F60*G59 -> 20304359
C61: MANEJO AMBIENTAL DEL PROYECTO | F61: 0.04 | G61: =+F61*G59 -> 3384059.8
C62: IMPREVISTOS | F62: 0.02 | G62: =+F62*G59 -> 1692029.9
C63: VALOR TOTAL | G63: =+SUM(G59:G62) -> 1.0998194e+08

Sheet APU 1.1.1
B2: APU - ANÁLISIS DE PRECIOS UNITARIOS
C4: MUNICIPIO DE LA APARTADA CÓRDOBA SECRETARÍA DE PLANEACION OBRAS PUBLICAS Y MEDIO AMBIENTE
B7: OBJETO DEL PROYECTO: | C7: =PRESUPUESTO!B2 -> LIMPIEZA Y MATENIMIENTO DE BOX CULVERTS CON TAPAS, PARA EL MANEJO Y DRENAJE DE AGUAS PLUVIABLES, EN LA ZONA URBANA DEL MUNICIPIO DE LA APARTADA, CÓRDOBA.
B13: ITEM | C13: DESCRIPCIÓN | G13: UND
B14: =+PRESUPUESTO!B8 -> 1.1.1 | C14: =+PRESUPUESTO!C8 -> Remoción de tapas en concreto reforzado | G14: UND
B17: I. EQUIPOS
B18: Descripcion | C18: Cant | D18: Unidad | E18: Tarifa / hora | F18: Rendimiento | G18: Valor Unitario
F21: SUBTOTAL | G21: =ROUND(SUM(G19:G20),0) -> 0
B22: II. MATERIALES EN OBRA
B23: Descripción | D23: Unidad | E23: Valor Unitario | F23: Cantidad | G23: Valor unitario
F27: SUBTOTAL | G27: =ROUND(SUM(G24:G26),0) -> 0
B28: III.TRANSPORTE
B29: Descripcion | D29: km | E29: Tarifa - km | F29: m3 | G29: Valor unitario
G30: =+F30*E30 -> 0
F32: SUBTOTAL | G32: =ROUND(SUM(G30),0) -> 0
B33: IV. MANO DE OBRA
B34: Descripcion | C34: Cant | D34: Jornal | E34: Prestaciones - MO | F34: Rendimiento | G34: Valor unitario
E35: 1.8344
B36: AYUDANTE | C36: 2 | D36: =+'APU 1.2.2'!D36 -> 58364 | E36: =+D36*E35 -> 107062.92 | F36: 25 | G36: =(C36*E36)/F36 -> 8565.0337
F38: SUBTOTAL | G38: =ROUND(SUM(G36:G37),0) -> 8565
E40: TOTAL COSTOS DIRECTOS | G40: =ROUND(G21+G27+G32+G38,0) -> 8565
B54: APU - ANÁLISIS DE PRECIOS UNITARIOS
C56: MUNICIPIO DE LA APARTADA CÓRDOBA SECRETARÍA DE PLANEACION OBRAS PUBLICAS Y MEDIO AMBIENTE
B59: OBJETO DEL PROYECTO: | C59: =+C7 -> LIMPIEZA Y MATENIMIENTO DE BOX CULVERTS CON TAPAS, PARA EL MANEJO Y DRENAJE DE AGUAS PLUVIABLES, EN LA ZONA URBANA DEL MUNICIPIO DE LA APARTADA, CÓRDOBA.
B65: ITEM | C65: DESCRIPCIÓN | G65: UND
B66: =+PRESUPUESTO!B21 -> 2.1.1 | C66: =+C14 -> Remoción de tapas en concreto reforzado | G66: UND
B69: I. EQUIPOS
B70: Descripcion | C70: Cant | D70: Unidad | E70: Tarifa / hora | F70: Rendimiento | G70: Valor Unitario
F73: SUBTOTAL | G73: =ROUND(SUM(G71:G72),0) -> 0
B74: II. MATERIALES EN OBRA
B75: Descripción | D75: Unidad | E75: Valor Unitario | F75: Cantidad | G75: Valor unitario
F79: SUBTOTAL | G79: =ROUND(SUM(G76:G78),0) -> 0
B80: III.TRANSPORTE
B81: Descripcion | D81: km | E81: Tarifa - km | F81: m3 | G81: Valor unitario
G82: =+F82*E82 -> 0
F84: SUBTOTAL | G84: =ROUND(SUM(G82),0) -> 0
B85: IV. MANO DE OBRA
B86: Descripcion | C86: Cant | D86: Jornal | E86: Prestaciones - MO | F86: Rendimiento | G86: Valor unitario
E87: 1.8344
B88: AYUDANTE | C88: 2 | D88: =+D36 -> 58364 | E88: =+D88*E87 -> 107062.92 | F88: 25 | G88: =(C88*E88)/F88 -> 8565.0337
F90: SUBTOTAL | G90: =ROUND(SUM(G88:G89),0) -> 8565
E92: TOTAL COSTOS DIRECTOS | G92: =ROUND(G73+G79+G84+G90,0) -> 8565
B104: APU - ANÁLISIS DE PRECIOS UNITARIOS
C106: MUNICIPIO DE LA APARTADA CÓRDOBA SECRETARÍA DE PLANEACION OBRAS PUBLICAS Y MEDIO AMBIENTE
B109: OBJETO DEL PROYECTO: | C109: =+C59 -> LIMPIEZA Y MATENIMIENTO DE BOX CULVERTS CON TAPAS, PARA EL MANEJO Y DRENAJE DE AGUAS PLUVIABLES, EN LA ZONA URBANA DEL MUNICIPIO DE LA APARTADA, CÓRDOBA.
B115: ITEM | C115: DESCRIPCIÓN | G115: UND
B116: =+PRESUPUESTO!B34 -> 3.1.1 | C116: =+C66 -> Remoción de tapas en concreto reforzado | G116: UND
B119: I. EQUIPOS
B120: Descripcion | C120: Cant | D120: Unidad | E120: Tarifa / hora | F120: Rendimiento | G120: Valor Unitario
F123: SUBTOTAL | G123: =ROUND(SUM(G121:G122),0) -> 0
B124: II. MATERIALES EN OBRA
B125: Descripción | D125: Unidad | E125: Valor Unitario | F125: Cantidad | G125: Valor unitario
F129: SUBTOTAL | G129: =ROUND(SUM(G126:G128),0) -> 0
B130: III.TRANSPORTE
B131: Descripcion | D131: km | E131: Tarifa - km | F131: m3 | G131: Valor unitario
G132: =+F132*E132 -> 0
F134: SUBTOTAL | G134: =ROUND(SUM(G132),0) -> 0
B135: IV. MANO DE OBRA
B136: Descripcion | C136: Cant | D136: Jornal | E136: Prestaciones - MO | F136: Rendimiento | G136: Valor unitario
E137: 1.8344
B138: AYUDANTE | C138: 2 | D138: =+D88 -> 58364 | E138: =+D138*E137 -> 107062.92 | F138: 25 | G138: =(C138*E138)/F138 -> 8565.0337
F140: SUBTOTAL | G140: =ROUND(SUM(G138:G139),0) -> 8565
E142: TOTAL COSTOS DIRECTOS | G142: =ROUND(G123+G129+G134+G140,0) -> 8565
B155: APU - ANÁLISIS DE PRECIOS UNITARIOS
C157: MUNICIPIO DE LA APARTADA CÓRDOBA SECRETARÍA DE PLANEACION OBRAS PUBLICAS Y MEDIO AMBIENTE
B160: OBJETO DEL PROYECTO: | C160: =+C109 -> LIMPIEZA Y MATENIMIENTO DE BOX CULVERTS CON TAPAS, PARA EL MANEJO Y DRENAJE DE AGUAS PLUVIABLES, EN LA ZONA URBANA DEL MUNICIPIO DE LA APARTADA, CÓRDOBA.
B166: ITEM | C166: DESCRIPCIÓN | G166: UND
B167: =+PRESUPUESTO!B47 -> 4.1.1 | C167: =+C116 -> Remoción de tapas en concreto reforzado | G167: UND
B170: I. EQUIPOS
B171: Descripcion | C171: Cant | D171: Unidad | E171: Tarifa / hora | F171: Rendimiento | G171: Valor Unitario
F174: SUBTOTAL | G174: =ROUND(SUM(G172:G173),0) -> 0
B175: II. MATERIALES EN OBRA
B176: Descripción | D176: Unidad | E176: Valor Unitario | F176: Cantidad | G176: Valor unitario
F180: SUBTOTAL | G180: =ROUND(SUM(G177:G179),0) -> 0
B181: III.TRANSPORTE
B182: Descripcion | D182: km | E182: Tarifa - km | F182: m3 | G182: Valor unitario
G183: =+F183*E183 -> 0
F185: SUBTOTAL | G185: =ROUND(SUM(G183),0) -> 0
B186: IV. MANO DE OBRA
B187: Descripcion | C187: Cant | D187: Jornal | E187: Prestaciones - MO | F187: Rendimiento | G187: Valor unitario
E188: 1.8344
B189: AYUDANTE | C189: 2 | D189: =+D138 -> 58364 | E189: =+D189*E188 -> 107062.92 | F189: 25 | G189: =(C189*E189)/F189 -> 8565.0337
F191: SUBTOTAL | G191: =ROUND(SUM(G189:G190),0) -> 8565
E193: TOTAL COSTOS DIRECTOS | G193: =ROUND(G174+G180+G185+G191,0) -> 8565

Sheet APU 1.1.2.
B2: APU - ANÁLISIS DE PRECIOS UNITARIOS
C4: MUNICIPIO DE LA APARTADA CÓRDOBA SECRETARÍA DE PLANEACION OBRAS PUBLICAS Y MEDIO AMBIENTE
B7: OBJETO DEL PROYECTO: | C7: =PRESUPUESTO!B2 -> LIMPIEZA Y MATENIMIENTO DE BOX CULVERTS CON TAPAS, PARA EL MANEJO Y DRENAJE DE AGUAS PLUVIABLES, EN LA ZONA URBANA DEL MUNICIPIO DE LA APARTADA, CÓRDOBA.
B13: ITEM | C13: DESCRIPCIÓN | G13: UND
B14: =+PRESUPUESTO!B9 -> 1.1.2 | C14: =+PRESUPUESTO!C9 -> Extraccion manual de material de colmatacion, fango, arena, escombros, residuos solidos, material vegetal con 50% de agua contaminada | G14: M3
B17: I. EQUIPOS
B18: Descripcion | C18: Cant | D18: Unidad | E18: Valor-unit | F18: Rendimiento | G18: Valor Unitario
B19: Herramientas Menores | C19: 10%MO | D19: % | E19: =+G38 -> 89219 | F19: 0.1 | G19: =E19*F19 -> 8921.9
F21: SUBTOTAL | G21: =ROUND(SUM(G19:G20),0) -> 8922
B22: II. MATERIALES EN OBRA
B23: Descripción | D23: Unidad | E23: Valor Unitario | F23: Cantidad | G23: Valor unitario
F27: SUBTOTAL | G27: =ROUND(SUM(G24:G26),0) -> 0
B28: III.TRANSPORTE
B29: Descripcion | D29: Tipo | E29: Tarifa - km | F29: Rendimiento | G29: Valor unitario
G30: =+F30*E30 -> 0
F32: SUBTOTAL | G32: =ROUND(SUM(G30),0) -> 0
B33: IV. MANO DE OBRA
B34: Descripcion | C34: Cant | D34: Jornal | E34: Prestaciones - MO | F34: Rendimiento | G34: Valor unitario
E35: 1.8344
B36: AYUDANTE | C36: 10 | D36: =58364 -> 58364 | E36: =D36*E35 -> 107062.92 | F36: 12 | G36: =(C36*E36)/F36 -> 89219.101
F38: SUBTOTAL | G38: =ROUND(SUM(G36:G37),0) -> 89219
E40: TOTAL COSTOS DIRECTOS | G40: =ROUND(G21+G27+G32+G38,0) -> 98141
B53: APU - ANÁLISIS DE PRECIOS UNITARIOS
C55: MUNICIPIO DE LA APARTADA CÓRDOBA SECRETARÍA DE PLANEACION OBRAS PUBLICAS Y MEDIO AMBIENTE
B58: OBJETO DEL PROYECTO: | C58: =+C7 -> LIMPIEZA Y MATENIMIENTO DE BOX CULVERTS CON TAPAS, PARA EL MANEJO Y DRENAJE DE AGUAS PLUVIABLES, EN LA ZONA URBANA DEL MUNICIPIO DE LA APARTADA, CÓRDOBA.
B64: ITEM | C64: DESCRIPCIÓN | G64: UND
B65: =+PRESUPUESTO!B22 -> 2.1.2 | C65: =+C14 -> Extraccion manual de material de colmatacion, fango, arena, escombros, residuos solidos, material vegetal con 50% de agua contaminada | G65: M3
B68: I. EQUIPOS
B69: Descripcion | C69: Cant | D69: Unidad | E69: Valor-unit | F69: Rendimiento | G69: Valor Unitario
B70: Herramientas Menores | C70: 10%MO | D70: % | E70: =+G89 -> 89219 | F70: 0.1 | G70: =E70*F70 -> 8921.9
F72: SUBTOTAL | G72: =ROUND(SUM(G70:G71),0) -> 8922
B73: II. MATERIALES EN OBRA
B74: Descripción | D74: Unidad | E74: Valor Unitario | F74: Cantidad | G74: Valor unitario
F78: SUBTOTAL | G78: =ROUND(SUM(G75:G77),0) -> 0
B79: III.TRANSPORTE
B80: Descripcion | D80: Tipo | E80: Tarifa - km | F80: Rendimiento | G80: Valor unitario
G81: =+F81*E81 -> 0
F83: SUBTOTAL | G83: =ROUND(SUM(G81),0) -> 0
B84: IV. MANO DE OBRA
B85: Descripcion | C85: Cant | D85: Jornal | E85: Prestaciones - MO | F85: Rendimiento | G85: Valor unitario
E86: 1.8344
B87: AYUDANTE | C87: 10 | D87: =58364 -> 58364 | E87: =D87*E86 -> 107062.92 | F87: 12 | G87: =(C87*E87)/F87 -> 89219.101
F89: SUBTOTAL | G89: =ROUND(SUM(G87:G88),0) -> 89219
E91: TOTAL COSTOS DIRECTOS | G91: =ROUND(G72+G78+G83+G89,0) -> 98141
B106: APU - ANÁLISIS DE PRECIOS UNITARIOS
C108: MUNICIPIO DE LA APARTADA CÓRDOBA SECRETARÍA DE PLANEACION OBRAS PUBLICAS Y MEDIO AMBIENTE
B111: OBJETO DEL PROYECTO: | C111: =+C58 -> LIMPIEZA Y MATENIMIENTO DE BOX CULVERTS CON TAPAS, PARA EL MANEJO Y DRENAJE DE AGUAS PLUVIABLES, EN LA ZONA URBANA DEL MUNICIPIO DE LA APARTADA, CÓRDOBA.
B117: ITEM | C117: DESCRIPCIÓN | G117: UND
B118: =+PRESUPUESTO!B35 -> 3.1.2 | C118: =+C65 -> Extraccion manual de material de colmatacion, fango, arena, escombros, residuos solidos, material vegetal con 50% de agua contaminada | G118: M3
B121: I. EQUIPOS
B122: Descripcion | C122: Cant | D122: Unidad | E122: Valor-unit | F122: Rendimiento | G122: Valor Unitario
B123: Herramientas Menores | C123: 10%MO | D123: % | E123: =+G142 -> 89219 | F123: 0.1 | G123: =E123*F123 -> 8921.9
F125: SUBTOTAL | G125: =ROUND(SUM(G123:G124),0) -> 8922
B126: II. MATERIALES EN OBRA
B127: Descripción | D127: Unidad | E127: Valor Unitario | F127: Cantidad | G127: Valor unitario
F131: SUBTOTAL | G131: =ROUND(SUM(G128:G130),0) -> 0
B132: III.TRANSPORTE
B133: Descripcion | D133: Tipo | E133: Tarifa - km | F133: Rendimiento | G133: Valor unitario
G134: =+F134*E134 -> 0
F136: SUBTOTAL | G136: =ROUND(SUM(G134),0) -> 0
B137: IV. MANO DE OBRA
B138: Descripcion | C138: Cant | D138: Jornal | E138: Prestaciones - MO | F138: Rendimiento | G138: Valor unitario
E139: 1.8344
B140: AYUDANTE | C140: 10 | D140: =58364 -> 58364 | E140: =D140*E139 -> 107062.92 | F140: 12 | G140: =(C140*E140)/F140 -> 89219.101
F142: SUBTOTAL | G142: =ROUND(SUM(G140:G141),0) -> 89219
E144: TOTAL COSTOS DIRECTOS | G144: =ROUND(G125+G131+G136+G142,0) -> 98141
B158: APU - ANÁLISIS DE PRECIOS UNITARIOS
C160: MUNICIPIO DE LA APARTADA CÓRDOBA SECRETARÍA DE PLANEACION OBRAS PUBLICAS Y MEDIO AMBIENTE
B163: OBJETO DEL PROYECTO: | C163: =+C111 -> LIMPIEZA Y MATENIMIENTO DE BOX CULVERTS CON TAPAS, PARA EL MANEJO Y DRENAJE DE AGUAS PLUVIABLES, EN LA ZONA URBANA DEL MUNICIPIO DE LA APARTADA, CÓRDOBA.
B169: ITEM | C169: DESCRIPCIÓN | G169: UND
B170: =+PRESUPUESTO!B48 -> 4.1.2 | C170: =+C118 -> Extraccion manual de material de colmatacion, fango, arena, escombros, residuos solidos, material vegetal con 50% de agua contaminada | G170: M3
B173: I. EQUIPOS
B174: Descripcion | C174: Cant | D174: Unidad | E174: Valor-unit | F174: Rendimiento | G174: Valor Unitario
B175: Herramientas Menores | C175: 10%MO | D175: % | E175: =+G194 -> 89219 | F175: 0.1 | G175: =E175*F175 -> 8921.9
F177: SUBTOTAL | G177: =ROUND(SUM(G175:G176),0) -> 8922
B178: II. MATERIALES EN OBRA
B179: Descripción | D179: Unidad | E179: Valor Unitario | F179: Cantidad | G179: Valor unitario
F183: SUBTOTAL | G183: =ROUND(SUM(G180:G182),0) -> 0
B184: III.TRANSPORTE
B185: Descripcion | D185: Tipo | E185: Tarifa - km | F185: Rendimiento | G185: Valor unitario
G186: =+F186*E186 -> 0
F188: SUBTOTAL | G188: =ROUND(SUM(G186),0) -> 0
B189: IV. MANO DE OBRA
B190: Descripcion | C190: Cant | D190: Jornal | E190: Prestaciones - MO | F190: Rendimiento | G190: Valor unitario
E191: 1.8344
B192: AYUDANTE | C192: 10 | D192: =58364 -> 58364 | E192: =D192*E191 -> 107062.92 | F192: 12 | G192: =(C192*E192)/F192 -> 89219.101
F194: SUBTOTAL | G194: =ROUND(SUM(G192:G193),0) -> 89219
E196: TOTAL COSTOS DIRECTOS | G196: =ROUND(G177+G183+G188+G194,0) -> 98141

Sheet APU 1.2.1
B2: APU - ANÁLISIS DE PRECIOS UNITARIOS
C4: MUNICIPIO DE LA APARTADA CÓRDOBA SECRETARÍA DE PLANEACION OBRAS PUBLICAS Y MEDIO AMBIENTE
B7: OBJETO DEL PROYECTO: | C7: =PRESUPUESTO!B2 -> LIMPIEZA Y MATENIMIENTO DE BOX CULVERTS CON TAPAS, PARA EL MANEJO Y DRENAJE DE AGUAS PLUVIABLES, EN LA ZONA URBANA DEL MUNICIPIO DE LA APARTADA, CÓRDOBA.
B13: ITEM | C13: DESCRIPCIÓN | G13: UND
B14: =+PRESUPUESTO!B11 -> 1.2.1 | C14: =+PRESUPUESTO!C11 -> Acarreo manual de material contaminado en carreta de llantas desde el sitio de acopio en superficie hasta superficie de cargue (incluye paleado del material). | G14: M3
B17: I. EQUIPOS
B18: Descripcion | C18: Cant | D18: Unidad | E18: Tarifa | F18: Rendimiento | G18: Valor Unitario
B19: Herramientas Menores | C19: 10%MO | D19: % | E19: =+G38 -> 30589 | F19: 0.1 | G19: =E19*F19 -> 3058.9
B20: Carretilla Buggy | C20: 1 | D20: Jornal | E20: 35000 | F20: 8 | G20: =+E20/F20 -> 4375
F21: SUBTOTAL | G21: =ROUND(SUM(G19:G20),0) -> 7434
B22: II. MATERIALES EN OBRA
B23: Descripción | D23: Unidad | E23: Valor Unitario | F23: Cantidad | G23: Valor unitario
F27: SUBTOTAL | G27: =ROUND(SUM(G24:G26),0) -> 0
B28: III.TRANSPORTE
B29: Descripcion | D29: Tipo | E29: Tarifa - km | F29: Rendimiento | G29: Valor unitario
G30: =+F30*E30 -> 0
F32: SUBTOTAL | G32: =ROUND(SUM(G30),0) -> 0
B33: IV. MANO DE OBRA
B34: Descripcion | C34: Cant | D34: Jornal | E34: Prestaciones - MO | F34: Rendimiento | G34: Valor unitario
E35: 1.8344
B36: AYUDANTE | C36: 3 | D36: =+'APU 1.1.2.'!D36 -> 58364 | E36: =D36*E35 -> 107062.92 | F36: =3.5*3 -> 10.5 | G36: =(C36*E36)/F36 -> 30589.406
F38: SUBTOTAL | G38: =ROUND(SUM(G36:G37),0) -> 30589
E40: TOTAL COSTOS DIRECTOS | G40: =ROUND(G21+G27+G32+G38,0) -> 38023
B54: APU - ANÁLISIS DE PRECIOS UNITARIOS
C56: MUNICIPIO DE LA APARTADA CÓRDOBA SECRETARÍA DE PLANEACION OBRAS PUBLICAS Y MEDIO AMBIENTE
B59: OBJETO DEL PROYECTO: | C59: =+C7 -> LIMPIEZA Y MATENIMIENTO DE BOX CULVERTS CON TAPAS, PARA EL MANEJO Y DRENAJE DE AGUAS PLUVIABLES, EN LA ZONA URBANA DEL MUNICIPIO DE LA APARTADA, CÓRDOBA.
B65: ITEM | C65: DESCRIPCIÓN | G65: UND
B66: =+PRESUPUESTO!B24 -> 2.2.1 | C66: =+C14 -> Acarreo manual de material contaminado en carreta de llantas desde el sitio de acopio en superficie hasta superficie de cargue (incluye paleado del material). | G66: M3
B69: I. EQUIPOS
B70: Descripcion | C70: Cant | D70: Unidad | E70: Tarifa | F70: Rendimiento | G70: Valor Unitario
B71: Herramientas Menores | C71: 10%MO | D71: % | E71: =+G90 -> 30589 | F71: 0.1 | G71: =E71*F71 -> 3058.9
B72: Carretilla Buggy | C72: 1 | D72: Jornal | E72: 35000 | F72: 8 | G72: =+E72/F72 -> 4375
F73: SUBTOTAL | G73: =ROUND(SUM(G71:G72),0) -> 7434
B74: II. MATERIALES EN OBRA
B75: Descripción | D75: Unidad | E75: Valor Unitario | F75: Cantidad | G75: Valor unitario
F79: SUBTOTAL | G79: =ROUND(SUM(G76:G78),0) -> 0
B80: III.TRANSPORTE
B81: Descripcion | D81: Tipo | E81: Tarifa - km | F81: Rendimiento | G81: Valor unitario
G82: =+F82*E82 -> 0
F84: SUBTOTAL | G84: =ROUND(SUM(G82),0) -> 0
B85: IV. MANO DE OBRA
B86: Descripcion | C86: Cant | D86: Jornal | E86: Prestaciones - MO | F86: Rendimiento | G86: Valor unitario
E87: 1.8344
B88: AYUDANTE | C88: 3 | D88: =+D36 -> 58364 | E88: =D88*E87 -> 107062.92 | F88: =3.5*3 -> 10.5 | G88: =(C88*E88)/F88 -> 30589.406
F90: SUBTOTAL | G90: =ROUND(SUM(G88:G89),0) -> 30589
E92: TOTAL COSTOS DIRECTOS | G92: =ROUND(G73+G79+G84+G90,0) -> 38023
B106: APU - ANÁLISIS DE PRECIOS UNITARIOS
C108: MUNICIPIO DE LA APARTADA CÓRDOBA SECRETARÍA DE PLANEACION OBRAS PUBLICAS Y MEDIO AMBIENTE
B111: OBJETO DEL PROYECTO: | C111: =+C59 -> LIMPIEZA Y MATENIMIENTO DE BOX CULVERTS CON TAPAS, PARA EL MANEJO Y DRENAJE DE AGUAS PLUVIABLES, EN LA ZONA URBANA DEL MUNICIPIO DE LA APARTADA, CÓRDOBA.
B117: ITEM | C117: DESCRIPCIÓN | G117: UND
B118: =+PRESUPUESTO!B37 -> 3.2.1 | C118: =+C66 -> Acarreo manual de material contaminado en carreta de llantas desde el sitio de acopio en superficie hasta superficie de cargue (incluye paleado del material). | G118: M3
B121: I. EQUIPOS
B122: Descripcion | C122: Cant | D122: Unidad | E122: Tarifa | F122: Rendimiento | G122: Valor Unitario
B123: Herramientas Menores | C123: 10%MO | D123: % | E123: =+G142 -> 30589 | F123: 0.1 | G123: =E123*F123 -> 3058.9
B124: Carretilla Buggy | C124: 1 | D124: Jornal | E124: 35000 | F124: 8 | G124: =+E124/F124 -> 4375
F125: SUBTOTAL | G125: =ROUND(SUM(G123:G124),0) -> 7434
B126: II. MATERIALES EN OBRA
B127: Descripción | D127: Unidad | E127: Valor Unitario | F127: Cantidad | G127: Valor unitario
F131: SUBTOTAL | G131: =ROUND(SUM(G128:G130),0) -> 0
B132: III.TRANSPORTE
B133: Descripcion | D133: Tipo | E133: Tarifa - km | F133: Rendimiento | G133: Valor unitario
G134: =+F134*E134 -> 0
F136: SUBTOTAL | G136: =ROUND(SUM(G134),0) -> 0
B137: IV. MANO DE OBRA
B138: Descripcion | C138: Cant | D138: Jornal | E138: Prestaciones - MO | F138: Rendimiento | G138: Valor unitario
E139: 1.8344
B140: AYUDANTE | C140: 3 | D140: =+'APU 1.1.2.'!D140 -> 58364 | E140: =D140*E139 -> 107062.92 | F140: =3.5*3 -> 10.5 | G140: =(C140*E140)/F140 -> 30589.406
F142: SUBTOTAL | G142: =ROUND(SUM(G140:G141),0) -> 30589
E144: TOTAL COSTOS DIRECTOS | G144: =ROUND(G125+G131+G136+G142,0) -> 38023
B157: APU - ANÁLISIS DE PRECIOS UNITARIOS
C159: MUNICIPIO DE LA APARTADA CÓRDOBA SECRETARÍA DE PLANEACION OBRAS PUBLICAS Y MEDIO AMBIENTE
B162: OBJETO DEL PROYECTO: | C162: =+C111 -> LIMPIEZA Y MATENIMIENTO DE BOX CULVERTS CON TAPAS, PARA EL MANEJO Y DRENAJE DE AGUAS PLUVIABLES, EN LA ZONA URBANA DEL MUNICIPIO DE LA APARTADA, CÓRDOBA.
B168: ITEM | C168: DESCRIPCIÓN | G168: UND
B169: =+PRESUPUESTO!B50 -> 4.2.1 | C169: =+C118 -> Acarreo manual de material contaminado en carreta de llantas desde el sitio de acopio en superficie hasta superficie de cargue (incluye paleado del material). | G169: M3
B172: I. EQUIPOS
B173: Descripcion | C173: Cant | D173: Unidad | E173: Tarifa | F173: Rendimiento | G173: Valor Unitario
B174: Herramientas Menores | C174: 10%MO | D174: % | E174: =+G193 -> 30589 | F174: 0.1 | G174: =E174*F174 -> 3058.9
B175: Carretilla Buggy | C175: 1 | D175: Jornal | E175: 35000 | F175: 8 | G175: =+E175/F175 -> 4375
F176: SUBTOTAL | G176: =ROUND(SUM(G174:G175),0) -> 7434
B177: II. MATERIALES EN OBRA
B178: Descripción | D178: Unidad | E178: Valor Unitario | F178: Cantidad | G178: Valor unitario
F182: SUBTOTAL | G182: =ROUND(SUM(G179:G181),0) -> 0
B183: III.TRANSPORTE
B184: Descripcion | D184: Tipo | E184: Tarifa - km | F184: Rendimiento | G184: Valor unitario
G185: =+F185*E185 -> 0
F187: SUBTOTAL | G187: =ROUND(SUM(G185),0) -> 0
B188: IV. MANO DE OBRA
B189: Descripcion | C189: Cant | D189: Jornal | E189: Prestaciones - MO | F189: Rendimiento | G189: Valor unitario
E190: 1.8344
B191: AYUDANTE | C191: 3 | D191: =+D140 -> 58364 | E191: =D191*E190 -> 107062.92 | F191: =3.5*3 -> 10.5 | G191: =(C191*E191)/F191 -> 30589.406
F193: SUBTOTAL | G193: =ROUND(SUM(G191:G192),0) -> 30589
E195: TOTAL COSTOS DIRECTOS | G195: =ROUND(G176+G182+G187+G193,0) -> 38023

Sheet APU 1.2.2
B2: APU - ANÁLISIS DE PRECIOS UNITARIOS
C4: MUNICIPIO DE LA APARTADA CÓRDOBA SECRETARÍA DE PLANEACION OBRAS PUBLICAS Y MEDIO AMBIENTE
B7: OBJETO DEL PROYECTO: | C7: =PRESUPUESTO!B2 -> LIMPIEZA Y MATENIMIENTO DE BOX CULVERTS CON TAPAS, PARA EL MANEJO Y DRENAJE DE AGUAS PLUVIABLES, EN LA ZONA URBANA DEL MUNICIPIO DE LA APARTADA, CÓRDOBA.
B13: ITEM | C13: DESCRIPCIÓN | G13: UND
B14: =+PRESUPUESTO!B12 -> 1.2.2 | C14: =+PRESUPUESTO!C12 -> Cargue de material contaminado con minicargador mecanico | G14: M3
B17: I. EQUIPOS
B18: Descripcion | C18: Cant | D18: Unidad | E18: Tarifa / hora | F18: Rendimiento | G18: Valor Unitario
B20: Mini Cargador | C20: 1 | D20: hora | E20: 140000 | F20: 12 | G20: =+E20/F20 -> 11666.667
F21: SUBTOTAL | G21: =ROUND(SUM(G19:G20),0) -> 11667
B22: II. MATERIALES EN OBRA
B23: Descripción | D23: Unidad | E23: Valor Unitario | F23: Cantidad | G23: Valor unitario
F27: SUBTOTAL | G27: =ROUND(SUM(G24:G26),0) -> 0
B28: III.TRANSPORTE
B29: Descripcion | D29: Tipo | E29: Tarifa - km | F29: Rendimiento | G29: Valor unitario
G30: =+F30*E30 -> 0
F32: SUBTOTAL | G32: =ROUND(SUM(G30),0) -> 0
B33: IV. MANO DE OBRA
B34: Descripcion | C34: Cant | D34: Jornal | E34: Prestaciones - MO | F34: Rendimiento | G34: Valor unitario
E35: 1.8344
B36: AYUDANTE | C36: 1 | D36: =+'APU 1.1.2.'!D36 -> 58364 | E36: =D36*E35 -> 107062.92 | F36: 86.5 | G36: =(C36*E36)/F36 -> 1237.7216
F38: SUBTOTAL | G38: =ROUND(SUM(G36:G37),0) -> 1238
E40: TOTAL COSTOS DIRECTOS | G40: =ROUND(G21+G27+G32+G38,0) -> 12905
B52: APU - ANÁLISIS DE PRECIOS UNITARIOS
C54: MUNICIPIO DE LA APARTADA CÓRDOBA SECRETARÍA DE PLANEACION OBRAS PUBLICAS Y MEDIO AMBIENTE
B57: OBJETO DEL PROYECTO: | C57: =+C7 -> LIMPIEZA Y MATENIMIENTO DE BOX CULVERTS CON TAPAS, PARA EL MANEJO Y DRENAJE DE AGUAS PLUVIABLES, EN LA ZONA URBANA DEL MUNICIPIO DE LA APARTADA, CÓRDOBA.
B63: ITEM | C63: DESCRIPCIÓN | G63: UND
B64: =+PRESUPUESTO!B25 -> 2.2.2 | C64: =+C14 -> Cargue de material contaminado con minicargador mecanico | G64: M3
B67: I. EQUIPOS
B68: Descripcion | C68: Cant | D68: Unidad | E68: Tarifa / hora | F68: Rendimiento | G68: Valor Unitario
B70: Mini Cargador | C70: 1 | D70: hora | E70: 140000 | F70: 12 | G70: =+E70/F70 -> 11666.667
F71: SUBTOTAL | G71: =ROUND(SUM(G69:G70),0) -> 11667
B72: II. MATERIALES EN OBRA
B73: Descripción | D73: Unidad | E73: Valor Unitario | F73: Cantidad | G73: Valor unitario
F77: SUBTOTAL | G77: =ROUND(SUM(G74:G76),0) -> 0
B78: III.TRANSPORTE
B79: Descripcion | D79: Tipo | E79: Tarifa - km | F79: Rendimiento | G79: Valor unitario
G80: =+F80*E80 -> 0
F82: SUBTOTAL | G82: =ROUND(SUM(G80),0) -> 0
B83: IV. MANO DE OBRA
B84: Descripcion | C84: Cant | D84: Jornal | E84: Prestaciones - MO | F84: Rendimiento | G84: Valor unitario
E85: 1.8344
B86: AYUDANTE | C86: 1 | D86: =+D36 -> 58364 | E86: =D86*E85 -> 107062.92 | F86: 86.5 | G86: =(C86*E86)/F86 -> 1237.7216
F88: SUBTOTAL | G88: =ROUND(SUM(G86:G87),0) -> 1238
E90: TOTAL COSTOS DIRECTOS | G90: =ROUND(G71+G77+G82+G88,0) -> 12905
B104: APU - ANÁLISIS DE PRECIOS UNITARIOS
C106: MUNICIPIO DE LA APARTADA CÓRDOBA SECRETARÍA DE PLANEACION OBRAS PUBLICAS Y MEDIO AMBIENTE
B109: OBJETO DEL PROYECTO: | C109: =+C57 -> LIMPIEZA Y MATENIMIENTO DE BOX CULVERTS CON TAPAS, PARA EL MANEJO Y DRENAJE DE AGUAS PLUVIABLES, EN LA ZONA URBANA DEL MUNICIPIO DE LA APARTADA, CÓRDOBA.
B115: ITEM | C115: DESCRIPCIÓN | G115: UND
B116: =+PRESUPUESTO!B38 -> 3.2.2 | C116: =+C64 -> Cargue de material contaminado con minicargador mecanico | G116: M3
B119: I. EQUIPOS
B120: Descripcion | C120: Cant | D120: Unidad | E120: Tarifa / hora | F120: Rendimiento | G120: Valor Unitario
B122: Mini Cargador | C122: 1 | D122: hora | E122: 140000 | F122: 12 | G122: =+E122/F122 -> 11666.667
F123: SUBTOTAL | G123: =ROUND(SUM(G121:G122),0) -> 11667
B124: II. MATERIALES EN OBRA
B125: Descripción | D125: Unidad | E125: Valor Unitario | F125: Cantidad | G125: Valor unitario
F129: SUBTOTAL | G129: =ROUND(SUM(G126:G128),0) -> 0
B130: III.TRANSPORTE
B131: Descripcion | D131: Tipo | E131: Tarifa - km | F131: Rendimiento | G131: Valor unitario
G132: =+F132*E132 -> 0
F134: SUBTOTAL | G134: =ROUND(SUM(G132),0) -> 0
B135: IV. MANO DE OBRA
B136: Descripcion | C136: Cant | D136: Jornal | E136: Prestaciones - MO | F136: Rendimiento | G136: Valor unitario
E137: 1.8344
B138: AYUDANTE | C138: 1 | D138: =+D86 -> 58364 | E138: =D138*E137 -> 107062.92 | F138: 86.5 | G138: =(C138*E138)/F138 -> 1237.7216
F140: SUBTOTAL | G140: =ROUND(SUM(G138:G139),0) -> 1238
E142: TOTAL COSTOS DIRECTOS | G142: =ROUND(G123+G129+G134+G140,0) -> 12905
B156: APU - ANÁLISIS DE PRECIOS UNITARIOS
C158: MUNICIPIO DE LA APARTADA CÓRDOBA SECRETARÍA DE PLANEACION OBRAS PUBLICAS Y MEDIO AMBIENTE
B161: OBJETO DEL PROYECTO: | C161: =+C109 -> LIMPIEZA Y MATENIMIENTO DE BOX CULVERTS CON TAPAS, PARA EL MANEJO Y DRENAJE DE AGUAS PLUVIABLES, EN LA ZONA URBANA DEL MUNICIPIO DE LA APARTADA, CÓRDOBA.
B167: ITEM | C167: DESCRIPCIÓN | G167: UND
B168: =+PRESUPUESTO!B51 -> 4.2.2 | C168: =+C116 -> Cargue de material contaminado con minicargador mecanico | G168: M3
B171: I. EQUIPOS
B172: Descripcion | C172: Cant | D172: Unidad | E172: Tarifa / hora | F172: Rendimiento | G172: Valor Unitario
B174: Mini Cargador | C174: 1 | D174: hora | E174: 140000 | F174: 12 | G174: =+E174/F174 -> 11666.667
F175: SUBTOTAL | G175: =ROUND(SUM(G173:G174),0) -> 11667
B176: II. MATERIALES EN OBRA
B177: Descripción | D177: Unidad | E177: Valor Unitario | F177: Cantidad | G177: Valor unitario
F181: SUBTOTAL | G181: =ROUND(SUM(G178:G180),0) -> 0
B182: III.TRANSPORTE
B183: Descripcion | D183: Tipo | E183: Tarifa - km | F183: Rendimiento | G183: Valor unitario
G184: =+F184*E184 -> 0
F186: SUBTOTAL | G186: =ROUND(SUM(G184),0) -> 0
B187: IV. MANO DE OBRA
B188: Descripcion | C188: Cant | D188: Jornal | E188: Prestaciones - MO | F188: Rendimiento | G188: Valor unitario
E189: 1.8344
B190: AYUDANTE | C190: 1 | D190: =+D138 -> 58364 | E190: =D190*E189 -> 107062.92 | F190: 86.5 | G190: =(C190*E190)/F190 -> 1237.7216
F192: SUBTOTAL | G192: =ROUND(SUM(G190:G191),0) -> 1238
E194: TOTAL COSTOS DIRECTOS | G194: =ROUND(G175+G181+G186+G192,0) -> 12905

Sheet APU 1.2.3
B2: APU - ANÁLISIS DE PRECIOS UNITARIOS
C4: MUNICIPIO DE LA APARTADA CÓRDOBA SECRETARÍA DE PLANEACION OBRAS PUBLICAS Y MEDIO AMBIENTE
B7: OBJETO DEL PROYECTO: | C7: =PRESUPUESTO!B2 -> LIMPIEZA Y MATENIMIENTO DE BOX CULVERTS CON TAPAS, PARA EL MANEJO Y DRENAJE DE AGUAS PLUVIABLES, EN LA ZONA URBANA DEL MUNICIPIO DE LA APARTADA, CÓRDOBA.
B13: ITEM | C13: DESCRIPCIÓN | G13: UND
B14: =+PRESUPUESTO!B13 -> 1.2.3 | C14: =+PRESUPUESTO!C13 -> Transporte Material Contaminado en Volqueta senciila de 6 m3 a distancia de 2 Km fuera del perímetro urbano. | G14: M3
B17: I. EQUIPOS
B18: Descripcion | C18: Cant | D18: Unidad | E18: Tarifa / hora | F18: Rendimiento | G18: Valor Unitario
F21: SUBTOTAL | G21: =ROUND(SUM(G19:G20),0) -> 0
B22: II. MATERIALES EN OBRA
B23: Descripción | D23: Unidad | E23: Valor Unitario | F23: Cantidad | G23: Valor unitario
F27: SUBTOTAL | G27: =ROUND(SUM(G24:G26),0) -> 0
B28: III.TRANSPORTE
B29: Descripcion | D29: km | E29: Tarifa m3- km | F29: m3 | G29: Valor Total
B30: Volqueta Sencilla de 6 m3 | D30: 2 | E30: 4892.05 | F30: =1 -> 1 | G30: =+F30*E30*D30 -> 9784.1
F32: SUBTOTAL | G32: =ROUND(SUM(G30),0) -> 9784
B33: IV. MANO DE OBRA
B34: Descripcion | C34: Cant | D34: Jornal | E34: Prestaciones - MO | F34: Rendimiento | G34: Valor unitario
E35: 1.8344
F38: SUBTOTAL | G38: =ROUND(SUM(G36:G37),0) -> 0
E40: TOTAL COSTOS DIRECTOS | G40: =ROUND(G21+G27+G32+G38,0) -> 9784
B54: APU - ANÁLISIS DE PRECIOS UNITARIOS
C56: MUNICIPIO DE LA APARTADA CÓRDOBA SECRETARÍA DE PLANEACION OBRAS PUBLICAS Y MEDIO AMBIENTE
B59: OBJETO DEL PROYECTO: | C59: =+C7 -> LIMPIEZA Y MATENIMIENTO DE BOX CULVERTS CON TAPAS, PARA EL MANEJO Y DRENAJE DE AGUAS PLUVIABLES, EN LA ZONA URBANA DEL MUNICIPIO DE LA APARTADA, CÓRDOBA.
B65: ITEM | C65: DESCRIPCIÓN | G65: UND
B66: =+PRESUPUESTO!B26 -> 2.2.3 | C66: =+C14 -> Transporte Material Contaminado en Volqueta senciila de 6 m3 a distancia de 2 Km fuera del perímetro urbano. | G66: M3
B69: I. EQUIPOS
B70: Descripcion | C70: Cant | D70: Unidad | E70: Tarifa / hora | F70: Rendimiento | G70: Valor Unitario
F73: SUBTOTAL | G73: =ROUND(SUM(G71:G72),0) -> 0
B74: II. MATERIALES EN OBRA
B75: Descripción | D75: Unidad | E75: Valor Unitario | F75: Cantidad | G75: Valor unitario
F79: SUBTOTAL | G79: =ROUND(SUM(G76:G78),0) -> 0
B80: III.TRANSPORTE
B81: Descripcion | D81: km | E81: Tarifa m3- km | F81: m3 | G81: Valor Total
B82: Volqueta Sencilla de 6 m3 | D82: 2 | E82: 4892.05 | F82: =1 -> 1 | G82: =+F82*E82*D82 -> 9784.1
F84: SUBTOTAL | G84: =ROUND(SUM(G82),0) -> 9784
B85: IV. MANO DE OBRA
B86: Descripcion | C86: Cant | D86: Jornal | E86: Prestaciones - MO | F86: Rendimiento | G86: Valor unitario
E87: 1.8344
F90: SUBTOTAL | G90: =ROUND(SUM(G88:G89),0) -> 0
E92: TOTAL COSTOS DIRECTOS | G92: =ROUND(G73+G79+G84+G90,0) -> 9784
B105: APU - ANÁLISIS DE PRECIOS UNITARIOS
C107: MUNICIPIO DE LA APARTADA CÓRDOBA SECRETARÍA DE PLANEACION OBRAS PUBLICAS Y MEDIO AMBIENTE
B110: OBJETO DEL PROYECTO: | C110: =+C59 -> LIMPIEZA Y MATENIMIENTO DE BOX CULVERTS CON TAPAS, PARA EL MANEJO Y DRENAJE DE AGUAS PLUVIABLES, EN LA ZONA URBANA DEL MUNICIPIO DE LA APARTADA, CÓRDOBA.
B116: ITEM | C116: DESCRIPCIÓN | G116: UND
B117: =+PRESUPUESTO!B39 -> 3.2.3 | C117: =+C66 -> Transporte Material Contaminado en Volqueta senciila de 6 m3 a distancia de 2 Km fuera del perímetro urbano. | G117: M3
B120: I. EQUIPOS
B121: Descripcion | C121: Cant | D121: Unidad | E121: Tarifa / hora | F121: Rendimiento | G121: Valor Unitario
F124: SUBTOTAL | G124: =ROUND(SUM(G122:G123),0) -> 0
B125: II. MATERIALES EN OBRA
B126: Descripción | D126: Unidad | E126: Valor Unitario | F126: Cantidad | G126: Valor unitario
F130: SUBTOTAL | G130: =ROUND(SUM(G127:G129),0) -> 0
B131: III.TRANSPORTE
B132: Descripcion | D132: km | E132: Tarifa m3- km | F132: m3 | G132: Valor Total
B133: Volqueta Sencilla de 6 m3 | D133: 2 | E133: 4892.05 | F133: =1 -> 1 | G133: =+F133*E133*D133 -> 9784.1
F135: SUBTOTAL | G135: =ROUND(SUM(G133),0) -> 9784
B136: IV. MANO DE OBRA
B137: Descripcion | C137: Cant | D137: Jornal | E137: Prestaciones - MO | F137: Rendimiento | G137: Valor unitario
E138: 1.8344
F141: SUBTOTAL | G141: =ROUND(SUM(G139:G140),0) -> 0
E143: TOTAL COSTOS DIRECTOS | G143: =ROUND(G124+G130+G135+G141,0) -> 9784
B155: APU - ANÁLISIS DE PRECIOS UNITARIOS
C157: MUNICIPIO DE LA APARTADA CÓRDOBA SECRETARÍA DE PLANEACION OBRAS PUBLICAS Y MEDIO AMBIENTE
B160: OBJETO DEL PROYECTO: | C160: =+C110 -> LIMPIEZA Y MATENIMIENTO DE BOX CULVERTS CON TAPAS, PARA EL MANEJO Y DRENAJE DE AGUAS PLUVIABLES, EN LA ZONA URBANA DEL MUNICIPIO DE LA APARTADA, CÓRDOBA.
B166: ITEM | C166: DESCRIPCIÓN | G166: UND
B167: =+PRESUPUESTO!B52 -> 4.2.3 | C167: =+C117 -> Transporte Material Contaminado en Volqueta senciila de 6 m3 a distancia de 2 Km fuera del perímetro urbano. | G167: M3
B170: I. EQUIPOS
B171: Descripcion | C171: Cant | D171: Unidad | E171: Tarifa / hora | F171: Rendimiento | G171: Valor Unitario
F174: SUBTOTAL | G174: =ROUND(SUM(G172:G173),0) -> 0
B175: II. MATERIALES EN OBRA
B176: Descripción | D176: Unidad | E176: Valor Unitario | F176: Cantidad | G176: Valor unitario
F180: SUBTOTAL | G180: =ROUND(SUM(G177:G179),0) -> 0
B181: III.TRANSPORTE
B182: Descripcion | D182: km | E182: Tarifa m3- km | F182: m3 | G182: Valor Total
B183: Volqueta Sencilla de 6 m3 | D183: 2 | E183: 4892.05 | F183: =1 -> 1 | G183: =+F183*E183*D183 -> 9784.1
F185: SUBTOTAL | G185: =ROUND(SUM(G183),0) -> 9784
B186: IV. MANO DE OBRA
B187: Descripcion | C187: Cant | D187: Jornal | E187: Prestaciones - MO | F187: Rendimiento | G187: Valor unitario
E188: 1.8344
F191: SUBTOTAL | G191: =ROUND(SUM(G189:G190),0) -> 0
E193: TOTAL COSTOS DIRECTOS | G193: =ROUND(G174+G180+G185+G191,0) -> 9784

Sheet APU 1.2.4
B2: APU - ANÁLISIS DE PRECIOS UNITARIOS
C4: MUNICIPIO DE LA APARTADA CÓRDOBA SECRETARÍA DE PLANEACION OBRAS PUBLICAS Y MEDIO AMBIENTE
B7: OBJETO DEL PROYECTO: | C7: =PRESUPUESTO!B2 -> LIMPIEZA Y MATENIMIENTO DE BOX CULVERTS CON TAPAS, PARA EL MANEJO Y DRENAJE DE AGUAS PLUVIABLES, EN LA ZONA URBANA DEL MUNICIPIO DE LA APARTADA, CÓRDOBA.
B13: ITEM | C13: DESCRIPCIÓN | G13: UND
B14: =+PRESUPUESTO!B14 -> 1.2.4 | C14: =+PRESUPUESTO!C14 -> Reinstalación de tapas en concreto reforzado | G14: UND
B17: I. EQUIPOS
B18: Descripcion | C18: Cant | D18: Unidad | E18: Tarifa / hora | F18: Rendimiento | G18: Valor Unitario
F21: SUBTOTAL | G21: =ROUND(SUM(G19:G20),0) -> 0
B22: II. MATERIALES EN OBRA
B23: Descripción | D23: Unidad | E23: Valor Unitario | F23: Cantidad | G23: Valor unitario
F27: SUBTOTAL | G27: =ROUND(SUM(G24:G26),0) -> 0
B28: III.TRANSPORTE
B29: Descripcion | D29: km | E29: Tarifa - km | F29: m3 | G29: Valor unitario
G30: =+F30*E30 -> 0
F32: SUBTOTAL | G32: =ROUND(SUM(G30),0) -> 0
B33: IV. MANO DE OBRA
B34: Descripcion | C34: Cant | D34: Jornal | E34: Prestaciones - MO | F34: Rendimiento | G34: Valor unitario
E35: 1.8344
B36: AYUDANTE | C36: 2 | D36: =+'APU 1.2.2'!D36 -> 58364 | E36: =+D36*E35 -> 107062.92 | F36: 25 | G36: =(C36*E36)/F36 -> 8565.0337
F38: SUBTOTAL | G38: =ROUND(SUM(G36:G37),0) -> 8565
E40: TOTAL COSTOS DIRECTOS | G40: =ROUND(G21+G27+G32+G38,0) -> 8565
B54: APU - ANÁLISIS DE PRECIOS UNITARIOS
C56: MUNICIPIO DE LA APARTADA CÓRDOBA SECRETARÍA DE PLANEACION OBRAS PUBLICAS Y MEDIO AMBIENTE
B59: OBJETO DEL PROYECTO: | C59: =+C7 -> LIMPIEZA Y MATENIMIENTO DE BOX CULVERTS CON TAPAS, PARA EL MANEJO Y DRENAJE DE AGUAS PLUVIABLES, EN LA ZONA URBANA DEL MUNICIPIO DE LA APARTADA, CÓRDOBA.
B65: ITEM | C65: DESCRIPCIÓN | G65: UND
B66: =+PRESUPUESTO!B27 -> 2.2.4 | C66: =+C14 -> Reinstalación de tapas en concreto reforzado | G66: UND
B69: I. EQUIPOS
B70: Descripcion | C70: Cant | D70: Unidad | E70: Tarifa / hora | F70: Rendimiento | G70: Valor Unitario
F73: SUBTOTAL | G73: =ROUND(SUM(G71:G72),0) -> 0
B74: II. MATERIALES EN OBRA
B75: Descripción | D75: Unidad | E75: Valor Unitario | F75: Cantidad | G75: Valor unitario
F79: SUBTOTAL | G79: =ROUND(SUM(G76:G78),0) -> 0
B80: III.TRANSPORTE
B81: Descripcion | D81: km | E81: Tarifa - km | F81: m3 | G81: Valor unitario
G82: =+F82*E82 -> 0
F84: SUBTOTAL | G84: =ROUND(SUM(G82),0) -> 0
B85: IV. MANO DE OBRA
B86: Descripcion | C86: Cant | D86: Jornal | E86: Prestaciones - MO | F86: Rendimiento | G86: Valor unitario
E87: 1.8344
B88: AYUDANTE | C88: 2 | D88: =+D36 -> 58364 | E88: =+D88*E87 -> 107062.92 | F88: 25 | G88: =(C88*E88)/F88 -> 8565.0337
F90: SUBTOTAL | G90: =ROUND(SUM(G88:G89),0) -> 8565
E92: TOTAL COSTOS DIRECTOS | G92: =ROUND(G73+G79+G84+G90,0) -> 8565
B106: APU - ANÁLISIS DE PRECIOS UNITARIOS
C108: MUNICIPIO DE LA APARTADA CÓRDOBA SECRETARÍA DE PLANEACION OBRAS PUBLICAS Y MEDIO AMBIENTE
B111: OBJETO DEL PROYECTO: | C111: =+C59 -> LIMPIEZA Y MATENIMIENTO DE BOX CULVERTS CON TAPAS, PARA EL MANEJO Y DRENAJE DE AGUAS PLUVIABLES, EN LA ZONA URBANA DEL MUNICIPIO DE LA APARTADA, CÓRDOBA.
B117: ITEM | C117: DESCRIPCIÓN | G117: UND
B118: =+PRESUPUESTO!B40 -> 3.2.4 | C118: =+C66 -> Reinstalación de tapas en concreto reforzado | G118: UND
B121: I. EQUIPOS
B122: Descripcion | C122: Cant | D122: Unidad | E122: Tarifa / hora | F122: Rendimiento | G122: Valor Unitario
F125: SUBTOTAL | G125: =ROUND(SUM(G123:G124),0) -> 0
B126: II. MATERIALES EN OBRA
B127: Descripción | D127: Unidad | E127: Valor Unitario | F127: Cantidad | G127: Valor unitario
F131: SUBTOTAL | G131: =ROUND(SUM(G128:G130),0) -> 0
B132: III.TRANSPORTE
B133: Descripcion | D133: km | E133: Tarifa - km | F133: m3 | G133: Valor unitario
G134: =+F134*E134 -> 0
F136: SUBTOTAL | G136: =ROUND(SUM(G134),0) -> 0
B137: IV. MANO DE OBRA
B138: Descripcion | C138: Cant | D138: Jornal | E138: Prestaciones - MO | F138: Rendimiento | G138: Valor unitario
E139: 1.8344
B140: AYUDANTE | C140: 2 | D140: =+D88 -> 58364 | E140: =+D140*E139 -> 107062.92 | F140: 25 | G140: =(C140*E140)/F140 -> 8565.0337
F142: SUBTOTAL | G142: =ROUND(SUM(G140:G141),0) -> 8565
E144: TOTAL COSTOS DIRECTOS | G144: =ROUND(G125+G131+G136+G142,0) -> 8565
B157: APU - ANÁLISIS DE PRECIOS UNITARIOS
C159: MUNICIPIO DE LA APARTADA CÓRDOBA SECRETARÍA DE PLANEACION OBRAS PUBLICAS Y MEDIO AMBIENTE
B162: OBJETO DEL PROYECTO: | C162: =+C111 -> LIMPIEZA Y MATENIMIENTO DE BOX CULVERTS CON TAPAS, PARA EL MANEJO Y DRENAJE DE AGUAS PLUVIABLES, EN LA ZONA URBANA DEL MUNICIPIO DE LA APARTADA, CÓRDOBA.
B168: ITEM | C168: DESCRIPCIÓN | G168: UND
B169: =+PRESUPUESTO!B53 -> 4.2.4 | C169: =+C118 -> Reinstalación de tapas en concreto reforzado | G169: UND
B172: I. EQUIPOS
B173: Descripcion | C173: Cant | D173: Unidad | E173: Tarifa / hora | F173: Rendimiento | G173: Valor Unitario
F176: SUBTOTAL | G176: =ROUND(SUM(G174:G175),0) -> 0
B177: II. MATERIALES EN OBRA
B178: Descripción | D178: Unidad | E178: Valor Unitario | F178: Cantidad | G178: Valor unitario
F182: SUBTOTAL | G182: =ROUND(SUM(G179:G181),0) -> 0
B183: III.TRANSPORTE
B184: Descripcion | D184: km | E184: Tarifa - km | F184: m3 | G184: Valor unitario
G185: =+F185*E185 -> 0
F187: SUBTOTAL | G187: =ROUND(SUM(G185),0) -> 0
B188: IV. MANO DE OBRA
B189: Descripcion | C189: Cant | D189: Jornal | E189: Prestaciones - MO | F189: Rendimiento | G189: Valor unitario
E190: 1.8344
B191: AYUDANTE | C191: 2 | D191: =+D140 -> 58364 | E191: =+D191*E190 -> 107062.92 | F191: 25 | G191: =(C191*E191)/F191 -> 8565.0337
F193: SUBTOTAL | G193: =ROUND(SUM(G191:G192),0) -> 8565
E195: TOTAL COSTOS DIRECTOS | G195: =ROUND(G176+G182+G187+G193,0) -> 8565

Sheet APU 1.3.1
B2: APU - ANÁLISIS DE PRECIOS UNITARIOS
C4: MUNICIPIO DE LA APARTADA CÓRDOBA SECRETARÍA DE PLANEACION OBRAS PUBLICAS Y MEDIO AMBIENTE
B7: OBJETO DEL PROYECTO: | C7: =PRESUPUESTO!B2 -> LIMPIEZA Y MATENIMIENTO DE BOX CULVERTS CON TAPAS, PARA EL MANEJO Y DRENAJE DE AGUAS PLUVIABLES, EN LA ZONA URBANA DEL MUNICIPIO DE LA APARTADA, CÓRDOBA.
B13: ITEM | C13: DESCRIPCIÓN | G13: UND
B14: =+PRESUPUESTO!B16 -> 1.3.1 | C14: =+PRESUPUESTO!C16 -> Contrucción de tapas en concreto reforzado de 3000 psi de 0.50 mts x 1.40 mts x 0.07 mts, incluye acero de refuero #3@0.15 m. | G14: UND
B17: I. EQUIPOS
B18: Descripcion | C18: Cant | D18: Unidad | E18: Tarifa / hora | F18: Rendimiento | G18: Valor Unitario
B19: Herramientas Menores | C19: 10%MO | D19: % | E19: =+G44 -> 32119 | F19: 0.1 | G19: =+E19*F19 -> 3211.9
F21: SUBTOTAL | G21: =ROUND(SUM(G19:G20),0) -> 3212
B22: II. MATERIALES EN OBRA
B23: Descripción | D23: Unidad | E23: Valor Unitario | F23: Cantidad | G23: Valor unitario
B24: Acero de refuerzo 3/8" | D24: kg | E24: =14400/3.36 -> 4285.7143 | F24: =J30*0.56 -> 5.292 | G24: =+E24*F24 -> 22680
B25: china | D25: m3 | E25: 90000 | F25: =+J27*0.9 -> 0.0441 | G25: =+E25*F25 -> 3969
B26: arena | D26: m3 | E26: 55000 | F26: =+J27*0.52 -> 0.02548 | G26: =+E26*F26 -> 1401.4 | J26: Vol de tapa
B27: cemento | D27: und | E27: 32000 | F27: =+(J27*320)/50 -> 0.3136 | G27: =+E27*F27 -> 10035.2 | J27: =1.4*0.5*0.07 -> 0.049 | K27: m3
B28: agua | D28: lts | E28: 150 | F28: =+J27*170 -> 8.33 | G28: =+E28*F28 -> 1249.5
B29: Alambre negro | D29: kg | E29: 9500 | F29: 0.2 | G29: =+E29*F29 -> 1900 | J29: long barras #3
B30: Tabla de 3m x 0.30 m para formaleta | D30: und | E30: 36000 | F30: 0.4 | G30: =+E30*F30 -> 14400 | J30: =+(4*1.35)+(9*0.45) -> 9.45 | K30: ml
B31: Desperdicio | D31: % | E31: =+SUM(G24:G30) -> 55635.1 | F31: 0.05 | G31: =E31*F31 -> 2781.755
F32: SUBTOTAL | G32: =(SUM(G24:G31)) -> 58416.855
B33: III.TRANSPORTE
B34: Descripcion | D34: km | E34: Tarifa - km | F34: m3 | G34: Valor unitario
G35: =+F35*E35 -> 0
F37: SUBTOTAL | G37: =ROUND(SUM(G35),0) -> 0
B38: IV. MANO DE OBRA
B39: Descripcion | C39: Cant | D39: Jornal | E39: Prestaciones - MO | F39: Rendimiento | G39: Valor unitario
E40: 1.8344
B41: OFICIAL | C41: 1 | D41: =+'[8]APU EXTERNADO'!$D$298 -> 93381.6 | E41: =+D41*E40 -> 171299.21 | F41: 10 | G41: =+(C41*E41)/F41 -> 17129.921
B42: AYUDANTE | C42: 3 | D42: =+'APU 1.2.2'!D36 -> 58364 | E42: =+D42*E40 -> 107062.92 | F42: 10 | G42: =(C42*E42)/F42 -> 32118.876
F44: SUBTOTAL | G44: =ROUND(SUM(G42:G43),0) -> 32119
E46: TOTAL COSTOS DIRECTOS | G46: =ROUND(G21+G32+G37+G44,0) -> 93748
B59: APU - ANÁLISIS DE PRECIOS UNITARIOS
C61: MUNICIPIO DE LA APARTADA CÓRDOBA SECRETARÍA DE PLANEACION OBRAS PUBLICAS Y MEDIO AMBIENTE
B64: OBJETO DEL PROYECTO: | C64: =+C7 -> LIMPIEZA Y MATENIMIENTO DE BOX CULVERTS CON TAPAS, PARA EL MANEJO Y DRENAJE DE AGUAS PLUVIABLES, EN LA ZONA URBANA DEL MUNICIPIO DE LA APARTADA, CÓRDOBA.
B70: ITEM | C70: DESCRIPCIÓN | G70: UND
B71: =+PRESUPUESTO!B29 -> 2.3.1 | C71: =+C14 -> Contrucción de tapas en concreto reforzado de 3000 psi de 0.50 mts x 1.40 mts x 0.07 mts, incluye acero de refuero #3@0.15 m. | G71: UND
B74: I. EQUIPOS
B75: Descripcion | C75: Cant | D75: Unidad | E75: Tarifa / hora | F75: Rendimiento | G75: Valor Unitario
B76: Herramientas Menores | C76: 10%MO | D76: % | E76: =+G101 -> 32119 | F76: 0.1 | G76: =+E76*F76 -> 3211.9
F78: SUBTOTAL | G78: =ROUND(SUM(G76:G77),0) -> 3212
B79: II. MATERIALES EN OBRA
B80: Descripción | D80: Unidad | E80: Valor Unitario | F80: Cantidad | G80: Valor unitario
B81: Acero de refuerzo 3/8" | D81: kg | E81: =14400/3.36 -> 4285.7143 | F81: =J30*0.56 -> 5.292 | G81: =+E81*F81 -> 22680
B82: china | D82: m3 | E82: 90000 | F82: =+J84*0.9 -> 0.0441 | G82: =+E82*F82 -> 3969
B83: arena | D83: m3 | E83: 55000 | F83: =+J84*0.52 -> 0.02548 | G83: =+E83*F83 -> 1401.4
B84: cemento | D84: und | E84: 32000 | F84: =+(J84*320)/50 -> 0.3136 | G84: =+E84*F84 -> 10035.2 | J84: =+J27 -> 0.049
B85: agua | D85: lts | E85: 150 | F85: =+J84*170 -> 8.33 | G85: =+E85*F85 -> 1249.5
B86: Alambre negro | D86: kg | E86: 9500 | F86: 0.2 | G86: =+E86*F86 -> 1900
B87: Tabla de 3m x 0.30 m para formaleta | D87: und | E87: 36000 | F87: 0.4 | G87: =+E87*F87 -> 14400
B88: Desperdicio | D88: % | E88: =+SUM(G81:G87) -> 55635.1 | F88: 0.05 | G88: =E88*F88 -> 2781.755
F89: SUBTOTAL | G89: =(SUM(G81:G88)) -> 58416.855
B90: III.TRANSPORTE
B91: Descripcion | D91: km | E91: Tarifa - km | F91: m3 | G91: Valor unitario
G92: =+F92*E92 -> 0
F94: SUBTOTAL | G94: =ROUND(SUM(G92),0) -> 0
B95: IV. MANO DE OBRA
B96: Descripcion | C96: Cant | D96: Jornal | E96: Prestaciones - MO | F96: Rendimiento | G96: Valor unitario
E97: 1.8344
B98: OFICIAL | C98: 1 | D98: =+'[8]APU EXTERNADO'!$D$298 -> 93381.6 | E98: =+D98*E97 -> 171299.21 | F98: 10 | G98: =+(C98*E98)/F98 -> 17129.921
B99: AYUDANTE | C99: 3 | D99: =++D42 -> 58364 | E99: =+D99*E97 -> 107062.92 | F99: 10 | G99: =(C99*E99)/F99 -> 32118.876
F101: SUBTOTAL | G101: =ROUND(SUM(G99:G100),0) -> 32119
E103: TOTAL COSTOS DIRECTOS | G103: =ROUND(G78+G89+G94+G101,0) -> 93748
B118: APU - ANÁLISIS DE PRECIOS UNITARIOS
C120: MUNICIPIO DE LA APARTADA CÓRDOBA SECRETARÍA DE PLANEACION OBRAS PUBLICAS Y MEDIO AMBIENTE
B123: OBJETO DEL PROYECTO: | C123: =+C64 -> LIMPIEZA Y MATENIMIENTO DE BOX CULVERTS CON TAPAS, PARA EL MANEJO Y DRENAJE DE AGUAS PLUVIABLES, EN LA ZONA URBANA DEL MUNICIPIO DE LA APARTADA, CÓRDOBA.
B129: ITEM | C129: DESCRIPCIÓN | G129: UND
B130: =+PRESUPUESTO!B42 -> 3.3.1 | C130: =+C71 -> Contrucción de tapas en concreto reforzado de 3000 psi de 0.50 mts x 1.40 mts x 0.07 mts, incluye acero de refuero #3@0.15 m. | G130: UND
B133: I. EQUIPOS
B134: Descripcion | C134: Cant | D134: Unidad | E134: Tarifa / hora | F134: Rendimiento | G134: Valor Unitario
B135: Herramientas Menores | C135: 10%MO | D135: % | E135: =+G160 -> 32119 | F135: 0.1 | G135: =+E135*F135 -> 3211.9
F137: SUBTOTAL | G137: =ROUND(SUM(G135:G136),0) -> 3212
B138: II. MATERIALES EN OBRA
B139: Descripción | D139: Unidad | E139: Valor Unitario | F139: Cantidad | G139: Valor unitario
B140: Acero de refuerzo 3/8" | D140: kg | E140: =14400/3.36 -> 4285.7143 | F140: =J30*0.56 -> 5.292 | G140: =+E140*F140 -> 22680
B141: china | D141: m3 | E141: 90000 | F141: =+J143*0.9 -> 0.0441 | G141: =+E141*F141 -> 3969
B142: arena | D142: m3 | E142: 55000 | F142: =+J143*0.52 -> 0.02548 | G142: =+E142*F142 -> 1401.4
B143: cemento | D143: und | E143: 32000 | F143: =+(J143*320)/50 -> 0.3136 | G143: =+E143*F143 -> 10035.2 | J143: =+J84 -> 0.049
B144: agua | D144: lts | E144: 150 | F144: =+J143*170 -> 8.33 | G144: =+E144*F144 -> 1249.5
B145: Alambre negro | D145: kg | E145: 9500 | F145: 0.2 | G145: =+E145*F145 -> 1900
B146: Tabla de 3m x 0.30 m para formaleta | D146: und | E146: 36000 | F146: 0.4 | G146: =+E146*F146 -> 14400
B147: Desperdicio | D147: % | E147: =+SUM(G140:G146) -> 55635.1 | F147: 0.05 | G147: =E147*F147 -> 2781.755
F148: SUBTOTAL | G148: =(SUM(G140:G147)) -> 58416.855
B149: III.TRANSPORTE
B150: Descripcion | D150: km | E150: Tarifa - km | F150: m3 | G150: Valor unitario
G151: =+F151*E151 -> 0
F153: SUBTOTAL | G153: =ROUND(SUM(G151),0) -> 0
B154: IV. MANO DE OBRA
B155: Descripcion | C155: Cant | D155: Jornal | E155: Prestaciones - MO | F155: Rendimiento | G155: Valor unitario
E156: 1.8344
B157: OFICIAL | C157: 1 | D157: =+'[8]APU EXTERNADO'!$D$298 -> 93381.6 | E157: =+D157*E156 -> 171299.21 | F157: 10 | G157: =+(C157*E157)/F157 -> 17129.921
B158: AYUDANTE | C158: 3 | D158: =+D99 -> 58364 | E158: =+D158*E156 -> 107062.92 | F158: 10 | G158: =(C158*E158)/F158 -> 32118.876
F160: SUBTOTAL | G160: =ROUND(SUM(G158:G159),0) -> 32119
E162: TOTAL COSTOS DIRECTOS | G162: =ROUND(G137+G148+G153+G160,0) -> 93748
B175: APU - ANÁLISIS DE PRECIOS UNITARIOS
C177: MUNICIPIO DE LA APARTADA CÓRDOBA SECRETARÍA DE PLANEACION OBRAS PUBLICAS Y MEDIO AMBIENTE
B180: OBJETO DEL PROYECTO: | C180: =+C123 -> LIMPIEZA Y MATENIMIENTO DE BOX CULVERTS CON TAPAS, PARA EL MANEJO Y DRENAJE DE AGUAS PLUVIABLES, EN LA ZONA URBANA DEL MUNICIPIO DE LA APARTADA, CÓRDOBA.
B186: ITEM | C186: DESCRIPCIÓN | G186: UND
B187: =+PRESUPUESTO!B55 -> 4.3.1 | C187: =+C130 -> Contrucción de tapas en concreto reforzado de 3000 psi de 0.50 mts x 1.40 mts x 0.07 mts, incluye acero de refuero #3@0.15 m. | G187: UND
B190: I. EQUIPOS
B191: Descripcion | C191: Cant | D191: Unidad | E191: Tarifa / hora | F191: Rendimiento | G191: Valor Unitario
...

Sheet APU 1.3.2
B2: APU - ANÁLISIS DE PRECIOS UNITARIOS
C4: MUNICIPIO DE LA APARTADA CÓRDOBA SECRETARÍA DE PLANEACION OBRAS PUBLICAS Y MEDIO AMBIENTE
B7: OBJETO DEL PROYECTO: | C7: =PRESUPUESTO!B2 -> LIMPIEZA Y MATENIMIENTO DE BOX CULVERTS CON TAPAS, PARA EL MANEJO Y DRENAJE DE AGUAS PLUVIABLES, EN LA ZONA URBANA DEL MUNICIPIO DE LA APARTADA, CÓRDOBA.
B13: ITEM | C13: DESCRIPCIÓN | G13: UND
B14: =+PRESUPUESTO!B17 -> 1.3.2 | C14: =+PRESUPUESTO!C17 -> Señalización Vial - Control de Tráfico ( PALETERO ) | G14: Jornal
B17: I. EQUIPOS
B18: Descripcion | C18: Cant | D18: Unidad | E18: Tarifa / hora | F18: Rendimiento | G18: Valor Unitario
F21: SUBTOTAL | G21: =ROUND(SUM(G19:G20),0) -> 0
B22: II. MATERIALES EN OBRA
B23: Descripción | D23: Unidad | E23: Valor Unitario | F23: Cantidad | G23: Valor unitario
F27: SUBTOTAL | G27: =ROUND(SUM(G24:G26),0) -> 0
B28: III.TRANSPORTE
B29: Descripcion | D29: km | E29: Tarifa - km | F29: m3 | G29: Valor unitario
G30: =+F30*E30 -> 0
F32: SUBTOTAL | G32: =ROUND(SUM(G30),0) -> 0
B33: IV. MANO DE OBRA
B34: Descripcion | C34: Cant | D34: Jornal | E34: Prestaciones - MO | F34: Rendimiento | G34: Valor unitario
E35: 1.8344
B36: AYUDANTE | C36: 1 | D36: =+'APU 1.2.2'!D36 -> 58364 | E36: =+D36*E35 -> 107062.92 | F36: 1 | G36: =+E36 -> 107062.92
F38: SUBTOTAL | G38: =ROUND(SUM(G36:G37),0) -> 107063
E40: TOTAL COSTOS DIRECTOS | G40: =ROUND(G21+G27+G32+G38,0) -> 107063
B54: APU - ANÁLISIS DE PRECIOS UNITARIOS
C56: MUNICIPIO DE LA APARTADA CÓRDOBA SECRETARÍA DE PLANEACION OBRAS PUBLICAS Y MEDIO AMBIENTE
B59: OBJETO DEL PROYECTO: | C59: =+C7 -> LIMPIEZA Y MATENIMIENTO DE BOX CULVERTS CON TAPAS, PARA EL MANEJO Y DRENAJE DE AGUAS PLUVIABLES, EN LA ZONA URBANA DEL MUNICIPIO DE LA APARTADA, CÓRDOBA.
B65: ITEM | C65: DESCRIPCIÓN | G65: UND
B66: =+PRESUPUESTO!B30 -> 2.3.2 | C66: =+C14 -> Señalización Vial - Control de Tráfico ( PALETERO ) | G66: Jornal
B69: I. EQUIPOS
B70: Descripcion | C70: Cant | D70: Unidad | E70: Tarifa / hora | F70: Rendimiento | G70: Valor Unitario
F73: SUBTOTAL | G73: =ROUND(SUM(G71:G72),0) -> 0
B74: II. MATERIALES EN OBRA
B75: Descripción | D75: Unidad | E75: Valor Unitario | F75: Cantidad | G75: Valor unitario
F79: SUBTOTAL | G79: =ROUND(SUM(G76:G78),0) -> 0
B80: III.TRANSPORTE
B81: Descripcion | D81: km | E81: Tarifa - km | F81: m3 | G81: Valor unitario
G82: =+F82*E82 -> 0
F84: SUBTOTAL | G84: =ROUND(SUM(G82),0) -> 0
B85: IV. MANO DE OBRA
B86: Descripcion | C86: Cant | D86: Jornal | E86: Prestaciones - MO | F86: Rendimiento | G86: Valor unitario
E87: 1.8344
B88: AYUDANTE | C88: 1 | D88: =+D36 -> 58364 | E88: =+D88*E87 -> 107062.92 | F88: 1 | G88: =+E88 -> 107062.92
F90: SUBTOTAL | G90: =ROUND(SUM(G88:G89),0) -> 107063
E92: TOTAL COSTOS DIRECTOS | G92: =ROUND(G73+G79+G84+G90,0) -> 107063
B106: APU - ANÁLISIS DE PRECIOS UNITARIOS
C108: MUNICIPIO DE LA APARTADA CÓRDOBA SECRETARÍA DE PLANEACION OBRAS PUBLICAS Y MEDIO AMBIENTE
B111: OBJETO DEL PROYECTO: | C111: =+C59 -> LIMPIEZA Y MATENIMIENTO DE BOX CULVERTS CON TAPAS, PARA EL MANEJO Y DRENAJE DE AGUAS PLUVIABLES, EN LA ZONA URBANA DEL MUNICIPIO DE LA APARTADA, CÓRDOBA.
B117: ITEM | C117: DESCRIPCIÓN | G117: UND
B118: =+PRESUPUESTO!B43 -> 3.3.2 | C118: =+C66 -> Señalización Vial - Control de Tráfico ( PALETERO ) | G118: Jornal
B121: I. EQUIPOS
B122: Descripcion | C122: Cant | D122: Unidad | E122: Tarifa / hora | F122: Rendimiento | G122: Valor Unitario
F125: SUBTOTAL | G125: =ROUND(SUM(G123:G124),0) -> 0
B126: II. MATERIALES EN OBRA
B127: Descripción | D127: Unidad | E127: Valor Unitario | F127: Cantidad | G127: Valor unitario
F131: SUBTOTAL | G131: =ROUND(SUM(G128:G130),0) -> 0
B132: III.TRANSPORTE
B133: Descripcion | D133: km | E133: Tarifa - km | F133: m3 | G133: Valor unitario
G134: =+F134*E134 -> 0
F136: SUBTOTAL | G136: =ROUND(SUM(G134),0) -> 0
B137: IV. MANO DE OBRA
B138: Descripcion | C138: Cant | D138: Jornal | E138: Prestaciones - MO | F138: Rendimiento | G138: Valor unitario
E139: 1.8344
B140: AYUDANTE | C140: 1 | D140: =+ D88 -> 58364 | E140: =+D140*E139 -> 107062.92 | F140: 1 | G140: =+E140 -> 107062.92
F142: SUBTOTAL | G142: =ROUND(SUM(G140:G141),0) -> 107063
E144: TOTAL COSTOS DIRECTOS | G144: =ROUND(G125+G131+G136+G142,0) -> 107063
B157: APU - ANÁLISIS DE PRECIOS UNITARIOS
C159: MUNICIPIO DE LA APARTADA CÓRDOBA SECRETARÍA DE PLANEACION OBRAS PUBLICAS Y MEDIO AMBIENTE
B162: OBJETO DEL PROYECTO: | C162: =+C111 -> LIMPIEZA Y MATENIMIENTO DE BOX CULVERTS CON TAPAS, PARA EL MANEJO Y DRENAJE DE AGUAS PLUVIABLES, EN LA ZONA URBANA DEL MUNICIPIO DE LA APARTADA, CÓRDOBA.
B168: ITEM | C168: DESCRIPCIÓN | G168: UND
B169: =+PRESUPUESTO!B56 -> 4.3.2 | C169: =+C118 -> Señalización Vial - Control de Tráfico ( PALETERO ) | G169: Jornal
B172: I. EQUIPOS
B173: Descripcion | C173: Cant | D173: Unidad | E173: Tarifa / hora | F173: Rendimiento | G173: Valor Unitario
F176: SUBTOTAL | G176: =ROUND(SUM(G174:G175),0) -> 0
B177: II. MATERIALES EN OBRA
B178: Descripción | D178: Unidad | E178: Valor Unitario | F178: Cantidad | G178: Valor unitario
F182: SUBTOTAL | G182: =ROUND(SUM(G179:G181),0) -> 0
B183: III.TRANSPORTE
B184: Descripcion | D184: km | E184: Tarifa - km | F184: m3 | G184: Valor unitario
G185: =+F185*E185 -> 0
F187: SUBTOTAL | G187: =ROUND(SUM(G185),0) -> 0
B188: IV. MANO DE OBRA
B189: Descripcion | C189: Cant | D189: Jornal | E189: Prestaciones - MO | F189: Rendimiento | G189: Valor unitario
E190: 1.8344
B191: AYUDANTE | C191: 1 | D191: =+D140 -> 58364 | E191: =+D191*E190 -> 107062.92 | F191: 1 | G191: =+E191 -> 107062.92
F193: SUBTOTAL | G193: =ROUND(SUM(G191:G192),0) -> 107063
E195: TOTAL COSTOS DIRECTOS | G195: =ROUND(G176+G182+G187+G193,0) -> 107063
