Workbook
Name ___con3000: [1]APU!$F$36
Name Acero: [2]APU!$F$306
Name agua: [3]Materiales!$E$10
Name AIU: [4]AIU!$G$75
Name arena: [3]Materiales!$E$7
Name AYUDANTE: [2]Tablas!$C$21
Name CADENERO: '[3]Salarios M.L.V.D'!$C$17
Name CDIRECTO: [2]Presupuesto!$F$144
Name cemento: [3]Materiales!$E$6
Name Concmuros: [2]APU!$F$190
Name ConcrecolPPISO: [2]APU!$F$249
Name Concretom3: [2]APU!$F$215
Name Concretoplacas: [2]APU!$F$637
Name Concrevigasppiso: [2]APU!$F$281
Name Descapote: [2]APU!$F$21
Name EstucoPintura: [2]APU!$F$589
Name Excam3: [2]APU!$F$91
Name fp: [2]Tablas!$H$11
Name grava: [3]Materiales!$E$8
Name item1: #REF!
Name LORE: [5]Cuadrillas!$D$18
Name MAESTRO: [2]Tablas!$C$19
Name mangle: [5]Materiales!$E$21
Name moto: '[5]Herramientas y Equipos'!$D$9
Name Muros: [2]APU!$F$331
Name objeto: '[6]CANT LA'!$E$10
Name OBRERO: #REF!
Name oficial: #REF!
Name OPERADOR: [2]Tablas!$C$31
Name Pañete: [2]APU!$F$356
Name PisoASCH: [2]APU!$F$509
Name PisosBC: [2]APU!$F$534
Name Puerta100cm: [2]APU!$F$446
Name puerta80cm: [2]APU!$F$386
Name puerta90cm: [2]APU!$F$416
Name Relleno: [2]APU!$F$165
Name rmoto: '[5]Herramientas y Equipos'!$F$9
Name SMLVD: [2]Tablas!$A$34
Name sobrecimiento: [2]APU!$F$141
Name SOLADO: [2]APU!$F$116
Name tarhm: [5]PROPUESTA!$H$28
Name TCOSD1: [3]APU!$F$37
Name TCOSD2: [3]APU!$F$72
Name TCOSD3: [3]APU!$F$106
Name TCOSD4: [3]APU!$F$141
Name TCOSD5: [3]APU!$F$176
Name TOPOGRAFO: '[3]Salarios M.L.V.D'!$C$18
Name Trazado: [2]APU!$F$46
Name Tuberíahid: [2]APU!$F$612
Name Ventana: [2]APU!$F$483

Sheet PRESUPUESTO
B2: LIMPIEZA Y MATENIMIENTO DE BOX CULVERTS CON TAPAS, PARA EL MANEJO Y DRENAJE DE AGUAS PLUVIABLES, EN LA ZONA URBANA DEL MUNICIPIO DE LA APARTADA, CÓRDOBA.
B3: PRESUPUESTO OFICIAL
B4: ITEM | C4: DESCRIPCIÓN | D4: UNIDAD | E4: CANTIDAD | F4: VALOR UNITARIO | G4: VALOR SUB TOTAL
B6: 1 | C6: LIMPIEZA BOXCULVER CON TAPAS PARALELO A LA CARRERA 11, DESDE LA CALLE 36 DEL BARRIO TIERRA SANTA HASTA LA CALLE 41 DEL BARRIO 24 DE NOVIEMBRE. | D6: Longitud del canal: 166 metros Longitud a intervenir: 166 metros | G6: =SUM(G8:G17) -> 16418992
B7: 1.1 | C7: =+'[7]PRESUPUESTO (2)'!C8 -> PRELIMINARES
B8: 1.1.1 | C8: Remoción de tapas en concreto reforzado | D8: UND | E8: =+(166/0.5)-10 -> 322 | F8: =+'APU 1.1.1'!G40 -> 8565 | G8: =+E8*F8 -> 2757930
B9: 1.1.2 | C9: Extraccion manual de material de colmatacion, fango, arena, escombros, residuos solidos, material vegetal con 50% de agua contaminada | D9: M3 | E9: 58.826 | F9: =+'APU 1.1.2.'!G40 -> 98141 | G9: =E9*F9 -> 5773242.5
B10: 1.2 | C10: =+'[7]PRESUPUESTO (2)'!C11 -> MOVIMIENTOS DE TIERRA
B11: 1.2.1 | C11: Acarreo manual de material contaminado en carreta de llantas desde el sitio de acopio en superficie hasta superficie de cargue (incluye paleado del material). | D11: M3 | E11: =+E9 -> 58.826 | F11: =+'APU 1.2.1'!G40 -> 38023 | G11: =+E11*F11 -> 2236741
B12: 1.2.2 | C12: =+'[7]PRESUPUESTO (2)'!C12 -> Cargue de material contaminado con minicargador mecanico | D12: =+D13 -> M3 | E12: =+E11 -> 58.826 | F12: =+'APU 1.2.2'!G40 -> 12905 | G12: =E12*F12 -> 759149.53
B13: 1.2.3 | C13: Transporte Material Contaminado en Volqueta senciila de 6 m3 a distancia de 2 Km fuera del perímetro urbano. | D13: M3 | E13: =+E12 -> 58.826 | F13: =+'APU 1.2.3'!G40 -> 9784 | G13: =E13*F13 -> 575553.58
B14: 1.2.4 | C14: Reinstalación de tapas en concreto reforzado | D14: UND | E14: =(166/0.5) -> 332 | F14: =+'APU 1.2.4'!G40 -> 8565 | G14: =+E14*F14 -> 2843580
B15: 1.3 | C15: =+'[7]PRESUPUESTO (2)'!C14 -> OTROS
B16: 1.3.1 | C16: Contrucción de tapas en concreto reforzado de 3000 psi de 0.50 mts x 1.40 mts x 0.07 mts, incluye acero de refuero #3@0.15 m. | D16: UND | E16: 10 | F16: =+'APU 1.3.1'!G46 -> 93748 | G16: =+E16*F16 -> 937480
B17: 1.3.2 | C17: Señalización Vial - Control de Tráfico ( PALETERO ) | D17: JORNAL | E17: 5 | F17: =+'APU 1.3.2'!G40 -> 107063 | G17: =E17*F17 -> 535315
B18: SUB-TOTAL | G18: =+SUM(G7:G17) -> 16418992
B19: 2 | C19: LIMPIEZA BOXCULVER CON TAPAS PARALELO A CALLE 24 BARRIO EL ORIENTE HASTA LA QUEBRADA SAN MATEO. | D19: Longitud del canal: 362.3 metros Longitud a intervenir: 247 metros | G19: =SUM(G21:G30) -> 22575472
B20: 2.1 | C20: =+C7 -> PRELIMINARES
B21: 2.1.1 | C21: Remoción de tapas en concreto reforzado | D21: UND | E21: =(247/0.5)-12 -> 482 | F21: =+'APU 1.1.1'!G40 -> 8565 | G21: =+E21*F21 -> 4128330
B22: 2.1.2 | C22: =+C9 -> Extraccion manual de material de colmatacion, fango, arena, escombros, residuos solidos, material vegetal con 50% de agua contaminada | D22: M3 | E22: 79.04 | F22: =+F9 -> 98141 | G22: =E22*F22 -> 7757064.6
B23: 2.2 | C23: =+C10 -> MOVIMIENTOS DE TIERRA
B24: 2.2.1 | C24: =+C11 -> Acarreo manual de material contaminado en carreta de llantas desde el sitio de acopio en superficie hasta superficie de cargue (incluye paleado del material). | D24: M3 | E24: 79.04 | F24: =+F11 -> 38023 | G24: =+E24*F24 -> 3005337.9
B25: 2.2.2 | C25: =+C12 -> Cargue de material contaminado con minicargador mecanico | D25: M3 | E25: 79.04 | F25: =+F12 -> 12905 | G25: =E25*F25 -> 1020011.2
B26: 2.2.3 | C26: =+C13 -> Transporte Material Contaminado en Volqueta senciila de 6 m3 a distancia de 2 Km fuera del perímetro urbano. | D26: M3 | E26: 79.04 | F26: =+F13 -> 9784 | G26: =E26*F26 -> 773327.36
B27: 2.2.4 | C27: Reinstalación de tapas en concreto reforzado | D27: UND | E27: =+(247/0.5) -> 494 | F27: =+'APU 1.2.4'!G40 -> 8565 | G27: =+E27*F27 -> 4231110
B28: 2.3 | C28: =+C15 -> OTROS
B29: 2.3.1 | C29: Contrucción de tapas en concreto reforzado de 3000 psi de 0.50 mts x 1.40 mts x 0.07 mts, incluye acero de refuero #3@0.15 m. | D29: UND | E29: 12 | F29: =+F16 -> 93748 | G29: =+E29*F29 -> 1124976
B30: 2.3.2 | C30: Señalización Vial - Control de Tráfico ( PALETERO ) | D30: JORNAL | E30: 5 | F30: =+F17 -> 107063 | G30: =E30*F30 -> 535315
B31: SUB-TOTAL | G31: =+SUM(G20:G30) -> 22575472
B32: 3 | C32: LIMPIEZA BOXCULVER CON TAPAS PARALELO A LA CALLE 19 ENTRE LA CARRERA 10, HASTA EL CANAL DEL BARRIO MONTELÍBANO. | D32: Longitud del canal: 227.7 metros Longitud a intervenir: 197.7 metros | G32: =SUM(G34:G43) -> 17581918
B33: 3.1 | C33: =+C20 -> PRELIMINARES
B34: 3.1.1 | C34: Remoción de tapas en concreto reforzado | D34: UND | E34: =+(197.7/0.5)-10 -> 385.4 | F34: =+'APU 1.1.1'!G40 -> 8565 | G34: =+E34*F34 -> 3300951
B35: 3.1.2 | C35: =+C22 -> Extraccion manual de material de colmatacion, fango, arena, escombros, residuos solidos, material vegetal con 50% de agua contaminada | D35: M3 | E35: 59.31 | F35: =+F22 -> 98141 | G35: =E35*F35 -> 5820742.7
B36: 3.2 | C36: =+C23 -> MOVIMIENTOS DE TIERRA
B37: 3.2.1 | C37: =+C11 -> Acarreo manual de material contaminado en carreta de llantas desde el sitio de acopio en superficie hasta superficie de cargue (incluye paleado del material). | D37: M3 | E37: 59.31 | F37: =+F24 -> 38023 | G37: =+E37*F37 -> 2255144.1
B38: 3.2.2 | C38: =+C25 -> Cargue de material contaminado con minicargador mecanico | D38: M3 | E38: 59.31 | F38: =+F25 -> 12905 | G38: =E38*F38 -> 765395.55
B39: 3.2.3 | C39: =+C26 -> Transporte Material Contaminado en Volqueta senciila de 6 m3 a distancia de 2 Km fuera del perímetro urbano. | D39: M3 | E39: 59.31 | F39: =+F26 -> 9784 | G39: =E39*F39 -> 580289.04
B40: 3.2.4 | C40: Reinstalación de tapas en concreto reforzado | D40: UND | E40: =+(197.7/0.5) -> 395.4 | F40: =+'APU 1.2.4'!G40 -> 8565 | G40: =+E40*F40 -> 3386601
B41: 3.3 | C41: =+C28 -> OTROS
B42: 3.3.1 | C42: Contrucción de tapas en concreto reforzado de 3000 psi de 0.50 mts x 1.40 mts x 0.07 mts, incluye acero de refuero #3@0.15 m. | D42: UND | E42: 10 | F42: =+F29 -> 93748 | G42: =+E42*F42 -> 937480
...

Sheet APU 1.1.1
B2: APU - ANÁLISIS DE PRECIOS UNITARIOS
C4: MUNICIPIO DE LA APARTADA CÓRDOBA SECRETARÍA DE PLANEACION OBRAS PUBLICAS Y MEDIO AMBIENTE
B7: OBJETO DEL PROYECTO: | C7: =PRESUPUESTO!B2 -> LIMPIEZA Y MATENIMIENTO DE BOX CULVERTS CON TAPAS, PARA EL MANEJO Y DRENAJE DE AGUAS PLUVIABLES, EN LA ZONA URBANA DEL MUNICIPIO DE LA APARTADA, CÓRDOBA.
B13: ITEM | C13: DESCRIPCIÓN | G13: UND
B14: =+PRESUPUESTO!B8 -> 1.1.1 | C14: =+PRESUPUESTO!C8 -> Remoción de tapas en concreto reforzado | G14: UND
B17: I. EQUIPOS
B18: Descripcion | C18: Cant | D18: Unidad | E18: Tarifa / hora | F18: Rendimiento | G18: Valor Unitario
F21: SUBTOTAL | G21: =ROUND(SUM(G19:G20),0) -> 0
B22: II. MATERIALES EN OBRA
B23: Descripción | D23: Unidad | E23: Valor Unitario | F23: Cantidad | G23: Valor unitario
F27: SUBTOTAL | G27: =ROUND(SUM(G24:G26),0) -> 0
B28: III.TRANSPORTE
B29: Descripcion | D29: km | E29: Tarifa - km | F29: m3 | G29: Valor unitario
G30: =+F30*E30 -> 0
F32: SUBTOTAL | G32: =ROUND(SUM(G30),0) -> 0
B33: IV. MANO DE OBRA
B34: Descripcion | C34: Cant | D34: Jornal | E34: Prestaciones - MO | F34: Rendimiento | G34: Valor unitario
E35: 1.8344
B36: AYUDANTE | C36: 2 | D36: =+'APU 1.2.2'!D36 -> 58364 | E36: =+D36*E35 -> 107062.92 | F36: 25 | G36: =(C36*E36)/F36 -> 8565.0337
F38: SUBTOTAL | G38: =ROUND(SUM(G36:G37),0) -> 8565
E40: TOTAL COSTOS DIRECTOS | G40: =ROUND(G21+G27+G32+G38,0) -> 8565
B54: APU - ANÁLISIS DE PRECIOS UNITARIOS
C56: MUNICIPIO DE LA APARTADA CÓRDOBA SECRETARÍA DE PLANEACION OBRAS PUBLICAS Y MEDIO AMBIENTE
B59: OBJETO DEL PROYECTO: | C59: =+C7 -> LIMPIEZA Y MATENIMIENTO DE BOX CULVERTS CON TAPAS, PARA EL MANEJO Y DRENAJE DE AGUAS PLUVIABLES, EN LA ZONA URBANA DEL MUNICIPIO DE LA APARTADA, CÓRDOBA.
B65: ITEM | C65: DESCRIPCIÓN | G65: UND
B66: =+PRESUPUESTO!B21 -> 2.1.1 | C66: =+C14 -> Remoción de tapas en concreto reforzado | G66: UND
B69: I. EQUIPOS
B70: Descripcion | C70: Cant | D70: Unidad | E70: Tarifa / hora | F70: Rendimiento | G70: Valor Unitario
F73: SUBTOTAL | G73: =ROUND(SUM(G71:G72),0) -> 0
B74: II. MATERIALES EN OBRA
B75: Descripción | D75: Unidad | E75: Valor Unitario | F75: Cantidad | G75: Valor unitario
F79: SUBTOTAL | G79: =ROUND(SUM(G76:G78),0) -> 0
B80: III.TRANSPORTE
B81: Descripcion | D81: km | E81: Tarifa - km | F81: m3 | G81: Valor unitario
G82: =+F82*E82 -> 0
F84: SUBTOTAL | G84: =ROUND(SUM(G82),0) -> 0
B85: IV. MANO DE OBRA
B86: Descripcion | C86: Cant | D86: Jornal | E86: Prestaciones - MO | F86: Rendimiento | G86: Valor unitario
E87: 1.8344
B88: AYUDANTE | C88: 2 | D88: =+D36 -> 58364 | E88: =+D88*E87 -> 107062.92 | F88: 25 | G88: =(C88*E88)/F88 -> 8565.0337
...

Sheet APU 1.1.2.
B2: APU - ANÁLISIS DE PRECIOS UNITARIOS
C4: MUNICIPIO DE LA APARTADA CÓRDOBA SECRETARÍA DE PLANEACION OBRAS PUBLICAS Y MEDIO AMBIENTE
B7: OBJETO DEL PROYECTO: | C7: =PRESUPUESTO!B2 -> LIMPIEZA Y MATENIMIENTO DE BOX CULVERTS CON TAPAS, PARA EL MANEJO Y DRENAJE DE AGUAS PLUVIABLES, EN LA ZONA URBANA DEL MUNICIPIO DE LA APARTADA, CÓRDOBA.
B13: ITEM | C13: DESCRIPCIÓN | G13: UND
B14: =+PRESUPUESTO!B9 -> 1.1.2 | C14: =+PRESUPUESTO!C9 -> Extraccion manual de material de colmatacion, fango, arena, escombros, residuos solidos, material vegetal con 50% de agua contaminada | G14: M3
B17: I. EQUIPOS
B18: Descripcion | C18: Cant | D18: Unidad | E18: Valor-unit | F18: Rendimiento | G18: Valor Unitario
B19: Herramientas Menores | C19: 10%MO | D19: % | E19: =+G38 -> 89219 | F19: 0.1 | G19: =E19*F19 -> 8921.9
F21: SUBTOTAL | G21: =ROUND(SUM(G19:G20),0) -> 8922
B22: II. MATERIALES EN OBRA
B23: Descripción | D23: Unidad | E23: Valor Unitario | F23: Cantidad | G23: Valor unitario
F27: SUBTOTAL | G27: =ROUND(SUM(G24:G26),0) -> 0
B28: III.TRANSPORTE
B29: Descripcion | D29: Tipo | E29: Tarifa - km | F29: Rendimiento | G29: Valor unitario
G30: =+F30*E30 -> 0
F32: SUBTOTAL | G32: =ROUND(SUM(G30),0) -> 0
B33: IV. MANO DE OBRA
B34: Descripcion | C34: Cant | D34: Jornal | E34: Prestaciones - MO | F34: Rendimiento | G34: Valor unitario
E35: 1.8344
B36: AYUDANTE | C36: 10 | D36: =58364 -> 58364 | E36: =D36*E35 -> 107062.92 | F36: 12 | G36: =(C36*E36)/F36 -> 89219.101
F38: SUBTOTAL | G38: =ROUND(SUM(G36:G37),0) -> 89219
E40: TOTAL COSTOS DIRECTOS | G40: =ROUND(G21+G27+G32+G38,0) -> 98141
B53: APU - ANÁLISIS DE PRECIOS UNITARIOS
C55: MUNICIPIO DE LA APARTADA CÓRDOBA SECRETARÍA DE PLANEACION OBRAS PUBLICAS Y MEDIO AMBIENTE
B58: OBJETO DEL PROYECTO: | C58: =+C7 -> LIMPIEZA Y MATENIMIENTO DE BOX CULVERTS CON TAPAS, PARA EL MANEJO Y DRENAJE DE AGUAS PLUVIABLES, EN LA ZONA URBANA DEL MUNICIPIO DE LA APARTADA, CÓRDOBA.
B64: ITEM | C64: DESCRIPCIÓN | G64: UND
B65: =+PRESUPUESTO!B22 -> 2.1.2 | C65: =+C14 -> Extraccion manual de material de colmatacion, fango, arena, escombros, residuos solidos, material vegetal con 50% de agua contaminada | G65: M3
B68: I. EQUIPOS
B69: Descripcion | C69: Cant | D69: Unidad | E69: Valor-unit | F69: Rendimiento | G69: Valor Unitario
B70: Herramientas Menores | C70: 10%MO | D70: % | E70: =+G89 -> 89219 | F70: 0.1 | G70: =E70*F70 -> 8921.9
F72: SUBTOTAL | G72: =ROUND(SUM(G70:G71),0) -> 8922
B73: II. MATERIALES EN OBRA
B74: Descripción | D74: Unidad | E74: Valor Unitario | F74: Cantidad | G74: Valor unitario
F78: SUBTOTAL | G78: =ROUND(SUM(G75:G77),0) -> 0
B79: III.TRANSPORTE
B80: Descripcion | D80: Tipo | E80: Tarifa - km | F80: Rendimiento | G80: Valor unitario
G81: =+F81*E81 -> 0
F83: SUBTOTAL | G83: =ROUND(SUM(G81),0) -> 0
B84: IV. MANO DE OBRA
B85: Descripcion | C85: Cant | D85: Jornal | E85: Prestaciones - MO | F85: Rendimiento | G85: Valor unitario
...

Sheet APU 1.2.1
B2: APU - ANÁLISIS DE PRECIOS UNITARIOS
C4: MUNICIPIO DE LA APARTADA CÓRDOBA SECRETARÍA DE PLANEACION OBRAS PUBLICAS Y MEDIO AMBIENTE
B7: OBJETO DEL PROYECTO: | C7: =PRESUPUESTO!B2 -> LIMPIEZA Y MATENIMIENTO DE BOX CULVERTS CON TAPAS, PARA EL MANEJO Y DRENAJE DE AGUAS PLUVIABLES, EN LA ZONA URBANA DEL MUNICIPIO DE LA APARTADA, CÓRDOBA.
B13: ITEM | C13: DESCRIPCIÓN | G13: UND
B14: =+PRESUPUESTO!B11 -> 1.2.1 | C14: =+PRESUPUESTO!C11 -> Acarreo manual de material contaminado en carreta de llantas desde el sitio de acopio en superficie hasta superficie de cargue (incluye paleado del material). | G14: M3
B17: I. EQUIPOS
B18: Descripcion | C18: Cant | D18: Unidad | E18: Tarifa | F18: Rendimiento | G18: Valor Unitario
B19: Herramientas Menores | C19: 10%MO | D19: % | E19: =+G38 -> 30589 | F19: 0.1 | G19: =E19*F19 -> 3058.9
B20: Carretilla Buggy | C20: 1 | D20: Jornal | E20: 35000 | F20: 8 | G20: =+E20/F20 -> 4375
F21: SUBTOTAL | G21: =ROUND(SUM(G19:G20),0) -> 7434
B22: II. MATERIALES EN OBRA
B23: Descripción | D23: Unidad | E23: Valor Unitario | F23: Cantidad | G23: Valor unitario
F27: SUBTOTAL | G27: =ROUND(SUM(G24:G26),0) -> 0
B28: III.TRANSPORTE
B29: Descripcion | D29: Tipo | E29: Tarifa - km | F29: Rendimiento | G29: Valor unitario
G30: =+F30*E30 -> 0
F32: SUBTOTAL | G32: =ROUND(SUM(G30),0) -> 0
B33: IV. MANO DE OBRA
B34: Descripcion | C34: Cant | D34: Jornal | E34: Prestaciones - MO | F34: Rendimiento | G34: Valor unitario
E35: 1.8344
B36: AYUDANTE | C36: 3 | D36: =+'APU 1.1.2.'!D36 -> 58364 | E36: =D36*E35 -> 107062.92 | F36: =3.5*3 -> 10.5 | G36: =(C36*E36)/F36 -> 30589.406
F38: SUBTOTAL | G38: =ROUND(SUM(G36:G37),0) -> 30589
E40: TOTAL COSTOS DIRECTOS | G40: =ROUND(G21+G27+G32+G38,0) -> 38023
B54: APU - ANÁLISIS DE PRECIOS UNITARIOS
C56: MUNICIPIO DE LA APARTADA CÓRDOBA SECRETARÍA DE PLANEACION OBRAS PUBLICAS Y MEDIO AMBIENTE
B59: OBJETO DEL PROYECTO: | C59: =+C7 -> LIMPIEZA Y MATENIMIENTO DE BOX CULVERTS CON TAPAS, PARA EL MANEJO Y DRENAJE DE AGUAS PLUVIABLES, EN LA ZONA URBANA DEL MUNICIPIO DE LA APARTADA, CÓRDOBA.
B65: ITEM | C65: DESCRIPCIÓN | G65: UND
B66: =+PRESUPUESTO!B24 -> 2.2.1 | C66: =+C14 -> Acarreo manual de material contaminado en carreta de llantas desde el sitio de acopio en superficie hasta superficie de cargue (incluye paleado del material). | G66: M3
B69: I. EQUIPOS
B70: Descripcion | C70: Cant | D70: Unidad | E70: Tarifa | F70: Rendimiento | G70: Valor Unitario
B71: Herramientas Menores | C71: 10%MO | D71: % | E71: =+G90 -> 30589 | F71: 0.1 | G71: =E71*F71 -> 3058.9
B72: Carretilla Buggy | C72: 1 | D72: Jornal | E72: 35000 | F72: 8 | G72: =+E72/F72 -> 4375
F73: SUBTOTAL | G73: =ROUND(SUM(G71:G72),0) -> 7434
B74: II. MATERIALES EN OBRA
B75: Descripción | D75: Unidad | E75: Valor Unitario | F75: Cantidad | G75: Valor unitario
F79: SUBTOTAL | G79: =ROUND(SUM(G76:G78),0) -> 0
B80: III.TRANSPORTE
B81: Descripcion | D81: Tipo | E81: Tarifa - km | F81: Rendimiento | G81: Valor unitario
G82: =+F82*E82 -> 0
F84: SUBTOTAL | G84: =ROUND(SUM(G82),0) -> 0
...

Sheet APU 1.2.2
B2: APU - ANÁLISIS DE PRECIOS UNITARIOS
C4: MUNICIPIO DE LA APARTADA CÓRDOBA SECRETARÍA DE PLANEACION OBRAS PUBLICAS Y MEDIO AMBIENTE
B7: OBJETO DEL PROYECTO: | C7: =PRESUPUESTO!B2 -> LIMPIEZA Y MATENIMIENTO DE BOX CULVERTS CON TAPAS, PARA EL MANEJO Y DRENAJE DE AGUAS PLUVIABLES, EN LA ZONA URBANA DEL MUNICIPIO DE LA APARTADA, CÓRDOBA.
B13: ITEM | C13: DESCRIPCIÓN | G13: UND
B14: =+PRESUPUESTO!B12 -> 1.2.2 | C14: =+PRESUPUESTO!C12 -> Cargue de material contaminado con minicargador mecanico | G14: M3
B17: I. EQUIPOS
B18: Descripcion | C18: Cant | D18: Unidad | E18: Tarifa / hora | F18: Rendimiento | G18: Valor Unitario
B20: Mini Cargador | C20: 1 | D20: hora | E20: 140000 | F20: 12 | G20: =+E20/F20 -> 11666.667
F21: SUBTOTAL | G21: =ROUND(SUM(G19:G20),0) -> 11667
B22: II. MATERIALES EN OBRA
B23: Descripción | D23: Unidad | E23: Valor Unitario | F23: Cantidad | G23: Valor unitario
F27: SUBTOTAL | G27: =ROUND(SUM(G24:G26),0) -> 0
B28: III.TRANSPORTE
B29: Descripcion | D29: Tipo | E29: Tarifa - km | F29: Rendimiento | G29: Valor unitario
G30: =+F30*E30 -> 0
F32: SUBTOTAL | G32: =ROUND(SUM(G30),0) -> 0
B33: IV. MANO DE OBRA
B34: Descripcion | C34: Cant | D34: Jornal | E34: Prestaciones - MO | F34: Rendimiento | G34: Valor unitario
E35: 1.8344
B36: AYUDANTE | C36: 1 | D36: =+'APU 1.1.2.'!D36 -> 58364 | E36: =D36*E35 -> 107062.92 | F36: 86.5 | G36: =(C36*E36)/F36 -> 1237.7216
F38: SUBTOTAL | G38: =ROUND(SUM(G36:G37),0) -> 1238
E40: TOTAL COSTOS DIRECTOS | G40: =ROUND(G21+G27+G32+G38,0) -> 12905
B52: APU - ANÁLISIS DE PRECIOS UNITARIOS
C54: MUNICIPIO DE LA APARTADA CÓRDOBA SECRETARÍA DE PLANEACION OBRAS PUBLICAS Y MEDIO AMBIENTE
B57: OBJETO DEL PROYECTO: | C57: =+C7 -> LIMPIEZA Y MATENIMIENTO DE BOX CULVERTS CON TAPAS, PARA EL MANEJO Y DRENAJE DE AGUAS PLUVIABLES, EN LA ZONA URBANA DEL MUNICIPIO DE LA APARTADA, CÓRDOBA.
B63: ITEM | C63: DESCRIPCIÓN | G63: UND
B64: =+PRESUPUESTO!B25 -> 2.2.2 | C64: =+C14 -> Cargue de material contaminado con minicargador mecanico | G64: M3
B67: I. EQUIPOS
B68: Descripcion | C68: Cant | D68: Unidad | E68: Tarifa / hora | F68: Rendimiento | G68: Valor Unitario
B70: Mini Cargador | C70: 1 | D70: hora | E70: 140000 | F70: 12 | G70: =+E70/F70 -> 11666.667
F71: SUBTOTAL | G71: =ROUND(SUM(G69:G70),0) -> 11667
B72: II. MATERIALES EN OBRA
B73: Descripción | D73: Unidad | E73: Valor Unitario | F73: Cantidad | G73: Valor unitario
F77: SUBTOTAL | G77: =ROUND(SUM(G74:G76),0) -> 0
B78: III.TRANSPORTE
B79: Descripcion | D79: Tipo | E79: Tarifa - km | F79: Rendimiento | G79: Valor unitario
G80: =+F80*E80 -> 0
F82: SUBTOTAL | G82: =ROUND(SUM(G80),0) -> 0
B83: IV. MANO DE OBRA
B84: Descripcion | C84: Cant | D84: Jornal | E84: Prestaciones - MO | F84: Rendimiento | G84: Valor unitario
...

Sheet APU 1.2.3
B2: APU - ANÁLISIS DE PRECIOS UNITARIOS
C4: MUNICIPIO DE LA APARTADA CÓRDOBA SECRETARÍA DE PLANEACION OBRAS PUBLICAS Y MEDIO AMBIENTE
B7: OBJETO DEL PROYECTO: | C7: =PRESUPUESTO!B2 -> LIMPIEZA Y MATENIMIENTO DE BOX CULVERTS CON TAPAS, PARA EL MANEJO Y DRENAJE DE AGUAS PLUVIABLES, EN LA ZONA URBANA DEL MUNICIPIO DE LA APARTADA, CÓRDOBA.
B13: ITEM | C13: DESCRIPCIÓN | G13: UND
B14: =+PRESUPUESTO!B13 -> 1.2.3 | C14: =+PRESUPUESTO!C13 -> Transporte Material Contaminado en Volqueta senciila de 6 m3 a distancia de 2 Km fuera del perímetro urbano. | G14: M3
B17: I. EQUIPOS
B18: Descripcion | C18: Cant | D18: Unidad | E18: Tarifa / hora | F18: Rendimiento | G18: Valor Unitario
F21: SUBTOTAL | G21: =ROUND(SUM(G19:G20),0) -> 0
B22: II. MATERIALES EN OBRA
B23: Descripción | D23: Unidad | E23: Valor Unitario | F23: Cantidad | G23: Valor unitario
F27: SUBTOTAL | G27: =ROUND(SUM(G24:G26),0) -> 0
B28: III.TRANSPORTE
B29: Descripcion | D29: km | E29: Tarifa m3- km | F29: m3 | G29: Valor Total
B30: Volqueta Sencilla de 6 m3 | D30: 2 | E30: 4892.05 | F30: =1 -> 1 | G30: =+F30*E30*D30 -> 9784.1
F32: SUBTOTAL | G32: =ROUND(SUM(G30),0) -> 9784
B33: IV. MANO DE OBRA
B34: Descripcion | C34: Cant | D34: Jornal | E34: Prestaciones - MO | F34: Rendimiento | G34: Valor unitario
E35: 1.8344
F38: SUBTOTAL | G38: =ROUND(SUM(G36:G37),0) -> 0
E40: TOTAL COSTOS DIRECTOS | G40: =ROUND(G21+G27+G32+G38,0) -> 9784
B54: APU - ANÁLISIS DE PRECIOS UNITARIOS
C56: MUNICIPIO DE LA APARTADA CÓRDOBA SECRETARÍA DE PLANEACION OBRAS PUBLICAS Y MEDIO AMBIENTE
B59: OBJETO DEL PROYECTO: | C59: =+C7 -> LIMPIEZA Y MATENIMIENTO DE BOX CULVERTS CON TAPAS, PARA EL MANEJO Y DRENAJE DE AGUAS PLUVIABLES, EN LA ZONA URBANA DEL MUNICIPIO DE LA APARTADA, CÓRDOBA.
B65: ITEM | C65: DESCRIPCIÓN | G65: UND
B66: =+PRESUPUESTO!B26 -> 2.2.3 | C66: =+C14 -> Transporte Material Contaminado en Volqueta senciila de 6 m3 a distancia de 2 Km fuera del perímetro urbano. | G66: M3
B69: I. EQUIPOS
B70: Descripcion | C70: Cant | D70: Unidad | E70: Tarifa / hora | F70: Rendimiento | G70: Valor Unitario
F73: SUBTOTAL | G73: =ROUND(SUM(G71:G72),0) -> 0
B74: II. MATERIALES EN OBRA
B75: Descripción | D75: Unidad | E75: Valor Unitario | F75: Cantidad | G75: Valor unitario
F79: SUBTOTAL | G79: =ROUND(SUM(G76:G78),0) -> 0
B80: III.TRANSPORTE
B81: Descripcion | D81: km | E81: Tarifa m3- km | F81: m3 | G81: Valor Total
B82: Volqueta Sencilla de 6 m3 | D82: 2 | E82: 4892.05 | F82: =1 -> 1 | G82: =+F82*E82*D82 -> 9784.1
F84: SUBTOTAL | G84: =ROUND(SUM(G82),0) -> 9784
B85: IV. MANO DE OBRA
B86: Descripcion | C86: Cant | D86: Jornal | E86: Prestaciones - MO | F86: Rendimiento | G86: Valor unitario
E87: 1.8344
F90: SUBTOTAL | G90: =ROUND(SUM(G88:G89),0) -> 0
E92: TOTAL COSTOS DIRECTOS | G92: =ROUND(G73+G79+G84+G90,0) -> 9784
...

Sheet APU 1.2.4
B2: APU - ANÁLISIS DE PRECIOS UNITARIOS
C4: MUNICIPIO DE LA APARTADA CÓRDOBA SECRETARÍA DE PLANEACION OBRAS PUBLICAS Y MEDIO AMBIENTE
B7: OBJETO DEL PROYECTO: | C7: =PRESUPUESTO!B2 -> LIMPIEZA Y MATENIMIENTO DE BOX CULVERTS CON TAPAS, PARA EL MANEJO Y DRENAJE DE AGUAS PLUVIABLES, EN LA ZONA URBANA DEL MUNICIPIO DE LA APARTADA, CÓRDOBA.
B13: ITEM | C13: DESCRIPCIÓN | G13: UND
B14: =+PRESUPUESTO!B14 -> 1.2.4 | C14: =+PRESUPUESTO!C14 -> Reinstalación de tapas en concreto reforzado | G14: UND
B17: I. EQUIPOS
B18: Descripcion | C18: Cant | D18: Unidad | E18: Tarifa / hora | F18: Rendimiento | G18: Valor Unitario
F21: SUBTOTAL | G21: =ROUND(SUM(G19:G20),0) -> 0
B22: II. MATERIALES EN OBRA
B23: Descripción | D23: Unidad | E23: Valor Unitario | F23: Cantidad | G23: Valor unitario
F27: SUBTOTAL | G27: =ROUND(SUM(G24:G26),0) -> 0
B28: III.TRANSPORTE
B29: Descripcion | D29: km | E29: Tarifa - km | F29: m3 | G29: Valor unitario
G30: =+F30*E30 -> 0
F32: SUBTOTAL | G32: =ROUND(SUM(G30),0) -> 0
B33: IV. MANO DE OBRA
B34: Descripcion | C34: Cant | D34: Jornal | E34: Prestaciones - MO | F34: Rendimiento | G34: Valor unitario
E35: 1.8344
B36: AYUDANTE | C36: 2 | D36: =+'APU 1.2.2'!D36 -> 58364 | E36: =+D36*E35 -> 107062.92 | F36: 25 | G36: =(C36*E36)/F36 -> 8565.0337
F38: SUBTOTAL | G38: =ROUND(SUM(G36:G37),0) -> 8565
E40: TOTAL COSTOS DIRECTOS | G40: =ROUND(G21+G27+G32+G38,0) -> 8565
B54: APU - ANÁLISIS DE PRECIOS UNITARIOS
C56: MUNICIPIO DE LA APARTADA CÓRDOBA SECRETARÍA DE PLANEACION OBRAS PUBLICAS Y MEDIO AMBIENTE
B59: OBJETO DEL PROYECTO: | C59: =+C7 -> LIMPIEZA Y MATENIMIENTO DE BOX CULVERTS CON TAPAS, PARA EL MANEJO Y DRENAJE DE AGUAS PLUVIABLES, EN LA ZONA URBANA DEL MUNICIPIO DE LA APARTADA, CÓRDOBA.
B65: ITEM | C65: DESCRIPCIÓN | G65: UND
B66: =+PRESUPUESTO!B27 -> 2.2.4 | C66: =+C14 -> Reinstalación de tapas en concreto reforzado | G66: UND
B69: I. EQUIPOS
B70: Descripcion | C70: Cant | D70: Unidad | E70: Tarifa / hora | F70: Rendimiento | G70: Valor Unitario
F73: SUBTOTAL | G73: =ROUND(SUM(G71:G72),0) -> 0
B74: II. MATERIALES EN OBRA
B75: Descripción | D75: Unidad | E75: Valor Unitario | F75: Cantidad | G75: Valor unitario
F79: SUBTOTAL | G79: =ROUND(SUM(G76:G78),0) -> 0
B80: III.TRANSPORTE
B81: Descripcion | D81: km | E81: Tarifa - km | F81: m3 | G81: Valor unitario
G82: =+F82*E82 -> 0
F84: SUBTOTAL | G84: =ROUND(SUM(G82),0) -> 0
B85: IV. MANO DE OBRA
B86: Descripcion | C86: Cant | D86: Jornal | E86: Prestaciones - MO | F86: Rendimiento | G86: Valor unitario
E87: 1.8344
B88: AYUDANTE | C88: 2 | D88: =+D36 -> 58364 | E88: =+D88*E87 -> 107062.92 | F88: 25 | G88: =(C88*E88)/F88 -> 8565.0337
...

Sheet APU 1.3.1
B2: APU - ANÁLISIS DE PRECIOS UNITARIOS
C4: MUNICIPIO DE LA APARTADA CÓRDOBA SECRETARÍA DE PLANEACION OBRAS PUBLICAS Y MEDIO AMBIENTE
B7: OBJETO DEL PROYECTO: | C7: =PRESUPUESTO!B2 -> LIMPIEZA Y MATENIMIENTO DE BOX CULVERTS CON TAPAS, PARA EL MANEJO Y DRENAJE DE AGUAS PLUVIABLES, EN LA ZONA URBANA DEL MUNICIPIO DE LA APARTADA, CÓRDOBA.
B13: ITEM | C13: DESCRIPCIÓN | G13: UND
B14: =+PRESUPUESTO!B16 -> 1.3.1 | C14: =+PRESUPUESTO!C16 -> Contrucción de tapas en concreto reforzado de 3000 psi de 0.50 mts x 1.40 mts x 0.07 mts, incluye acero de refuero #3@0.15 m. | G14: UND
B17: I. EQUIPOS
B18: Descripcion | C18: Cant | D18: Unidad | E18: Tarifa / hora | F18: Rendimiento | G18: Valor Unitario
B19: Herramientas Menores | C19: 10%MO | D19: % | E19: =+G44 -> 32119 | F19: 0.1 | G19: =+E19*F19 -> 3211.9
F21: SUBTOTAL | G21: =ROUND(SUM(G19:G20),0) -> 3212
B22: II. MATERIALES EN OBRA
B23: Descripción | D23: Unidad | E23: Valor Unitario | F23: Cantidad | G23: Valor unitario
B24: Acero de refuerzo 3/8" | D24: kg | E24: =14400/3.36 -> 4285.7143 | F24: =J30*0.56 -> 5.292 | G24: =+E24*F24 -> 22680
B25: china | D25: m3 | E25: 90000 | F25: =+J27*0.9 -> 0.0441 | G25: =+E25*F25 -> 3969
B26: arena | D26: m3 | E26: 55000 | F26: =+J27*0.52 -> 0.02548 | G26: =+E26*F26 -> 1401.4 | J26: Vol de tapa
B27: cemento | D27: und | E27: 32000 | F27: =+(J27*320)/50 -> 0.3136 | G27: =+E27*F27 -> 10035.2 | J27: =1.4*0.5*0.07 -> 0.049 | K27: m3
B28: agua | D28: lts | E28: 150 | F28: =+J27*170 -> 8.33 | G28: =+E28*F28 -> 1249.5
B29: Alambre negro | D29: kg | E29: 9500 | F29: 0.2 | G29: =+E29*F29 -> 1900 | J29: long barras #3
B30: Tabla de 3m x 0.30 m para formaleta | D30: und | E30: 36000 | F30: 0.4 | G30: =+E30*F30 -> 14400 | J30: =+(4*1.35)+(9*0.45) -> 9.45 | K30: ml
B31: Desperdicio | D31: % | E31: =+SUM(G24:G30) -> 55635.1 | F31: 0.05 | G31: =E31*F31 -> 2781.755
F32: SUBTOTAL | G32: =(SUM(G24:G31)) -> 58416.855
B33: III.TRANSPORTE
B34: Descripcion | D34: km | E34: Tarifa - km | F34: m3 | G34: Valor unitario
G35: =+F35*E35 -> 0
F37: SUBTOTAL | G37: =ROUND(SUM(G35),0) -> 0
B38: IV. MANO DE OBRA
B39: Descripcion | C39: Cant | D39: Jornal | E39: Prestaciones - MO | F39: Rendimiento | G39: Valor unitario
E40: 1.8344
B41: OFICIAL | C41: 1 | D41: =+'[8]APU EXTERNADO'!$D$298 -> 93381.6 | E41: =+D41*E40 -> 171299.21 | F41: 10 | G41: =+(C41*E41)/F41 -> 17129.921
B42: AYUDANTE | C42: 3 | D42: =+'APU 1.2.2'!D36 -> 58364 | E42: =+D42*E40 -> 107062.92 | F42: 10 | G42: =(C42*E42)/F42 -> 32118.876
F44: SUBTOTAL | G44: =ROUND(SUM(G42:G43),0) -> 32119
E46: TOTAL COSTOS DIRECTOS | G46: =ROUND(G21+G32+G37+G44,0) -> 93748
B59: APU - ANÁLISIS DE PRECIOS UNITARIOS
C61: MUNICIPIO DE LA APARTADA CÓRDOBA SECRETARÍA DE PLANEACION OBRAS PUBLICAS Y MEDIO AMBIENTE
B64: OBJETO DEL PROYECTO: | C64: =+C7 -> LIMPIEZA Y MATENIMIENTO DE BOX CULVERTS CON TAPAS, PARA EL MANEJO Y DRENAJE DE AGUAS PLUVIABLES, EN LA ZONA URBANA DEL MUNICIPIO DE LA APARTADA, CÓRDOBA.
B70: ITEM | C70: DESCRIPCIÓN | G70: UND
B71: =+PRESUPUESTO!B29 -> 2.3.1 | C71: =+C14 -> Contrucción de tapas en concreto reforzado de 3000 psi de 0.50 mts x 1.40 mts x 0.07 mts, incluye acero de refuero #3@0.15 m. | G71: UND
B74: I. EQUIPOS
B75: Descripcion | C75: Cant | D75: Unidad | E75: Tarifa / hora | F75: Rendimiento | G75: Valor Unitario
B76: Herramientas Menores | C76: 10%MO | D76: % | E76: =+G101 -> 32119 | F76: 0.1 | G76: =+E76*F76 -> 3211.9
F78: SUBTOTAL | G78: =ROUND(SUM(G76:G77),0) -> 3212
...

Sheet APU 1.3.2
B2: APU - ANÁLISIS DE PRECIOS UNITARIOS
C4: MUNICIPIO DE LA APARTADA CÓRDOBA SECRETARÍA DE PLANEACION OBRAS PUBLICAS Y MEDIO AMBIENTE
B7: OBJETO DEL PROYECTO: | C7: =PRESUPUESTO!B2 -> LIMPIEZA Y MATENIMIENTO DE BOX CULVERTS CON TAPAS, PARA EL MANEJO Y DRENAJE DE AGUAS PLUVIABLES, EN LA ZONA URBANA DEL MUNICIPIO DE LA APARTADA, CÓRDOBA.
B13: ITEM | C13: DESCRIPCIÓN | G13: UND
B14: =+PRESUPUESTO!B17 -> 1.3.2 | C14: =+PRESUPUESTO!C17 -> Señalización Vial - Control de Tráfico ( PALETERO ) | G14: Jornal
B17: I. EQUIPOS
B18: Descripcion | C18: Cant | D18: Unidad | E18: Tarifa / hora | F18: Rendimiento | G18: Valor Unitario
F21: SUBTOTAL | G21: =ROUND(SUM(G19:G20),0) -> 0
B22: II. MATERIALES EN OBRA
B23: Descripción | D23: Unidad | E23: Valor Unitario | F23: Cantidad | G23: Valor unitario
F27: SUBTOTAL | G27: =ROUND(SUM(G24:G26),0) -> 0
B28: III.TRANSPORTE
B29: Descripcion | D29: km | E29: Tarifa - km | F29: m3 | G29: Valor unitario
G30: =+F30*E30 -> 0
F32: SUBTOTAL | G32: =ROUND(SUM(G30),0) -> 0
B33: IV. MANO DE OBRA
B34: Descripcion | C34: Cant | D34: Jornal | E34: Prestaciones - MO | F34: Rendimiento | G34: Valor unitario
E35: 1.8344
B36: AYUDANTE | C36: 1 | D36: =+'APU 1.2.2'!D36 -> 58364 | E36: =+D36*E35 -> 107062.92 | F36: 1 | G36: =+E36 -> 107062.92
F38: SUBTOTAL | G38: =ROUND(SUM(G36:G37),0) -> 107063
E40: TOTAL COSTOS DIRECTOS | G40: =ROUND(G21+G27+G32+G38,0) -> 107063
B54: APU - ANÁLISIS DE PRECIOS UNITARIOS
C56: MUNICIPIO DE LA APARTADA CÓRDOBA SECRETARÍA DE PLANEACION OBRAS PUBLICAS Y MEDIO AMBIENTE
B59: OBJETO DEL PROYECTO: | C59: =+C7 -> LIMPIEZA Y MATENIMIENTO DE BOX CULVERTS CON TAPAS, PARA EL MANEJO Y DRENAJE DE AGUAS PLUVIABLES, EN LA ZONA URBANA DEL MUNICIPIO DE LA APARTADA, CÓRDOBA.
B65: ITEM | C65: DESCRIPCIÓN | G65: UND
B66: =+PRESUPUESTO!B30 -> 2.3.2 | C66: =+C14 -> Señalización Vial - Control de Tráfico ( PALETERO ) | G66: Jornal
B69: I. EQUIPOS
B70: Descripcion | C70: Cant | D70: Unidad | E70: Tarifa / hora | F70: Rendimiento | G70: Valor Unitario
F73: SUBTOTAL | G73: =ROUND(SUM(G71:G72),0) -> 0
B74: II. MATERIALES EN OBRA
B75: Descripción | D75: Unidad | E75: Valor Unitario | F75: Cantidad | G75: Valor unitario
F79: SUBTOTAL | G79: =ROUND(SUM(G76:G78),0) -> 0
B80: III.TRANSPORTE
B81: Descripcion | D81: km | E81: Tarifa - km | F81: m3 | G81: Valor unitario
G82: =+F82*E82 -> 0
F84: SUBTOTAL | G84: =ROUND(SUM(G82),0) -> 0
B85: IV. MANO DE OBRA
B86: Descripcion | C86: Cant | D86: Jornal | E86: Prestaciones - MO | F86: Rendimiento | G86: Valor unitario
E87: 1.8344
B88: AYUDANTE | C88: 1 | D88: =+D36 -> 58364 | E88: =+D88*E87 -> 107062.92 | F88: 1 | G88: =+E88 -> 107062.92
...
