Workbook

Sheet Comparativo
A1: IMTRAM - CUADRO COMPARATIVO DE COTIZACIONES
A3: ÍTEM | B3: DESCRIPCIÓN | C3: UNIDAD | D3: ISUMAYO | E3: SIS SUR | F3: PROMEDIO
A4: 1 | B4: LIMPION DE TELA PARA LIMPIEZA 30X50CM | C4: UND | D4: 7350 | E4: 7150 | F4: =AVERAGE(D4:E4) -> 7250
A5: 2 | B5: PAPEL HIGIENICO PCX30 | C5: UND | D5: 3670 | E5: 3400 | F5: =AVERAGE(D5:E5) -> 3535
A6: 3 | B6: VARSOL X 1GALON 3000CC | C6: GL | D6: 87500 | E6: 85000 | F6: =AVERAGE(D6:E6) -> 86250
A7: 4 | B7: DESINFECTANTE A BASE DE HIPOCLORITO 3700 CJX6 | C7: UND | D7: 15100 | E7: 14600 | F7: =AVERAGE(D7:E7) -> 14850
A8: 5 | B8: INSECTICIDA MULTIUSOS X400CM3 AEROSOL | C8: UND | D8: 49200 | E8: 47800 | F8: =AVERAGE(D8:E8) -> 48500
A9: 6 | B9: JABON LIQUIDO | C9: UND | D9: 49400 | E9: 48500 | F9: =AVERAGE(D9:E9) -> 48950
A10: 7 | B10: CREOLINAIII CONCENTRADA X GALON | C10: GL | D10: 107800 | E10: 105000 | F10: =AVERAGE(D10:E10) -> 106400
A11: 8 | B11: JABON EN POLVO X 3.000GR | C11: PAQUETE | D11: 31500 | E11: 29300 | F11: =AVERAGE(D11:E11) -> 30400
A12: 9 | B12: JABON LAVALOZA CREMA X 1.000 GRAMOS | C12: KG | D12: 18900 | E12: 18300 | F12: =AVERAGE(D12:E12) -> 18600
A13: 10 | B13: LIMPIADOR DE PISO LIQUIDO, TARRO X 1/2 GALON | C13: GL | D13: 68500 | E13: 66600 | F13: =AVERAGE(D13:E13) -> 67550
A14: 11 | B14: JABON INDUSTRIAL PARA LAVADO DE EQUIPO INDUSTRIALES | C14: UND | D14: 61000 | E14: 59500 | F14: =AVERAGE(D14:E14) -> 60250
A15: 12 | B15: LIMPIADOR DESINFECTANTE CON AROMATIZANTE PARA PISOS X 1/2 GALON | C15: GL | D15: 21000 | E15: 23250 | F15: =AVERAGE(D15:E15) -> 22125
... A67: 64 | B67: CLORO GRANULADO 70 % KG | C67: KG | D67: 35000 | E67: 33000 | F67: =AVERAGE(D67:E67) -> 34000

Sheet Presupuesto oficial
A1: PRESUPUESTO OFICIAL - PROMEDIO DE COTIZACIONES
A3: ÍTEM | B3: DESCRIPCIÓN | C3: UNIDAD | D3: PROMEDIO UNITARIO | E3: CANTIDAD | F3: VALOR TOTAL
A4: 1 | B4: LIMPION DE TELA PARA LIMPIEZA 30X50CM | C4: UND | D4: =Comparativo!F4 -> 7250 | E4: 1 | F4: =D4*E4 -> 7250
A5: 2 | B5: PAPEL HIGIENICO PCX30 | C5: UND | D5: =Comparativo!F5 -> 3535 | E5: 1 | F5: =D5*E5 -> 3535
A6: 3 | B6: VARSOL X 1GALON 3000CC | C6: GL | D6: =Comparativo!F6 -> 86250 | E6: 1 | F6: =D6*E6 -> 86250
A7: 4 | B7: DESINFECTANTE A BASE DE HIPOCLORITO 3700 CJX6 | C7: UND | D7: =Comparativo!F7 -> 14850 | E7: 1 | F7: =D7*E7 -> 14850
A8: 5 | B8: INSECTICIDA MULTIUSOS X400CM3 AEROSOL | C8: UND | D8: =Comparativo!F8 -> 48500 | E8: 1 | F8: =D8*E8 -> 48500
A9: 6 | B9: JABON LIQUIDO | C9: UND | D9: =Comparativo!F9 -> 48950 | E9: 1 | F9: =D9*E9 -> 48950
A10: 7 | B10: CREOLINAIII CONCENTRADA X GALON | C10: GL | D10: =Comparativo!F10 -> 106400 | E10: 1 | F10: =D10*E10 -> 106400
A11: 8 | B11: JABON EN POLVO X 3.000GR | C11: PAQUETE | D11: =Comparativo!F11 -> 30400 | E11: 1 | F11: =D11*E11 -> 30400
A12: 9 | B12: JABON LAVALOZA CREMA X 1.000 GRAMOS | C12: KG | D12: =Comparativo!F12 -> 18600 | E12: 1 | F12: =D12*E12 -> 18600
A13: 10 | B13: LIMPIADOR DE PISO LIQUIDO, TARRO X 1/2 GALON | C13: GL | D13: =Comparativo!F13 -> 67550 | E13: 1 | F13: =D13*E13 -> 67550
A14: 11 | B14: JABON INDUSTRIAL PARA LAVADO DE EQUIPO INDUSTRIALES | C14: UND | D14: =Comparativo!F14 -> 60250 | E14: 1 | F14: =D14*E14 -> 60250
A15: 12 | B15: LIMPIADOR DESINFECTANTE CON AROMATIZANTE PARA PISOS X 1/2 GALON | C15: GL | D15: =Comparativo!F15 -> 22125 | E15: 1 | F15: =D15*E15 -> 22125
... A67: 64 | B67: CLORO GRANULADO 70 % KG | C67: KG | D67: =Comparativo!F67 -> 34000 | E67: 1 | F67: =D67*E67 -> 34000
A69: TOTAL PRESUPUESTO OFICIAL | F69: =SUM(F4:F67) -> 2193610
