Workbook
Name contratación: 'IDENTIFICACION Y ANALISIS'!#REF!
Name ejecución: 'IDENTIFICACION Y ANALISIS'!#REF!
Name OPCIONES: 'ASIGNACION Y TRATAMIENTO'!$B$66:$B$68
Name planeación: 'IDENTIFICACION Y ANALISIS'!$B$19:$B$28
Name selección: 'IDENTIFICACION Y ANALISIS'!#REF!

Sheet CONTEXTO
C2: MATRIZ DE RIESGOS EN CONTRATACIÓN | F2: Código: GCO-GCI-F164 Versión: 02 Vigencia: 01 de diciembre de 2022 Caso HOLA: 280117
B6: ESTABLECER EL CONTEXTO
B7: El punto inicial es identificar el contexto en el cual interactúa la Entidad Estatal para conocer el ambiente social, económico y político, e identificar (i) sus propios Riesgos; (ii) los Riesgos comunes a sus Procesos de Contratación; y (iii) los Riesgos del Proceso de Contratación en particular. (Aplica igual para contratos interadministrativos) En este paso la Entidad Estatal debe identificar los aspectos que se mencionan a continuación y los posibles efectos adversos que estos pueden generar.
B8: Objeto del Proceso de Contratación: PRESTAR LOS SERVICIOS INTEGRALES PARA LA REALIZACIÓN DE LOS EVENTOS RECREATIVOS Y DEPORTIVOS EN LOCALIDAD DE CIUDAD BOLÍVAR, EN EL MARCO DEL PLAN DE DESARROLLO LOCAL 2025-2028.
B9: Partícipes del Proceso de Contratación: Agentes externos (Organismos de control, veedurías ciudadanas), agentes internos (supervisores, funcionarios y demás usuarios).
B10: Ciudadanía que se beneficia del Proceso de Contratación: Agentes internos (funcionarios, pasantes) y externos (contratistas, visitantes y usuarios externos en general)
B11: Capacidad de la Entidad Estatal entendida como la disponibilidad de recursos y conocimientos para el Proceso de Contratación: La disponibilidad de la Entidad de sus recursos y el conocimiento de su equipo humano se refleja en los diferentes funcionarios que participarán en las diversas etapas del proceso de selección: participan las áreas que requieren los procesos de contratación (Etapa de Planeación), Dirección de Contratación, Comité Evaluador (Etapa de selección), Dirección de Contratación (Etapa de contratación) y la supervisión y apoyos a la misma (Estapa de Ejecución).
B12: Suficiencia del presupuesto oficial del Proceso de Contratación: De acuerdo al Plan Anual de Adquisiciones se deben estimar los recursos necesarios para el desarrollo del proceso de la contratación, el cual tendrá el soporte presupuestal suficiente para su desarrollo.
B13: Condiciones geográficas y de acceso del lugar en el cual se debe cumplir el objeto del Proceso de Contratación: El suministro, obra o servicio se prestará principalmente en las Sedes de la Entidad, o en el lugar indicado en los estudios previos del proceso.
B14: Entorno socio ambiental: No aplican
B15: Condiciones políticas: No aplican
B16: Factores ambientales. El proceso debera cumplir con la guia de contratación sostenible GCO-GCI-IN001 con carta de compromiso de buenas practias ambientales
B17: Sector del objeto del Proceso de Contratación y su mercado. Sector terciario, Involucra la prestación de servicios a la población y a otras empresas. Entre las actividades desarrolladas se encuentraCódigo 8016 – Servicios de administración de empresas; Código 4910 – Coleccionables y Condecoraciones; Código 4922 – Equipos y Accesorios para Deportes; Código 5310 – Ropa; Código 8010 – Gerencia de proyectos; Código 9014 – Deportes Comerciales; Código 9314 – Servicios Comunitarios y Sociales; Código 9412 – Clubes
... B19: Experiencia propia y de otras Entidades Estatales en Procesos de Contratación del mismo tipo. FDLCB-LP-010-2025; FDLCB-LP-004-2024; FDLCB-LP-009-2022; FDLSUBA-LP-008-2025 (134997); FDLT-LP 424-2025 (148293); FDLM-LP-016-2025 (133718)

Sheet IDENTIFICACION Y ANALISIS
C2: MATRIZ DE RIESGOS DE CONTRATACIÓN | F2: Código: GCO-GCI-F164 Versión: 02 Vigencia: 01 de diciembre de 2022 Caso HOLA: 280117
B6: DEFINICIONES
B7: RIESGO: Evento que puede generar efectos adversos y de distinta magnitud en el logro de los objetivos del Proceso de Contratación o en la ejecución de un contrato RIESGOS PREVISIBLES: Son los posibles hechos o circunstancias que por la naturaleza del contrato y de la actividad a ejecutar es factible su ocurrencia. ETAPA DE PLANEACIÓN: Está comprendida desde el momento en que se identifican las necesidades que debe satisfacer la Secretaría Distrital de Gobierno y los Fondos de Desarrollo Local, a través del abastecimiento de bienes, obras o servicios, la elaboración del Plan Anual de Adquisiciones y la estructuración de los documentos y estudios previos. ETAPA DE SELECCIÓN: Está comprendida entre el acto de Apertura del Proceso de Contratación y la Adjudicación o la declaración de desierto del Proceso de Contratación ETAPA DE CONTRATACIÓN: Una vez adjudicado el contrato objeto del Proceso de Contratación, inicia la etapa para la celebración del contrato y el cumplimiento de los requisitos para de perfeccionamiento y ejecución. ETAPA DE EJECUCIÓN: Inicia una vez cumplidos los requisitos previstos para iniciar la ejecución del contrato respectivo y termina con el vencimiento del plazo del contrato o la fecha de liquidación si hay lugar a ella. RIESGO GENERAL: Es un riesgo de todos los procesos de contratación adelantados por la Entidad Estatal, por lo cual está presente en toda su actividad contractual. RIEGO ESPECIFICO: Es un riesgo propio del proceso de contratación objeto de análisis. RIESGOS ECONÓMICOS: Son los derivados del comportamiento del mercado, tales como la fluctuación de los precios de los insumos, desabastecimiento y especulación de los mismos, entre otros. RIESGOS SOCIALES O POLÍTICOS: son los derivados de los cambios de las políticas gubernamentales y de cambios en las condiciones sociales que tengan impacto en la ejecución del contrato. RIESGOS OPERACIONALES: Son los asociados a la operatividad del contrato, tales como la suficiencia del presupuesto oficial, del plazo o los derivados de procesos, procedimientos, parámetros, sistemas de información y tecnológicos, equipos humanos o técnicos inadecuados o insuficientes. RIESGOS FINANCIEROS: Son (i) el riesgo de consecución de financiación o riesgo de liquidez para obtener recursos para cumplir con el objeto del contrato, y (ii) el riesgo de las condiciones financieras establecidas para la obtención de los recursos, tales como plazos, tasas, garantías, contragarantías, y refinanciaciones, entre otros. RIESGOS REGULATORIOS: Derivados de cambios regulatorios o reglamentarios que afecten la ecuación económica del contrato. RIESGOS DE LA NATURALEZA: Son los eventos naturales previsibles en los cuales no hay intervención humana que puedan tener impacto en la ejecución del contrato, por ejemplo los temblores, inundaciones, lluvias, sequías, entre otros. RIESGOS AMBIENTALES: Son los derivados de las obligaciones legales o reglamentarias de carácter ambiental, así como de las licencias, planes de manejo o de permisos y autorizaciones ambientales, incluyendo tasas retributivas y compensatorias, obligaciones de mitigación, tareas de monitoreo y control, entre otras. RIESGOS TECNOLÓGICOS: Son los derivados de fallas en los sistemas de comunicación de voz y de datos, suspensión de servicios públicos, nuevos desarrollos tecnológicos o estándares que deben ser tenidos en cuenta para la ejecución del contrato, obsolescencia tecnológica.
B15: INSTRUCCIONES PARA LA IDENTIFICACIÓN, ANALISIS, EVALUACIÓN , ASIGNACIÓN Y TRATAMIENTO DE RIESGOS EN LA CONTRATACIÓN
B16: 1) Identifique los riesgos previsibles que le apliquen al objeto contractual que se adelante. Los relacionados a continuación se establecen de manera general y como proforma. No obstante, si del objeto contractual se identifican otros riesgos diferentes a los aquí determinados, por favor reemplace el texto de la casilla teniendo en cuenta la etapa del proceso. Así mismo, seleccione la clase, fuente y el tipo (Operacional, Económico, Sociales o Políticos, Regulatorios, Financieros, Tecnológicos, De la naturaleza, Ambientales) 2) Continúe en la hoja de "EVALUACIÓN" (SI EXISTEN DUDAS CONCEPTUALES PARA LA ELABORACIÓN DE LA MATRIZ DE RIESGO CONSULTE EL MANUAL PARA LA IDENTIFICACIÓN Y COBERTURA DEL RIESGO EN LOS PROCESOS DE CONTRATACIÓN EXPEDIDO POR COLOMBIA COMPRA EFICIENTE Y LA GUÍA DE RIESGOS PREVISIBLES CONTRACTUALES, EXPEDIDA POR LA VEEDURÍA DISTRITAL)
C17: ETAPAS | D17: CLASE | E17: FUENTE | F17: TIPO
C18: PLANEACIÓN
B19: Inadecuada escogencia de la modalidad de contratación | D19: Especifico | E19: Interno | F19: Operacional
B20: Insuficiencia o imprecisión en el Anexo Técnico | D20: Especifico | E20: Interno | F20: Operacional
B21: Inadecuada estimación del presupuesto oficial | D21: Especifico | E21: Interno | F21: Economico
B22: Inadecuada elaboración de estudios previos y del sector | D22: Especifico | E22: Interno | F22: Operacional
B23: Falta o tardanza en el registro presupuestal (CDP) | D23: Especifico | E23: Interno | F23: Financiero
B24: Normativa aplicable desactualizada o inaplicada | D24: Especifico | E24: Interno | F24: Regulatorio
B25: Factores ambientales y climáticos que afectan la planeación de eventos | D25: General | E25: Externo | F25: De la Naturaleza
B26: Requisitos habilitantes inapropiados | D26: Especifico | E26: Interno | F26: Operacional
B27: Requisitos que impidan la selección objetiva | D27: Especifico | E27: Interno | F27: Operacional
B28: Inadecuado análisis del entorno socioambiental de Ciudad Bolívar | D28: Especifico | E28: Interno | F28: Social
C29: SELECCIÓN
B30: Presentación de ofertas con precios artificialmente bajos | D30: General | E30: Externo | F30: Economico
B31: Impugnación o recurso de apelación contra la evaluación | D31: General | E31: Externo | F31: Operacional
B32: Declaratoria de desierto del proceso | D32: General | E32: Externo | F32: Operacional
B33: Conflicto de interés en el comité evaluador | D33: Especifico | E33: Interno | F33: Operacional
B34: Filtraciones de información durante el proceso de selección | D34: Especifico | E34: Interno | F34: Operacional
B35: Manipulación del proceso licitatorio (colusión entre oferentes) | D35: General | E35: Externo | F35: Operacional
C36: CONTRATACIÓN
B37: Retrasos en la firma del contrato | D37: General | E37: Externo | F37: Operacional
B38: Falta o tardanza del registro presupuestal (RP) | D38: Especifico | E38: Interno | F38: Financiero
B39: Inconsistencias o insuficiencias en las pólizas y garantías | D39: Especifico | E39: Externo | F39: Financiero
B40: Reclamos de terceros | D40: General | E40: Externo | F40: Social o Politico
C41: EJECUCIÓN
B42: Incumplimiento parcial o total del contratista | D42: Especifico | E42: Externo | F42: Operacional
B43: Insuficiencia del talento humano del contratista | D43: Especifico | E43: Externo | F43: Operacional
B44: Eventos de orden público que impidan la realización de actividades | D44: General | E44: Externo | F44: Social o Politico
B45: Fenómenos climáticos o de la naturaleza durante la ejecución | D45: General | E45: Externo | F45: De la Naturaleza
B46: Desequilibrio económico del contrato por variación de precios | D46: General | E46: Externo | F46: Economico
B47: Inadecuada supervisión del contrato | D47: Especifico | E47: Interno | F47: Operacional
B48: Incumplimiento de obligaciones laborales y de seguridad social por parte del contratista | D48: Especifico | E48: Externo | F48: Operacional
B49: Fallas tecnológicas en el registro y reporte de beneficiarios | D49: Especifico | E49: Interno | F49: Tecnologico
B50: Afectaciones ambientales derivadas de la realización de eventos masivos | D50: Especifico | E50: Externo | F50: Ambiental
B51: Desarticulación con el IDRD, la Secretaría de Cultura y otras entidades | D51: Especifico | E51: Externo | F51: Social o Politico
...

Sheet EVALUACION
C2: MATRIZ DE RIESGOS DE CONTRATACIÓN | K2: Código: GCO-GCI-F164 Versión: 02 Vigencia: 01 de diciembre de 2022 Caso HOLA: 280117
B6: Objeto Contractual: PRESTAR LOS SERVICIOS INTEGRALES PARA LA REALIZACIÓN DE LOS EVENTOS RECREATIVOS Y DEPORTIVOS EN LOCALIDAD DE CIUDAD BOLÍVAR, EN EL MARCO DEL PLAN DE DESARROLLO LOCAL 2025-2028.
B7: INSTRUCCIONES PARA LA IDENTIFICACIÓN, ANALISIS, EVALUACIÓN , ASIGNACIÓN Y TRATAMIENTO DE RIESGOS EN LA CONTRATACIÓN
B8: 1) Diligencie el objeto contractual y seleccione la(s) etapas y los riesgos que aplican al objeto contractual, de acuerdo a lo definido en la hoja de "IDENTIFICACIÓN Y ANÁLISIS"
B9: 2) Describa las consecuencias de la ocurrencia del Riesgo/evento.
B10: 3) Asigne la probabilidad de ocurrencia del riesgo, de conformidad con la tabla de probabilidad y la valoración del riesgo (Cualitativa o Monetaria)
B11: 4) Asigne el impacto que generaría la materialización del riesgo, de conformidad con la tabla de impacto y la valoración del riesgo (Cualitativa o Monetaria)
B12: 5) Al realizar las anteriores actividades se obtendrá la calificación total y la valoración del riesgo (prioridad).
B13: 6) Continúe en la hoja de "EVALUACIÓN DE CONTROLES"
B15: CALIFICACIÓN | H15: Cualitativa
B16: ETAPA | C16: Descripción (Que puede pasar y, cómo puede ocurrir) | H16: Consecuencias de la ocurrencia del evento | I16: Probabilidad de Ocurrencia | J16: Impacto | K16: Calificación Total | L16: Prioridad
B17: ='IDENTIFICACION Y ANALISIS'!C18 -> PLANEACIÓN | C17: ='IDENTIFICACION Y ANALISIS'!B19 -> Inadecuada escogencia de la modalidad de contratación | H17: Nulidad del proceso, demoras administrativas, impugnaciones por parte de oferentes, declaratoria de desierto | I17: 1 | J17: 5 | K17: =I17+J17 -> 6 | L17: =IF(K17<=4,"BAJO",IF(K17=5,"MEDIO",IF(K17=6,"ALTO",IF(K17=7,"ALTO","EXTREMO")))) -> ALTO
B18: PLANEACIÓN | C18: ='IDENTIFICACION Y ANALISIS'!B20 -> Insuficiencia o imprecisión en el Anexo Técnico | H18: Propuestas no comparables, incumplimientos en ejecución, reclamaciones contractuales, imposibilidad de lograr las metas del proyecto 2249 | I18: 3 | J18: 4 | K18: =I18+J18 -> 7 | L18: =IF(K18<=4,"BAJO",IF(K18=5,"MEDIO",IF(K18=6,"ALTO",IF(K18=7,"ALTO","EXTREMO")))) -> ALTO
B19: PLANEACIÓN | C19: ='IDENTIFICACION Y ANALISIS'!B21 -> Inadecuada estimación del presupuesto oficial | H19: Propuestas con precios artificialmente bajos o altos, desequilibrio económico del contrato, incumplimientos del contratista, adiciones presupuestales | I19: 2 | J19: 5 | K19: =I19+J19 -> 7 | L19: =IF(K19<=4,"BAJO",IF(K19=5,"MEDIO",IF(K19=6,"ALTO",IF(K19=7,"ALTO","EXTREMO")))) -> ALTO
B20: PLANEACIÓN | C20: ='IDENTIFICACION Y ANALISIS'!B22 -> Inadecuada elaboración de estudios previos y del sector | H20: Requisitos habilitantes mal calibrados, selección objetiva comprometida, impugnaciones, demandas | I20: 2 | J20: 4 | K20: =I20+J20 -> 6 | L20: =IF(K20<=4,"BAJO",IF(K20=5,"MEDIO",IF(K20=6,"ALTO",IF(K20=7,"ALTO","EXTREMO")))) -> ALTO
B21: PLANEACIÓN | C21: ='IDENTIFICACION Y ANALISIS'!B23 -> Falta o tardanza en el registro presupuestal (CDP) | H21: Retraso en apertura del proceso, imposibilidad de publicar los documentos del proceso, incumplimiento de metas para la vigencia 2026 | I21: 2 | J21: 5 | K21: =I21+J21 -> 7 | L21: =IF(K21<=4,"BAJO",IF(K21=5,"MEDIO",IF(K21=6,"ALTO",IF(K21=7,"ALTO","EXTREMO")))) -> ALTO
B22: PLANEACIÓN | C22: ='IDENTIFICACION Y ANALISIS'!B24 -> Normativa aplicable desactualizada o inaplicada | H22: Vicios de procedimiento, nulidades, sanciones disciplinarias, impugnaciones | I22: 1 | J22: 4 | K22: =I22+J22 -> 5 | L22: =IF(K22<=4,"BAJO",IF(K22=5,"MEDIO",IF(K22=6,"ALTO",IF(K22=7,"ALTO","EXTREMO")))) -> MEDIO
B23: PLANEACIÓN | C23: ='IDENTIFICACION Y ANALISIS'!B25 -> Factores ambientales y climáticos que afectan la planeación de eventos | H23: Cancelación o reprogramación de eventos, insatisfacción de la comunidad, incumplimiento de metas de beneficiarios | I23: 3 | J23: 3 | K23: =I23+J23 -> 6 | L23: =IF(K23<=4,"BAJO",IF(K23=5,"MEDIO",IF(K23=6,"ALTO",IF(K23=7,"ALTO","EXTREMO")))) -> ALTO
B24: PLANEACIÓN | C24: ='IDENTIFICACION Y ANALISIS'!B26 -> Requisitos habilitantes inapropiados | H24: Ausencia de proponentes habilitados, declaratoria de desierto, o adjudicación a proponentes sin capacidad real de ejecución | I24: 2 | J24: 4 | K24: =I24+J24 -> 6 | L24: =IF(K24<=4,"BAJO",IF(K24=5,"MEDIO",IF(K24=6,"ALTO",IF(K24=7,"ALTO","EXTREMO")))) -> ALTO
B25: PLANEACIÓN | C25: ='IDENTIFICACION Y ANALISIS'!B27 -> Requisitos que impidan la selección objetiva | H25: Nulidad del proceso, investigaciones disciplinarias y penales, pérdida de la meta de la vigencia 2026 | I25: 1 | J25: 5 | K25: =I25+J25 -> 6 | L25: =IF(K25<=4,"BAJO",IF(K25=5,"MEDIO",IF(K25=6,"ALTO",IF(K25=7,"ALTO","EXTREMO")))) -> ALTO
B26: PLANEACIÓN | C26: ='IDENTIFICACION Y ANALISIS'!B28 -> Inadecuado análisis del entorno socioambiental de Ciudad Bolívar | H26: Dificultad para ejecutar los componentes en zonas rurales, riesgo para beneficiarios y personal del contratista | I26: 3 | J26: 4 | K26: =I26+J26 -> 7 | L26: =IF(K26<=4,"BAJO",IF(K26=5,"MEDIO",IF(K26=6,"ALTO",IF(K26=7,"ALTO","EXTREMO")))) -> ALTO
B27: ='IDENTIFICACION Y ANALISIS'!C29 -> SELECCIÓN | C27: ='IDENTIFICACION Y ANALISIS'!B30 -> Presentación de ofertas con precios artificialmente bajos | H27: Incumplimiento contractual, mala calidad de los eventos, afectación a los 2.000 beneficiarios, imposición de multas y sanciones | I27: 3 | J27: 4 | K27: =I27+J27 -> 7 | L27: =IF(K27<=4,"BAJO",IF(K27=5,"MEDIO",IF(K27=6,"ALTO",IF(K27=7,"ALTO","EXTREMO")))) -> ALTO
B28: SELECCIÓN | C28: ='IDENTIFICACION Y ANALISIS'!B31 -> Impugnación o recurso de apelación contra la evaluación | H28: Retraso en la adjudicación, riesgo de no inicio oportuno del contrato, pérdida de la meta de la vigencia 2026 | I28: 3 | J28: 3 | K28: =I28+J28 -> 6 | L28: =IF(K28<=4,"BAJO",IF(K28=5,"MEDIO",IF(K28=6,"ALTO",IF(K28=7,"ALTO","EXTREMO")))) -> ALTO
B29: SELECCIÓN | C29: ='IDENTIFICACION Y ANALISIS'!B32 -> Declaratoria de desierto del proceso | H29: Pérdida de la vigencia presupuestal, incumplimiento de metas del Plan de Desarrollo Local, necesidad de adelantar un nuevo proceso | I29: 2 | J29: 5 | K29: =I29+J29 -> 7 | L29: =IF(K29<=4,"BAJO",IF(K29=5,"MEDIO",IF(K29=6,"ALTO",IF(K29=7,"ALTO","EXTREMO")))) -> ALTO
B30: SELECCIÓN | C30: ='IDENTIFICACION Y ANALISIS'!B33 -> Conflicto de interés en el comité evaluador | H30: Nulidad de la adjudicación, investigaciones disciplinarias, penales y fiscales, desconfianza institucional | I30: 1 | J30: 5 | K30: =I30+J30 -> 6 | L30: =IF(K30<=4,"BAJO",IF(K30=5,"MEDIO",IF(K30=6,"ALTO",IF(K30=7,"ALTO","EXTREMO")))) -> ALTO
B31: SELECCIÓN | C31: ='IDENTIFICACION Y ANALISIS'!B34 -> Filtraciones de información durante el proceso de selección | H31: Desequilibrio en la competencia, posibles actos de corrupción, investigaciones disciplinarias | I31: 1 | J31: 5 | K31: =I31+J31 -> 6 | L31: =IF(K31<=4,"BAJO",IF(K31=5,"MEDIO",IF(K31=6,"ALTO",IF(K31=7,"ALTO","EXTREMO")))) -> ALTO
B32: SELECCIÓN | C32: ='IDENTIFICACION Y ANALISIS'!B35 -> Manipulación del proceso licitatorio (colusión entre oferentes) | H32: Afectación de la libre competencia, investigación por prácticas anticompetitivas ante la SIC, daño al erario | I32: 2 | J32: 5 | K32: =I32+J32 -> 7 | L32: =IF(K32<=4,"BAJO",IF(K32=5,"MEDIO",IF(K32=6,"ALTO",IF(K32=7,"ALTO","EXTREMO")))) -> ALTO
B33: ='IDENTIFICACION Y ANALISIS'!C36 -> CONTRATACIÓN | C33: ='IDENTIFICACION Y ANALISIS'!B37 -> Retrasos en la firma del contrato | H33: Retraso en el inicio de ejecución, riesgo de pérdida de la vigencia presupuestal 2026, incumplimiento de metas | I33: 3 | J33: 4 | K33: =I33+J33 -> 7 | L33: =IF(K33<=4,"BAJO",IF(K33=5,"MEDIO",IF(K33=6,"ALTO",IF(K33=7,"ALTO","EXTREMO")))) -> ALTO
B34: CONTRATACIÓN | C34: ='IDENTIFICACION Y ANALISIS'!B38 -> Falta o tardanza del registro presupuestal (RP) | H34: Imposibilidad de iniciar la ejecución del contrato, pérdida de la vigencia presupuestal 2026 | I34: 2 | J34: 4 | K34: =I34+J34 -> 6 | L34: =IF(K34<=4,"BAJO",IF(K34=5,"MEDIO",IF(K34=6,"ALTO",IF(K34=7,"ALTO","EXTREMO")))) -> ALTO
B35: CONTRATACIÓN | C35: ='IDENTIFICACION Y ANALISIS'!B39 -> Inconsistencias o insuficiencias en las pólizas y garantías | H35: Desprotección de la entidad ante incumplimientos, perjuicios económicos al erario | I35: 2 | J35: 4 | K35: =I35+J35 -> 6 | L35: =IF(K35<=4,"BAJO",IF(K35=5,"MEDIO",IF(K35=6,"ALTO",IF(K35=7,"ALTO","EXTREMO")))) -> ALTO
B36: CONTRATACIÓN | C36: ='IDENTIFICACION Y ANALISIS'!B40 -> Reclamos de terceros | H36: Suspensión del contrato, intervención de entes de control, retrasos en la ejecución | I36: 2 | J36: 3 | K36: =I36+J36 -> 5 | L36: =IF(K36<=4,"BAJO",IF(K36=5,"MEDIO",IF(K36=6,"ALTO",IF(K36=7,"ALTO","EXTREMO")))) -> MEDIO
B37: ='IDENTIFICACION Y ANALISIS'!C41 -> EJECUCIÓN | C37: ='IDENTIFICACION Y ANALISIS'!B42 -> Incumplimiento parcial o total del contratista | H37: No se alcanza la meta de 2.000 beneficiarios, afectación a comunidades priorizadas, imposición de multas, posible liquidación unilateral | I37: 3 | J37: 5 | K37: =I37+J37 -> 8 | L37: =IF(K37<=4,"BAJO",IF(K37=5,"MEDIO",IF(K37=6,"ALTO",IF(K37=7,"ALTO","EXTREMO")))) -> EXTREMO
B38: EJECUCIÓN | C38: ='IDENTIFICACION Y ANALISIS'!B43 -> Insuficiencia del talento humano del contratista | H38: Deficiente calidad de los eventos, riesgos para la seguridad de los beneficiarios, reclamaciones de la comunidad | I38: 3 | J38: 4 | K38: =I38+J38 -> 7 | L38: =IF(K38<=4,"BAJO",IF(K38=5,"MEDIO",IF(K38=6,"ALTO",IF(K38=7,"ALTO","EXTREMO")))) -> ALTO
B39: EJECUCIÓN | C39: ='IDENTIFICACION Y ANALISIS'!B44 -> Eventos de orden público que impidan la realización de actividades | H39: Cancelación o suspensión de eventos, riesgo para beneficiarios y personal, incumplimiento de metas | I39: 3 | J39: 4 | K39: =I39+J39 -> 7 | L39: =IF(K39<=4,"BAJO",IF(K39=5,"MEDIO",IF(K39=6,"ALTO",IF(K39=7,"ALTO","EXTREMO")))) -> ALTO
B40: EJECUCIÓN | C40: ='IDENTIFICACION Y ANALISIS'!B45 -> Fenómenos climáticos o de la naturaleza durante la ejecución | H40: Cancelación de eventos, accidentes de beneficiarios, costos adicionales de reprogramación, incumplimiento de metas | I40: 4 | J40: 3 | K40: =I40+J40 -> 7 | L40: =IF(K40<=4,"BAJO",IF(K40=5,"MEDIO",IF(K40=6,"ALTO",IF(K40=7,"ALTO","EXTREMO")))) -> ALTO
B41: EJECUCIÓN | C41: ='IDENTIFICACION Y ANALISIS'!B46 -> Desequilibrio económico del contrato por variación de precios | H41: Solicitudes de adición o desequilibrio económico por parte del contratista, riesgo de incumplimiento, reclamaciones | I41: 3 | J41: 3 | K41: =I41+J41 -> 6 | L41: =IF(K41<=4,"BAJO",IF(K41=5,"MEDIO",IF(K41=6,"ALTO",IF(K41=7,"ALTO","EXTREMO")))) -> ALTO
B42: EJECUCIÓN | C42: ='IDENTIFICACION Y ANALISIS'!B47 -> Inadecuada supervisión del contrato | H42: Pagos por actividades no ejecutadas, mala calidad de los eventos, imposibilidad de imponer sanciones oportunas, detrimento patrimonial | I42: 3 | J42: 5 | K42: =I42+J42 -> 8 | L42: =IF(K42<=4,"BAJO",IF(K42=5,"MEDIO",IF(K42=6,"ALTO",IF(K42=7,"ALTO","EXTREMO")))) -> EXTREMO
B43: EJECUCIÓN | C43: ='IDENTIFICACION Y ANALISIS'!B48 -> Incumplimiento de obligaciones laborales y de seguridad social por parte del contratista | H43: Reclamaciones laborales contra la entidad, investigaciones de la Inspección de Trabajo, afectación reputacional | I43: 3 | J43: 3 | K43: =I43+J43 -> 6 | L43: =IF(K43<=4,"BAJO",IF(K43=5,"MEDIO",IF(K43=6,"ALTO",IF(K43=7,"ALTO","EXTREMO")))) -> ALTO
B44: EJECUCIÓN | C44: ='IDENTIFICACION Y ANALISIS'!B49 -> Fallas tecnológicas en el registro y reporte de beneficiarios | H44: Observaciones de Contraloría, imposibilidad de certificar el cumplimiento de la meta del proyecto 2249, hallazgos fiscales | I44: 3 | J44: 4 | K44: =I44+J44 -> 7 | L44: =IF(K44<=4,"BAJO",IF(K44=5,"MEDIO",IF(K44=6,"ALTO",IF(K44=7,"ALTO","EXTREMO")))) -> ALTO
B45: EJECUCIÓN | C45: ='IDENTIFICACION Y ANALISIS'!B50 -> Afectaciones ambientales derivadas de la realización de eventos masivos | H45: Sanciones de la autoridad ambiental (SDA), quejas de la comunidad, daños al espacio público, afectación reputacional de la entidad | I45: 2 | J45: 3 | K45: =I45+J45 -> 5 | L45: =IF(K45<=4,"BAJO",IF(K45=5,"MEDIO",IF(K45=6,"ALTO",IF(K45=7,"ALTO","EXTREMO")))) -> MEDIO
...

Sheet EVALUACION CON CONTROLES
C2: MATRIZ DE RIESGOS DE CONTRATACIÓN | Q2: Código: GCO-GCI-F164 Versión: 02 Vigencia: 01 de diciembre de 2022 Caso HOLA: 280117
B6: =+EVALUACION!B6 -> Objeto Contractual: PRESTAR LOS SERVICIOS INTEGRALES PARA LA REALIZACIÓN DE LOS EVENTOS RECREATIVOS Y DEPORTIVOS EN LOCALIDAD DE CIUDAD BOLÍVAR, EN EL MARCO DEL PLAN DE DESARROLLO LOCAL 2025-2028.
B7: INSTRUCCIONES PARA LA IDENTIFICACIÓN, ANALISIS, EVALUACIÓN , ASIGNACIÓN Y TRATAMIENTO DE RIESGOS EN LA CONTRATACIÓN
B8: 1) Describa el tratamiento/controles a ser implementados
B9: 2) Diligencie la información de las siguientes columnas, de acuerdo con el análisis realizado a cada riesgo: Afecta el equilibrio económico, persona responsable de implementar el tratamiento, fecha estimada de inicio del tratamiento, fecha estimada en la que se completa el tratamiento, cómo se realiza el monitoreo y la periodicidad.
B10: 3) Continúe en la hoja de "ASIGNACIÓN Y TRATAMIENTO" y diligencie las siguientes casillas: A quien se le asigna y el porcentaje que asume cada una de las partes en caso de que sea compartido.
B15: ETAPA | C15: Descripción (Que puede pasar y, cómo puede ocurrir) | G15: Tratamiento/Controles a ser implementados | I15: Probabilidad de Ocurrencia | J15: Impacto | K15: Calificación Total | L15: Prioridad | M15: ¿Afecta el equilibrio económico del contrato? | N15: Persona responsable por implementar el tratamiento | O15: Fecha estimada en que se inicia el tratamiento | P15: Fecha estimada en que se completa el tratamiento | Q15: ¿Cómo se realiza el monitoreo? | R15: Periodicidad ¿Cuándo?
B16: =+EVALUACION!B17 -> PLANEACIÓN | C16: =+EVALUACION!C17 -> Inadecuada escogencia de la modalidad de contratación | G16: Verificación jurídica previa por la Dirección de Contratación | I16: =+EVALUACION!I17 -> 1 | J16: =+EVALUACION!J17 -> 5 | K16: =+I16+J16 -> 6 | L16: =IF(K16<=4,"BAJO",IF(K16=5,"MEDIO",IF(K16=6,"ALTO",IF(K16=7,"ALTO","EXTREMO")))) -> ALTO | M16: NO | N16: Coordinación Área de Contratación FDLCB | O16: Planeación (mes 1) | P16: Publicación pliego | Q16: Lista de chequeo jurídica validando modalidad, objeto y cuantía antes de publicación | R16: Revisión única previa
B17: =+EVALUACION!B18 -> PLANEACIÓN | C17: =+EVALUACION!C18 -> Insuficiencia o imprecisión en el Anexo Técnico | G17: Revisión técnica del Anexo por el área requirente y validación con IDRD | I17: =+EVALUACION!I18 -> 3 | J17: =+EVALUACION!J18 -> 4 | K17: =+I17+J17 -> 7 | L17: =IF(K17<=4,"BAJO",IF(K17=5,"MEDIO",IF(K17=6,"ALTO",IF(K17=7,"ALTO","EXTREMO")))) -> ALTO | M17: SI | N17: Área Técnica / IDRD / FDLCB | O17: Planeación (mes 1) | P17: Publicación pliego | Q17: Mesas técnicas con actas de validación del Anexo Técnico y revisión cruzada con IDRD | R17: Mesa técnica semanal
B18: =+EVALUACION!B19 -> PLANEACIÓN | C18: =+EVALUACION!C19 -> Inadecuada estimación del presupuesto oficial | G18: Estudio de mercado robusto con mínimo 3 cotizaciones verificadas | I18: =+EVALUACION!I19 -> 2 | J18: =+EVALUACION!J19 -> 5 | K18: =+I18+J18 -> 7 | L18: =IF(K18<=4,"BAJO",IF(K18=5,"MEDIO",IF(K18=6,"ALTO",IF(K18=7,"ALTO","EXTREMO")))) -> ALTO | M18: SI | N18: Área Financiera / Planeación | O18: Planeación (mes 1) | P18: Publicación pliego | Q18: Comparación de cotizaciones, estudio de mercado documentado y validación financiera | R18: Validación previa única
B19: =+EVALUACION!B20 -> PLANEACIÓN | C19: =+EVALUACION!C20 -> Inadecuada elaboración de estudios previos y del sector | G19: Revisión y aprobación por comité técnico-jurídico | I19: =+EVALUACION!I20 -> 2 | J19: =+EVALUACION!J20 -> 4 | K19: =+I19+J19 -> 6 | L19: =IF(K19<=4,"BAJO",IF(K19=5,"MEDIO",IF(K19=6,"ALTO",IF(K19=7,"ALTO","EXTREMO")))) -> ALTO | M19: NO | N19: Comité Técnico-Jurídico | O19: Planeación (mes 1) | P19: Publicación pliego | Q19: Revisión integral de estudios previos mediante lista de verificación técnico-jurídica | R19: Revisión documental única
B20: =+EVALUACION!B21 -> PLANEACIÓN | C20: =+EVALUACION!C21 -> Falta o tardanza en el registro presupuestal (CDP) | G20: Gestión oportuna ante la Subdirección Financiera del FDL | I20: =+EVALUACION!I21 -> 2 | J20: =+EVALUACION!J21 -> 5 | K20: =+I20+J20 -> 7 | L20: =IF(K20<=4,"BAJO",IF(K20=5,"MEDIO",IF(K20=6,"ALTO",IF(K20=7,"ALTO","EXTREMO")))) -> ALTO | M20: SI | N20: Area Financiera FDLCB | O20: Planeación (mes 1) | P20: Apertura proceso | Q20: Control mediante cronograma financiero y verificación de expedición del CDP | R20: Seguimiento semanal
B21: =+EVALUACION!B22 -> PLANEACIÓN | C21: =+EVALUACION!C22 -> Normativa aplicable desactualizada o inaplicada | G21: Revisión jurídica permanente de la normatividad vigente | I21: =+EVALUACION!I22 -> 1 | J21: =+EVALUACION!J22 -> 4 | K21: =+I21+J21 -> 5 | L21: =IF(K21<=4,"BAJO",IF(K21=5,"MEDIO",IF(K21=6,"ALTO",IF(K21=7,"ALTO","EXTREMO")))) -> MEDIO | M21: NO | N21: Área Jurídica FDLCB | O21: Planeación (mes 1) | P21: Publicación pliego | Q21: Matriz de cumplimiento normativo y revisión jurídica antes de publicación | R21: Control normativo permanente
B22: =+EVALUACION!B23 -> PLANEACIÓN | C22: =+EVALUACION!C23 -> Factores ambientales y climáticos que afectan la planeación de eventos | G22: Cronograma flexible y planes de contingencia climática | I22: =+EVALUACION!I23 -> 3 | J22: =+EVALUACION!J23 -> 3 | K22: =+I22+J22 -> 6 | L22: =IF(K22<=4,"BAJO",IF(K22=5,"MEDIO",IF(K22=6,"ALTO",IF(K22=7,"ALTO","EXTREMO")))) -> ALTO | M22: NO | N22: Área Técnica / Contratista | O22: Planeación | P22: Ejecución | Q22: Seguimiento a pronósticos climáticos y ajustes documentados al cronograma | R22: Seguimiento mensual
B23: =+EVALUACION!B24 -> PLANEACIÓN | C23: =+EVALUACION!C24 -> Requisitos habilitantes inapropiados | G23: Revisión por abogado especialista y publicación anticipada del borrador | I23: =+EVALUACION!I24 -> 2 | J23: =+EVALUACION!J24 -> 4 | K23: =+I23+J23 -> 6 | L23: =IF(K23<=4,"BAJO",IF(K23=5,"MEDIO",IF(K23=6,"ALTO",IF(K23=7,"ALTO","EXTREMO")))) -> ALTO | M23: NO | N23: Área Jurídica / Área Técnica | O23: Planeación | P23: Publicación pliego | Q23: Revisión jurídica de requisitos habilitantes y observaciones al pliego | R23: Revisión previa
B24: =+EVALUACION!B25 -> PLANEACIÓN | C24: =+EVALUACION!C25 -> Requisitos que impidan la selección objetiva | G24: Revisión por segunda instancia jurídica y control de legalidad | I24: =+EVALUACION!I25 -> 1 | J24: =+EVALUACION!J25 -> 5 | K24: =+I24+J24 -> 6 | L24: =IF(K24<=4,"BAJO",IF(K24=5,"MEDIO",IF(K24=6,"ALTO",IF(K24=7,"ALTO","EXTREMO")))) -> ALTO | M24: NO | N24: Área Jurídica FDLCB | O24: Planeación | P24: Publicación pliego | Q24: Validación de factores de evaluación mediante control de legalidad | R24: Control previo único
B25: =+EVALUACION!B26 -> PLANEACIÓN | C25: =+EVALUACION!C26 -> Inadecuado análisis del entorno socioambiental de Ciudad Bolívar | G25: Articulación con la Alcaldía Local y diagnóstico territorial previo | I25: =+EVALUACION!I26 -> 3 | J25: =+EVALUACION!J26 -> 4 | K25: =+I25+J25 -> 7 | L25: =IF(K25<=4,"BAJO",IF(K25=5,"MEDIO",IF(K25=6,"ALTO",IF(K25=7,"ALTO","EXTREMO")))) -> ALTO | M25: NO | N25: Alcaldía Local / Área Social | O25: Planeación | P25: Inicio ejecución | Q25: Informes de diagnóstico territorial y actas de articulación con actores locales | R25: Seguimiento mensual
B26: =+EVALUACION!B27 -> SELECCIÓN | C26: =+EVALUACION!C27 -> Presentación de ofertas con precios artificialmente bajos | G26: Aplicar el análisis de precios artificialmente bajos (Art. 2.2.1.2.1.2.6 Dto. 1082/15) | I26: =+EVALUACION!I27 -> 3 | J26: =+EVALUACION!J27 -> 4 | K26: =+I26+J26 -> 7 | L26: =IF(K26<=4,"BAJO",IF(K26=5,"MEDIO",IF(K26=6,"ALTO",IF(K26=7,"ALTO","EXTREMO")))) -> ALTO | M26: SI | N26: Comité Evaluador | O26: Selección | P26: Adjudicación | Q26: Aplicación de análisis de precios artificialmente bajos y requerimientos al oferente | R26: Evaluación por evento
B27: =+EVALUACION!B28 -> SELECCIÓN | C27: =+EVALUACION!C28 -> Impugnación o recurso de apelación contra la evaluación | G27: Evaluaciones técnicas y jurídicas sustentadas y documentadas | I27: =+EVALUACION!I28 -> 3 | J27: =+EVALUACION!J28 -> 3 | K27: =+I27+J27 -> 6 | L27: =IF(K27<=4,"BAJO",IF(K27=5,"MEDIO",IF(K27=6,"ALTO",IF(K27=7,"ALTO","EXTREMO")))) -> ALTO | M27: NO | N27: Comité Evaluador / Área Jurídica | O27: Selección | P27: Adjudicación | Q27: Seguimiento a SECOP y control de tiempos de respuesta a observaciones y recursos | R27: Seguimiento por etapa
... B49: =+EVALUACION!B50 -> EJECUCIÓN | C49: =+EVALUACION!C50 -> Insuficiencia de implementos deportivos para atender los beneficiarios | G49: Verificar entrega de implementos como hito previo a cada componente | I49: =+EVALUACION!I50 -> 2 | J49: =+EVALUACION!J50 -> 3 | K49: =+I49+J49 -> 5 | L49: =IF(K49<=4,"BAJO",IF(K49=5,"MEDIO",IF(K49=6,"ALTO",IF(K49=7,"ALTO","EXTREMO")))) -> MEDIO | M49: NO | N49: Supervisor / Contratista | O49: Ejecución | P49: Finalización | Q49: Verificación de inventarios, actas de entrega y control de calidad de implementos | R49: Verificación por evento
C51: Categoría del Riesgo | H51: Impacto del Riesgo
B52: Probabilidad | C52: Categoría | F52: Valoración | H52: Categoría | J52: Valoración | N52: Categoría del Riesgo
C53: Raro (puede ocurrir excepcionalmente) | F53: 1 | H53: Insignificante | J53: 1 | N53: Valoración del Riesgo | P53: Categoría
C54: Improbable (puede ocurrir ocasionalmente) | F54: 2 | H54: Menor | J54: 2 | N54: 8, 9 y 10 | P54: Riesgo extremo
C55: Posible (puede ocurrir en cualquier momento futuro) | F55: 3 | H55: Moderado | J55: 3 | N55: 6 y 7 | P55: Riesgo alto
C56: Probable (probablemente va a ocurrir) | F56: 4 | H56: Mayor | J56: 4 | N56: 5 | P56: Riesgo medio
C57: Casi cierto (ocurre en la mayoría de circunstancias) | F57: 5 | H57: Catastrófico | J57: 5 | N57: 2, 3 y 4 | P57: Riesgo bajo
C59: Valoración del Riesgo
C60: Calificación Cualitativa | G60: Obstruye la ejecución del contrato de manera intrascendente. | I60: Dificulta la ejecución del contrato de manera baja, aplicando medidas mínimas se pueden lograr el objeto contractual | L60: Afecta la ejecución del contrato sin alterar el beneficio para las partes | N60: Obstruye la ejecución del contrato sustancialmente pero aun así permite la consecución del objeto contractual | P60: Perturba la ejecución del contrato de manera grave imposibilitando la consecución del objeto contractual.
C61: Calificación Monetaria | G61: Los sobrecostos no representan más del uno por ciento (1%) del valor del contrato. | I61: Los sobrecostos no representan más del cinco por ciento (5%) del valor del contrato. | L61: Genera un impacto sobre el valor del contrato entre el cinco (5%) y el quince por ciento (15%). | N61: Incrementa el valor del contrato entre el quince (15%) y el treinta por ciento (30%). | P61: Impacto sobre el valor del contrato en más del treinta por ciento (30%).
C62: Categoría | F62: Valoración | G62: Insignificante | I62: Menor | L62: Moderado | N62: Mayor | P62: Catastrófico
G63: 1 | I63: 2 | L63: 3 | N63: 4 | P63: 5
C64: Raro (puede ocurrir excepcionalmente) | F64: 1 | G64: 2 | I64: 3 | L64: 4 | N64: 5 | P64: 6
C65: Improbable (puede ocurrir ocasionalmente) | F65: 2 | G65: 3 | I65: 4 | L65: 5 | N65: 6 | P65: 7
C66: Posible (puede ocurrir en cualquier momento futuro) | F66: 3 | G66: 4 | I66: 5 | L66: 6 | N66: 7 | P66: 8
C67: Probable (probablemente va a ocurrir) | F67: 4 | G67: 5 | I67: 6 | L67: 7 | N67: 8 | P67: 9
C68: Casi cierto (ocurre en la mayoría de circunstancias) | F68: 5 | G68: 6 | I68: 7 | L68: 8 | N68: 9 | P68: 10

Sheet ASIGNACION Y TRATAMIENTO
C2: MATRIZ DE RIESGOS DE CONTRATACIÓN | W2: Código: GCO-GCI-F164 Versión: 02 Vigencia: 01 de diciembre de 2022 Caso HOLA: 280117
B6: =+EVALUACION!B6 -> Objeto Contractual: PRESTAR LOS SERVICIOS INTEGRALES PARA LA REALIZACIÓN DE LOS EVENTOS RECREATIVOS Y DEPORTIVOS EN LOCALIDAD DE CIUDAD BOLÍVAR, EN EL MARCO DEL PLAN DE DESARROLLO LOCAL 2025-2028.
B7: Esta matriz es un documento anexo del Estudio Previo
B10: No | C10: Descripción (Que puede pasar y, cómo puede ocurrir) | D10: Etapa | E10: Clase | F10: Fuente | G10: Consecuencias de la ocurrencia del evento | H10: Probabilidad | I10: Impacto | J10: Calificación total | K10: Prioridad | L10: ¿A quien se le asigna? | M10: % | N10: Tratamiento/Controles a ser implementados | O10: Probabilidad | P10: Impacto | Q10: Calificación total | R10: Prioridad | S10: ¿Afecta el equilibrio económico del contrato? | T10: Persona responsable por implementar el tratamiento | U10: Fecha estimada en que se inicia el tratamiento | V10: Fecha estimada en que se completa el tratamiento | W10: ¿Cómo se realiza el monitoreo | X10: Periodicidad ¿Cuándo?
B11: 1 | C11: =+'EVALUACION CON CONTROLES'!C16:F16 -> Inadecuada escogencia de la modalidad de contratación | D11: =+'EVALUACION CON CONTROLES'!B16 -> PLANEACIÓN | E11: =VLOOKUP(C11,'IDENTIFICACION Y ANALISIS'!$B$19:$F$55,3,FALSE) -> Especifico | F11: =VLOOKUP(C11,'IDENTIFICACION Y ANALISIS'!$B$19:$F$55,4,FALSE) -> Interno | G11: =+EVALUACION!H17 -> Nulidad del proceso, demoras administrativas, impugnaciones por parte de oferentes, declaratoria de desierto | H11: =+EVALUACION!I17 -> 1 | I11: =+EVALUACION!J17 -> 5 | J11: =+EVALUACION!K17 -> 6 | K11: =+EVALUACION!L17 -> ALTO | L11: SDG | M11: 1 | N11: =+'EVALUACION CON CONTROLES'!G16 -> Verificación jurídica previa por la Dirección de Contratación | O11: =+'EVALUACION CON CONTROLES'!I16 -> 1 | P11: =+'EVALUACION CON CONTROLES'!J16 -> 5 | Q11: =+'EVALUACION CON CONTROLES'!K16 -> 6 | R11: =+'EVALUACION CON CONTROLES'!L16 -> ALTO | S11: =+'EVALUACION CON CONTROLES'!M16 -> NO | T11: =+'EVALUACION CON CONTROLES'!N16 -> Coordinación Área de Contratación FDLCB | U11: =+'EVALUACION CON CONTROLES'!O16 -> Planeación (mes 1) | V11: =+'EVALUACION CON CONTROLES'!P16 -> Publicación pliego | ... X11: =+'EVALUACION CON CONTROLES'!R16 -> Revisión única previa
B12: 2 | C12: =+'EVALUACION CON CONTROLES'!C17:F17 -> Insuficiencia o imprecisión en el Anexo Técnico | D12: =+'EVALUACION CON CONTROLES'!B17 -> PLANEACIÓN | E12: =VLOOKUP(C12,'IDENTIFICACION Y ANALISIS'!$B$19:$F$55,3,FALSE) -> Especifico | F12: =VLOOKUP(C12,'IDENTIFICACION Y ANALISIS'!$B$19:$F$55,4,FALSE) -> Interno | G12: =+EVALUACION!H18 -> Propuestas no comparables, incumplimientos en ejecución, reclamaciones contractuales, imposibilidad de lograr las metas del proyecto 2249 | H12: =+EVALUACION!I18 -> 3 | I12: =+EVALUACION!J18 -> 4 | J12: =+EVALUACION!K18 -> 7 | K12: =+EVALUACION!L18 -> ALTO | L12: SDG | M12: 1 | N12: =+'EVALUACION CON CONTROLES'!G17 -> Revisión técnica del Anexo por el área requirente y validación con IDRD | O12: =+'EVALUACION CON CONTROLES'!I17 -> 3 | P12: =+'EVALUACION CON CONTROLES'!J17 -> 4 | Q12: =+'EVALUACION CON CONTROLES'!K17 -> 7 | R12: =+'EVALUACION CON CONTROLES'!L17 -> ALTO | S12: =+'EVALUACION CON CONTROLES'!M17 -> SI | T12: =+'EVALUACION CON CONTROLES'!N17 -> Área Técnica / IDRD / FDLCB | U12: =+'EVALUACION CON CONTROLES'!O17 -> Planeación (mes 1) | V12: =+'EVALUACION CON CONTROLES'!P17 -> Publicación pliego | ... X12: =+'EVALUACION CON CONTROLES'!R17 -> Mesa técnica semanal
B13: 3 | C13: =+'EVALUACION CON CONTROLES'!C18:F18 -> Inadecuada estimación del presupuesto oficial | D13: =+'EVALUACION CON CONTROLES'!B18 -> PLANEACIÓN | E13: =VLOOKUP(C13,'IDENTIFICACION Y ANALISIS'!$B$19:$F$55,3,FALSE) -> Especifico | F13: =VLOOKUP(C13,'IDENTIFICACION Y ANALISIS'!$B$19:$F$55,4,FALSE) -> Interno | G13: =+EVALUACION!H19 -> Propuestas con precios artificialmente bajos o altos, desequilibrio económico del contrato, incumplimientos del contratista, adiciones presupuestales | H13: =+EVALUACION!I19 -> 2 | I13: =+EVALUACION!J19 -> 5 | J13: =+EVALUACION!K19 -> 7 | K13: =+EVALUACION!L19 -> ALTO | L13: SDG | M13: 1 | N13: =+'EVALUACION CON CONTROLES'!G18 -> Estudio de mercado robusto con mínimo 3 cotizaciones verificadas | O13: =+'EVALUACION CON CONTROLES'!I18 -> 2 | P13: =+'EVALUACION CON CONTROLES'!J18 -> 5 | Q13: =+'EVALUACION CON CONTROLES'!K18 -> 7 | R13: =+'EVALUACION CON CONTROLES'!L18 -> ALTO | S13: =+'EVALUACION CON CONTROLES'!M18 -> SI | T13: =+'EVALUACION CON CONTROLES'!N18 -> Área Financiera / Planeación | U13: =+'EVALUACION CON CONTROLES'!O18 -> Planeación (mes 1) | V13: =+'EVALUACION CON CONTROLES'!P18 -> Publicación pliego | ... X13: =+'EVALUACION CON CONTROLES'!R18 -> Validación previa única
B14: 4 | C14: =+'EVALUACION CON CONTROLES'!C19:F19 -> Inadecuada elaboración de estudios previos y del sector | D14: =+'EVALUACION CON CONTROLES'!B19 -> PLANEACIÓN | E14: =VLOOKUP(C14,'IDENTIFICACION Y ANALISIS'!$B$19:$F$55,3,FALSE) -> Especifico | F14: =VLOOKUP(C14,'IDENTIFICACION Y ANALISIS'!$B$19:$F$55,4,FALSE) -> Interno | G14: =+EVALUACION!H20 -> Requisitos habilitantes mal calibrados, selección objetiva comprometida, impugnaciones, demandas | H14: =+EVALUACION!I20 -> 2 | I14: =+EVALUACION!J20 -> 4 | J14: =+EVALUACION!K20 -> 6 | K14: =+EVALUACION!L20 -> ALTO | L14: SDG | M14: 1 | N14: =+'EVALUACION CON CONTROLES'!G19 -> Revisión y aprobación por comité técnico-jurídico | O14: =+'EVALUACION CON CONTROLES'!I19 -> 2 | P14: =+'EVALUACION CON CONTROLES'!J19 -> 4 | Q14: =+'EVALUACION CON CONTROLES'!K19 -> 6 | R14: =+'EVALUACION CON CONTROLES'!L19 -> ALTO | S14: =+'EVALUACION CON CONTROLES'!M19 -> NO | T14: =+'EVALUACION CON CONTROLES'!N19 -> Comité Técnico-Jurídico | U14: =+'EVALUACION CON CONTROLES'!O19 -> Planeación (mes 1) | V14: =+'EVALUACION CON CONTROLES'!P19 -> Publicación pliego | ... X14: =+'EVALUACION CON CONTROLES'!R19 -> Revisión documental única
B15: 5 | C15: =+'EVALUACION CON CONTROLES'!C20:F20 -> Falta o tardanza en el registro presupuestal (CDP) | D15: =+'EVALUACION CON CONTROLES'!B20 -> PLANEACIÓN | E15: =VLOOKUP(C15,'IDENTIFICACION Y ANALISIS'!$B$19:$F$55,3,FALSE) -> Especifico | F15: =VLOOKUP(C15,'IDENTIFICACION Y ANALISIS'!$B$19:$F$55,4,FALSE) -> Interno | G15: =+EVALUACION!H21 -> Retraso en apertura del proceso, imposibilidad de publicar los documentos del proceso, incumplimiento de metas para la vigencia 2026 | H15: =+EVALUACION!I21 -> 2 | I15: =+EVALUACION!J21 -> 5 | J15: =+EVALUACION!K21 -> 7 | K15: =+EVALUACION!L21 -> ALTO | L15: SDG | M15: 1 | N15: =+'EVALUACION CON CONTROLES'!G20 -> Gestión oportuna ante la Subdirección Financiera del FDL | O15: =+'EVALUACION CON CONTROLES'!I20 -> 2 | P15: =+'EVALUACION CON CONTROLES'!J20 -> 5 | Q15: =+'EVALUACION CON CONTROLES'!K20 -> 7 | R15: =+'EVALUACION CON CONTROLES'!L20 -> ALTO | S15: =+'EVALUACION CON CONTROLES'!M20 -> SI | T15: =+'EVALUACION CON CONTROLES'!N20 -> Area Financiera FDLCB | U15: =+'EVALUACION CON CONTROLES'!O20 -> Planeación (mes 1) | V15: =+'EVALUACION CON CONTROLES'!P20 -> Apertura proceso | ... X15: =+'EVALUACION CON CONTROLES'!R20 -> Seguimiento semanal
B16: 6 | C16: =+'EVALUACION CON CONTROLES'!C21:F21 -> Normativa aplicable desactualizada o inaplicada | D16: =+'EVALUACION CON CONTROLES'!B21 -> PLANEACIÓN | E16: =VLOOKUP(C16,'IDENTIFICACION Y ANALISIS'!$B$19:$F$55,3,FALSE) -> Especifico | F16: =VLOOKUP(C16,'IDENTIFICACION Y ANALISIS'!$B$19:$F$55,4,FALSE) -> Interno | G16: =+EVALUACION!H22 -> Vicios de procedimiento, nulidades, sanciones disciplinarias, impugnaciones | H16: =+EVALUACION!I22 -> 1 | I16: =+EVALUACION!J22 -> 4 | J16: =+EVALUACION!K22 -> 5 | K16: =+EVALUACION!L22 -> MEDIO | L16: SDG | M16: 1 | N16: =+'EVALUACION CON CONTROLES'!G21 -> Revisión jurídica permanente de la normatividad vigente | O16: =+'EVALUACION CON CONTROLES'!I21 -> 1 | P16: =+'EVALUACION CON CONTROLES'!J21 -> 4 | Q16: =+'EVALUACION CON CONTROLES'!K21 -> 5 | R16: =+'EVALUACION CON CONTROLES'!L21 -> MEDIO | S16: =+'EVALUACION CON CONTROLES'!M21 -> NO | T16: =+'EVALUACION CON CONTROLES'!N21 -> Área Jurídica FDLCB | U16: =+'EVALUACION CON CONTROLES'!O21 -> Planeación (mes 1) | V16: =+'EVALUACION CON CONTROLES'!P21 -> Publicación pliego | ... X16: =+'EVALUACION CON CONTROLES'!R21 -> Control normativo permanente
B17: 7 | C17: =+'EVALUACION CON CONTROLES'!C22:F22 -> Factores ambientales y climáticos que afectan la planeación de eventos | D17: =+'EVALUACION CON CONTROLES'!B22 -> PLANEACIÓN | E17: =VLOOKUP(C17,'IDENTIFICACION Y ANALISIS'!$B$19:$F$55,3,FALSE) -> General | F17: =VLOOKUP(C17,'IDENTIFICACION Y ANALISIS'!$B$19:$F$55,4,FALSE) -> Externo | G17: =+EVALUACION!H23 -> Cancelación o reprogramación de eventos, insatisfacción de la comunidad, incumplimiento de metas de beneficiarios | H17: =+EVALUACION!I23 -> 3 | I17: =+EVALUACION!J23 -> 3 | J17: =+EVALUACION!K23 -> 6 | K17: =+EVALUACION!L23 -> ALTO | L17: CONTRATISTA Y SDG | M17: 0.5 | N17: =+'EVALUACION CON CONTROLES'!G22 -> Cronograma flexible y planes de contingencia climática | O17: =+'EVALUACION CON CONTROLES'!I22 -> 3 | P17: =+'EVALUACION CON CONTROLES'!J22 -> 3 | Q17: =+'EVALUACION CON CONTROLES'!K22 -> 6 | R17: =+'EVALUACION CON CONTROLES'!L22 -> ALTO | S17: =+'EVALUACION CON CONTROLES'!M22 -> NO | T17: =+'EVALUACION CON CONTROLES'!N22 -> Área Técnica / Contratista | U17: =+'EVALUACION CON CONTROLES'!O22 -> Planeación | V17: =+'EVALUACION CON CONTROLES'!P22 -> Ejecución | ... X17: =+'EVALUACION CON CONTROLES'!R22 -> Seguimiento mensual
B18: 8 | C18: =+'EVALUACION CON CONTROLES'!C23:F23 -> Requisitos habilitantes inapropiados | D18: =+'EVALUACION CON CONTROLES'!B23 -> PLANEACIÓN | E18: =VLOOKUP(C18,'IDENTIFICACION Y ANALISIS'!$B$19:$F$55,3,FALSE) -> Especifico | F18: =VLOOKUP(C18,'IDENTIFICACION Y ANALISIS'!$B$19:$F$55,4,FALSE) -> Interno | G18: =+EVALUACION!H24 -> Ausencia de proponentes habilitados, declaratoria de desierto, o adjudicación a proponentes sin capacidad real de ejecución | H18: =+EVALUACION!I24 -> 2 | I18: =+EVALUACION!J24 -> 4 | J18: =+EVALUACION!K24 -> 6 | K18: =+EVALUACION!L24 -> ALTO | L18: SDG | M18: 1 | N18: =+'EVALUACION CON CONTROLES'!G23 -> Revisión por abogado especialista y publicación anticipada del borrador | O18: =+'EVALUACION CON CONTROLES'!I23 -> 2 | P18: =+'EVALUACION CON CONTROLES'!J23 -> 4 | Q18: =+'EVALUACION CON CONTROLES'!K23 -> 6 | R18: =+'EVALUACION CON CONTROLES'!L23 -> ALTO | S18: =+'EVALUACION CON CONTROLES'!M23 -> NO | T18: =+'EVALUACION CON CONTROLES'!N23 -> Área Jurídica / Área Técnica | U18: =+'EVALUACION CON CONTROLES'!O23 -> Planeación | V18: =+'EVALUACION CON CONTROLES'!P23 -> Publicación pliego | ... X18: =+'EVALUACION CON CONTROLES'!R23 -> Revisión previa
B19: 9 | C19: =+'EVALUACION CON CONTROLES'!C24:F24 -> Requisitos que impidan la selección objetiva | D19: =+'EVALUACION CON CONTROLES'!B24 -> PLANEACIÓN | E19: =VLOOKUP(C19,'IDENTIFICACION Y ANALISIS'!$B$19:$F$55,3,FALSE) -> Especifico | F19: =VLOOKUP(C19,'IDENTIFICACION Y ANALISIS'!$B$19:$F$55,4,FALSE) -> Interno | G19: =+EVALUACION!H25 -> Nulidad del proceso, investigaciones disciplinarias y penales, pérdida de la meta de la vigencia 2026 | H19: =+EVALUACION!I25 -> 1 | I19: =+EVALUACION!J25 -> 5 | J19: =+EVALUACION!K25 -> 6 | K19: =+EVALUACION!L25 -> ALTO | L19: SDG | M19: 1 | N19: =+'EVALUACION CON CONTROLES'!G24 -> Revisión por segunda instancia jurídica y control de legalidad | O19: =+'EVALUACION CON CONTROLES'!I24 -> 1 | P19: =+'EVALUACION CON CONTROLES'!J24 -> 5 | Q19: =+'EVALUACION CON CONTROLES'!K24 -> 6 | R19: =+'EVALUACION CON CONTROLES'!L24 -> ALTO | S19: =+'EVALUACION CON CONTROLES'!M24 -> NO | T19: =+'EVALUACION CON CONTROLES'!N24 -> Área Jurídica FDLCB | U19: =+'EVALUACION CON CONTROLES'!O24 -> Planeación | V19: =+'EVALUACION CON CONTROLES'!P24 -> Publicación pliego | ... X19: =+'EVALUACION CON CONTROLES'!R24 -> Control previo único
B20: 10 | C20: =+'EVALUACION CON CONTROLES'!C25:F25 -> Inadecuado análisis del entorno socioambiental de Ciudad Bolívar | D20: =+'EVALUACION CON CONTROLES'!B25 -> PLANEACIÓN | E20: =VLOOKUP(C20,'IDENTIFICACION Y ANALISIS'!$B$19:$F$55,3,FALSE) -> Especifico | F20: =VLOOKUP(C20,'IDENTIFICACION Y ANALISIS'!$B$19:$F$55,4,FALSE) -> Interno | G20: =+EVALUACION!H26 -> Dificultad para ejecutar los componentes en zonas rurales, riesgo para beneficiarios y personal del contratista | H20: =+EVALUACION!I26 -> 3 | I20: =+EVALUACION!J26 -> 4 | J20: =+EVALUACION!K26 -> 7 | K20: =+EVALUACION!L26 -> ALTO | L20: SDG | M20: 1 | N20: =+'EVALUACION CON CONTROLES'!G25 -> Articulación con la Alcaldía Local y diagnóstico territorial previo | O20: =+'EVALUACION CON CONTROLES'!I25 -> 3 | P20: =+'EVALUACION CON CONTROLES'!J25 -> 4 | Q20: =+'EVALUACION CON CONTROLES'!K25 -> 7 | R20: =+'EVALUACION CON CONTROLES'!L25 -> ALTO | S20: =+'EVALUACION CON CONTROLES'!M25 -> NO | T20: =+'EVALUACION CON CONTROLES'!N25 -> Alcaldía Local / Área Social | U20: =+'EVALUACION CON CONTROLES'!O25 -> Planeación | V20: =+'EVALUACION CON CONTROLES'!P25 -> Inicio ejecución | ... X20: =+'EVALUACION CON CONTROLES'!R25 -> Seguimiento mensual
B21: 11 | C21: =+'EVALUACION CON CONTROLES'!C26:F26 -> Presentación de ofertas con precios artificialmente bajos | D21: =+'EVALUACION CON CONTROLES'!B26 -> SELECCIÓN | E21: =VLOOKUP(C21,'IDENTIFICACION Y ANALISIS'!$B$19:$F$55,3,FALSE) -> General | F21: =VLOOKUP(C21,'IDENTIFICACION Y ANALISIS'!$B$19:$F$55,4,FALSE) -> Externo | G21: =+EVALUACION!H27 -> Incumplimiento contractual, mala calidad de los eventos, afectación a los 2.000 beneficiarios, imposición de multas y sanciones | H21: =+EVALUACION!I27 -> 3 | I21: =+EVALUACION!J27 -> 4 | J21: =+EVALUACION!K27 -> 7 | K21: =+EVALUACION!L27 -> ALTO | L21: CONTRATISTA Y SDG | M21: 0.5 | N21: =+'EVALUACION CON CONTROLES'!G26 -> Aplicar el análisis de precios artificialmente bajos (Art. 2.2.1.2.1.2.6 Dto. 1082/15) | O21: =+'EVALUACION CON CONTROLES'!I26 -> 3 | P21: =+'EVALUACION CON CONTROLES'!J26 -> 4 | Q21: =+'EVALUACION CON CONTROLES'!K26 -> 7 | R21: =+'EVALUACION CON CONTROLES'!L26 -> ALTO | S21: =+'EVALUACION CON CONTROLES'!M26 -> SI | T21: =+'EVALUACION CON CONTROLES'!N26 -> Comité Evaluador | U21: =+'EVALUACION CON CONTROLES'!O26 -> Selección | V21: =+'EVALUACION CON CONTROLES'!P26 -> Adjudicación | ... X21: =+'EVALUACION CON CONTROLES'!R26 -> Evaluación por evento
B22: 12 | C22: =+'EVALUACION CON CONTROLES'!C27:F27 -> Impugnación o recurso de apelación contra la evaluación | D22: =+'EVALUACION CON CONTROLES'!B27 -> SELECCIÓN | E22: =VLOOKUP(C22,'IDENTIFICACION Y ANALISIS'!$B$19:$F$55,3,FALSE) -> General | F22: =VLOOKUP(C22,'IDENTIFICACION Y ANALISIS'!$B$19:$F$55,4,FALSE) -> Externo | G22: =+EVALUACION!H28 -> Retraso en la adjudicación, riesgo de no inicio oportuno del contrato, pérdida de la meta de la vigencia 2026 | H22: =+EVALUACION!I28 -> 3 | I22: =+EVALUACION!J28 -> 3 | J22: =+EVALUACION!K28 -> 6 | K22: =+EVALUACION!L28 -> ALTO | L22: SDG | M22: 1 | N22: =+'EVALUACION CON CONTROLES'!G27 -> Evaluaciones técnicas y jurídicas sustentadas y documentadas | O22: =+'EVALUACION CON CONTROLES'!I27 -> 3 | P22: =+'EVALUACION CON CONTROLES'!J27 -> 3 | Q22: =+'EVALUACION CON CONTROLES'!K27 -> 6 | R22: =+'EVALUACION CON CONTROLES'!L27 -> ALTO | S22: =+'EVALUACION CON CONTROLES'!M27 -> NO | T22: =+'EVALUACION CON CONTROLES'!N27 -> Comité Evaluador / Área Jurídica | U22: =+'EVALUACION CON CONTROLES'!O27 -> Selección | V22: =+'EVALUACION CON CONTROLES'!P27 -> Adjudicación | ... X22: =+'EVALUACION CON CONTROLES'!R27 -> Seguimiento por etapa
... B44: 34 | C44: =+'EVALUACION CON CONTROLES'!C49:F49 -> Insuficiencia de implementos deportivos para atender los beneficiarios | D44: =+'EVALUACION CON CONTROLES'!B49 -> EJECUCIÓN | E44: =VLOOKUP(C44,'IDENTIFICACION Y ANALISIS'!$B$19:$F$55,3,FALSE) -> Especifico | F44: =VLOOKUP(C44,'IDENTIFICACION Y ANALISIS'!$B$19:$F$55,4,FALSE) -> Externo | G44: =+EVALUACION!H50 -> Actividades incompletas, insatisfacción de los beneficiarios, reclamaciones de la comunidad, incumplimiento de la meta | H44: =+EVALUACION!I50 -> 2 | I44: =+EVALUACION!J50 -> 3 | J44: =+EVALUACION!K50 -> 5 | K44: =+EVALUACION!L50 -> MEDIO | L44: CONTRATISTA Y SDG | M44: 1 | N44: =+'EVALUACION CON CONTROLES'!G49 -> Verificar entrega de implementos como hito previo a cada componente | O44: =+'EVALUACION CON CONTROLES'!I49 -> 2 | P44: =+'EVALUACION CON CONTROLES'!J49 -> 3 | Q44: =+'EVALUACION CON CONTROLES'!K49 -> 5 | R44: =+'EVALUACION CON CONTROLES'!L49 -> MEDIO | S44: =+'EVALUACION CON CONTROLES'!M49 -> NO | T44: =+'EVALUACION CON CONTROLES'!N49 -> Supervisor / Contratista | U44: =+'EVALUACION CON CONTROLES'!O49 -> Ejecución | V44: =+'EVALUACION CON CONTROLES'!P49 -> Finalización | ... X44: =+'EVALUACION CON CONTROLES'!R49 -> Verificación por evento
F46: Categoria | J46: Impacto del Riesgo
E47: Probabilidad | F47: Catagoria | G47: Valoración | J47: Categoria | L47: Valoración
F48: Raro (puede ocurrir excepcionalmente) | G48: 1 | J48: Insignificante | L48: 1
F49: Improbable (puede ocurrir ocasionalmente) | G49: 2 | J49: Menor | L49: 2
F50: Posible (puede ocurrir en cualquier momento futuro) | G50: 3 | J50: Moderado | L50: 3
F51: Probable (probablemente va a ocurrir) | G51: 4 | J51: Mayor | L51: 4
F52: Casi cierto (ocurre en la mayoria de circunstancias) | G52: 5 | J52: Catastrófico | L52: 5
D54: Valoración del Riesgo
D55: Catagoria | E55: Valoración | F55: Insignificante | H55: Menor | J55: Moderado | K55: Mayor | L55: Catastrófico | P55: Categoria del Riesgo
F56: 1 | H56: 2 | J56: 3 | K56: 4 | L56: 5 | P56: Valoración del Riesgo | S56: Categoría
D57: Raro (puede ocurrir excepcionalmente) | E57: 1 | F57: 2 | H57: 3 | J57: 4 | K57: 5 | L57: 6 | P57: 8, 9 y 10 | S57: Riesgo extremo
D58: Improbable (puede ocurrir ocasionalmente) | E58: 2 | F58: 3 | H58: 4 | J58: 5 | K58: 6 | L58: 7 | P58: 6 y 7 | S58: Riesgo alto
D59: Posible (puede ocurrir en cualquier momento futuro) | E59: 3 | F59: 4 | H59: 5 | J59: 6 | K59: 7 | L59: 8 | P59: 5 | S59: Riesgo medio
D60: Probable (probablemente va a ocurrir) | E60: 4 | F60: 5 | H60: 6 | J60: 7 | K60: 8 | L60: 9 | P60: 2, 3 y 4 | S60: Riesgo bajo
D61: Casi cierto (ocurre en la mayoria de circunstancias) | E61: 5 | F61: 6 | H61: 7 | J61: 8 | K61: 9 | L61: 10
B66: CONTRATISTA
B67: SDG
B68: CONTRATISTA Y SDG
