Workbook
Name VALOR_APU: 'Apu 1.01'!$J$53
Name VALOR_APU: 'Apu 2.01'!$J$53
Name VALOR_APU: 'Apu 2.02'!$J$53
Name VALOR_APU: 'Apu 2.03'!$J$53
Name VALOR_APU: 'Apu 2.04'!$J$53
Name VALOR_APU: 'Apu 2.05'!$J$53

Sheet Presupuesto
A2: MUNICIPIO DE PISBA
A5: OBJETO:
D6: INCREMENTO DISTANCIA: | F6: 0.22
F9: Resolución 050 del 05 de mayo de 2025
A10: ITEM | B10: REF GOB. | C10: DESCRIPCIÓN | D10: UNIDAD | E10: CANTIDAD | F10: VALOR UNITARIO | G10: VALOR INCREMENTO POR DISTANCIA 22% | H10: VALOR UNITARIO + INCREMENTO POR DISTANCIA | I10: VALOR TOTAL
A11: 1 | B11: ACTIVIDADES PRELIMINARES
A12: 1.01 | B12: 6.01.02 | C12: LOCALIZACIÓN Y REPLANTEO TOPOGRÁFICO DE RED ELÉCTRICA DE BAJA TENSIÓN B.T | D12: ML | E12: 2091 | F12: =+'Apu 1.01'!VALOR_APU -> 797.16 | H12: =+F12*G12 -> 0 | I12: =+ROUND(F12*E12,2) -> 1666861.6
H13: SUBTOTAL | I13: =SUM(I12:I12) -> 1666861.6
A15: 2 | B15: POSTE + LUMINARIA
A16: 2.01 | B16: 6.02.01 | C16: SUMINISTRO, ARRIMADA, HINCADA Y PLOMADA DE POSTE DE FERROCONCRETO DE 8 M 510 KGF. INCLUYE EXCAVACIÓN | D16: UND | E16: 88 | F16: =+'Apu 2.01'!VALOR_APU -> 998484.67 | G16: =+F16*$F$6 -> 219666.63 | H16: =+G16*E16 -> 19330663 | I16: =+ROUND(F16*E16,2) -> 87866651
A17: 2.02 | B17: COTIZACION | C17: SUMINISTRO E INSTALACIÓN LUMINARIA LED SOLAR INTEGRADA PARA ALUMBRADO PUBLICO DE HASTA 60W CON FLUJO LUMINOSO MÍNIMO DE 7500 LUMENES A 6000 KELVIN CON 50.000 HORAS DE VIDA UTIL | D17: UND | E17: 25 | F17: =+'Apu 2.02'!VALOR_APU -> 600983.05 | G17: =+F17*$F$6 -> 132216.27 | H17: =+G17*E17 -> 3305406.8 | I17: =+ROUND(F17*E17,2) -> 15024576
A18: 2.03 | B18: 7.06.17 | C18: SUMINISTRO E INSTALACIÓN DE LUMINARIA PARA ALUMBRADO PÚBLICO LED DE 80 W EMITIENDO ENTRE MÍNIMO 10.400 LUMENES EN 4000 KELVIN. NO INCLUYE DRIVER PROGRAMABLE PARA TELEGESTIÓN | D18: UND | E18: 63 | F18: =+'Apu 2.03'!VALOR_APU -> 535303.05 | G18: =+F18*$F$6 -> 117766.67 | H18: =+G18*E18 -> 7419300.3 | I18: =+ROUND(F18*E18,2) -> 33724092
A19: 2.04 | B19: 7.03.02 | C19: SUMINISTRO E INSTALACIÓN DE BRAZO METALICO DE 1 1/2 X 1,50 M GALVANIZADO EN CALIENTE, PARA POSTE DE ALUMBRADO PÚBLICO. INCLUYE ELEMENTOS DE ANCLAJE. | D19: UND | E19: 88 | F19: =+'Apu 2.04'!VALOR_APU -> 258563.57 | G19: =+F19*$F$6 -> 56883.985 | H19: =+G19*E19 -> 5005790.7 | I19: =+ROUND(F19*E19,2) -> 22753594
A20: 2.05 | B20: 6.02.64 | C20: SUMINISTRO, TENDIDO Y TENSIONADO DE CABLE TRIPLEX XLPE-SR No 2 AWG | D20: KM | E20: 1.7 | F20: =+'Apu 2.05'!VALOR_APU -> 13653051 | G20: =+F20*$F$6 -> 3003671.2 | H20: =+G20*E20 -> 5106241 | I20: =+ROUND(F20*E20,2) -> 23210187
C21: SUBTOTAL | I21: =SUM(I16:I20) -> 1.825791e+08
F25: TOTAL COSTOS DIRECTOS PROYECTO | I25: =I21+I13 -> 1.8424596e+08
A27: ADMINISTRACIÓN | G27: B = A * 22% | H27: 0.22 | I27: =+I25*22% -> 40534112
A28: IMPREVISTOS | G28: C = A * 3% | H28: 0.03 | I28: =+I25*3% -> 5527378.8
A29: UTILIDAD | G29: D = A * 5% | H29: 0.05 | I29: =+I25*5% -> 9212298.1
A30: TOTAL COSTOS INDIRECTO | G30: E = B + C + D | I30: =SUM(I27:I29) -> 55273788
G31: INCREMENTO POR DISTANCIA | I31: =SUM(H12,H16:H20) -> 40167402 | N31: =+L32-I32 -> 779.09626
A32: TOTAL COSTOS DE OBRA | I32: =+I25+I30+I31 -> 2.7968715e+08 | L32: 2.7968793e+08

Sheet PRESUPUESTO DIVIDIDO
A2: MUNICIPIO DE PISBA
A5: OBJETO: AMPLIACIÓN, MANTENIMIENTO Y REPOTENCIACIÓN DEL SISTEMA DE ALUMBRADO PÚBLICO CONVENCIONAL, E INSTALACIÓN DE SISTEMAS FOTOVOLTAICOS EN EL MUNICIPIO DE PISBA, BOYACÁ
D6: INCREMENTO DISTANCIA: | F6: 0.22
F9: Resolución 033 del 27 de abril de 2026
A10: ITEM | B10: REF GOB. | C10: DESCRIPCIÓN | D10: UNIDAD | E10: CANTIDAD | F10: VALOR UNITARIO | G10: F.I.D. (22%) | H10: VALOR INCREMENTO POR DISTANCIA 22% | I10: VALOR UNITARIO + INCREMENTO POR DISTANCIA | J10: VALOR TOTAL
A11: 1 | B11: SISTEMA DE ALUMBRADO LED CONVENCIONAL (CONECTADO A RED)
A12: 1.1 | B12: ACTIVIDADES PRELIMINARES
A13: 1.11 | B13: 6.01.02 | C13: LOCALIZACIÓN Y REPLANTEO TOPOGRÁFICO DE RED ELÉCTRICA DE BAJA TENSIÓN B.T | D13: ML | E13: 2091 | F13: =+'Apu 1.01'!VALOR_APU -> 797.16 | G13: 0 | H13: =+F13*G13 -> 0 | I13: =+F13*(G13)*E13 -> 0 | J13: =+ROUND(F13*E13,2) -> 1666861.6 | M13: =+F13*(1+G13)*E13 -> 1666861.6
I14: SUBTOTAL | J14: =SUM(J13:J13) -> 1666861.6 | M14: =+F14*(1+G14)*E14 -> 0
M15: =+F15*(1+G15)*E15 -> 0
A16: 1.2 | B16: POSTE + LUMINARIA | M16: =+F16*(1+G16)*E16 -> 0
A17: 1.21 | B17: 6.02.01 + COTIZACION | C17: SUMINISTRO, ARRIMADA, HINCADA Y PLOMADA DE POSTE DE FERROCONCRETO DE 8 M 510 KGF. INCLUYE EXCAVACIÓN | D17: UND | E17: 63 | F17: =+'Apu 2.01'!VALOR_APU -> 998484.67 | G17: 0.22 | H17: =+F17*G17 -> 219666.63 | I17: =+F17*(G17)*E17 -> 13838998 | J17: =+ROUND(F17*E17,2) -> 62904534 | M17: =+F17*(1+G17)*E17 -> 76743532
A18: 1.22 | B18: 7.06.17 + COTIZACION | C18: SUMINISTRO E INSTALACIÓN DE LUMINARIA PARA ALUMBRADO PÚBLICO LED DE 80 W EMITIENDO ENTRE MÍNIMO 10.400 LUMENES EN 4000 KELVIN. NO INCLUYE DRIVER PROGRAMABLE PARA TELEGESTIÓN | D18: UND | E18: 63 | F18: =+'Apu 2.03'!VALOR_APU -> 535303.05 | G18: 0.22 | H18: =+F18*G18 -> 117766.67 | I18: =+F18*(G18)*E18 -> 7419300.3 | J18: =+ROUND(F18*E18,2) -> 33724092 | M18: =+F18*(1+G18)*E18 -> 41143392
A19: 1.23 | B19: 7.03.02 | C19: SUMINISTRO E INSTALACIÓN DE BRAZO METALICO DE 1 1/2 X 1,50 M GALVANIZADO EN CALIENTE, PARA POSTE DE ALUMBRADO PÚBLICO. INCLUYE ELEMENTOS DE ANCLAJE. | D19: UND | E19: 63 | F19: =+'Apu 2.04'!VALOR_APU -> 258563.57 | G19: 0.22 | H19: =+F19*G19 -> 56883.985 | I19: =+F19*(G19)*E19 -> 3583691.1 | J19: =+ROUND(F19*E19,2) -> 16289505 | M19: =+F19*(1+G19)*E19 -> 19873196
A20: 1.24 | B20: 6.02.64 + COTIZACION | C20: SUMINISTRO, TENDIDO Y TENSIONADO DE CABLE TRIPLEX XLPE-SR No 2 AWG | D20: KM | E20: 1.7 | F20: =+'Apu 2.05'!VALOR_APU -> 13653051 | G20: 0.22 | H20: =+F20*G20 -> 3003671.2 | I20: =+F20*(G20)*E20 -> 5106241 | J20: =+ROUND(F20*E20,2) -> 23210187 | M20: =+F20*(1+G20)*E20 -> 28316428
I21: SUBTOTAL | J21: =SUM(J17:J20) -> 1.3612832e+08 | M21: =+F21*(1+G21)*E21 -> 0
A22: 2 | B22: SISTEMA DE ALUMBRADO LED SOLAR AUTONOMO | M22: =+F22*(1+G22)*E22 -> 0
A23: 2.1 | B23: POSTE + LUMINARIA | M23: =+F23*(1+G23)*E23 -> 0
A24: 2.11 | B24: 6.02.01 + COTIZACION | C24: SUMINISTRO, ARRIMADA, HINCADA Y PLOMADA DE POSTE DE FERROCONCRETO DE 8 M 510 KGF. INCLUYE EXCAVACIÓN | D24: UND | E24: 25 | F24: =+'Apu 2.01'!VALOR_APU -> 998484.67 | G24: 0.22 | H24: =+F24*G24 -> 219666.63 | I24: =+F24*(G24)*E24 -> 5491665.7 | J24: =+ROUND(F24*E24,2) -> 24962117 | M24: =+F24*(1+G24)*E24 -> 30453782
A25: 2.12 | B25: 7.03.02 | C25: SUMINISTRO E INSTALACIÓN DE BRAZO METALICO DE 1 1/2 X 1,50 M GALVANIZADO EN CALIENTE, PARA POSTE DE ALUMBRADO PÚBLICO. INCLUYE ELEMENTOS DE ANCLAJE. | D25: UND | E25: 25 | F25: =+'Apu 2.04'!VALOR_APU -> 258563.57 | G25: 0.22 | H25: =+F25*G25 -> 56883.985 | I25: =+F25*(G25)*E25 -> 1422099.6 | J25: =+ROUND(F25*E25,2) -> 6464089.2 | M25: =+F25*(1+G25)*E25 -> 7886188.9
A26: 2.13 | B26: COTIZACION | C26: SUMINISTRO E INSTALACIÓN LUMINARIA LED SOLAR INTEGRADA PARA ALUMBRADO PUBLICO DE HASTA 60W CON FLUJO LUMINOSO MÍNIMO DE 7500 LUMENES A 6000 KELVIN CON 50.000 HORAS DE VIDA UTIL | D26: UND | E26: 25 | F26: =+'Apu 2.02'!VALOR_APU -> 600983.05 | G26: 0.22 | H26: =+F26*G26 -> 132216.27 | I26: =+F26*(G26)*E26 -> 3305406.8 | J26: =+ROUND(F26*E26,2) -> 15024576 | M26: =+F26*(1+G26)*E26 -> 18329983
I27: SUBTOTAL | J27: =SUM(J24:J26) -> 46450782 | M27: =+F27*(1+G27)*E27 -> 0
F29: TOTAL COSTOS DIRECTOS PROYECTO | J29: =J21+J14+J27 -> 1.8424596e+08
M30: =10974.67*(1+0.22)*28312.72 -> 3.7908177e+08
A31: ADMINISTRACIÓN | H31: B = A * 22% | I31: 0.22 | J31: =+$J$29*I31 -> 40534112
A32: IMPREVISTOS | H32: C = A * 3% | I32: 0.03 | J32: =+$J$29*I32 -> 5527378.8
A33: UTILIDAD | H33: D = A * 5% | I33: 0.05 | J33: =+$J$29*I33 -> 9212298.1
A34: TOTAL COSTOS INDIRECTO | H34: E = B + C + D | J34: =SUM(J31:J33) -> 55273788
G35: INCREMENTO POR DISTANCIA | J35: =+SUM(I13:I26) -> 40167402 | N35: =+L36-I36 -> 0
A36: TOTAL COSTOS DE OBRA | J36: =+J29+J34+J35 -> 2.7968715e+08 | M36: 2.7968793e+08
J39: =+J29+J34 -> 2.3951975e+08

Sheet Apu 1.01
F4: DEPARTAMENTO DE BOYACÁ MUNICIPIO DE PISBA NIT
D7: PROYECTO:
D8: ANÁLISIS DE PRECIOS UNITARIOS
D9: No. CAPÍTULO | E9: C A P Í T U L O
D10: 6 | E10: INSTALACIONES ELÉCTRICAS PARA REDES DE DISTRIBUCIÓN EN BAJA Y MEDIA TENSIÓN
D11: No. SUB-CAPÍTULO | E11: S U B - C A P Í T U L O
D12: 6.01 | E12: ACTIVIDADES PRELIMINARES
D13: REF. PRECIO GOB. BOYACÁ | E13: DESCRIPCIÓN DE LA ACTIVIDAD | J13: Unidad
D14: 6.01.02
D15: No. ÍTEM PRESUPUESTO | E15: =+VLOOKUP(D16,Presupuesto!A11:D20,3,FALSE) -> LOCALIZACIÓN Y REPLANTEO TOPOGRÁFICO DE RED ELÉCTRICA DE BAJA TENSIÓN B.T | J15: =+VLOOKUP(D16,Presupuesto!A11:D20,4,FALSE) -> ML
D16: =+Presupuesto!A12 -> 1.01
D18: 1. MATERIAL
D19: Descripción | G19: Unidad | H19: Valor Unitario | I19: Cantidad | J19: Valor parcial
N21: 67 | O21: M2 | P21: 1 | Q21: GALON
J22: =+IF(D22="","",H22*I22) | N22: 1 | P22: =+N22/N21 -> 0.014925373
J23: =+IF(D23="","",H23*I23)
J26: =+IF(D26="","",H26*I26)
G27: SUBTOTAL MATERIALES | J27: =+ROUND(SUM(J20:J26),2) -> 0
D29: 2. EQUIPO
D30: Descripción | G30: Unidad | H30: Valor Unitario | I30: Cantidad | J30: Valor parcial
D31: EQUIPO DE TOPOGRAFÍA (ESTACIÓN TOTAL, NIVEL Y ACCESORIOS) | G31: HORA | H31: 18745 | I31: 0.025 | J31: =+IF(D31="","",H31*I31) -> 468.625
D32: HERRAMIENTA Y EQUIPO MENOR (%M.O.) | G32: % | H32: 313 | I32: 0.049968051 | J32: =+IF(D32="","",H32*I32) -> 15.64
G33: SUBTOTAL EQUIPO | J33: =ROUND(+SUM(J31:J32),2) -> 484.27
D35: 3. MANO DE OBRA
D36: Descripción | G36: Unidad | H36: Valor Unitario | I36: Cantidad | J36: Valor parcial
D37: CUADRILLA DE TOPOGRAFÍA (I) | G37: HC | H37: 94408.26 | I37: 0.0025 | J37: =+IF(D37="","",H37*I37) -> 236.02065
D38: OFICIAL 1 (FF1) | G38: HH | H38: 25624.48 | I38: 0.003 | J38: =(+IF(D38="","",(H38*I38))) -> 76.87344
J39: =(+IF(D39="","",(H39*I39)))
G41: SUBTOTAL MANO DE OBRA | J41: =+ROUND(SUM(J37:J40),2) -> 312.89
D43: COSTO DIRECTO | J43: =ROUND((SUM(+J27+J33+J41)),2) -> 797.16
D45: INCREMENTO POR DISTANCIA (F.I.D.) | I45: 0 | J45: =+J43*I45 -> 0
D46: TOTAL COSTO DIRECTO + INCREMENTO POR DISTANCIA | J46: =+J45+J43 -> 797.16
D48: ADMINISTRACIÓN | I48: 0 | J48: =+J43*I48 -> 0
D49: IMPREVISTOS | I49: 0 | J49: =+J43*I49 -> 0
D50: UTILIDAD | I50: 0 | J50: =+J43*I50 -> 0
D51: TOTAL COSTOS INDIRECTOS | J51: =SUM(J48:J50) -> 0
D53: TOTAL COSTOS ACTIVIDAD (INCLUYE AIU E INCREMENTO POR DISTANCIA) | J53: =SUM(J46+J51) -> 797.16 | O53: =VALOR_APU -> 797.16
D55: OBSERVACIONES:
G57: ________________________________________
G58: Realizó
...

Sheet Apu 2.01
F4: DEPARTAMENTO DE BOYACÁ MUNICIPIO DE PISBA NIT
D7: PROYECTO:
D8: ANÁLISIS DE PRECIOS UNITARIOS
D9: No. CAPÍTULO | E9: C A P Í T U L O
D10: 6 | E10: INSTALACIONES ELÉCTRICAS PARA REDES DE DISTRIBUCIÓN EN BAJA Y MEDIA TENSIÓN
D11: No. SUB-CAPÍTULO | E11: S U B - C A P Í T U L O
D12: 6.02 | E12: ESTRUCTURAS Y CABLEADO PARA REDES AÉREAS DE DISTRIBUCIÓN EN BAJA TENSIÓN Y MEDIA TENSIÓN
D13: REF. PRECIO GOB. BOYACÁ | E13: DESCRIPCIÓN DE LA ACTIVIDAD | J13: Unidad
D14: 6.01.02
D15: No. ÍTEM PRESUPUESTO | E15: =+VLOOKUP(D16,Presupuesto!A11:D20,3,FALSE) -> SUMINISTRO, ARRIMADA, HINCADA Y PLOMADA DE POSTE DE FERROCONCRETO DE 8 M 510 KGF. INCLUYE EXCAVACIÓN | J15: =+VLOOKUP(D16,Presupuesto!A11:D20,4,FALSE) -> UND
D16: =+Presupuesto!A16 -> 2.01
D18: 1. MATERIAL
D19: Descripción | G19: Unidad | H19: Valor Unitario | I19: Cantidad | J19: Valor parcial
D20: POSTE DE FERROCONCRETO 8M 510 KGF | G20: UND | H20: 600000 | I20: 1 | J20: =ROUND(H20*I20,2) -> 600000
N21: 67 | O21: M2 | P21: 1 | Q21: GALON
J22: =+IF(D22="","",H22*I22) | N22: 1 | P22: =+N22/N21 -> 0.014925373
J23: =+IF(D23="","",H23*I23)
J26: =+IF(D26="","",H26*I26)
G27: SUBTOTAL MATERIALES | J27: =+ROUND(SUM(J20:J26),2) -> 600000
D29: 2. EQUIPO
D30: Descripción | G30: Unidad | H30: Valor Unitario | I30: Cantidad | J30: Valor parcial
D31: HERRAMIENTA Y EQUIPO MENOR (%M.O.) | G31: % | H31: 364165 | I31: 0.049999945 | J31: =+IF(D31="","",H31*I31) -> 18208.23
D32: GRÚA DE BRAZO ARTICULADO | G32: HORA | H32: 250000 | I32: 0.55 | J32: =+IF(D32="","",H32*I32) -> 137500
G33: SUBTOTAL EQUIPO | J33: =ROUND(+SUM(J31:J32),2) -> 155708.23
D35: 3. MANO DE OBRA
D36: Descripción | G36: Unidad | H36: Valor Unitario | I36: Cantidad | J36: Valor parcial
D37: CUADRILLA DE INSTALACIÓNES ELÉCTRICAS ESPECIALIZADAS (FF1) | G37: HC | H37: 60694.11 | I37: 4 | J37: =+IF(D37="","",H37*I37) -> 242776.44
J38: =(+IF(D38="","",(H38*I38)))
J39: =(+IF(D39="","",(H39*I39)))
G41: SUBTOTAL MANO DE OBRA | J41: =+ROUND(SUM(J37:J40),2) -> 242776.44
D43: COSTO DIRECTO | J43: =ROUND((SUM(+J27+J33+J41)),2) -> 998484.67
D45: INCREMENTO POR DISTANCIA (F.I.D.) | I45: 0 | J45: =+J43*I45 -> 0
D46: TOTAL COSTO DIRECTO + INCREMENTO POR DISTANCIA | J46: =+J45+J43 -> 998484.67
D48: ADMINISTRACIÓN | I48: 0 | J48: =+J43*I48 -> 0
D49: IMPREVISTOS | I49: 0 | J49: =+J43*I49 -> 0
D50: UTILIDAD | I50: 0 | J50: =+J43*I50 -> 0
D51: TOTAL COSTOS INDIRECTOS | J51: =SUM(J48:J50) -> 0
D53: TOTAL COSTOS ACTIVIDAD (INCLUYE AIU E INCREMENTO POR DISTANCIA) | J53: =SUM(J46+J51) -> 998484.67 | O53: =VALOR_APU -> 998484.67
D55: OBSERVACIONES:
G57: ________________________________________
...

Sheet Apu 2.02
F4: DEPARTAMENTO DE BOYACÁ MUNICIPIO DE PISBA NIT
D7: PROYECTO:
D8: ANÁLISIS DE PRECIOS UNITARIOS
D9: No. CAPÍTULO | E9: C A P Í T U L O
E10: INSTALACIONES ELÉCTRICAS PARA REDES DE DISTRIBUCIÓN EN BAJA Y MEDIA TENSIÓN
D11: No. SUB-CAPÍTULO | E11: S U B - C A P Í T U L O
E12: ESTRUCTURAS Y CABLEADO PARA REDES AÉREAS DE DISTRIBUCIÓN EN BAJA TENSIÓN Y MEDIA TENSIÓN
D13: REF. PRECIO GOB. BOYACÁ | E13: DESCRIPCIÓN DE LA ACTIVIDAD | J13: Unidad
D15: No. ÍTEM PRESUPUESTO | E15: =+VLOOKUP(D16,Presupuesto!A11:D20,3,FALSE) -> SUMINISTRO E INSTALACIÓN LUMINARIA LED SOLAR INTEGRADA PARA ALUMBRADO PUBLICO DE HASTA 60W CON FLUJO LUMINOSO MÍNIMO DE 7500 LUMENES A 6000 KELVIN CON 50.000 HORAS DE VIDA UTIL | J15: =+VLOOKUP(D16,Presupuesto!A11:D20,4,FALSE) -> UND
D16: =+Presupuesto!A17 -> 2.02
D18: 1. MATERIAL
D19: Descripción | G19: Unidad | H19: Valor Unitario | I19: Cantidad | J19: Valor parcial
D20: LUMINARIA LED SOLAR INTEGRADA PARA ALUMBRADO PUBLICO DE HASTA 60 W CON FLUJO LUMINOSO MÍNIMO DE 7500 LUMENES A 6000 K Y AUTONOMIA DE 12 HORAS CON 50.000 HORAS DE VIDA UTIL | G20: UND | H20: 500000 | I20: 1 | J20: =ROUND(H20*I20,2) -> 500000
N21: 67 | O21: M2 | P21: 1 | Q21: GALON
J22: =+IF(D22="","",H22*I22) | N22: 1 | P22: =+N22/N21 -> 0.014925373
J23: =+IF(D23="","",H23*I23)
J26: =+IF(D26="","",H26*I26)
G27: SUBTOTAL MATERIALES | J27: =+ROUND(SUM(J20:J26),2) -> 500000
D29: 2. EQUIPO
D30: Descripción | G30: Unidad | H30: Valor Unitario | I30: Cantidad | J30: Valor parcial
D31: HERRAMIENTA Y EQUIPO MENOR (%M.O.) | G31: % | H31: 48555 | I31: 0.050000206 | J31: =+IF(D31="","",H31*I31) -> 2427.76
D32: GRÚA DE BRAZO ARTICULADO | G32: HORA | H32: 250000 | I32: 0.2 | J32: =+IF(D32="","",H32*I32) -> 50000
G33: SUBTOTAL EQUIPO | J33: =ROUND(+SUM(J31:J32),2) -> 52427.76
D35: 3. MANO DE OBRA
D36: Descripción | G36: Unidad | H36: Valor Unitario | I36: Cantidad | J36: Valor parcial
D37: CUADRILLA DE INSTALACIÓNES ELÉCTRICAS ESPECIALIZADAS (FF1) | G37: HC | H37: 60694.11 | I37: 0.8 | J37: =+IF(D37="","",H37*I37) -> 48555.288
J38: =(+IF(D38="","",(H38*I38)))
J39: =(+IF(D39="","",(H39*I39)))
G41: SUBTOTAL MANO DE OBRA | J41: =+ROUND(SUM(J37:J40),2) -> 48555.29
D43: COSTO DIRECTO | J43: =ROUND((SUM(+J27+J33+J41)),2) -> 600983.05
D45: INCREMENTO POR DISTANCIA (F.I.D.) | I45: 0 | J45: =+J43*I45 -> 0
D46: TOTAL COSTO DIRECTO + INCREMENTO POR DISTANCIA | J46: =+J45+J43 -> 600983.05
D48: ADMINISTRACIÓN | I48: 0 | J48: =+J43*I48 -> 0
D49: IMPREVISTOS | I49: 0 | J49: =+J43*I49 -> 0
D50: UTILIDAD | I50: 0 | J50: =+J43*I50 -> 0
D51: TOTAL COSTOS INDIRECTOS | J51: =SUM(J48:J50) -> 0
D53: TOTAL COSTOS ACTIVIDAD (INCLUYE AIU E INCREMENTO POR DISTANCIA) | J53: =SUM(J46+J51) -> 600983.05 | O53: =VALOR_APU -> 600983.05
D55: OBSERVACIONES:
G57: ________________________________________
G58: Realizó
...

Sheet Apu 2.03
F4: DEPARTAMENTO DE BOYACÁ MUNICIPIO DE PISBA NIT
D7: PROYECTO:
D8: ANÁLISIS DE PRECIOS UNITARIOS
D9: No. CAPÍTULO | E9: C A P Í T U L O
D10: 7 | E10: INSTALACIONES ELÉCTRICAS PARA ALUMBRADO PÚBLICO, DE ESCENARIOS Y EQUIPOS PARA TELEGESTIÓN
D11: No. SUB-CAPÍTULO | E11: S U B - C A P Í T U L O
D12: 7.06 | E12: LUMINARIA PARA ALUMBRADO PUBLICO, PARQUES Y ESCENARIOS
D13: REF. PRECIO GOB. BOYACÁ | E13: DESCRIPCIÓN DE LA ACTIVIDAD | J13: Unidad
D14: 7.06.17
D15: No. ÍTEM PRESUPUESTO | E15: =+VLOOKUP(D16,Presupuesto!A11:D20,3,FALSE) -> SUMINISTRO E INSTALACIÓN DE LUMINARIA PARA ALUMBRADO PÚBLICO LED DE 80 W EMITIENDO ENTRE MÍNIMO 10.400 LUMENES EN 4000 KELVIN. NO INCLUYE DRIVER PROGRAMABLE PARA TELEGESTIÓN | J15: =+VLOOKUP(D16,Presupuesto!A11:D20,4,FALSE) -> UND
D16: =+Presupuesto!A18 -> 2.03
D18: 1. MATERIAL
D19: Descripción | G19: Unidad | H19: Valor Unitario | I19: Cantidad | J19: Valor parcial
D20: LUMINARIA PARA ALUMBRADO PUBLICO LED DE 80 W EMITIENDO MÍNIMO 10.400 LUMENES EN 4.000 KELVIN. NO INCLUYE DRIVER PROGRAMABLE PARA TELEGESTIÓN | G20: UND | H20: 380000 | I20: 1 | J20: =ROUND(H20*I20,2) -> 380000
D21: FOTOCELDA PARA LUMINARIA DE ALUMBRADO PÚBLICO DE 3 PINES, MÍNIMO 400 JOULES. | G21: UND | H21: 54320 | I21: 1 | J21: =ROUND(H21*I21,2) -> 54320 | N21: 67 | O21: M2 | P21: 1 | Q21: GALON
J22: =+IF(D22="","",H22*I22) | N22: 1 | P22: =+N22/N21 -> 0.014925373
J23: =+IF(D23="","",H23*I23)
J26: =+IF(D26="","",H26*I26)
G27: SUBTOTAL MATERIALES | J27: =+ROUND(SUM(J20:J26),2) -> 434320
D29: 2. EQUIPO
D30: Descripción | G30: Unidad | H30: Valor Unitario | I30: Cantidad | J30: Valor parcial
D31: HERRAMIENTA Y EQUIPO MENOR (%M.O.) | G31: % | H31: 48555 | I31: 0.050000206 | J31: =+IF(D31="","",H31*I31) -> 2427.76
D32: GRÚA DE BRAZO ARTICULADO | G32: HORA | H32: 250000 | I32: 0.2 | J32: =+IF(D32="","",H32*I32) -> 50000
G33: SUBTOTAL EQUIPO | J33: =ROUND(+SUM(J31:J32),2) -> 52427.76
D35: 3. MANO DE OBRA
D36: Descripción | G36: Unidad | H36: Valor Unitario | I36: Cantidad | J36: Valor parcial
D37: CUADRILLA DE INSTALACIÓNES ELÉCTRICAS ESPECIALIZADAS (FF1) | G37: HC | H37: 60694.11 | I37: 0.8 | J37: =+IF(D37="","",H37*I37) -> 48555.288
J38: =(+IF(D38="","",(H38*I38)))
J39: =(+IF(D39="","",(H39*I39)))
G41: SUBTOTAL MANO DE OBRA | J41: =+ROUND(SUM(J37:J40),2) -> 48555.29
D43: COSTO DIRECTO | J43: =ROUND((SUM(+J27+J33+J41)),2) -> 535303.05
D45: INCREMENTO POR DISTANCIA (F.I.D.) | I45: 0 | J45: =+J43*I45 -> 0
D46: TOTAL COSTO DIRECTO + INCREMENTO POR DISTANCIA | J46: =+J45+J43 -> 535303.05
D48: ADMINISTRACIÓN | I48: 0 | J48: =+J43*I48 -> 0
D49: IMPREVISTOS | I49: 0 | J49: =+J43*I49 -> 0
D50: UTILIDAD | I50: 0 | J50: =+J43*I50 -> 0
D51: TOTAL COSTOS INDIRECTOS | J51: =SUM(J48:J50) -> 0
D53: TOTAL COSTOS ACTIVIDAD (INCLUYE AIU E INCREMENTO POR DISTANCIA) | J53: =SUM(J46+J51) -> 535303.05 | O53: =VALOR_APU -> 535303.05
D55: OBSERVACIONES:
G57: ________________________________________
...

Sheet Apu 2.04
F4: DEPARTAMENTO DE BOYACÁ MUNICIPIO DE PISBA NIT
D7: PROYECTO:
D8: ANÁLISIS DE PRECIOS UNITARIOS
D9: No. CAPÍTULO | E9: C A P Í T U L O
D10: 7 | E10: INSTALACIONES ELÉCTRICAS PARA ALUMBRADO PÚBLICO, DE ESCENARIOS Y EQUIPOS PARA TELEGESTIÓN
D11: No. SUB-CAPÍTULO | E11: S U B - C A P Í T U L O
D12: 7.03 | E12: BRAZOS METÁLICOS PARA POSTES DE ALUMBRADO PÚBLICO
D13: REF. PRECIO GOB. BOYACÁ | E13: DESCRIPCIÓN DE LA ACTIVIDAD | J13: Unidad
D14: 7.03.02
D15: No. ÍTEM PRESUPUESTO | E15: =+VLOOKUP(D16,Presupuesto!A11:D20,3,FALSE) -> SUMINISTRO E INSTALACIÓN DE BRAZO METALICO DE 1 1/2 X 1,50 M GALVANIZADO EN CALIENTE, PARA POSTE DE ALUMBRADO PÚBLICO. INCLUYE ELEMENTOS DE ANCLAJE. | J15: =+VLOOKUP(D16,Presupuesto!A11:D20,4,FALSE) -> UND
D16: =+Presupuesto!A19 -> 2.04
D18: 1. MATERIAL
D19: Descripción | G19: Unidad | H19: Valor Unitario | I19: Cantidad | J19: Valor parcial
D20: BRAZO PARA A.P. EN TUBO DE FE GALV. DE 1 1/2" X 1.5 M. | G20: UND | H20: 127212.91 | I20: 1 | J20: =ROUND(H20*I20,2) -> 127212.91
D21: PERCHA GALVANIZADA PARA ANCLAJE | G21: UND | H21: 12650 | I21: 1 | J21: =ROUND(H21*I21,2) -> 12650 | N21: 67 | O21: M2 | P21: 1 | Q21: GALON
D22: COLLARIN DE 160 MM POR 2 SALIDAS EN PLATINA GALV. DE 1/4" | G22: UND | H22: 21358.81 | I22: 1.9999995 | J22: =+IF(D22="","",H22*I22) -> 42717.61 | N22: 1 | P22: =+N22/N21 -> 0.014925373
J23: =+IF(D23="","",H23*I23)
J26: =+IF(D26="","",H26*I26)
G27: SUBTOTAL MATERIALES | J27: =+ROUND(SUM(J20:J26),2) -> 182580.52
D29: 2. EQUIPO
D30: Descripción | G30: Unidad | H30: Valor Unitario | I30: Cantidad | J30: Valor parcial
D31: HERRAMIENTA Y EQUIPO MENOR (%M.O.) | G31: % | H31: 48555 | I31: 0.050000206 | J31: =+IF(D31="","",H31*I31) -> 2427.76
D32: GRÚA DE BRAZO ARTICULADO | G32: HORA | H32: 250000 | I32: 0.1 | J32: =+IF(D32="","",H32*I32) -> 25000
G33: SUBTOTAL EQUIPO | J33: =ROUND(+SUM(J31:J32),2) -> 27427.76
D35: 3. MANO DE OBRA
D36: Descripción | G36: Unidad | H36: Valor Unitario | I36: Cantidad | J36: Valor parcial
D37: CUADRILLA DE INSTALACIÓNES ELÉCTRICAS ESPECIALIZADAS (FF1) | G37: HC | H37: 60694.11 | I37: 0.8 | J37: =+IF(D37="","",H37*I37) -> 48555.288
J38: =(+IF(D38="","",(H38*I38)))
J39: =(+IF(D39="","",(H39*I39)))
G41: SUBTOTAL MANO DE OBRA | J41: =+ROUND(SUM(J37:J40),2) -> 48555.29
D43: COSTO DIRECTO | J43: =ROUND((SUM(+J27+J33+J41)),2) -> 258563.57
D45: INCREMENTO POR DISTANCIA (F.I.D.) | I45: 0 | J45: =+J43*I45 -> 0
D46: TOTAL COSTO DIRECTO + INCREMENTO POR DISTANCIA | J46: =+J45+J43 -> 258563.57
D48: ADMINISTRACIÓN | I48: 0 | J48: =+J43*I48 -> 0
D49: IMPREVISTOS | I49: 0 | J49: =+J43*I49 -> 0
D50: UTILIDAD | I50: 0 | J50: =+J43*I50 -> 0
D51: TOTAL COSTOS INDIRECTOS | J51: =SUM(J48:J50) -> 0
D53: TOTAL COSTOS ACTIVIDAD (INCLUYE AIU E INCREMENTO POR DISTANCIA) | J53: =SUM(J46+J51) -> 258563.57 | O53: =VALOR_APU -> 258563.57
D55: OBSERVACIONES:
G57: ________________________________________
...

Sheet Apu 2.05
F4: DEPARTAMENTO DE BOYACÁ MUNICIPIO DE PISBA NIT
D7: PROYECTO:
D8: ANÁLISIS DE PRECIOS UNITARIOS
D9: No. CAPÍTULO | E9: C A P Í T U L O
D10: 7 | E10: INSTALACIONES ELÉCTRICAS PARA ALUMBRADO PÚBLICO, DE ESCENARIOS Y EQUIPOS PARA TELEGESTIÓN
D11: No. SUB-CAPÍTULO | E11: S U B - C A P Í T U L O
D12: 7.03 | E12: BRAZOS METÁLICOS PARA POSTES DE ALUMBRADO PÚBLICO
D13: REF. PRECIO GOB. BOYACÁ | E13: DESCRIPCIÓN DE LA ACTIVIDAD | J13: Unidad
D14: 7.03.02
D15: No. ÍTEM PRESUPUESTO | E15: =+VLOOKUP(D16,Presupuesto!A11:D20,3,FALSE) -> SUMINISTRO, TENDIDO Y TENSIONADO DE CABLE TRIPLEX XLPE-SR No 2 AWG | J15: =+VLOOKUP(D16,Presupuesto!A11:D20,4,FALSE) -> KM
D16: =+Presupuesto!A20 -> 2.05
D18: 1. MATERIAL
D19: Descripción | G19: Unidad | H19: Valor Unitario | I19: Cantidad | J19: Valor parcial
D20: CABLE DE ALUMINIO TRIPLEX N° 2 AWG XLPE-SR | G20: ML | H20: 11000 | I20: 1050 | J20: =ROUND(H20*I20,2) -> 11550000
N21: 67 | O21: M2 | P21: 1 | Q21: GALON
N22: 1 | P22: =+N22/N21 -> 0.014925373
J23: =+IF(D23="","",H23*I23)
J26: =+IF(D26="","",H26*I26)
G27: SUBTOTAL MATERIALES | J27: =+ROUND(SUM(J20:J26),2) -> 11550000
D29: 2. EQUIPO
D30: Descripción | G30: Unidad | H30: Valor Unitario | I30: Cantidad | J30: Valor parcial
D31: HERRAMIENTA Y EQUIPO MENOR (%M.O.) | G31: % | H31: =+J37 -> 2002905.6 | I31: 0.050000002 | J31: =+IF(D31="","",H31*I31) -> 100145.28
J32: =+IF(D32="","",H32*I32)
G33: SUBTOTAL EQUIPO | J33: =ROUND(+SUM(J31:J32),2) -> 100145.28
D35: 3. MANO DE OBRA
D36: Descripción | G36: Unidad | H36: Valor Unitario | I36: Cantidad | J36: Valor parcial
D37: CUADRILLA DE INSTALACIÓNES ELÉCTRICAS ESPECIALIZADAS (FF1) | G37: HC | H37: 60694.11 | I37: 33 | J37: =+IF(D37="","",H37*I37) -> 2002905.6
J38: =(+IF(D38="","",(H38*I38)))
J39: =(+IF(D39="","",(H39*I39)))
G41: SUBTOTAL MANO DE OBRA | J41: =+ROUND(SUM(J37:J40),2) -> 2002905.6
D43: COSTO DIRECTO | J43: =ROUND((SUM(+J27+J33+J41)),2) -> 13653051
D45: INCREMENTO POR DISTANCIA (F.I.D.) | I45: 0 | J45: =+J43*I45 -> 0
D46: TOTAL COSTO DIRECTO + INCREMENTO POR DISTANCIA | J46: =+J45+J43 -> 13653051
D48: ADMINISTRACIÓN | I48: 0 | J48: =+J43*I48 -> 0
D49: IMPREVISTOS | I49: 0 | J49: =+J43*I49 -> 0
D50: UTILIDAD | I50: 0 | J50: =+J43*I50 -> 0
D51: TOTAL COSTOS INDIRECTOS | J51: =SUM(J48:J50) -> 0
D53: TOTAL COSTOS ACTIVIDAD (INCLUYE AIU E INCREMENTO POR DISTANCIA) | J53: =SUM(J46+J51) -> 13653051 | O53: =VALOR_APU -> 13653051
D55: OBSERVACIONES:
G57: ________________________________________
...

Sheet 2,01
B2: FORMATO
A4: PRESUPUESTO PROYECTOS SGR
A5: ANALISIS DE PRECIOS UNITARIOS
A8: SUMINISTRO, ARRIMADA, HINCADA Y PLOMADA DE POSTE DE FERROCONCRETO DE 8 M 510 KGF. INCLUYE EXCAVACIÓN | D8: UNIDAD | E8: =+[1]PRESUPUESTO!G21 -> Unidad
D9: =+[1]PRESUPUESTO!C21 -> 0 | E9: =+[1]PRESUPUESTO!B21 -> 2.01
A10: DESCRIPCION | B10: UND | C10: CANT. | D10: PRECIO UNIT | E10: VALOR TOTAL
A12: MATERIALES
A13: POSTE DE FERROCONCRETO 8M 510 KGF | B13: UND | C13: 1 | D13: 600000 | E13: =+D13*C13 -> 600000
D15: SUBTOTAL MATERIALES | E15: =SUM(E13:E14) -> 600000
A16: MANO DE OBRA
A17: CUADRILLA DE INSTALACIÓNES ELÉCTRICAS ESPECIALIZADAS (FF1) | B17: HC | C17: 6 | D17: 60694.112 | E17: =+C17*D17 -> 364164.67
D18: SUBTOTAL- MANO DE OBRA | E18: =SUM(E16:E17) -> 364164.67
A19: EQUIPO
A20: GRUA DE BRAZO ARTICULADO | B20: HORA | C20: 0.55 | D20: 130000 | E20: =+C20*D20 -> 71500
A21: Herramienta y Equipo Menor(% M.O) | B21: % | C21: 5 | D21: 364164.67 | E21: =+C21*D21/100 -> 18208.233
D22: SUBTOTAL- EQUIPO | E22: =SUM(E20:E21) -> 89708.234
A23: OTROS
E24: =+D24*C24 -> 0
D25: SUBTOTAL OTROS | E25: =SUM(E24) -> 0
A27: COSTO DIRECTO | E27: =ROUND(SUM(E25,E22,E18,E15),2) -> 1053872.9
A28: INCREMENTO POR DISTANCIA | B28: % | C28: 0 | E28: =+E27*C28 -> 0
A29: TOTAL COSTOS DIRECTO+INCREM. DIST | E29: =+E27+E28 -> 1053872.9
A30: ADMINISTRACION | C30: 0.25 | E30: =+E29*C30 -> 263468.23
A31: IMPREVISTOS | C31: 0.01 | E31: =+E29*C31 -> 10538.729
A32: UTILIDAD | C32: 0.04 | E32: =+E29*C32 -> 42154.916
A33: TOTAL COSTOS INDIRECTOS: | E33: =SUM(E30:E32) -> 316161.87
A35: TOTAL COSTOS ACTIVIDAD (INCLUYE AIU E INCREMENTO POR DISTANCIA) | E35: =SUM(E29,E33) -> 1370034.8
A37: OBSERVACIONES | D37: Realizo:
A38: Materiales:
A39: ESTUDIO DE MERCADO | D39: Cargo: Profesional Consultor
A40: Mano de obra:
A41: ITEM 6.02.01 DEL ANEXO 2 ANALISIS DE PRECIOS UNITARIOS DETALLADO 2025 + RESOLUCIÓN 0050 DEL 5 DE MAYO DE 2025 | D41: Revisó y Aprobó:
A42: Equipo: | D42: ___________________________ | E42: ____________________________
A43: ITEM 6.02.01 DEL ANEXO 2 ANALISIS DE PRECIOS UNITARIOS DETALLADO 2025 + RESOLUCIÓN 0050 DEL 5 DE MAYO DE 2025
