Workbook
Name contratación: 'IDENTIFICACION Y ANALISIS'!$B$39:$B$43
Name ejecución: 'IDENTIFICACION Y ANALISIS'!$B$45:$B$77
Name OPCIONES: 'ASIGNACION Y TRATAMIENTO'!$B$51:$B$53
Name planeación: 'IDENTIFICACION Y ANALISIS'!$B$19:$B$29
Name selección: 'IDENTIFICACION Y ANALISIS'!$B$31:$B$37

Sheet CONTEXTO
C2: MATRIZ DE RIESGOS EN CONTRATACIÓN | F2: Código: GCO-GCI-F164 Versión: 02 Vigencia: 01 de diciembre de 2022 Caso HOLA: 280117
B6: ESTABLECER EL CONTEXTO
B7: El punto inicial es identificar el contexto en el cual interactúa la Entidad Estatal para conocer el ambiente social, económico y político, e identificar (i) sus propios Riesgos; (ii) los Riesgos comunes a sus Procesos de Contratación; y (iii) los Riesgos del Proceso de Contratación en particular. (Aplica igual para contratos interadministrativos) En este paso la Entidad Estatal debe identificar los aspectos que se mencionan a continuación y los posibles efectos adversos que estos pueden generar.
B8: Objeto del Proceso de Contratación: SUMINISTRO Y DISTRIBUCIÓN DE ELEMENTOS TECNOLÓGICOS, EQUIPOS DE CÓMPUTO, CONECTIVIDAD Y ROBÓTICA, PARA EL FORTALECIMIENTO DE LOS ESPACIOS Y ACTIVIDADES DE LOS PROYECTOS DE INVERSIÓN DEL FONDO DE DESARROLLO LOCAL DE KENNEDY
B9: Partícipes del Proceso de Contratación: Fondo de Desarrollo Local de Kennedy, áreas de planeación, contratación, jurídica, financiera, comité evaluador, supervisión y apoyo a la supervisión; contratista, proveedores y fabricantes; instituciones y sedes receptoras de los bienes; organismos de control y veedurías cuando corresponda.
B10: Ciudadanía que se beneficia del Proceso de Contratación: población atendida en los espacios y actividades asociados a los proyectos 2646 “Kennedy Espacios de Buen Trato”, 2377 “Kennedy Germinando Futuros” y 2780 “Kennedy Proyecta Talento”, incluyendo usuarios de las unidades operativas, sedes educativas y espacios formativos definidos en el Anexo Técnico.
B11: Capacidad de la Entidad Estatal entendida como la disponibilidad de recursos y conocimientos para el Proceso de Contratación: el FDLK cuenta con las áreas responsables de la planeación, contratación, evaluación, gestión financiera y supervisión, así como con el apoyo técnico requerido para verificar las especificaciones, entregas, instalación, puesta en funcionamiento, trazabilidad y recibo de los bienes.
B12: Suficiencia del presupuesto oficial del Proceso de Contratación: el proceso debe contar con disponibilidad presupuestal suficiente y con una distribución por los proyectos 2646, 2377 y 2780 plenamente consistente con el valor oficial definitivo adoptado en el Estudio Previo, el Estudio de Sector y los documentos presupuestales. La ejecución se plantea a monto agotable, mediante precios unitarios definitivos resultantes de la subasta inversa y cantidades efectivamente solicitadas, suministradas, recibidas y aprobadas, sin superar el valor máximo contractual.
B13: Condiciones geográficas y de acceso del lugar en el cual se debe cumplir el objeto del Proceso de Contratación: las entregas e instalaciones se realizarán en los puntos de destino definidos por la Entidad para los tres proyectos, incluyendo las sedes educativas y demás unidades operativas señaladas en el Anexo Técnico. El contratista debe asumir transporte, cargue, descargue, distribución, traslado y custodia hasta la entrega.
B14: Entorno socio ambiental: el objeto corresponde principalmente al suministro de bienes tecnológicos. No se identifican licencias o permisos ambientales especiales como condición ordinaria de ejecución; deberán observarse las disposiciones aplicables al manejo, transporte y disposición de residuos o elementos tecnológicos cuando corresponda.
B15: Condiciones políticas: el proceso se ejecuta en el marco del Plan de Desarrollo Distrital “Bogotá Camina Segura 2025–2028” y del Plan de Desarrollo Local “Kennedy Camina Segura 2025–2028”, y se articula con las metas de los proyectos de inversión 2646, 2377 y 2780.
B16: Factores ambientales: pueden presentarse condiciones climáticas o fenómenos naturales que afecten temporalmente el acceso a los puntos de entrega o instalación, por lo cual se consideran medidas de coordinación, reporte y reprogramación cuando jurídicamente proceda.
B17: Sector del objeto del Proceso de Contratación y su mercado: corresponde principalmente al mercado de suministro y comercialización de equipos tecnológicos, de cómputo, audiovisuales, conectividad y robótica, con actividades accesorias de instalación y puesta en funcionamiento cuando aplique. El Estudio de Sector identifica 98 ítems y utiliza cotizaciones unitarias para determinar valores de referencia.
... B19: Experiencia propia y de otras Entidades Estatales en Procesos de Contratación del mismo tipo: el Estudio de Sector analiza antecedentes de contratación de bienes tecnológicos y procesos similares, y el Estudio Previo establece requisitos habilitantes de experiencia relacionados con el suministro de bienes tecnológicos, equipos de cómputo, audiovisuales, conectividad y/o robótica.

Sheet IDENTIFICACION Y ANALISIS
C2: MATRIZ DE RIESGOS DE CONTRATACIÓN | F2: Código: GCO-GCI-F164 Versión: 02 Vigencia: 01 de diciembre de 2022 Caso HOLA: 280117
B6: DEFINICIONES
B7: RIESGO: Evento que puede generar efectos adversos y de distinta magnitud en el logro de los objetivos del Proceso de Contratación o en la ejecución de un contrato RIESGOS PREVISIBLES: Son los posibles hechos o circunstancias que por la naturaleza del contrato y de la actividad a ejecutar es factible su ocurrencia. ETAPA DE PLANEACIÓN: Está comprendida desde el momento en que se identifican las necesidades que debe satisfacer la Secretaría Distrital de Gobierno y los Fondos de Desarrollo Local, a través del abastecimiento de bienes, obras o servicios, la elaboración del Plan Anual de Adquisiciones y la estructuración de los documentos y estudios previos. ETAPA DE SELECCIÓN: Está comprendida entre el acto de Apertura del Proceso de Contratación y la Adjudicación o la declaración de desierto del Proceso de Contratación ETAPA DE CONTRATACIÓN: Una vez adjudicado el contrato objeto del Proceso de Contratación, inicia la etapa para la celebración del contrato y el cumplimiento de los requisitos para de perfeccionamiento y ejecución. ETAPA DE EJECUCIÓN: Inicia una vez cumplidos los requisitos previstos para iniciar la ejecución del contrato respectivo y termina con el vencimiento del plazo del contrato o la fecha de liquidación si hay lugar a ella. RIESGO GENERAL: Es un riesgo de todos los procesos de contratación adelantados por la Entidad Estatal, por lo cual está presente en toda su actividad contractual. RIEGO ESPECIFICO: Es un riesgo propio del proceso de contratación objeto de análisis. RIESGOS ECONÓMICOS: Son los derivados del comportamiento del mercado, tales como la fluctuación de los precios de los insumos, desabastecimiento y especulación de los mismos, entre otros. RIESGOS SOCIALES O POLÍTICOS: son los derivados de los cambios de las políticas gubernamentales y de cambios en las condiciones sociales que tengan impacto en la ejecución del contrato. RIESGOS OPERACIONALES: Son los asociados a la operatividad del contrato, tales como la suficiencia del presupuesto oficial, del plazo o los derivados de procesos, procedimientos, parámetros, sistemas de información y tecnológicos, equipos humanos o técnicos inadecuados o insuficientes. RIESGOS FINANCIEROS: Son (i) el riesgo de consecución de financiación o riesgo de liquidez para obtener recursos para cumplir con el objeto del contrato, y (ii) el riesgo de las condiciones financieras establecidas para la obtención de los recursos, tales como plazos, tasas, garantías, contragarantías, y refinanciaciones, entre otros. RIESGOS REGULATORIOS: Derivados de cambios regulatorios o reglamentarios que afecten la ecuación económica del contrato. RIESGOS DE LA NATURALEZA: Son los eventos naturales previsibles en los cuales no hay intervención humana que puedan tener impacto en la ejecución del contrato, por ejemplo los temblores, inundaciones, lluvias, sequías, entre otros. RIESGOS AMBIENTALES: Son los derivados de las obligaciones legales o reglamentarias de carácter ambiental, así como de las licencias, planes de manejo o de permisos y autorizaciones ambientales, incluyendo tasas retributivas y compensatorias, obligaciones de mitigación, tareas de monitoreo y control, entre otras. RIESGOS TECNOLÓGICOS: Son los derivados de fallas en los sistemas de comunicación de voz y de datos, suspensión de servicios públicos, nuevos desarrollos tecnológicos o estándares que deben ser tenidos en cuenta para la ejecución del contrato, obsolescencia tecnológica.
B15: INSTRUCCIONES PARA LA IDENTIFICACIÓN, ANALISIS, EVALUACIÓN , ASIGNACIÓN Y TRATAMIENTO DE RIESGOS EN LA CONTRATACIÓN
B16: 1) Identifique los riesgos previsibles que le apliquen al objeto contractual que se adelante. Los relacionados a continuación se establecen de manera general y como proforma. No obstante, si del objeto contractual se identifican otros riesgos diferentes a los aquí determinados, por favor reemplace el texto de la casilla teniendo en cuenta la etapa del proceso. Así mismo, seleccione la clase, fuente y el tipo (Operacional, Económico, Sociales o Políticos, Regulatorios, Financieros, Tecnológicos, De la naturaleza, Ambientales) 2) Continúe en la hoja de "EVALUACIÓN" (SI EXISTEN DUDAS CONCEPTUALES PARA LA ELABORACIÓN DE LA MATRIZ DE RIESGO CONSULTE EL MANUAL PARA LA IDENTIFICACIÓN Y COBERTURA DEL RIESGO EN LOS PROCESOS DE CONTRATACIÓN EXPEDIDO POR COLOMBIA COMPRA EFICIENTE Y LA GUÍA DE RIESGOS PREVISIBLES CONTRACTUALES, EXPEDIDA POR LA VEEDURÍA DISTRITAL)
C17: ETAPAS | D17: CLASE | E17: FUENTE | F17: TIPO
C18: PLANEACIÓN
B19: Inconsistencia entre el objeto contractual, el Anexo Técnico, el Estudio Previo, el Estudio de Sector y la Matriz de Riesgos, generando reglas o alcances contradictorios durante el proceso. | D19: General | E19: Interno | F19: Operacionales
B20: Inadecuado análisis de mercado o determinación de precios unitarios de referencia para los bienes objeto del proceso a monto agotable. | D20: General | E20: Interno | F20: Economicos
B21: Establecimiento de requisitos habilitantes de experiencia o capacidad que resulten desproporcionados, insuficientes o no guarden relación con el objeto del proceso. | D21: General | E21: Interno | F21: Operacionales
B22: Inconsistencia entre la disponibilidad presupuestal, la distribución de recursos de los proyectos 2646, 2377 y 2780 y la estructura del contrato a monto agotable. | D22: General | E22: Interno | F22: Economicos
C30: SELECCIÓN
B31: Errores en la evaluación de las ofertas, verificación de requisitos habilitantes, subsanación o desarrollo de la subasta inversa que afecten la selección objetiva. | D31: General | E31: Interno | F31: Operacionales
B32: Demora en la publicación de documentos o en la respuesta a observaciones presentadas durante el proceso de selección. | D32: General | E32: Interno | F32: Operacionales
B33: Identificación y tratamiento inadecuado de ofertas o precios artificialmente bajos durante la subasta inversa, sin aplicar el procedimiento previsto para su análisis. | D33: General | E33: Interno | F33: Operacionales
C38: CONTRATACIÓN
B39: Demora en la constitución, presentación, revisión o aprobación de las garantías exigidas para la ejecución del contrato. | D39: General | E39: Interno | F39: Operacionales
B40: Demora en la expedición del registro presupuestal o en el cumplimiento de los requisitos administrativos necesarios para iniciar la ejecución. | D40: General | E40: Interno | F40: Operacionales
C44: EJECUCIÓN
B45: Entrega tardía de los bienes solicitados formalmente por la Entidad dentro del plazo máximo de quince (15) días hábiles. | D45: Especifico | E45: Externo | F45: Operacionales
B46: Suministro de bienes que presenten defectos, daños, fallas de funcionamiento, incompatibilidades o incumplimiento de las especificaciones técnicas. | D46: Especifico | E46: Externo | F46: Operacionales
B47: Pérdida, daño o deterioro de los bienes durante el transporte, cargue, descargue, traslado o custodia hasta su entrega y recibo por la Entidad. | D47: Especifico | E47: Externo | F47: Operacionales
B48: Fallas en la instalación, configuración, activación de licencias, conexión, calibración, pruebas o puesta en funcionamiento de los bienes cuando estas actividades sean aplicables. | D48: Especifico | E48: Externo | F48: Técnologicos
B49: Desabastecimiento, discontinuación de referencias, obsolescencia tecnológica o dificultades de disponibilidad de bienes que afecten el suministro de los ítems definidos. | D49: Especifico | E49: Externo | F49: Técnologicos
B50: Incumplimiento de los protocolos de acceso, recepción, seguridad o permanencia establecidos por las sedes donde se realicen entregas e instalaciones. | D50: Especifico | E50: Externo | F50: Operacionales
B51: Deficiencias en la trazabilidad, identificación, serialización, inventario o documentación de los bienes efectivamente suministrados. | D51: Especifico | E51: Interno | F51: Operacionales
B52: Realización de entregas o reconocimiento económico por bienes no solicitados formalmente, o ejecución que supere el valor máximo del contrato a monto agotable. | D52: Especifico | E52: Interno | F52: Operacionales
B53: Cambios en tributos, cargas o disposiciones regulatorias posteriores a la celebración del contrato que incidan directamente en los costos o condiciones legales de ejecución. | D53: Estatal | E53: Externo | F53: Regulatorios
B54: Eventos naturales, lluvias intensas, inundaciones u otras situaciones de fuerza mayor o caso fortuito que impidan temporalmente la entrega o instalación en los puntos definidos. | D54: General | E54: Externo | F54: De la naturaleza
B55: Daños a los equipos objeto de mantenimiento y/o otros bienes | D55: Especifico | E55: Interno | F55: Operacionales
B56: Imposición de nuevos tributos | D56: Estatal | E56: Externo | F56: Regulatorios
... B71: Los elementos entregados no corresponden a los solicitados en la iniciativas | D71: Especifico | E71: Interno | F71: Operacionales
B72: No se alcanza a completar la inscripción de todas las iniciativas requeridas
D73: Especifico | E73: Interno | F73: Operacionales
D74: General | E74: Interno | F74: Operacionales
B75: Una vez entregados los bonos no es posible volver a contactar a los beneficiarios | D75: Especifico | E75: Interno | F75: Operacionales/financiero
B76: El contratista no cumple con los compromisos ofertados en los criterios ponderables | D76: General | E76: Interno | F76: Operacionales
B77: El contratista no gestiona los permisos necesarios para la entrega de los elementos | D77: General | E77: Externo | F77: Regulatorios
B82: General
B83: Estatal
...

Sheet EVALUACION
C2: MATRIZ DE RIESGOS DE CONTRATACIÓN | K2: Código: GCO-GCI-F164 Versión: 02 Vigencia: 01 de diciembre de 2022 Caso HOLA: 280117
B6: Objeto Contractual: SUMINISTRO Y DISTRIBUCIÓN DE ELEMENTOS TECNOLÓGICOS, EQUIPOS DE CÓMPUTO, CONECTIVIDAD Y ROBÓTICA, PARA EL FORTALECIMIENTO DE LOS ESPACIOS Y ACTIVIDADES DE LOS PROYECTOS DE INVERSIÓN DEL FONDO DE DESARROLLO LOCAL DE KENNEDY
B7: INSTRUCCIONES PARA LA IDENTIFICACIÓN, ANALISIS, EVALUACIÓN , ASIGNACIÓN Y TRATAMIENTO DE RIESGOS EN LA CONTRATACIÓN
B8: 1) Diligencie el objeto contractual y seleccione la(s) etapas y los riesgos que aplican al objeto contractual, de acuerdo a lo definido en la hoja de "IDENTIFICACIÓN Y ANÁLISIS"
B9: 2) Describa las consecuencias de la ocurrencia del Riesgo/evento.
B10: 3) Asigne la probabilidad de ocurrencia del riesgo, de conformidad con la tabla de probabilidad y la valoración del riesgo (Cualitativa o Monetaria)
B11: 4) Asigne el impacto que generaría la materialización del riesgo, de conformidad con la tabla de impacto y la valoración del riesgo (Cualitativa o Monetaria)
B12: 5) Al realizar las anteriores actividades se obtendrá la calificación total y la valoración del riesgo (prioridad).
B13: 6) Continúe en la hoja de "EVALUACIÓN DE CONTROLES"
B15: CALIFICACIÓN | H15: Cualitativa
B16: ETAPA | C16: Descripción (Que puede pasar y, cómo puede ocurrir) | H16: Consecuencias de la ocurrencia del evento | I16: Probabilidad de Ocurrencia | J16: Impacto | K16: Calificación Total | L16: Prioridad
B17: PLANEACIÓN | C17: Inconsistencia entre el objeto contractual, el Anexo Técnico, el Estudio Previo, el Estudio de Sector y la Matriz de Riesgos, generando reglas o alcances contradictorios durante el proceso. | H17: Puede afectar la estructuración, generar observaciones, controversias y dificultades para la ejecución y supervisión. | I17: 2 | J17: 4 | K17: =I17+J17 -> 6 | L17: =IF(K17<=4,"BAJO",IF(K17=5,"MEDIO",IF(K17=6,"ALTO",IF(K17=7,"ALTO","EXTREMO")))) -> ALTO
B18: PLANEACIÓN | C18: Inadecuado análisis de mercado o determinación de precios unitarios de referencia para los bienes objeto del proceso a monto agotable. | H18: Presupuesto de referencia inadecuado, dificultades para atender las necesidades previstas y riesgo de observaciones al proceso. | I18: 2 | J18: 4 | K18: =I18+J18 -> 6 | L18: =IF(K18<=4,"BAJO",IF(K18=5,"MEDIO",IF(K18=6,"ALTO",IF(K18=7,"ALTO","EXTREMO")))) -> ALTO
B19: PLANEACIÓN | C19: Establecimiento de requisitos habilitantes de experiencia o capacidad que resulten desproporcionados, insuficientes o no guarden relación con el objeto del proceso. | H19: Restricción injustificada de la participación, observaciones al proceso o selección de un contratista que no cuente con la experiencia requerida. | I19: 2 | J19: 4 | K19: =I19+J19 -> 6 | L19: =IF(K19<=4,"BAJO",IF(K19=5,"MEDIO",IF(K19=6,"ALTO",IF(K19=7,"ALTO","EXTREMO")))) -> ALTO
B20: PLANEACIÓN | C20: Inconsistencia entre la disponibilidad presupuestal, la distribución de recursos de los proyectos 2646, 2377 y 2780 y la estructura del contrato a monto agotable. | H20: Imposibilidad de atender solicitudes de suministro o afectación de la ejecución presupuestal de uno o varios proyectos. | I20: 1 | J20: 4 | K20: =I20+J20 -> 5 | L20: =IF(K20<=4,"BAJO",IF(K20=5,"MEDIO",IF(K20=6,"ALTO",IF(K20=7,"ALTO","EXTREMO")))) -> MEDIO
B21: SELECCIÓN | C21: Errores en la evaluación de las ofertas, verificación de requisitos habilitantes, subsanación o desarrollo de la subasta inversa que afecten la selección objetiva. | H21: Retrasos en el proceso, controversias, riesgo de adjudicación irregular o necesidad de retrotraer actuaciones. | I21: 2 | J21: 4 | K21: =I21+J21 -> 6 | L21: =IF(K21<=4,"BAJO",IF(K21=5,"MEDIO",IF(K21=6,"ALTO",IF(K21=7,"ALTO","EXTREMO")))) -> ALTO
B22: SELECCIÓN | C22: Demora en la publicación de documentos o en la respuesta a observaciones presentadas durante el proceso de selección. | H22: Retrasos en el cronograma del proceso y afectación de la oportunidad de la contratación. | I22: 2 | J22: 3 | K22: =I22+J22 -> 5 | L22: =IF(K22<=4,"BAJO",IF(K22=5,"MEDIO",IF(K22=6,"ALTO",IF(K22=7,"ALTO","EXTREMO")))) -> MEDIO
B23: SELECCIÓN | C23: Identificación y tratamiento inadecuado de ofertas o precios artificialmente bajos durante la subasta inversa, sin aplicar el procedimiento previsto para su análisis. | H23: Riesgo de adjudicación o aceptación de un precio que no permita ejecutar adecuadamente el suministro o de controversias durante la evaluación económica. | I23: 2 | J23: 4 | K23: =I23+J23 -> 6 | L23: =IF(K23<=4,"BAJO",IF(K23=5,"MEDIO",IF(K23=6,"ALTO",IF(K23=7,"ALTO","EXTREMO")))) -> ALTO
B24: CONTRATACIÓN | C24: Demora en la constitución, presentación, revisión o aprobación de las garantías exigidas para la ejecución del contrato. | H24: Retraso en el inicio de la ejecución contractual y en la atención de las necesidades de los proyectos. | I24: 2 | J24: 3 | K24: =I24+J24 -> 5 | L24: =IF(K24<=4,"BAJO",IF(K24=5,"MEDIO",IF(K24=6,"ALTO",IF(K24=7,"ALTO","EXTREMO")))) -> MEDIO
B25: CONTRATACIÓN | C25: Demora en la expedición del registro presupuestal o en el cumplimiento de los requisitos administrativos necesarios para iniciar la ejecución. | H25: Retraso en el inicio del contrato y en la atención de las solicitudes de suministro. | I25: 1 | J25: 3 | K25: =I25+J25 -> 4 | L25: =IF(K25<=4,"BAJO",IF(K25=5,"MEDIO",IF(K25=6,"ALTO",IF(K25=7,"ALTO","EXTREMO")))) -> BAJO
B26: EJECUCIÓN | C26: Entrega tardía de los bienes solicitados formalmente por la Entidad dentro del plazo máximo de quince (15) días hábiles. | H26: Retraso en la disponibilidad de los bienes y en el desarrollo de las actividades asociadas a los proyectos. | I26: 3 | J26: 4 | K26: =I26+J26 -> 7 | L26: =IF(K26<=4,"BAJO",IF(K26=5,"MEDIO",IF(K26=6,"ALTO",IF(K26=7,"ALTO","EXTREMO")))) -> ALTO
B27: EJECUCIÓN | C27: Suministro de bienes que presenten defectos, daños, fallas de funcionamiento, incompatibilidades o incumplimiento de las especificaciones técnicas. | H27: Rechazo de bienes, retrasos en la ejecución y necesidad de reposición o corrección. | I27: 3 | J27: 4 | K27: =I27+J27 -> 7 | L27: =IF(K27<=4,"BAJO",IF(K27=5,"MEDIO",IF(K27=6,"ALTO",IF(K27=7,"ALTO","EXTREMO")))) -> ALTO
B28: EJECUCIÓN | C28: Pérdida, daño o deterioro de los bienes durante el transporte, cargue, descargue, traslado o custodia hasta su entrega y recibo por la Entidad. | H28: Pérdida o daño de bienes, retrasos y costos asociados a reposición o nueva entrega. | I28: 2 | J28: 4 | K28: =I28+J28 -> 6 | L28: =IF(K28<=4,"BAJO",IF(K28=5,"MEDIO",IF(K28=6,"ALTO",IF(K28=7,"ALTO","EXTREMO")))) -> ALTO
... B35: EJECUCIÓN | C35: Eventos naturales, lluvias intensas, inundaciones u otras situaciones de fuerza mayor o caso fortuito que impidan temporalmente la entrega o instalación en los puntos definidos. | H35: Retraso temporal de entregas o instalaciones y necesidad de reprogramación cuando jurídicamente proceda. | I35: 2 | J35: 4 | K35: =I35+J35 -> 6 | L35: =IF(K35<=4,"BAJO",IF(K35=5,"MEDIO",IF(K35=6,"ALTO",IF(K35=7,"ALTO","EXTREMO")))) -> ALTO
B41: Probabilidad | C41: Catagoria | E41: Valoración | G41: Impacto | H41: Categoria | I41: Valoración
C42: Raro (puede ocurrir excepcionalmente) | E42: 1 | H42: Insignificante | I42: 1
C43: Improbable (puede ocurrir ocasionalmente) | E43: 2 | H43: Menor | I43: 2
C44: Posible (puede ocurrir en cualquier momento futuro) | E44: 3 | H44: Moderado | I44: 3
C45: Probable (probablemente va a ocurrir) | E45: 4 | H45: Mayor | I45: 4
C46: Casi cierto (ocurre en la mayoria de circunstancias) | E46: 5 | H46: Catastrófico | I46: 5
C48: Valoración del Riesgo
C49: Calificación Cualitativa | F49: Obstruye la ejecución del contrato de manera intrascendente. | G49: Dificulta la ejecución del contrato de manera baja, aplicando medidas mínimas se pueden lograr el objeto contractual | H49: Afecta la ejecución del contrato sin alterar el beneficio para las partes | I49: Obstruye la ejecución del contrato sustancialmente pero aun así permite la consecución del objeto contractual | K49: Perturba la ejecución del contrato de manera grave imposibilitando la consecución del objeto contractual.
C50: Calificación Monetaria | F50: Los sobrecostos no representan más del uno por ciento (1%) del valor del contrato. | G50: Los sobrecostos no representan más del cinco por ciento (5%) del valor del contrato. | H50: Genera un impacto sobre el valor del contrato entre el cinco (5%) y el quince por ciento (15%). | I50: Incrementa el valor del contrato entre el quince (15%) y el treinta por ciento (30%). | K50: Impacto sobre el valor del contrato en más del treinta por ciento (30%).
C51: Categoría | E51: Valoración | F51: Insignificante | G51: Menor | H51: Moderado | I51: Mayor | K51: Catastrófico
F52: 1 | G52: 2 | H52: 3 | I52: 4 | K52: 5
C53: Raro (puede ocurrir excepcionalmente) | E53: 1 | F53: 2 | G53: 3 | H53: 4 | I53: 5 | K53: 6
C54: Improbable (puede ocurrir ocasionalmente) | E54: 2 | F54: 3 | G54: 4 | H54: 5 | I54: 6 | K54: 7
C55: Posible (puede ocurrir en cualquier momento futuro) | E55: 3 | F55: 4 | G55: 5 | H55: 6 | I55: 7 | K55: 8
C56: Probable (probablemente va a ocurrir) | E56: 4 | F56: 5 | G56: 6 | H56: 7 | I56: 8 | K56: 9
C57: Casi cierto (ocurre en la mayoria de circunstancias) | E57: 5 | F57: 6 | G57: 7 | H57: 8 | I57: 9 | K57: 10
...

Sheet EVALUACION CON CONTROLES
C2: MATRIZ DE RIESGOS DE CONTRATACIÓN | Q2: Código: GCO-GCI-F164 Versión: 02 Vigencia: 01 de diciembre de 2022 Caso HOLA: 280117
B6: =+EVALUACION!B6 -> Objeto Contractual: SUMINISTRO Y DISTRIBUCIÓN DE ELEMENTOS TECNOLÓGICOS, EQUIPOS DE CÓMPUTO, CONECTIVIDAD Y ROBÓTICA, PARA EL FORTALECIMIENTO DE LOS ESPACIOS Y ACTIVIDADES DE LOS PROYECTOS DE INVERSIÓN DEL FONDO DE DESARROLLO LOCAL DE KENNEDY
B7: INSTRUCCIONES PARA LA IDENTIFICACIÓN, ANALISIS, EVALUACIÓN , ASIGNACIÓN Y TRATAMIENTO DE RIESGOS EN LA CONTRATACIÓN
B8: 1) Describa el tratamiento/controles a ser implementados
B9: 2) Diligencie la información de las siguientes columnas, de acuerdo con el análisis realizado a cada riesgo: Afecta el equilibrio económico, persona responsable de implementar el tratamiento, fecha estimada de inicio del tratamiento, fecha estimada en la que se completa el tratamiento, cómo se realiza el monitoreo y la periodicidad.
B10: 3) Continúe en la hoja de "ASIGNACIÓN Y TRATAMIENTO" y diligencie las siguientes casillas: A quien se le asigna y el porcentaje que asume cada una de las partes en caso de que sea compartido.
B15: ETAPA | C15: Descripción (Que puede pasar y, cómo puede ocurrir) | G15: Tratamiento/Controles a ser implementados | I15: Probabilidad de Ocurrencia | J15: Impacto | K15: Calificación Total | L15: Prioridad | M15: ¿Afecta el equilibrio económico del contrato? | N15: Persona responsable por implementar el tratamiento | O15: Fecha estimada en que se inicia el tratamiento | P15: Fecha estimada en que se completa el tratamiento | Q15: ¿Cómo se realiza el monitoreo? | R15: Periodicidad ¿Cuándo?
B16: =EVALUACION!B17 -> PLANEACIÓN | C16: =EVALUACION!C17 -> Inconsistencia entre el objeto contractual, el Anexo Técnico, el Estudio Previo, el Estudio de Sector y la Matriz de Riesgos, generando reglas o alcances contradictorios durante el proceso. | G16: Revisión cruzada de los documentos del proceso por las áreas técnica, de planeación y jurídica, verificando que el objeto, alcance, bienes, condiciones de entrega y obligaciones sean consistentes. | I16: 1 | J16: 3 | K16: =I16+J16 -> 4 | L16: =IF(K16<=4,"BAJO",IF(K16=5,"MEDIO",IF(K16=6,"ALTO",IF(K16=7,"ALTO","EXTREMO")))) -> BAJO | M16: NO | N16: FDLK | O16: Durante la estructuración de los documentos | P16: Antes de la publicación del proceso | Q16: Lista de chequeo y revisión cruzada de versiones finales | R16: Previo a publicación
B17: =EVALUACION!B18 -> PLANEACIÓN | C17: =EVALUACION!C18 -> Inadecuado análisis de mercado o determinación de precios unitarios de referencia para los bienes objeto del proceso a monto agotable. | G17: Verificación de la metodología de investigación de mercado, revisión de las cotizaciones unitarias de los 98 ítems y contraste de los valores de referencia con la estructura presupuestal y las cantidades de referencia de los proyectos. | I17: 1 | J17: 3 | K17: =I17+J17 -> 4 | L17: =IF(K17<=4,"BAJO",IF(K17=5,"MEDIO",IF(K17=6,"ALTO",IF(K17=7,"ALTO","EXTREMO")))) -> BAJO | M17: NO | N17: FDLK | O17: Durante la elaboración del Estudio de Sector | P17: Antes de la publicación del proceso | Q17: Revisión del Estudio de Sector y de la matriz de precios unitarios | R17: Previo a publicación
B18: =EVALUACION!B19 -> PLANEACIÓN | C18: =EVALUACION!C19 -> Establecimiento de requisitos habilitantes de experiencia o capacidad que resulten desproporcionados, insuficientes o no guarden relación con el objeto del proceso. | G18: Revisión jurídica, técnica y de planeación de los requisitos habilitantes, verificando su relación con el suministro de tecnología y su proporcionalidad frente al objeto, valor, riesgos y condiciones del mercado. | I18: 1 | J18: 3 | K18: =I18+J18 -> 4 | L18: =IF(K18<=4,"BAJO",IF(K18=5,"MEDIO",IF(K18=6,"ALTO",IF(K18=7,"ALTO","EXTREMO")))) -> BAJO | M18: NO | N18: FDLK | O18: Durante la estructuración del Estudio Previo | P18: Antes de la publicación del proceso | Q18: Revisión de requisitos habilitantes y matriz de verificación | R18: Previo a publicación
B19: =EVALUACION!B20 -> PLANEACIÓN | C19: =EVALUACION!C20 -> Inconsistencia entre la disponibilidad presupuestal, la distribución de recursos de los proyectos 2646, 2377 y 2780 y la estructura del contrato a monto agotable. | G19: Verificación de disponibilidad presupuestal, distribución por proyecto y consistencia con el POAI y los valores definidos en el Estudio Previo antes de publicar y durante la ejecución. | I19: 1 | J19: 3 | K19: =I19+J19 -> 4 | L19: =IF(K19<=4,"BAJO",IF(K19=5,"MEDIO",IF(K19=6,"ALTO",IF(K19=7,"ALTO","EXTREMO")))) -> BAJO | M19: NO | N19: FDLK | O19: Durante la estructuración presupuestal | P19: Antes de la publicación del proceso | Q19: Conciliación presupuestal y seguimiento a saldos por proyecto | R19: Mensual y previo a cada solicitud que comprometa recursos
B20: =EVALUACION!B21 -> SELECCIÓN | C20: =EVALUACION!C21 -> Errores en la evaluación de las ofertas, verificación de requisitos habilitantes, subsanación o desarrollo de la subasta inversa que afecten la selección objetiva. | G20: Aplicación de los requisitos y reglas establecidos en los documentos del proceso, revisión por el comité evaluador y control jurídico de las actuaciones y de la etapa de subasta. | I20: 1 | J20: 3 | K20: =I20+J20 -> 4 | L20: =IF(K20<=4,"BAJO",IF(K20=5,"MEDIO",IF(K20=6,"ALTO",IF(K20=7,"ALTO","EXTREMO")))) -> BAJO | M20: NO | N20: FDLK | O20: Desde la apertura del proceso | P20: Hasta la adjudicación | Q20: Actas, informes de evaluación, revisión jurídica y seguimiento a SECOP II | R20: Permanente durante la selección
B21: =EVALUACION!B22 -> SELECCIÓN | C21: =EVALUACION!C22 -> Demora en la publicación de documentos o en la respuesta a observaciones presentadas durante el proceso de selección. | G21: Control del cronograma de publicación y atención de observaciones dentro de los términos aplicables, con seguimiento de las actividades pendientes en SECOP II. | I21: 1 | J21: 2 | K21: =I21+J21 -> 3 | L21: =IF(K21<=4,"BAJO",IF(K21=5,"MEDIO",IF(K21=6,"ALTO",IF(K21=7,"ALTO","EXTREMO")))) -> BAJO | M21: NO | N21: FDLK | O21: Desde la publicación del proyecto de documentos | P21: Hasta la adjudicación o declaratoria de desierto | Q21: Seguimiento al cronograma y a la plataforma SECOP II | R21: Permanente
B22: =EVALUACION!B23 -> SELECCIÓN | C22: =EVALUACION!C23 -> Identificación y tratamiento inadecuado de ofertas o precios artificialmente bajos durante la subasta inversa, sin aplicar el procedimiento previsto para su análisis. | G22: Verificación de la oferta económica y aplicación del procedimiento de análisis de precios artificialmente bajos, tomando como referencia el precio resultante de la subasta y solicitando las explicaciones y soportes que correspondan. | I22: 1 | J22: 3 | K22: =I22+J22 -> 4 | L22: =IF(K22<=4,"BAJO",IF(K22=5,"MEDIO",IF(K22=6,"ALTO",IF(K22=7,"ALTO","EXTREMO")))) -> BAJO | M22: NO | N22: FDLK | O22: Durante la evaluación económica y la subasta | P22: Hasta la adjudicación | Q22: Revisión de la oferta final, soportes y actuación del comité evaluador | R22: En la etapa de evaluación y subasta
B23: =EVALUACION!B24 -> CONTRATACIÓN | C23: =EVALUACION!C24 -> Demora en la constitución, presentación, revisión o aprobación de las garantías exigidas para la ejecución del contrato. | G23: Revisión oportuna de las garantías presentadas y comunicación al adjudicatario de las correcciones requeridas, de conformidad con las condiciones contractuales. | I23: 1 | J23: 2 | K23: =I23+J23 -> 3 | L23: =IF(K23<=4,"BAJO",IF(K23=5,"MEDIO",IF(K23=6,"ALTO",IF(K23=7,"ALTO","EXTREMO")))) -> BAJO | M23: NO | N23: FDLK | O23: Una vez adjudicado el proceso | P23: Antes del inicio de la ejecución | Q23: Seguimiento al estado de las garantías y comunicaciones al contratista | R23: Cada vez que se presente una garantía o corrección
B24: =EVALUACION!B25 -> CONTRATACIÓN | C24: =EVALUACION!C25 -> Demora en la expedición del registro presupuestal o en el cumplimiento de los requisitos administrativos necesarios para iniciar la ejecución. | G24: Seguimiento coordinado entre las áreas jurídica, financiera y de contratación para completar oportunamente los requisitos de ejecución. | I24: 1 | J24: 2 | K24: =I24+J24 -> 3 | L24: =IF(K24<=4,"BAJO",IF(K24=5,"MEDIO",IF(K24=6,"ALTO",IF(K24=7,"ALTO","EXTREMO")))) -> BAJO | M24: NO | N24: FDLK | O24: Una vez adjudicado el proceso | P24: Antes del acta de inicio | Q24: Verificación de requisitos de ejecución y registro presupuestal | R24: Permanente hasta el inicio
B25: =EVALUACION!B26 -> EJECUCIÓN | C25: =EVALUACION!C26 -> Entrega tardía de los bienes solicitados formalmente por la Entidad dentro del plazo máximo de quince (15) días hábiles. | G25: Programación de entregas por solicitud, seguimiento al plazo de quince (15) días hábiles, coordinación con los puntos de destino y requerimiento oportuno de acciones correctivas frente a retrasos. | I25: 2 | J25: 3 | K25: =I25+J25 -> 5 | L25: =IF(K25<=4,"BAJO",IF(K25=5,"MEDIO",IF(K25=6,"ALTO",IF(K25=7,"ALTO","EXTREMO")))) -> MEDIO | M25: NO | N25: CONTRATISTA | O25: Con cada solicitud formal de suministro | P25: Hasta la entrega y recibo a satisfacción | Q25: Control de fechas de solicitud, entrega y actas de recibo | R25: Por cada solicitud
B26: =EVALUACION!B27 -> EJECUCIÓN | C26: =EVALUACION!C27 -> Suministro de bienes que presenten defectos, daños, fallas de funcionamiento, incompatibilidades o incumplimiento de las especificaciones técnicas. | G26: Validación técnica y, cuando corresponda, aprobación de muestras; pruebas de funcionamiento; recibo condicionado a cumplimiento y reposición de bienes defectuosos dentro del plazo establecido. | I26: 2 | J26: 3 | K26: =I26+J26 -> 5 | L26: =IF(K26<=4,"BAJO",IF(K26=5,"MEDIO",IF(K26=6,"ALTO",IF(K26=7,"ALTO","EXTREMO")))) -> MEDIO | M26: NO | N26: CONTRATISTA | O26: Desde la primera entrega | P26: Durante cada entrega y durante las garantías aplicables | Q26: Actas de recibo, pruebas técnicas, informes de supervisión y seguimiento a reposiciones | R26: Por cada entrega y cuando se reporte una falla
B27: =EVALUACION!B28 -> EJECUCIÓN | C27: =EVALUACION!C28 -> Pérdida, daño o deterioro de los bienes durante el transporte, cargue, descargue, traslado o custodia hasta su entrega y recibo por la Entidad. | G27: El contratista asume transporte, cargue, descargue, distribución, custodia y riesgo hasta el destino final y debe conservar los bienes en condiciones adecuadas hasta su recibo. | I27: 1 | J27: 3 | K27: =I27+J27 -> 4 | L27: =IF(K27<=4,"BAJO",IF(K27=5,"MEDIO",IF(K27=6,"ALTO",IF(K27=7,"ALTO","EXTREMO")))) -> BAJO | M27: NO | N27: CONTRATISTA | O27: Con cada solicitud de suministro | P27: Hasta el recibo por la Entidad | Q27: Verificación física en entrega y revisión de actas y soportes de transporte cuando aplique | R27: Por cada entrega
... B34: =EVALUACION!B35 -> EJECUCIÓN | C34: =EVALUACION!C35 -> Eventos naturales, lluvias intensas, inundaciones u otras situaciones de fuerza mayor o caso fortuito que impidan temporalmente la entrega o instalación en los puntos definidos. | G34: Programación flexible de entregas, coordinación con los puntos de destino, reporte oportuno de novedades y adopción de medidas de mitigación y reprogramación cuando resulte jurídicamente procedente. | I34: 1 | J34: 3 | K34: =I34+J34 -> 4 | L34: =IF(K34<=4,"BAJO",IF(K34=5,"MEDIO",IF(K34=6,"ALTO",IF(K34=7,"ALTO","EXTREMO")))) -> BAJO | M34: NO | N34: CONTRATISTA y FDLK | O34: Durante toda la ejecución | P34: Hasta superar la situación o adoptar la medida procedente | Q34: Reporte de novedades, verificación de condiciones del sitio y seguimiento a la reprogramación | R34: Cada vez que se presente la situación
H36: Impacto del Riesgo
F37: Valoración | H37: Categoria
F38: 1 | H38: Insignificante
F39: 2 | H39: Menor
F40: 3 | H40: Moderado
F41: 4 | H41: Mayor
F42: 5 | H42: Catastrófico
F47: Valoración
F49: 1
F50: 2
F51: 3
F52: 4
F53: 5

Sheet ASIGNACION Y TRATAMIENTO
C2: MATRIZ DE RIESGOS DE CONTRATACIÓN | W2: Código: GCO-GCI-F164 Versión: 02 Vigencia: 01 de diciembre de 2022 Caso HOLA: 280117
B6: =+EVALUACION!B6 -> Objeto Contractual: SUMINISTRO Y DISTRIBUCIÓN DE ELEMENTOS TECNOLÓGICOS, EQUIPOS DE CÓMPUTO, CONECTIVIDAD Y ROBÓTICA, PARA EL FORTALECIMIENTO DE LOS ESPACIOS Y ACTIVIDADES DE LOS PROYECTOS DE INVERSIÓN DEL FONDO DE DESARROLLO LOCAL DE KENNEDY
B7: Esta matriz es un documento anexo del Estudio Previo
B10: No | C10: Descripción (Que puede pasar y, cómo puede ocurrir) | D10: Etapa | E10: Clase | F10: Fuente | G10: Consecuencias de la ocurrencia del evento | H10: Probabilidad | I10: Impacto | J10: Calificación total | K10: Prioridad | L10: ¿A quien se le asigna? | M10: % | N10: Tratamiento/Controles a ser implementados | O10: Probabilidad | P10: Impacto | Q10: Calificación total | R10: Prioridad | S10: ¿Afecta el equilibrio económico del contrato? | T10: Persona responsable por implementar el tratamiento | U10: Fecha estimada en que se inicia el tratamiento | V10: Fecha estimada en que se completa el tratamiento | W10: ¿Cómo se realiza el monitoreo | X10: Periodicidad ¿Cuándo?
B11: 1 | C11: =+'EVALUACION CON CONTROLES'!C16 -> Inconsistencia entre el objeto contractual, el Anexo Técnico, el Estudio Previo, el Estudio de Sector y la Matriz de Riesgos, generando reglas o alcances contradictorios durante el proceso. | D11: =VLOOKUP(C11,'IDENTIFICACION Y ANALISIS'!$B$19:$F$77,3,FALSE) -> General | E11: =VLOOKUP(C11,'IDENTIFICACION Y ANALISIS'!$B$19:$F$77,4,FALSE) -> Interno | K11: FDLK | L11: 100 | M11: =+'EVALUACION CON CONTROLES'!G16 -> Revisión cruzada de los documentos del proceso por las áreas técnica, de planeación y jurídica, verificando que el objeto, alcance, bienes, condiciones de entrega y obligaciones sean consistentes. | N11: =+'EVALUACION CON CONTROLES'!I16 -> 1 | O11: =+'EVALUACION CON CONTROLES'!J16 -> 3 | P11: =+'EVALUACION CON CONTROLES'!K16 -> 4 | Q11: =+'EVALUACION CON CONTROLES'!L16 -> BAJO | R11: =+'EVALUACION CON CONTROLES'!M16 -> NO | S11: =+'EVALUACION CON CONTROLES'!N16 -> FDLK | T11: =+'EVALUACION CON CONTROLES'!O16 -> Durante la estructuración de los documentos | U11: =+'EVALUACION CON CONTROLES'!P16 -> Antes de la publicación del proceso | ... W11: =+'EVALUACION CON CONTROLES'!R16 -> Previo a publicación | X11: =+'EVALUACION CON CONTROLES'!R16 -> Previo a publicación
B12: 2 | C12: =+'EVALUACION CON CONTROLES'!C17 -> Inadecuado análisis de mercado o determinación de precios unitarios de referencia para los bienes objeto del proceso a monto agotable. | D12: =VLOOKUP(C12,'IDENTIFICACION Y ANALISIS'!$B$19:$F$77,3,FALSE) -> General | E12: =VLOOKUP(C12,'IDENTIFICACION Y ANALISIS'!$B$19:$F$77,4,FALSE) -> Interno | K12: FDLK | L12: 100 | M12: =+'EVALUACION CON CONTROLES'!G17 -> Verificación de la metodología de investigación de mercado, revisión de las cotizaciones unitarias de los 98 ítems y contraste de los valores de referencia con la estructura presupuestal y las cantidades de referencia de los proyectos. | N12: =+'EVALUACION CON CONTROLES'!I17 -> 1 | O12: =+'EVALUACION CON CONTROLES'!J17 -> 3 | P12: =+'EVALUACION CON CONTROLES'!K17 -> 4 | Q12: =+'EVALUACION CON CONTROLES'!L17 -> BAJO | R12: =+'EVALUACION CON CONTROLES'!M17 -> NO | S12: =+'EVALUACION CON CONTROLES'!N17 -> FDLK | T12: =+'EVALUACION CON CONTROLES'!O17 -> Durante la elaboración del Estudio de Sector | U12: =+'EVALUACION CON CONTROLES'!P17 -> Antes de la publicación del proceso | ... W12: =+'EVALUACION CON CONTROLES'!R17 -> Previo a publicación | X12: =+'EVALUACION CON CONTROLES'!R17 -> Previo a publicación
B13: 3 | C13: =+'EVALUACION CON CONTROLES'!C18 -> Establecimiento de requisitos habilitantes de experiencia o capacidad que resulten desproporcionados, insuficientes o no guarden relación con el objeto del proceso. | D13: =VLOOKUP(C13,'IDENTIFICACION Y ANALISIS'!$B$19:$F$77,3,FALSE) -> General | E13: =VLOOKUP(C13,'IDENTIFICACION Y ANALISIS'!$B$19:$F$77,4,FALSE) -> Interno | K13: FDLK | L13: 100 | M13: =+'EVALUACION CON CONTROLES'!G18 -> Revisión jurídica, técnica y de planeación de los requisitos habilitantes, verificando su relación con el suministro de tecnología y su proporcionalidad frente al objeto, valor, riesgos y condiciones del mercado. | N13: =+'EVALUACION CON CONTROLES'!I18 -> 1 | O13: =+'EVALUACION CON CONTROLES'!J18 -> 3 | P13: =+'EVALUACION CON CONTROLES'!K18 -> 4 | Q13: =+'EVALUACION CON CONTROLES'!L18 -> BAJO | R13: =+'EVALUACION CON CONTROLES'!M18 -> NO | S13: =+'EVALUACION CON CONTROLES'!N18 -> FDLK | T13: =+'EVALUACION CON CONTROLES'!O18 -> Durante la estructuración del Estudio Previo | U13: =+'EVALUACION CON CONTROLES'!P18 -> Antes de la publicación del proceso | ... W13: =+'EVALUACION CON CONTROLES'!R18 -> Previo a publicación | X13: =+'EVALUACION CON CONTROLES'!R18 -> Previo a publicación
B14: 4 | C14: =+'EVALUACION CON CONTROLES'!C19 -> Inconsistencia entre la disponibilidad presupuestal, la distribución de recursos de los proyectos 2646, 2377 y 2780 y la estructura del contrato a monto agotable. | D14: =VLOOKUP(C14,'IDENTIFICACION Y ANALISIS'!$B$19:$F$77,3,FALSE) -> General | E14: =VLOOKUP(C14,'IDENTIFICACION Y ANALISIS'!$B$19:$F$77,4,FALSE) -> Interno | K14: FDLK | L14: 100 | M14: =+'EVALUACION CON CONTROLES'!G19 -> Verificación de disponibilidad presupuestal, distribución por proyecto y consistencia con el POAI y los valores definidos en el Estudio Previo antes de publicar y durante la ejecución. | N14: =+'EVALUACION CON CONTROLES'!I19 -> 1 | O14: =+'EVALUACION CON CONTROLES'!J19 -> 3 | P14: =+'EVALUACION CON CONTROLES'!K19 -> 4 | Q14: =+'EVALUACION CON CONTROLES'!L19 -> BAJO | R14: =+'EVALUACION CON CONTROLES'!M19 -> NO | S14: =+'EVALUACION CON CONTROLES'!N19 -> FDLK | T14: =+'EVALUACION CON CONTROLES'!O19 -> Durante la estructuración presupuestal | U14: =+'EVALUACION CON CONTROLES'!P19 -> Antes de la publicación del proceso | ... W14: =+'EVALUACION CON CONTROLES'!R19 -> Mensual y previo a cada solicitud que comprometa recursos | X14: =+'EVALUACION CON CONTROLES'!R19 -> Mensual y previo a cada solicitud que comprometa recursos
B15: 5 | C15: =+'EVALUACION CON CONTROLES'!C20 -> Errores en la evaluación de las ofertas, verificación de requisitos habilitantes, subsanación o desarrollo de la subasta inversa que afecten la selección objetiva. | D15: =VLOOKUP(C15,'IDENTIFICACION Y ANALISIS'!$B$19:$F$77,3,FALSE) -> General | E15: =VLOOKUP(C15,'IDENTIFICACION Y ANALISIS'!$B$19:$F$77,4,FALSE) -> Interno | K15: FDLK | L15: 100 | M15: =+'EVALUACION CON CONTROLES'!G20 -> Aplicación de los requisitos y reglas establecidos en los documentos del proceso, revisión por el comité evaluador y control jurídico de las actuaciones y de la etapa de subasta. | N15: =+'EVALUACION CON CONTROLES'!I20 -> 1 | O15: =+'EVALUACION CON CONTROLES'!J20 -> 3 | P15: =+'EVALUACION CON CONTROLES'!K20 -> 4 | Q15: =+'EVALUACION CON CONTROLES'!L20 -> BAJO | R15: =+'EVALUACION CON CONTROLES'!M20 -> NO | S15: =+'EVALUACION CON CONTROLES'!N20 -> FDLK | T15: =+'EVALUACION CON CONTROLES'!O20 -> Desde la apertura del proceso | U15: =+'EVALUACION CON CONTROLES'!P20 -> Hasta la adjudicación | ... W15: =+'EVALUACION CON CONTROLES'!R20 -> Permanente durante la selección | X15: =+'EVALUACION CON CONTROLES'!R20 -> Permanente durante la selección
B16: 6 | C16: =+'EVALUACION CON CONTROLES'!C21 -> Demora en la publicación de documentos o en la respuesta a observaciones presentadas durante el proceso de selección. | D16: =VLOOKUP(C16,'IDENTIFICACION Y ANALISIS'!$B$19:$F$77,3,FALSE) -> General | E16: =VLOOKUP(C16,'IDENTIFICACION Y ANALISIS'!$B$19:$F$77,4,FALSE) -> Interno | K16: FDLK | L16: 100 | M16: =+'EVALUACION CON CONTROLES'!G21 -> Control del cronograma de publicación y atención de observaciones dentro de los términos aplicables, con seguimiento de las actividades pendientes en SECOP II. | N16: =+'EVALUACION CON CONTROLES'!I21 -> 1 | O16: =+'EVALUACION CON CONTROLES'!J21 -> 2 | P16: =+'EVALUACION CON CONTROLES'!K21 -> 3 | Q16: =+'EVALUACION CON CONTROLES'!L21 -> BAJO | R16: =+'EVALUACION CON CONTROLES'!M21 -> NO | S16: =+'EVALUACION CON CONTROLES'!N21 -> FDLK | T16: =+'EVALUACION CON CONTROLES'!O21 -> Desde la publicación del proyecto de documentos | U16: =+'EVALUACION CON CONTROLES'!P21 -> Hasta la adjudicación o declaratoria de desierto | ... W16: =+'EVALUACION CON CONTROLES'!R21 -> Permanente | X16: =+'EVALUACION CON CONTROLES'!R21 -> Permanente
B17: 7 | C17: =+'EVALUACION CON CONTROLES'!C22 -> Identificación y tratamiento inadecuado de ofertas o precios artificialmente bajos durante la subasta inversa, sin aplicar el procedimiento previsto para su análisis. | D17: =VLOOKUP(C17,'IDENTIFICACION Y ANALISIS'!$B$19:$F$77,3,FALSE) -> General | E17: =VLOOKUP(C17,'IDENTIFICACION Y ANALISIS'!$B$19:$F$77,4,FALSE) -> Interno | K17: FDLK | L17: 100 | M17: =+'EVALUACION CON CONTROLES'!G22 -> Verificación de la oferta económica y aplicación del procedimiento de análisis de precios artificialmente bajos, tomando como referencia el precio resultante de la subasta y solicitando las explicaciones y soportes que correspondan. | N17: =+'EVALUACION CON CONTROLES'!I22 -> 1 | O17: =+'EVALUACION CON CONTROLES'!J22 -> 3 | P17: =+'EVALUACION CON CONTROLES'!K22 -> 4 | Q17: =+'EVALUACION CON CONTROLES'!L22 -> BAJO | R17: =+'EVALUACION CON CONTROLES'!M22 -> NO | S17: =+'EVALUACION CON CONTROLES'!N22 -> FDLK | T17: =+'EVALUACION CON CONTROLES'!O22 -> Durante la evaluación económica y la subasta | U17: =+'EVALUACION CON CONTROLES'!P22 -> Hasta la adjudicación | ... W17: =+'EVALUACION CON CONTROLES'!R22 -> En la etapa de evaluación y subasta | X17: =+'EVALUACION CON CONTROLES'!R22 -> En la etapa de evaluación y subasta
B18: 8 | C18: =+'EVALUACION CON CONTROLES'!C23 -> Demora en la constitución, presentación, revisión o aprobación de las garantías exigidas para la ejecución del contrato. | D18: =VLOOKUP(C18,'IDENTIFICACION Y ANALISIS'!$B$19:$F$77,3,FALSE) -> General | E18: =VLOOKUP(C18,'IDENTIFICACION Y ANALISIS'!$B$19:$F$77,4,FALSE) -> Interno | K18: FDLK | L18: 100 | M18: =+'EVALUACION CON CONTROLES'!G23 -> Revisión oportuna de las garantías presentadas y comunicación al adjudicatario de las correcciones requeridas, de conformidad con las condiciones contractuales. | N18: =+'EVALUACION CON CONTROLES'!I23 -> 1 | O18: =+'EVALUACION CON CONTROLES'!J23 -> 2 | P18: =+'EVALUACION CON CONTROLES'!K23 -> 3 | Q18: =+'EVALUACION CON CONTROLES'!L23 -> BAJO | R18: =+'EVALUACION CON CONTROLES'!M23 -> NO | S18: =+'EVALUACION CON CONTROLES'!N23 -> FDLK | T18: =+'EVALUACION CON CONTROLES'!O23 -> Una vez adjudicado el proceso | U18: =+'EVALUACION CON CONTROLES'!P23 -> Antes del inicio de la ejecución | ... W18: =+'EVALUACION CON CONTROLES'!R23 -> Cada vez que se presente una garantía o corrección | X18: =+'EVALUACION CON CONTROLES'!R23 -> Cada vez que se presente una garantía o corrección
B19: 9 | C19: =+'EVALUACION CON CONTROLES'!C24 -> Demora en la expedición del registro presupuestal o en el cumplimiento de los requisitos administrativos necesarios para iniciar la ejecución. | D19: =VLOOKUP(C19,'IDENTIFICACION Y ANALISIS'!$B$19:$F$77,3,FALSE) -> General | E19: =VLOOKUP(C19,'IDENTIFICACION Y ANALISIS'!$B$19:$F$77,4,FALSE) -> Interno | K19: FDLK | L19: 100 | M19: =+'EVALUACION CON CONTROLES'!G24 -> Seguimiento coordinado entre las áreas jurídica, financiera y de contratación para completar oportunamente los requisitos de ejecución. | N19: =+'EVALUACION CON CONTROLES'!I24 -> 1 | O19: =+'EVALUACION CON CONTROLES'!J24 -> 2 | P19: =+'EVALUACION CON CONTROLES'!K24 -> 3 | Q19: =+'EVALUACION CON CONTROLES'!L24 -> BAJO | R19: =+'EVALUACION CON CONTROLES'!M24 -> NO | S19: =+'EVALUACION CON CONTROLES'!N24 -> FDLK | T19: =+'EVALUACION CON CONTROLES'!O24 -> Una vez adjudicado el proceso | U19: =+'EVALUACION CON CONTROLES'!P24 -> Antes del acta de inicio | ... W19: =+'EVALUACION CON CONTROLES'!R24 -> Permanente hasta el inicio | X19: =+'EVALUACION CON CONTROLES'!R24 -> Permanente hasta el inicio
B20: 10 | C20: =+'EVALUACION CON CONTROLES'!C25 -> Entrega tardía de los bienes solicitados formalmente por la Entidad dentro del plazo máximo de quince (15) días hábiles. | D20: =VLOOKUP(C20,'IDENTIFICACION Y ANALISIS'!$B$19:$F$77,3,FALSE) -> Especifico | E20: =VLOOKUP(C20,'IDENTIFICACION Y ANALISIS'!$B$19:$F$77,4,FALSE) -> Externo | K20: CONTRATISTA | L20: 100 | M20: =+'EVALUACION CON CONTROLES'!G25 -> Programación de entregas por solicitud, seguimiento al plazo de quince (15) días hábiles, coordinación con los puntos de destino y requerimiento oportuno de acciones correctivas frente a retrasos. | N20: =+'EVALUACION CON CONTROLES'!I25 -> 2 | O20: =+'EVALUACION CON CONTROLES'!J25 -> 3 | P20: =+'EVALUACION CON CONTROLES'!K25 -> 5 | Q20: =+'EVALUACION CON CONTROLES'!L25 -> MEDIO | R20: =+'EVALUACION CON CONTROLES'!M25 -> NO | S20: =+'EVALUACION CON CONTROLES'!N25 -> CONTRATISTA | T20: =+'EVALUACION CON CONTROLES'!O25 -> Con cada solicitud formal de suministro | U20: =+'EVALUACION CON CONTROLES'!P25 -> Hasta la entrega y recibo a satisfacción | ... W20: =+'EVALUACION CON CONTROLES'!R25 -> Por cada solicitud | X20: =+'EVALUACION CON CONTROLES'!R25 -> Por cada solicitud
B21: 11 | C21: =+'EVALUACION CON CONTROLES'!C26 -> Suministro de bienes que presenten defectos, daños, fallas de funcionamiento, incompatibilidades o incumplimiento de las especificaciones técnicas. | D21: =VLOOKUP(C21,'IDENTIFICACION Y ANALISIS'!$B$19:$F$77,3,FALSE) -> Especifico | E21: =VLOOKUP(C21,'IDENTIFICACION Y ANALISIS'!$B$19:$F$77,4,FALSE) -> Externo | K21: CONTRATISTA | L21: 100 | M21: =+'EVALUACION CON CONTROLES'!G26 -> Validación técnica y, cuando corresponda, aprobación de muestras; pruebas de funcionamiento; recibo condicionado a cumplimiento y reposición de bienes defectuosos dentro del plazo establecido. | N21: =+'EVALUACION CON CONTROLES'!I26 -> 2 | O21: =+'EVALUACION CON CONTROLES'!J26 -> 3 | P21: =+'EVALUACION CON CONTROLES'!K26 -> 5 | Q21: =+'EVALUACION CON CONTROLES'!L26 -> MEDIO | R21: =+'EVALUACION CON CONTROLES'!M26 -> NO | S21: =+'EVALUACION CON CONTROLES'!N26 -> CONTRATISTA | T21: =+'EVALUACION CON CONTROLES'!O26 -> Desde la primera entrega | U21: =+'EVALUACION CON CONTROLES'!P26 -> Durante cada entrega y durante las garantías aplicables | ... W21: =+'EVALUACION CON CONTROLES'!R26 -> Por cada entrega y cuando se reporte una falla | X21: =+'EVALUACION CON CONTROLES'!R26 -> Por cada entrega y cuando se reporte una falla
B22: 12 | C22: =+'EVALUACION CON CONTROLES'!C27 -> Pérdida, daño o deterioro de los bienes durante el transporte, cargue, descargue, traslado o custodia hasta su entrega y recibo por la Entidad. | D22: =VLOOKUP(C22,'IDENTIFICACION Y ANALISIS'!$B$19:$F$77,3,FALSE) -> Especifico | E22: =VLOOKUP(C22,'IDENTIFICACION Y ANALISIS'!$B$19:$F$77,4,FALSE) -> Externo | K22: CONTRATISTA | L22: 100 | M22: =+'EVALUACION CON CONTROLES'!G27 -> El contratista asume transporte, cargue, descargue, distribución, custodia y riesgo hasta el destino final y debe conservar los bienes en condiciones adecuadas hasta su recibo. | N22: =+'EVALUACION CON CONTROLES'!I27 -> 1 | O22: =+'EVALUACION CON CONTROLES'!J27 -> 3 | P22: =+'EVALUACION CON CONTROLES'!K27 -> 4 | Q22: =+'EVALUACION CON CONTROLES'!L27 -> BAJO | R22: =+'EVALUACION CON CONTROLES'!M27 -> NO | S22: =+'EVALUACION CON CONTROLES'!N27 -> CONTRATISTA | T22: =+'EVALUACION CON CONTROLES'!O27 -> Con cada solicitud de suministro | U22: =+'EVALUACION CON CONTROLES'!P27 -> Hasta el recibo por la Entidad | ... W22: =+'EVALUACION CON CONTROLES'!R27 -> Por cada entrega | X22: =+'EVALUACION CON CONTROLES'!R27 -> Por cada entrega
... B29: 19 | C29: =+'EVALUACION CON CONTROLES'!C34 -> Eventos naturales, lluvias intensas, inundaciones u otras situaciones de fuerza mayor o caso fortuito que impidan temporalmente la entrega o instalación en los puntos definidos. | D29: =VLOOKUP(C29,'IDENTIFICACION Y ANALISIS'!$B$19:$F$77,3,FALSE) -> General | E29: =VLOOKUP(C29,'IDENTIFICACION Y ANALISIS'!$B$19:$F$77,4,FALSE) -> Externo | K29: CONTRATISTA Y FDLK | L29: 50 - 50 | M29: =+'EVALUACION CON CONTROLES'!G34 -> Programación flexible de entregas, coordinación con los puntos de destino, reporte oportuno de novedades y adopción de medidas de mitigación y reprogramación cuando resulte jurídicamente procedente. | N29: =+'EVALUACION CON CONTROLES'!I34 -> 1 | O29: =+'EVALUACION CON CONTROLES'!J34 -> 3 | P29: =+'EVALUACION CON CONTROLES'!K34 -> 4 | Q29: =+'EVALUACION CON CONTROLES'!L34 -> BAJO | R29: =+'EVALUACION CON CONTROLES'!M34 -> NO | S29: =+'EVALUACION CON CONTROLES'!N34 -> CONTRATISTA y FDLK | T29: =+'EVALUACION CON CONTROLES'!O34 -> Durante toda la ejecución | U29: =+'EVALUACION CON CONTROLES'!P34 -> Hasta superar la situación o adoptar la medida procedente | ... W29: =+'EVALUACION CON CONTROLES'!R34 -> Cada vez que se presente la situación | X29: =+'EVALUACION CON CONTROLES'!R34 -> Cada vez que se presente la situación
B51: CONTRATISTA
B52: SDG
B53: CONTRATISTA Y SDG
