Workbook

Sheet Solicitud cotizaciones
A1: ANEXO 1
A3: Apreciados Señores: De manera atenta la Fiscalía General de la Nación Nivel Central, requiere cotizar con ustedes lo siguiente:
A5: ITEM | B5: SOLICITUD COTIZACIÓN
A6: 1 | B6: ADVERTENCIA | C6: La cotización solicitada servirá de base para REVALIDAR los precios indicativos del mercado; para compra y por tanto NO CONSTITUYE en sí misma una oferta y consecuentemente NO OBLIGA a las partes.
A7: 2 | B7: OBJETO | C7: OBJETO DEL CONTRATO
A8: 3 | B8: VALIDEZ DE LA COTIZACIÓN | C8: La validez de oferta debe ser mínima de NOVENTA (90) DIAS, especificando si los días de la validez son hábiles o calendario.
A9: 4 | B9: ESPECIFICACIONES TÉCNICAS | C9: VER ARCHIVO ADJUNTO (EN WORD SE ENVIA LA FICHA TECNICA)
A14: 5 | B14: CONDICIONES DE LA COTRATACIÓN | C14: PLAZO DE EJECUCIÓN
C15: FORMA DE PAGO | D15: La Fiscalía General de la Nación cancelará el valor del contrato, mediante pagos parciales por la ejecución de objeto del contrato, dentro de los treinta (30) días calendarios siguientes a la fecha en que el contratista radique la factura comercial, acompañada de la certificación donde conste el cumplimiento del contrato expedida por el supervisor del contrato y de la certificación que acredite el pago por parte del contratista de las obligaciones al sistema general de seguridad social (salud, pensiones y riesgos profesionales) y aportes parafiscales (cajas de compensación familiar, SENA e ICBF).
C16: MECANISMOS DE COBERTURA DE LOS RIESGOS | D16: AMPAROS
A19: 6 | B19: VALOR OFRECIDO | C19: DESCRIPCION DEL OBJETO DEL CONTRATO | E19: VALOR UNITARIO | F19: IVA DE VLR UNI. | G19: VALOR UNI. + IVA
A20: 7 | B20: PLAZO PARA PRESENTAR LA COTIZACIÓN | C20: TRES (3) DIAS HABILES.
A21: NOTA:
A22: Agradecemos su gentil colaboración y estaremos atentos a responder cualquier inquietud al respecto, quedamos atentos al envío de su propuesta por este mismo medio dentro del plazo establecido para su presentación.
A24: Cordial saludo,
A26: NOMBRE
A27: GRUPO DE ANALISIS DEL SECTOR ECONOMICO Y DE OFERENTES
A28: TELEFONO

Sheet GENERAL
A1: No. Estudio | B1: DIA Y MES | C1: valor estudios previos | D1: Dependencia solicitante | E1: Destino | F1: Plazo de Ejecución | G1: No. COTIZACIONES | H1: No. COTIZACIONES LETRAS | I1: EMPRESA 1 | J1: EMPRESA 2 | K1: EMPRESA 3 | L1: EMPRESA 4 | M1: NUMERO DE EMPRESAS SECOP | N1: OBJETO DEL CONTRATO | O1: PROCESO HISTORICO ANALIZADO | P1: OBJETO | Q1: IPC INICIAL | R1: IPC FINAL | S1: OFERTAS DEL HISTORICO | T1: CONTRATISTA HISTORICO | U1: VALOR DEL CONTRATO | V1: TERMINO DE EJECUCION | W1: LINK | X1: MODALIAD DE CONTRATACION | Y1: FECHA DE SUSCRIPCION DEL CONTRATO | Z1: FECHA DE INICIO DEL CONTRATO | AA1: OFERTAS DEL HISTORICO | AB1: V/R ESTUDIO | AC1: BIEN O SERVICIO | AD1: FORMULA UTILIZADA | AF1: CODIGOS CUPS UTILIZADOS | AG1: DESCRIPCION SEGMENTO | AH1: # EMPRESAS POTENCIALES | AI1: # DE EMPRESAS INTERESADAS
A2: 200 | B2: 44764 | C2: =+AB2 -> #REF! | D2: Jefe Departamento de Seguridad y el Director Protección y Asistencia de la Fiscalía General de la Nación | E2: El contrato se ejecutará en los lugares relacionados en las “FICHA TÉCNICA DE BIENES Y SERVICIOS DE CARACTERÍSTICAS TÉCNICAS UNIFORMES Y DE COMÚN UTILIZACIÓN”, de cada una de las Regionales, anexas al presente proceso contractual. | F2: desde el 01 de diciembre de 2020 hasta el 31 de julio de 2022 | I2: COLVISEG | J2: SEGURIDAD HORUS LTDA | K2: COSEQUIN LTDA | N2: PRESTAR LOS SERVICIOS DE VIGILANCIA Y SEGURIDAD PRIVADA FIJA Y MOVIL, CON MEDIOS TECNOLÓGICOS Y PERSONAL UNIFORMADO CON Y SIN ARMAS, PARA LA ADECUADA PROTECCIÓN, CUSTODIA, AMPARO Y SALVAGUARDA DE LAS PERSONAS QUE LABORAN E INGRESAN A LAS INSTALACIONES, Y LOS BIENES MUEBLES E INMUEBLES DEL NIVEL CENTRAL | O2: PROCESO FGN-IPSE-040-2018 NC | P2: PRESTAR LOS SERVICIOS DE VIGILANCIA Y SEGURIDAD PRIVADA FIJA Y MOVIL, CON MEDIOS TECNOLÓGICOS Y PERSONAL UNIFORMADO CON Y SIN ARMAS, PARA LA ADECUADA PROTECCIÓN, CUSTODIA, AMPARO Y SALVAGUARDA DE LAS PERSONAS QUE LABORAN E INGRESAN A LAS INSTALACIONES, Y LOS BIENES MUEBLES E INMUEBLES DE LAS DIFERENTES REGIONALES QUE CONFORMAN LA FISCALIA GENERAL DE LA NACIÓN- GRUPO 9: NIVEL CENTRAL | Q2: 99.7 | R2: 105.36 | T2: SU OPORTUNO SERVICIO LTDA. | U2: 29,379,751,963 | V2: 60 DIAS | W2: https://www.contratos.gov.co/consultas/detalleProceso.do?numConstancia=18-9-449535 | X2: SUBASTA INVERSA | Y2: =+O3 -> 01 de diciembre de 2020 | Z2: 01 DE DICIEMBRE DE 2018 | AB2: =#REF! -> #REF! | AC2: BIENES | AD2: PARA CALCULAR EL VALOR QUE CORRESPONDE AL FACTOR HUMANO SE EMPLEARON LOS VALORES ESTABLECIDOS POR LA SUPERINTENDENCIA DE VIGILANCIA Y SEGURIDAD PARA EL AÑO 2020 SEGÚN CIRCULAR EXTERNA Nº 20201300000015 Y PARA EL FACTOR TECNOLOGICO SE EMPLEARON LOS VALORES DE REFERENCIA. | AE2: IVA INCLUIDO Y TODOS LOS COSTOS DIRECTOS E INDIRECTOS
O3: 01 de diciembre de 2020

Sheet Anexo 1
B1: ANEXO 1
B4: LISTADO DE POSIBLES PROVEEDORES
B5: No. | C5: Nombre Empresa | D5: Telefono Fijo y/o celular | E5: Correo electronico
B6: 1 | C6: =+GENERAL!K2 -> COSEQUIN LTDA | D6: 4343584 | E6: auxiliarcomercial.cosequin@gmail.com
B7: 2 | C7: =+GENERAL!J2 -> SEGURIDAD HORUS LTDA | D7: 6311500 | E7: comercial2@horusseguridad.com
B8: 3 | C8: =+GENERAL!I2 -> COLVISEG | D8: 5189191 | E8: dircomercial@colviseg.com

Sheet Anexo 2
A1: ANEXO 2
A3: EXPERIENCIA EN CONTRATACIÓN EN LOS ÚLTIMOS AÑOS
A5: Con el fin de conocer la experiencia con la que cuentan las empresas del sector relacionadas con el objeto del presente estudio de mercado, agradecemos diligenciar el cuadro relacionado a continuación con base en los contratos suscritos en los ultimos 5 años
A6: EMPRESA | B6: OBJETO DEL CONTRATO | C6: FECHA DE SUSCRIPCIÓN | D6: % DE PARTICIPACIÓN | E6: VALOR TOTAL EJECUTADO DEL CONTRATO DE ACUERDO AL % DE PARTICIPACIÓN
A7: =+GENERAL!K2 -> COSEQUIN LTDA
A8: NO SE EVIDENCIAN PROCESOS DE CONTRATACION PUBLICA ADELANTADOS POR ESTE OFERENTE
A9: =+GENERAL!J2 -> SEGURIDAD HORUS LTDA
A10: NO SE EVIDENCIAN PROCESOS DE CONTRATACION PUBLICA ADELANTADOS POR ESTE OFERENTE
A11: =+'Anexo 1'!C8 -> COLVISEG
A12: NO SE EVIDENCIAN PROCESOS DE CONTRATACION PUBLICA ADELANTADOS POR ESTE OFERENTE

Sheet 1. VALOR 2026 (1 MES)
B1: ANEXO 1 - FACTOR HUMANO - VIGENCIA 2026 (1 MES)
C3: PRESTAR LOS SERVICIOS DE VIGILANCIA Y SEGURIDAD PRIVADA FIJA Y MOVIL, CON MEDIOS TECNOLÓGICOS Y PERSONAL UNIFORMADO CON Y SIN ARMAS, PARA LA ADECUADA PROTECCIÓN, CUSTODIA, AMPARO Y SALVAGUARDA DE LAS PERSONAS QUE LABORAN E INGRESAN A LAS INSTALACIONES Y LOS BIENES MUEBLES E INMUEBLES DE LA FISCALIA GENERAL DE LA NACIÓN Y DEL FONDO ESPECIAL PARA LA ADMINISTRACIÓN DE BIENES – F.E.A.B. DE LA FISCALIA GENERAL DE LA NACIÓN, DE LA REGIONAL CENTRAL, CONFORMADA POR LAS SECCIONALES: I) BOYACA, II) CUNDINAMARCA Y AMAZONAS.
B4: VARIABLES ESTABLECIDAS POR LA SUPERINTENDENCIA DE VIGILANCIA Y SEGURIDAD PARA EL AÑO 2026 SEGÚN CIRCULAR EXTERNA Nº 202513000001105CS DEL 30 DE DICIEMBRE DE 2025
B5: SALARIO MINIMO 2026 | E5: 1750905
B6: TARIFA MINIMA SECTOR PUBLICO | E6: 10.21
B7: VALOR TARIFA MINIMA SECTOR PUBLICO | E7: =ROUND(E5*E6,2)+1500 -> 17878240 | G7: INCLUIDO SEGURO DE VIDA ($1.500)
B10: MODALIDAD DE MEDIO, TARIFA, PORCENTAJE ADMINISTRACION Y SUPERVISION.
B11: MODALIDAD MEDIO | C11: TARIFA | D11: PORCENTAJE A Y S | E11: VALOR A Y S | F11: TARIFA + A Y S
B12: 24 HORAS 30 DIAS AL MES MEDIO HUMANO SIN ARMA | C12: =$E$7 -> 17878240 | D12: 0.08 | E12: =ROUND(C12*D12,2) -> 1430259.2 | F12: =ROUND(C12+E12,2) -> 19308499
B13: 24 HORAS 30 DIAS AL MES MEDIO HUMANO CON ARMA | C13: =$E$7 -> 17878240 | D13: 0.1 | E13: =ROUND(C13*D13,2) -> 1787824 | F13: =ROUND(C13+E13,2) -> 19666064
B16: DIAS A TENER EN CUENTA PARA EL COBRO DE LAS TARIFAS MINIMAS EN LA PRESTACION DE LOS SERVICIOS DE VIGILANCIA Y SEGURIDAD PRIVADA PARA 2026
B17: LUNES A VIERNES SIN FESTIVOS | E17: 20
B18: LUNES A VIERNES CON FESTIVOS | E18: 22
B19: LUNES A SABADO SIN FESTIVOS | E19: 24
B20: LUNES A SABADO CON FESTIVOS | E20: 26
B21: FESTIVOS | E21: 2
B22: SABADOS Y DOMINGOS | E22: 8
B23: SABADOS, DOMINGOS Y FESTIVOS | E23: 10
B26: VARIABLE DE PROPORCIONALIDAD SOBRE EL VALOR DEL SERVICIO ESTABLECIDO PARA UN SERVICIO DE VEINTICUATRO (24) HORAS Y TREINTA (30) DÍAS AL MES Y EN LOS TÉRMINOS DE LA JORNADA LABORAL VIGENTE.
B27: JORNADA LABORAL | D27: VARIABLE DE PROPORCIONALIDAD | H27: JORNADA LABORAL
B28: 6:00 A.M. a 2:00 P.M. (turno de 8 horas diurno) | D28: 0.4759 | H28: 6am. A 9pm turno de 15 Hrs. DIURNO
B29: 2:00 P.M. a 9:00 P.M. (turno de 7 horas diurno)
B30: 9:00 P.M. a 6:00 A.M. (turno de 9 horas nocturnas) | D30: 0.5241 | H30: 10pm a 6am tuRno de 9 Hrs NOCTURNO
H31: TOTAL 24 hrs durante 30 días
B32: b. Tomar el valor resultante de la aplicación de la variable de proporcionalidad anteriormente establecida, dividirlo por treinta (30) días y multiplicarlo por el número de días en que se prestará el servicio, luego dividirlo por la jornada laboral y el resultado multiplicarlo por las horas requeridas del servicio.
B33: Lo anterior, corresponde a la aplicación de la siguiente fórmula matemática: (SMLMV x TARIFA DE SERVICIOS) x VARIABLE PROPORCIONALIDAD) /30) x DÍAS QUE SE REQUIERE EL SERVICIO) /JORNADA LABORAL) x HORAS REQUERIDAS DEL SERVICIO.
B36: NECESIDAD FGN ( VALORES UNITARIOS MES) | L36: VALIDACION TOTAL DE CIFRAS
B37: MODALIDAD /MEDIO | C37: JORNADA LABORAL | D37: DIAS AL MES SEGÚN CIRCULAR DE SUPERVIGILANCIA | E37: VALOR MES | F37: % ADMINISTRACION Y SUPERVISION | H37: VALOR MES ADMINISTRACION Y SUPERVISION | I37: VALOR MES INCLUIDO ADMINISTRACION Y SUPERVISION | J37: IVA | K37: VALOR MES INCLUIDO AYS E IVA | L37: CONSOLIDADO PUESTOS | M37: VALOR 2026 1 MES
B38: 24 HRS CON ARMA | C38: DOMINGO A DOMINGO | D38: 30 | E38: =+C12 -> 17878240 | F38: 0.1 | H38: =ROUND(E38*F38,2) -> 1787824 | I38: =ROUND(E38+H38,2) -> 19666064 | J38: =ROUND(I38*10%*19%,2) -> 373655.22 | K38: =ROUND(I38+J38,2) -> 20039719 | L38: 37 | M38: =ROUND(L38*K38,2) -> 7.4146961e+08
B39: 24 HRS CON ARMA (AMAZONAS) | C39: DOMINGO A DOMINGO | D39: 30 | E39: =+C13 -> 17878240 | F39: 0.1 | H39: =ROUND(E39*F39,2) -> 1787824 | I39: =ROUND(E39+H39,2) -> 19666064 | K39: =ROUND(I39+J39,2) -> 19666064 | L39: 3 | M39: =ROUND(L39*K39,2) -> 58998192
B40: 12 HRS DIURNO CON ARMA | C40: LUNES A VIERNES SIN FESTIVOS | D40: 20 | E40: =ROUND($E$7*$D$28/30*D40/13*12,0) -> 5235849 | F40: 0.1 | H40: =ROUND(E40*F40,2) -> 523584.9 | I40: =ROUND(E40+H40,2) -> 5759433.9 | J40: =ROUND(I40*10%*19%,2) -> 109429.24 | K40: =ROUND(I40+J40,2) -> 5868863.1 | L40: 17 | M40: =ROUND(L40*K40,2) -> 99770673
B41: 12 HRS DIURNO SIN ARMA | C41: LUNES A VIERNES SIN FESTIVOS | D41: 20 | E41: =ROUND($E$7*$D$28/30*D41/13*12,0) -> 5235849 | F41: 0.08 | H41: =ROUND(E41*F41,2) -> 418867.92 | I41: =ROUND(E41+H41,2) -> 5654716.9 | J41: =ROUND(I41*10%*19%,2) -> 107439.62 | K41: =ROUND(I41+J41,2) -> 5762156.5 | L41: 9 | M41: =ROUND(L41*K41,2) -> 51859409
B42: 12 HRS DIURNO CON ARMA | C42: DOMINGO A DOMINGO | D42: 30 | E42: =ROUND($E$7*$D$28/30*D42/13*12,0) -> 7853773 | F42: 0.1 | H42: =ROUND(E42*F42,2) -> 785377.3 | I42: =ROUND(E42+H42,2) -> 8639150.3 | J42: =ROUND(I42*10%*19%,2) -> 164143.86 | K42: =ROUND(I42+J42,2) -> 8803294.2 | L42: 14 | M42: =ROUND(L42*K42,2) -> 1.2324612e+08
L43: =SUM(L38:L42) -> 80 | M43: =ROUND(SUM(M38:M42),2) -> 1.075344e+09
B45: NECESIDAD FEAB ( VALORES UNITARIOS MES) | L45: VALIDACION TOTAL DE CIFRAS
B46: MODALIDAD /MEDIO | C46: JORNADA LABORAL | D46: DIAS AL MES SEGÚN CIRCULAR DE SUPERVIGILANCIA | E46: VALOR MES | F46: % ADMINISTRACION Y SUPERVISION | H46: VALOR MES ADMINISTRACION Y SUPERVISION | I46: VALOR MES INCLUIDO ADMINISTRACION Y SUPERVISION | J46: IVA | K46: VALOR MES INCLUIDO AYS E IVA | L46: CONSOLIDADO PUESTOS | M46: VALOR 2026 1 MES
B47: 24 HRS CON ARMA | C47: DOMINGO A DOMINGO | D47: 30 | E47: =+E7 -> 17878240 | F47: 0.1 | H47: =ROUND(E47*F47,2) -> 1787824 | I47: =ROUND(E47+H47,2) -> 19666064 | J47: =ROUND(I47*10%*19%,2) -> 373655.22 | K47: =ROUND(I47+J47,2) -> 20039719 | L47: 2 | M47: =ROUND(L47*K47,2)*1 -> 40079439
L48: =SUM(L47:L47) -> 2 | M48: =ROUND(SUM(M47:M47),2) -> 40079439
B50: Estudio del Sector: 0040
B51: Fecha de elaboración: 16/10/2026
...

Sheet 1.1. VR. 2027 ENE-JUN (6 MESES)
A1: ANEXO 1.1. - FACTOR HUMANO - VIGENCIA 2027 (12 MESES)
B3: PRESTAR LOS SERVICIOS DE VIGILANCIA Y SEGURIDAD PRIVADA FIJA Y MOVIL, CON MEDIOS TECNOLÓGICOS Y PERSONAL UNIFORMADO CON Y SIN ARMAS, PARA LA ADECUADA PROTECCIÓN, CUSTODIA, AMPARO Y SALVAGUARDA DE LAS PERSONAS QUE LABORAN E INGRESAN A LAS INSTALACIONES Y LOS BIENES MUEBLES E INMUEBLES DE LA FISCALIA GENERAL DE LA NACIÓN Y DEL FONDO ESPECIAL PARA LA ADMINISTRACIÓN DE BIENES – F.E.A.B. DE LA FISCALIA GENERAL DE LA NACIÓN, DE LA REGIONAL CENTRAL, CONFORMADA POR LAS SECCIONALES: I) BOYACA, II) CUNDINAMARCA Y AMAZONAS.
A4: VARIABLES ESTABLECIDAS POR LA SUPERINTENDENCIA DE VIGILANCIA Y SEGURIDAD PARA EL AÑO 2026 SEGÚN CIRCULAR EXTERNA Nº 202513000001105CS DEL 30 DE DICIEMBRE DE 2025
A5: SALARIO MINIMO 2026 | D5: =(1750905+(1750905*4.4%)) -> 1827944.8
A6: TARIFA MINIMA SECTOR PUBLICO | D6: 10.21
A7: VALOR TARIFA MINIMA SECTOR PUBLICO | D7: =ROUND(D5*D6,2)+1500 -> 18664817 | F7: INCLUIDO SEGURO DE VIDA ($1.500)
A10: MODALIDAD DE MEDIO, TARIFA, PORCENTAJE ADMINISTRACION Y SUPERVISION.
A11: MODALIDAD MEDIO | B11: TARIFA | C11: PORCENTAJE A Y S | D11: VALOR A Y S | E11: TARIFA + A Y S
A12: 24 HORAS 30 DIAS AL MES MEDIO HUMANO SIN ARMA | B12: =$D$7 -> 18664817 | C12: 0.08 | D12: =ROUND(B12*C12,2) -> 1493185.3 | E12: =ROUND(B12+D12,2) -> 20158002
A13: 24 HORAS 30 DIAS AL MES MEDIO HUMANO CON ARMA | B13: =$D$7 -> 18664817 | C13: 0.1 | D13: =ROUND(B13*C13,2) -> 1866481.7 | E13: =ROUND(B13+D13,2) -> 20531298
A16: DIAS A TENER EN CUENTA PARA EL COBRO DE LAS TARIFAS MINIMAS EN LA PRESTACION DE LOS SERVICIOS DE VIGILANCIA Y SEGURIDAD PRIVADA PARA 2024
A17: LUNES A VIERNES SIN FESTIVOS | D17: 20
A18: LUNES A VIERNES CON FESTIVOS | D18: 22
A19: LUNES A SABADO SIN FESTIVOS | D19: 24
A20: LUNES A SABADO CON FESTIVOS | D20: 26
A21: FESTIVOS | D21: 2
A22: SABADOS Y DOMINGOS | D22: 8
A23: SABADOS, DOMINGOS Y FESTIVOS | D23: 10
A26: VARIABLE DE PROPORCIONALIDAD SOBRE EL VALOR DEL SERVICIO ESTABLECIDO PARA UN SERVICIO DE VEINTICUATRO (24) HORAS Y TREINTA (30) DÍAS AL MES Y EN LOS TÉRMINOS DE LA JORNADA LABORAL VIGENTE.
A27: JORNADA LABORAL | C27: VARIABLE DE PROPORCIONALIDAD | G27: JORNADA LABORAL
A28: 6:00 A.M. a 2:00 P.M. (turno de 8 horas diurno) | C28: 0.4759 | G28: 6am. A 9pm turno de 15 Hrs. DIURNO
A29: 2:00 P.M. a 9:00 P.M. (turno de 7 horas diurno)
A30: 9:00 P.M. a 6:00 A.M. (turno de 9 horas nocturnas) | C30: 52,41,% | G30: 10pm a 6am turno de 9 Hrs NOCTURNO
G31: TOTAL 24 hrs durante 30 días
A32: b. Tomar el valor resultante de la aplicación de la variable de proporcionalidad anteriormente establecida, dividirlo por treinta (30) días y multiplicarlo por el número de días en que se prestará el servicio, luego dividirlo por la jornada laboral y el resultado multiplicarlo por las horas requeridas del servicio.
A33: Lo anterior, corresponde a la aplicación de la siguiente fórmula matemática: (SMLMV x TARIFA DE SERVICIOS) x VARIABLE PROPORCIONALIDAD) /30) x DÍAS QUE SE REQUIERE EL SERVICIO) /JORNADA LABORAL) x HORAS REQUERIDAS DEL SERVICIO.
A36: NECESIDAD DE LA ENTIDAD ( VALORES UNITARIOS MES) | K36: VALIDACION TOTAL DE CIFRAS
A37: MODALIDAD /MEDIO | B37: JORNADA LABORAL | C37: DIAS AL MES SEGÚN CIRCULAR DE SUPERVIGILANCIA | D37: VALOR MES | E37: % ADMINISTRACION Y SUPERVISION | G37: VALOR MES ADMINISTRACION Y SUPERVISION | H37: VALOR MES INCLUIDO ADMINISTRACION Y SUPERVISION | I37: IVA | J37: VALOR MES INCLUIDO AYS E IVA | K37: CONSOLIDADO PUESTOS | L37: VALOR 2027 6 MESES ENERO A JUNIO
A38: 24 HRS CON ARMA | B38: DOMINGO A DOMINGO | C38: 30 | D38: =+B12 -> 18664817 | E38: 0.1 | G38: =ROUND(D38*E38,2) -> 1866481.7 | H38: =ROUND(D38+G38,2) -> 20531298 | I38: =ROUND(H38*10%*19%,2) -> 390094.67 | J38: =ROUND(H38+I38,2) -> 20921393 | K38: ='1. VALOR 2026 (1 MES)'!L38 -> 37 | L38: =ROUND(((K38*J38)*6),2) -> 4.6445492e+09
A39: 24 HRS CON ARMA (AMAZONAS) | B39: DOMINGO A DOMINGO | C39: 30 | D39: =+B13 -> 18664817 | E39: 0.1 | G39: =ROUND(D39*E39,2) -> 1866481.7 | H39: =ROUND(D39+G39,2) -> 20531298 | J39: =ROUND(H39+I39,2) -> 20531298 | K39: ='1. VALOR 2026 (1 MES)'!L39 -> 3 | L39: =ROUND(((K39*J39)*6),2) -> 3.6956337e+08
A40: 12 HRS DIURNO CON ARMA | B40: LUNES A VIERNES SIN FESTIVOS | C40: 20 | D40: =ROUND($D$7*$C$28/30*C40/13*12,0) -> 5466207 | E40: 0.1 | G40: =ROUND(D40*E40,2) -> 546620.7 | H40: =ROUND(D40+G40,2) -> 6012827.7 | I40: =ROUND(H40*10%*19%,2) -> 114243.73 | J40: =ROUND(H40+I40,2) -> 6127071.4 | K40: ='1. VALOR 2026 (1 MES)'!L40 -> 17 | L40: =ROUND(((K40*J40)*6),2) -> 6.2496129e+08
A41: 12 HRS DIURNO SIN ARMA | B41: LUNES A VIERNES SIN FESTIVOS | C41: 20 | D41: =ROUND($D$7*$C$28/30*C41/13*12,0) -> 5466207 | E41: 0.08 | G41: =ROUND(D41*E41,2) -> 437296.56 | H41: =ROUND(D41+G41,2) -> 5903503.6 | I41: =ROUND(H41*10%*19%,2) -> 112166.57 | J41: =ROUND(H41+I41,2) -> 6015670.1 | K41: ='1. VALOR 2026 (1 MES)'!L41 -> 9 | L41: =ROUND(((K41*J41)*6),2) -> 3.2484619e+08
A42: 12 HRS DIURNO CON ARMA | B42: DOMINGO A DOMINGO | C42: 30 | D42: =ROUND($D$7*$C$28/30*C42/13*12,0) -> 8199310 | E42: 0.1 | G42: =ROUND(D42*E42,2) -> 819931 | H42: =ROUND(D42+G42,2) -> 9019241 | I42: =ROUND(H42*10%*19%,2) -> 171365.58 | J42: =ROUND(H42+I42,2) -> 9190606.6 | K42: ='1. VALOR 2026 (1 MES)'!L42 -> 14 | L42: =ROUND(((K42*J42)*6),2) -> 7.7201095e+08
K43: =SUM(K38:K42) -> 80 | L43: =ROUND(SUM(L38:L42),2) -> 6.735931e+09
A45: Estudio del Sector: 0040
A46: Fecha de elaboración: 16/10/2026
A47: Fecha de modificación 1: DIA/ MES/ AÑO
A48: Fecha de modificación 2: DIA/ MES/ AÑO

Sheet 1.2. VR. 2027 JUL-DIC (6 MESES)
A1: ANEXO 1.1. - FACTOR HUMANO - VIGENCIA 2027 (12 MESES)
B3: PRESTAR LOS SERVICIOS DE VIGILANCIA Y SEGURIDAD PRIVADA FIJA Y MOVIL, CON MEDIOS TECNOLÓGICOS Y PERSONAL UNIFORMADO CON Y SIN ARMAS, PARA LA ADECUADA PROTECCIÓN, CUSTODIA, AMPARO Y SALVAGUARDA DE LAS PERSONAS QUE LABORAN E INGRESAN A LAS INSTALACIONES Y LOS BIENES MUEBLES E INMUEBLES DE LA FISCALIA GENERAL DE LA NACIÓN Y DEL FONDO ESPECIAL PARA LA ADMINISTRACIÓN DE BIENES – F.E.A.B. DE LA FISCALIA GENERAL DE LA NACIÓN, DE LA REGIONAL CENTRAL, CONFORMADA POR LAS SECCIONALES: I) BOYACA, II) CUNDINAMARCA Y AMAZONAS.
A4: VARIABLES ESTABLECIDAS POR LA SUPERINTENDENCIA DE VIGILANCIA Y SEGURIDAD PARA EL AÑO 2026 SEGÚN CIRCULAR EXTERNA Nº 202513000001105CS DEL 30 DE DICIEMBRE DE 2025
A5: SALARIO MINIMO 2026 | D5: =(1750905+(1750905*4.4%)) -> 1827944.8
A6: TARIFA MINIMA SECTOR PUBLICO | D6: 10.38
A7: VALOR TARIFA MINIMA SECTOR PUBLICO | D7: =ROUND(D5*D6,2)+1500 -> 18975567 | F7: INCLUIDO SEGURO DE VIDA ($1.500)
A10: MODALIDAD DE MEDIO, TARIFA, PORCENTAJE ADMINISTRACION Y SUPERVISION.
A11: MODALIDAD MEDIO | B11: TARIFA | C11: PORCENTAJE A Y S | D11: VALOR A Y S | E11: TARIFA + A Y S
A12: 24 HORAS 30 DIAS AL MES MEDIO HUMANO SIN ARMA | B12: =$D$7 -> 18975567 | C12: 0.08 | D12: =ROUND(B12*C12,2) -> 1518045.4 | E12: =ROUND(B12+D12,2) -> 20493613
A13: 24 HORAS 30 DIAS AL MES MEDIO HUMANO CON ARMA | B13: =$D$7 -> 18975567 | C13: 0.1 | D13: =ROUND(B13*C13,2) -> 1897556.7 | E13: =ROUND(B13+D13,2) -> 20873124
A16: DIAS A TENER EN CUENTA PARA EL COBRO DE LAS TARIFAS MINIMAS EN LA PRESTACION DE LOS SERVICIOS DE VIGILANCIA Y SEGURIDAD PRIVADA PARA 2024
A17: LUNES A VIERNES SIN FESTIVOS | D17: 20
A18: LUNES A VIERNES CON FESTIVOS | D18: 22
A19: LUNES A SABADO SIN FESTIVOS | D19: 24
A20: LUNES A SABADO CON FESTIVOS | D20: 26
A21: FESTIVOS | D21: 2
A22: SABADOS Y DOMINGOS | D22: 8
A23: SABADOS, DOMINGOS Y FESTIVOS | D23: 10
A26: VARIABLE DE PROPORCIONALIDAD SOBRE EL VALOR DEL SERVICIO ESTABLECIDO PARA UN SERVICIO DE VEINTICUATRO (24) HORAS Y TREINTA (30) DÍAS AL MES Y EN LOS TÉRMINOS DE LA JORNADA LABORAL VIGENTE.
A27: JORNADA LABORAL | C27: VARIABLE DE PROPORCIONALIDAD | G27: JORNADA LABORAL
A28: 6:00 A.M. a 2:00 P.M. (turno de 8 horas diurno) | C28: 0.4759 | G28: 6am. A 9pm turno de 15 Hrs. DIURNO
A29: 2:00 P.M. a 9:00 P.M. (turno de 7 horas diurno)
A30: 9:00 P.M. a 6:00 A.M. (turno de 9 horas nocturnas) | C30: 52,41,% | G30: 10pm a 6am turno de 9 Hrs NOCTURNO
G31: TOTAL 24 hrs durante 30 días
A32: b. Tomar el valor resultante de la aplicación de la variable de proporcionalidad anteriormente establecida, dividirlo por treinta (30) días y multiplicarlo por el número de días en que se prestará el servicio, luego dividirlo por la jornada laboral y el resultado multiplicarlo por las horas requeridas del servicio.
A33: Lo anterior, corresponde a la aplicación de la siguiente fórmula matemática: (SMLMV x TARIFA DE SERVICIOS) x VARIABLE PROPORCIONALIDAD) /30) x DÍAS QUE SE REQUIERE EL SERVICIO) /JORNADA LABORAL) x HORAS REQUERIDAS DEL SERVICIO.
A36: NECESIDAD DE LA ENTIDAD ( VALORES UNITARIOS MES) | K36: VALIDACION TOTAL DE CIFRAS
A37: MODALIDAD /MEDIO | B37: JORNADA LABORAL | C37: DIAS AL MES SEGÚN CIRCULAR DE SUPERVIGILANCIA | D37: VALOR MES | E37: % ADMINISTRACION Y SUPERVISION | G37: VALOR MES ADMINISTRACION Y SUPERVISION | H37: VALOR MES INCLUIDO ADMINISTRACION Y SUPERVISION | I37: IVA | J37: VALOR MES INCLUIDO AYS E IVA | K37: CONSOLIDADO PUESTOS | L37: VALOR 2027 6 MESES JULIO A DICIEMBRE
A38: 24 HRS CON ARMA | B38: DOMINGO A DOMINGO | C38: 30 | D38: =+B12 -> 18975567 | E38: 0.1 | G38: =ROUND(D38*E38,2) -> 1897556.7 | H38: =ROUND(D38+G38,2) -> 20873124 | I38: =ROUND(H38*10%*19%,2) -> 396589.36 | J38: =ROUND(H38+I38,2) -> 21269713 | K38: ='1. VALOR 2026 (1 MES)'!L38 -> 37 | L38: =ROUND(((K38*J38)*6),2) -> 4.7218764e+09
A39: 24 HRS CON ARMA (AMAZONAS) | B39: DOMINGO A DOMINGO | C39: 30 | D39: =+B13 -> 18975567 | E39: 0.1 | G39: =ROUND(D39*E39,2) -> 1897556.7 | H39: =ROUND(D39+G39,2) -> 20873124 | J39: =ROUND(H39+I39,2) -> 20873124 | K39: ='1. VALOR 2026 (1 MES)'!L39 -> 3 | L39: =ROUND(((K39*J39)*6),2) -> 3.7571623e+08
A40: 12 HRS DIURNO CON ARMA | B40: LUNES A VIERNES SIN FESTIVOS | C40: 20 | D40: =ROUND($D$7*$C$28/30*C40/13*12,0) -> 5557214 | E40: 0.1 | G40: =ROUND(D40*E40,2) -> 555721.4 | H40: =ROUND(D40+G40,2) -> 6112935.4 | I40: =ROUND(H40*10%*19%,2) -> 116145.77 | J40: =ROUND(H40+I40,2) -> 6229081.2 | K40: ='1. VALOR 2026 (1 MES)'!L40 -> 17 | L40: =ROUND(((K40*J40)*6),2) -> 6.3536628e+08
A41: 12 HRS DIURNO SIN ARMA | B41: LUNES A VIERNES SIN FESTIVOS | C41: 20 | D41: =ROUND($D$7*$C$28/30*C41/13*12,0) -> 5557214 | E41: 0.08 | G41: =ROUND(D41*E41,2) -> 444577.12 | H41: =ROUND(D41+G41,2) -> 6001791.1 | I41: =ROUND(H41*10%*19%,2) -> 114034.03 | J41: =ROUND(H41+I41,2) -> 6115825.2 | K41: ='1. VALOR 2026 (1 MES)'!L41 -> 9 | L41: =ROUND(((K41*J41)*6),2) -> 3.3025456e+08
A42: 12 HRS DIURNO CON ARMA | B42: DOMINGO A DOMINGO | C42: 30 | D42: =ROUND($D$7*$C$28/30*C42/13*12,0) -> 8335821 | E42: 0.1 | G42: =ROUND(D42*E42,2) -> 833582.1 | H42: =ROUND(D42+G42,2) -> 9169403.1 | I42: =ROUND(H42*10%*19%,2) -> 174218.66 | J42: =ROUND(H42+I42,2) -> 9343621.8 | K42: ='1. VALOR 2026 (1 MES)'!L42 -> 14 | L42: =ROUND(((K42*J42)*6),2) -> 7.8486423e+08
K43: =SUM(K38:K42) -> 80 | L43: =ROUND(SUM(L38:L42),2) -> 6.8480777e+09
A45: Estudio del Sector: 0040
A46: Fecha de elaboración: 16/10/2026
A47: Fecha de modificación 1: DIA/ MES/ AÑO
A48: Fecha de modificación 2: DIA/ MES/ AÑO

Sheet 1.3.VALOR 2028 (11 MESES)
A1: ANEXO 1.2. - FACTOR HUMANO - VIGENCIA 2028 (11 MESES)
C3: PRESTAR LOS SERVICIOS DE VIGILANCIA Y SEGURIDAD PRIVADA FIJA Y MOVIL, CON MEDIOS TECNOLÓGICOS Y PERSONAL UNIFORMADO CON Y SIN ARMAS, PARA LA ADECUADA PROTECCIÓN, CUSTODIA, AMPARO Y SALVAGUARDA DE LAS PERSONAS QUE LABORAN E INGRESAN A LAS INSTALACIONES Y LOS BIENES MUEBLES E INMUEBLES DE LA FISCALIA GENERAL DE LA NACIÓN Y DEL FONDO ESPECIAL PARA LA ADMINISTRACIÓN DE BIENES – F.E.A.B. DE LA FISCALIA GENERAL DE LA NACIÓN, DE LA REGIONAL CENTRAL, CONFORMADA POR LAS SECCIONALES: I) BOYACA, II) CUNDINAMARCA Y AMAZONAS.
B4: VARIABLES ESTABLECIDAS POR LA SUPERINTENDENCIA DE VIGILANCIA Y SEGURIDAD PARA EL AÑO 2026 SEGÚN CIRCULAR EXTERNA Nº 202513000001105CS DEL 30 DE DICIEMBRE DE 2025
B5: SALARIO MINIMO 2026 | E5: =1827945+(1827945*3%) -> 1882783.4
B6: TARIFA MINIMA SECTOR PUBLICO | E6: 10.38
B7: VALOR TARIFA MINIMA SECTOR PUBLICO | E7: =ROUND(E5*E6,2)+1500 -> 19544791 | G7: INCLUIDO SEGURO DE VIDA ($1.500)
B10: MODALIDAD DE MEDIO, TARIFA, PORCENTAJE ADMINISTRACION Y SUPERVISION.
B11: MODALIDAD MEDIO | C11: TARIFA | D11: PORCENTAJE A Y S | E11: VALOR A Y S | F11: TARIFA + A Y S
B12: 24 HORAS 30 DIAS AL MES MEDIO HUMANO SIN ARMA | C12: =$E$7 -> 19544791 | D12: 0.08 | E12: =ROUND(C12*D12,2) -> 1563583.3 | F12: =ROUND(C12+E12,2) -> 21108374
B13: 24 HORAS 30 DIAS AL MES MEDIO HUMANO CON ARMA | C13: =$E$7 -> 19544791 | D13: 0.1 | E13: =ROUND(C13*D13,0) -> 1954479 | F13: =ROUND(C13+E13,2) -> 21499270
B16: DIAS A TENER EN CUENTA PARA EL COBRO DE LAS TARIFAS MINIMAS EN LA PRESTACION DE LOS SERVICIOS DE VIGILANCIA Y SEGURIDAD PRIVADA PARA 2024
B17: LUNES A VIERNES SIN FESTIVOS | E17: 20
B18: LUNES A VIERNES CON FESTIVOS | E18: 22
B19: LUNES A SABADO SIN FESTIVOS | E19: 24
B20: LUNES A SABADO CON FESTIVOS | E20: 26
B21: FESTIVOS | E21: 2
B22: SABADOS Y DOMINGOS | E22: 8
B23: SABADOS, DOMINGOS Y FESTIVOS | E23: 10
B26: VARIABLE DE PROPORCIONALIDAD SOBRE EL VALOR DEL SERVICIO ESTABLECIDO PARA UN SERVICIO DE VEINTICUATRO (24) HORAS Y TREINTA (30) DÍAS AL MES Y EN LOS TÉRMINOS DE LA JORNADA LABORAL VIGENTE.
B27: JORNADA LABORAL | D27: VARIABLE DE PROPORCIONALIDAD | H27: JORNADA LABORAL
B28: 6:00 A.M. a 2:00 P.M. (turno de 8 horas diurno) | D28: 0.4759 | H28: 6am. A 9pm turno de 15 Hrs. DIURNO
B29: 2:00 P.M. a 9:00 P.M. (turno de 7 horas diurno)
B30: 9:00 P.M. a 6:00 A.M. (turno de 9 horas nocturnas) | D30: 0.5241 | H30: 10pm a 6am tuRno de 9 Hrs NOCTURNO
H31: TOTAL 24 hrs durante 30 días
B32: b. Tomar el valor resultante de la aplicación de la variable de proporcionalidad anteriormente establecida, dividirlo por treinta (30) días y multiplicarlo por el número de días en que se prestará el servicio, luego dividirlo por la jornada laboral y el resultado multiplicarlo por las horas requeridas del servicio.
B33: Lo anterior, corresponde a la aplicación de la siguiente fórmula matemática: (SMLMV x TARIFA DE SERVICIOS) x VARIABLE PROPORCIONALIDAD) /30) x DÍAS QUE SE REQUIERE EL SERVICIO) /JORNADA LABORAL) x HORAS REQUERIDAS DEL SERVICIO.
B36: NECESIDAD DE LA ENTIDAD ( VALORES UNITARIOS MES) | L36: VALIDACION TOTAL DE CIFRAS
B37: MODALIDAD /MEDIO | C37: JORNADA LABORAL | D37: DIAS AL MES SEGÚN CIRCULAR DE SUPERVIGILANCIA | E37: VALOR MES | F37: % ADMINISTRACION Y SUPERVISION | H37: VALOR MES ADMINISTRACION Y SUPERVISION | I37: VALOR MES INCLUIDO ADMINISTRACION Y SUPERVISION | J37: IVA | K37: VALOR MES INCLUIDO AYS E IVA | L37: CONSOLIDADO PUESTOS | M37: VALOR TOTAL 2028 11 MESES
B38: 24 HRS CON ARMA | C38: DOMINGO A DOMINGO | D38: 30 | E38: =+C12 -> 19544791 | F38: 0.1 | H38: =ROUND(E38*F38,2) -> 1954479.1 | I38: =ROUND(E38+H38,2) -> 21499270 | J38: =ROUND(I38*10%*19%,2) -> 408486.14 | K38: =ROUND(I38+J38,2) -> 21907756 | L38: ='1.1. VR. 2027 ENE-JUN (6 MESES)'!K38 -> 37 | M38: =ROUND(L38*K38,2)*11 -> 8.9164569e+09
B39: 24 HRS CON ARMA (AMAZONAS) | C39: DOMINGO A DOMINGO | D39: 30 | E39: =+C13 -> 19544791 | F39: 0.1 | H39: =ROUND(E39*F39,2) -> 1954479.1 | I39: =ROUND(E39+H39,2) -> 21499270 | K39: =ROUND(I39+J39,2) -> 21499270 | L39: ='1.1. VR. 2027 ENE-JUN (6 MESES)'!K39 -> 3 | M39: =ROUND(L39*K39,2)*11 -> 7.0947592e+08
B40: 12 HRS DIURNO CON ARMA | C40: LUNES A VIERNES SIN FESTIVOS | D40: 20 | E40: =ROUND($E$7*$D$28/30*D40/13*12,0) -> 5723918 | F40: 0.1 | H40: =ROUND(E40*F40,2) -> 572391.8 | I40: =ROUND(E40+H40,2) -> 6296309.8 | J40: =ROUND(I40*10%*19%,2) -> 119629.89 | K40: =ROUND(I40+J40,2) -> 6415939.7 | L40: ='1.1. VR. 2027 ENE-JUN (6 MESES)'!K40 -> 17 | M40: =ROUND(L40*K40,2)*11 -> 1.1997807e+09
B41: 12 HRS DIURNO SIN ARMA | C41: LUNES A VIERNES SIN FESTIVOS | D41: 20 | E41: =ROUND($E$7*$D$28/30*D41/13*12,0) -> 5723918 | F41: 0.08 | H41: =ROUND(E41*F41,2) -> 457913.44 | I41: =ROUND(E41+H41,2) -> 6181831.4 | J41: =ROUND(I41*10%*19%,2) -> 117454.8 | K41: =ROUND(I41+J41,2) -> 6299286.2 | L41: ='1.1. VR. 2027 ENE-JUN (6 MESES)'!K41 -> 9 | M41: =ROUND(L41*K41,2)*11 -> 6.2362934e+08
B42: 12 HRS DIURNO CON ARMA | C42: DOMINGO A DOMINGO | D42: 30 | E42: =ROUND($E$7*$D$28/30*D42/13*12,0) -> 8585876 | F42: 0.1 | H42: =ROUND(E42*F42,2) -> 858587.6 | I42: =ROUND(E42+H42,2) -> 9444463.6 | J42: =ROUND(I42*10%*19%,2) -> 179444.81 | K42: =ROUND(I42+J42,2) -> 9623908.4 | L42: ='1.1. VR. 2027 ENE-JUN (6 MESES)'!K42 -> 14 | M42: =ROUND(L42*K42,2)*11 -> 1.4820819e+09
L43: =SUM(L38:L42) -> 80 | M43: =ROUND(SUM(M38:M42),2) -> 1.2931425e+10
B46: Estudio del Sector: 0040
B47: Fecha de elaboración: 16/10/2026
B48: Fecha de modificación 1: DIA/ MES/ AÑO
B49: Fecha de modificación 2: DIA/ MES/ AÑO

Sheet 2 OFERTAS HISTORICO M. TEC.
A2: ANALISIS DE OFERTAS HISTORICO ANTES DE SUBASATA
C3: PRESTAR LOS SERVICIOS DE VIGILANCIA Y SEGURIDAD PRIVADA FIJA Y MOVIL, CON MEDIOS TECNOLÓGICOS Y PERSONAL UNIFORMADO CON Y SIN ARMAS, PARA LA ADECUADA PROTECCIÓN, CUSTODIA, AMPARO Y SALVAGUARDA DE LAS PERSONAS QUE LABORAN E INGRESAN A LAS INSTALACIONES Y LOS BIENES MUEBLES E INMUEBLES DE LA FISCALIA GENERAL DE LA NACIÓN Y DEL FONDO ESPECIAL PARA LA ADMINISTRACIÓN DE BIENES – F.E.A.B. DE LA FISCALIA GENERAL DE LA NACIÓN, DE LA REGIONAL CENTRAL, CONFORMADA POR LAS SECCIONALES: I) BOYACA, II) CUNDINAMARCA Y AMAZONAS
F4: PROCESO FGN-RCE-IPSE-0050-2024
A6: ITEM | B6: DESCRIPCION | C6: UBICACIÓN | D6: CANTIDAD | F6: OFERTA 1 - VALOR PARA 2026 | J6: OFERTA 2 - VALOR PARA 2026 | N6: OFERTA 3 - VALOR PARA 2026 | R6: OFERTA 4 - VALOR PARA 2026 | V6: OFERTA 5 - VALOR PARA 2026 | Z6: OFERTA 6 - VALOR PARA 2026 | AD6: OFERTA 7 - VALOR PARA 2026 | AH6: OFERTA 8 - VALOR PARA 2026 | AL6: OFERTA 9 - VALOR PARA 2026 | AP6: OFERTA 10 - VALOR PARA 2026 | AT6: OFERTA 11 - VALOR PARA 2026 | AX6: OFERTA 12 - VALOR PARA 2026 | BB6: OFERTA 13 - VALOR PARA 2026 | BF6: OFERTA 14 - VALOR PARA 2026 | BJ6: OFERTA 15 - VALOR PARA 2026 | BN6: OFERTA 16 - VALOR PARA 2026 | BR6: OFERTA 17 - VALOR PARA 2026 | BV6: OFERTA 18 - VALOR PARA 2026 | BZ6: OFERTA 19 - VALOR PARA 2026 | CD6: OFERTA 20 - VALOR PARA 2026 | CH6: OFERTA 21 - VALOR PARA 2026 | CL6: OFERTA 23 - VALOR PARA 2026 | CP6: PROMEDIO VALORES UNITARIOS | CR6: PROYECCION VALOR UNITARIO INCLUIDO AIU E IVA
F7: VALORES | J7: VALORES | N7: VALORES | R7: VALORES | V7: VALORES | Z7: VALORES | AD7: VALORES | AH7: VALORES | AL7: VALORES | AP7: VALORES | AT7: VALORES | AX7: VALORES | BB7: VALORES | BF7: VALORES | BJ7: VALORES | BN7: VALORES | BR7: VALORES | BV7: VALORES | BZ7: VALORES | CD7: VALORES | CH7: VALORES | CL7: VALORES
F8: SUBTOTAL UNITARIO MENSUAL INCLUIDO AIU E IVA | G8: SUBTOTAL MES POR TOTALES REQUERIDOS INCLUIDO AIU E IVA | H8: VALOR TOTAL 1 MES INCLUIDO AIU E IVA | J8: SUBTOTAL UNITARIO MENSUAL INCLUIDO AIU E IVA | K8: SUBTOTAL MES POR TOTALES REQUERIDOS INCLUIDO AIU E IVA | L8: VALOR TOTAL 1 MES INCLUIDO AIU E IVA | N8: SUBTOTAL UNITARIO MENSUAL INCLUIDO AIU E IVA | O8: SUBTOTAL MES POR TOTALES REQUERIDOS INCLUIDO AIU E IVA | P8: VALOR TOTAL 1 MES INCLUIDO AIU E IVA | R8: SUBTOTAL UNITARIO MENSUAL INCLUIDO AIU E IVA | S8: SUBTOTAL MES POR TOTALES REQUERIDOS INCLUIDO AIU E IVA | T8: VALOR TOTAL 1 MES INCLUIDO AIU E IVA | V8: SUBTOTAL UNITARIO MENSUAL INCLUIDO AIU E IVA | W8: SUBTOTAL MES POR TOTALES REQUERIDOS INCLUIDO AIU E IVA | X8: VALOR TOTAL 1 MES INCLUIDO AIU E IVA | Z8: SUBTOTAL UNITARIO MENSUAL INCLUIDO AIU E IVA | AA8: SUBTOTAL MES POR TOTALES REQUERIDOS INCLUIDO AIU E IVA | AB8: VALOR TOTAL 1 MES INCLUIDO AIU E IVA | AD8: SUBTOTAL UNITARIO MENSUAL INCLUIDO AIU E IVA | AE8: SUBTOTAL MES POR TOTALES REQUERIDOS INCLUIDO AIU E IVA | AF8: VALOR TOTAL 1 MES INCLUIDO AIU E IVA | AH8: SUBTOTAL UNITARIO MENSUAL INCLUIDO AIU E IVA | AI8: SUBTOTAL MES POR TOTALES REQUERIDOS INCLUIDO AIU E IVA | AJ8: VALOR TOTAL 1 MES INCLUIDO AIU E IVA | AL8: SUBTOTAL UNITARIO MENSUAL INCLUIDO AIU E IVA | AM8: SUBTOTAL MES POR TOTALES REQUERIDOS INCLUIDO AIU E IVA | AN8: VALOR TOTAL 1 MES INCLUIDO AIU E IVA | AP8: SUBTOTAL UNITARIO MENSUAL INCLUIDO AIU E IVA | AQ8: SUBTOTAL MES POR TOTALES REQUERIDOS INCLUIDO AIU E IVA | AR8: VALOR TOTAL 1 MES INCLUIDO AIU E IVA | AT8: SUBTOTAL UNITARIO MENSUAL INCLUIDO AIU E IVA | AU8: SUBTOTAL MES POR TOTALES REQUERIDOS INCLUIDO AIU E IVA | AV8: VALOR TOTAL 1 MES INCLUIDO AIU E IVA | AX8: SUBTOTAL UNITARIO MENSUAL INCLUIDO AIU E IVA | AY8: SUBTOTAL MES POR TOTALES REQUERIDOS INCLUIDO AIU E IVA | AZ8: VALOR TOTAL 1 MES INCLUIDO AIU E IVA | BB8: SUBTOTAL UNITARIO MENSUAL INCLUIDO AIU E IVA | BC8: SUBTOTAL MES POR TOTALES REQUERIDOS INCLUIDO AIU E IVA | BD8: VALOR TOTAL 1 MES INCLUIDO AIU E IVA | BF8: SUBTOTAL UNITARIO MENSUAL INCLUIDO AIU E IVA | BG8: SUBTOTAL MES POR TOTALES REQUERIDOS INCLUIDO AIU E IVA | BH8: VALOR TOTAL 1 MES INCLUIDO AIU E IVA | BJ8: SUBTOTAL UNITARIO MENSUAL INCLUIDO AIU E IVA | BK8: SUBTOTAL MES POR TOTALES REQUERIDOS INCLUIDO AIU E IVA | BL8: VALOR TOTAL 1 MES INCLUIDO AIU E IVA | BN8: SUBTOTAL UNITARIO MENSUAL INCLUIDO AIU E IVA | BO8: SUBTOTAL MES POR TOTALES REQUERIDOS INCLUIDO AIU E IVA | BP8: VALOR TOTAL 1 MES INCLUIDO AIU E IVA | BR8: SUBTOTAL UNITARIO MENSUAL INCLUIDO AIU E IVA | BS8: SUBTOTAL MES POR TOTALES REQUERIDOS INCLUIDO AIU E IVA | BT8: VALOR TOTAL 1 MES INCLUIDO AIU E IVA | BV8: SUBTOTAL UNITARIO MENSUAL INCLUIDO AIU E IVA | BW8: SUBTOTAL MES POR TOTALES REQUERIDOS INCLUIDO AIU E IVA | BX8: VALOR TOTAL 1 MES INCLUIDO AIU E IVA | BZ8: SUBTOTAL UNITARIO MENSUAL INCLUIDO AIU E IVA | CA8: SUBTOTAL MES POR TOTALES REQUERIDOS INCLUIDO AIU E IVA | CB8: VALOR TOTAL 1 MES INCLUIDO AIU E IVA | CD8: SUBTOTAL UNITARIO MENSUAL INCLUIDO AIU E IVA | CE8: SUBTOTAL MES POR TOTALES REQUERIDOS INCLUIDO AIU E IVA | CF8: VALOR TOTAL 1 MES INCLUIDO AIU E IVA | CH8: SUBTOTAL UNITARIO MENSUAL INCLUIDO AIU E IVA | CI8: SUBTOTAL MES POR TOTALES REQUERIDOS INCLUIDO AIU E IVA | CJ8: VALOR TOTAL 1 MES INCLUIDO AIU E IVA | CL8: SUBTOTAL UNITARIO MENSUAL INCLUIDO AIU E IVA | CM8: SUBTOTAL MES POR TOTALES REQUERIDOS INCLUIDO AIU E IVA | CN8: VALOR TOTAL 1 MES INCLUIDO AIU E IVA | CR8: IPC AÑO CORRIDO 2026 (-3) PUNTOS DE INCREMENTO QUE TUVO 2026 EN EL PROCESO
A9: SECCIONAL CUNDINAMAMRCA - AMAZONAS | CR9: 0.0324
A10: 1 | B10: MONITOR DE 32" LED FULL HD, Resolución: Full HD 1920x1080, Brillo de 400 cd/m2, Entradas HDMI, VGA, USB. Salida de audio. Capacidad de trabajo 7/24. | C10: CONFORME A LO ESPECIFICADO EN LA FICHA TECNICA | D10: 44 | F10: 18200 | G10: =$D$10*F10 -> 800800 | H10: =G10*1 -> 800800 | J10: 16930 | K10: =$D$10*J10 -> 744920 | L10: =K10*1 -> 744920 | N10: 16923 | O10: =$D$10*N10 -> 744612 | P10: =O10*1 -> 744612 | R10: 14814 | S10: =$D$10*R10 -> 651816 | T10: =S10*1 -> 651816 | V10: 2115.9084 | W10: =$D$10*V10 -> 93099.97 | X10: =W10*1 -> 93099.97 | Z10: 14814 | AA10: =$D$10*Z10 -> 651816 | AB10: =AA10*1 -> 651816 | AD10: 1 | AE10: =$D$10*AD10 -> 44 | AF10: =AE10*1 -> 44 | AH10: 10582 | AI10: =$D$10*AH10 -> 465608 | AJ10: =AI10*1 -> 465608 | AL10: 16930 | AM10: =$D$10*AL10 -> 744920 | AN10: =AM10*1 -> 744920 | AP10: 10582 | AQ10: =$D$10*AP10 -> 465608 | AR10: =AQ10*1 -> 465608 | AT10: 16930 | AU10: =$D$10*AT10 -> 744920 | AV10: =AU10*1 -> 744920 | AX10: 16930 | AY10: =$D$10*AX10 -> 744920 | AZ10: =AY10*1 -> 744920 | BB10: 20740 | BC10: =$D$10*BB10 -> 912560 | BD10: =BC10*1 -> 912560 | BF10: 18999 | BG10: =$D$10*BF10 -> 835956 | BH10: =BG10*1 -> 835956 | BJ10: 0 | BK10: =$D$10*BJ10 -> 0 | BL10: =BK10*1 -> 0 | BN10: 17989 | BO10: =$D$10*BN10 -> 791516 | BP10: =BO10*1 -> 791516 | BR10: 21163 | BS10: =$D$10*BR10 -> 931172 | BT10: =BS10*1 -> 931172 | BV10: 16930 | BW10: =$D$10*BV10 -> 744920 | BX10: =BW10*1 -> 744920 | BZ10: 15661 | CA10: =$D$10*BZ10 -> 689084 | CB10: =CA10*1 -> 689084 | CD10: 1 | CE10: =$D$10*CD10 -> 44 | CF10: =CE10*1 -> 44 | CH10: 15872 | CI10: =$D$10*CH10 -> 698368 | CJ10: =CI10*1 -> 698368 | CL10: 17989 | CM10: =$D$10*CL10 -> 791516 | CN10: =CM10*1 -> 791516 | CP10: =AVERAGE(J10,N10,R10,Z10,AH10,AL10,AP10,AT10,AX10,BN10,BV10,BZ10,CH10,CL10) -> 15705.429 | CR10: =CP10*1.0324 -> 16214.284
A11: 2 | B11: CAMARAS FIJA TIPO MINI DOMO IP Resolución (4 Megapíxeles 30 fps 2688x1520), Iluminación mínima 0.01lux B/N 0 Lux, Día/Noche Real con filtro ICR, Distancia Focal 2.8 mm/4mm/6mm, Iluminación IR 30 mts Compresión de video H264+/H265, Detección de movimiento. Protección Ip67, Puerto de red RJ45 10M/100M/1000M, PoE (Power over Ethernet), Protocolos TCP/IP, ICMP, HTTP, HTTPS, DHCP, DNS, RTP, RTSP, RTCP, NTP, IGMP, QoS, UDP. EL TIPO DE CÁMARA DEPENDERÁ DEL SITIO EN EL QUE SE INSTALARÁ (DOMO INTERIORES, BALA EXTERIORES). | C11: CONFORME A LO ESPECIFICADO EN LA FICHA TECNICA | D11: 236 | F11: 7643 | G11: =$D$10*F11 -> 336292 | H11: =G11*1 -> 336292 | J11: 7110 | K11: =$D$10*J11 -> 312840 | L11: =K11*1 -> 312840 | N11: 7097 | O11: =$D$10*N11 -> 312268 | P11: =O11*1 -> 312268 | R11: 6221 | S11: =$D$10*R11 -> 273724 | T11: =S11*1 -> 273724 | V11: 888.7252 | W11: =$D$10*V11 -> 39103.909 | X11: =W11*1 -> 39103.909 | Z11: 6221 | AA11: =$D$10*Z11 -> 273724 | AB11: =AA11*1 -> 273724 | AD11: 1 | AE11: =$D$10*AD11 -> 44 | AF11: =AE11*1 -> 44 | AH11: 4443 | AI11: =$D$10*AH11 -> 195492 | AJ11: =AI11*1 -> 195492 | AL11: 7110 | AM11: =$D$10*AL11 -> 312840 | AN11: =AM11*1 -> 312840 | AP11: 4443 | AQ11: =$D$10*AP11 -> 195492 | AR11: =AQ11*1 -> 195492 | AT11: 7110 | AU11: =$D$10*AT11 -> 312840 | AV11: =AU11*1 -> 312840 | AX11: 7110 | AY11: =$D$10*AX11 -> 312840 | AZ11: =AY11*1 -> 312840 | BB11: 8710 | BC11: =$D$10*BB11 -> 383240 | BD11: =BC11*1 -> 383240 | BF11: 7978 | BG11: =$D$10*BF11 -> 351032 | BH11: =BG11*1 -> 351032 | BJ11: 0 | BK11: =$D$10*BJ11 -> 0 | BL11: =BK11*1 -> 0 | BN11: 7554 | BO11: =$D$10*BN11 -> 332376 | BP11: =BO11*1 -> 332376 | BR11: 8887 | BS11: =$D$10*BR11 -> 391028 | BT11: =BS11*1 -> 391028 | BV11: 7110 | BW11: =$D$10*BV11 -> 312840 | BX11: =BW11*1 -> 312840 | BZ11: 6577 | CA11: =$D$10*BZ11 -> 289388 | CB11: =CA11*1 -> 289388 | CD11: 1 | CE11: =$D$10*CD11 -> 44 | CF11: =CE11*1 -> 44 | CH11: 6665 | CI11: =$D$10*CH11 -> 293260 | CJ11: =CI11*1 -> 293260 | CL11: 7554 | CM11: =$D$10*CL11 -> 332376 | CN11: =CM11*1 -> 332376 | CP11: =AVERAGE(J11,N11,R11,Z11,AH11,AL11,AP11,AT11,AX11,BN11,BV11,BZ11,CH11,CL11) -> 6594.6429 | CR11: =CP11*1.0324 -> 6808.3093
A12: 3 | B12: CAMARAS IP TIPO BALA Resolución (4 Megapíxeles 30 fps 2688x1520), Iluminación mínima 0.01lux B/N 0 Lux, Día/Noche Real con filtro ICR, Distancia Focal 2.8 mm/4mm, Iluminación IR 30 m, Compresión de video H264+/H265, Detección de movimiento. Protección Ip67, Puerto de red RJ45 10M/100M/1000M, PoE (Power over Ethernet) Protocolos TCP/IP, ICMP, HTTP, HTTPS, DHCP, DNS, RTP, RTSP, RTCP, NTP, IGMP, QoS, UDP. | C12: CONFORME A LO ESPECIFICADO EN LA FICHA TECNICA | D12: 114 | F12: 3123 | G12: =$D$10*F12 -> 137412 | H12: =G12*1 -> 137412 | J12: 2905 | K12: =$D$10*J12 -> 127820 | L12: =K12*1 -> 127820 | N12: 2948 | O12: =$D$10*N12 -> 129712 | P12: =O12*1 -> 129712 | R12: 2542 | S12: =$D$10*R12 -> 111848 | T12: =S12*1 -> 111848 | V12: 363.5694 | W12: =$D$10*V12 -> 15997.054 | X12: =W12*1 -> 15997.054 | Z12: 2542 | AA12: =$D$10*Z12 -> 111848 | AB12: =AA12*1 -> 111848 | AD12: 1 | AE12: =$D$10*AD12 -> 44 | AF12: =AE12*1 -> 44 | AH12: 1816 | AI12: =$D$10*AH12 -> 79904 | AJ12: =AI12*1 -> 79904 | AL12: 2905 | AM12: =$D$10*AL12 -> 127820 | AN12: =AM12*1 -> 127820 | AP12: 1816 | AQ12: =$D$10*AP12 -> 79904 | AR12: =AQ12*1 -> 79904 | AT12: 2905 | AU12: =$D$10*AT12 -> 127820 | AV12: =AU12*1 -> 127820 | AX12: 2905 | AY12: =$D$10*AX12 -> 127820 | AZ12: =AY12*1 -> 127820 | BB12: 3559 | BC12: =$D$10*BB12 -> 156596 | BD12: =BC12*1 -> 156596 | BF12: 3259 | BG12: =$D$10*BF12 -> 143396 | BH12: =BG12*1 -> 143396 | BJ12: 0 | BK12: =$D$10*BJ12 -> 0 | BL12: =BK12*1 -> 0 | BN12: 3086 | BO12: =$D$10*BN12 -> 135784 | BP12: =BO12*1 -> 135784 | BR12: 3631 | BS12: =$D$10*BR12 -> 159764 | BT12: =BS12*1 -> 159764 | BV12: 2905 | BW12: =$D$10*BV12 -> 127820 | BX12: =BW12*1 -> 127820 | BZ12: 2686 | CA12: =$D$10*BZ12 -> 118184 | CB12: =CA12*1 -> 118184 | CD12: 1 | CE12: =$D$10*CD12 -> 44 | CF12: =CE12*1 -> 44 | CH12: 2723 | CI12: =$D$10*CH12 -> 119812 | CJ12: =CI12*1 -> 119812 | CL12: 3086 | CM12: =$D$10*CL12 -> 135784 | CN12: =CM12*1 -> 135784 | CP12: =AVERAGE(J12,N12,R12,Z12,AH12,AL12,AP12,AT12,AX12,BN12,BV12,BZ12,CH12,CL12) -> 2697.8571 | CR12: =CP12*1.0324 -> 2785.2677
A13: 4 | B13: CIBERDOMO IP PTZ cámara Tipo Domo IP Resolución (2 Megapíxeles 1920x1080). Iluminación IR 150 m, zoom óptico de 25x, Zoom digital 16x, Sensor de imagen 1/2.8”, Distancia focal 4.8mm a 120mm, Sistema de señal PAL/NTSC, Balance de blancos: Auto/Manual ATW/interior/ exterior/Día/Noche ICR, Compresión de video H264+/H265, Puerto de red Rj45 10M/100M/1000M Ethernet PoE+, Alimentación 24VAC & PoE. Protección Ip66 • Incluye fuente y soporte para pared. | C13: CONFORME A LO ESPECIFICADO EN LA FICHA TECNICA | D13: 21 | F13: 12975 | G13: =$D$10*F13 -> 570900 | H13: =G13*1 -> 570900 | J13: 12070 | K13: =$D$10*J13 -> 531080 | L13: =K13*1 -> 531080 | N13: 12119 | O13: =$D$10*N13 -> 533236 | P13: =O13*1 -> 533236 | R13: 10561 | S13: =$D$10*R13 -> 464684 | T13: =S13*1 -> 464684 | V13: 1508.8676 | W13: =$D$10*V13 -> 66390.174 | X13: =W13*1 -> 66390.174 | Z13: 10561 | AA13: =$D$10*Z13 -> 464684 | AB13: =AA13*1 -> 464684 | AD13: 1 | AE13: =$D$10*AD13 -> 44 | AF13: =AE13*1 -> 44 | AH13: 7545 | AI13: =$D$10*AH13 -> 331980 | AJ13: =AI13*1 -> 331980 | AL13: 12070 | AM13: =$D$10*AL13 -> 531080 | AN13: =AM13*1 -> 531080 | AP13: 7545 | AQ13: =$D$10*AP13 -> 331980 | AR13: =AQ13*1 -> 331980 | AT13: 12070 | AU13: =$D$10*AT13 -> 531080 | AV13: =AU13*1 -> 531080 | AX13: 12070 | AY13: =$D$10*AX13 -> 531080 | AZ13: =AY13*1 -> 531080 | BB13: 14787 | BC13: =$D$10*BB13 -> 650628 | BD13: =BC13*1 -> 650628 | BF13: 13545 | BG13: =$D$10*BF13 -> 595980 | BH13: =BG13*1 -> 595980 | BJ13: 0 | BK13: =$D$10*BJ13 -> 0 | BL13: =BK13*1 -> 0 | BN13: 12825 | BO13: =$D$10*BN13 -> 564300 | BP13: =BO13*1 -> 564300 | BR13: 15087 | BS13: =$D$10*BR13 -> 663828 | BT13: =BS13*1 -> 663828 | BV13: 12070 | BW13: =$D$10*BV13 -> 531080 | BX13: =BW13*1 -> 531080 | BZ13: 11165 | CA13: =$D$10*BZ13 -> 491260 | CB13: =CA13*1 -> 491260 | CD13: 1 | CE13: =$D$10*CD13 -> 44 | CF13: =CE13*1 -> 44 | CH13: 11316 | CI13: =$D$10*CH13 -> 497904 | CJ13: =CI13*1 -> 497904 | CL13: 12825 | CM13: =$D$10*CL13 -> 564300 | CN13: =CM13*1 -> 564300 | CP13: =AVERAGE(J13,N13,R13,Z13,AH13,AL13,AP13,AT13,AX13,BN13,BV13,BZ13,CH13,CL13) -> 11200.857 | CR13: =CP13*1.0324 -> 11563.765
A14: 5 | B14: GRABADOR DE 8/16/32 CANALES PENTAHIBRIDO 8/16/32 Canales Pentahibrido. Video Grabador Digital. Procesador Embebido Compresión de Video H.265+/H.265/H.264+. Entradas de video Max 10/16/32 canales IP. Cada canal hasta 5MP Min. Ancho de Banda 200/260Mbps. Búsqueda Inteligente. Función RAID 0, RAID 1, RAID 5, RAID 6 and RAID 10. Puerto de red Rj45 10M/100M/1000M Ethernet. 4 bahías SATA con soporte de discos hasta de 10TB por cada disco. LA CANTIDAD DE CANALES DE ENTRADA DEPENDERÁ DE LA SEDE EN LA QUE SE INSTALE EL EQUIPO. (DE AUERDO CON LA CANTIDAD DE CÁMARAS). | C14: CONFORME A LO ESPECIFICADO EN LA FICHA TECNICA | D14: 39 | F14: 14319 | G14: =$D$10*F14 -> 630036 | H14: =G14*1 -> 630036 | J14: 13320 | K14: =$D$10*J14 -> 586080 | L14: =K14*1 -> 586080 | N14: 13320 | O14: =$D$10*N14 -> 586080 | P14: =O14*1 -> 586080 | R14: 11655 | S14: =$D$10*R14 -> 512820 | T14: =S14*1 -> 512820 | V14: 1664.995 | W14: =$D$10*V14 -> 73259.78 | X14: =W14*1 -> 73259.78 | Z14: 11655 | AA14: =$D$10*Z14 -> 512820 | AB14: =AA14*1 -> 512820 | AD14: 1 | AE14: =$D$10*AD14 -> 44 | AF14: =AE14*1 -> 44 | AH14: 8325 | AI14: =$D$10*AH14 -> 366300 | AJ14: =AI14*1 -> 366300 | AL14: 13320 | AM14: =$D$10*AL14 -> 586080 | AN14: =AM14*1 -> 586080 | AP14: 8325 | AQ14: =$D$10*AP14 -> 366300 | AR14: =AQ14*1 -> 366300 | AT14: 13320 | AU14: =$D$10*AT14 -> 586080 | AV14: =AU14*1 -> 586080 | AX14: 13320 | AY14: =$D$10*AX14 -> 586080 | AZ14: =AY14*1 -> 586080 | BB14: 16317 | BC14: =$D$10*BB14 -> 717948 | BD14: =BC14*1 -> 717948 | BF14: 14947 | BG14: =$D$10*BF14 -> 657668 | BH14: =BG14*1 -> 657668 | BJ14: 0 | BK14: =$D$10*BJ14 -> 0 | BL14: =BK14*1 -> 0 | BN14: 14152 | BO14: =$D$10*BN14 -> 622688 | BP14: =BO14*1 -> 622688 | BR14: 16650 | BS14: =$D$10*BR14 -> 732600 | BT14: =BS14*1 -> 732600 | BV14: 13320 | BW14: =$D$10*BV14 -> 586080 | BX14: =BW14*1 -> 586080 | BZ14: 12321 | CA14: =$D$10*BZ14 -> 542124 | CB14: =CA14*1 -> 542124 | CD14: 1 | CE14: =$D$10*CD14 -> 44 | CF14: =CE14*1 -> 44 | CH14: 12488 | CI14: =$D$10*CH14 -> 549472 | CJ14: =CI14*1 -> 549472 | CL14: 14152 | CM14: =$D$10*CL14 -> 622688 | CN14: =CM14*1 -> 622688 | CP14: =AVERAGE(J14,N14,R14,Z14,AH14,AL14,AP14,AT14,AX14,BN14,BV14,BZ14,CH14,CL14) -> 12356.643 | CR14: =CP14*1.0324 -> 12756.998
A15: 6 | B15: CONTROL JOYSTICK. Joystick tridimensional para el control de Cámaras PTZ. Funciones: Posición Predeterminada, Auto Scan, Auto Pan, Auto Tour. | C15: CONFORME A LO ESPECIFICADO EN LA FICHA TECNICA | D15: 13 | F15: 8922 | G15: =$D$10*F15 -> 392568 | H15: =G15*1 -> 392568 | J15: 8300 | K15: =$D$10*J15 -> 365200 | L15: =K15*1 -> 365200 | N15: 8298 | O15: =$D$10*N15 -> 365112 | P15: =O15*1 -> 365112 | R15: 7262 | S15: =$D$10*R15 -> 319528 | T15: =S15*1 -> 319528 | V15: 1037.21 | W15: =$D$10*V15 -> 45637.24 | X15: =W15*1 -> 45637.24 | Z15: 7262 | AA15: =$D$10*Z15 -> 319528 | AB15: =AA15*1 -> 319528 | AD15: 1 | AE15: =$D$10*AD15 -> 44 | AF15: =AE15*1 -> 44 | AH15: 5187 | AI15: =$D$10*AH15 -> 228228 | AJ15: =AI15*1 -> 228228 | AL15: 8300 | AM15: =$D$10*AL15 -> 365200 | AN15: =AM15*1 -> 365200 | AP15: 5187 | AQ15: =$D$10*AP15 -> 228228 | AR15: =AQ15*1 -> 228228 | AT15: 8300 | AU15: =$D$10*AT15 -> 365200 | AV15: =AU15*1 -> 365200 | AX15: 8300 | AY15: =$D$10*AX15 -> 365200 | AZ15: =AY15*1 -> 365200 | BB15: 10167 | BC15: =$D$10*BB15 -> 447348 | BD15: =BC15*1 -> 447348 | BF15: 9313 | BG15: =$D$10*BF15 -> 409772 | BH15: =BG15*1 -> 409772 | BJ15: 0 | BK15: =$D$10*BJ15 -> 0 | BL15: =BK15*1 -> 0 | BN15: 8818 | BO15: =$D$10*BN15 -> 387992 | BP15: =BO15*1 -> 387992 | BR15: 10374 | BS15: =$D$10*BR15 -> 456456 | BT15: =BS15*1 -> 456456 | BV15: 8300 | BW15: =$D$10*BV15 -> 365200 | BX15: =BW15*1 -> 365200 | BZ15: 7677 | CA15: =$D$10*BZ15 -> 337788 | CB15: =CA15*1 -> 337788 | CD15: 1 | CE15: =$D$10*CD15 -> 44 | CF15: =CE15*1 -> 44 | CH15: 7782 | CI15: =$D$10*CH15 -> 342408 | CJ15: =CI15*1 -> 342408 | CL15: 8818 | CM15: =$D$10*CL15 -> 387992 | CN15: =CM15*1 -> 387992 | CP15: =AVERAGE(J15,N15,R15,Z15,AH15,AL15,AP15,AT15,AX15,BN15,BV15,BZ15,CH15,CL15) -> 7699.3571 | CR15: =CP15*1.0324 -> 7948.8163
A16: 7 | B16: SISTEMA DE IDENTIFICACIÓN BIOMÉTRICA PARA INGRESO DE FUNCIONARIOS. Lectores duales Biométrico y RFID (lectora de tarjetas de proximidad). Debe soportar tarjetas con el protocolo MIFARE PLUS X 4K (Carné Institucional). Software de administración y configuración del sistema. El software debe permitir la generación de reportes tanto de ingreso como de salida. El sistema debe soportar hasta 20.000 plantillas de huellas digitales, 60.000 tarjetas y almacenar hasta 100.000 eventos y transacciones. La información debe permanecer guardada en la memoria interna en caso de pérdida de energía. El controlador deberá continuar operando aún si se interrumpe la conexión de red. Deberá incluir: panel gabinete, batería transformador, lectoras requeridas para el bloqueo de puertas, electroimán de 350lb, brazo, anti remanente y pulsador. El sistema debe contar con una UPS de respaldo de energía diferente a la del sistema de CCTV. | C16: CONFORME A LO ESPECIFICADO EN LA FICHA TECNICA | D16: 2 | F16: 16062 | G16: =$D$10*F16 -> 706728 | H16: =G16*1 -> 706728 | J16: 14941 | K16: =$D$10*J16 -> 657404 | L16: =K16*1 -> 657404 | N16: 14958 | O16: =$D$10*N16 -> 658152 | P16: =O16*1 -> 658152 | R16: 13073 | S16: =$D$10*R16 -> 575212 | T16: =S16*1 -> 575212 | V16: 1868.0698 | W16: =$D$10*V16 -> 82195.071 | X16: =W16*1 -> 82195.071 | Z16: 13073 | AA16: =$D$10*Z16 -> 575212 | AB16: =AA16*1 -> 575212 | AD16: 1 | AE16: =$D$10*AD16 -> 44 | AF16: =AE16*1 -> 44 | AH16: 9338 | AI16: =$D$10*AH16 -> 410872 | AJ16: =AI16*1 -> 410872 | AL16: 14941 | AM16: =$D$10*AL16 -> 657404 | AN16: =AM16*1 -> 657404 | AP16: 9338 | AQ16: =$D$10*AP16 -> 410872 | AR16: =AQ16*1 -> 410872 | AT16: 14941 | AU16: =$D$10*AT16 -> 657404 | AV16: =AU16*1 -> 657404 | AX16: 14941 | AY16: =$D$10*AX16 -> 657404 | AZ16: =AY16*1 -> 657404 | BB16: 18303 | BC16: =$D$10*BB16 -> 805332 | BD16: =BC16*1 -> 805332 | BF16: 16766 | BG16: =$D$10*BF16 -> 737704 | BH16: =BG16*1 -> 737704 | BJ16: 0 | BK16: =$D$10*BJ16 -> 0 | BL16: =BK16*1 -> 0 | BN16: 15875 | BO16: =$D$10*BN16 -> 698500 | BP16: =BO16*1 -> 698500 | BR16: 18676 | BS16: =$D$10*BR16 -> 821744 | BT16: =BS16*1 -> 821744 | BV16: 14941 | BW16: =$D$10*BV16 -> 657404 | BX16: =BW16*1 -> 657404 | BZ16: 13821 | CA16: =$D$10*BZ16 -> 608124 | CB16: =CA16*1 -> 608124 | CD16: 1 | CE16: =$D$10*CD16 -> 44 | CF16: =CE16*1 -> 44 | CH16: 14008 | CI16: =$D$10*CH16 -> 616352 | CJ16: =CI16*1 -> 616352 | CL16: 15875 | CM16: =$D$10*CL16 -> 698500 | CN16: =CM16*1 -> 698500 | CP16: =AVERAGE(J16,N16,R16,Z16,AH16,AL16,AP16,AT16,AX16,BN16,BV16,BZ16,CH16,CL16) -> 13861.714 | CR16: =CP16*1.0324 -> 14310.834
A17: 8 | B17: SISTEMA DE REGISTRO Y CONTROL DE ACCESO DE VISITANTES. Estación de registro. (En sedes principales se debe contar con mínimo dos (2) estaciones de registro). Lector de Cédula de ciudadanía. Cámara para registro fotográfico. Capturador Biométrico de huella. Software Licenciado Y Operativo. Debe permitir la generación de reportes tanto de ingreso como de salida. El sistema debe contar con una UPS de respaldo de energía diferente a la del sistema de CCTV. | C17: CONFORME A LO ESPECIFICADO EN LA FICHA TECNICA | D17: 2 | F17: 32122 | G17: =$D$10*F17 -> 1413368 | H17: =G17*1 -> 1413368 | J17: 29881 | K17: =$D$10*J17 -> 1314764 | L17: =K17*1 -> 1314764 | N17: 29915 | O17: =$D$10*N17 -> 1316260 | P17: =O17*1 -> 1316260 | R17: 26147 | S17: =$D$10*R17 -> 1150468 | T17: =S17*1 -> 1150468 | V17: 3735.0478 | W17: =$D$10*V17 -> 164342.1 | X17: =W17*1 -> 164342.1 | Z17: 26147 | AA17: =$D$10*Z17 -> 1150468 | AB17: =AA17*1 -> 1150468 | AD17: 1 | AE17: =$D$10*AD17 -> 44 | AF17: =AE17*1 -> 44 | AH17: 18676 | AI17: =$D$10*AH17 -> 821744 | AJ17: =AI17*1 -> 821744 | AL17: 29881 | AM17: =$D$10*AL17 -> 1314764 | AN17: =AM17*1 -> 1314764 | AP17: 18676 | AQ17: =$D$10*AP17 -> 821744 | AR17: =AQ17*1 -> 821744 | AT17: 29881 | AU17: =$D$10*AT17 -> 1314764 | AV17: =AU17*1 -> 1314764 | AX17: 29881 | AY17: =$D$10*AX17 -> 1314764 | AZ17: =AY17*1 -> 1314764 | BB17: 36605 | BC17: =$D$10*BB17 -> 1610620 | BD17: =BC17*1 -> 1610620 | BF17: 33532 | BG17: =$D$10*BF17 -> 1475408 | BH17: =BG17*1 -> 1475408 | BJ17: 0 | BK17: =$D$10*BJ17 -> 0 | BL17: =BK17*1 -> 0 | BN17: 31749 | BO17: =$D$10*BN17 -> 1396956 | BP17: =BO17*1 -> 1396956 | BR17: 37352 | BS17: =$D$10*BR17 -> 1643488 | BT17: =BS17*1 -> 1643488 | BV17: 29881 | BW17: =$D$10*BV17 -> 1314764 | BX17: =BW17*1 -> 1314764 | BZ17: 27640 | CA17: =$D$10*BZ17 -> 1216160 | CB17: =CA17*1 -> 1216160 | CD17: 1 | CE17: =$D$10*CD17 -> 44 | CF17: =CE17*1 -> 44 | CH17: 28013 | CI17: =$D$10*CH17 -> 1232572 | CJ17: =CI17*1 -> 1232572 | CL17: 31749 | CM17: =$D$10*CL17 -> 1396956 | CN17: =CM17*1 -> 1396956 | CP17: =AVERAGE(J17,N17,R17,Z17,AH17,AL17,AP17,AT17,AX17,BN17,BV17,BZ17,CH17,CL17) -> 27722.643 | CR17: =CP17*1.0324 -> 28620.856
A18: 9 | B18: UPS RESPALDO DE ENERGIA DE 3KVA PARA SOPORTAR SISTEMA DE CCTV • Doble conversión en línea. Entrada y salida monofásica. Alto Factor de potencia de Entrada 0.98 y salida 0.9. Alta confiabilidad y Eficiencia > 95%. Función ECO ahorrador de energía. Apagado de emergencia EPO. Conexión de batería externa. UPS ONLINE con tipo control micro-procesado por DSP, Bypass automático. Certificación RETIE. DEBE SOPORTAR TODO EL SISTEMA DE CCTV, INCLUYENDO LAS CÁMARAS DE VIDEO POR UN PERIODO DE TIEMPO MÍNIMO DE DOS (2) HORAS EN CASO DE PÉRDIDA DEL FUIDO ELÉCTRICO. | C18: CONFORME A LO ESPECIFICADO EN LA FICHA TECNICA | D18: 37 | F18: 20653 | G18: =$D$10*F18 -> 908732 | H18: =G18*1 -> 908732 | J18: 19212 | K18: =$D$10*J18 -> 845328 | L18: =K18*1 -> 845328 | N18: 19216 | O18: =$D$10*N18 -> 845504 | P18: =O18*1 -> 845504 | R18: 16811 | S18: =$D$10*R18 -> 739684 | T18: =S18*1 -> 739684 | V18: 2401.96 | W18: =$D$10*V18 -> 105686.24 | X18: =W18*1 -> 105686.24 | Z18: 16811 | AA18: =$D$10*Z18 -> 739684 | AB18: =AA18*1 -> 739684 | AD18: 1 | AE18: =$D$10*AD18 -> 44 | AF18: =AE18*1 -> 44 | AH18: 12008 | AI18: =$D$10*AH18 -> 528352 | AJ18: =AI18*1 -> 528352 | AL18: 19212 | AM18: =$D$10*AL18 -> 845328 | AN18: =AM18*1 -> 845328 | AP18: 12008 | AQ18: =$D$10*AP18 -> 528352 | AR18: =AQ18*1 -> 528352 | AT18: 19212 | AU18: =$D$10*AT18 -> 845328 | AV18: =AU18*1 -> 845328 | AX18: 19212 | AY18: =$D$10*AX18 -> 845328 | AZ18: =AY18*1 -> 845328 | BB18: 23533 | BC18: =$D$10*BB18 -> 1035452 | BD18: =BC18*1 -> 1035452 | BF18: 21558 | BG18: =$D$10*BF18 -> 948552 | BH18: =BG18*1 -> 948552 | BJ18: 0 | BK18: =$D$10*BJ18 -> 0 | BL18: =BK18*1 -> 0 | BN18: 20412 | BO18: =$D$10*BN18 -> 898128 | BP18: =BO18*1 -> 898128 | BR18: 24014 | BS18: =$D$10*BR18 -> 1056616 | BT18: =BS18*1 -> 1056616 | BV18: 19212 | BW18: =$D$10*BV18 -> 845328 | BX18: =BW18*1 -> 845328 | BZ18: 17771 | CA18: =$D$10*BZ18 -> 781924 | CB18: =CA18*1 -> 781924 | CD18: 1 | CE18: =$D$10*CD18 -> 44 | CF18: =CE18*1 -> 44 | CH18: 18011 | CI18: =$D$10*CH18 -> 792484 | CJ18: =CI18*1 -> 792484 | CL18: 20412 | CM18: =$D$10*CL18 -> 898128 | CN18: =CM18*1 -> 898128 | CP18: =AVERAGE(J18,N18,R18,Z18,AH18,AL18,AP18,AT18,AX18,BN18,BV18,BZ18,CH18,CL18) -> 17822.857 | CR18: =CP18*1.0324 -> 18400.318
A19: 13662 | B19: RACK DE PISO O EMPOTRABLE DE 20 UNIDADES, Material metálico cold rolled. Pintura electrostática. Ruedas o tornillos de nivelación. Puerta frontal con llave. Las Dimensiones deben ser las adecuadas y que permitan salvaguardar la UPS, el cableado y los demás equipos del sistema de CCTV. EL RACK USADO DEPENDERÁ DEL TAMAÑO DE LA SEDE EN LA QUE SE VA A INSTALAR. | C19: CONFORME A LO ESPECIFICADO EN LA FICHA TECNICA | D19: 37 | F19: 3808 | G19: =$D$10*F19 -> 167552 | H19: =G19*1 -> 167552 | J19: 3543 | K19: =$D$10*J19 -> 155892 | L19: =K19*1 -> 155892 | N19: 3494 | O19: =$D$10*N19 -> 153736 | P19: =O19*1 -> 153736 | R19: 3099 | S19: =$D$10*R19 -> 136356 | T19: =S19*1 -> 136356 | V19: 443.2708 | W19: =$D$10*V19 -> 19503.915 | X19: =W19*1 -> 19503.915 | Z19: 3099 | AA19: =$D$10*Z19 -> 136356 | AB19: =AA19*1 -> 136356 | AD19: 1 | AE19: =$D$10*AD19 -> 44 | AF19: =AE19*1 -> 44 | AH19: 2215 | AI19: =$D$10*AH19 -> 97460 | AJ19: =AI19*1 -> 97460 | AL19: 3543 | AM19: =$D$10*AL19 -> 155892 | AN19: =AM19*1 -> 155892 | AP19: 2215 | AQ19: =$D$10*AP19 -> 97460 | AR19: =AQ19*1 -> 97460 | AT19: 3543 | AU19: =$D$10*AT19 -> 155892 | AV19: =AU19*1 -> 155892 | AX19: 3543 | AY19: =$D$10*AX19 -> 155892 | AZ19: =AY19*1 -> 155892 | BB19: 4340 | BC19: =$D$10*BB19 -> 190960 | BD19: =BC19*1 -> 190960 | BF19: 3976 | BG19: =$D$10*BF19 -> 174944 | BH19: =BG19*1 -> 174944 | BJ19: 0 | BK19: =$D$10*BJ19 -> 0 | BL19: =BK19*1 -> 0 | BN19: 3764 | BO19: =$D$10*BN19 -> 165616 | BP19: =BO19*1 -> 165616 | BR19: 4428 | BS19: =$D$10*BR19 -> 194832 | BT19: =BS19*1 -> 194832 | BV19: 3543 | BW19: =$D$10*BV19 -> 155892 | BX19: =BW19*1 -> 155892 | BZ19: 3277 | CA19: =$D$10*BZ19 -> 144188 | CB19: =CA19*1 -> 144188 | CD19: 1 | CE19: =$D$10*CD19 -> 44 | CF19: =CE19*1 -> 44 | CH19: 3322 | CI19: =$D$10*CH19 -> 146168 | CJ19: =CI19*1 -> 146168 | CL19: 3764 | CM19: =$D$10*CL19 -> 165616 | CN19: =CM19*1 -> 165616 | CP19: =AVERAGE(J19,N19,R19,Z19,AH19,AL19,AP19,AT19,AX19,BN19,BV19,BZ19,CH19,CL19) -> 3283.1429 | CR19: =CP19*1.0324 -> 3389.5167
A20: 11 | B20: DISCO DURO MULTIMARCA QUE SOPORTE FUNCION RAID PARA CCTV. | C20: CONFORME A LO ESPECIFICADO EN LA FICHA TECNICA | D20: 164 | F20: 3190 | G20: =$D$10*F20 -> 140360 | H20: =G20*1 -> 140360 | J20: 2967 | K20: =$D$10*J20 -> 130548 | L20: =K20*1 -> 130548 | N20: 2948 | O20: =$D$10*N20 -> 129712 | P20: =O20*1 -> 129712 | R20: 2598 | S20: =$D$10*R20 -> 114312 | T20: =S20*1 -> 114312 | V20: 371.212 | W20: =$D$10*V20 -> 16333.328 | X20: =W20*1 -> 16333.328 | Z20: 2598 | AA20: =$D$10*Z20 -> 114312 | AB20: =AA20*1 -> 114312 | AD20: 1 | AE20: =$D$10*AD20 -> 44 | AF20: =AE20*1 -> 44 | AH20: 1855 | AI20: =$D$10*AH20 -> 81620 | AJ20: =AI20*1 -> 81620 | AL20: 2967 | AM20: =$D$10*AL20 -> 130548 | AN20: =AM20*1 -> 130548 | AP20: 1855 | AQ20: =$D$10*AP20 -> 81620 | AR20: =AQ20*1 -> 81620 | AT20: 2967 | AU20: =$D$10*AT20 -> 130548 | AV20: =AU20*1 -> 130548 | AX20: 2967 | AY20: =$D$10*AX20 -> 130548 | AZ20: =AY20*1 -> 130548 | BB20: 3636 | BC20: =$D$10*BB20 -> 159984 | BD20: =BC20*1 -> 159984 | BF20: 3330 | BG20: =$D$10*BF20 -> 146520 | BH20: =BG20*1 -> 146520 | BJ20: 0 | BK20: =$D$10*BJ20 -> 0 | BL20: =BK20*1 -> 0 | BN20: 3154 | BO20: =$D$10*BN20 -> 138776 | BP20: =BO20*1 -> 138776 | BR20: 3710 | BS20: =$D$10*BR20 -> 163240 | BT20: =BS20*1 -> 163240 | BV20: 2967 | BW20: =$D$10*BV20 -> 130548 | BX20: =BW20*1 -> 130548 | BZ20: 2745 | CA20: =$D$10*BZ20 -> 120780 | CB20: =CA20*1 -> 120780 | CD20: 1 | CE20: =$D$10*CD20 -> 44 | CF20: =CE20*1 -> 44 | CH20: 2783 | CI20: =$D$10*CH20 -> 122452 | CJ20: =CI20*1 -> 122452 | CL20: 3154 | CM20: =$D$10*CL20 -> 138776 | CN20: =CM20*1 -> 138776 | CP20: =AVERAGE(J20,N20,R20,Z20,AH20,AL20,AP20,AT20,AX20,BN20,BV20,BZ20,CH20,CL20) -> 2751.7857 | CR20: =CP20*1.0324 -> 2840.9436
A21: 12 | B21: SWITCH DE 8/16/32 PUERTOS POE Puertos giga. Full poe ,700w. 2 puertos SFP. Apilable, QOS, ESTANDARES: IEEE 802.3 10BASE-T Ethernet, IEEE 802.3u 100BASE-TX Fast Ethernet, IEEE 802.3ab 1000BASE- T Gigabit Ethernet. DEBE INCLUIR PATCH PANEL MINIMO CAT 6, ORGANIZADORES DE CABLES, ACCESORIOS Y TORNILLERIA PARA MONTAJE EN RACK. | C21: CONFORME A LO ESPECIFICADO EN LA FICHA TECNICA | D21: 40 | F21: 11624 | G21: =$D$10*F21 -> 511456 | H21: =G21*1 -> 511456 | J21: 10812 | K21: =$D$10*J21 -> 475728 | L21: =K21*1 -> 475728 | N21: 10809 | O21: =$D$10*N21 -> 475596 | P21: =O21*1 -> 475596 | R21: 9461 | S21: =$D$10*R21 -> 416284 | T21: =S21*1 -> 416284 | V21: 1351.6484 | W21: =$D$10*V21 -> 59472.53 | X21: =W21*1 -> 59472.53 | Z21: 9461 | AA21: =$D$10*Z21 -> 416284 | AB21: =AA21*1 -> 416284 | AD21: 1 | AE21: =$D$10*AD21 -> 44 | AF21: =AE21*1 -> 44 | AH21: 6758 | AI21: =$D$10*AH21 -> 297352 | AJ21: =AI21*1 -> 297352 | AL21: 10812 | AM21: =$D$10*AL21 -> 475728 | AN21: =AM21*1 -> 475728 | AP21: 6758 | AQ21: =$D$10*AP21 -> 297352 | AR21: =AQ21*1 -> 297352 | AT21: 10812 | AU21: =$D$10*AT21 -> 475728 | AV21: =AU21*1 -> 475728 | AX21: 10812 | AY21: =$D$10*AX21 -> 475728 | AZ21: =AY21*1 -> 475728 | BB21: 13245 | BC21: =$D$10*BB21 -> 582780 | BD21: =BC21*1 -> 582780 | BF21: 12133 | BG21: =$D$10*BF21 -> 533852 | BH21: =BG21*1 -> 533852 | BJ21: 0 | BK21: =$D$10*BJ21 -> 0 | BL21: =BK21*1 -> 0 | BN21: 11488 | BO21: =$D$10*BN21 -> 505472 | BP21: =BO21*1 -> 505472 | BR21: 13516 | BS21: =$D$10*BR21 -> 594704 | BT21: =BS21*1 -> 594704 | BV21: 10812 | BW21: =$D$10*BV21 -> 475728 | BX21: =BW21*1 -> 475728 | BZ21: 10001 | CA21: =$D$10*BZ21 -> 440044 | CB21: =CA21*1 -> 440044 | CD21: 1 | CE21: =$D$10*CD21 -> 44 | CF21: =CE21*1 -> 44 | CH21: 10136 | CI21: =$D$10*CH21 -> 445984 | CJ21: =CI21*1 -> 445984 | CL21: 11488 | CM21: =$D$10*CL21 -> 505472 | CN21: =CM21*1 -> 505472 | CP21: =AVERAGE(J21,N21,R21,Z21,AH21,AL21,AP21,AT21,AX21,BN21,BV21,BZ21,CH21,CL21) -> 10030 | CR21: =CP21*1.0324 -> 10354.972
