Workbook
Name _________________________________l9001: '[7]Plan auditoría'!#REF!
Name _________________________________l9001: '[7]Plan auditoría'!#REF!
Name _________________________________l9001: '[7]Plan auditoría'!#REF!
Name _______________________________l9001: '[7]Plan auditoría'!#REF!
Name _______________________________l9001: '[7]Plan auditoría'!#REF!
Name _______________________________l9001: '[7]Plan auditoría'!#REF!
Name ______________________________l9001: '[7]Plan auditoría'!#REF!
Name ______________________________l9001: '[7]Plan auditoría'!#REF!
Name ______________________________l9001: '[7]Plan auditoría'!#REF!
Name _____________________________l9001: '[7]Plan auditoría'!#REF!
Name _____________________________l9001: '[7]Plan auditoría'!#REF!
Name _____________________________l9001: '[7]Plan auditoría'!#REF!
Name ____________________________l9001: '[7]Plan auditoría'!#REF!
Name ____________________________l9001: '[7]Plan auditoría'!#REF!
Name ____________________________l9001: '[7]Plan auditoría'!#REF!
Name ___________________________l9001: '[7]Plan auditoría'!#REF!
Name __________________________l9001: '[7]Plan auditoría'!#REF!
Name _________________________l9001: '[7]Plan auditoría'!#REF!
Name ________________________l9001: '[7]Plan auditoría'!#REF!
Name _______________________l9001: '[7]Plan auditoría'!#REF!
Name ______________________l9001: '[7]Plan auditoría'!#REF!
Name _____________________l9001: '[7]Plan auditoría'!#REF!
Name ____________________l9001: '[7]Plan auditoría'!#REF!
Name ___________________l9001: '[7]Plan auditoría'!#REF!
Name __________________l9001: '[7]Plan auditoría'!#REF!
Name _________________l9001: '[7]Plan auditoría'!#REF!
Name ________________l9001: '[7]Plan auditoría'!#REF!
Name _______________l9001: '[7]Plan auditoría'!#REF!
Name _______________V1: #REF!
Name _______________V1: #REF!
Name _______________V1: #REF!
Name ______________l9001: '[7]Plan auditoría'!#REF!
Name ______________l9001: '[7]Plan auditoría'!#REF!
Name ______________l9001: '[7]Plan auditoría'!#REF!
Name ______________TC212: [8]FLEXIBLE!#REF!
Name ______________TC212: [8]FLEXIBLE!#REF!
Name ______________TC212: [8]FLEXIBLE!#REF!
Name _____________l9001: '[7]Plan auditoría'!#REF!
Name ____________l9001: '[7]Plan auditoría'!#REF!
Name ___________l9001: '[7]Plan auditoría'!#REF!
Name __________l9001: '[7]Plan auditoría'!#REF!
Name _________AFC1: [9]INV!$A$25:$D$28
Name _________AFC3: [9]INV!$F$25:$I$28
Name _________AFC5: [9]INV!$K$25:$N$28
Name _________BGC1: [9]INV!$A$5:$D$8
Name _________BGC3: [9]INV!$F$5:$I$8
Name _________BGC5: [9]INV!$K$5:$N$8
Name _________CAC1: [9]INV!$A$19:$D$22
Name _________CAC3: [9]INV!$F$19:$I$22
Name _________CAC5: [9]INV!$K$19:$N$22
Name _________l9001: '[7]Plan auditoría'!#REF!
Name _________PJ50: #REF!
Name _________PJ50: #REF!
Name _________PJ50: #REF!
Name _________SBC1: [9]INV!$A$12:$D$15
Name _________SBC3: [9]INV!$F$12:$I$15
Name _________SBC5: [9]INV!$K$12:$N$15
Name ________AFC1: [9]INV!$A$25:$D$28
Name ________AFC3: [9]INV!$F$25:$I$28
Name ________AFC5: [9]INV!$K$25:$N$28

Sheet PTO GENERAL
B1: INTERVENTORIA A LOS ESTUDIOS Y DISEÑOS PARA EL DESARROLLO DE LAS SIGUIENTES CONSULTORIA: 1) ESTUDIOS Y DISEÑOS PARA EL MEJORAMIENTO DE LAS VIAS TERCIARIAS EN LOS MUNICIPIOS DE CHIMA, CONFINES, VILLANUEVA Y SIMACOTA, EN SANTANDER; 2) ESTUDIOS Y DISEÑOS PARA EL MEJORAMIENTO DE LAS VÍAS TERCIARIAS MEDIANTE LA CONSTRUCCIÓN DE PLACA HUELLA EN LA VEREDA COCOTEROS DEL MUNICIPIO DE EL PLAYÓN, EN EL DEPARTAMENTO SANTANDER; 3) ESTUDIOS Y DISEÑOS PARA EL MEJORAMIENTO DE LAS VIAS TERCIARIAS EN LOS MUNICIPIOS DE BETULIA Y SABANA DE TORRES EN SANTANDER; 4) ESTUDIOS Y DISEÑOS PARA EL MEJORAMIENTO DE VIAS TERCIARIAS MEDIANTE LA CONSTRUCCIÓN DE PLACA HUELLAS EN EL SECTOR RURAL DEL MUNICIPIO DE LEBRIJA, SANTANDER; 5) ESTUDIOS Y DISEÑOS PARA LA ESTABILIZACIÓN DEL LLUD TRANSVERSAL MALPASO DEL MUNICIPIO DE GIRÓN. SANTANDER
B3: PRESUPUESTO GENERAL INTERVENTORIA
B5: ITEM | C5: OBJETO | D5: INTERVENTORIA A: | E5: VALOR
B6: 1. PTO 1 INTER | C6: 1. ESTUDIOS Y DISEÑOS PARA EL MEJORAMIENTO DE LAS VIAS TERCIARIAS EN LOS MUNICIPIOS DE CHIMA, CONFINES, VILLANUEVA Y SIMACOTA, EN SANTANDER | E6: ='1. PTO 1 INTER'!G39 -> 1.21421e+08
B10: SUBTOTAL | E10: =SUM(E6:E9) -> 1.21421e+08
B12: ITEM | C12: OBJETO | D12: INTERVENTORIA A: | E12: VALOR
B13: 2. PTO 2 INTER | C13: 2. ESTUDIOS Y DISEÑOS PARA EL MEJORAMIENTO DE LAS VIAS TERCIARIAS MEDIANTE LA CONSTRUCCIÓN DE PLACA HUELLA EN LA VEREDA COCOTEROS DEL MUNICIPIO DE EL PLAYON, EN EL DEPARTAMENTO SANTANDER | E13: ='2. PTO 2 INTER'!G39 -> 67825616
B14: SUBTOTAL | E14: =SUM(E13:E13) -> 67825616
B16: ITEM | C16: OBJETO | D16: INTERVENTORIA A: | E16: VALOR
B17: 3. PTO 3 INTER | C17: 3. ESTUDIOS Y DISEÑOS PARA EL MEJORAMIENTO DE LAS VIAS TERCIARIAS EN LOS MUNICIPIOS DE BETULIA Y SABANA DE TORRES, EN SANTANDER | E17: ='3.PTO 3 INTER'!G39 -> 72644645
B19: SUBTOTAL | E19: =SUM(E17:E18) -> 72644645
B21: ITEM | C21: OBJETO | D21: INTERVENTORIA A: | E21: VALOR
B22: 4. PTO 4 INTER | C22: 4. ESTUDIOS Y DISEÑOS PARA EL MEJORAMIENTO DE VIAS TERCIARIAS MEDIANTE LA CONSTRUCCION DE PLACA HUELLAS EN EL SECTOR RURAL DEL MUNICIPIO DE LEBRIJA, SANTANDER | E22: ='4. PTO 4 INTER'!H28 -> 58604712
B23: SUBTOTAL | E23: =SUM(E22:E22) -> 58604712
B25: ITEM | C25: OBJETO | D25: INTERVENTORIA A: | E25: VALOR
B26: 5. PTO 5 INTER | C26: 5. ESTUDIOS Y DISEÑOS PARA LA ESTABILIZACIÓN DEL TALUD TRANSVERSAL MALPASO DEL MUNICIPIO DE GIRÓN, DEPARTAMENTO DE SANTANDER | E26: ='5. PTO 5 INTER'!H29 -> 65423820
B27: SUBTOTAL | E27: =SUM(E26:E26) -> 65423820
B29: PRESUPUESTO TOTAL | E29: =E10+E14+E19+E23+E27 -> 3.8591979e+08

Sheet 1. PTO 1 INTER
B1: =+'[190]PTO CHIMA'!B1:E1 -> ESTUDIOS Y DISEÑOS PARA EL MEJORAMIENTO DE LAS VIAS TERCIARIAS EN LOS MUNICIPIOS DE CHIMA, CONFINES, VILLANUEVA Y SIMACOTA, EN SANTANDER
B2: PRESUPUESTO INTERVENTORIA
A3: PLAZO: | F3: 3 | G3: MESES
A4: ID | B4: CANT | C4: CARGO / OFICIO | D4: MESES | E4: COSTOS DE PERSONAL | F4: % PARTICIPACION (MES) | G4: VALOR PARCIAL ($)
B5: (1) | D5: (2) | E5: (3) | F5: (4) | G5: (1) * (2) * (3)* (4) = (5)
C6: A. COSTOS DIRECTOS DE PERSONAL
C7: PERSONAL PROFESIONAL
A8: 16 | B8: 1 | C8: =+IF(ISBLANK(A8),"",VLOOKUP(A8,'[190]SALARIOS PERSONAL'!$D$9:$H$51,2,FALSE)) -> DIRECTOR DE INTERVENTORIA | D8: =+'[190]PTO CHIMA'!C3 -> 3 | E8: 7138000 | F8: 0.4 | G8: =+F8*E8*D8*B8 -> 8565600
A10: 18 | B10: 1 | C10: =+IF(ISBLANK(A10),"",VLOOKUP(A10,'[190]SALARIOS PERSONAL'!$D$9:$H$51,2,FALSE)) -> ESPECIALISTA HIDROLOGIA INTERVENTORIA | D10: 1.53 | E10: 5560000 | F10: 0.3 | G10: =+F10*E10*D10*B10 -> 2552040
A11: 19 | B11: 1 | C11: =+IF(ISBLANK(A11),"",VLOOKUP(A11,'[190]SALARIOS PERSONAL'!$D$9:$H$51,2,FALSE)) -> ESPECIALISTA EN GEOTECNIA INTERVENTORIA | D11: 1.53 | E11: 5560000 | F11: 0.3 | G11: =+F11*E11*D11*B11 -> 2552040
A12: 21 | B12: 1 | C12: =+IF(ISBLANK(A12),"",VLOOKUP(A12,'[190]SALARIOS PERSONAL'!$D$9:$H$51,2,FALSE)) -> ESPECIALISTA AMBIENTAL INTERVENTORIA | D12: 1.53 | E12: 5560000 | F12: 0.3 | G12: =+F12*E12*D12*B12 -> 2552040
A13: 22 | B13: 1 | C13: =+IF(ISBLANK(A13),"",VLOOKUP(A13,'[190]SALARIOS PERSONAL'!$D$9:$H$51,2,FALSE)) -> PROFESIONAL CON POSGRADO EN ESTRUCTURAL INTERVENTORIA | D13: 1.53 | E13: 5560000 | F13: 0.3 | G13: =+F13*E13*D13*B13 -> 2552040
A14: 23 | B14: 1 | C14: =+IF(ISBLANK(A14),"",VLOOKUP(A14,'[190]SALARIOS PERSONAL'!$D$9:$H$51,2,FALSE)) -> ESPECIALISTA PREDIAL INTERVENTORIA | D14: 1.53 | E14: 5560000 | F14: 0.3 | G14: =+F14*E14*D14*B14 -> 2552040
A15: 24 | B15: 1 | C15: =+IF(ISBLANK(A15),"",VLOOKUP(A15,'[190]SALARIOS PERSONAL'!$D$9:$H$51,2,FALSE)) -> ESPECIALISTA EN VÍAS INTERVENTORIA | D15: 1.53 | E15: 5560000 | F15: 0.5 | G15: =+F15*E15*D15*B15 -> 4253400
C18: PERSONAL TÉCNICO
A19: 36 | B19: 1 | C19: =+VLOOKUP(A19,'[190]SALARIOS PERSONAL'!D42:H51,2,FALSE) -> TOPÓGRAFO | D19: 0.5 | E19: 3156000 | F19: 0.5 | G19: =+F19*E19*D19*B19 -> 789000
C21: SUBTOTAL COSTOS DE PERSONAL = SUMATORIA DE (5) = (6) | G21: =ROUND(SUM(G8:G20),0) -> 26368200
C22: FACTOR MULTIPLICADOR PERSONAL (FMP) | G22: 2.2
C23: SUBTOTAL COSTOS DE PERSONAL = (6) | G23: =+G21 -> 26368200
C24: TOTAL COSTO DEL PERSONAL = (6)* FMP = (A) | G24: =G23*G22 -> 58010040
B25: CANT (MES) | C25: CONCEPTO | D25: UNIDAD | E25: COSTO | F25: UTILIZACION | G25: VALOR PARCIAL ($)
B26: (8) | E26: (9) | F26: (10) | G26: (8) * (9) * (10) = (11)
C27: B. OTROS COSTOS DIRECTOS
C28: VIÁTICOS (Transporte y hospedaje)
A29: 42 | B29: =+D8 -> 3 | C29: =+VLOOKUP(A29,'[190]COSTOS DIRECTOS APUS'!D15:G35,2,FALSE) -> VEHICULO DE TRANSPORTE | D29: =+VLOOKUP(A29,'[190]COSTOS DIRECTOS APUS'!$D$13:$G$35,3,FALSE) -> mes | E29: 6000000 | F29: 1 | G29: =+F29*E29*B29 -> 18000000
C30: COSTOS DE ALQUILER DE EQUIPOS Y OFICINA
A31: 57 | B31: =+D19 -> 0.5 | C31: =+VLOOKUP(A31,'[190]COSTOS DIRECTOS APUS'!D17:G35,2,FALSE) -> ESTACIÓN TOTAL, NIVEL DE PRECISION Y HERRAMIENTAS | D31: =+VLOOKUP(A31,'[190]COSTOS DIRECTOS APUS'!$D$13:$G$35,3,FALSE) -> Mes | E31: 3600000 | F31: =+F19 -> 0.5 | G31: =+F31*E31*B31 -> 900000
C32: OTROS COSTOS
A33: 40 | B33: =+D8 -> 3 | C33: =+VLOOKUP(A33,'[190]COSTOS DIRECTOS APUS'!D14:G35,2,FALSE) -> DIGITALIZACIONES,PAPELERIAS, CERTIFICACIONES PLANOS, CONSUMIBLES, IMPRESIONES | D33: =+VLOOKUP(A33,'[190]COSTOS DIRECTOS APUS'!$D$13:$G$35,3,FALSE) -> mes | E33: 526000 | F33: 1 | G33: =+F33*E33*B33 -> 1578000
C34: SUBTOTAL OTROS COSTOS DIRECTOS = SUMATORIA DE (11) = (H) | G34: =ROUND(SUM(G29:G33),2) -> 20478000
C35: VALOR TOTAL BASICO = (A) + (H) = C | G35: =ROUND((G34+G24),2) -> 78488040
C36: ADMINISTRACIÓN DEL CONSULTOR (incluye deducciones y contribuciones) = AMC | F36: ='[190]ADMINISTRACIÓN DEL CONSULTOR'!F24 -> 0.3 | G36: =ROUND((G35*F36),2) -> 23546412
C37: SUBTOTAL COSTOS BASICOS = C+AMC = J | G37: =ROUND((G36+G35),2) -> 102034452
C38: IVA = 19% * (J) = (X) | F38: 0.19 | G38: =ROUND((F38*G37),2) -> 19386546
C39: VALOR TOTAL DE LA INTERVENTORÍA = X+J | G39: =ROUND((G37+G38),2) -> 1.21421e+08
C42: =+'[190]PTO CHIMA'!$A$52 -> Elaboró: German A. Bayona Becerra
C43: =+'[190]PTO CHIMA'!$A$53 -> T.P: 68202-436298 STD
C44: =+'[190]PTO CHIMA'!$A$54 -> Cargo: Profesional de Apoyo a la Secretaría Privada

Sheet 2. PTO 2 INTER
A1: =+'[191]PTO PH PLAYON'!A1:E1 -> ESTUDIOS Y DISEÑOS PARA EL MEJORAMIENTO DE LAS VIAS TERCIARIAS MEDIANTE LA CONSTRUCCIÓN DE PLACA HUELLA EN LA VEREDA COCOTEROS DEL MUNICIPIO DE EL PLAYON, EN EL DEPARTAMENTO SANTANDER
A2: PRESUPUESTO INTERVENTORIA
A3: PLAZO: | F3: 2 | G3: MESES
A4: ID | B4: CANT | C4: CARGO / OFICIO | D4: MESES | E4: COSTOS DE PERSONAL | F4: % PARTICIPACION (MES) | G4: VALOR PARCIAL ($)
B5: (1) | D5: (2) | E5: (3) | F5: (4) | G5: (1) * (2) * (3)* (4) = (5)
C6: A. COSTOS DIRECTOS DE PERSONAL
C7: PERSONAL PROFESIONAL
A8: 16 | B8: 1 | C8: =+IF(ISBLANK(A8),"",VLOOKUP(A8,'[191]SALARIOS PERSONAL'!$D$9:$H$51,2,FALSE)) -> DIRECTOR DE INTERVENTORIA | D8: =+'[191]PTO PH PLAYON'!C3 -> 2 | E8: 7138000 | F8: 0.4 | G8: =+F8*E8*D8*B8 -> 5710400 | I8: 7138000
A10: 18 | B10: 1 | C10: =+IF(ISBLANK(A10),"",VLOOKUP(A10,'[191]SALARIOS PERSONAL'!$D$9:$H$51,2,FALSE)) -> ESPECIALISTA HIDROLOGIA INTERVENTORIA | D10: 0.8 | E10: 5560000 | F10: 0.3 | G10: =+F10*E10*D10*B10 -> 1334400 | I10: 5560000
A11: 19 | B11: 1 | C11: =+IF(ISBLANK(A11),"",VLOOKUP(A11,'[191]SALARIOS PERSONAL'!$D$9:$H$51,2,FALSE)) -> ESPECIALISTA EN GEOTECNIA INTERVENTORIA | D11: 0.8 | E11: 5560000 | F11: 0.3 | G11: =+F11*E11*D11*B11 -> 1334400 | I11: 5560000
A12: 21 | B12: 1 | C12: =+IF(ISBLANK(A12),"",VLOOKUP(A12,'[191]SALARIOS PERSONAL'!$D$9:$H$51,2,FALSE)) -> ESPECIALISTA AMBIENTAL INTERVENTORIA | D12: 0.8 | E12: 5560000 | F12: 0.3 | G12: =+F12*E12*D12*B12 -> 1334400 | I12: 5560000
A13: 22 | B13: 1 | C13: =+IF(ISBLANK(A13),"",VLOOKUP(A13,'[191]SALARIOS PERSONAL'!$D$9:$H$51,2,FALSE)) -> PROFESIONAL CON POSGRADO EN ESTRUCTURAL INTERVENTORIA | D13: 0.8 | E13: 5560000 | F13: 0.3 | G13: =+F13*E13*D13*B13 -> 1334400 | I13: 5560000
A14: 23 | B14: 1 | C14: =+IF(ISBLANK(A14),"",VLOOKUP(A14,'[191]SALARIOS PERSONAL'!$D$9:$H$51,2,FALSE)) -> ESPECIALISTA PREDIAL INTERVENTORIA | D14: 0.8 | E14: 5560000 | F14: 0.3 | G14: =+F14*E14*D14*B14 -> 1334400 | I14: 5560000
A15: 24 | B15: 1 | C15: =+IF(ISBLANK(A15),"",VLOOKUP(A15,'[191]SALARIOS PERSONAL'!$D$9:$H$51,2,FALSE)) -> ESPECIALISTA EN VÍAS INTERVENTORIA | D15: 0.8 | E15: 5560000 | F15: 0.4 | G15: =+F15*E15*D15*B15 -> 1779200 | I15: 5560000
C18: PERSONAL TÉCNICO
A19: 36 | B19: 1 | C19: =+VLOOKUP(A19,'[191]SALARIOS PERSONAL'!D42:H51,2,FALSE) -> TOPÓGRAFO | D19: 0.5 | E19: 3156000 | F19: 0.5 | G19: =+F19*E19*D19*B19 -> 789000 | I19: 3156000
C21: SUBTOTAL COSTOS DE PERSONAL = SUMATORIA DE (5) = (6) | G21: =ROUND(SUM(G8:G20),0) -> 14950600
C22: FACTOR MULTIPLICADOR PERSONAL (FMP) | G22: 2.2
C23: SUBTOTAL COSTOS DE PERSONAL = (6) | G23: =+G21 -> 14950600
C24: TOTAL COSTO DEL PERSONAL = (6)* FMP = (A) | G24: =G23*G22 -> 32891320
B25: CANT (MES) | C25: CONCEPTO | D25: UNIDAD | E25: COSTO | F25: UTILIZACION | G25: VALOR PARCIAL ($)
B26: (8) | E26: (9) | F26: (10) | G26: (8) * (9) * (10) = (11)
C27: B. OTROS COSTOS DIRECTOS
C28: VIÁTICOS (Transporte y hospedaje)
A29: 42 | B29: 1.5 | C29: =+VLOOKUP(A29,'[191]COSTOS DIRECTOS APUS'!D13:G33,2,FALSE) -> VEHICULO DE TRANSPORTE | D29: =+VLOOKUP(A29,'[191]COSTOS DIRECTOS APUS'!$D$11:$G$33,3,FALSE) -> mes | E29: 6000000 | F29: 1 | G29: =+F29*E29*B29 -> 9000000 | I29: 6000000
C30: COSTOS DE ALQUILER DE EQUIPOS Y OFICINA
A31: 57 | B31: =+D19 -> 0.5 | C31: =+VLOOKUP(A31,'[191]COSTOS DIRECTOS APUS'!D15:G33,2,FALSE) -> ESTACIÓN TOTAL, NIVEL DE PRECISION Y HERRAMIENTAS | D31: =+VLOOKUP(A31,'[191]COSTOS DIRECTOS APUS'!$D$11:$G$33,3,FALSE) -> Mes | E31: 3600000 | F31: =+F19 -> 0.5 | G31: =+F31*E31*B31 -> 900000 | I31: 3600000
C32: OTROS COSTOS
A33: 40 | B33: =+D8 -> 2 | C33: =+VLOOKUP(A33,'[191]COSTOS DIRECTOS APUS'!D12:G33,2,FALSE) -> DIGITALIZACIONES,PAPELERIAS, CERTIFICACIONES PLANOS, CONSUMIBLES, IMPRESIONES | D33: =+VLOOKUP(A33,'[191]COSTOS DIRECTOS APUS'!$D$11:$G$33,3,FALSE) -> mes | E33: 526000 | F33: 1 | G33: =+F33*E33*B33 -> 1052000 | I33: 526000
C34: SUBTOTAL OTROS COSTOS DIRECTOS = SUMATORIA DE (11) = (H) | G34: =ROUND(SUM(G29:G33),2) -> 10952000
C35: VALOR TOTAL BASICO = (A) + (H) = C | G35: =ROUND((G34+G24),2) -> 43843320
C36: ADMINISTRACIÓN DEL CONSULTOR (incluye deducciones y contribuciones) = AMC | F36: ='[191]ADMINISTRACIÓN DEL CONSULTOR'!F23 -> 0.3 | G36: =ROUND((G35*F36),2) -> 13152996
C37: SUBTOTAL COSTOS BASICOS = C+AMC = J | G37: =ROUND((G36+G35),2) -> 56996316
C38: IVA = 19% * (J) = (X) | F38: 0.19 | G38: =ROUND((F38*G37),2) -> 10829300
C39: VALOR TOTAL DE LA INTERVENTORÍA = X+J | G39: =ROUND((G37+G38),2) -> 67825616
C42: =+'[191]PTO PH PLAYON'!$A$52 -> Elaboró: CESAR GEOVANNY JAIMES ABRIL
C43: =+'[191]PTO PH PLAYON'!$A$53 -> T.P: 68700-58229 STD
C44: =+'[191]PTO PH PLAYON'!$A$54 -> Cargo: Profesional de Apoyo a la Secretaría Privada

Sheet 3.PTO 3 INTER
B1: =+'[192]PTO BETULIA'!B1:E1 -> ESTUDIOS Y DISEÑOS PARA EL MEJORAMIENTO DE LAS VIAS TERCIARIAS EN LOS MUNICIPIOS DE BETULIA Y SABANA DE TORRES, EN SANTANDER
B2: PRESUPUESTO INTERVENTORIA
A3: PLAZO: | F3: 2.5 | G3: MESES
A4: ID | B4: CANT | C4: CARGO / OFICIO | D4: MESES | E4: COSTOS DE PERSONAL | F4: % PARTICIPACION (MES) | G4: VALOR PARCIAL ($)
B5: (1) | D5: (2) | E5: (3) | F5: (4) | G5: (1) * (2) * (3)* (4) = (5)
C6: A. COSTOS DIRECTOS DE PERSONAL
C7: PERSONAL PROFESIONAL
A8: 16 | B8: 1 | C8: =+IF(ISBLANK(A8),"",VLOOKUP(A8,'[192]SALARIOS PERSONAL'!$D$9:$H$51,2,FALSE)) -> DIRECTOR DE INTERVENTORIA | D8: =+'[192]PTO BETULIA'!C3 -> 2.5 | E8: 7438000 | F8: 0.4 | G8: =+F8*E8*D8*B8 -> 7438000
A10: 18 | B10: 1 | C10: =+IF(ISBLANK(A10),"",VLOOKUP(A10,'[192]SALARIOS PERSONAL'!$D$9:$H$51,2,FALSE)) -> ESPECIALISTA HIDROLOGIA INTERVENTORIA | D10: 1 | E10: 5860000 | F10: 0.3 | G10: =+F10*E10*D10*B10 -> 1758000
A11: 19 | B11: 1 | C11: =+IF(ISBLANK(A11),"",VLOOKUP(A11,'[192]SALARIOS PERSONAL'!$D$9:$H$51,2,FALSE)) -> ESPECIALISTA EN GEOTECNIA INTERVENTORIA | D11: 1 | E11: 5860000 | F11: 0.3 | G11: =+F11*E11*D11*B11 -> 1758000
A12: 21 | B12: 1 | C12: =+IF(ISBLANK(A12),"",VLOOKUP(A12,'[192]SALARIOS PERSONAL'!$D$9:$H$51,2,FALSE)) -> ESPECIALISTA AMBIENTAL INTERVENTORIA | D12: 1 | E12: 5860000 | F12: 0.3 | G12: =+F12*E12*D12*B12 -> 1758000
A13: 22 | B13: 1 | C13: =+IF(ISBLANK(A13),"",VLOOKUP(A13,'[192]SALARIOS PERSONAL'!$D$9:$H$51,2,FALSE)) -> PROFESIONAL CON POSGRADO EN ESTRUCTURAL INTERVENTORIA | D13: 1 | E13: 5860000 | F13: 0.3 | G13: =+F13*E13*D13*B13 -> 1758000
A14: 23 | B14: 1 | C14: =+IF(ISBLANK(A14),"",VLOOKUP(A14,'[192]SALARIOS PERSONAL'!$D$9:$H$51,2,FALSE)) -> ESPECIALISTA PREDIAL INTERVENTORIA | D14: 1 | E14: 5860000 | F14: 0.3 | G14: =+F14*E14*D14*B14 -> 1758000
A15: 24 | B15: 1 | C15: =+IF(ISBLANK(A15),"",VLOOKUP(A15,'[192]SALARIOS PERSONAL'!$D$9:$H$51,2,FALSE)) -> ESPECIALISTA EN VÍAS INTERVENTORIA | D15: 1 | E15: 5860000 | F15: 0.5 | G15: =+F15*E15*D15*B15 -> 2930000
C18: PERSONAL TÉCNICO
A19: 36 | B19: 1 | C19: =+VLOOKUP(A19,'[192]SALARIOS PERSONAL'!D42:H51,2,FALSE) -> TOPÓGRAFO | D19: 0.5 | E19: 3156000 | F19: 0.5 | G19: =+F19*E19*D19*B19 -> 789000
C21: SUBTOTAL COSTOS DE PERSONAL = SUMATORIA DE (5) = (6) | G21: =ROUND(SUM(G8:G20),0) -> 19947000
C22: FACTOR MULTIPLICADOR PERSONAL (FMP) | G22: 2.2
C23: SUBTOTAL COSTOS DE PERSONAL = (6) | G23: =+G21 -> 19947000
C24: TOTAL COSTO DEL PERSONAL = (6)* FMP = (A) | G24: =G23*G22 -> 43883400
B25: CANT (MES) | C25: CONCEPTO | D25: UNIDAD | E25: COSTO | F25: UTILIZACION | G25: VALOR PARCIAL ($)
B26: (8) | E26: (9) | F26: (10) | G26: (8) * (9) * (10) = (11)
C27: B. OTROS COSTOS DIRECTOS
C28: VIÁTICOS (Transporte y hospedaje)
A29: 42 | B29: =7/30 -> 0.23333333 | C29: =+VLOOKUP(A29,'[192]COSTOS DIRECTOS APUS'!D15:G41,2,FALSE) -> VEHICULO DE TRANSPORTE | D29: =+VLOOKUP(A29,'[192]COSTOS DIRECTOS APUS'!$D$13:$G$41,3,FALSE) -> mes | E29: 6000000 | F29: 1 | G29: =+F29*E29*B29 -> 1400000
C30: COSTOS DE ALQUILER DE EQUIPOS Y OFICINA
A31: 57 | B31: =6/30 -> 0.2 | C31: =+VLOOKUP(A31,'[192]COSTOS DIRECTOS APUS'!D17:G41,2,FALSE) -> ESTACIÓN TOTAL, NIVEL DE PRECISION Y HERRAMIENTAS | D31: =+VLOOKUP(A31,'[192]COSTOS DIRECTOS APUS'!$D$13:$G$41,3,FALSE) -> Mes | E31: 3600000 | F31: =+F19 -> 0.5 | G31: =+F31*E31*B31 -> 360000
C32: OTROS COSTOS
A33: 40 | B33: =+D8 -> 2.5 | C33: =+VLOOKUP(A33,'[192]COSTOS DIRECTOS APUS'!D14:G41,2,FALSE) -> DIGITALIZACIONES,PAPELERIAS, CERTIFICACIONES PLANOS, CONSUMIBLES, IMPRESIONES | D33: =+VLOOKUP(A33,'[192]COSTOS DIRECTOS APUS'!$D$13:$G$41,3,FALSE) -> mes | E33: 526000 | F33: 1 | G33: =+F33*E33*B33 -> 1315000
C34: SUBTOTAL OTROS COSTOS DIRECTOS = SUMATORIA DE (11) = (H) | G34: =ROUND(SUM(G29:G33),2) -> 3075000
C35: VALOR TOTAL BASICO = (A) + (H) = C | G35: =ROUND((G34+G24),2) -> 46958400
C36: ADMINISTRACIÓN DEL CONSULTOR (incluye deducciones y contribuciones) = AMC | F36: ='[192]ADMINISTRACIÓN DEL CONSULTOR'!F24 -> 0.3 | G36: =ROUND((G35*F36),2) -> 14087520
C37: SUBTOTAL COSTOS BASICOS = C+AMC = J | G37: =ROUND((G36+G35),2) -> 61045920
C38: IVA = 19% * (J) = (X) | F38: 0.19 | G38: =ROUND((F38*G37),2) -> 11598725
C39: VALOR TOTAL DE LA INTERVENTORÍA = X+J | G39: =ROUND((G37+G38),2) -> 72644645
C42: =+'[192]PTO BETULIA'!$A$52 -> Elaboró: German A. Bayona Becerra
C43: =+'[192]PTO BETULIA'!$A$53 -> T.P: 68202-436298 STD
C44: =+'[192]PTO BETULIA'!$A$54 -> Cargo: Apoyo profesional de la Secretaría Privada

Sheet 4. PTO 4 INTER
B2: PRESUPUESTO DE INTERVENTORÍA
B3: INTERVENTORIA | C3: ESTUDIOS Y DISEÑOS PARA EL MEJORAMIENTO DE VIAS TERCIARIAS MEDIANTE LA CONSTRUCCION DE PLACA HUELLAS EN EL SECTOR RURAL DEL MUNICIPIO DE LEBRIJA, SANTANDER
B4: PLAZO TOTAL DE LA INTERVENTORIA: | F4: 2 | H4: Meses
B5: CANTIDAD | C5: CARGO / OFICIO | D5: SUELDO Y/O JORNAL MENSUAL | E5: MESES | F5: % DEDICACION | G5: FP | H5: VALOR PARCIAL
B6: COSTOS DIRECTOS DE PERSONAL
B7: PERSONAL PROFESIONAL
B8: 1 | C8: Director de Interventoría | D8: 5200000 | E8: =+F4 -> 2 | F8: 0.4 | G8: =+IF(F8>=85%,'[193]CARGA PRESTACIONAL'!$E$28,"") | H8: =+IF(F8>=85%,ROUND(D8*E8*F8*(1+G8),0),ROUND(D8*E8*F8,0)) -> 4160000
B9: 1 | C9: ESPECIALISTA HIDROLOGIA Y/O HIDRAULICO INTERVENTORIA | D9: 4000000 | E9: =+E8 -> 2 | F9: 0.3 | G9: =+IF(F9>=85%,'[193]CARGA PRESTACIONAL'!$E$28,"") | H9: =+IF(F9>=85%,ROUND(D9*E9*F9*(1+G9),0),ROUND(D9*E9*F9,0)) -> 2400000
B10: 1 | C10: ESPECIALISTA EN GEOTECNIA INTERVENTORIA | D10: =+D9 -> 4000000 | E10: =+E9 -> 2 | F10: 0.3 | G10: =+IF(F10>=85%,'[193]CARGA PRESTACIONAL'!$E$28,"") | H10: =+IF(F10>=85%,ROUND(D10*E10*F10*(1+G10),0),ROUND(D10*E10*F10,0)) -> 2400000
B11: 1 | C11: PROFESIONAL CON POSGRADO EN ESTRUCTURAL INTERVENTORIA | D11: =+D10 -> 4000000 | E11: =+E10 -> 2 | F11: 0.3 | G11: =+IF(F11>=85%,'[193]CARGA PRESTACIONAL'!$E$28,"") | H11: =+IF(F11>=85%,ROUND(D11*E11*F11*(1+G11),0),ROUND(D11*E11*F11,0)) -> 2400000
B12: 1 | C12: Topografo | D12: 2800000 | E12: =+E11 -> 2 | F12: 0.3 | G12: =+IF(F12>=85%,'[193]CARGA PRESTACIONAL'!$E$28,"") | H12: =+IF(F12>=85%,ROUND(D12*E12*F12*(1+G12),0),ROUND(D12*E12*F12,0)) -> 1680000
B13: 1 | C13: cadenero | D13: 2100000 | E13: =+E12 -> 2 | F13: =+F12 -> 0.3 | G13: =+IF(F13>=85%,'[193]CARGA PRESTACIONAL'!$E$28,"") | H13: =+IF(F13>=85%,ROUND(D13*E13*F13*(1+G13),0),ROUND(D13*E13*F13,0)) -> 1260000
F14: SUBTOTAL COSTOS DE PERSONAL | H14: =SUM(H8:H13) -> 14300000
F15: TOTAL COSTOS DE PERSONAL | H15: =+H14 -> 14300000
B16: CANTIDAD | C16: DESCRIPCION | D16: UNIDAD | E16: COSTO | F16: TIEMPO DE UTILIZACION | H16: VALOR PARCIAL
B17: COSTOS INDIRECTOS
B18: 1 | C18: Edición de informes - (Incluye Papeleria, Fotografias, Cds, Grabaciones, Reproducciones, Etc) | D18: Mes | E18: 450000 | F18: =+$F$4 -> 2 | H18: =ROUND((F18*E18*B18),0) -> 900000
B19: 1 | C19: Alquiler camioneta (incluye conductor) | D19: Mes | E19: 3000000 | F19: =+F18 -> 2 | H19: =ROUND((F19*E19*B19),0) -> 6000000
B20: 1 | C20: Alquiler de equipos de topografia | D20: Mes | E20: 1881306.2 | F20: =+E12 -> 2 | H20: =ROUND((F20*E20*B20),0) -> 3762612
G22: OTROS COSTOS DIRECTOS | H22: =SUM(H18:H21) -> 10662612
G23: SUBTOTAL COSTOS INDIRECTOS + COSTOS DIRECTOS DE PERSONAL | H23: =+H15+H22 -> 24962612
C24: FACTOR MULTIPLICADOR | H24: 1.4
C25: TOTAL COSTOS DIRECTOS | H25: =+H23*H24 -> 34947657
G26: SUBTOTAL COSTOS BASICOS | H26: =H15+H25 -> 49247657
G27: IVA(19%) | H27: =0.19*H26 -> 9357054.8
G28: COSTO TOTAL DE LA INTERVENTORÍA | H28: 58604712
C35: Proyectó: Robert Leandro Rodriguez Moreno
C36: Cargo: CPS - dirección de proyectos

Sheet 5. PTO 5 INTER
B2: PRESUPUESTO DE INTERVENTORÍA
B3: INTERVENTORIA | C3: =+'[194]PRESUPUESTO - CON FM'!B1 -> ESTUDIOS Y DISEÑOS PARA LA ESTABILIZACIÓN DEL TALUD TRANSVERSAL MALPASO DEL MUNICIPIO DE GIRÓN, DEPARTAMENTO DE SANTANDER
B4: PLAZO TOTAL DE LA INTERVENTORIA: | F4: =+'[194]PRESUPUESTO - CON FM'!D3 -> 3 | H4: Meses
B5: CANTIDAD | C5: CARGO / OFICIO | D5: SUELDO Y/O JORNAL MENSUAL | E5: MESES | F5: % DEDICACION | G5: FP | H5: VALOR PARCIAL
B6: COSTOS DIRECTOS DE PERSONAL
B7: PERSONAL PROFESIONAL
B8: 1 | C8: Director de Interventoría | D8: 6900000 | E8: =$F$4 -> 3 | F8: 0.5 | G8: =+IF(F8>=85%,'[194]CARGA PRESTACIONAL'!$E$28,"") | H8: =+IF(F8>=85%,ROUND(D8*E8*F8*(1+G8),0),ROUND(D8*E8*F8,0)) -> 10350000
B9: 1 | C9: =+'[194]SALARIOS PERSONAL'!E31 -> ESPECIALISTA AMBIENTAL INTERVENTORIA | D9: 3500000 | E9: 1 | F9: 0.3 | G9: =+IF(F9>=85%,'[194]CARGA PRESTACIONAL'!$E$28,"") | H9: =+IF(F9>=85%,ROUND(D9*E9*F9*(1+G9),0),ROUND(D9*E9*F9,0)) -> 1050000
B10: 1 | C10: =+'[194]SALARIOS PERSONAL'!E29 -> ESPECIALISTA HIDROLOGIA Y/O HIDRAULICO INTERVENTORIA | D10: 5300000 | E10: 1 | F10: 0.3 | G10: =+IF(F10>=85%,'[194]CARGA PRESTACIONAL'!$E$28,"") | H10: =+IF(F10>=85%,ROUND(D10*E10*F10*(1+G10),0),ROUND(D10*E10*F10,0)) -> 1590000
B11: 1 | C11: =+'[194]SALARIOS PERSONAL'!E30 -> ESPECIALISTA EN GEOTECNIA INTERVENTORIA | D11: 5300000 | E11: 1 | F11: 0.5 | G11: =+IF(F11>=85%,'[194]CARGA PRESTACIONAL'!$E$28,"") | H11: =+IF(F11>=85%,ROUND(D11*E11*F11*(1+G11),0),ROUND(D11*E11*F11,0)) -> 2650000
B12: 1 | C12: =+'[194]SALARIOS PERSONAL'!E32 -> PROFESIONAL CON POSGRADO EN ESTRUCTURAL INTERVENTORIA | D12: 5300000 | E12: 1 | F12: 0.3 | G12: =+IF(F12>=85%,'[194]CARGA PRESTACIONAL'!$E$28,"") | H12: =+IF(F12>=85%,ROUND(D12*E12*F12*(1+G12),0),ROUND(D12*E12*F12,0)) -> 1590000
B13: 1 | C13: =+'[194]SALARIOS PERSONAL'!E33 -> ESPECIALISTA PREDIAL INTERVENTORIA | D13: 5300000 | E13: 1 | F13: 0.3 | G13: =+IF(F13>=85%,'[194]CARGA PRESTACIONAL'!$E$28,"") | H13: =+IF(F13>=85%,ROUND(D13*E13*F13*(1+G13),0),ROUND(D13*E13*F13,0)) -> 1590000
B14: 1 | C14: Topografo | D14: 3000000 | E14: 1 | F14: 0.5 | G14: =+IF(F14>=85%,'[194]CARGA PRESTACIONAL'!$E$28,"") | H14: =+IF(F14>=85%,ROUND(D14*E14*F14*(1+G14),0),ROUND(D14*E14*F14,0)) -> 1500000
B15: 1 | C15: cadenero | D15: 2000000 | E15: 1 | F15: =+F14 -> 0.5 | G15: =+IF(F15>=85%,'[194]CARGA PRESTACIONAL'!$E$28,"") | H15: =+IF(F15>=85%,ROUND(D15*E15*F15*(1+G15),0),ROUND(D15*E15*F15,0)) -> 1000000
F16: SUBTOTAL COSTOS DE PERSONAL | H16: =SUM(H8:H15) -> 21320000
F17: TOTAL COSTOS DE PERSONAL | H17: =+H16 -> 21320000
B18: CANTIDAD | C18: DESCRIPCION | D18: UNIDAD | E18: COSTO | F18: TIEMPO DE UTILIZACION | H18: VALOR PARCIAL
B19: COSTOS INDIRECTOS
B20: 1 | C20: Edición de informes - (Incluye Papeleria, Fotografias, Cds, Grabaciones, Reproducciones, Etc) | D20: Mes | E20: 550000 | F20: =+$F$4 -> 3 | H20: =ROUND((F20*E20*B20),0) -> 1650000
B21: 1 | C21: Alquiler camioneta (incluye conductor) | D21: Mes | E21: 4500000 | F21: 3 | H21: =ROUND((F21*E21*B21),0) -> 13500000
B22: 1 | C22: Alquiler de equipos de topografia | D22: Mes | E22: 2800000 | F22: =+E14 -> 1 | H22: =ROUND((F22*E22*B22),0) -> 2800000
G24: OTROS COSTOS DIRECTOS | H24: =SUM(H20:H23) -> 17950000
G25: SUBTOTAL COSTOS INDIRECTOS + COSTOS DIRECTOS DE PERSONAL | H25: =+H17+H24 -> 39270000
C26: FACTOR MULTIPLICADOR | H26: 1.4
G27: SUBTOTAL COSTOS BASICOS | H27: =H25*H26 -> 54978000
G28: IVA(19%) | H28: =0.19*H27 -> 10445820
G29: COSTO TOTAL DE LA INTERVENTORÍA | H29: =ROUND(H27+H28,2) -> 65423820
C36: =+'[194]PRESUPUESTO - CON FM'!C53 -> Carlos Andres Castillo Ruiz
C37: =+'[194]PRESUPUESTO - CON FM'!C54 -> Ingeniero Civil - CPS-Profesional de apoyo
C38: =+'[194]PRESUPUESTO - CON FM'!C55 -> M.P.68202-305545 STD

Sheet FM 1,3
B2: FACTOR MULTIPLICADOR - COSTOS INDIRECTOS
B3: PROYECTO:
C4: CONCEPTO | I4: %
B5: 1 | C5: =+UPPER("Gastos Generales") -> GASTOS GENERALES
B6: 1.1 | C6: Personal Administrativo | I6: 10
B7: 1.2 | C7: otros Seguros | I7: 4
B8: 1.3 | C8: Depreciacion equipos de mantenimiento y reparacion | I8: 3
B9: 1.4 | C9: Asesoria legal | I9: 9
B10: 1.5 | C10: Asesoria financiera | I10: 16
B11: 1.6 | C11: Impuestos que gravan a los equipos maquinaria y vehiculos | I11: 4.9
B12: 1.7 | C12: Arriendo bodega, oficina | I12: 38
B13: 1.8 | C13: Servicios públicos | I13: 8
B14: 1.9 | C14: Comunicaciones | I14: 5
C15: Sub-Total | I15: =SUM(I6:I14) -> 97.9
B16: 2 | C16: =+UPPER("Costos Directos No Reembolsables") -> COSTOS DIRECTOS NO REEMBOLSABLES
B17: 2.1 | C17: Garantias contractuales | I17: 4
B18: 2.2 | C18: Gravamenes Ordenanzales Departamento de Santander | I18: =SUM(I19:I28) -> 22.1
C19: ESTAMPILLAS PRO-CULTURA | I19: 2
C20: ESTAMPILLAS PRO-ELECTRIFICACIÓN | I20: 2
C21: ESTAMPILLAS PRO- DESARROLLO | I21: 2
C22: ESTAMPILLAS PRO-UIS | I22: 2
C23: ESTAMPILLAS PRO-HOSPITALARIO | I23: 2
C24: ESTAMPILLAS PRO ADULTO MAYOR | I24: 2
C25: TAS PRO-DEPORTE | I25: 2
C26: RETENCIÓN MUNICIPIO 11X1000 | I26: 1.1
C27: RETEFUENTE | I27: 6
C28: SISTEMA Y COMPUTADORES OTROS CONCEPTOS | I28: 1
C29: Sub-Total | I29: =I17+I18 -> 26.1
B30: 3 | C30: =+UPPER("Honorarios (Utilidad del Consultor y Costos No Previstos)") -> HONORARIOS (UTILIDAD DEL CONSULTOR Y COSTOS NO PREVISTOS)
C31: Sub-Total | I31: 6
C32: TOTAL | I32: =I15+I29+I31 -> 130
B33: FACTOR MULTIPLICADOR FINAL | I33: =+ROUND(I32/100,1) -> 1.3
B36: =+#REF! -> #REF!
B37: =+#REF! -> #REF!
B38: =+#REF! -> #REF!

Sheet 1.2.6
C3: =+#REF! -> #REF! | J3: Fecha :
B7: ANALISIS DE PRECIOS UNITARIOS
B9: MODIFICAR ESPECIFICACI Nombre | D9: =+#REF! -> #REF! | I9: ITEM No. : | J9: =+#REF! -> #REF!
I10: Unidad : | J10: =+#REF! -> #REF!
B12: 1.1 PERSONAL PROFESIONAL
B13: ID | C13: Descripción | F13: %Dedicación | G13: Cantidad | H13: Duración Actividad Meses | I13: Valor Salario Mensual | J13: Valor Parcial
B14: 2 | C14: =+IF(ISBLANK(B14),"",CONCATENATE(VLOOKUP(B14,#REF!,2,FALSE)," CATEGORIA",VLOOKUP(B14,#REF!,3,FALSE))) -> #REF! | F14: 0.8 | G14: 1 | H14: 0.2 | I14: =+IF(ISBLANK(B14),"",VLOOKUP(B14,#REF!,5,FALSE)) -> #REF! | J14: =+IF(ISBLANK(B14)," ",F14*G14*H14*I14) -> #REF!
C15: =+IF(ISBLANK(B15),"",CONCATENATE(VLOOKUP(B15,#REF!,2,FALSE)," CATEGORIA",VLOOKUP(B15,#REF!,3,FALSE))) | I15: =+IF(ISBLANK(B15),"",VLOOKUP(B15,#REF!,5,FALSE)) | J15: =+IF(ISBLANK(B15)," ",F15*G15*H15*I15)
C16: =+IF(ISBLANK(B16),"",CONCATENATE(VLOOKUP(B16,#REF!,2,FALSE)," CATEGORIA",VLOOKUP(B16,#REF!,3,FALSE))) | I16: =+IF(ISBLANK(B16),"",VLOOKUP(B16,#REF!,5,FALSE)) | J16: =+IF(ISBLANK(B16)," ",F16*G16*H16*I16)
C17: =+IF(ISBLANK(B17),"",CONCATENATE(VLOOKUP(B17,#REF!,2,FALSE)," CATEGORIA",VLOOKUP(B17,#REF!,3,FALSE))) | I17: =+IF(ISBLANK(B17),"",VLOOKUP(B17,#REF!,5,FALSE)) | J17: =+IF(ISBLANK(B17)," ",F17*G17*H17*I17)
C18: =+IF(ISBLANK(B18),"",CONCATENATE(VLOOKUP(B18,#REF!,2,FALSE)," CATEGORIA",VLOOKUP(B18,#REF!,3,FALSE))) | I18: =+IF(ISBLANK(B18),"",VLOOKUP(B18,#REF!,5,FALSE)) | J18: =+IF(ISBLANK(B18)," ",F18*G18*H18*I18)
C19: =+IF(ISBLANK(B19),"",CONCATENATE(VLOOKUP(B19,#REF!,2,FALSE)," CATEGORIA",VLOOKUP(B19,#REF!,3,FALSE))) | I19: =+IF(ISBLANK(B19),"",VLOOKUP(B19,#REF!,5,FALSE)) | J19: =+IF(ISBLANK(B19)," ",F19*G19*H19*I19)
C20: =+IF(ISBLANK(B20),"",CONCATENATE(VLOOKUP(B20,#REF!,2,FALSE)," CATEGORIA",VLOOKUP(B20,#REF!,3,FALSE))) | I20: =+IF(ISBLANK(B20),"",VLOOKUP(B20,#REF!,5,FALSE)) | J20: =+IF(ISBLANK(B20)," ",F20*G20*H20*I20)
C21: =+IF(ISBLANK(B21),"",CONCATENATE(VLOOKUP(B21,#REF!,2,FALSE)," CATEGORIA",VLOOKUP(B21,#REF!,3,FALSE))) | I21: =+IF(ISBLANK(B21),"",VLOOKUP(B21,#REF!,5,FALSE)) | J21: =+IF(ISBLANK(B21)," ",F21*G21*H21*I21)
H22: Subtotal | J22: =SUM(J14:J21) -> #REF!
B24: 1.2 PERSONAL TÉCNICO (APOYO Y OTROS)
B25: Cód | C25: Descripción | F25: %Dedicación | G25: Cantidad | H25: Duración Actividad Meses | I25: Valor Salario Mensual | J25: Valor Parcial
B26: 32 | C26: =+IF(ISBLANK(B26),"",CONCATENATE(VLOOKUP(B26,#REF!,2,FALSE)," CATEGORIA",VLOOKUP(B26,#REF!,3,FALSE))) -> #REF! | F26: 0.3 | G26: 1 | H26: =+H14 -> 0.2 | I26: =+IF(ISBLANK(B26),"",VLOOKUP(B26,#REF!,5,FALSE)) -> #REF! | J26: =+IF(ISBLANK(B26)," ",F26*G26*H26*I26) -> #REF!
C27: =+IF(ISBLANK(B27),"",CONCATENATE(VLOOKUP(B27,#REF!,2,FALSE)," CATEGORIA",VLOOKUP(B27,#REF!,3,FALSE))) | I27: =+IF(ISBLANK(B27),"",VLOOKUP(B27,#REF!,5,FALSE)) | J27: =+IF(ISBLANK(B27)," ",F27*G27*H27*I27)
C28: =+IF(ISBLANK(B28),"",CONCATENATE(VLOOKUP(B28,#REF!,2,FALSE)," CATEGORIA",VLOOKUP(B28,#REF!,3,FALSE))) | I28: =+IF(ISBLANK(B28),"",VLOOKUP(B28,#REF!,5,FALSE)) | J28: =+IF(ISBLANK(B28)," ",F28*G28*H28*I28)
C29: =+IF(ISBLANK(B29),"",CONCATENATE(VLOOKUP(B29,#REF!,2,FALSE)," CATEGORIA",VLOOKUP(B29,#REF!,3,FALSE))) | I29: =+IF(ISBLANK(B29),"",VLOOKUP(B29,#REF!,5,FALSE)) | J29: =+IF(ISBLANK(B29)," ",F29*G29*H29*I29)
C30: =+IF(ISBLANK(B30),"",CONCATENATE(VLOOKUP(B30,#REF!,2,FALSE)," CATEGORIA",VLOOKUP(B30,#REF!,3,FALSE))) | I30: =+IF(ISBLANK(B30),"",VLOOKUP(B30,#REF!,5,FALSE)) | J30: =+IF(ISBLANK(B30)," ",F30*G30*H30*I30)
C31: =+IF(ISBLANK(B31),"",CONCATENATE(VLOOKUP(B31,#REF!,2,FALSE)," CATEGORIA",VLOOKUP(B31,#REF!,3,FALSE))) | I31: =+IF(ISBLANK(B31),"",VLOOKUP(B31,#REF!,5,FALSE)) | J31: =+IF(ISBLANK(B31)," ",F31*G31*H31*I31)
H32: Subtotal | J32: =SUM(J26:J31) -> #REF!
G34: Subtotal Personal | J34: =ROUND((J22+J32),2) -> #REF!
G35: Carga Prestacional | I35: =+#REF! -> #REF! | J35: =ROUND((J34*I35),2) -> #REF!
I36: Subtotal - 1 | J36: =ROUND(SUM(J34:J35),2) -> #REF!
B38: 2. COSTOS DIRECTOS
B39: Cód | C39: Descripción | F39: Unidad | G39: Cantidad | H39: Duración Actividad Meses | I39: Tarifa | J39: Valor Parcial
B40: 39 | C40: =+IF(ISBLANK(B40),"",VLOOKUP(B40,#REF!,2,FALSE)) -> #REF! | F40: =+IF(ISBLANK(B40),"",VLOOKUP(B40,#REF!,3,FALSE)) -> #REF! | G40: 1 | H40: 0.15 | I40: =+IF(ISBLANK(B40),"",VLOOKUP(B40,#REF!,4,FALSE)) -> #REF! | J40: =+IF(ISBLANK(B40),"",I40*H40*G40) -> #REF!
B41: 40 | C41: =+IF(ISBLANK(B41),"",VLOOKUP(B41,#REF!,2,FALSE)) -> #REF! | F41: =+IF(ISBLANK(B41),"",VLOOKUP(B41,#REF!,3,FALSE)) -> #REF! | G41: 1 | H41: =+H40 -> 0.15 | I41: =+IF(ISBLANK(B41),"",VLOOKUP(B41,#REF!,4,FALSE)) -> #REF! | J41: =+IF(ISBLANK(B41),"",I41*H41*G41) -> #REF!
B42: 41 | C42: =+IF(ISBLANK(B42),"",VLOOKUP(B42,#REF!,2,FALSE)) -> #REF! | F42: =+IF(ISBLANK(B42),"",VLOOKUP(B42,#REF!,3,FALSE)) -> #REF! | G42: 1 | H42: =+H41 -> 0.15 | I42: =+IF(ISBLANK(B42),"",VLOOKUP(B42,#REF!,4,FALSE)) -> #REF! | J42: =+IF(ISBLANK(B42),"",I42*H42*G42) -> #REF!
B43: 42 | C43: =+IF(ISBLANK(B43),"",VLOOKUP(B43,#REF!,2,FALSE)) -> #REF! | F43: =+IF(ISBLANK(B43),"",VLOOKUP(B43,#REF!,3,FALSE)) -> #REF! | G43: 1 | H43: 0.1 | I43: =+IF(ISBLANK(B43),"",VLOOKUP(B43,#REF!,4,FALSE)) -> #REF! | J43: =+IF(ISBLANK(B43),"",I43*H43*G43) -> #REF!
C44: =+IF(ISBLANK(B44),"",VLOOKUP(B44,#REF!,2,FALSE)) | F44: =+IF(ISBLANK(B44),"",VLOOKUP(B44,#REF!,3,FALSE)) | J44: =+IF(ISBLANK(B44),"",I44*H44*G44)
F45: =+IF(ISBLANK(B45),"",VLOOKUP(B45,#REF!,3,FALSE)) | I45: =+IF(ISBLANK(B45),"",VLOOKUP(B45,#REF!,4,FALSE)) | J45: =+IF(ISBLANK(B45),"",I45*H45*G45)
C46: =+IF(ISBLANK(B46),"",VLOOKUP(B46,#REF!,2,FALSE)) | F46: =+IF(ISBLANK(B46),"",VLOOKUP(B46,#REF!,3,FALSE)) | I46: =+IF(ISBLANK(B46),"",VLOOKUP(B46,#REF!,4,FALSE)) | J46: =+IF(ISBLANK(B46),"",I46*H46*G46)
C47: =+IF(ISBLANK(B47),"",VLOOKUP(B47,#REF!,2,FALSE)) | F47: =+IF(ISBLANK(B47),"",VLOOKUP(B47,#REF!,3,FALSE)) | I47: =+IF(ISBLANK(B47),"",VLOOKUP(B47,#REF!,4,FALSE)) | J47: =+IF(ISBLANK(B47),"",I47*H47*G47)
C48: =+IF(ISBLANK(B48),"",VLOOKUP(B48,#REF!,2,FALSE)) | F48: =+IF(ISBLANK(B48),"",VLOOKUP(B48,#REF!,3,FALSE)) | I48: =+IF(ISBLANK(B48),"",VLOOKUP(B48,#REF!,4,FALSE)) | J48: =+IF(ISBLANK(B48),"",I48*H48*G48)
I49: Subtotal - 2 | J49: =ROUND(SUM(J40:J48),2) -> #REF!
F51: Subtotal 1 + 2 | J51: =ROUND((J36+J49),2) -> #REF!
...
