Workbook
Name contratación: 'IDENTIFICACION Y ANALISIS'!$B$38:$B$42
Name ejecución: 'IDENTIFICACION Y ANALISIS'!$B$44:$B$75
Name OPCIONES: 'ASIGNACION Y TRATAMIENTO'!$B$53:$B$55
Name planeación: 'IDENTIFICACION Y ANALISIS'!$B$18:$B$28
Name selección: 'IDENTIFICACION Y ANALISIS'!$B$30:$B$36

Sheet CONTEXTO
C2: MATRIZ DE RIESGOS EN CONTRATACIÓN | F2: Código: GCO-GCI-F164 Versión: 02 Vigencia: 01 de diciembre de 2022 Caso HOLA: 280117
B6: ESTABLECER EL CONTEXTO
B7: El punto inicial es identificar el contexto en el cual interactúa la Entidad Estatal para conocer el ambiente social, económico y político, e identificar (i) sus propios Riesgos; (ii) los Riesgos comunes a sus Procesos de Contratación; y (iii) los Riesgos del Proceso de Contratación en particular. (Aplica igual para contratos interadministrativos) En este paso la Entidad Estatal debe identificar los aspectos que se mencionan a continuación y los posibles efectos adversos que estos pueden generar.
B8: Objeto del Proceso de Contratación
B9: Partícipes del Proceso de Contratación: Agentes externos (Organismos de control, veedurías ciudadanas), agentes internos (supervisores, funcionarios y demás usuarios).
B10: Ciudadanía que se beneficia del Proceso de Contratación: Agentes internos (funcionarios, pasantes) y externos (contratistas, visitantes y usuarios externos en general)
B11: Capacidad de la Entidad Estatal entendida como la disponibilidad de recursos y conocimientos para el Proceso de Contratación: La disponibilidad de la Entidad de sus recursos y el conocimiento de su equipo humano se refleja en los diferentes funcionarios que participarán en las diversas etapas del proceso de selección: participan las áreas que requieren los procesos de contratación (Etapa de Planeación), Dirección de Contratación, Comité Evaluador (Etapa de selección), Dirección de Contratación (Etapa de contratación) y la supervisión y apoyos a la misma (Estapa de Ejecución).
B12: Suficiencia del presupuesto oficial del Proceso de Contratación: De acuerdo al Plan Anual de Adquisiciones se deben estimar los recursos necesarios para el desarrollo del proceso de la contratación, el cual tendrá el soporte presupuestal suficiente para su desarrollo.
B13: Condiciones geográficas y de acceso del lugar en el cual se debe cumplir el objeto del Proceso de Contratación: El suministro, obra o servicio se prestará principalmente en las Sedes de la Entidad, o en el lugar indicado en los estudios previos del proceso.
B14: Entorno socio ambiental: Si aplican
B15: Condiciones políticas: Si aplican
B16: Factores ambientales.
B17: Sector del objeto del Proceso de Contratación y su mercado.
... B19: Experiencia propia y de otras Entidades Estatales en Procesos de Contratación del mismo tipo.

Sheet IDENTIFICACION Y ANALISIS
C2: MATRIZ DE RIESGOS DE CONTRATACIÓN | F2: Código: GCO-GCI-F164 Versión: 02 Vigencia: 01 de diciembre de 2022 Caso HOLA: 280117
B6: DEFINICIONES
B7: RIESGO: Evento que puede generar efectos adversos y de distinta magnitud en el logro de los objetivos del Proceso de Contratación o en la ejecución de un contrato RIESGOS PREVISIBLES: Son los posibles hechos o circunstancias que por la naturaleza del contrato y de la actividad a ejecutar es factible su ocurrencia. ETAPA DE PLANEACIÓN: Está comprendida desde el momento en que se identifican las necesidades que debe satisfacer la Secretaría Distrital de Gobierno y los Fondos de Desarrollo Local, a través del abastecimiento de bienes, obras o servicios, la elaboración del Plan Anual de Adquisiciones y la estructuración de los documentos y estudios previos. ETAPA DE SELECCIÓN: Está comprendida entre el acto de Apertura del Proceso de Contratación y la Adjudicación o la declaración de desierto del Proceso de Contratación ETAPA DE CONTRATACIÓN: Una vez adjudicado el contrato objeto del Proceso de Contratación, inicia la etapa para la celebración del contrato y el cumplimiento de los requisitos para de perfeccionamiento y ejecución. ETAPA DE EJECUCIÓN: Inicia una vez cumplidos los requisitos previstos para iniciar la ejecución del contrato respectivo y termina con el vencimiento del plazo del contrato o la fecha de liquidación si hay lugar a ella. RIESGO GENERAL: Es un riesgo de todos los procesos de contratación adelantados por la Entidad Estatal, por lo cual está presente en toda su actividad contractual. RIEGO ESPECIFICO: Es un riesgo propio del proceso de contratación objeto de análisis. RIESGOS ECONÓMICOS: Son los derivados del comportamiento del mercado, tales como la fluctuación de los precios de los insumos, desabastecimiento y especulación de los mismos, entre otros. RIESGOS SOCIALES O POLÍTICOS: son los derivados de los cambios de las políticas gubernamentales y de cambios en las condiciones sociales que tengan impacto en la ejecución del contrato. RIESGOS OPERACIONALES: Son los asociados a la operatividad del contrato, tales como la suficiencia del presupuesto oficial, del plazo o los derivados de procesos, procedimientos, parámetros, sistemas de información y tecnológicos, equipos humanos o técnicos inadecuados o insuficientes. RIESGOS FINANCIEROS: Son (i) el riesgo de consecución de financiación o riesgo de liquidez para obtener recursos para cumplir con el objeto del contrato, y (ii) el riesgo de las condiciones financieras establecidas para la obtención de los recursos, tales como plazos, tasas, garantías, contragarantías, y refinanciaciones, entre otros. RIESGOS REGULATORIOS: Derivados de cambios regulatorios o reglamentarios que afecten la ecuación económica del contrato. RIESGOS DE LA NATURALEZA: Son los eventos naturales previsibles en los cuales no hay intervención humana que puedan tener impacto en la ejecución del contrato, por ejemplo los temblores, inundaciones, lluvias, sequías, entre otros. RIESGOS AMBIENTALES: Son los derivados de las obligaciones legales o reglamentarias de carácter ambiental, así como de las licencias, planes de manejo o de permisos y autorizaciones ambientales, incluyendo tasas retributivas y compensatorias, obligaciones de mitigación, tareas de monitoreo y control, entre otras. RIESGOS TECNOLÓGICOS: Son los derivados de fallas en los sistemas de comunicación de voz y de datos, suspensión de servicios públicos, nuevos desarrollos tecnológicos o estándares que deben ser tenidos en cuenta para la ejecución del contrato, obsolescencia tecnológica.
B15: INSTRUCCIONES PARA LA IDENTIFICACIÓN, ANALISIS, EVALUACIÓN , ASIGNACIÓN Y TRATAMIENTO DE RIESGOS EN LA CONTRATACIÓN
C16: ETAPAS | D16: CLASE | E16: FUENTE | F16: TIPO
C17: PLANEACIÓN
B18: Inadecuada escogencia de la modalidad de contratación | D18: General | E18: Interno | F18: Operacionales
B19: Requisitos habilitantes inapropiados para el proceso de selección | D19: General | E19: Interno | F19: Operacionales
B20: Inadecuado análisis económico estimativo del valor del contrato | D20: General | E20: Interno | F20: Economicos
B21: Inadecuada descripción del bien o servicio requerido | D21: General | E21: Interno | F21: Operacionales
B22: Inadecuada elaboración de estudios y diseños | D22: General | E22: Interno | F22: Operacionales
B23: Requisitos habilitantes que impidan la selección objetiva | D23: General | E23: Interno | F23: Operacionales
B24: Falta de profundidad en el estudio de sector no identificandose claramente aspectos de oferta y demanda | D24: General | E24: Interno | F24: Economicos
B25: Ausencia de fundamentación de la justificación y conveniencia de la contratación | D25: General | E25: Interno | F25: Operacionales
B26: Inadecuada identificación de las condiciones contractuales | D26: General | E26: Interno | F26: Operacionales
B27: No aprobación o demoras en la expedición vigencias futuras | D27: General | E27: Interno | F27: Operacionales
B28: Apertura de procesos sin disponibilidad presupuestal | D28: General | E28: Interno | F28: Operacionales
C29: SELECCIÓN
B30: Inadecuada evaluación de las ofertas y/o verificación de requisitos habilitantes | D30: General | E30: Interno | F30: Operacionales
B31: Inadecuado manejo administrativo del proceso contractual | D31: General | E31: Interno | F31: Operacionales
B32: Falta de claridad en la elaboración de los actos administrativos | D32: General | E32: Interno | F32: Operacionales
B33: Contestación inoportuna a todas las observaciones formuladas a los documentos de la contratación | D33: General | E33: Interno | F33: Operacionales
B34: No publicación de la documentación del proceso de selección en el SECOP | D34: General | E34: Interno | F34: Operacionales
B35: Confabulacion de los proponentes (Colusión) | D35: General | E35: Externo | F35: Operacionales
B36: Selección de ofertas con precios artificialmente bajos. | D36: General | E36: Interno | F36: Operacionales
C37: CONTRATACIÓN
B38: Riesgo de que no se firme el contrato. | D38: General | E38: Interno | F38: Operacionales
B39: Falta de constitución o constitución tardía de la garantía única. Aceptación de garantías que no se ajustan a lo contemplado en el contrato | D39: General | E39: Externo | F39: Operacionales
B40: Falta de solicitud o solicitud tardía del registro presupuestal | D40: General | E40: Interno | F40: Operacionales
B41: No publicación de la documentación del proceso de selección en el SECOP | D41: General | E41: Interno | F41: Operacionales
B42: Presentación de reclamos de terceros sobre la selección del oferente que retrasen el perfeccionamiento del contrato. | D42: General | E42: Interno | F42: Operacionales
C43: EJECUCIÓN
B44: Fluctuaciones del valor de la moneda | D44: Estatal | E44: Externo | F44: Economicos
B45: Cambio de precios en factores de producción. | D45: Estatal | E45: Externo | F45: Economicos
B46: Variación de los precios del mercado | D46: Estatal | E46: Externo | F46: Economicos
B47: Factores políticos o macroeconómicos. | D47: Estatal | E47: Externo | F47: Sociales o Políticos
B48: Cancelación de pedidos. | D48: Especifico | E48: Interno | F48: Economicos
B49: Variación en la disponibilidad o en el costo de los insumos necesarios para prestar los servicios. | D49: Especifico | E49: Externo | F49: Economicos
B50: Incumplimiento de compromisos adquiridos por el contratista seleccionado con sus subcontratistas, suministradores de bienes y servicios. | D50: General | E50: Externo | F50: Economicos
B51: Incumplimiento de la administración en los pagos. | D51: General | E51: Externo | F51: Economicos
...

Sheet EVALUACION
C2: MATRIZ DE RIESGOS DE CONTRATACIÓN | K2: Código: GCO-GCI-F164 Versión: 02 Vigencia: 01 de diciembre de 2022 Caso HOLA: 280117
B6: Objeto Contractual: SUMINISTRO, ADQUISICIÓN Y DISTRIBUCIÓN A MONTO AGOTABLE DE IMPLEMENTOS, ARTÍCULOS, ACCESORIOS Y BIENES DEPORTIVOS DESTINADOS A LOS COLECTIVOS U ORGANIZACIONES RECREO-DEPORTIVAS, Y PERSONAS BENEFICIADAS CON ACTIVIDADES RECREO-DEPORTIVAS COMUNITARIAS DE LA LOCALIDAD DE KENNEDY LAS UNIDADES OPERATIVAS PRIORIZADAS POR LA SECRETARIA DE INTEGRAL SOCIAL
B7: CALIFICACIÓN | H7: Cualitativa
B8: ETAPA | C8: Descripción (Que puede pasar y, cómo puede ocurrir) | H8: Consecuencias de la ocurrencia del evento | I8: Probabilidad de Ocurrencia | J8: Impacto | K8: Calificación Total | L8: Prioridad
B9: CONTRATACIÓN | C9: Riesgo de que no se firme el contrato. | H9: No satisfacción de la necesidad planteada | I9: 1 | J9: 4 | K9: =I9+J9 -> 5 | L9: =IF(K9<=4,"BAJO",IF(K9=5,"MEDIO",IF(K9=6,"ALTO",IF(K9=7,"ALTO","EXTREMO")))) -> MEDIO
B10: CONTRATACIÓN | C10: Falta de constitución o constitución tardía de la garantía única. Aceptación de garantías que no se ajustan a lo contemplado en el contrato | H10: Retrasos en el cronograma de actividades | I10: 2 | J10: 2 | K10: =+I10+J10 -> 4 | L10: =IF(K10<=4,"BAJO",IF(K10=5,"MEDIO",IF(K10=6,"ALTO",IF(K10=7,"ALTO","EXTREMO")))) -> BAJO
B11: CONTRATACIÓN | C11: Falta de solicitud o solicitud tardía del registro presupuestal | H11: Retrasos en el cronograma de actividades | I11: 1 | J11: 3 | K11: =+I11+J11 -> 4 | L11: =IF(K11<=4,"BAJO",IF(K11=5,"MEDIO",IF(K11=6,"ALTO",IF(K11=7,"ALTO","EXTREMO")))) -> BAJO
B12: CONTRATACIÓN | C12: No publicación de la documentación del proceso de selección en el SECOP | H12: Nulidad del proceso por falta de transparencia | I12: 1 | J12: 4 | K12: =+I12+J12 -> 5 | L12: =IF(K12<=4,"BAJO",IF(K12=5,"MEDIO",IF(K12=6,"ALTO",IF(K12=7,"ALTO","EXTREMO")))) -> MEDIO
B13: CONTRATACIÓN | C13: Presentación de reclamos de terceros sobre la selección del oferente que retrasen el perfeccionamiento del contrato. | H13: Retrasos en la adjudicación del proceso | I13: 3 | J13: 2 | K13: =+I13+J13 -> 5 | L13: =IF(K13<=4,"BAJO",IF(K13=5,"MEDIO",IF(K13=6,"ALTO",IF(K13=7,"ALTO","EXTREMO")))) -> MEDIO
B14: PLANEACIÓN | C14: Inadecuada escogencia de la modalidad de contratación | H14: Indebida ejecución contractual Nulidad del proceso contractual | I14: 1 | J14: 3 | K14: =+I14+J14 -> 4 | L14: =IF(K14<=4,"BAJO",IF(K14=5,"MEDIO",IF(K14=6,"ALTO",IF(K14=7,"ALTO","EXTREMO")))) -> BAJO
B15: PLANEACIÓN | C15: Inadecuada descripción del bien o servicio requerido | H15: No se daría cumplimiento a la necesidad | I15: 1 | J15: 3 | K15: 4 | L15: =IF(K15<=4,"BAJO",IF(K15=5,"MEDIO",IF(K15=6,"ALTO",IF(K15=7,"ALTO","EXTREMO")))) -> BAJO
B16: SELECCIÓN | C16: Requisitos habilitantes inapropiados para el proceso de selección | H16: Escogencia erronea del contratista y posibles inconvenientes en la ejecución del contrato | I16: 2 | J16: 3 | K16: 5 | L16: =IF(K16<=4,"BAJO",IF(K16=5,"MEDIO",IF(K16=6,"ALTO",IF(K16=7,"ALTO","EXTREMO")))) -> MEDIO
B17: SELECCIÓN | C17: Apertura de procesos sin disponibilidad presupuestal | H17: El proceso no tendria el respalso presupuestal requerido y sería nulo el proceso | I17: 1 | J17: 4 | K17: 5 | L17: =IF(K17<=4,"BAJO",IF(K17=5,"MEDIO",IF(K17=6,"ALTO",IF(K17=7,"ALTO","EXTREMO")))) -> MEDIO
B18: PLANEACIÓN | C18: Ausencia de fundamentación de la justificación y conveniencia de la contratación | H18: No permite establecer la necesidad real y el contrato no sería claro en su fundamentación | I18: 2 | J18: 2 | K18: =+I18+J18 -> 4 | L18: =IF(K18<=4,"BAJO",IF(K18=5,"MEDIO",IF(K18=6,"ALTO",IF(K18=7,"ALTO","EXTREMO")))) -> BAJO
B19: EJECUCIÓN | C19: Variación de los precios del mercado | H19: Desequilibrio Económico | I19: 2 | J19: 4 | K19: =+I19+J19 -> 6 | L19: =IF(K19<=4,"BAJO",IF(K19=5,"MEDIO",IF(K19=6,"ALTO",IF(K19=7,"ALTO","EXTREMO")))) -> ALTO
B20: EJECUCIÓN | C20: Variación en la disponibilidad o en el costo de los insumos necesarios para prestar los servicios. | H20: Retrasos en el cronograma de actividades | I20: 3 | J20: 2 | K20: =+I20+J20 -> 5 | L20: =IF(K20<=4,"BAJO",IF(K20=5,"MEDIO",IF(K20=6,"ALTO",IF(K20=7,"ALTO","EXTREMO")))) -> MEDIO
B21: EJECUCIÓN | C21: Incumplimiento de compromisos adquiridos por el contratista seleccionado con sus subcontratistas, suministradores de bienes y servicios. | H21: Retrasos en el cronograma de actividades | I21: 3 | J21: 3 | K21: =+I21+J21 -> 6 | L21: =IF(K21<=4,"BAJO",IF(K21=5,"MEDIO",IF(K21=6,"ALTO",IF(K21=7,"ALTO","EXTREMO")))) -> ALTO
B22: EJECUCIÓN | C22: Incumplimiento de la administración en los pagos. | H22: Desequilibrio Económico y Retrasos en el cronograma | I22: 2 | J22: 3 | K22: =+I22+J22 -> 5 | L22: =IF(K22<=4,"BAJO",IF(K22=5,"MEDIO",IF(K22=6,"ALTO",IF(K22=7,"ALTO","EXTREMO")))) -> MEDIO
B23: EJECUCIÓN | C23: Defectos en los equipos. | H23: Retrasos en el cronograma de actividades | I23: 3 | J23: 4 | K23: =+I23+J23 -> 7 | L23: =IF(K23<=4,"BAJO",IF(K23=5,"MEDIO",IF(K23=6,"ALTO",IF(K23=7,"ALTO","EXTREMO")))) -> ALTO
B24: EJECUCIÓN | C24: El talento humano no cumple con el perfil requerido para la realización de las actividades | H24: Retrasos en el cronograma de actividades | I24: 2 | J24: 3 | K24: =+I24+J24 -> 5 | L24: =IF(K24<=4,"BAJO",IF(K24=5,"MEDIO",IF(K24=6,"ALTO",IF(K24=7,"ALTO","EXTREMO")))) -> MEDIO
B25: EJECUCIÓN | C25: Las areas intervenidas no son las aprobadas por el FDLK o las entidades pertinentes | H25: No son aprobadas por el FDLK y no seran reconocidos los costos invertidos | I25: 2 | J25: 4 | K25: =+I25+J25 -> 6 | L25: =IF(K25<=4,"BAJO",IF(K25=5,"MEDIO",IF(K25=6,"ALTO",IF(K25=7,"ALTO","EXTREMO")))) -> ALTO
B26: EJECUCIÓN | C26: Los permisos para la intervención de las areas contratadas no han podido ser gestionados por el contratista, debido a las demoras en las entidades pertinentes | H26: Retraso en el cronograma y una posible modificación contractual al contrato | I26: 4 | J26: 3 | K26: =+I26+J26 -> 7 | L26: =IF(K26<=4,"BAJO",IF(K26=5,"MEDIO",IF(K26=6,"ALTO",IF(K26=7,"ALTO","EXTREMO")))) -> ALTO
B27: EJECUCIÓN | C27: El talento humano que realiza las actividades operativas no cuentan con los elementos minimos de protección personal - EPP | H27: Accidentes laborales con el talento humano | I27: 3 | J27: 3 | K27: =+I27+J27 -> 6 | L27: =IF(K27<=4,"BAJO",IF(K27=5,"MEDIO",IF(K27=6,"ALTO",IF(K27=7,"ALTO","EXTREMO")))) -> ALTO
B28: EJECUCIÓN | C28: No reporte de los mantenimientos realizados a las areas o individuos intervenidos en las plataformas establecidas por cada entidad | H28: No serán reconocidos económicamente | I28: 3 | J28: 2 | K28: =+I28+J28 -> 5 | L28: =IF(K28<=4,"BAJO",IF(K28=5,"MEDIO",IF(K28=6,"ALTO",IF(K28=7,"ALTO","EXTREMO")))) -> MEDIO
B29: EJECUCIÓN | C29: Incorporación de especies vegetales no aptas para los procesos de restauración ecologica y que no han sido validadas y aprobadas por el sector | H29: No serán reconocidos económicamente Deterioro de la infraestructura ecológica | I29: 3 | J29: 2 | K29: =+I29+J29 -> 5 | L29: =IF(K29<=4,"BAJO",IF(K29=5,"MEDIO",IF(K29=6,"ALTO",IF(K29=7,"ALTO","EXTREMO")))) -> MEDIO
... B33: EJECUCIÓN | C33: Imposición de nuevos tributos | H33: Cambio en el valor contrato | I33: 2 | J33: 2 | K33: =+I33+J33 -> 4 | L33: =IF(K33<=4,"BAJO",IF(K33=5,"MEDIO",IF(K33=6,"ALTO",IF(K33=7,"ALTO","EXTREMO")))) -> BAJO
B36: Probabilidad | C36: Catagoria | E36: Valoración | G36: Impacto | H36: Categoria | I36: Valoración
C37: Raro (puede ocurrir excepcionalmente) | E37: 1 | H37: Insignificante | I37: 1
C38: Improbable (puede ocurrir ocasionalmente) | E38: 2 | H38: Menor | I38: 2
C39: Posible (puede ocurrir en cualquier momento futuro) | E39: 3 | H39: Moderado | I39: 3
C40: Probable (probablemente va a ocurrir) | E40: 4 | H40: Mayor | I40: 4
C41: Casi cierto (ocurre en la mayoria de circunstancias) | E41: 5 | H41: Catastrófico | I41: 5
C43: Valoración del Riesgo
C44: Calificación Cualitativa | F44: Obstruye la ejecución del contrato de manera intrascendente. | G44: Dificulta la ejecución del contrato de manera baja, aplicando medidas mínimas se pueden lograr el objeto contractual | H44: Afecta la ejecución del contrato sin alterar el beneficio para las partes | I44: Obstruye la ejecución del contrato sustancialmente pero aun así permite la consecución del objeto contractual | K44: Perturba la ejecución del contrato de manera grave imposibilitando la consecución del objeto contractual.
C45: Calificación Monetaria | F45: Los sobrecostos no representan más del uno por ciento (1%) del valor del contrato. | G45: Los sobrecostos no representan más del cinco por ciento (5%) del valor del contrato. | H45: Genera un impacto sobre el valor del contrato entre el cinco (5%) y el quince por ciento (15%). | I45: Incrementa el valor del contrato entre el quince (15%) y el treinta por ciento (30%). | K45: Impacto sobre el valor del contrato en más del treinta por ciento (30%).
C46: Categoría | E46: Valoración | F46: Insignificante | G46: Menor | H46: Moderado | I46: Mayor | K46: Catastrófico
F47: 1 | G47: 2 | H47: 3 | I47: 4 | K47: 5
C48: Raro (puede ocurrir excepcionalmente) | E48: 1 | F48: 2 | G48: 3 | H48: 4 | I48: 5 | K48: 6
C49: Improbable (puede ocurrir ocasionalmente) | E49: 2 | F49: 3 | G49: 4 | H49: 5 | I49: 6 | K49: 7
C50: Posible (puede ocurrir en cualquier momento futuro) | E50: 3 | F50: 4 | G50: 5 | H50: 6 | I50: 7 | K50: 8
...

Sheet EVALUACION CON CONTROLES
C2: MATRIZ DE RIESGOS DE CONTRATACIÓN | Q2: Código: GCO-GCI-F164 Versión: 02 Vigencia: 01 de diciembre de 2022 Caso HOLA: 280117
B6: =+EVALUACION!B6 -> Objeto Contractual: SUMINISTRO, ADQUISICIÓN Y DISTRIBUCIÓN A MONTO AGOTABLE DE IMPLEMENTOS, ARTÍCULOS, ACCESORIOS Y BIENES DEPORTIVOS DESTINADOS A LOS COLECTIVOS U ORGANIZACIONES RECREO-DEPORTIVAS, Y PERSONAS BENEFICIADAS CON ACTIVIDADES RECREO-DEPORTIVAS COMUNITARIAS DE LA LOCALIDAD DE KENNEDY LAS UNIDADES OPERATIVAS PRIORIZADAS POR LA SECRETARIA DE INTEGRAL SOCIAL
B7: ETAPA | C7: Descripción (Que puede pasar y, cómo puede ocurrir) | G7: Tratamiento/Controles a ser implementados | I7: Probabilidad de Ocurrencia | J7: Impacto | K7: Calificación Total | L7: Prioridad | M7: ¿Afecta el equilibrio económico del contrato? | N7: Persona responsable por implementar el tratamiento | O7: Fecha estimada en que se inicia el tratamiento | P7: Fecha estimada en que se completa el tratamiento | Q7: ¿Cómo se realiza el monitoreo? | R7: Periodicidad ¿Cuándo?
B8: =+EVALUACION!B9 -> CONTRATACIÓN | C8: =+EVALUACION!C9 -> Riesgo de que no se firme el contrato. | G8: Solicitud poliza de seriedad de la oferta | I8: =+EVALUACION!I9 -> 1 | J8: =+EVALUACION!J9 -> 4 | K8: =+I8+J8 -> 5 | L8: =IF(K8<=4,"BAJO",IF(K8=5,"MEDIO",IF(K8=6,"ALTO",IF(K8=7,"ALTO","EXTREMO")))) -> MEDIO | M8: NO | N8: Abogado(a) responsable del proceso | O8: Una vez se presente el suceso | P8: una vez firmado el contrato | Q8: Seguimiento continuo | R8: Permanente
B9: =+EVALUACION!B10 -> CONTRATACIÓN | C9: =+EVALUACION!C10 -> Falta de constitución o constitución tardía de la garantía única. Aceptación de garantías que no se ajustan a lo contemplado en el contrato | G9: No se prefecciona e inicia el contrato hasta que no se encuentren aprobadas las garantias | I9: =+EVALUACION!I10 -> 2 | J9: =+EVALUACION!J10 -> 2 | K9: =+I9+J9 -> 4 | L9: =IF(K9<=4,"BAJO",IF(K9=5,"MEDIO",IF(K9=6,"ALTO",IF(K9=7,"ALTO","EXTREMO")))) -> BAJO | M9: NO | N9: Abogado(a) responsable del proceso | O9: Una vez se presente el suceso | P9: Antes de perfeccionado el contrato | Q9: Mediante correos eléctronicos y oficios al adjudicatario | R9: Cada tres días habiles posterior a la firma del contrato
B10: =+EVALUACION!B11 -> CONTRATACIÓN | C10: =+EVALUACION!C11 -> Falta de solicitud o solicitud tardía del registro presupuestal | G10: Seguimiento continuo una vez suscrito el contrato | I10: =+EVALUACION!I11 -> 1 | J10: =+EVALUACION!J11 -> 3 | K10: =+I10+J10 -> 4 | L10: =IF(K10<=4,"BAJO",IF(K10=5,"MEDIO",IF(K10=6,"ALTO",IF(K10=7,"ALTO","EXTREMO")))) -> BAJO | M10: SI | N10: Abogado(a) responsable del proceso | O10: Una vez suscrito el contrato | P10: Hasta la expedición del registro | Q10: Seguimiento continuo | R10: Permanente
B11: =+EVALUACION!B12 -> CONTRATACIÓN | C11: =+EVALUACION!C12 -> No publicación de la documentación del proceso de selección en el SECOP | G11: Seguimiento continuo cuando se tengan todos los documentos precontractuales | I11: =+EVALUACION!I12 -> 1 | J11: =+EVALUACION!J12 -> 4 | K11: =+I11+J11 -> 5 | L11: =IF(K11<=4,"BAJO",IF(K11=5,"MEDIO",IF(K11=6,"ALTO",IF(K11=7,"ALTO","EXTREMO")))) -> MEDIO | M11: NO | N11: Abogado(a) responsable del proceso | O11: Una vez se proyectan los prepliegos de condiciones | P11: Hasta la publicación de todos los documentos | Q11: Seguimiento continuo | R11: Permanente
B12: =+EVALUACION!B13 -> CONTRATACIÓN | C12: =+EVALUACION!C13 -> Presentación de reclamos de terceros sobre la selección del oferente que retrasen el perfeccionamiento del contrato. | G12: Respuesta en los terminos estipulados por la Ley | I12: =+EVALUACION!I13 -> 3 | J12: =+EVALUACION!J13 -> 2 | K12: =+I12+J12 -> 5 | L12: =IF(K12<=4,"BAJO",IF(K12=5,"MEDIO",IF(K12=6,"ALTO",IF(K12=7,"ALTO","EXTREMO")))) -> MEDIO | M12: SI | N12: FDLK | O12: Una vez se presente el suceso | P12: Hasta dar respuesta a todas las observaciones presentadas | Q12: Revisión constante de la plataforma SECOP II | R12: Permanente
B13: =+EVALUACION!B14 -> PLANEACIÓN | C13: =+EVALUACION!C14 -> Inadecuada escogencia de la modalidad de contratación | G13: Reunión entre técnicos y abogados para revisar el proceso y la modalidad de contratación de acuerdo con la normatividad vigente | I13: =+EVALUACION!I14 -> 1 | J13: =+EVALUACION!J14 -> 3 | K13: =+I13+J13 -> 4 | L13: =IF(K13<=4,"BAJO",IF(K13=5,"MEDIO",IF(K13=6,"ALTO",IF(K13=7,"ALTO","EXTREMO")))) -> BAJO | M13: NO | N13: FDLK | O13: Previo al inició de la estructuración de los documentos | P13: Debida estructuración de los documentos | Q13: Reuniones permanentes de esquipo | R13: Permanente
B14: =+EVALUACION!B18 -> PLANEACIÓN | C14: =+EVALUACION!C18 -> Ausencia de fundamentación de la justificación y conveniencia de la contratación | G14: Revisión de los docuemntos previo a la publicación del proceso | I14: =+EVALUACION!I18 -> 2 | J14: =+EVALUACION!J18 -> 2 | K14: =+I14+J14 -> 4 | L14: =IF(K14<=4,"BAJO",IF(K14=5,"MEDIO",IF(K14=6,"ALTO",IF(K14=7,"ALTO","EXTREMO")))) -> BAJO | M14: NO | N14: FDLK | O14: Previo al inició de la estructuración de los documentos | P14: Debida estructuración de los documentos | Q14: Seguimiento continuo | R14: Permanente
B15: =+EVALUACION!B19 -> EJECUCIÓN | C15: =+EVALUACION!C19 -> Variación de los precios del mercado | G15: Revisión de la situación y si se requiere adición presupuestal | I15: =+EVALUACION!I19 -> 2 | J15: 1 | K15: =+I15+J15 -> 3 | L15: =IF(K15<=4,"BAJO",IF(K15=5,"MEDIO",IF(K15=6,"ALTO",IF(K15=7,"ALTO","EXTREMO")))) -> BAJO | M15: SI | N15: FDLK | O15: Una vez el contratista manifieste los cambios | P15: Respuesta de las acciones a adelantar por parte del FDLK | Q15: Seguimiento continuo | R15: Permanente
B16: =+EVALUACION!B20 -> EJECUCIÓN | C16: =+EVALUACION!C20 -> Variación en la disponibilidad o en el costo de los insumos necesarios para prestar los servicios. | G16: Revisión de la situación que acontece y revisión de cambio de elementos por alguno con caracteristicas técnicas similares | I16: 2 | J16: 1 | K16: =+I16+J16 -> 3 | L16: =IF(K16<=4,"BAJO",IF(K16=5,"MEDIO",IF(K16=6,"ALTO",IF(K16=7,"ALTO","EXTREMO")))) -> BAJO | M16: SI | N16: FDLK | O16: Una vez el contratista manifieste los cambios | P16: Respuesta de las acciones a adelantar por parte del FDLK | Q16: Seguimiento continuo | R16: Permanente
B17: =+EVALUACION!B21 -> EJECUCIÓN | C17: =+EVALUACION!C21 -> Incumplimiento de compromisos adquiridos por el contratista seleccionado con sus subcontratistas, suministradores de bienes y servicios. | G17: Clausula de indemnidad ante el FDLK | I17: 2 | J17: 2 | K17: =+I17+J17 -> 4 | L17: =IF(K17<=4,"BAJO",IF(K17=5,"MEDIO",IF(K17=6,"ALTO",IF(K17=7,"ALTO","EXTREMO")))) -> BAJO | M17: NO | N17: Abogado(a) responsable del proceso | O17: En la proyección de la minuta contractual | P17: una vez firmado el contrato | Q17: Seguimiento continuo | R17: Permanente
B18: =+EVALUACION!B22 -> EJECUCIÓN | C18: =+EVALUACION!C22 -> Incumplimiento de la administración en los pagos. | G18: Revisión de la situación y plan choque para contrarestar las afectaciones | I18: 1 | J18: 2 | K18: =+I18+J18 -> 3 | L18: =IF(K18<=4,"BAJO",IF(K18=5,"MEDIO",IF(K18=6,"ALTO",IF(K18=7,"ALTO","EXTREMO")))) -> BAJO | M18: SI | N18: Supervisor y apoyo a la supervisión | O18: Una vez se presente el suceso | P18: Cuando se realice el pago | Q18: Revisión documental y reuniones con el equipo financiero | R18: Previo a cada pago
B19: =+EVALUACION!B23 -> EJECUCIÓN | C19: =+EVALUACION!C23 -> Defectos en los equipos. | G19: Cambio de los equipos en un corto periodo de tiempo | I19: 1 | J19: 1 | K19: =+I19+J19 -> 2 | L19: =IF(K19<=4,"BAJO",IF(K19=5,"MEDIO",IF(K19=6,"ALTO",IF(K19=7,"ALTO","EXTREMO")))) -> BAJO | M19: NO | N19: Contratista y supervisor | O19: Una vez se presente el suceso | P19: Una se entregue el nuevo bien | Q19: Correos electrónicos, oficios, actas | R19: Permanente
B20: =+EVALUACION!B24 -> EJECUCIÓN | C20: =+EVALUACION!C24 -> El talento humano no cumple con el perfil requerido para la realización de las actividades | G20: Revisión detallada de las hojas de vida y los soportes conforme al anexo técnico | I20: 1 | J20: 1 | K20: =+I20+J20 -> 2 | L20: =IF(K20<=4,"BAJO",IF(K20=5,"MEDIO",IF(K20=6,"ALTO",IF(K20=7,"ALTO","EXTREMO")))) -> BAJO | M20: NO | N20: Contratista y supervisor | O20: Previo a la firma del acta de inicio | P20: Cuando se cumpla con todo el talento humano | Q20: Correos, reuniones presenciales para revisión | R20: Máximo cada 3 días
B21: =+EVALUACION!B25 -> EJECUCIÓN | C21: =+EVALUACION!C25 -> Las areas intervenidas no son las aprobadas por el FDLK o las entidades pertinentes | G21: Seguimiento continuo del comité técnico al cronograma y plan de trabajo y visitas por parte del apoyo a la supervisión a las zonas aprobadas | I21: 1 | J21: 2 | K21: =+I21+J21 -> 3 | L21: =IF(K21<=4,"BAJO",IF(K21=5,"MEDIO",IF(K21=6,"ALTO",IF(K21=7,"ALTO","EXTREMO")))) -> BAJO | M21: SI | N21: Supervisor y apoyo a la supervisión | O21: En tanto se evidencie la primer falencia | P21: cuando se intervengan las áreas aprobadas | Q21: Reuniones y visitas a las áreas a intervenir | R21: Cada 15 días posterior al primer suceso
B22: =+EVALUACION!B26 -> EJECUCIÓN | C22: =+EVALUACION!C26 -> Los permisos para la intervención de las areas contratadas no han podido ser gestionados por el contratista, debido a las demoras en las entidades pertinentes | G22: Comunicaciones constantes a las entidades para conocer el estado del trámite | I22: 3 | J22: 2 | K22: =+I22+J22 -> 5 | L22: =IF(K22<=4,"BAJO",IF(K22=5,"MEDIO",IF(K22=6,"ALTO",IF(K22=7,"ALTO","EXTREMO")))) -> MEDIO | M22: NO | N22: Contratista y supervisor | O22: Cuando se presente la demora | P22: Una vez obtenido el permiso | Q22: Seguimiento a las respuestas de las comunicaciones | R22: Cada 15 días habíles
B23: =+EVALUACION!B27 -> EJECUCIÓN | C23: =+EVALUACION!C27 -> El talento humano que realiza las actividades operativas no cuentan con los elementos minimos de protección personal - EPP | G23: Acta de entrega de EPP con firma de cada operario y descripción de lo entregado Visitas por parte del apoyo a la supervisión | I23: 2 | J23: 1 | K23: =+I23+J23 -> 3 | L23: =IF(K23<=4,"BAJO",IF(K23=5,"MEDIO",IF(K23=6,"ALTO",IF(K23=7,"ALTO","EXTREMO")))) -> BAJO | M23: NO | N23: Contratista | O23: Cuando se evidencie que no cuentan con los elementos | P23: Al finalizar las actividades | Q23: Revisión de actas Visitas al lugar de intervención por parte del apoyo a la supervisión | R23: 1 vez al mes
B24: =+EVALUACION!B28 -> EJECUCIÓN | C24: =+EVALUACION!C28 -> No reporte de los mantenimientos realizados a las areas o individuos intervenidos en las plataformas establecidas por cada entidad | G24: Seguimiento continuo del comité técnico al cronograma y plan de trabajo y la catualización de las hojas de vida de los mantenimientos | I24: 1 | J24: 1 | K24: =+I24+J24 -> 2 | L24: =IF(K24<=4,"BAJO",IF(K24=5,"MEDIO",IF(K24=6,"ALTO",IF(K24=7,"ALTO","EXTREMO")))) -> BAJO | M24: SI | N24: Contratista y supervisor | O24: En tanto se evidencie la primer falencia | P24: Al finalizar las actividades | Q24: Reuniones de comité técnico | R24: 1 vez al mes
B25: =+EVALUACION!B29 -> EJECUCIÓN | C25: =+EVALUACION!C29 -> Incorporación de especies vegetales no aptas para los procesos de restauración ecologica y que no han sido validadas y aprobadas por el sector | G25: Seguimiento continuo del comité técnico al cronograma y plan de trabajo Visitas para verificación del material vegetal | I25: 2 | J25: 1 | K25: =+I25+J25 -> 3 | L25: =IF(K25<=4,"BAJO",IF(K25=5,"MEDIO",IF(K25=6,"ALTO",IF(K25=7,"ALTO","EXTREMO")))) -> BAJO | M25: SI | N25: Contratista y supervisor | O25: En tanto se evidencie la primer falencia | P25: Al finalizar las actividades | Q25: Reuniones de comité técnico Visitas al lugar de la plantación | R25: Mínimo 1 vez al mes
B26: =+EVALUACION!B30 -> EJECUCIÓN | C26: =+EVALUACION!C30 -> No se logra la participación miníma de la comunidad en los talleres planteados | G26: Reprogramación de talleres hasta completar la cobertura mínima | I26: 2 | J26: 1 | K26: =+I26+J26 -> 3 | L26: =IF(K26<=4,"BAJO",IF(K26=5,"MEDIO",IF(K26=6,"ALTO",IF(K26=7,"ALTO","EXTREMO")))) -> BAJO | M26: SI | N26: Contratista | O26: En tanto se evidencie la primer falencia | P26: Cuando se complete la cobertura de los talleres | Q26: Planillas de asistencia Visitas a los talleres | R26: En cada taller
B27: =+EVALUACION!B31 -> EJECUCIÓN | C27: =+EVALUACION!C31 -> El contratista no cumple con los compromisos ofertados en los criterios ponderables | G27: Generar las alertas correspondientes | I27: =+EVALUACION!I31 -> 2 | J27: 2 | K27: =+I27+J27 -> 4 | L27: =IF(K27<=4,"BAJO",IF(K27=5,"MEDIO",IF(K27=6,"ALTO",IF(K27=7,"ALTO","EXTREMO")))) -> BAJO | M27: SI | N27: Supervisor y apoyo a la supervisión | O27: Una vez el contratista manifieste que no dará cumplimineto con los compromisos | P27: Cuando el contratiste realice las actividades | Q27: Mediante correos eléctronicos y oficios al adjudicatario | R27: Cada 5 días Hábiles
B28: =+EVALUACION!B32 -> EJECUCIÓN | C28: =+EVALUACION!C32 -> Incumplimiento derivado del trámite de los permisos con autoridades ambientales, la obtención de los mismos, paz y salvos | G28: Seguimiento continuo del comité técnico | I28: 2 | J28: 3 | K28: =+I28+J28 -> 5 | L28: =IF(K28<=4,"BAJO",IF(K28=5,"MEDIO",IF(K28=6,"ALTO",IF(K28=7,"ALTO","EXTREMO")))) -> MEDIO | M28: SI | N28: Contratista y supervisor | O28: Cuando se presente la demora | P28: Una vez obtenido el permiso | Q28: Seguimiento a las respuestas de las comunicaciones | R28: Cada 15 días habíles
B29: =+EVALUACION!B33 -> EJECUCIÓN | C29: =+EVALUACION!C33 -> Imposición de nuevos tributos | G29: Revisión de la situación y si se requiere adición presupuestal | I29: 1 | J29: =+EVALUACION!J33 -> 2 | K29: =+I29+J29 -> 3 | L29: =IF(K29<=4,"BAJO",IF(K29=5,"MEDIO",IF(K29=6,"ALTO",IF(K29=7,"ALTO","EXTREMO")))) -> BAJO | M29: SI | N29: FDLK | O29: Una vez se presente el suceso | P29: Respuesta de las acciones a adelantar por parte del FDLK | Q29: Seguimiento continuo | R29: Permanente
C31: Categoria del Riesgo | H31: Impacto del Riesgo
B32: Probabilidad | C32: Catagoria | F32: Valoración | H32: Categoria | J32: Valoración | N32: Categoria del Riesgo
C33: Raro (puede ocurrir excepcionalmente) | F33: 1 | H33: Insignificante | J33: 1 | N33: Valoración del Riesgo | P33: Categoría
C34: Improbable (puede ocurrir ocasionalmente) | F34: 2 | H34: Menor | J34: 2 | N34: 8, 9 y 10 | P34: Riesgo extremo
C35: Posible (puede ocurrir en cualquier momento futuro) | F35: 3 | H35: Moderado | J35: 3 | N35: 6 y 7 | P35: Riesgo alto
C36: Probable (probablemente va a ocurrir) | F36: 4 | H36: Mayor | J36: 4 | N36: 5 | P36: Riesgo medio
C37: Casi cierto (ocurre en la mayoria de circunstancias) | F37: 5 | H37: Catastrófico | J37: 5 | N37: 2, 3 y 4 | P37: Riesgo bajo
C39: Valoración del Riesgo
C40: Calificación Cualitativa | G40: Obstruye la ejecución del contrato de manera intrascendente. | I40: Dificulta la ejecución del contrato de manera baja, aplicando medidas mínimas se pueden lograr el objeto contractual | L40: Afecta la ejecución del contrato sin alterar el beneficio para las partes | N40: Obstruye la ejecución del contrato sustancialmente pero aun así permite la consecución del objeto contractual | P40: Perturba la ejecución del contrato de manera grave imposibilitando la consecución del objeto contractual.
C41: Calificación Monetaria | G41: Los sobrecostos no representan más del uno por ciento (1%) del valor del contrato. | I41: Los sobrecostos no representan más del cinco por ciento (5%) del valor del contrato. | L41: Genera un impacto sobre el valor del contrato entre el cinco (5%) y el quince por ciento (15%). | N41: Incrementa el valor del contrato entre el quince (15%) y el treinta por ciento (30%). | P41: Impacto sobre el valor del contrato en más del treinta por ciento (30%).
C42: Catagoria | F42: Valoración | G42: Insignificante | I42: Menor | L42: Moderado | N42: Mayor | P42: Catastrófico
G43: 1 | I43: 2 | L43: 3 | N43: 4 | P43: 5
C44: Raro (puede ocurrir excepcionalmente) | F44: 1 | G44: 2 | I44: 3 | L44: 4 | N44: 5 | P44: 6
C45: Improbable (puede ocurrir ocasionalmente) | F45: 2 | G45: 3 | I45: 4 | L45: 5 | N45: 6 | P45: 7
C46: Posible (puede ocurrir en cualquier momento futuro) | F46: 3 | G46: 4 | I46: 5 | L46: 6 | N46: 7 | P46: 8
...

Sheet ASIGNACION Y TRATAMIENTO
C2: MATRIZ DE RIESGOS DE CONTRATACIÓN | W2: Código: GCO-GCI-F164 Versión: 02 Vigencia: 01 de diciembre de 2022 Caso HOLA: 280117
B6: =+EVALUACION!B6 -> Objeto Contractual: SUMINISTRO, ADQUISICIÓN Y DISTRIBUCIÓN A MONTO AGOTABLE DE IMPLEMENTOS, ARTÍCULOS, ACCESORIOS Y BIENES DEPORTIVOS DESTINADOS A LOS COLECTIVOS U ORGANIZACIONES RECREO-DEPORTIVAS, Y PERSONAS BENEFICIADAS CON ACTIVIDADES RECREO-DEPORTIVAS COMUNITARIAS DE LA LOCALIDAD DE KENNEDY LAS UNIDADES OPERATIVAS PRIORIZADAS POR LA SECRETARIA DE INTEGRAL SOCIAL
B7: Esta matriz es un documento anexo del Estudio Previo
B10: No | C10: Descripción (Que puede pasar y, cómo puede ocurrir) | D10: Etapa | E10: Clase | F10: Fuente | G10: Consecuencias de la ocurrencia del evento | H10: Probabilidad | I10: Impacto | J10: Calificación total | K10: Prioridad | L10: ¿A quien se le asigna? | M10: % | N10: Tratamiento/Controles a ser implementados | O10: Probabilidad | P10: Impacto | Q10: Calificación total | R10: Prioridad | S10: ¿Afecta el equilibrio económico del contrato? | T10: Persona responsable por implementar el tratamiento | U10: Fecha estimada en que se inicia el tratamiento | V10: Fecha estimada en que se completa el tratamiento | W10: ¿Cómo se realiza el monitoreo | X10: Periodicidad ¿Cuándo?
B11: 1 | C11: =+'EVALUACION CON CONTROLES'!C8:F8 -> Riesgo de que no se firme el contrato. | D11: =+'EVALUACION CON CONTROLES'!B8 -> CONTRATACIÓN | E11: =VLOOKUP(C11,'IDENTIFICACION Y ANALISIS'!$B$18:$F$75,3,FALSE) -> General | F11: =VLOOKUP(C11,'IDENTIFICACION Y ANALISIS'!$B$18:$F$75,4,FALSE) -> Interno | G11: =+EVALUACION!H9 -> No satisfacción de la necesidad planteada | H11: =+EVALUACION!I9 -> 1 | I11: =+EVALUACION!J9 -> 4 | J11: =+EVALUACION!K9 -> 5 | K11: =+EVALUACION!L9 -> MEDIO | L11: SDG | M11: 100 | N11: =+'EVALUACION CON CONTROLES'!G8 -> Solicitud poliza de seriedad de la oferta | O11: =+'EVALUACION CON CONTROLES'!I8 -> 1 | P11: =+'EVALUACION CON CONTROLES'!J8 -> 4 | Q11: =+'EVALUACION CON CONTROLES'!K8 -> 5 | R11: =+'EVALUACION CON CONTROLES'!L8 -> MEDIO | S11: =+'EVALUACION CON CONTROLES'!M8 -> NO | T11: =+'EVALUACION CON CONTROLES'!N8 -> Abogado(a) responsable del proceso | U11: =+'EVALUACION CON CONTROLES'!O8 -> Una vez se presente el suceso | V11: =+'EVALUACION CON CONTROLES'!P8 -> una vez firmado el contrato | ... X11: =+'EVALUACION CON CONTROLES'!R8 -> Permanente
B12: 2 | C12: =+'EVALUACION CON CONTROLES'!C9:F9 -> Falta de constitución o constitución tardía de la garantía única. Aceptación de garantías que no se ajustan a lo contemplado en el contrato | D12: =+'EVALUACION CON CONTROLES'!B9 -> CONTRATACIÓN | E12: =VLOOKUP(C12,'IDENTIFICACION Y ANALISIS'!$B$18:$F$75,3,FALSE) -> General | F12: =VLOOKUP(C12,'IDENTIFICACION Y ANALISIS'!$B$18:$F$75,4,FALSE) -> Externo | G12: =+EVALUACION!H10 -> Retrasos en el cronograma de actividades | H12: =+EVALUACION!I10 -> 2 | I12: =+EVALUACION!J10 -> 2 | J12: =+EVALUACION!K10 -> 4 | K12: =+EVALUACION!L10 -> BAJO | L12: CONTRATISTA | M12: 100 | N12: =+'EVALUACION CON CONTROLES'!G9 -> No se prefecciona e inicia el contrato hasta que no se encuentren aprobadas las garantias | O12: =+'EVALUACION CON CONTROLES'!I9 -> 2 | P12: =+'EVALUACION CON CONTROLES'!J9 -> 2 | Q12: =+'EVALUACION CON CONTROLES'!K9 -> 4 | R12: =+'EVALUACION CON CONTROLES'!L9 -> BAJO | S12: =+'EVALUACION CON CONTROLES'!M9 -> NO | T12: =+'EVALUACION CON CONTROLES'!N9 -> Abogado(a) responsable del proceso | U12: =+'EVALUACION CON CONTROLES'!O9 -> Una vez se presente el suceso | V12: =+'EVALUACION CON CONTROLES'!P9 -> Antes de perfeccionado el contrato | ... X12: =+'EVALUACION CON CONTROLES'!R9 -> Cada tres días habiles posterior a la firma del contrato
B13: 3 | C13: =+'EVALUACION CON CONTROLES'!C10:F10 -> Falta de solicitud o solicitud tardía del registro presupuestal | D13: =+'EVALUACION CON CONTROLES'!B10 -> CONTRATACIÓN | E13: =VLOOKUP(C13,'IDENTIFICACION Y ANALISIS'!$B$18:$F$75,3,FALSE) -> General | F13: =VLOOKUP(C13,'IDENTIFICACION Y ANALISIS'!$B$18:$F$75,4,FALSE) -> Interno | G13: =+EVALUACION!H11 -> Retrasos en el cronograma de actividades | H13: =+EVALUACION!I11 -> 1 | I13: =+EVALUACION!J11 -> 3 | J13: =+EVALUACION!K11 -> 4 | K13: =+EVALUACION!L11 -> BAJO | L13: SDG | M13: 100 | N13: =+'EVALUACION CON CONTROLES'!G10 -> Seguimiento continuo una vez suscrito el contrato | O13: =+'EVALUACION CON CONTROLES'!I10 -> 1 | P13: =+'EVALUACION CON CONTROLES'!J10 -> 3 | Q13: =+'EVALUACION CON CONTROLES'!K10 -> 4 | R13: =+'EVALUACION CON CONTROLES'!L10 -> BAJO | S13: =+'EVALUACION CON CONTROLES'!M10 -> SI | T13: =+'EVALUACION CON CONTROLES'!N10 -> Abogado(a) responsable del proceso | U13: =+'EVALUACION CON CONTROLES'!O10 -> Una vez suscrito el contrato | V13: =+'EVALUACION CON CONTROLES'!P10 -> Hasta la expedición del registro | ... X13: =+'EVALUACION CON CONTROLES'!R10 -> Permanente
B14: 4 | C14: =+'EVALUACION CON CONTROLES'!C11:F11 -> No publicación de la documentación del proceso de selección en el SECOP | D14: =+'EVALUACION CON CONTROLES'!B11 -> CONTRATACIÓN | E14: =VLOOKUP(C14,'IDENTIFICACION Y ANALISIS'!$B$18:$F$75,3,FALSE) -> General | F14: =VLOOKUP(C14,'IDENTIFICACION Y ANALISIS'!$B$18:$F$75,4,FALSE) -> Interno | G14: =+EVALUACION!H12 -> Nulidad del proceso por falta de transparencia | H14: =+EVALUACION!I12 -> 1 | I14: =+EVALUACION!J12 -> 4 | J14: =+EVALUACION!K12 -> 5 | K14: =+EVALUACION!L12 -> MEDIO | L14: SDG | M14: 100 | N14: =+'EVALUACION CON CONTROLES'!G11 -> Seguimiento continuo cuando se tengan todos los documentos precontractuales | O14: =+'EVALUACION CON CONTROLES'!I11 -> 1 | P14: =+'EVALUACION CON CONTROLES'!J11 -> 4 | Q14: =+'EVALUACION CON CONTROLES'!K11 -> 5 | R14: =+'EVALUACION CON CONTROLES'!L11 -> MEDIO | S14: =+'EVALUACION CON CONTROLES'!M11 -> NO | T14: =+'EVALUACION CON CONTROLES'!N11 -> Abogado(a) responsable del proceso | U14: =+'EVALUACION CON CONTROLES'!O11 -> Una vez se proyectan los prepliegos de condiciones | V14: =+'EVALUACION CON CONTROLES'!P11 -> Hasta la publicación de todos los documentos | ... X14: =+'EVALUACION CON CONTROLES'!R11 -> Permanente
B15: 5 | C15: =+'EVALUACION CON CONTROLES'!C12:F12 -> Presentación de reclamos de terceros sobre la selección del oferente que retrasen el perfeccionamiento del contrato. | D15: =+'EVALUACION CON CONTROLES'!B12 -> CONTRATACIÓN | E15: =VLOOKUP(C15,'IDENTIFICACION Y ANALISIS'!$B$18:$F$75,3,FALSE) -> General | F15: =VLOOKUP(C15,'IDENTIFICACION Y ANALISIS'!$B$18:$F$75,4,FALSE) -> Interno | G15: =+EVALUACION!H13 -> Retrasos en la adjudicación del proceso | H15: =+EVALUACION!I13 -> 3 | I15: =+EVALUACION!J13 -> 2 | J15: =+EVALUACION!K13 -> 5 | K15: =+EVALUACION!L13 -> MEDIO | L15: SDG | M15: 100 | N15: =+'EVALUACION CON CONTROLES'!G12 -> Respuesta en los terminos estipulados por la Ley | O15: =+'EVALUACION CON CONTROLES'!I12 -> 3 | P15: =+'EVALUACION CON CONTROLES'!J12 -> 2 | Q15: =+'EVALUACION CON CONTROLES'!K12 -> 5 | R15: =+'EVALUACION CON CONTROLES'!L12 -> MEDIO | S15: =+'EVALUACION CON CONTROLES'!M12 -> SI | T15: =+'EVALUACION CON CONTROLES'!N12 -> FDLK | U15: =+'EVALUACION CON CONTROLES'!O12 -> Una vez se presente el suceso | V15: =+'EVALUACION CON CONTROLES'!P12 -> Hasta dar respuesta a todas las observaciones presentadas | ... X15: =+'EVALUACION CON CONTROLES'!R12 -> Permanente
B16: 6 | C16: =+'EVALUACION CON CONTROLES'!C13:F13 -> Inadecuada escogencia de la modalidad de contratación | D16: =+'EVALUACION CON CONTROLES'!B13 -> PLANEACIÓN | E16: =VLOOKUP(C16,'IDENTIFICACION Y ANALISIS'!$B$18:$F$75,3,FALSE) -> General | F16: =VLOOKUP(C16,'IDENTIFICACION Y ANALISIS'!$B$18:$F$75,4,FALSE) -> Interno | G16: =+EVALUACION!H14 -> Indebida ejecución contractual Nulidad del proceso contractual | H16: =+EVALUACION!I14 -> 1 | I16: =+EVALUACION!J14 -> 3 | J16: =+EVALUACION!K14 -> 4 | K16: =+EVALUACION!L14 -> BAJO | L16: SDG | M16: 100 | N16: =+'EVALUACION CON CONTROLES'!G13 -> Reunión entre técnicos y abogados para revisar el proceso y la modalidad de contratación de acuerdo con la normatividad vigente | O16: =+'EVALUACION CON CONTROLES'!I13 -> 1 | P16: =+'EVALUACION CON CONTROLES'!J13 -> 3 | Q16: =+'EVALUACION CON CONTROLES'!K13 -> 4 | R16: =+'EVALUACION CON CONTROLES'!L13 -> BAJO | S16: =+'EVALUACION CON CONTROLES'!M13 -> NO | T16: =+'EVALUACION CON CONTROLES'!N13 -> FDLK | U16: =+'EVALUACION CON CONTROLES'!O13 -> Previo al inició de la estructuración de los documentos | V16: =+'EVALUACION CON CONTROLES'!P13 -> Debida estructuración de los documentos | ... X16: =+'EVALUACION CON CONTROLES'!R13 -> Permanente
B17: 7 | C17: =+'EVALUACION CON CONTROLES'!C14:F14 -> Ausencia de fundamentación de la justificación y conveniencia de la contratación | D17: =+'EVALUACION CON CONTROLES'!B14 -> PLANEACIÓN | E17: =VLOOKUP(C17,'IDENTIFICACION Y ANALISIS'!$B$18:$F$75,3,FALSE) -> General | F17: =VLOOKUP(C17,'IDENTIFICACION Y ANALISIS'!$B$18:$F$75,4,FALSE) -> Interno | G17: =+EVALUACION!H18 -> No permite establecer la necesidad real y el contrato no sería claro en su fundamentación | H17: =+EVALUACION!I18 -> 2 | I17: =+EVALUACION!J18 -> 2 | J17: =+EVALUACION!K18 -> 4 | K17: =+EVALUACION!L18 -> BAJO | L17: SDG | M17: 100 | N17: =+'EVALUACION CON CONTROLES'!G14 -> Revisión de los docuemntos previo a la publicación del proceso | O17: =+'EVALUACION CON CONTROLES'!I14 -> 2 | P17: =+'EVALUACION CON CONTROLES'!J14 -> 2 | Q17: =+'EVALUACION CON CONTROLES'!K14 -> 4 | R17: =+'EVALUACION CON CONTROLES'!L14 -> BAJO | S17: =+'EVALUACION CON CONTROLES'!M14 -> NO | T17: =+'EVALUACION CON CONTROLES'!N14 -> FDLK | U17: =+'EVALUACION CON CONTROLES'!O14 -> Previo al inició de la estructuración de los documentos | V17: =+'EVALUACION CON CONTROLES'!P14 -> Debida estructuración de los documentos | ... X17: =+'EVALUACION CON CONTROLES'!R14 -> Permanente
B18: 8 | C18: =+'EVALUACION CON CONTROLES'!C15:F15 -> Variación de los precios del mercado | D18: =+'EVALUACION CON CONTROLES'!B15 -> EJECUCIÓN | E18: =VLOOKUP(C18,'IDENTIFICACION Y ANALISIS'!$B$18:$F$75,3,FALSE) -> Estatal | F18: =VLOOKUP(C18,'IDENTIFICACION Y ANALISIS'!$B$18:$F$75,4,FALSE) -> Externo | G18: =+EVALUACION!H19 -> Desequilibrio Económico | H18: =+EVALUACION!I19 -> 2 | I18: =+EVALUACION!J19 -> 4 | J18: =+EVALUACION!K19 -> 6 | K18: =+EVALUACION!L19 -> ALTO | L18: CONTRATISTA Y SDG | M18: 50 - 50 | N18: =+'EVALUACION CON CONTROLES'!G15 -> Revisión de la situación y si se requiere adición presupuestal | O18: =+'EVALUACION CON CONTROLES'!I15 -> 2 | P18: =+'EVALUACION CON CONTROLES'!J15 -> 1 | Q18: =+'EVALUACION CON CONTROLES'!K15 -> 3 | R18: =+'EVALUACION CON CONTROLES'!L15 -> BAJO | S18: =+'EVALUACION CON CONTROLES'!M15 -> SI | T18: =+'EVALUACION CON CONTROLES'!N15 -> FDLK | U18: =+'EVALUACION CON CONTROLES'!O15 -> Una vez el contratista manifieste los cambios | V18: =+'EVALUACION CON CONTROLES'!P15 -> Respuesta de las acciones a adelantar por parte del FDLK | ... X18: =+'EVALUACION CON CONTROLES'!R15 -> Permanente
B19: 9 | C19: =+'EVALUACION CON CONTROLES'!C16:F16 -> Variación en la disponibilidad o en el costo de los insumos necesarios para prestar los servicios. | D19: =+'EVALUACION CON CONTROLES'!B16 -> EJECUCIÓN | E19: =VLOOKUP(C19,'IDENTIFICACION Y ANALISIS'!$B$18:$F$75,3,FALSE) -> Especifico | F19: =VLOOKUP(C19,'IDENTIFICACION Y ANALISIS'!$B$18:$F$75,4,FALSE) -> Externo | G19: =+EVALUACION!H20 -> Retrasos en el cronograma de actividades | H19: =+EVALUACION!I20 -> 3 | I19: =+EVALUACION!J20 -> 2 | J19: =+EVALUACION!K20 -> 5 | K19: =+EVALUACION!L20 -> MEDIO | L19: CONTRATISTA | M19: 100 | N19: =+'EVALUACION CON CONTROLES'!G16 -> Revisión de la situación que acontece y revisión de cambio de elementos por alguno con caracteristicas técnicas similares | O19: =+'EVALUACION CON CONTROLES'!I16 -> 2 | P19: =+'EVALUACION CON CONTROLES'!J16 -> 1 | Q19: =+'EVALUACION CON CONTROLES'!K16 -> 3 | R19: =+'EVALUACION CON CONTROLES'!L16 -> BAJO | S19: =+'EVALUACION CON CONTROLES'!M16 -> SI | T19: =+'EVALUACION CON CONTROLES'!N16 -> FDLK | U19: =+'EVALUACION CON CONTROLES'!O16 -> Una vez el contratista manifieste los cambios | V19: =+'EVALUACION CON CONTROLES'!P16 -> Respuesta de las acciones a adelantar por parte del FDLK | ... X19: =+'EVALUACION CON CONTROLES'!R16 -> Permanente
B20: 10 | C20: =+'EVALUACION CON CONTROLES'!C17:F17 -> Incumplimiento de compromisos adquiridos por el contratista seleccionado con sus subcontratistas, suministradores de bienes y servicios. | D20: =+'EVALUACION CON CONTROLES'!B17 -> EJECUCIÓN | E20: =VLOOKUP(C20,'IDENTIFICACION Y ANALISIS'!$B$18:$F$75,3,FALSE) -> General | F20: =VLOOKUP(C20,'IDENTIFICACION Y ANALISIS'!$B$18:$F$75,4,FALSE) -> Externo | G20: =+EVALUACION!H21 -> Retrasos en el cronograma de actividades | H20: =+EVALUACION!I21 -> 3 | I20: =+EVALUACION!J21 -> 3 | J20: =+EVALUACION!K21 -> 6 | K20: =+EVALUACION!L21 -> ALTO | L20: CONTRATISTA | M20: 100 | N20: =+'EVALUACION CON CONTROLES'!G17 -> Clausula de indemnidad ante el FDLK | O20: =+'EVALUACION CON CONTROLES'!I17 -> 2 | P20: =+'EVALUACION CON CONTROLES'!J17 -> 2 | Q20: =+'EVALUACION CON CONTROLES'!K17 -> 4 | R20: =+'EVALUACION CON CONTROLES'!L17 -> BAJO | S20: =+'EVALUACION CON CONTROLES'!M17 -> NO | T20: =+'EVALUACION CON CONTROLES'!N17 -> Abogado(a) responsable del proceso | U20: =+'EVALUACION CON CONTROLES'!O17 -> En la proyección de la minuta contractual | V20: =+'EVALUACION CON CONTROLES'!P17 -> una vez firmado el contrato | ... X20: =+'EVALUACION CON CONTROLES'!R17 -> Permanente
B21: 11 | C21: =+'EVALUACION CON CONTROLES'!C18:F18 -> Incumplimiento de la administración en los pagos. | D21: =+'EVALUACION CON CONTROLES'!B18 -> EJECUCIÓN | E21: =VLOOKUP(C21,'IDENTIFICACION Y ANALISIS'!$B$18:$F$75,3,FALSE) -> General | F21: =VLOOKUP(C21,'IDENTIFICACION Y ANALISIS'!$B$18:$F$75,4,FALSE) -> Externo | G21: =+EVALUACION!H22 -> Desequilibrio Económico y Retrasos en el cronograma | H21: =+EVALUACION!I22 -> 2 | I21: =+EVALUACION!J22 -> 3 | J21: =+EVALUACION!K22 -> 5 | K21: =+EVALUACION!L22 -> MEDIO | L21: SDG | M21: 100 | N21: =+'EVALUACION CON CONTROLES'!G18 -> Revisión de la situación y plan choque para contrarestar las afectaciones | O21: =+'EVALUACION CON CONTROLES'!I18 -> 1 | P21: =+'EVALUACION CON CONTROLES'!J18 -> 2 | Q21: =+'EVALUACION CON CONTROLES'!K18 -> 3 | R21: =+'EVALUACION CON CONTROLES'!L18 -> BAJO | S21: =+'EVALUACION CON CONTROLES'!M18 -> SI | T21: =+'EVALUACION CON CONTROLES'!N18 -> Supervisor y apoyo a la supervisión | U21: =+'EVALUACION CON CONTROLES'!O18 -> Una vez se presente el suceso | V21: =+'EVALUACION CON CONTROLES'!P18 -> Cuando se realice el pago | ... X21: =+'EVALUACION CON CONTROLES'!R18 -> Previo a cada pago
B22: 12 | C22: =+'EVALUACION CON CONTROLES'!C19:F19 -> Defectos en los equipos. | D22: =+'EVALUACION CON CONTROLES'!B19 -> EJECUCIÓN | E22: =VLOOKUP(C22,'IDENTIFICACION Y ANALISIS'!$B$18:$F$75,3,FALSE) -> Especifico | F22: =VLOOKUP(C22,'IDENTIFICACION Y ANALISIS'!$B$18:$F$75,4,FALSE) -> Interno | G22: =+EVALUACION!H23 -> Retrasos en el cronograma de actividades | H22: =+EVALUACION!I23 -> 3 | I22: =+EVALUACION!J23 -> 4 | J22: =+EVALUACION!K23 -> 7 | K22: =+EVALUACION!L23 -> ALTO | L22: CONTRATISTA | M22: 100 | N22: =+'EVALUACION CON CONTROLES'!G19 -> Cambio de los equipos en un corto periodo de tiempo | O22: =+'EVALUACION CON CONTROLES'!I19 -> 1 | P22: =+'EVALUACION CON CONTROLES'!J19 -> 1 | Q22: =+'EVALUACION CON CONTROLES'!K19 -> 2 | R22: =+'EVALUACION CON CONTROLES'!L19 -> BAJO | S22: =+'EVALUACION CON CONTROLES'!M19 -> NO | T22: =+'EVALUACION CON CONTROLES'!N19 -> Contratista y supervisor | U22: =+'EVALUACION CON CONTROLES'!O19 -> Una vez se presente el suceso | V22: =+'EVALUACION CON CONTROLES'!P19 -> Una se entregue el nuevo bien | ... X22: =+'EVALUACION CON CONTROLES'!R19 -> Permanente
B23: 13 | C23: =+'EVALUACION CON CONTROLES'!C20:F20 -> El talento humano no cumple con el perfil requerido para la realización de las actividades | D23: =+'EVALUACION CON CONTROLES'!B20 -> EJECUCIÓN | E23: =VLOOKUP(C23,'IDENTIFICACION Y ANALISIS'!$B$18:$F$75,3,FALSE) -> #N/A | F23: =VLOOKUP(C23,'IDENTIFICACION Y ANALISIS'!$B$18:$F$75,4,FALSE) -> #N/A | G23: =+EVALUACION!H24 -> Retrasos en el cronograma de actividades | H23: =+EVALUACION!I24 -> 2 | I23: =+EVALUACION!J24 -> 3 | J23: =+EVALUACION!K24 -> 5 | K23: =+EVALUACION!L24 -> MEDIO | L23: CONTRATISTA | M23: 100 | N23: =+'EVALUACION CON CONTROLES'!G20 -> Revisión detallada de las hojas de vida y los soportes conforme al anexo técnico | O23: =+'EVALUACION CON CONTROLES'!I20 -> 1 | P23: =+'EVALUACION CON CONTROLES'!J20 -> 1 | Q23: =+'EVALUACION CON CONTROLES'!K20 -> 2 | R23: =+'EVALUACION CON CONTROLES'!L20 -> BAJO | S23: =+'EVALUACION CON CONTROLES'!M20 -> NO | T23: =+'EVALUACION CON CONTROLES'!N20 -> Contratista y supervisor | U23: =+'EVALUACION CON CONTROLES'!O20 -> Previo a la firma del acta de inicio | V23: =+'EVALUACION CON CONTROLES'!P20 -> Cuando se cumpla con todo el talento humano | ... X23: =+'EVALUACION CON CONTROLES'!R20 -> Máximo cada 3 días
B24: 14 | C24: =+'EVALUACION CON CONTROLES'!C21:F21 -> Las areas intervenidas no son las aprobadas por el FDLK o las entidades pertinentes | D24: =+'EVALUACION CON CONTROLES'!B21 -> EJECUCIÓN | E24: =VLOOKUP(C24,'IDENTIFICACION Y ANALISIS'!$B$18:$F$75,3,FALSE) -> #N/A | F24: =VLOOKUP(C24,'IDENTIFICACION Y ANALISIS'!$B$18:$F$75,4,FALSE) -> #N/A | G24: =+EVALUACION!H25 -> No son aprobadas por el FDLK y no seran reconocidos los costos invertidos | H24: =+EVALUACION!I25 -> 2 | I24: =+EVALUACION!J25 -> 4 | J24: =+EVALUACION!K25 -> 6 | K24: =+EVALUACION!L25 -> ALTO | L24: CONTRATISTA | M24: 100 | N24: =+'EVALUACION CON CONTROLES'!G21 -> Seguimiento continuo del comité técnico al cronograma y plan de trabajo y visitas por parte del apoyo a la supervisión a las zonas aprobadas | O24: =+'EVALUACION CON CONTROLES'!I21 -> 1 | P24: =+'EVALUACION CON CONTROLES'!J21 -> 2 | Q24: =+'EVALUACION CON CONTROLES'!K21 -> 3 | R24: =+'EVALUACION CON CONTROLES'!L21 -> BAJO | S24: =+'EVALUACION CON CONTROLES'!M21 -> SI | T24: =+'EVALUACION CON CONTROLES'!N21 -> Supervisor y apoyo a la supervisión | U24: =+'EVALUACION CON CONTROLES'!O21 -> En tanto se evidencie la primer falencia | V24: =+'EVALUACION CON CONTROLES'!P21 -> cuando se intervengan las áreas aprobadas | ... X24: =+'EVALUACION CON CONTROLES'!R21 -> Cada 15 días posterior al primer suceso
B25: 15 | C25: =+'EVALUACION CON CONTROLES'!C22:F22 -> Los permisos para la intervención de las areas contratadas no han podido ser gestionados por el contratista, debido a las demoras en las entidades pertinentes | D25: =+'EVALUACION CON CONTROLES'!B22 -> EJECUCIÓN | E25: =VLOOKUP(C25,'IDENTIFICACION Y ANALISIS'!$B$18:$F$75,3,FALSE) -> #N/A | F25: =VLOOKUP(C25,'IDENTIFICACION Y ANALISIS'!$B$18:$F$75,4,FALSE) -> #N/A | G25: =+EVALUACION!H26 -> Retraso en el cronograma y una posible modificación contractual al contrato | H25: =+EVALUACION!I26 -> 4 | I25: =+EVALUACION!J26 -> 3 | J25: =+EVALUACION!K26 -> 7 | K25: =+EVALUACION!L26 -> ALTO | L25: CONTRATISTA Y SDG | M25: 50-50 | N25: =+'EVALUACION CON CONTROLES'!G22 -> Comunicaciones constantes a las entidades para conocer el estado del trámite | O25: =+'EVALUACION CON CONTROLES'!I22 -> 3 | P25: =+'EVALUACION CON CONTROLES'!J22 -> 2 | Q25: =+'EVALUACION CON CONTROLES'!K22 -> 5 | R25: =+'EVALUACION CON CONTROLES'!L22 -> MEDIO | S25: =+'EVALUACION CON CONTROLES'!M22 -> NO | T25: =+'EVALUACION CON CONTROLES'!N22 -> Contratista y supervisor | U25: =+'EVALUACION CON CONTROLES'!O22 -> Cuando se presente la demora | V25: =+'EVALUACION CON CONTROLES'!P22 -> Una vez obtenido el permiso | ... X25: =+'EVALUACION CON CONTROLES'!R22 -> Cada 15 días habíles
B26: 16 | C26: =+'EVALUACION CON CONTROLES'!C23:F23 -> El talento humano que realiza las actividades operativas no cuentan con los elementos minimos de protección personal - EPP | D26: =+'EVALUACION CON CONTROLES'!B23 -> EJECUCIÓN | E26: =VLOOKUP(C26,'IDENTIFICACION Y ANALISIS'!$B$18:$F$75,3,FALSE) -> #N/A | F26: =VLOOKUP(C26,'IDENTIFICACION Y ANALISIS'!$B$18:$F$75,4,FALSE) -> #N/A | G26: =+EVALUACION!H27 -> Accidentes laborales con el talento humano | H26: =+EVALUACION!I27 -> 3 | I26: =+EVALUACION!J27 -> 3 | J26: =+EVALUACION!K27 -> 6 | K26: =+EVALUACION!L27 -> ALTO | L26: CONTRATISTA | M26: 100 | N26: =+'EVALUACION CON CONTROLES'!G23 -> Acta de entrega de EPP con firma de cada operario y descripción de lo entregado Visitas por parte del apoyo a la supervisión | O26: =+'EVALUACION CON CONTROLES'!I23 -> 2 | P26: =+'EVALUACION CON CONTROLES'!J23 -> 1 | Q26: =+'EVALUACION CON CONTROLES'!K23 -> 3 | R26: =+'EVALUACION CON CONTROLES'!L23 -> BAJO | S26: =+'EVALUACION CON CONTROLES'!M23 -> NO | T26: =+'EVALUACION CON CONTROLES'!N23 -> Contratista | U26: =+'EVALUACION CON CONTROLES'!O23 -> Cuando se evidencie que no cuentan con los elementos | V26: =+'EVALUACION CON CONTROLES'!P23 -> Al finalizar las actividades | ... X26: =+'EVALUACION CON CONTROLES'!R23 -> 1 vez al mes
B27: 17 | C27: =+'EVALUACION CON CONTROLES'!C24:F24 -> No reporte de los mantenimientos realizados a las areas o individuos intervenidos en las plataformas establecidas por cada entidad | D27: =+'EVALUACION CON CONTROLES'!B24 -> EJECUCIÓN | E27: =VLOOKUP(C27,'IDENTIFICACION Y ANALISIS'!$B$18:$F$75,3,FALSE) -> #N/A | F27: =VLOOKUP(C27,'IDENTIFICACION Y ANALISIS'!$B$18:$F$75,4,FALSE) -> #N/A | G27: =+EVALUACION!H28 -> No serán reconocidos económicamente | H27: =+EVALUACION!I28 -> 3 | I27: =+EVALUACION!J28 -> 2 | J27: =+EVALUACION!K28 -> 5 | K27: =+EVALUACION!L28 -> MEDIO | L27: CONTRATISTA | M27: 100 | N27: =+'EVALUACION CON CONTROLES'!G24 -> Seguimiento continuo del comité técnico al cronograma y plan de trabajo y la catualización de las hojas de vida de los mantenimientos | O27: =+'EVALUACION CON CONTROLES'!I24 -> 1 | P27: =+'EVALUACION CON CONTROLES'!J24 -> 1 | Q27: =+'EVALUACION CON CONTROLES'!K24 -> 2 | R27: =+'EVALUACION CON CONTROLES'!L24 -> BAJO | S27: =+'EVALUACION CON CONTROLES'!M24 -> SI | T27: =+'EVALUACION CON CONTROLES'!N24 -> Contratista y supervisor | U27: =+'EVALUACION CON CONTROLES'!O24 -> En tanto se evidencie la primer falencia | V27: =+'EVALUACION CON CONTROLES'!P24 -> Al finalizar las actividades | ... X27: =+'EVALUACION CON CONTROLES'!R24 -> 1 vez al mes
B28: 18 | C28: =+'EVALUACION CON CONTROLES'!C25:F25 -> Incorporación de especies vegetales no aptas para los procesos de restauración ecologica y que no han sido validadas y aprobadas por el sector | D28: =+'EVALUACION CON CONTROLES'!B25 -> EJECUCIÓN | E28: =VLOOKUP(C28,'IDENTIFICACION Y ANALISIS'!$B$18:$F$75,3,FALSE) -> #N/A | F28: =VLOOKUP(C28,'IDENTIFICACION Y ANALISIS'!$B$18:$F$75,4,FALSE) -> #N/A | G28: =+EVALUACION!H29 -> No serán reconocidos económicamente Deterioro de la infraestructura ecológica | H28: =+EVALUACION!I29 -> 3 | I28: =+EVALUACION!J29 -> 2 | J28: =+EVALUACION!K29 -> 5 | K28: =+EVALUACION!L29 -> MEDIO | L28: CONTRATISTA | M28: 100 | N28: =+'EVALUACION CON CONTROLES'!G25 -> Seguimiento continuo del comité técnico al cronograma y plan de trabajo Visitas para verificación del material vegetal | O28: =+'EVALUACION CON CONTROLES'!I25 -> 2 | P28: =+'EVALUACION CON CONTROLES'!J25 -> 1 | Q28: =+'EVALUACION CON CONTROLES'!K25 -> 3 | R28: =+'EVALUACION CON CONTROLES'!L25 -> BAJO | S28: =+'EVALUACION CON CONTROLES'!M25 -> SI | T28: =+'EVALUACION CON CONTROLES'!N25 -> Contratista y supervisor | U28: =+'EVALUACION CON CONTROLES'!O25 -> En tanto se evidencie la primer falencia | V28: =+'EVALUACION CON CONTROLES'!P25 -> Al finalizar las actividades | ... X28: =+'EVALUACION CON CONTROLES'!R25 -> Mínimo 1 vez al mes
