Workbook

Sheet CONSOLIDADO
C3: ESTUDIO DEL MERCADO FDLK-SASI-002-2026
C4: OBJETO: SUMINISTRO, ADQUISICIÓN Y DISTRIBUCIÓN A MONTO AGOTABLE DE IMPLEMENTOS, ARTÍCULOS, ACCESORIOS Y BIENES DEPORTIVOS DESTINADOS A LOS COLECTIVOS U ORGANIZACIONES RECREO-DEPORTIVAS, PERSONAS BENEFICIADAS CON ACTIVIDADES RECREO-DEPORTIVAS COMUNITARIAS DE LA LOCALIDAD DE KENNEDY Y LAS UNIDADES OPERATIVAS PRIORIZADAS POR LA SECRETARÍA DE INTEGRACIÓN SOCIAL
F7: RANGO A COTIZAR 1 PRESTIGIO EMPRESARIAL | J7: RANGO a COTIZAR 2 PRESTIGIO EMPRESARIAL | N7: RANGOS A COTIZAR 1 CORSERVICS | R7: RANGO a COTIZAR 2 CORSERVICS | V7: RANGOS A COTIZAR 1 PMOVIL | Z7: RANGO a COTIZAR 2 PMOVIL | AD7: PROMEDIO SIMPLE RANGO DE 1-30 | AF7: PROMEDIO SIMPLE RANGO DE 31-60 | AH7: MEDIA GEOMETRICA RANGO 1-30 | AJ7: MEDIA GEOMETRICA RANGO 31- 60
B8: No. | C8: ITEM | D8: CARACTERISTICAS | E8: UNIDAD DE MEDIDA | F8: UNIDADES | G8: VALOR UNITARIO ANTES DE IVA | H8: PORCENTAJE DE IVA | I8: VALOR TOTAL INCLUIDO IVA | J8: UNIDADES | K8: VALOR UNITARIO ANTES DE IVA | L8: PORCENTAJE DE IVA | M8: VALOR TOTAL INCLUIDO IVA | N8: UNIDADES | O8: VALOR UNITARIO ANTES DE IVA | P8: PORCENTAJE DE IVA | Q8: VALOR TOTAL INCLUIDO IVA | R8: UNIDADES | S8: VALOR UNITARIO ANTES DE IVA | T8: PORCENTAJE DE IVA | U8: VALOR TOTAL INCLUIDO IVA | V8: UNIDADES | W8: VALOR UNITARIO ANTES DE IVA | X8: PORCENTAJE DE IVA | Y8: VALOR TOTAL INCLUIDO IVA | Z8: UNIDADES | AA8: VALOR UNITARIO ANTES DE IVA | AB8: PORCENTAJE DE IVA | AC8: VALOR TOTAL INCLUIDO IVA | AD8: VALOR UNITARIO UNIDAD ANTES DE IVA | AE8: VALOR UNITARIO UND INCLUIDO IVA | AF8: VALOR UNITARIO UNIDAD ANTES DE IVA | AG8: VALOR UNITARIO UND INCLUIDO IVA | AH8: VALOR UNITARIO/ ANTES DE IVA | AI8: VALOR UNITARIO INCLUIDO IVA | AJ8: VALOR UNITARIO UNIDAD ANTES DE IVA | AK8: VALOR UNITARIO UND INCLUIDO IVA
B9: 1 | C9: BALÓN FUTBOL # 5 | D9: Materiales: Cubierta en material sintético laminado y/o cosido; Enmallado en Nailon de alta tenacidad y flexibilidad. Impermeable. Especificaciones : Dimensión / Espesor / Capacidad: Peso entre 0.5kg y 1kg, Tamaño: (L x P x A cm) 21x21x21 Rebote controlado entre 110 a 155 cm Bajo condiciones de temperatura de 20 grados. Alta resistencia al impacto y al desgaste absorción de humedad mínima, excelente calidad Aprobado y/o certificado bajo las normas establecidas oficiales. Aprobado y/o certificado por la federación nacional y/o internacional de la modalidad deportiva (FCF, DIMAYOR, FIFA), evidencia de lo cual será el sello sobre la superficie de cada balón. Diseño: El Balón debe mantener su peso original e impermeabilidad, para uso exterior e interior en diferentes superficies de juego. | E9: UNIDAD | F9: 1 a 30 | G9: =+'PRESTIGIO '!H12 -> 196366 | H9: 0.19 | I9: =ROUND(G9*(1+H9),0) -> 233676 | J9: 31 a 60 | K9: =+'PRESTIGIO '!L12 -> 183808 | L9: 0.19 | M9: =ROUND(K9*(1+L9),0) -> 218732 | N9: 1 a 30 | O9: =+CORSERVICS!I12 -> 163361.34 | P9: =+CORSERVICS!H12 -> 0.19 | Q9: =ROUND(O9*(1+P9),0) -> 194400 | R9: 31 a 60 | S9: =+CORSERVICS!M12 -> 162975.63 | T9: =+CORSERVICS!L12 -> 0.19 | U9: =ROUND(S9*(1+T9),0) -> 193941 | V9: 1 a 30 | W9: =+'PUBLICIDAD MOVIL'!I15 -> 203597 | X9: 0.19 | Y9: =ROUND(W9*(1+X9),0) -> 242280 | Z9: 31 a 60 | AA9: =+'PUBLICIDAD MOVIL'!M15 -> 187420 | AB9: 0.19 | AC9: =ROUND(AA9*(1+AB9),0) -> 223030 | AD9: =ROUND(AVERAGE(G9,O9,W9),0) -> 187775 | AE9: =ROUND(+AD9*(1+$H$9),0) -> 223452 | AF9: =ROUND(AVERAGE(K9,S9,AA9),0) -> 178068 | AG9: =ROUND(+AF9*(1+$H$9),0) -> 211901 | AH9: =ROUND(GEOMEAN(G9,O9,W9),0) -> 186923 | AI9: =ROUND(AH9*(1+$H$9),0) -> 222438 | AJ9: =ROUND(GEOMEAN(K9,S9,AA9),0) -> 177733 | AK9: =ROUND(AJ9*(1+$H$9),0) -> 211502
B10: 2 | C10: BALÓN FUTBOL # 4 | D10: Materiales: Cubierta en material sintético laminado y/o cosido; Enmallado en Nailon de alta tenacidad y flexibilidad. Impermeable. Especificaciones : Dimensión / Espesor / Capacidad: Peso entre 350 a 410g, Circunferencia entre 63cm a 66cm, Rebote entre 110 a 155 cm Bajo condiciones de temperatura de 20 grados. Alta resistencia al impacto y al desgaste absorción de humedad mínima, excelente calidad Aprobado y/o certificado bajo las normas establecidas oficiales. Aprobado y/o certificado por la federación nacional y/o internacional de la modalidad deportiva (FCF, DIMAYOR, FIFA), Evidencia de lo cual será el sello sobre la superficie de cada balón. Diseño: El Balón debe mantener su peso original e impermeabilidad, para uso exterior e interior en diferentes superficies de juego. | E10: UNIDAD | F10: 1 a 30 | G10: =+'PRESTIGIO '!H13 -> 183275 | H10: 0.19 | I10: =ROUND(G10*(1+H10),0) -> 218097 | J10: 31 a 60 | K10: =+'PRESTIGIO '!L13 -> 182130 | L10: 0.19 | M10: =ROUND(K10*(1+L10),0) -> 216735 | N10: 1 a 30 | O10: =+CORSERVICS!I13 -> 154285.71 | P10: =+CORSERVICS!H13 -> 0.19 | Q10: =ROUND(O10*(1+P10),0) -> 183600 | R10: 31 a 60 | S10: =+CORSERVICS!M13 -> 153900 | T10: =+CORSERVICS!L13 -> 0.19 | U10: =ROUND(S10*(1+T10),0) -> 183141 | V10: 1 a 30 | W10: =+'PUBLICIDAD MOVIL'!I16 -> 191602 | X10: 0.19 | Y10: =ROUND(W10*(1+X10),0) -> 228006 | Z10: 31 a 60 | AA10: =+'PUBLICIDAD MOVIL'!M16 -> 178858 | AB10: 0.19 | AC10: =ROUND(AA10*(1+AB10),0) -> 212841 | AD10: =ROUND(AVERAGE(G10,O10,W10),0) -> 176388 | AE10: =ROUND(+AD10*(1+$H$9),0) -> 209902 | AF10: =ROUND(AVERAGE(K10,S10,AA10),0) -> 171629 | AG10: =ROUND(+AF10*(1+$H$9),0) -> 204239 | AH10: =ROUND(GEOMEAN(G10,O10,W10),0) -> 175634 | AI10: =ROUND(AH10*(1+$H$9),0) -> 209004 | AJ10: =ROUND(GEOMEAN(K10,S10,AA10),0) -> 171150 | AK10: =ROUND(AJ10*(1+$H$9),0) -> 203669
B11: 3 | C11: BALÓN FUTBOL #3 | D11: Balón de marca reconocida laminado, con bomba en material butilo, balón No 3. Peso de 270 a 340 grs, circunferencia de 58 a 60 cm, rebote de 95 a 125 cm | E11: UNIDAD | F11: 1 a 30 | G11: =+'PRESTIGIO '!H14 -> 175709 | H11: 0.19 | I11: =ROUND(G11*(1+H11),0) -> 209094 | J11: 31 a 60 | K11: =+'PRESTIGIO '!L14 -> 172070 | L11: 0.19 | M11: =ROUND(K11*(1+L11),0) -> 204763 | N11: 1 a 30 | O11: =+CORSERVICS!I14 -> 145210.08 | P11: =+CORSERVICS!H14 -> 0.19 | Q11: =ROUND(O11*(1+P11),0) -> 172800 | R11: 31 a 60 | S11: =+CORSERVICS!M14 -> 144824.37 | T11: =+CORSERVICS!L14 -> 0.19 | U11: =ROUND(S11*(1+T11),0) -> 172341 | V11: 1 a 30 | W11: =+'PUBLICIDAD MOVIL'!I17 -> 181770 | X11: 0.19 | Y11: =ROUND(W11*(1+X11),0) -> 216306 | Z11: 31 a 60 | AA11: =+'PUBLICIDAD MOVIL'!M17 -> 166452 | AB11: 0.19 | AC11: =ROUND(AA11*(1+AB11),0) -> 198078 | AD11: =ROUND(AVERAGE(G11,O11,W11),0) -> 167563 | AE11: =ROUND(+AD11*(1+$H$9),0) -> 199400 | AF11: =ROUND(AVERAGE(K11,S11,AA11),0) -> 161115 | AG11: =ROUND(+AF11*(1+$H$9),0) -> 191727 | AH11: =ROUND(GEOMEAN(G11,O11,W11),0) -> 166765 | AI11: =ROUND(AH11*(1+$H$9),0) -> 198450 | AJ11: =ROUND(GEOMEAN(K11,S11,AA11),0) -> 160674 | AK11: =ROUND(AJ11*(1+$H$9),0) -> 191202
B12: 4 | C12: BALÓN FUNDAMENTACION FUTBOL / VOLEIBOL | D12: Pelota para fundamentación Inflable elaborada en material a base de PVC, sin cámara de Aire para Fútbol/voleibol con peso de 280 grs, soporta hasta 4 lb de presión de aire, diseño de 32 paneles con pentágonos en color negro e interior de color azul, roja, blanca o amarillo. de superficie Lisa, Diámetro de 21 cm aprox. Importada de marca reconocida en el mercado | E12: UNIDAD | F12: 1 a 30 | G12: =+'PRESTIGIO '!H15 -> 52527 | H12: 0.19 | I12: =ROUND(G12*(1+H12),0) -> 62507 | J12: 31 a 60 | K12: =+'PRESTIGIO '!L15 -> 50899 | L12: 0.19 | M12: =ROUND(K12*(1+L12),0) -> 60570 | N12: 1 a 30 | O12: =+CORSERVICS!I15 -> 40840.336 | P12: =+CORSERVICS!H15 -> 0.19 | Q12: =ROUND(O12*(1+P12),0) -> 48600 | R12: 31 a 60 | S12: =+CORSERVICS!M15 -> 40454.622 | T12: =+CORSERVICS!L15 -> 0.19 | U12: =ROUND(S12*(1+T12),0) -> 48141 | V12: 1 a 30 | W12: =+'PUBLICIDAD MOVIL'!I18 -> 51878 | X12: 0.19 | Y12: =ROUND(W12*(1+X12),0) -> 61735 | Z12: 31 a 60 | AA12: =+'PUBLICIDAD MOVIL'!M18 -> 48717 | AB12: 0.19 | AC12: =ROUND(AA12*(1+AB12),0) -> 57973 | AD12: =ROUND(AVERAGE(G12,O12,W12),0) -> 48415 | AE12: =ROUND(+AD12*(1+$H$9),0) -> 57614 | AF12: =ROUND(AVERAGE(K12,S12,AA12),0) -> 46690 | AG12: =ROUND(+AF12*(1+$H$9),0) -> 55561 | AH12: =ROUND(GEOMEAN(G12,O12,W12),0) -> 48101 | AI12: =ROUND(AH12*(1+$H$9),0) -> 57240 | AJ12: =ROUND(GEOMEAN(K12,S12,AA12),0) -> 46464 | AK12: =ROUND(AJ12*(1+$H$9),0) -> 55292
B13: 5 | C13: TULA BALONERA | D13: Tula en lona, tipo morral, con refuerzo en la parte inferior, con capacidad para 15 balones, nylon reforzado de 65 cm de diámetro y 110 cm de altura ojales metálicos con pin metálico para candado y candado de seguridad mediano incluido, costura reforzada, correas en lona para carga. | E13: UNIDAD | F13: 1 a 30 | G13: =+'PRESTIGIO '!H16 -> 128358 | H13: 0.19 | I13: =ROUND(G13*(1+H13),0) -> 152746 | J13: 31 a 60 | K13: =+'PRESTIGIO '!L16 -> 125149 | L13: 0.19 | M13: =ROUND(K13*(1+L13),0) -> 148927 | N13: 1 a 30 | O13: =+CORSERVICS!I16 -> 99831.933 | P13: =+CORSERVICS!H16 -> 0.19 | Q13: =ROUND(O13*(1+P13),0) -> 118800 | R13: 31 a 60 | S13: =+CORSERVICS!M16 -> 99446.218 | T13: =+CORSERVICS!L16 -> 0.19 | U13: =ROUND(S13*(1+T13),0) -> 118341 | V13: 1 a 30 | W13: =+'PUBLICIDAD MOVIL'!I19 -> 122402 | X13: 0.19 | Y13: =ROUND(W13*(1+X13),0) -> 145658 | Z13: 31 a 60 | AA13: =+'PUBLICIDAD MOVIL'!M19 -> 113355 | AB13: 0.19 | AC13: =ROUND(AA13*(1+AB13),0) -> 134892 | AD13: =ROUND(AVERAGE(G13,O13,W13),0) -> 116864 | AE13: =ROUND(+AD13*(1+$H$9),0) -> 139068 | AF13: =ROUND(AVERAGE(K13,S13,AA13),0) -> 112650 | AG13: =ROUND(+AF13*(1+$H$9),0) -> 134054 | AH13: =ROUND(GEOMEAN(G13,O13,W13),0) -> 116188 | AI13: =ROUND(AH13*(1+$H$9),0) -> 138264 | AJ13: =ROUND(GEOMEAN(K13,S13,AA13),0) -> 112155 | AK13: =ROUND(AJ13*(1+$H$9),0) -> 133464
B14: 6 | C14: BASE PARA ESTACAS | D14: Material Polietileno Base: 22 cm. Altura: 15 cm. Peso : 206 Gramos | E14: UNIDAD | F14: 1 a 30 | G14: =+'PRESTIGIO '!H17 -> 16192 | H14: 0.19 | I14: =ROUND(G14*(1+H14),0) -> 19268 | J14: 31 a 60 | K14: =+'PRESTIGIO '!L17 -> 15578 | L14: 0.19 | M14: =ROUND(K14*(1+L14),0) -> 18538 | N14: 1 a 30 | O14: =+CORSERVICS!I17 -> 13613.445 | P14: =+CORSERVICS!H17 -> 0.19 | Q14: =ROUND(O14*(1+P14),0) -> 16200 | R14: 31 a 60 | S14: =+CORSERVICS!M17 -> 13227.731 | T14: =+CORSERVICS!L17 -> 0.19 | U14: =ROUND(S14*(1+T14),0) -> 15741 | V14: 1 a 30 | W14: =+'PUBLICIDAD MOVIL'!I20 -> 16817 | X14: 0.19 | Y14: =ROUND(W14*(1+X14),0) -> 20012 | Z14: 31 a 60 | AA14: =+'PUBLICIDAD MOVIL'!M20 -> 15901 | AB14: 0.19 | AC14: =ROUND(AA14*(1+AB14),0) -> 18922 | AD14: =ROUND(AVERAGE(G14,O14,W14),0) -> 15541 | AE14: =ROUND(+AD14*(1+$H$9),0) -> 18494 | AF14: =ROUND(AVERAGE(K14,S14,AA14),0) -> 14902 | AG14: =ROUND(+AF14*(1+$H$9),0) -> 17733 | AH14: =ROUND(GEOMEAN(G14,O14,W14),0) -> 15476 | AI14: =ROUND(AH14*(1+$H$9),0) -> 18416 | AJ14: =ROUND(GEOMEAN(K14,S14,AA14),0) -> 14853 | AK14: =ROUND(AJ14*(1+$H$9),0) -> 17675
B15: 7 | C15: ESTACAS | D15: Estaca Bastón de Coordinación de 1,80 Metros Fabricado con polietileno de alto impacto, Alta Resistencia. | E15: UNIDAD | F15: 1 a 30 | G15: =+'PRESTIGIO '!H18 -> 19841 | H15: 0.19 | I15: =ROUND(G15*(1+H15),0) -> 23611 | J15: 31 a 60 | K15: =+'PRESTIGIO '!L18 -> 19525 | L15: 0.19 | M15: =ROUND(K15*(1+L15),0) -> 23235 | N15: 1 a 30 | O15: =+CORSERVICS!I18 -> 16336.134 | P15: =+CORSERVICS!H18 -> 0.19 | Q15: =ROUND(O15*(1+P15),0) -> 19440 | R15: 31 a 60 | S15: =+CORSERVICS!M18 -> 15950.42 | T15: =+CORSERVICS!L18 -> 0.19 | U15: =ROUND(S15*(1+T15),0) -> 18981 | V15: 1 a 30 | W15: =+'PUBLICIDAD MOVIL'!I21 -> 21261 | X15: 0.19 | Y15: =ROUND(W15*(1+X15),0) -> 25301 | Z15: 31 a 60 | AA15: =+'PUBLICIDAD MOVIL'!M21 -> 18894 | AB15: 0.19 | AC15: =ROUND(AA15*(1+AB15),0) -> 22484 | AD15: =ROUND(AVERAGE(G15,O15,W15),0) -> 19146 | AE15: =ROUND(+AD15*(1+$H$9),0) -> 22784 | AF15: =ROUND(AVERAGE(K15,S15,AA15),0) -> 18123 | AG15: =ROUND(+AF15*(1+$H$9),0) -> 21566 | AH15: =ROUND(GEOMEAN(G15,O15,W15),0) -> 19030 | AI15: =ROUND(AH15*(1+$H$9),0) -> 22646 | AJ15: =ROUND(GEOMEAN(K15,S15,AA15),0) -> 18054 | AK15: =ROUND(AJ15*(1+$H$9),0) -> 21484
B16: 8 | C16: UNIFORME PARA FÚTBOL Y FÚTBOL SALA | D16: Conformado por Camiseta: para uniforme en tela oriol 100% poliéster uniforme en transfer, Cuello en “V”, Mangas cortas con doble costura en el extremo de cada una. Estampado con Logotipos (Institucionales al frente a la altura del pecho) y Numeración correspondiente en la espalda. Pantaloneta: Pantaloneta para Uniforme en poliéster uniforme en transfer, largo a media rodilla (de acuerdo a la talla), pretina con elástico de 4 centímetros, alta densidad, cordón en la cintura, forrada en malla yugoslava, con estampado en transfer y con Bordado logotipos (Institucionales) y Numeración correspondiente al frente en la parte derecha. Medias: Par de medias en microfibra de nylon, doble malla, 8 pulgadas de altura y logos institucionales Diseño: masculino o femenino según se requiera. TALLAS 4, 6, 8 | E16: UNIDAD | F16: 1 a 30 | G16: =+'PRESTIGIO '!H19 -> 90655 | H16: 0.19 | I16: =ROUND(G16*(1+H16),0) -> 107879 | J16: 31 a 60 | K16: =+'PRESTIGIO '!L19 -> 89748 | L16: 0.19 | M16: =ROUND(K16*(1+L16),0) -> 106800 | N16: 1 a 30 | O16: =+CORSERVICS!I19 -> 75327.731 | P16: =+CORSERVICS!H19 -> 0.19 | Q16: =ROUND(O16*(1+P16),0) -> 89640 | R16: 31 a 60 | S16: =+CORSERVICS!M19 -> 74942.017 | T16: =+CORSERVICS!L19 -> 0.19 | U16: =ROUND(S16*(1+T16),0) -> 89181 | V16: 1 a 30 | W16: =+'PUBLICIDAD MOVIL'!I22 -> 95175 | X16: 0.19 | Y16: =ROUND(W16*(1+X16),0) -> 113258 | Z16: 31 a 60 | AA16: =+'PUBLICIDAD MOVIL'!M22 -> 85702 | AB16: 0.19 | AC16: =ROUND(AA16*(1+AB16),0) -> 101985 | AD16: =ROUND(AVERAGE(G16,O16,W16),0) -> 87053 | AE16: =ROUND(+AD16*(1+$H$9),0) -> 103593 | AF16: =ROUND(AVERAGE(K16,S16,AA16),0) -> 83464 | AG16: =ROUND(+AF16*(1+$H$9),0) -> 99322 | AH16: =ROUND(GEOMEAN(G16,O16,W16),0) -> 86621 | AI16: =ROUND(AH16*(1+$H$9),0) -> 103079 | AJ16: =ROUND(GEOMEAN(K16,S16,AA16),0) -> 83224 | AK16: =ROUND(AJ16*(1+$H$9),0) -> 99037
B17: 9 | C17: UNIFORME PARA FÚTBOL Y FÚTBOL SALA | D17: Conformado por Camiseta: para uniforme en tela oriol 100% poliéster uniforme en transfer, Cuello en “V”, Mangas cortas con doble costura en el extremo de cada una. Estampado con Logotipos (Institucionales al frente a la altura del pecho) y Numeración correspondiente en la espalda. Pantaloneta: Pantaloneta para Uniforme en poliéster uniforme en transfer, largo a media rodilla (de acuerdo a la talla), pretina con elástico de 4 centímetros, alta densidad, cordón en la cintura, forrada en malla yugoslava, con estampado en transfer y con Bordado logotipos (Institucionales) y Numeración correspondiente al frente en la parte derecha. Medias: Par de medias en microfibra de nylon, doble malla, 8 pulgadas de altura y logos institucionales Diseño: masculino o femenino según se requiera. TALLA 10,12, 14, 16, S | E17: UNIDAD | F17: 1 a 30 | G17: =+'PRESTIGIO '!H20 -> 92967 | H17: 0.19 | I17: =ROUND(G17*(1+H17),0) -> 110631 | J17: 31 a 60 | K17: =+'PRESTIGIO '!L20 -> 89528 | L17: 0.19 | M17: =ROUND(K17*(1+L17),0) -> 106538 | N17: 1 a 30 | O17: =+CORSERVICS!I20 -> 77142.857 | P17: =+CORSERVICS!H20 -> 0.19 | Q17: =ROUND(O17*(1+P17),0) -> 91800 | R17: 31 a 60 | S17: =+CORSERVICS!M20 -> 76757.143 | T17: =+CORSERVICS!L20 -> 0.19 | U17: =ROUND(S17*(1+T17),0) -> 91341 | V17: 1 a 30 | W17: =+'PUBLICIDAD MOVIL'!I23 -> 94648 | X17: 0.19 | Y17: =ROUND(W17*(1+X17),0) -> 112631 | Z17: 31 a 60 | AA17: =+'PUBLICIDAD MOVIL'!M23 -> 88005 | AB17: 0.19 | AC17: =ROUND(AA17*(1+AB17),0) -> 104726 | AD17: =ROUND(AVERAGE(G17,O17,W17),0) -> 88253 | AE17: =ROUND(+AD17*(1+$H$9),0) -> 105021 | AF17: =ROUND(AVERAGE(K17,S17,AA17),0) -> 84763 | AG17: =ROUND(+AF17*(1+$H$9),0) -> 100868 | AH17: =ROUND(GEOMEAN(G17,O17,W17),0) -> 87884 | AI17: =ROUND(AH17*(1+$H$9),0) -> 104582 | AJ17: =ROUND(GEOMEAN(K17,S17,AA17),0) -> 84566 | AK17: =ROUND(AJ17*(1+$H$9),0) -> 100634
B18: 10 | C18: UNIFORME PARA FÚTBOL Y FÚTBOL SALA | D18: Conformado por Camiseta: para uniforme en tela oriol 100% poliéster uniforme en transfer, Cuello en “V”, Mangas cortas con doble costura en el extremo de cada una. Estampado con Logotipos (Institucionales al frente a la altura del pecho) y Numeración correspondiente en la espalda. Pantaloneta: Pantaloneta para Uniforme en poliéster uniforme en transfer, largo a media rodilla (de acuerdo a la talla), pretina con elástico de 4 centímetros, alta densidad, cordón en la cintura, forrada en malla yugoslava, con estampado en transfer y con Bordado logotipos (Institucionales) y Numeración correspondiente al frente en la parte derecha. Medias: Par de medias en microfibra de nylon, doble malla, 8 pulgadas de altura y logos institucionales Diseño: masculino o femenino según se requiera. TALLAS M, L, XL, XXL | E18: UNIDAD | F18: 1 a 30 | G18: =+'PRESTIGIO '!H21 -> 92567 | H18: 0.19 | I18: =ROUND(G18*(1+H18),0) -> 110155 | J18: 31 a 60 | K18: =+'PRESTIGIO '!L21 -> 89327 | L18: 0.19 | M18: =ROUND(K18*(1+L18),0) -> 106299 | N18: 1 a 30 | O18: =+CORSERVICS!I21 -> 78957.983 | P18: =+CORSERVICS!H21 -> 0.19 | Q18: =ROUND(O18*(1+P18),0) -> 93960 | R18: 31 a 60 | S18: =+CORSERVICS!M21 -> 78572.269 | T18: =+CORSERVICS!L21 -> 0.19 | U18: =ROUND(S18*(1+T18),0) -> 93501 | V18: 1 a 30 | W18: =+'PUBLICIDAD MOVIL'!I24 -> 99210 | X18: 0.19 | Y18: =ROUND(W18*(1+X18),0) -> 118060 | Z18: 31 a 60 | AA18: =+'PUBLICIDAD MOVIL'!M24 -> 90624 | AB18: 0.19 | AC18: =ROUND(AA18*(1+AB18),0) -> 107843 | AD18: =ROUND(AVERAGE(G18,O18,W18),0) -> 90245 | AE18: =ROUND(+AD18*(1+$H$9),0) -> 107392 | AF18: =ROUND(AVERAGE(K18,S18,AA18),0) -> 86174 | AG18: =ROUND(+AF18*(1+$H$9),0) -> 102547 | AH18: =ROUND(GEOMEAN(G18,O18,W18),0) -> 89840 | AI18: =ROUND(AH18*(1+$H$9),0) -> 106910 | AJ18: =ROUND(GEOMEAN(K18,S18,AA18),0) -> 86000 | AK18: =ROUND(AJ18*(1+$H$9),0) -> 102340
B19: 11 | C19: SUDADERA DEPORTIVA | D19: Sudadera deportiva en Poliéster tela Adidas, Monaco o tela Polar tipo impermeable compuesta de chaqueta y pantalón. Chaqueta con cierre de cremallera, bolsillos laterales y caucho elastico en los puños. Pantalón con bolsillos laterales y cauchos elasticos en el final del pantalón Chaqueta y pantalón con logotipos según parámetros de la alcaldía local. Diseño: masculino o femenino según se requiera. TALLA 4, 6, 8 | E19: UNIDAD | F19: 1 a 30 | G19: =+'PRESTIGIO '!H22 -> 117900 | H19: 0.19 | I19: =ROUND(G19*(1+H19),0) -> 140301 | J19: 31 a 60 | K19: =+'PRESTIGIO '!L22 -> 115306 | L19: 0.19 | M19: =ROUND(K19*(1+L19),0) -> 137214 | N19: 1 a 30 | O19: =+CORSERVICS!I22 -> 100739.5 | P19: =+CORSERVICS!H22 -> 0.19 | Q19: =ROUND(O19*(1+P19),0) -> 119880 | R19: 31 a 60 | S19: =+CORSERVICS!M22 -> 100353.78 | T19: =+CORSERVICS!L22 -> 0.19 | U19: =ROUND(S19*(1+T19),0) -> 119421 | V19: 1 a 30 | W19: =+'PUBLICIDAD MOVIL'!I25 -> 125332 | X19: 0.19 | Y19: =ROUND(W19*(1+X19),0) -> 149145 | Z19: 31 a 60 | AA19: =+'PUBLICIDAD MOVIL'!M25 -> 117388 | AB19: 0.19 | AC19: =ROUND(AA19*(1+AB19),0) -> 139692 | AD19: =ROUND(AVERAGE(G19,O19,W19),0) -> 114657 | AE19: =ROUND(+AD19*(1+$H$9),0) -> 136442 | AF19: =ROUND(AVERAGE(K19,S19,AA19),0) -> 111016 | AG19: =ROUND(+AF19*(1+$H$9),0) -> 132109 | AH19: =ROUND(GEOMEAN(G19,O19,W19),0) -> 114180 | AI19: =ROUND(AH19*(1+$H$9),0) -> 135874 | AJ19: =ROUND(GEOMEAN(K19,S19,AA19),0) -> 110748 | AK19: =ROUND(AJ19*(1+$H$9),0) -> 131790
B20: 12 | C20: SUDADERA DEPORTIVA | D20: Sudadera deportiva en Poliéster tela Adidas, Monaco o tela Polar tipo impermeable compuesta de chaqueta y pantalón. Chaqueta con cierre de cremallera, bolsillos laterales y caucho elastico en los puños. Pantalón con bolsillos laterales y cauchos elasticos en el final del pantalón Chaqueta y pantalón con logotipos según parámetros de la alcaldía local. Diseño: masculino o femenino según se requiera. TALLAS 10, 12,14, 16, S | E20: UNIDAD | F20: 1 a 30 | G20: =+'PRESTIGIO '!H23 -> 118137 | H20: 0.19 | I20: =ROUND(G20*(1+H20),0) -> 140583 | J20: 31 a 60 | K20: =+'PRESTIGIO '!L23 -> 116956 | L20: 0.19 | M20: =ROUND(K20*(1+L20),0) -> 139178 | N20: 1 a 30 | O20: =+CORSERVICS!I23 -> 102554.62 | P20: =+CORSERVICS!H23 -> 0.19 | Q20: =ROUND(O20*(1+P20),0) -> 122040 | R20: 31 a 60 | S20: =+CORSERVICS!M23 -> 102168.91 | T20: =+CORSERVICS!L23 -> 0.19 | U20: =ROUND(S20*(1+T20),0) -> 121581 | V20: 1 a 30 | W20: =+'PUBLICIDAD MOVIL'!I26 -> 128824 | X20: 0.19 | Y20: =ROUND(W20*(1+X20),0) -> 153301 | Z20: 31 a 60 | AA20: =+'PUBLICIDAD MOVIL'!M26 -> 116826 | AB20: 0.19 | AC20: =ROUND(AA20*(1+AB20),0) -> 139023 | AD20: =ROUND(AVERAGE(G20,O20,W20),0) -> 116505 | AE20: =ROUND(+AD20*(1+$H$9),0) -> 138641 | AF20: =ROUND(AVERAGE(K20,S20,AA20),0) -> 111984 | AG20: =ROUND(+AF20*(1+$H$9),0) -> 133261 | AH20: =ROUND(GEOMEAN(G20,O20,W20),0) -> 115997 | AI20: =ROUND(AH20*(1+$H$9),0) -> 138036 | AJ20: =ROUND(GEOMEAN(K20,S20,AA20),0) -> 111762 | AK20: =ROUND(AJ20*(1+$H$9),0) -> 132997
... B105: 97 | C105: BOLA PARA TENIS DE MESA | D105: Materiales: En PVC+ABS Especificaciones : Dimensión / Espesor / Capacidad: Cajas de bolas para tenis de mesa por 6 unidades blancas o naranjas de 40 mm de diámetro. Diseño: Diámetro de 40 mm, excelente desempeño al rebote Gran resistencia y durabilidad. Colores: naranja y blanco que son los autorizados por la ITTF (federación internacional de tenis de mesa) y en tono mate. | E105: PAR | F105: 1 a 30 | G105: =+'PRESTIGIO '!H108 -> 3555 | H105: 0.19 | I105: =ROUND(G105*(1+H105),0) -> 4230 | J105: 31 a 60 | K105: =+'PRESTIGIO '!L108 -> 3519 | L105: 0.19 | M105: =ROUND(K105*(1+L105),0) -> 4188 | N105: 1 a 30 | O105: =+CORSERVICS!I108 -> 3630.2521 | P105: =+CORSERVICS!H108 -> 0.19 | Q105: =ROUND(O105*(1+P105),0) -> 4320 | R105: 31 a 60 | S105: =+CORSERVICS!M108 -> 3244.5378 | T105: =+CORSERVICS!L108 -> 0.19 | U105: =ROUND(S105*(1+T105),0) -> 3861 | V105: 1 a 30 | W105: =+'PUBLICIDAD MOVIL'!I111 -> 4025 | X105: 0.19 | Y105: =ROUND(W105*(1+X105),0) -> 4790 | Z105: 31 a 60 | AA105: =+'PUBLICIDAD MOVIL'!M111 -> 3527 | AB105: 0.19 | AC105: =ROUND(AA105*(1+AB105),0) -> 4197 | AD105: =ROUND(AVERAGE(G105,O105,W105),0) -> 3737 | AE105: =ROUND(+AD105*(1+$H$9),0) -> 4447 | AF105: =ROUND(AVERAGE(K105,S105,AA105),0) -> 3430 | AG105: =ROUND(+AF105*(1+$H$9),0) -> 4082 | AH105: =ROUND(GEOMEAN(G105,O105,W105),0) -> 3731 | AI105: =ROUND(AH105*(1+$H$9),0) -> 4440 | AJ105: =ROUND(GEOMEAN(K105,S105,AA105),0) -> 3428 | AK105: =ROUND(AJ105*(1+$H$9),0) -> 4079
B106: 98 | C106: BATE DE BEISBOL | D106: Material en madera o aluminio peso aproximado de 450 gramos de dimensione 6.9 cm a 107 cm de longitud | E106: UNIDAD | F106: 1 a 30 | G106: =+'PRESTIGIO '!H109 -> 70020 | H106: 0.19 | I106: =ROUND(G106*(1+H106),0) -> 83324 | J106: 31 a 60 | K106: =+'PRESTIGIO '!L109 -> 68199 | L106: 0.19 | M106: =ROUND(K106*(1+L106),0) -> 81157 | N106: 1 a 30 | O106: =+CORSERVICS!I109 -> 58991.597 | P106: =+CORSERVICS!H109 -> 0.19 | Q106: =ROUND(O106*(1+P106),0) -> 70200 | R106: 31 a 60 | S106: =+CORSERVICS!M109 -> 58605.882 | T106: =+CORSERVICS!L108 -> 0.19 | U106: =ROUND(S106*(1+T106),0) -> 69741 | V106: 1 a 30 | W106: =+'PUBLICIDAD MOVIL'!I112 -> 74926 | X106: 0.19 | Y106: =ROUND(W106*(1+X106),0) -> 89162 | Z106: 31 a 60 | AA106: =+'PUBLICIDAD MOVIL'!M112 -> 66378 | AB106: 0.19 | AC106: =ROUND(AA106*(1+AB106),0) -> 78990 | AD106: =ROUND(AVERAGE(G106,O106,W106),0) -> 67979 | AE106: =ROUND(+AD106*(1+$H$9),0) -> 80895 | AF106: =ROUND(AVERAGE(K106,S106,AA106),0) -> 64394 | AG106: =ROUND(+AF106*(1+$H$9),0) -> 76629 | AH106: =ROUND(GEOMEAN(G106,O106,W106),0) -> 67642 | AI106: =ROUND(AH106*(1+$H$9),0) -> 80494 | AJ106: =ROUND(GEOMEAN(K106,S106,AA106),0) -> 64256 | AK106: =ROUND(AJ106*(1+$H$9),0) -> 76465
B107: 99 | C107: GUANTE O MANILLA DE BEISBOL | D107: Guante o manilla de piel sintética de marca reconocida acolchado con secciones en cada uno de los dedos con medidas 12.5 diseño en malla con refuerzos y costuras | E107: UNIDAD | F107: 1 a 30 | G107: =+'PRESTIGIO '!H110 -> 138658 | H107: 0.19 | I107: =ROUND(G107*(1+H107),0) -> 165003 | J107: 31 a 60 | K107: =+'PRESTIGIO '!L110 -> 135607 | L107: 0.19 | M107: =ROUND(K107*(1+L107),0) -> 161372 | N107: 1 a 30 | O107: =+CORSERVICS!I110 -> 110722.69 | P107: =+CORSERVICS!H110 -> 0.19 | Q107: =ROUND(O107*(1+P107),0) -> 131760 | R107: 31 a 60 | S107: =+CORSERVICS!M110 -> 110336.97 | T107: =+CORSERVICS!L109 -> 0.19 | U107: =ROUND(S107*(1+T107),0) -> 131301 | V107: 1 a 30 | W107: =+'PUBLICIDAD MOVIL'!I113 -> 138993 | X107: 0.19 | Y107: =ROUND(W107*(1+X107),0) -> 165402 | Z107: 31 a 60 | AA107: =+'PUBLICIDAD MOVIL'!M113 -> 126069 | AB107: 0.19 | AC107: =ROUND(AA107*(1+AB107),0) -> 150022 | AD107: =ROUND(AVERAGE(G107,O107,W107),0) -> 129458 | AE107: =ROUND(+AD107*(1+$H$9),0) -> 154055 | AF107: =ROUND(AVERAGE(K107,S107,AA107),0) -> 124004 | AG107: =ROUND(+AF107*(1+$H$9),0) -> 147565 | AH107: =ROUND(GEOMEAN(G107,O107,W107),0) -> 128743 | AI107: =ROUND(AH107*(1+$H$9),0) -> 153204 | AJ107: =ROUND(GEOMEAN(K107,S107,AA107),0) -> 123558 | AK107: =ROUND(AJ107*(1+$H$9),0) -> 147034
B108: 100 | C108: PELOTA PARA BEISBOL | D108: Bola con cubierta de dos piezas con costuras color rojo, dura en cuero sintético con circunferencia entre 22,5 y 24 cm de diámetro y 5 onzas (142 g) de peso | E108: UNIDAD | F108: 1 a 30 | G108: =+'PRESTIGIO '!H111 -> 65670 | H108: 0.19 | I108: =ROUND(G108*(1+H108),0) -> 78147 | J108: 31 a 60 | K108: =+'PRESTIGIO '!L111 -> 64553 | L108: 0.19 | M108: =ROUND(K108*(1+L108),0) -> 76818 | N108: 1 a 30 | O108: =+CORSERVICS!I111 -> 56268.908 | P108: =+CORSERVICS!H111 -> 0.19 | Q108: =ROUND(O108*(1+P108),0) -> 66960 | R108: 31 a 60 | S108: =+CORSERVICS!M111 -> 55883.193 | T108: =+CORSERVICS!L110 -> 0.19 | U108: =ROUND(S108*(1+T108),0) -> 66501 | V108: 1 a 30 | W108: =+'PUBLICIDAD MOVIL'!I114 -> 72351 | X108: 0.19 | Y108: =ROUND(W108*(1+X108),0) -> 86098 | Z108: 31 a 60 | AA108: =+'PUBLICIDAD MOVIL'!M114 -> 64895 | AB108: 0.19 | AC108: =ROUND(AA108*(1+AB108),0) -> 77225 | AD108: =ROUND(AVERAGE(G108,O108,W108),0) -> 64763 | AE108: =ROUND(+AD108*(1+$H$9),0) -> 77068 | AF108: =ROUND(AVERAGE(K108,S108,AA108),0) -> 61777 | AG108: =ROUND(+AF108*(1+$H$9),0) -> 73515 | AH108: =ROUND(GEOMEAN(G108,O108,W108),0) -> 64421 | AI108: =ROUND(AH108*(1+$H$9),0) -> 76661 | AJ108: =ROUND(GEOMEAN(K108,S108,AA108),0) -> 61632 | AK108: =ROUND(AJ108*(1+$H$9),0) -> 73342
B109: 101 | C109: UNIFORME BEISBOL | D109: Camibuso de manga larga: En Tela en algodón 100% alta calidad y resistente, sin abertura frontal durable, cuello redondo deberán tener mangas largas con protección en espuma para codos Pantalón en tela 100% algodón, pretina con caucho cordón de 3 cm, sin bolsillos, con protección en espuma a los costados del pantalón y rodillas, (1) logotipo institucional al costado, De acuerdo con el manual de imagen institucional vigente para esta versión. Aprobados por la oficina de prensa. TALLAS 4, 6, 8 | E109: UNIDAD | F109: 1 a 30 | G109: =+'PRESTIGIO '!H112 -> 102874 | H109: 0.19 | I109: =ROUND(G109*(1+H109),0) -> 122420 | J109: 31 a 60 | K109: =+'PRESTIGIO '!L112 -> 101228 | L109: 0.19 | M109: =ROUND(K109*(1+L109),0) -> 120461 | N109: 1 a 30 | O109: =+CORSERVICS!I112 -> 88033.613 | P109: =+CORSERVICS!H112 -> 0.19 | Q109: =ROUND(O109*(1+P109),0) -> 104760 | R109: 31 a 60 | S109: =+CORSERVICS!M112 -> 87647.899 | T109: =+CORSERVICS!L111 -> 0.19 | U109: =ROUND(S109*(1+T109),0) -> 104301 | V109: 1 a 30 | W109: =+'PUBLICIDAD MOVIL'!I115 -> 110748 | X109: 0.19 | Y109: =ROUND(W109*(1+X109),0) -> 131790 | Z109: 31 a 60 | AA109: =+'PUBLICIDAD MOVIL'!M115 -> 102098 | AB109: 0.19 | AC109: =ROUND(AA109*(1+AB109),0) -> 121497 | AD109: =ROUND(AVERAGE(G109,O109,W109),0) -> 100552 | AE109: =ROUND(+AD109*(1+$H$9),0) -> 119657 | AF109: =ROUND(AVERAGE(K109,S109,AA109),0) -> 96991 | AG109: =ROUND(+AF109*(1+$H$9),0) -> 115419 | AH109: =ROUND(GEOMEAN(G109,O109,W109),0) -> 100099 | AI109: =ROUND(AH109*(1+$H$9),0) -> 119118 | AJ109: =ROUND(GEOMEAN(K109,S109,AA109),0) -> 96758 | AK109: =ROUND(AJ109*(1+$H$9),0) -> 115142
B110: 102 | C110: UNIFORME BEISBOL | D110: Camibuso de manga larga: En Tela en algodón 100% alta calidad y resistente, sin abertura frontal durable, cuello redondo deberán tener mangas largas con protección en espuma para codos Pantalón en tela 100% algodón, pretina con caucho cordón de 3 cm, sin bolsillos, con protección en espuma a los costados del pantalón y rodillas, (1) logotipo institucional al costado, De acuerdo con el manual de imagen institucional vigente para esta versión. Aprobados por la oficina de prensa. TALLAS 10, 12, 14, 16, S | E110: UNIDAD | F110: 1 a 30 | G110: =+'PRESTIGIO '!H113 -> 103783 | H110: 0.19 | I110: =ROUND(G110*(1+H110),0) -> 123502 | J110: 31 a 60 | K110: =+'PRESTIGIO '!L113 -> 100151 | L110: 0.19 | M110: =ROUND(K110*(1+L110),0) -> 119180 | N110: 1 a 30 | O110: =+CORSERVICS!I113 -> 88941.176 | P110: =+CORSERVICS!H113 -> 0.19 | Q110: =ROUND(O110*(1+P110),0) -> 105840 | R110: 31 a 60 | S110: =+CORSERVICS!M113 -> 88555.462 | T110: =+CORSERVICS!L112 -> 0.19 | U110: =ROUND(S110*(1+T110),0) -> 105381 | V110: 1 a 30 | W110: =+'PUBLICIDAD MOVIL'!I116 -> 107375 | X110: 0.19 | Y110: =ROUND(W110*(1+X110),0) -> 127776 | Z110: 31 a 60 | AA110: =+'PUBLICIDAD MOVIL'!M116 -> 101634 | AB110: 0.19 | AC110: =ROUND(AA110*(1+AB110),0) -> 120944 | AD110: =ROUND(AVERAGE(G110,O110,W110),0) -> 100033 | AE110: =ROUND(+AD110*(1+$H$9),0) -> 119039 | AF110: =ROUND(AVERAGE(K110,S110,AA110),0) -> 96780 | AG110: =ROUND(+AF110*(1+$H$9),0) -> 115168 | AH110: =ROUND(GEOMEAN(G110,O110,W110),0) -> 99704 | AI110: =ROUND(AH110*(1+$H$9),0) -> 118648 | AJ110: =ROUND(GEOMEAN(K110,S110,AA110),0) -> 96598 | AK110: =ROUND(AJ110*(1+$H$9),0) -> 114952
B111: 103 | C111: UNIFORME BEISBOL | D111: Camibuso de manga larga: En Tela en algodón 100% alta calidad y resistente, sin abertura frontal durable, cuello redondo deberán tener mangas largas con protección en espuma para codos Pantalón en tela 100% algodón, pretina con caucho cordón de 3 cm, sin bolsillos, con protección en espuma a los costados del pantalón y rodillas, (1) logotipo institucional al costado, De acuerdo con el manual de imagen institucional vigente para esta versión. Aprobados por la oficina de prensa. TALLAS M, L, XL, XXL | E111: UNIDAD | F111: 1 a 30 | G111: =+'PRESTIGIO '!H114 -> 115550 | H111: 0.19 | I111: =ROUND(G111*(1+H111),0) -> 137505 | J111: 31 a 60 | K111: =+'PRESTIGIO '!L114 -> 114278 | L111: 0.19 | M111: =ROUND(K111*(1+L111),0) -> 135991 | N111: 1 a 30 | O111: =+CORSERVICS!I114 -> 89848.739 | P111: =+CORSERVICS!H114 -> 0.19 | Q111: =ROUND(O111*(1+P111),0) -> 106920 | R111: 31 a 60 | S111: =+CORSERVICS!M114 -> 89463.025 | T111: =+CORSERVICS!L113 -> 0.19 | U111: =ROUND(S111*(1+T111),0) -> 106461 | V111: 1 a 30 | W111: =+'PUBLICIDAD MOVIL'!I117 -> 114209 | X111: 0.19 | Y111: =ROUND(W111*(1+X111),0) -> 135909 | Z111: 31 a 60 | AA111: =+'PUBLICIDAD MOVIL'!M117 -> 104500 | AB111: 0.19 | AC111: =ROUND(AA111*(1+AB111),0) -> 124355 | AD111: =ROUND(AVERAGE(G111,O111,W111),0) -> 106536 | AE111: =ROUND(+AD111*(1+$H$9),0) -> 126778 | AF111: =ROUND(AVERAGE(K111,S111,AA111),0) -> 102747 | AG111: =ROUND(+AF111*(1+$H$9),0) -> 122269 | AH111: =ROUND(GEOMEAN(G111,O111,W111),0) -> 105843 | AI111: =ROUND(AH111*(1+$H$9),0) -> 125953 | AJ111: =ROUND(GEOMEAN(K111,S111,AA111),0) -> 102229 | AK111: =ROUND(AJ111*(1+$H$9),0) -> 121653
B112: 104 | C112: JUEGO DE AJEDREZ | D112: Juego completo de ajedrez profesional número 5. Cantidad/Composición: Juego completo de ajedrez profesional número 5 Materiales: Las piezas son en polietileno de alto impacto, de color negro y beige. El tablero es en Córdoba con base de algodón certificado con ISO 9001. El estuche es en lona morral de color negro con tela impermeable en la parte de adentro en color blanco. Especificaciones : Dimensión / Espesor / Capacidad: Las piezas son en polietileno de alto impacto, de color negro y beige. El tablero es en Córdoba con base de algodón certificado con ISO 9001. El estuche es en lona morral de color negro con tela impermeable en la parte de adentro en color blanco. Diseño: Las piezas son en polietileno de alto impacto, de color negro y beige. El tablero es en Córdoba con base de algodón certificado con ISO 9001. El estuche es en lona morral de color negro con tela impermeable en la parte de adentro en color blanco. | E112: UNIDAD | F112: 1 a 30 | G112: =+'PRESTIGIO '!H115 -> 306763 | H112: 0.19 | I112: =ROUND(G112*(1+H112),0) -> 365048 | J112: 31 a 60 | K112: =+'PRESTIGIO '!L115 -> 294799 | L112: 0.19 | M112: =ROUND(K112*(1+L112),0) -> 350811 | N112: 1 a 30 | O112: =+CORSERVICS!I115 -> 245042.02 | P112: =+CORSERVICS!H115 -> 0.19 | Q112: =ROUND(O112*(1+P112),0) -> 291600 | R112: 31 a 60 | S112: =+CORSERVICS!M115 -> 244656.3 | T112: =+CORSERVICS!L114 -> 0.19 | U112: =ROUND(S112*(1+T112),0) -> 291141 | V112: 1 a 30 | W112: =+'PUBLICIDAD MOVIL'!I118 -> 314295 | X112: 0.19 | Y112: =ROUND(W112*(1+X112),0) -> 374011 | Z112: 31 a 60 | AA112: =+'PUBLICIDAD MOVIL'!M118 -> 278365 | AB112: 0.19 | AC112: =ROUND(AA112*(1+AB112),0) -> 331254 | AD112: =ROUND(AVERAGE(G112,O112,W112),0) -> 288700 | AE112: =ROUND(+AD112*(1+$H$9),0) -> 343553 | AF112: =ROUND(AVERAGE(K112,S112,AA112),0) -> 272607 | AG112: =ROUND(+AF112*(1+$H$9),0) -> 324402 | AH112: =ROUND(GEOMEAN(G112,O112,W112),0) -> 286942 | AI112: =ROUND(AH112*(1+$H$9),0) -> 341461 | AJ112: =ROUND(GEOMEAN(K112,S112,AA112),0) -> 271789 | AK112: =ROUND(AJ112*(1+$H$9),0) -> 323429
B113: 105 | C113: RELOJ DE AJEDREZ | D113: Compra de reloj para competencia de ajedrez Material: ABS Batería: 2 pilas AAA, Tamaño de pantalla: 103 * 23 mm/4,06 * 0,91 pulgadas Tamaño del artículo: 140 * 88 * 45 mm/5,51 * 3,46 * 1,77 pulgadas Peso del artículo: 105 g/3,70 onzas Tiempo de retraso y tiempo positivos. | E113: UNIDAD | F113: 1 a 30 | G113: =+'PRESTIGIO '!H116 -> 196889 | H113: 0.19 | I113: =ROUND(G113*(1+H113),0) -> 234298 | J113: 31 a 60 | K113: =+'PRESTIGIO '!L116 -> 193345 | L113: 0.19 | M113: =ROUND(K113*(1+L113),0) -> 230081 | N113: 1 a 30 | O113: =+CORSERVICS!I116 -> 154285.71 | P113: =+CORSERVICS!H116 -> 0.19 | Q113: =ROUND(O113*(1+P113),0) -> 183600 | R113: 31 a 60 | S113: =+CORSERVICS!M116 -> 153900 | T113: =+CORSERVICS!L115 -> 0.19 | U113: =ROUND(S113*(1+T113),0) -> 183141 | V113: 1 a 30 | W113: =+'PUBLICIDAD MOVIL'!I119 -> 199312 | X113: 0.19 | Y113: =ROUND(W113*(1+X113),0) -> 237181 | Z113: 31 a 60 | AA113: =+'PUBLICIDAD MOVIL'!M119 -> 175684 | AB113: 0.19 | AC113: =ROUND(AA113*(1+AB113),0) -> 209064 | AD113: =ROUND(AVERAGE(G113,O113,W113),0) -> 183496 | AE113: =ROUND(+AD113*(1+$H$9),0) -> 218360 | AF113: =ROUND(AVERAGE(K113,S113,AA113),0) -> 174310 | AG113: =ROUND(+AF113*(1+$H$9),0) -> 207429 | AH113: =ROUND(GEOMEAN(G113,O113,W113),0) -> 182261 | AI113: =ROUND(AH113*(1+$H$9),0) -> 216891 | AJ113: =ROUND(GEOMEAN(K113,S113,AA113),0) -> 173554 | AK113: =ROUND(AJ113*(1+$H$9),0) -> 206529
B114: 106 | C114: UNIFORME LUCHA OLIMPICA | D114: Malla de Lucha Olímpica o Grecorromana sobria y elegante que se adapta perfectamente al cuerpo. Adecuada para todos los niveles. Fabricada en composición de nylon y elastano para un ajuste ceñido sin apretar.Incorpora tiras antideslizantes en los bajos de los camales para garantizar una fijación cómoda durante la lucha y logos institucionales TALLAS 4, 6, 8 | E114: UNIDAD | F114: 1 a 30 | G114: =+'PRESTIGIO '!H117 -> 176834 | H114: 0.19 | I114: =ROUND(G114*(1+H114),0) -> 210432 | J114: 31 a 60 | K114: =+'PRESTIGIO '!L117 -> 174888 | L114: 0.19 | M114: =ROUND(K114*(1+L114),0) -> 208117 | N114: 1 a 30 | O114: =+CORSERVICS!I117 -> 146117.65 | P114: =+CORSERVICS!H117 -> 0.19 | Q114: =ROUND(O114*(1+P114),0) -> 173880 | R114: 31 a 60 | S114: =+CORSERVICS!M117 -> 145731.93 | T114: =+CORSERVICS!L116 -> 0.19 | U114: =ROUND(S114*(1+T114),0) -> 173421 | V114: 1 a 30 | W114: =+'PUBLICIDAD MOVIL'!I120 -> 179075 | X114: 0.19 | Y114: =ROUND(W114*(1+X114),0) -> 213099 | Z114: 31 a 60 | AA114: =+'PUBLICIDAD MOVIL'!M120 -> 165199 | AB114: 0.19 | AC114: =ROUND(AA114*(1+AB114),0) -> 196587 | AD114: =ROUND(AVERAGE(G114,O114,W114),0) -> 167342 | AE114: =ROUND(+AD114*(1+$H$9),0) -> 199137 | AF114: =ROUND(AVERAGE(K114,S114,AA114),0) -> 161940 | AG114: =ROUND(+AF114*(1+$H$9),0) -> 192709 | AH114: =ROUND(GEOMEAN(G114,O114,W114),0) -> 166636 | AI114: =ROUND(AH114*(1+$H$9),0) -> 198297 | AJ114: =ROUND(GEOMEAN(K114,S114,AA114),0) -> 161476 | AK114: =ROUND(AJ114*(1+$H$9),0) -> 192156
B115: 107 | C115: UNIFORME LUCHA OLIMPICA | D115: Malla de Lucha Olímpica o Grecorromana sobria y elegante que se adapta perfectamente al cuerpo. Adecuada para todos los niveles. Fabricada en composición de nylon y elastano para un ajuste ceñido sin apretar.Incorpora tiras antideslizantes en los bajos de los camales para garantizar una fijación cómoda durante la lucha y logos institucionales TALLAS 10, 12, 14, 16, S | E115: UNIDAD | F115: 1 a 30 | G115: =+'PRESTIGIO '!H118 -> 191683 | H115: 0.19 | I115: =ROUND(G115*(1+H115),0) -> 228103 | J115: 31 a 60 | K115: =+'PRESTIGIO '!L118 -> 184016 | L115: 0.19 | M115: =ROUND(K115*(1+L115),0) -> 218979 | N115: 1 a 30 | O115: =+CORSERVICS!I118 -> 147932.77 | P115: =+CORSERVICS!H118 -> 0.19 | Q115: =ROUND(O115*(1+P115),0) -> 176040 | R115: 31 a 60 | S115: =+CORSERVICS!M118 -> 147547.06 | T115: =+CORSERVICS!L117 -> 0.19 | U115: =ROUND(S115*(1+T115),0) -> 175581 | V115: 1 a 30 | W115: =+'PUBLICIDAD MOVIL'!I121 -> 180113 | X115: 0.19 | Y115: =ROUND(W115*(1+X115),0) -> 214334 | Z115: 31 a 60 | AA115: =+'PUBLICIDAD MOVIL'!M121 -> 171820 | AB115: 0.19 | AC115: =ROUND(AA115*(1+AB115),0) -> 204466 | AD115: =ROUND(AVERAGE(G115,O115,W115),0) -> 173243 | AE115: =ROUND(+AD115*(1+$H$9),0) -> 206159 | AF115: =ROUND(AVERAGE(K115,S115,AA115),0) -> 167794 | AG115: =ROUND(+AF115*(1+$H$9),0) -> 199675 | AH115: =ROUND(GEOMEAN(G115,O115,W115),0) -> 172212 | AI115: =ROUND(AH115*(1+$H$9),0) -> 204932 | AJ115: =ROUND(GEOMEAN(K115,S115,AA115),0) -> 167091 | AK115: =ROUND(AJ115*(1+$H$9),0) -> 198838
B116: 108 | C116: UNIFORME LUCHA OLIMPICA | D116: Malla de Lucha Olímpica o Grecorromana sobria y elegante que se adapta perfectamente al cuerpo. Adecuada para todos los niveles. Fabricada en composición de nylon y elastano para un ajuste ceñido sin apretar.Incorpora tiras antideslizantes en los bajos de los camales para garantizar una fijación cómoda durante la lucha y logos institucionales TALLAS M, L, XL, XXL | E116: UNIDAD | F116: 1 a 30 | G116: =+'PRESTIGIO '!H119 -> 190789 | H116: 0.19 | I116: =ROUND(G116*(1+H116),0) -> 227039 | J116: 31 a 60 | K116: =+'PRESTIGIO '!L119 -> 187355 | L116: 0.19 | M116: =ROUND(K116*(1+L116),0) -> 222952 | N116: 1 a 30 | O116: =+CORSERVICS!I119 -> 149747.9 | P116: =+CORSERVICS!H119 -> 0.19 | Q116: =ROUND(O116*(1+P116),0) -> 178200 | R116: 31 a 60 | S116: =+CORSERVICS!M119 -> 149362.18 | T116: =+CORSERVICS!L118 -> 0.19 | U116: =ROUND(S116*(1+T116),0) -> 177741 | V116: 1 a 30 | W116: =+'PUBLICIDAD MOVIL'!I122 -> 191674 | X116: 0.19 | Y116: =ROUND(W116*(1+X116),0) -> 228092 | Z116: 31 a 60 | AA116: =+'PUBLICIDAD MOVIL'!M122 -> 172594 | AB116: 0.19 | AC116: =ROUND(AA116*(1+AB116),0) -> 205387 | AD116: =ROUND(AVERAGE(G116,O116,W116),0) -> 177404 | AE116: =ROUND(+AD116*(1+$H$9),0) -> 211111 | AF116: =ROUND(AVERAGE(K116,S116,AA116),0) -> 169770 | AG116: =ROUND(+AF116*(1+$H$9),0) -> 202026 | AH116: =ROUND(GEOMEAN(G116,O116,W116),0) -> 176262 | AI116: =ROUND(AH116*(1+$H$9),0) -> 209752 | AJ116: =ROUND(GEOMEAN(K116,S116,AA116),0) -> 169035 | AK116: =ROUND(AJ116*(1+$H$9),0) -> 201152
B117: 109 | C117: TABLERO MURAL PARA DOCENTE | D117: Cantidad/Composición: 1 Tablero de Ajedrez Mural 37 Fichas Materiales: Tablero mural es termoformado el material en qué está hecho es en Córdoba con base de algodón certificado con ISO 9001 con cuadros de 10 x 10cm con medidas de 94 x 1.26 cm Las piezas son en láminas de polipropileno de color blanco impresas con tinta de color negro y roja con 5 estrellas adicionales por color para el trabajo con los estudiantes. El estuche es en lona morral de color negro con tela impermeable en la parte de adentro en color blanco. Especificaciones : Dimensión / Espesor / Capacidad: Medidas aproximadas cuadros de 10 x 10cm con medidas de 94 x 1.26 cm. Diseño: Tablero mural es termoformado el material en qué está hecho es en Córdoba con base de algodón certificado con ISO 9001 con cuadros de 10 x 10cm con medidas de 94 x 1.26 cm Las piezas son en láminas de polipropileno de color blanco impresas con tinta de color negro y roja con 5 estrellas adicionales por color para el trabajo con los estudiantes. El estuche es en lona morral de color negro con tela impermeable en la parte de adentro en color blanco. | E117: UNIDAD | F117: 1 a 30 | G117: =+'PRESTIGIO '!H120 -> 113732 | H117: 0.19 | I117: =ROUND(G117*(1+H117),0) -> 135341 | J117: 31 a 60 | K117: =+'PRESTIGIO '!L120 -> 109865 | L117: 0.19 | M117: =ROUND(K117*(1+L117),0) -> 130739 | N117: 1 a 30 | O117: =+CORSERVICS!I120 -> 89848.739 | P117: =+CORSERVICS!H120 -> 0.19 | Q117: =ROUND(O117*(1+P117),0) -> 106920 | R117: 31 a 60 | S117: =+CORSERVICS!M120 -> 89463.025 | T117: =+CORSERVICS!L119 -> 0.19 | U117: =ROUND(S117*(1+T117),0) -> 106461 | V117: 1 a 30 | W117: =+'PUBLICIDAD MOVIL'!I123 -> 107488 | X117: 0.19 | Y117: =ROUND(W117*(1+X117),0) -> 127911 | Z117: 31 a 60 | AA117: =+'PUBLICIDAD MOVIL'!M123 -> 101920 | AB117: 0.19 | AC117: =ROUND(AA117*(1+AB117),0) -> 121285 | AD117: =ROUND(AVERAGE(G117,O117,W117),0) -> 103690 | AE117: =ROUND(+AD117*(1+$H$9),0) -> 123391 | AF117: =ROUND(AVERAGE(K117,S117,AA117),0) -> 100416 | AG117: =ROUND(+AF117*(1+$H$9),0) -> 119495 | AH117: =ROUND(GEOMEAN(G117,O117,W117),0) -> 103177 | AI117: =ROUND(AH117*(1+$H$9),0) -> 122781 | AJ117: =ROUND(GEOMEAN(K117,S117,AA117),0) -> 100059 | AK117: =ROUND(AJ117*(1+$H$9),0) -> 119070
... B123: 115 | C123: RUEDA ABDOMINAL | D123: Material: PVC de alta resistencia, rueda recubierta en caucho antideslizante, manillares recubiertos en espuma Medidas: Diámetro: 17cm. Grosor de rueda: 5cm | E123: UNIDAD | F123: 1 a 30 | G123: =+'PRESTIGIO '!H126 -> 46828 | H123: 0.19 | I123: =ROUND(G123*(1+H123),0) -> 55725 | J123: 31 a 60 | K123: =+'PRESTIGIO '!L126 -> 46173 | L123: 0.19 | M123: =ROUND(K123*(1+L123),0) -> 54946 | N123: 1 a 30 | O123: =+CORSERVICS!I126 -> 35394.958 | P123: =+CORSERVICS!H126 -> 0.19 | Q123: =ROUND(O123*(1+P123),0) -> 42120 | R123: 31 a 60 | S123: =+CORSERVICS!M126 -> 35009.244 | T123: =+CORSERVICS!L125 -> 0.19 | U123: =ROUND(S123*(1+T123),0) -> 41661 | V123: 1 a 30 | W123: =+'PUBLICIDAD MOVIL'!I129 -> 45780 | X123: 0.19 | Y123: =ROUND(W123*(1+X123),0) -> 54478 | Z123: 31 a 60 | AA123: =+'PUBLICIDAD MOVIL'!M129 -> 42473 | AB123: 0.19 | AC123: =ROUND(AA123*(1+AB123),0) -> 50543 | AD123: =ROUND(AVERAGE(G123,O123,W123),0) -> 42668 | AE123: =ROUND(+AD123*(1+$H$9),0) -> 50775 | AF123: =ROUND(AVERAGE(K123,S123,AA123),0) -> 41218 | AG123: =ROUND(+AF123*(1+$H$9),0) -> 49049 | AH123: =ROUND(GEOMEAN(G123,O123,W123),0) -> 42336 | AI123: =ROUND(AH123*(1+$H$9),0) -> 50380 | AJ123: =ROUND(GEOMEAN(K123,S123,AA123),0) -> 40948 | AK123: =ROUND(AJ123*(1+$H$9),0) -> 48728
B124: 116 | C124: RUEDA ABDOMINAL 3 RUEDAS | D124: Materiales: PVC de alta resistencia, manillares recubiertos de espuma. Medidas: Largo: 14 cm Ancho: 29 cm Alto: 12 cm Incluye: 1 colchoneta de apoyo para rodillas 1 tope de seguridad | E124: UNIDAD | F124: 1 a 30 | G124: =+'PRESTIGIO '!H127 -> 132390 | H124: 0.19 | I124: =ROUND(G124*(1+H124),0) -> 157544 | J124: 31 a 60 | K124: =+'PRESTIGIO '!L127 -> 130934 | L124: 0.19 | M124: =ROUND(K124*(1+L124),0) -> 155811 | N124: 1 a 30 | O124: =+CORSERVICS!I127 -> 104369.75 | P124: =+CORSERVICS!H127 -> 0.19 | Q124: =ROUND(O124*(1+P124),0) -> 124200 | R124: 31 a 60 | S124: =+CORSERVICS!M127 -> 103984.03 | T124: =+CORSERVICS!L127 -> 0.19 | U124: =ROUND(S124*(1+T124),0) -> 123741 | V124: 1 a 30 | W124: =+'PUBLICIDAD MOVIL'!I130 -> 123936 | X124: 0.19 | Y124: =ROUND(W124*(1+X124),0) -> 147484 | Z124: 31 a 60 | AA124: =+'PUBLICIDAD MOVIL'!M130 -> 120016 | AB124: 0.19 | AC124: =ROUND(AA124*(1+AB124),0) -> 142819 | AD124: =ROUND(AVERAGE(G124,O124,W124),0) -> 120232 | AE124: =ROUND(+AD124*(1+$H$9),0) -> 143076 | AF124: =ROUND(AVERAGE(K124,S124,AA124),0) -> 118311 | AG124: =ROUND(+AF124*(1+$H$9),0) -> 140790 | AH124: =ROUND(GEOMEAN(G124,O124,W124),0) -> 119640 | AI124: =ROUND(AH124*(1+$H$9),0) -> 142372 | AJ124: =ROUND(GEOMEAN(K124,S124,AA124),0) -> 117784 | AK124: =ROUND(AJ124*(1+$H$9),0) -> 140163
B125: 117 | C125: SOPORTE ABDOMINAL | D125: Material: Espuma de alta densidad forrada en cordobán impermeable. Medidas: Largo; 43 cm. Ancho; 30 cm. Alto; 6 cm. Uso: domestico, institucional y profesional. | E125: UNIDAD | F125: 1 a 30 | G125: =+'PRESTIGIO '!H128 -> 65446 | H125: 0.19 | I125: =ROUND(G125*(1+H125),0) -> 77881 | J125: 31 a 60 | K125: =+'PRESTIGIO '!L128 -> 63679 | L125: 0.19 | M125: =ROUND(K125*(1+L125),0) -> 75778 | N125: 1 a 30 | O125: =+CORSERVICS!I128 -> 54453.782 | P125: =+CORSERVICS!H128 -> 0.19 | Q125: =ROUND(O125*(1+P125),0) -> 64800 | R125: 31 a 60 | S125: =+CORSERVICS!M128 -> 54068.067 | T125: =+CORSERVICS!L128 -> 0.19 | U125: =ROUND(S125*(1+T125),0) -> 64341 | V125: 1 a 30 | W125: =+'PUBLICIDAD MOVIL'!I131 -> 65995 | X125: 0.19 | Y125: =ROUND(W125*(1+X125),0) -> 78534 | Z125: 31 a 60 | AA125: =+'PUBLICIDAD MOVIL'!M131 -> 63410 | AB125: 0.19 | AC125: =ROUND(AA125*(1+AB125),0) -> 75458 | AD125: =ROUND(AVERAGE(G125,O125,W125),0) -> 61965 | AE125: =ROUND(+AD125*(1+$H$9),0) -> 73738 | AF125: =ROUND(AVERAGE(K125,S125,AA125),0) -> 60386 | AG125: =ROUND(+AF125*(1+$H$9),0) -> 71859 | AH125: =ROUND(GEOMEAN(G125,O125,W125),0) -> 61727 | AI125: =ROUND(AH125*(1+$H$9),0) -> 73455 | AJ125: =ROUND(GEOMEAN(K125,S125,AA125),0) -> 60214 | AK125: =ROUND(AJ125*(1+$H$9),0) -> 71655
B126: 118 | C126: ANILLAS DE MADERA | D126: Incluye: 2 anillos para gimnasia. 2 reatas con hebillas de seguridad. Aros en madera, reatas de nylon. Medidas: Diámetro del anillo: 23 cm. Longitud de reatas: 515 cm Diámetro Interno: 17 cm. Diámetro Externo: 23.5 cm. Diámetro Agarra: 3.1 cm. Resistencia: 600 lb. | E126: UNIDAD | F126: 1 a 30 | G126: =+'PRESTIGIO '!H129 -> 189101 | H126: 0.19 | I126: =ROUND(G126*(1+H126),0) -> 225030 | J126: 31 a 60 | K126: =+'PRESTIGIO '!L129 -> 181915 | L126: 0.19 | M126: =ROUND(K126*(1+L126),0) -> 216479 | N126: 1 a 30 | O126: =+CORSERVICS!I129 -> 149747.9 | P126: =+CORSERVICS!H129 -> 0.19 | Q126: =ROUND(O126*(1+P126),0) -> 178200 | R126: 31 a 60 | S126: =+CORSERVICS!M129 -> 149362.18 | T126: =+CORSERVICS!L129 -> 0.19 | U126: =ROUND(S126*(1+T126),0) -> 177741 | V126: 1 a 30 | W126: =+'PUBLICIDAD MOVIL'!I132 -> 187544 | X126: 0.19 | Y126: =ROUND(W126*(1+X126),0) -> 223177 | Z126: 31 a 60 | AA126: =+'PUBLICIDAD MOVIL'!M132 -> 172063 | AB126: 0.19 | AC126: =ROUND(AA126*(1+AB126),0) -> 204755 | AD126: =ROUND(AVERAGE(G126,O126,W126),0) -> 175464 | AE126: =ROUND(+AD126*(1+$H$9),0) -> 208802 | AF126: =ROUND(AVERAGE(K126,S126,AA126),0) -> 167780 | AG126: =ROUND(+AF126*(1+$H$9),0) -> 199658 | AH126: =ROUND(GEOMEAN(G126,O126,W126),0) -> 174469 | AI126: =ROUND(AH126*(1+$H$9),0) -> 207618 | AJ126: =ROUND(GEOMEAN(K126,S126,AA126),0) -> 167211 | AK126: =ROUND(AJ126*(1+$H$9),0) -> 198981
B127: 119 | C127: ANILLAS EN RESINA GIMNASIA OLIMPICA | D127: Aros en resina de alta densidad, reatas en nylon Resistencia máxima de 600 libras Incluye: Juego por 2 anillos de 23 cm de ancho 2 reatas de 515 cm de largo, con hebillas de seguridad Uso: Profesional Medidas: Diámetro Interno: 17.7cmd Diámetro Externo: 23,5 cm Diámetro Agarre: 2.7cm | E127: UNIDAD | F127: 1 a 30 | G127: =+'PRESTIGIO '!H130 -> 103692 | H127: 0.19 | I127: =ROUND(G127*(1+H127),0) -> 123393 | J127: 31 a 60 | K127: =+'PRESTIGIO '!L130 -> 101204 | L127: 0.19 | M127: =ROUND(K127*(1+L127),0) -> 120433 | N127: 1 a 30 | O127: =+CORSERVICS!I130 -> 86218.487 | P127: =+CORSERVICS!H130 -> 0.19 | Q127: =ROUND(O127*(1+P127),0) -> 102600 | R127: 31 a 60 | S127: =+CORSERVICS!M130 -> 85832.773 | T127: =+CORSERVICS!L126 -> 0.19 | U127: =ROUND(S127*(1+T127),0) -> 102141 | V127: 1 a 30 | W127: =+'PUBLICIDAD MOVIL'!I133 -> 106280 | X127: 0.19 | Y127: =ROUND(W127*(1+X127),0) -> 126473 | Z127: 31 a 60 | AA127: =+'PUBLICIDAD MOVIL'!M133 -> 98614 | AB127: 0.19 | AC127: =ROUND(AA127*(1+AB127),0) -> 117351 | AD127: =ROUND(AVERAGE(G127,O127,W127),0) -> 98730 | AE127: =ROUND(+AD127*(1+$H$9),0) -> 117489 | AF127: =ROUND(AVERAGE(K127,S127,AA127),0) -> 95217 | AG127: =ROUND(+AF127*(1+$H$9),0) -> 113308 | AH127: =ROUND(GEOMEAN(G127,O127,W127),0) -> 98310 | AI127: =ROUND(AH127*(1+$H$9),0) -> 116989 | AJ127: =ROUND(GEOMEAN(K127,S127,AA127),0) -> 94972 | AK127: =ROUND(AJ127*(1+$H$9),0) -> 113017
B128: 120 | C128: GUANTES DE GIMNASIO | D128: Incluye: Muñequera con correa de ajuste en velcro. Cuero sintético en palma para alta resistencia, durabilidad y transpiración. Tejido Flexible. Materiales: 10% Polyester, 60% Cuero Sintético, 30% Nylon | E128: UNIDAD | F128: 1 a 30 | G128: =+'PRESTIGIO '!H131 -> 72677 | H128: 0.19 | I128: =ROUND(G128*(1+H128),0) -> 86486 | J128: 31 a 60 | K128: =+'PRESTIGIO '!L131 -> 70352 | L128: 0.19 | M128: =ROUND(K128*(1+L128),0) -> 83719 | N128: 1 a 30 | O128: =+CORSERVICS!I131 -> 58084.034 | P128: =+CORSERVICS!H131 -> 0.19 | Q128: =ROUND(O128*(1+P128),0) -> 69120 | R128: 31 a 60 | S128: =+CORSERVICS!M131 -> 57698.319 | T128: =+CORSERVICS!L127 -> 0.19 | U128: =ROUND(S128*(1+T128),0) -> 68661 | V128: 1 a 30 | W128: =+'PUBLICIDAD MOVIL'!I134 -> 73073 | X128: 0.19 | Y128: =ROUND(W128*(1+X128),0) -> 86957 | Z128: 31 a 60 | AA128: =+'PUBLICIDAD MOVIL'!M134 -> 65987 | AB128: 0.19 | AC128: =ROUND(AA128*(1+AB128),0) -> 78525 | AD128: =ROUND(AVERAGE(G128,O128,W128),0) -> 67945 | AE128: =ROUND(+AD128*(1+$H$9),0) -> 80855 | AF128: =ROUND(AVERAGE(K128,S128,AA128),0) -> 64679 | AG128: =ROUND(+AF128*(1+$H$9),0) -> 76968 | AH128: =ROUND(GEOMEAN(G128,O128,W128),0) -> 67567 | AI128: =ROUND(AH128*(1+$H$9),0) -> 80405 | AJ128: =ROUND(GEOMEAN(K128,S128,AA128),0) -> 64461 | AK128: =ROUND(AJ128*(1+$H$9),0) -> 76709
B129: 121 | C129: AROS ULA ULA CUADRADO | D129: Ula ula mg material ABS (Acrilonitrilo Butadieno Estireno), diseño tipo plano con una diseño cuadrado, sin uniones, brindando durabilidad, Disponible en Rojo, Azul, Amarillo, Naranja y Verde, de 60cm de diámetro interno (+/-3cm) Aprox. Medidas aproximadas: ancho 2cm, grosor 5mm. Peso 123 gramos. Aproximadamente, demarca importada y reconocida en el mercado. | E129: UNIDAD | F129: 1 a 30 | G129: =+'PRESTIGIO '!H132 -> 29315 | H129: 0.19 | I129: =ROUND(G129*(1+H129),0) -> 34885 | J129: 31 a 60 | K129: =+'PRESTIGIO '!L132 -> 28436 | L129: 0.19 | M129: =ROUND(K129*(1+L129),0) -> 33839 | N129: 1 a 30 | O129: =+CORSERVICS!I132 -> 22689.076 | P129: =+CORSERVICS!H132 -> 0.19 | Q129: =ROUND(O129*(1+P129),0) -> 27000 | R129: 31 a 60 | S129: =+CORSERVICS!M132 -> 22303.361 | T129: =+CORSERVICS!L128 -> 0.19 | U129: =ROUND(S129*(1+T129),0) -> 26541 | V129: 1 a 30 | W129: =+'PUBLICIDAD MOVIL'!I135 -> 29677 | X129: 0.19 | Y129: =ROUND(W129*(1+X129),0) -> 35316 | Z129: 31 a 60 | AA129: =+'PUBLICIDAD MOVIL'!M135 -> 27582 | AB129: 0.19 | AC129: =ROUND(AA129*(1+AB129),0) -> 32823 | AD129: =ROUND(AVERAGE(G129,O129,W129),0) -> 27227 | AE129: =ROUND(+AD129*(1+$H$9),0) -> 32400 | AF129: =ROUND(AVERAGE(K129,S129,AA129),0) -> 26107 | AG129: =ROUND(+AF129*(1+$H$9),0) -> 31067 | AH129: =ROUND(GEOMEAN(G129,O129,W129),0) -> 27026 | AI129: =ROUND(AH129*(1+$H$9),0) -> 32161 | AJ129: =ROUND(GEOMEAN(K129,S129,AA129),0) -> 25959 | AK129: =ROUND(AJ129*(1+$H$9),0) -> 30891
B130: 122 | C130: BASTÓN DE ENTRENAMIENTO | D130: El Bastón de Coordinación de 1,50 Metros Fabricado con polietileno de alto impacto, Alta Resistencia | E130: PAR | F130: 1 a 30 | G130: =+'PRESTIGIO '!H133 -> 19609 | H130: 0.19 | I130: =ROUND(G130*(1+H130),0) -> 23335 | J130: 31 a 60 | K130: =+'PRESTIGIO '!L133 -> 19257 | L130: 0.19 | M130: =ROUND(K130*(1+L130),0) -> 22916 | N130: 1 a 30 | O130: =+CORSERVICS!I133 -> 16336.134 | P130: =+CORSERVICS!H133 -> 0.19 | Q130: =ROUND(O130*(1+P130),0) -> 19440 | R130: 31 a 60 | S130: =+CORSERVICS!M133 -> 15950.42 | T130: =+CORSERVICS!L130 -> 0.19 | U130: =ROUND(S130*(1+T130),0) -> 18981 | V130: 1 a 30 | W130: =+'PUBLICIDAD MOVIL'!I136 -> 19646 | X130: 0.19 | Y130: =ROUND(W130*(1+X130),0) -> 23379 | Z130: 31 a 60 | AA130: =+'PUBLICIDAD MOVIL'!M136 -> 18768 | AB130: 0.19 | AC130: =ROUND(AA130*(1+AB130),0) -> 22334 | AD130: =ROUND(AVERAGE(G130,O130,W130),0) -> 18530 | AE130: =ROUND(+AD130*(1+$H$9),0) -> 22051 | AF130: =ROUND(AVERAGE(K130,S130,AA130),0) -> 17992 | AG130: =ROUND(+AF130*(1+$H$9),0) -> 21410 | AH130: =ROUND(GEOMEAN(G130,O130,W130),0) -> 18463 | AI130: =ROUND(AH130*(1+$H$9),0) -> 21971 | AJ130: =ROUND(GEOMEAN(K130,S130,AA130),0) -> 17931 | AK130: =ROUND(AJ130*(1+$H$9),0) -> 21338
B131: 123 | C131: KIT PARA PERSONA MAYOR | D131: Kit para persona mayor, conformado por: Camiseta mínima un 35% algodón y resto en poliéster, o 100% algodón, en tejido de punto tipo jersey sencillo. Peso mínimo de 180 g/m2, redondo enterizo, tipo resortado con tejido rib 1x1 doble cuello, pisado en la parte interior en máquina recubridora con dos agujas, separación entre agujas mínimo 6 mm. El cuello interior debe ser igual que el exterior, así mismo el material empleado para el rib debe ser igual que el de la tela principal, con dos logos estampados en la parte frontal que lleven el logo de la Alcaldía y el nombre del proyecto. Estos diseños serán aprobados por la oficina de prensa de la Alcaldía Local, diferentes tallas desde la 14 hasta XXL. Gorra deportiva, material poliéster transpirable con malla talla única estándar ajustable de 50 a 60 cm aproximadamente estampada según los requerimientos del evento y con aprobación del equipo de prensa. Caramañola plástica de polietileno PE, no tóxico y seguro Antideslizante y diseño a prueba de fugas de capacidad 700 ml estampada según los requerimientos del evento y con aprobación del equipo de prensa | E131: PAR | F131: 1 a 30 | G131: =+'PRESTIGIO '!H134 -> 92507 | H131: 0.19 | I131: =ROUND(G131*(1+H131),0) -> 110083 | J131: 31 a 60 | K131: =+'PRESTIGIO '!L134 -> 90657 | L131: 0.19 | M131: =ROUND(K131*(1+L131),0) -> 107882 | N131: 1 a 30 | O131: =+CORSERVICS!I134 -> 76235.294 | P131: =+CORSERVICS!H134 -> 0.19 | Q131: =ROUND(O131*(1+P131),0) -> 90720 | R131: 31 a 60 | S131: =+CORSERVICS!M134 -> 75849.58 | T131: =+CORSERVICS!L131 -> 0.19 | U131: =ROUND(S131*(1+T131),0) -> 90261 | V131: 1 a 30 | W131: =+'PUBLICIDAD MOVIL'!I137 -> 94524 | X131: 0.19 | Y131: =ROUND(W131*(1+X131),0) -> 112484 | Z131: 31 a 60 | AA131: =+'PUBLICIDAD MOVIL'!M137 -> 88015 | AB131: 0.19 | AC131: =ROUND(AA131*(1+AB131),0) -> 104738 | AD131: =ROUND(AVERAGE(G131,O131,W131),0) -> 87755 | AE131: =ROUND(+AD131*(1+$H$9),0) -> 104428 | AF131: =ROUND(AVERAGE(K131,S131,AA131),0) -> 84841 | AG131: =ROUND(+AF131*(1+$H$9),0) -> 100961 | AH131: =ROUND(GEOMEAN(G131,O131,W131),0) -> 87356 | AI131: =ROUND(AH131*(1+$H$9),0) -> 103954 | AJ131: =ROUND(GEOMEAN(K131,S131,AA131),0) -> 84587 | AK131: =ROUND(AJ131*(1+$H$9),0) -> 100659
B132: 124 | C132: PARQUÉS EN MADERA | D132: Hecho con madera de pino ciprés, incluye 16 fichas de madera torneadas a mano de 4 colores diferentes y 4 dados. (compra) | E132: UNIDAD | F132: 1 a 30 | G132: =+'PRESTIGIO '!H135 -> 51472 | H132: 0.19 | I132: =ROUND(G132*(1+H132),0) -> 61252 | J132: 31 a 60 | K132: =+'PRESTIGIO '!L135 -> 50648 | L132: 0.19 | M132: =ROUND(K132*(1+L132),0) -> 60271 | N132: 1 a 30 | O132: =+CORSERVICS!I135 -> 41747.899 | P132: =+CORSERVICS!H135 -> 0.19 | Q132: =ROUND(O132*(1+P132),0) -> 49680 | R132: 31 a 60 | S132: =+CORSERVICS!M135 -> 41362.185 | T132: =+CORSERVICS!L132 -> 0.19 | U132: =ROUND(S132*(1+T132),0) -> 49221 | V132: 1 a 30 | W132: =+'PUBLICIDAD MOVIL'!I138 -> 52321 | X132: 0.19 | Y132: =ROUND(W132*(1+X132),0) -> 62262 | Z132: 31 a 60 | AA132: =+'PUBLICIDAD MOVIL'!M138 -> 49510 | AB132: 0.19 | AC132: =ROUND(AA132*(1+AB132),0) -> 58917 | AD132: =ROUND(AVERAGE(G132,O132,W132),0) -> 48514 | AE132: =ROUND(+AD132*(1+$H$9),0) -> 57732 | AF132: =ROUND(AVERAGE(K132,S132,AA132),0) -> 47173 | AG132: =ROUND(+AF132*(1+$H$9),0) -> 56136 | AH132: =ROUND(GEOMEAN(G132,O132,W132),0) -> 48264 | AI132: =ROUND(AH132*(1+$H$9),0) -> 57434 | AJ132: =ROUND(GEOMEAN(K132,S132,AA132),0) -> 46984 | AK132: =ROUND(AJ132*(1+$H$9),0) -> 55911
B133: 125 | C133: CANCHA MINI-TEJO | D133: Compra de juego de mini tejo en parejas (dos unidades), canchas tipo maleta para mini tejo con plastilina, con base metálica de 50 cm de frente x 55 cm de fondo y 70 cm de alto incluyendo 6 tejos metálicos en acero, pisón y paquete de mechas. Con recubierta antioxidante. Debe incluir dos mini tejo para lanzar con dimensiones y medidas de 50 cm x 30 cm x 5 cm. | E133: UNIDAD | F133: 1 a 30 | G133: =+'PRESTIGIO '!H136 -> 849476 | H133: 0.19 | I133: =ROUND(G133*(1+H133),0) -> 1010876 | J133: 31 a 60 | K133: =+'PRESTIGIO '!L136 -> 826540 | L133: 0.19 | M133: =ROUND(K133*(1+L133),0) -> 983583 | N133: 1 a 30 | O133: =+CORSERVICS!I136 -> 658890.76 | P133: =+CORSERVICS!H136 -> 0.19 | Q133: =ROUND(O133*(1+P133),0) -> 784080 | R133: 31 a 60 | S133: =+CORSERVICS!M136 -> 658505.04 | T133: =+CORSERVICS!#REF! -> #REF! | U133: =ROUND(S133*(1+T133),0) -> #REF! | V133: 1 a 30 | W133: =+'PUBLICIDAD MOVIL'!I139 -> 802381 | X133: 0.19 | Y133: =ROUND(W133*(1+X133),0) -> 954833 | Z133: 31 a 60 | AA133: =+'PUBLICIDAD MOVIL'!M139 -> 758155 | AB133: 0.19 | AC133: =ROUND(AA133*(1+AB133),0) -> 902204 | AD133: =ROUND(AVERAGE(G133,O133,W133),0) -> 770249 | AE133: =ROUND(+AD133*(1+$H$9),0) -> 916596 | AF133: =ROUND(AVERAGE(K133,S133,AA133),0) -> 747733 | AG133: =ROUND(+AF133*(1+$H$9),0) -> 889802 | AH133: =ROUND(GEOMEAN(G133,O133,W133),0) -> 765799 | AI133: =ROUND(AH133*(1+$H$9),0) -> 911301 | AJ133: =ROUND(GEOMEAN(K133,S133,AA133),0) -> 744493 | AK133: =ROUND(AJ133*(1+$H$9),0) -> 885947
...

Sheet PRESTIGIO 
C3: FORMATO DE COTIZACION
C4: OBJETO: Suministro, adquisición de implementos, artículos, accesorios y bienes deportivos destinados a personas beneficiadas con la entrega de dotaciones deportivas, beneficiar a los colectivos u organizaciones recreo-deportivas, y personas beneficiadas con actividades recreo-deportivas comunitarias de la Localidad de Kennedy, en el marco de los proyectos de inversión No. 2784 "Kennedy Fuerza Local Pasión por el Deporte", No. 2377 "Kennedy Germinando Futuros" y No. 2646 "Kennedy Espacios de Buen Trato".
B6: RAZÓN SOCIAL / NOMBRE: | D6: PRESTIGIO EMPRESARIAL DE COLOMBIA S.A.S | E6: NIT / C.C.: | G6: 901257050-0
B7: CORREO ELECTRÓNICO: | D7: EMPRESARIAL.PRESTIGIO@GMAIL.COM | E7: DIRECCIÓN: | G7: Calle 29a carrera 13-45 LC 105
B8: FECHA DE DILIGENCIAMIENTO | D8: 5 DE OCTUBRE DE 2026 | E8: TELÉFONO: | G8: 3216632008
G10: RANGOS A COTIZAR 1 | K10: RANGO a COTIZAR 2
B11: No. | C11: ITEM | D11: CARACTERISTICAS | E11: UNIDAD DE MEDIDA | F11: UNIDADES ESTIMADAS | G11: UNIDADES | H11: VALOR UNITARIO ANTES DE IVA | I11: PORCENTAJE DE IVA | J11: VALOR TOTAL INCLUIDO IVA | K11: UNIDADES | L11: VALOR UNITARIO ANTES DE IVA | M11: PORCENTAJE DE IVA | N11: VALOR TOTAL INCLUIDO IVA | O11: VALIDADOR
B12: 1 | C12: BALON FUTBOL # 5 | D12: Materiales: Cubierta en material sintético laminado y/o cosido; Enmallado en Nailon de alta tenacidad y flexibilidad. Impermeable. Especificaciones : Dimensión / Espesor / Capacidad: Peso entre 0.5kg y 1kg, Tamaño: (L x P x A cm) 21x21x21 Rebote controlado entre 110 a 155 cm Bajo condiciones de temperatura de 20 grados. Alta resistencia al impacto y al desgaste absorción de humedad mínima, excelente calidad Aprobado y/o certificado bajo las normas establecidas oficiales. Aprobado y/o certificado por la federación nacional y/o internacional de la modalidad deportiva (FCF, DIMAYOR, FIFA), evidencia de lo cual será el sello sobre la superficie de cada balón. Diseño: El Balón debe mantener su peso original e impermeabilidad, para uso exterior e interior en diferentes superficies de juego. | E12: UNIDAD | F12: 500 | G12: 1 a 30 | H12: 196366 | I12: 0.19 | J12: =ROUND(H12*(1+I12),0) -> 233676 | K12: 31 a 60 | L12: 183808 | M12: 0.19 | N12: =ROUND(L12*(1+M12),0) -> 218732 | O12: =IF(J12<N12,"EL VALOR DEL RANGO 2 NO PUEDE SER SUPERIOR AL RANGO 1 ","")
