Workbook
Name _12__Excel_BuiltIn_Print_Area_2: #REF!
Name _15_Excel_BuiltIn_Print_Area_2: #REF!
Name _3_____Excel_BuiltIn_Print_Area_2: #REF!
Name _6____Excel_BuiltIn_Print_Area_2: #REF!
Name _9___Excel_BuiltIn_Print_Area_2: #REF!
Name _az: #REF!
Name _CAL2: #REF!
Name _Fill: #REF!
Name _GEO1600: #REF!
Name _GEO1600: #REF!
Name _IPC2002: #REF!
Name _PJ50: #REF!
Name _R1_: #REF!
Name _REF37: #REF!
Name _REF60: #REF!
Name _REF60: #REF!
Name _VA1: #REF!
Name _VA2: #REF!
Name _VA21: #REF!
Name A: #REF!
Name A_impresión_IM: #REF!
Name A_nuevo: #REF!
Name AA: #REF!
Name AAa: #REF!
Name aaaa: #REF!
Name abc: #REF!
Name Adm: #REF!
Name AfEaefAEF: #REF!
Name AGUA: #REF!
Name AGUA: #REF!
Name AIU: #REF!
Name AJBHJU12: #REF!
Name ALAMB: #REF!
Name ALAMB: #REF!
Name ALFAJ: #REF!
Name ANA: #REF!
Name ANDAM: #REF!
Name ANDAM: #REF!
Name ANDEN: #REF!
Name ANDRES: #REF!
Name ANTISB: #REF!
Name ANTISB: #REF!
Name aqw: #REF!
Name AREAS_PISOS: #REF!
Name ARENA: #REF!
Name ARENA: #REF!
Name asaws: #REF!
Name auto1: #REF!
Name auto2: #REF!
Name auto5: #REF!
Name AUX_TRANS: 200000
Name az: #REF!
Name B: #REF!
Name BALAST: #REF!
Name BALAST: #REF!
Name BASBOX: #REF!
Name Base: #REF!
Name bb: #REF!
Name bbbbb: #REF!
Name bI: #REF!

Sheet PRESUPUESTO
A1: ALCALDÍA DE FLORIDA
A2: PROYECTO: ADECUACION Y MANTENIMIENTO DEL COLISEO LOS FUNDADORES EN EL MUNICIPIO DE FLORIDA, VALLE DEL CAUCA
B3: Elaboró: Arq. Adrián Vélez | C3: PRESUPUESTO
C4: FECHA: | E4: =TODAY() -> 46303
A5: ACTIVIDAD | C5: UND | D5: CANT | E5: VR UNITARIO | F5: VALOR TOTAL
A6: 1 | B6: PRELIMINARES
A7: 1.01 | B7: DESMONTE ESTRUCTURA METÁLICA | C7: M2 | D7: =M.C.!I9 -> 60 | E7: =APU´S!F31 -> 18031.366 | F7: =ROUND((D7*E7),0) -> 1081882
A8: 1.02 | B8: RETIRO TABLEROS | C8: UND | D8: =M.C.!I37 -> 1 | E8: =APU´S!F59 -> 67851.169 | F8: =ROUND((D8*E8),0) -> 67851
A9: 1.03 | B9: RETIRO DE CABLE #16 A #10 | C9: M | D9: =M.C.!I65 -> 800 | E9: =APU´S!F78 -> 2136.3574 | F9: =ROUND((D9*E9),0) -> 1709086
A10: 1.04 | B10: DESMONTE DE LUMINARIAS | C10: UND | D10: =M.C.!I91 -> 56 | E10: =APU´S!F103 -> 42416.526 | F10: =ROUND((D10*E10),0) -> 2375325
A11: 1.05 | B11: RETIRO TUBERIA EXISTENTE 0" A 12" | C11: M | D11: =M.C.!I117 -> 150 | E11: =APU´S!F130 -> 13066.687 | F11: =ROUND((D11*E11),0) -> 1960003
A12: 1.06 | B12: RETIRO BREAKER | C12: UND | D12: =M.C.!I143 -> 24 | E12: =APU´S!F150 -> 20360.432 | F12: =ROUND((D12*E12),0) -> 488650
B13: SUBTOTAL PRELIMINARES | F13: =SUM(F7:F12) -> 7682797
A14: 2 | B14: INSTALACIONES ELÉCTRICAS
A15: 2.01 | B15: TABLERO 2F 24 CTOS TQCP | C15: UND | D15: =M.C.!I169 -> 1 | E15: =APU´S!F174 -> 512513.26 | F15: =ROUND((D15*E15),0) -> 512513
A16: 2.02 | B16: BREAKER 2F DESDE 70 HASTA 100 AMP | C16: UND | D16: =M.C.!I195 -> 1 | E16: =APU´S!F198 -> 303935.4 | F16: =ROUND((D16*E16),0) -> 303935
A17: 2.03 | B17: BREAKER 2F DE 30 AMP | C17: UND | D17: =M.C.!I221 -> 7 | E17: =APU´S!F218 -> 224786.4 | F17: =ROUND((D17*E17),0) -> 1573505
A18: 2.04 | B18: BREAKER 1F DE 30 AMP | C18: UND | D18: =M.C.!I247 -> 16 | E18: =APU´S!F245 -> 115349.17 | F18: =ROUND((D18*E18),0) -> 1845587
A19: 2.05 | B19: TUBERIA EMT 2" | C19: M | D19: =M.C.!I271 -> 8 | E19: =APU´S!F271 -> 80265.367 | F19: =ROUND((D19*E19),0) -> 642123
A20: 2.06 | B20: TUBERIA EMT 3/4" | C20: M | D20: =M.C.!I295 -> 250 | E20: =APU´S!F299 -> 37265.955 | F20: =ROUND((D20*E20),0) -> 9316489
A21: 2.07 | B21: REFLECTOR TIPO INDUSTRIAL 150 LED | C21: UND | D21: =M.C.!I320 -> 4 | E21: =APU´S!F326 -> 798675.48 | F21: =ROUND((D21*E21),0) -> 3194702
A22: 2.08 | B22: REFLECTOR TIPO INDUSTRIAL 100 LED | C22: UND | D22: =M.C.!I344 -> 16 | E22: =APU´S!F356 -> 748675.48 | F22: =ROUND((D22*E22),0) -> 11978808
A23: 2.09 | B23: INSTALACIÓN REFLECTOR 200 LED EXISTENTE | C23: UND | D23: =M.C.!I368 -> 15 | E23: =APU´S!F383 -> 170452.48 | F23: =ROUND((D23*E23),0) -> 2556787
A24: 2.1 | B24: BALA PANEL LED 24W | C24: UND | D24: =M.C.!I392 -> 40 | E24: =APU´S!F412 -> 61468.238 | F24: =ROUND((D24*E24),0) -> 2458730
A25: 2.11 | B25: SALIDA S1 PVC | C25: UND | D25: =M.C.!I415 -> 30 | E25: =APU´S!F438 -> 201237.07 | F25: =ROUND((D25*E25),0) -> 6037112
A26: 2.12 | B26: SAL TOMA 120 PVC | C26: UND | D26: =M.C.!I438 -> 45 | E26: =APU´S!F466 -> 170204.67 | F26: =ROUND((D26*E26),0) -> 7659210
A27: 2.13 | B27: CABLE COBRE HF-ZH# 4 | C27: M | D27: =M.C.!I461 -> 24 | E27: =APU´S!F492 -> 27355.617 | F27: =ROUND((D27*E27),0) -> 656535
A28: 2.14 | B28: CABLE COBRE HF-ZH# 10 | C28: M | D28: =M.C.!I484 -> 400 | E28: =APU´S!F518 -> 7159 | F28: =ROUND((D28*E28),0) -> 2863600
A29: 2.15 | B29: CABLE COBRE HF-ZH# 12 | C29: M | D29: =M.C.!I507 -> 700 | E29: =APU´S!F539 -> 5319.9574 | F29: =ROUND((D29*E29),0) -> 3723970
A30: 2.16 | B30: CABLE COBRE HF-ZH# 14 | C30: M | D30: =M.C.!I530 -> 300 | E30: =APU´S!F560 -> 4338.2074 | F30: =ROUND((D30*E30),0) -> 1301462
A31: 2.17 | B31: MALLA A TIERRA 3 VARILLAS-PERNADA | C31: UND | D31: =M.C.!I553 -> 1 | E31: =APU´S!F589 -> 2397481.9 | F31: =ROUND((D31*E31),0) -> 2397482
B32: SUBTOTAL INSTALACIONES ELÉCTRICAS | F32: =SUM(F15:F31) -> 59022550
A33: 3 | B33: LIMPIEZA Y PINTURA
A34: 3.01 | B34: RELLENO LISTO EXTERIOR MURO | C34: M2 | D34: =M.C.!I598 -> 123.12 | E34: =APU´S!F640 -> 25237.918 | F34: =ROUND((D34*E34),0) -> 3107293
A35: 3.02 | B35: ESTUCO PLASTICO MURO [POLVO] | C35: M2 | D35: =M.C.!I621 -> 123.12 | E35: =APU´S!F668 -> 21631 | F35: =ROUND((D35*E35),0) -> 2663209
A36: 3.03 | B36: VINILO MURO TIPO 1 [3M] | C36: M2 | D36: =M.C.!I644 -> 1215 | E36: =APU´S!F696 -> 17815.699 | F36: =ROUND((D36*E36),0) -> 21646075
A37: 3.04 | B37: VINILO MURO TIPO 1 [1M] | C37: M2 | D37: =M.C.!I667 -> 1479.7017 | E37: =APU´S!F724 -> 10267.65 | F37: =ROUND((D37*E37),0) -> 15193059
A38: 3.05 | B38: VINILO CIELO TIPO 1 [1M] | C38: M2 | D38: =M.C.!I690 -> 444.41 | E38: =APU´S!F750 -> 13880 | F38: =ROUND((D38*E38),0) -> 6168411
A39: 3.06 | B39: LIMPIEZA LAVADO SUPERFICIE- EQ.PRESION | C39: M2 | D39: =M.C.!I713 -> 1216 | E39: =APU´S!F774 -> 5185.637 | F39: =ROUND((D39*E39),0) -> 6305735
A40: 3.07 | B40: ESMALTE SOBRE LAMINA LINEAL | C40: M | D40: =M.C.!I736 -> 1891.5 | E40: =APU´S!F801 -> 6664.6913 | F40: =ROUND((D40*E40),0) -> 12606264
...

Sheet APU´S
A1: ALCALDÍA DE FLORIDA
A2: =PRESUPUESTO!A2 -> PROYECTO: ADECUACION Y MANTENIMIENTO DEL COLISEO LOS FUNDADORES EN EL MUNICIPIO DE FLORIDA, VALLE DEL CAUCA
C3: ANALISIS DE PRECIOS UNITARIOS
C4: =PRESUPUESTO!C4 -> FECHA: | E4: =PRESUPUESTO!E4 -> 46303
A6: DESCRIPCION | D6: ITEM | E6: UND. ITEM | F6: CANT. ITEM
A7: DESMONTE ESTRUCTURA METÁLICA | E7: M2
A9: MATERIALES | B9: UNIDAD | C9: CANT. / M | D9: % DESPERD. | E9: PRECIO UNIT. | F9: VALOR UNITARIO
F10: =C10*E10 -> 0
F11: =C11*E11 -> 0
F12: =C12*E12 -> 0
F13: =C13*E13 -> 0
E15: SUBTOTAL MATERIALES | F15: =SUM(F10:F13) -> 0
A17: MANO DE OBRA | B17: JORNAL | C17: F.PREST. | D17: JORNAL+PS | E17: REND. M / DIA | F17: VR. UNIT
A18: M.O. 1 AYUDANTE + 1 OFICIAL | B18: 383882 | C18: 1.8 | D18: =B18 -> 383882 | E18: 26.66 | F18: =D18/E18 -> 14399.175
E20: SUBTOTAL MANO DE OBRA | F20: =F18 -> 14399.175
A22: EQUIPO | B22: REF. | C22: UNIDAD | D22: CANTIDAD | E22: TARIIFA | F22: VALOR UNITARIO
A23: ANDAMIO METALICO CERTIFICADO ALTURAS | C23: UND | D23: 0.2 | E23: 17441 | F23: =D23*E23 -> 3488.2
A24: HERRAMIENTA MENOR | C24: GBL | D24: 0.01 | E24: 14399.17 | F24: =D24*E24 -> 143.9917
E25: SUBTOTAL EQUIPO | F25: =SUM(F23:F24) -> 3632.1917
A27: TRANSPORTES | B27: Cantidad | C27: Distancia | D27: Cant. x Dist. | E27: TARIIFA | F27: VALOR UNITARIO
E29: SUBTOTAL TRANSPORTES | F29: 0
D31: COSTO DIRECTO | F31: =SUM(F15,F20,F25) -> 18031.366
A33: DESCRIPCION | D33: ITEM | E33: UND. ITEM | F33: CANT. ITEM
A34: RETIRO TABLEROS | E34: UND
A36: MATERIALES | B36: UNIDAD | C36: CANT. / M2 | D36: % DESPERD. | E36: PRECIO UNIT. | F36: VALOR UNITARIO
F37: =C37*E37 -> 0
F38: =C38*E38 -> 0
F39: =C39*E39 -> 0
F40: =C40*E40 -> 0
E42: SUBTOTAL MATERIALES | F42: =SUM(F37:F41) -> 0
A44: MANO DE OBRA | B44: JORNAL | C44: F.PREST. | D44: JORNAL+PS | E44: REND. M2 / DIA | F44: VR. UNIT
A45: M.O. ELECTRICA 1 AYUDANTE + 1 OFICIAL | B45: 537435 | C45: 1.8 | D45: 537435 | E45: 8 | F45: =D45/E45 -> 67179.375
E48: SUBTOTAL MANO DE OBRA | F48: =SUM(F45:F47) -> 67179.375
A50: EQUIPO | B50: REF. | C50: UNIDAD | D50: CANTIDAD | E50: TARIIFA | F50: VALOR UNITARIO
A51: HERRAMIENTA MENOR | C51: % de MO | D51: 0.01 | E51: 67179.37 | F51: =D51*E51 -> 671.7937
E53: SUBTOTAL EQUIPO | F53: =SUM(F51:F52) -> 671.7937
A55: TRANSPORTES | B55: Cantidad | C55: Distancia | D55: Cant. x Dist. | E55: TARIIFA | F55: VALOR UNITARIO
E57: SUBTOTAL TRANSPORTES | F57: 0
D59: COSTO DIRECTO | F59: =SUM(F42+F48+F53+F57) -> 67851.169
A61: DESCRIPCION | D61: ITEM | E61: UND. ITEM | F61: CANT. ITEM
...

Sheet M.C.
A1: ALCALDÍA DE FLORIDA
A2: =PRESUPUESTO!A2 -> PROYECTO: ADECUACION Y MANTENIMIENTO DEL COLISEO LOS FUNDADORES EN EL MUNICIPIO DE FLORIDA, VALLE DEL CAUCA
A4: MEMORIA DE CANTIDADES
A6: CAPÍTULO: | B6: =PRESUPUESTO!B6 -> PRELIMINARES | E6: ÍTEM: | F6: =PRESUPUESTO!A7 -> 1.01 | G6: DESCRIPCIÓN: | H6: =PRESUPUESTO!B7 -> DESMONTE ESTRUCTURA METÁLICA
A8: ELABORADO/CALCULADO POR:
A9: FECHA: | B9: =PRESUPUESTO!E4 -> 46303 | H9: UNIDAD: M2 | I9: =G23 -> 60
A10: DESCRIPCIÓN | C10: MEDIDAS | H10: REGISTRO GRAFICO
C11: L | D11: A | E11: H | F11: M2 | G11: TOTAL
A12: DESMONTE ESTRUCTURA METÁLICA CON MALLA ESLABONADA | C12: 30 | D12: 2 | F12: =C12*D12 -> 60 | G12: =F12 -> 60
C23: TOTAL | G23: =SUM(G12:G22) -> 60
A24: OBSERVACIONES:
A28: Vo. Bo. Firma | G28: Vo Bo. Firma
A29: Nombre | B29: MAURICIO FERNANDEZ HERNANDEZ | G29: Nombre
A30: Cargo | B30: SECRETARIO DE PLANEACIÓN E INFRAESTRUCTURA | G30: Cargo
A32: MEMORIA DE CANTIDADES
A34: CAPÍTULO: | B34: =PRESUPUESTO!B6 -> PRELIMINARES | E34: ÍTEM: | F34: =PRESUPUESTO!A8 -> 1.02 | G34: DESCRIPCIÓN: | H34: =PRESUPUESTO!B8 -> RETIRO TABLEROS
A36: ELABORADO/CALCULADO POR:
A37: FECHA: | B37: =B9 -> 46303 | H37: UNIDAD: UND | I37: =G51 -> 1
A38: DESCRIPCIÓN | C38: MEDIDAS | H38: REGISTRO GRAFICO
C39: L | D39: A | E39: H | F39: U | G39: TOTAL
A40: RETIRO CAJA BREAKER | F40: 1 | G40: 1
C51: TOTAL | G51: =SUM(G40:G50) -> 1
A52: OBSERVACIONES:
A56: Vo. Bo. Firma | G56: Vo Bo. Firma
A57: Nombre | B57: MAURICIO FERNANDEZ HERNANDEZ | G57: Nombre
A58: Cargo | B58: SECRETARIO DE PLANEACIÓN E INFRAESTRUCTURA | G58: Cargo
A60: MEMORIA DE CANTIDADES
A62: CAPÍTULO: | B62: =PRESUPUESTO!B6 -> PRELIMINARES | E62: ÍTEM: | F62: =PRESUPUESTO!A9 -> 1.03 | G62: DESCRIPCIÓN: | H62: =PRESUPUESTO!B9 -> RETIRO DE CABLE #16 A #10
A64: ELABORADO/CALCULADO POR:
A65: FECHA: | B65: =B37 -> 46303 | H65: UNIDAD: M | I65: =G79 -> 800
A66: DESCRIPCIÓN | C66: MEDIDAS | H66: REGISTRO GRAFICO
C67: L | D67: A | E67: H | F67: M | G67: TOTAL
A68: CABLEADO GENERAL DEL ESCENARIO | F68: 800 | G68: 800
C79: TOTAL | G79: =SUM(G68:G78) -> 800
A80: OBSERVACIONES:
A84: Vo. Bo. Firma | G84: Vo Bo. Firma
A85: Nombre | B85: MAURICIO FERNANDEZ HERNANDEZ | G85: Nombre
A86: Cargo | B86: SECRETARIO DE PLANEACIÓN E INFRAESTRUCTURA | G86: Cargo
A88: CAPÍTULO: | B88: =PRESUPUESTO!B6 -> PRELIMINARES | E88: ÍTEM: | F88: =PRESUPUESTO!A10 -> 1.04 | G88: DESCRIPCIÓN: | H88: =PRESUPUESTO!B10 -> DESMONTE DE LUMINARIAS
A90: ELABORADO/CALCULADO POR:
...
