Workbook

Sheet Salarios OBRA
B2: SALARIOS
B3: PROYECTO: | C3: =+PRESUPUESTO!B4 -> ENSAMBLE, MONTAJE E INSTALACIÓN DE ALUMBRADO NAVIDEÑO (ORNAMENTAL Y DECORATIVO) EN LAS INSTALACIONES DEL PARQUE NATURAL EL GALLINERAL DEL MUNICIPIO DE SAN GIL, SANTANDER
B4: ENTIDAD: | C4: =+PRESUPUESTO!B3 -> INSTITUTO DE CULTURA Y TURISMO SAN GIL
B5: LICALIZACIÓN | C5: SAN GIL, SANTANDER | H5: 45962
B7: DESGLOCE CUADRILLAS
B9: Salario 2026 | C9: 1750905
B10: Aux. Transp. 2026 | C10: 249095
B12: PORCENTAJE PRESTACIONES SOCIALES OBREROS | E12: PORCENTAJE PRESTACIONES SOCIALES PROFESIONALES
B13: Salud | C13: 0.125 | E13: Salud | I13: 0.125
B14: Pensión | C14: 0.16 | E14: Pensión | I14: 0.16
B15: ARL (Riesgo 5) | C15: 0.0696 | E15: ARL (Riesgo 5) | I15: 0.0696
B16: Vacaciones | C16: 0.0417 | E16: Vacaciones | I16: 0.0417
B17: Prima de servicio | C17: 0.0833 | E17: Prima de servicio | I17: 0.0833
B18: Cesantías | C18: 0.0833 | E18: Cesantías | I18: 0.0833
B19: Intereses de cesantías | C19: 0.01 | E19: Intereses de cesantías | I19: 0.01
B20: Sena | C20: 0.02 | E20: Sena | I20: 0.02
B21: ICBF | C21: 0.03 | E21: ICBF | I21: 0.03
B22: Caja de compensación familiar | C22: 0.04 | E22: Caja de compensación familiar | I22: 0.04
B23: Dotacion y EPP (Camisa, pantalon, gafas, tapabocas N95 y botas de seguridad) | C23: 0.1 | E23: Dotacion y EPP (Camisa, pantalon, gafas, tapabocas N95 y botas de seguridad)
B24: Otros (horas extras,auxilios, ect.) | C24: 0.0371 | E24: Otros (horas extras,auxilios, ect.)
B25: TOTAL | C25: =SUM(C13:C24) -> 0.8 | E25: TOTAL | I25: =SUM(I13:I24) -> 0.6629
B27: DESCRIPCION | C27: UND/FACT | D27: CANT. | E27: JORNAL | F27: AUXILIO DE TRANSPORTE | G27: INCREMENTO DIARIO POR DESPLAZAMIENTO | H27: Pres. (80%) | I27: JORNAL TOTAL O VR. UNIT.
B28: M.O. ALBAÑILERIA | C28: FM | F28: =+SUM(F29:F30) -> 16606.333 | G28: =+SUM(G29:G30) -> 0 | H28: =+SUM(H29:H30) -> 149285 | I28: =+SUM(G28:H28) -> 149285
B29: OFICIAL DE OBRA | C29: 1.45 | D29: 1 | E29: =ROUND((((($C$9+$C$10)/30)*C29)*D29),0) -> 96667 | F29: =$C$10/30 -> 8303.1667 | G29: 0 | H29: =ROUND((E29+F29)*$C$25,0) -> 83976 | I29: =+SUM(E29:H29)-F29 -> 180643
B30: AYUDANTE DE OBRA | C30: 1.1 | D30: 1 | E30: =ROUND((((($C$9+$C$10)/30)*C30)*D30),0) -> 73333 | F30: =$C$10/30 -> 8303.1667 | G30: =$G$29 -> 0 | H30: =ROUND((E30+F30)*$C$25,0) -> 65309 | I30: =+SUM(E30:H30)-F30 -> 138642
B32: M.O. PINTURA | C32: FM | F32: =+SUM(F33:F34) -> 16606.333 | G32: =+SUM(G33:G34) -> 0 | H32: =+SUM(H33:H34) -> 162619 | I32: =+SUM(G32:H32) -> 162619
B33: Oficial PINTURA | C33: 1.6 | D33: 1 | E33: =ROUND((((($C$9+$C$10)/30)*C33)*D33),0) -> 106667 | F33: =$C$10/30 -> 8303.1667 | G33: =$G$29 -> 0 | H33: =ROUND((E33+F33)*$C$25,0) -> 91976 | I33: =+SUM(E33:H33)-F33 -> 198643
B34: Ayudante PINTURA | C34: 1.2 | D34: 1 | E34: =ROUND((((($C$9+$C$10)/30)*C34)*D34),0) -> 80000 | F34: =$C$10/30 -> 8303.1667 | G34: =$G$30 -> 0 | H34: =ROUND((E34+F34)*$C$25,0) -> 70643 | I34: =+SUM(E34:H34)-F34 -> 150643
B36: M.O. ELECTRICIDAD | C36: FM | F36: =+SUM(F37:F38) -> 16606.333 | G36: =+SUM(G37:G38) -> 0 | H36: =+SUM(H37:H38) -> 178619 | I36: =+SUM(G36:H36) -> 178619
B37: OFICIAL ELECTRICISTA | C37: 1.75 | D37: 1 | E37: =ROUND((((($C$9+$C$10)/30)*C37)*D37),0) -> 116667 | F37: =$C$10/30 -> 8303.1667 | G37: =$G$29 -> 0 | H37: =ROUND((E37+F37)*$C$25,0) -> 99976 | I37: =+SUM(E37:H37)-F37 -> 216643
B38: AYUDANTE ELECTRICIDAD | C38: 1.35 | D38: 1 | E38: =ROUND((((($C$9+$C$10)/30)*C38)*D38),0) -> 90000 | F38: =$C$10/30 -> 8303.1667 | G38: =$G$29 -> 0 | H38: =ROUND((E38+F38)*$C$25,0) -> 78643 | I38: =+SUM(E38:H38)-F38 -> 168643
B41: DESCRIPCION | D41: SUELDO BASICO | E41: PREST. | F41: V. PREST. | G41: V. APAGAR
B42: Director de Obra | D42: 1600000 | E42: =$I$25 -> 0.6629 | F42: =D42*E42 -> 1060640 | G42: =D42+F42 -> 2660640
B43: Residente de Obra (Ingeniero Civil) | D43: 1750905 | E43: =$I$25 -> 0.6629 | F43: =D43*E43 -> 1160674.9 | G43: =D43+F43 -> 2911579.9
B44: Auxiliar de ingenieria | D44: 2700000 | E44: =$I$25 -> 0.6629 | F44: =D44*E44 -> 1789830 | G44: =D44+F44 -> 4489830
B45: Ingeniero ambiental | D45: 2000000 | E45: =$I$25 -> 0.6629 | F45: =D45*E45 -> 1325800 | G45: =D45+F45 -> 3325800
B46: Ingeniero de apoyo(Especialista en hidraulica) | D46: 3500000 | E46: =$I$25 -> 0.6629 | F46: =D46*E46 -> 2320150 | G46: =D46+F46 -> 5820150
B47: Ingenireo de apoyo(Especialista en estructura) | D47: 3500000 | E47: =$I$25 -> 0.6629 | F47: =D47*E47 -> 2320150 | G47: =D47+F47 -> 5820150
B48: Ingenireo de apoyo(Especialista electrico) | D48: 3000000 | E48: =$I$25 -> 0.6629 | F48: =D48*E48 -> 1988700 | G48: =D48+F48 -> 4988700
B49: Apoyo ingeniería, gestión de calidad y SISO | D49: 1423500 | E49: =$I$25 -> 0.6629 | F49: =D49*E49 -> 943638.15 | G49: =D49+F49 -> 2367138.2
...

Sheet PRESUPUESTO
A2: SAN GIL SANTANDER
A3: ENTIDAD | B3: INSTITUTO DE CULTURA Y TURISMO SAN GIL
A4: PROYECTO: | B4: ENSAMBLE, MONTAJE E INSTALACIÓN DE ALUMBRADO NAVIDEÑO (ORNAMENTAL Y DECORATIVO) EN LAS INSTALACIONES DEL PARQUE NATURAL EL GALLINERAL DEL MUNICIPIO DE SAN GIL, SANTANDER
A6: ITEM | B6: DESCRIPCION | C6: UNID | D6: CANT | E6: Vr. UNITARIO | F6: Vr. PARCIAL
A7: ENTRADA | F7: =F9+F8 -> 1261759
A8: 1.1 | B8: Servicio de instalacion de Arcos metalicos de 2,5 mts de alto | C8: UND | D8: 8 | E8: ='1.1'!M42 -> 143751 | F8: =D8*E8 -> 1150008
A9: 1.2 | B9: Ubicación y conexión electrica de tarjeta navideña del municipio. | C9: UND | D9: 1 | E9: ='1.2'!M42 -> 111751 | F9: =D9*E9 -> 111751
A10: PUENTE ENTRADA | F10: =F11+F12+F13 -> 2241584
A11: 2.1 | B11: Suministro e instalacion de la Decoracion de cuatro (4) ramas de arbol central del puente, con luces tipo lluvia color calida. Voltaje 110 v, color cable cristal.Extension de 10 mts | C11: UND | D11: 4 | E11: =+'2.1'!M42 -> 223996 | F11: =D11*E11 -> 895984
A12: 2.2 | B12: Instalacion de Estructura metalica en forma de regalo, forrado con tela bombril, colores dorado y rojo. Voltaje de 110 voltios. Incrustada en matera existente. | C12: UND | D12: 4 | E12: ='2.3'!M42 -> 168200 | F12: =D12*E12 -> 672800
A13: 2.3 | B13: Suministro e instalacion de extension tipo lluvia, en el perimetro lineal derecho e izquierdo del puente. Extension de 10 mts. Perimetro total a cubrir 40 mts. | C13: UND | D13: 4 | E13: ='2.3'!M42 -> 168200 | F13: =D13*E13 -> 672800
A14: ROTONDA | F14: =F15+F16+F17+F18+F19+F20+F21+F22 -> 27369942
A15: 3.1 | B15: Suministro e instalacion de Estructura metalica en varilla de 7 mm; en forma de Reno y forrado en tela bombril dorada; con iluminacion de luz led calida, voltaje 110 v. medida Altura maxima 1,20 mts. | C15: UND | D15: 2 | E15: ='3.1'!M42 -> 575357 | F15: =D15*E15 -> 1150714
A16: 3.2 | B16: Suministro e instalacion de Estructura metalica en varilla de 7 mm; en forma de regalo, medidas 70 cms, forrado con tela bombril, colores dorado y rojo e iluminado con luz le calida. 110 voltios, color cable cristal. | C16: UND | D16: 10 | E16: ='3.2'!M42 -> 291218 | F16: =D16*E16 -> 2912180
A17: 3.3 | B17: Suministro e instalacion de Estructura metalica en varilla de 7 mm; en forma de estrella , medidas 60 cms, forrado con tela bombril, colores dorado e iluminado con luz le calida. 110 voltios, color cable cristal. | C17: UND | D17: 24 | E17: ='3.3.'!M42 -> 441933 | F17: =D17*E17 -> 10606392
A18: 3.4 | B18: Suministro e instalacion de Estructura metalica en varilla de 7 mm; en forma de estrella , medidas 90 cms, forrado con tela bombril, colores dorado e iluminado con luz le calida. 110 voltios, color cable cristal. | C18: UND | D18: 15 | E18: ='3.4'!M42 -> 400628 | F18: =D18*E18 -> 6009420
A19: 3.5 | B19: Suministro e instalacion de Farol metalico de piso, tubo altura 2,20 mts. Incluye bombillo led luz calida.Incluye bombillo decorativo le, luz calida. Voltaje 4 v.color negro | C19: UND | D19: 7 | E19: ='3.5'!M42 -> 354128 | F19: =E19*D19 -> 2478896
A20: 3.6 | B20: Suministro de Planta navideña floreada con matera negra plastica | C20: UND | D20: 20 | E20: ='3.6'!M42 -> 26373 | F20: =D20*E20 -> 527460
A21: 3.7 | B21: Iluminacion de arbol con luz lineal calida. Suministro e Instalacion de extension lineal de 100 mts. Voltaje 110 v. cable color cristal. Altura a iluminar 6 (seis) mts de altur | C21: UND | D21: 7 | E21: ='3.7'!M42 -> 305128 | F21: =D21*E21 -> 2135896
A22: 3.8 | B22: Adecuacion que incluye Pintura de estructura metalica, tapizado de las sillas,suministro e instalacion de dos faroles con sus bombillos. Decoracion con follaje y flores navideñas en la cubierta y Suministro e instalacion de Letrereo en Madera y pintura para exterior con Mensaje "NAVIDAD EN EL GALLINERAL" | C22: UND | D22: 1 | E22: ='3.8'!M44 -> 1548984 | F22: =D22*E22 -> 1548984
A23: TUNEL DEL AMOR | F23: =F24 -> 1724400
A24: 4 | B24: Suministro e intalacion de Luz lineal calida, instalada en forma de arco, 6 (seis) metros cada uno. voltaje 110 . | C24: UND | D24: 48 | E24: ='4.1'!M42 -> 35925 | F24: =D24*E24 -> 1724400
A25: PARQUE FUENTES | F25: =F26+F27+F28+F29+F30+F31 -> 2884641
A26: 5.1 | B26: Suministro e Instalacion de faroles metalicos color negro en cada fuente. Incluye bombillo decorativo luz led calida. Voltaje 4 v. | C26: UND | D26: 5 | E26: ='5.1'!M43 -> 115032 | F26: =D26*E26 -> 575160
A27: 5.2 | B27: Suministro e instalacion de luz lineal calida para las plantas de las fuentes. Extension de 6 mts color cable verde. 110 voltios v. | C27: UND | D27: 5 | E27: ='5.2'!M43 -> 49521 | F27: =D27*E27 -> 247605
A28: 5.3 | B28: Pintura del techo y las lamina de las fuentes en colores navideños.(incluido en el Item de Mano de Obra) | C28: UND | D28: 5 | E28: ='5.3'!M43 -> 177140 | F28: =D28*E28 -> 885700
A29: 5.4 | B29: Suministro e instalacion de lampara de Luces indirectas para jardin. Luz calida. Voltaje 5 v. | C29: UND | D29: 2 | E29: ='5.4'!M43 -> 81094 | F29: =D29*E29 -> 162188
A30: 5.5 | B30: Suministro de planta Ponsetias enmatera negra plastica; para darle volumen y color navideño arreglo central | C30: UND | D30: 3 | E30: ='5.5'!M43 -> 26636 | F30: =D30*E30 -> 79908
A31: 5.6 | B31: Suministro e instalacion de Farol metalico de piso, tubo altura 2,20 mts. Incluye bombillo led luz calida.Incluye bombillo decorativo le, luz calida. Voltaje 4 v.color negro. | C31: UND | D31: 4 | E31: ='8.1'!M45 -> 233520 | F31: =D31*E31 -> 934080
A32: ILUMINACION IGUANA | F32: =F33+F34 -> 1245504
A33: 6.1 | B33: Suministro e instalacion de Reflectores de colores alrededor de la iguana.RGB 50 w. Voltaje 110 v | C33: UND | D33: 2 | E33: ='6.1'!M42 -> 103867 | F33: =D33*E33 -> 207734
A34: 6.2 | B34: Orillo de la Isla de la iguana iluminado con el Suministro e instalacion de cinta led calida. Area total 100 mts. | C34: UND | D34: 1 | E34: ='6.2'!M42 -> 1037770 | F34: =D34*E34 -> 1037770
A35: MATRIMONIO FELIZ | F35: =F36+F37+F38+F39 -> 839592
A36: 7.1 | B36: Suministro e instalacion de Reflectores RGB de 50 w. 110 v. | C36: UND | D36: 3 | E36: ='7.1'!M42 -> 102887 | F36: =E36*D36 -> 308661
A37: 7.2 | B37: Sumnistro de Planta ponsetias en matera plastica negra, ubicadas Alrededor de la banca . | C37: UND | D37: 10 | E37: ='5.5'!M43 -> 26636 | F37: =D37*E37 -> 266360
A38: 7.3 | B38: Instalacion de reflectores | C38: UND | D38: 2 | E38: ='7.3'!M42 -> 76410 | F38: =D38*E38 -> 152820
A39: 7.4 | B39: Ubicación y conexión de tarjeta navideña del municipio. | C39: UND | D39: 1 | E39: ='1.2'!M42 -> 111751 | F39: =D39*E39 -> 111751
A40: SENDERO A LA PLAYA | F40: =F41+F42 -> 4782151
A41: 8.1 | B41: Suministro e instalacion de faroles metalicos colgantes color negro, descolgados por la mitad del sendero. Area total 200 mts | C41: UND | D41: 20 | E41: ='8.1'!M45 -> 233520 | F41: =D41*E41 -> 4670400
A42: 8.2 | B42: Ubicación y conexión electrica de tarjeta navideña del municipio. | C42: UND | D42: 1 | E42: ='1.2'!M42 -> 111751 | F42: =D42*E42 -> 111751
...

Sheet 1.1
A2: ANALISIS DE PRECIOS UNITARIOS
A3: ENTIDAD | D3: =+PRESUPUESTO!B3 -> INSTITUTO DE CULTURA Y TURISMO SAN GIL
A4: PROYECTO: | D4: =+PRESUPUESTO!B4 -> ENSAMBLE, MONTAJE E INSTALACIÓN DE ALUMBRADO NAVIDEÑO (ORNAMENTAL Y DECORATIVO) EN LAS INSTALACIONES DEL PARQUE NATURAL EL GALLINERAL DEL MUNICIPIO DE SAN GIL, SANTANDER
A5: =+[1]AIU!$B$6 -> PROCESO
A6: LOCALIZACION: | D6: =[2]INFORMACION!$A$6 -> SAN GIL, SANTANDER | H6: FECHA: | I6: 46296
A8: ITEM | B8: DESCRIPCIÓN | K8: UNIDAD | M8: CANTIDAD
A9: =+PRESUPUESTO!A8 -> 1.1 | B9: =+PRESUPUESTO!B8 -> Servicio de instalacion de Arcos metalicos de 2,5 mts de alto | K9: =+PRESUPUESTO!C8 -> UND | M9: =+PRESUPUESTO!D8 -> 8
A10: I. EQUIPO
A13: DESCRIPCIÓN | F13: MARCA | H13: TIPO | J13: TARIFA/HORA | K13: RENDIMIENTO | M13: Vr. UNITARIO
A14: HERRAMIENTA MENOR | J14: 65800 | K14: 0.1 | M14: =J14*K14 -> 6580
A15: =+PRECIOS!C14 -> TALADRO (electrico) | J15: =+PRECIOS!J14 -> 50000 | K15: 8 | M15: =+J15/K15 -> 6250
A17: SUBTOTAL $ | M17: =SUM(M14:M16) -> 12830
A18: II. MATERIALES
A21: DESCRIPCIÓN | I21: UNIDAD | J21: CANTIDAD | K21: PRECIO UNIT. | M21: Vr. UNITARIO
M22: =J22*K22 -> 0
A24: SUBTOTAL $ | M24: =SUM(M22:M23) -> 0
A25: III. TRANSPORTES
A28: MATERIAL | H28: VOL. o PESO | I28: DISTANCIA/RENDIMIENTO | J28: M3 o Ton/Km | K28: TARIFA | M28: Vr. UNITARIO
A29: =+PRECIOS!C21 -> TRANSPORTE TIPO ACARREO | H29: 1 | I29: 0.5 | K29: =+PRECIOS!J21 -> 80000 | M29: =+K29*I29*H29 -> 40000
A31: SUBTOTAL $ | M31: =SUM(M29:M30) -> 40000
A32: IV. MANO DE OBRA
A35: TRABAJADOR | G35: CANT. | H35: JORNAL | I35: PRESTACIONES | J35: JORNAL TOTAL | K35: RENDIMIENTO | M35: Vr. UNITARIO
A36: =+PRECIOS!C30 -> OFICIAL ELECTRICISTA | G36: 1 | H36: =VLOOKUP(A36,'Salarios OBRA'!$B$7:$I$58,4,FALSE) -> 116667 | I36: =VLOOKUP(A36,'Salarios OBRA'!$B$7:$I$58,7,FALSE) -> 99976 | J36: =+I36+H36 -> 216643 | K36: 5 | M36: =J36/K36 -> 43328.6
A37: =+PRECIOS!C31 -> AYUDANTE ELECTRICIDAD | G37: 1 | H37: =VLOOKUP(A37,'Salarios OBRA'!$B$7:$I$58,4,FALSE) -> 90000 | I37: =VLOOKUP(A37,'Salarios OBRA'!$B$7:$I$58,7,FALSE) -> 78643 | J37: =+I37+H37 -> 168643 | K37: 5 | M37: =J37/K37 -> 33728.6
A38: =+PRECIOS!C27 -> AYUDANTE DE OBRA | G38: 1 | H38: =VLOOKUP(A38,'Salarios OBRA'!$B$7:$I$58,4,FALSE) -> 73333 | I38: =VLOOKUP(A38,'Salarios OBRA'!$B$7:$I$58,7,FALSE) -> 65309 | J38: =+I38+H38 -> 138642 | K38: 10 | M38: =J38/K38 -> 13864.2
A40: SUBTOTAL $ | M40: =SUM(M36:M39) -> 90921.4
A42: TOTAL COSTO | M42: =ROUND(M40+M31+M24+M17,0) -> 143751

Sheet 1.2
A2: ANALISIS DE PRECIOS UNITARIOS
A3: ENTIDAD | D3: =+PRESUPUESTO!B3 -> INSTITUTO DE CULTURA Y TURISMO SAN GIL
A4: PROYECTO: | D4: =+PRESUPUESTO!B4 -> ENSAMBLE, MONTAJE E INSTALACIÓN DE ALUMBRADO NAVIDEÑO (ORNAMENTAL Y DECORATIVO) EN LAS INSTALACIONES DEL PARQUE NATURAL EL GALLINERAL DEL MUNICIPIO DE SAN GIL, SANTANDER
A5: =+[1]AIU!$B$6 -> PROCESO
A6: LOCALIZACION: | D6: =[2]INFORMACION!$A$6 -> SAN GIL, SANTANDER | H6: FECHA: | I6: 46296
A8: ITEM | B8: DESCRIPCIÓN | K8: UNIDAD | M8: CANTIDAD
A9: =+PRESUPUESTO!A8 -> 1.1 | B9: =PRESUPUESTO!B9 -> Ubicación y conexión electrica de tarjeta navideña del municipio. | K9: =+PRESUPUESTO!C8 -> UND | M9: =+PRESUPUESTO!D8 -> 8
A10: I. EQUIPO
A13: DESCRIPCIÓN | F13: MARCA | H13: TIPO | J13: TARIFA/HORA | K13: RENDIMIENTO | M13: Vr. UNITARIO
A14: HERRAMIENTA MENOR | J14: 65800 | K14: 0.1 | M14: =J14*K14 -> 6580
A15: =+PRECIOS!C14 -> TALADRO (electrico) | J15: =+PRECIOS!J14 -> 50000 | K15: 8 | M15: =+J15/K15 -> 6250
A17: SUBTOTAL $ | M17: =SUM(M14:M16) -> 12830
A18: II. MATERIALES
A21: DESCRIPCIÓN | I21: UNIDAD | J21: CANTIDAD | K21: PRECIO UNIT. | M21: Vr. UNITARIO
M22: =J22*K22 -> 0
A24: SUBTOTAL $ | M24: =SUM(M22:M23) -> 0
A25: III. TRANSPORTES
A28: MATERIAL | H28: VOL. o PESO | I28: DISTANCIA/RENDIMIENTO | J28: M3 o Ton/Km | K28: TARIFA | M28: Vr. UNITARIO
A29: =+PRECIOS!C21 -> TRANSPORTE TIPO ACARREO | H29: 1 | I29: 0.1 | K29: =+PRECIOS!J21 -> 80000 | M29: =+K29*I29*H29 -> 8000
A31: SUBTOTAL $ | M31: =SUM(M29:M30) -> 8000
A32: IV. MANO DE OBRA
A35: TRABAJADOR | G35: CANT. | H35: JORNAL | I35: PRESTACIONES | J35: JORNAL TOTAL | K35: RENDIMIENTO | M35: Vr. UNITARIO
A36: =+PRECIOS!C30 -> OFICIAL ELECTRICISTA | G36: 1 | H36: =VLOOKUP(A36,'Salarios OBRA'!$B$7:$I$58,4,FALSE) -> 116667 | I36: =VLOOKUP(A36,'Salarios OBRA'!$B$7:$I$58,7,FALSE) -> 99976 | J36: =+I36+H36 -> 216643 | K36: 5 | M36: =J36/K36 -> 43328.6
A37: =+PRECIOS!C31 -> AYUDANTE ELECTRICIDAD | G37: 1 | H37: =VLOOKUP(A37,'Salarios OBRA'!$B$7:$I$58,4,FALSE) -> 90000 | I37: =VLOOKUP(A37,'Salarios OBRA'!$B$7:$I$58,7,FALSE) -> 78643 | J37: =+I37+H37 -> 168643 | K37: 5 | M37: =J37/K37 -> 33728.6
A38: =+PRECIOS!C27 -> AYUDANTE DE OBRA | G38: 1 | H38: =VLOOKUP(A38,'Salarios OBRA'!$B$7:$I$58,4,FALSE) -> 73333 | I38: =VLOOKUP(A38,'Salarios OBRA'!$B$7:$I$58,7,FALSE) -> 65309 | J38: =+I38+H38 -> 138642 | K38: 10 | M38: =J38/K38 -> 13864.2
A40: SUBTOTAL $ | M40: =SUM(M36:M39) -> 90921.4
A42: TOTAL COSTO | M42: =ROUND(M40+M31+M24+M17,0) -> 111751

Sheet 2.1
A2: ANALISIS DE PRECIOS UNITARIOS
A3: ENTIDAD | D3: =+PRESUPUESTO!B3 -> INSTITUTO DE CULTURA Y TURISMO SAN GIL
A4: PROYECTO: | D4: =+PRESUPUESTO!B4 -> ENSAMBLE, MONTAJE E INSTALACIÓN DE ALUMBRADO NAVIDEÑO (ORNAMENTAL Y DECORATIVO) EN LAS INSTALACIONES DEL PARQUE NATURAL EL GALLINERAL DEL MUNICIPIO DE SAN GIL, SANTANDER
A5: =+[1]AIU!$B$6 -> PROCESO
A6: LOCALIZACION: | D6: =[2]INFORMACION!$A$6 -> SAN GIL, SANTANDER | H6: FECHA: | I6: 46296
A8: ITEM | B8: DESCRIPCIÓN | K8: UNIDAD | M8: CANTIDAD
A9: 2 | B9: =PRESUPUESTO!B11 -> Suministro e instalacion de la Decoracion de cuatro (4) ramas de arbol central del puente, con luces tipo lluvia color calida. Voltaje 110 v, color cable cristal.Extension de 10 mts | K9: =PRESUPUESTO!C11 -> UND | M9: =PRESUPUESTO!D11 -> 4
A10: I. EQUIPO
A13: DESCRIPCIÓN | F13: MARCA | H13: TIPO | J13: TARIFA/HORA | K13: RENDIMIENTO | M13: Vr. UNITARIO
A14: HERRAMIENTA MENOR | J14: =M40 -> 81678.6 | K14: 0.05 | M14: =J14*K14 -> 4083.93
A15: =+PRECIOS!C14 -> TALADRO (electrico) | J15: =+PRECIOS!J15 -> 50000 | K15: 6 | M15: =+J15/K15 -> 8333.3333
A17: SUBTOTAL $ | M17: =SUM(M14:M16) -> 12417.263
A18: II. MATERIALES
A21: DESCRIPCIÓN | I21: UNIDAD | J21: CANTIDAD | K21: PRECIO UNIT. | M21: Vr. UNITARIO
A22: luces tipo lluvia LED de 110 V, luz cálida y cable transparente | I22: M | J22: 10 | K22: 8990 | M22: =J22*K22 -> 89900
A24: SUBTOTAL $ | M24: =SUM(M22:M23) -> 89900
A25: III. TRANSPORTES
A28: MATERIAL | H28: VOL. o PESO | I28: DISTANCIA/RENDIMIENTO | J28: M3 o Ton/Km | K28: TARIFA | M28: Vr. UNITARIO
A29: =+PRECIOS!C21 -> TRANSPORTE TIPO ACARREO | H29: 1 | I29: 0.5 | K29: =+PRECIOS!J21 -> 80000 | M29: =+K29*I29*H29 -> 40000
A31: SUBTOTAL $ | M31: =SUM(M29:M30) -> 40000 | Q31: 2.1
A32: IV. MANO DE OBRA
A35: TRABAJADOR | G35: CANT. | H35: JORNAL | I35: PRESTACIONES | J35: JORNAL TOTAL | K35: RENDIMIENTO | M35: Vr. UNITARIO
A36: =+PRECIOS!C30 -> OFICIAL ELECTRICISTA | G36: 1 | H36: =VLOOKUP(A36,'Salarios OBRA'!$B$7:$I$58,4,FALSE) -> 116667 | I36: =VLOOKUP(A36,'Salarios OBRA'!$B$7:$I$58,7,FALSE) -> 99976 | J36: =+I36+H36 -> 216643 | K36: 5 | M36: =J36/K36 -> 43328.6
A37: =+PRECIOS!C31 -> AYUDANTE ELECTRICIDAD | G37: 1 | H37: =VLOOKUP(A37,'Salarios OBRA'!$B$7:$I$58,4,FALSE) -> 90000 | I37: =VLOOKUP(A37,'Salarios OBRA'!$B$7:$I$58,7,FALSE) -> 78643 | J37: =+I37+H37 -> 168643 | K37: 5 | M37: =J37/K37 -> 33728.6
A38: =+PRECIOS!C27 -> AYUDANTE DE OBRA | G38: 1 | H38: =VLOOKUP(A38,'Salarios OBRA'!$B$7:$I$58,4,FALSE) -> 73333 | I38: =VLOOKUP(A38,'Salarios OBRA'!$B$7:$I$58,7,FALSE) -> 65309 | J38: =+I38+H38 -> 138642 | K38: 30 | M38: =J38/K38 -> 4621.4
A40: SUBTOTAL $ | M40: =SUM(M36:M39) -> 81678.6
A42: TOTAL COSTO | M42: =ROUND(M40+M31+M24+M17,0) -> 223996

Sheet 2.2
A2: ANALISIS DE PRECIOS UNITARIOS
A3: ENTIDAD | D3: =+PRESUPUESTO!B3 -> INSTITUTO DE CULTURA Y TURISMO SAN GIL
A4: PROYECTO: | D4: =+PRESUPUESTO!B4 -> ENSAMBLE, MONTAJE E INSTALACIÓN DE ALUMBRADO NAVIDEÑO (ORNAMENTAL Y DECORATIVO) EN LAS INSTALACIONES DEL PARQUE NATURAL EL GALLINERAL DEL MUNICIPIO DE SAN GIL, SANTANDER
A5: =+[1]AIU!$B$6 -> PROCESO
A6: LOCALIZACION: | D6: =[2]INFORMACION!$A$6 -> SAN GIL, SANTANDER | H6: FECHA: | I6: 46296
A8: ITEM | B8: DESCRIPCIÓN | K8: UNIDAD | M8: CANTIDAD
A9: 2.2 | K9: =+VLOOKUP(A9,PRESUPUESTO!$A$6:$F$93,3,FALSE) -> UND | M9: =+VLOOKUP(A9,PRESUPUESTO!$A$6:$F$93,4,FALSE) -> 4
A10: I. EQUIPO
A13: DESCRIPCIÓN | F13: MARCA | H13: TIPO | J13: TARIFA/HORA | K13: RENDIMIENTO | M13: Vr. UNITARIO
A14: HERRAMIENTA MENOR | J14: =M40 -> 81389.762 | K14: 0.05 | M14: =J14*K14 -> 4069.4881
A15: =+PRECIOS!C14 -> TALADRO (electrico) | J15: =+PRECIOS!J15 -> 50000 | K15: 6 | M15: =+J15/K15 -> 8333.3333
A17: SUBTOTAL $ | M17: =SUM(M14:M16) -> 12402.821
A18: II. MATERIALES
A21: DESCRIPCIÓN | I21: UNIDAD | J21: CANTIDAD | K21: PRECIO UNIT. | M21: Vr. UNITARIO
A24: SUBTOTAL $ | M24: =SUM(M22:M23) -> 0
A25: III. TRANSPORTES
A28: MATERIAL | H28: VOL. o PESO | I28: DISTANCIA/RENDIMIENTO | J28: M3 o Ton/Km | K28: TARIFA | M28: Vr. UNITARIO
A29: =+PRECIOS!C21 -> TRANSPORTE TIPO ACARREO | H29: 1 | I29: 0.22 | K29: =+PRECIOS!J21 -> 80000 | M29: =+K29*I29*H29 -> 17600
A31: SUBTOTAL $ | M31: =SUM(M29:M30) -> 17600
A32: IV. MANO DE OBRA
A35: TRABAJADOR | G35: CANT. | H35: JORNAL | I35: PRESTACIONES | J35: JORNAL TOTAL | K35: RENDIMIENTO | M35: Vr. UNITARIO
A36: =+PRECIOS!C30 -> OFICIAL ELECTRICISTA | G36: 1 | H36: =VLOOKUP(A36,'Salarios OBRA'!$B$7:$I$58,4,FALSE) -> 116667 | I36: =VLOOKUP(A36,'Salarios OBRA'!$B$7:$I$58,7,FALSE) -> 99976 | J36: =+I36+H36 -> 216643 | K36: 5 | M36: =J36/K36 -> 43328.6
A37: =+PRECIOS!C31 -> AYUDANTE ELECTRICIDAD | G37: 1 | H37: =VLOOKUP(A37,'Salarios OBRA'!$B$7:$I$58,4,FALSE) -> 90000 | I37: =VLOOKUP(A37,'Salarios OBRA'!$B$7:$I$58,7,FALSE) -> 78643 | J37: =+I37+H37 -> 168643 | K37: 5 | M37: =J37/K37 -> 33728.6
A38: =+PRECIOS!C27 -> AYUDANTE DE OBRA | G38: 1 | H38: =VLOOKUP(A38,'Salarios OBRA'!$B$7:$I$58,4,FALSE) -> 73333 | I38: =VLOOKUP(A38,'Salarios OBRA'!$B$7:$I$58,7,FALSE) -> 65309 | J38: =+I38+H38 -> 138642 | K38: 32 | M38: =J38/K38 -> 4332.5625
A40: SUBTOTAL $ | M40: =SUM(M36:M39) -> 81389.762
A42: TOTAL COSTO | M42: =ROUND(M40+M31+M24+M17,0) -> 111393

Sheet 2.3
A2: ANALISIS DE PRECIOS UNITARIOS
A3: ENTIDAD | D3: =+PRESUPUESTO!B3 -> INSTITUTO DE CULTURA Y TURISMO SAN GIL
A4: PROYECTO: | D4: =+PRESUPUESTO!B4 -> ENSAMBLE, MONTAJE E INSTALACIÓN DE ALUMBRADO NAVIDEÑO (ORNAMENTAL Y DECORATIVO) EN LAS INSTALACIONES DEL PARQUE NATURAL EL GALLINERAL DEL MUNICIPIO DE SAN GIL, SANTANDER
A5: =+[1]AIU!$B$6 -> PROCESO
A6: LOCALIZACION: | D6: =[2]INFORMACION!$A$6 -> SAN GIL, SANTANDER | H6: FECHA: | I6: 46296
A8: ITEM | B8: DESCRIPCIÓN | K8: UNIDAD | M8: CANTIDAD
A9: 2.3 | B9: =PRESUPUESTO!B13 -> Suministro e instalacion de extension tipo lluvia, en el perimetro lineal derecho e izquierdo del puente. Extension de 10 mts. Perimetro total a cubrir 40 mts. | K9: =+VLOOKUP(A9,PRESUPUESTO!$A$6:$F$93,3,FALSE) -> UND | M9: =+VLOOKUP(A9,PRESUPUESTO!$A$6:$F$93,4,FALSE) -> 4
A10: I. EQUIPO
A13: DESCRIPCIÓN | F13: MARCA | H13: TIPO | J13: TARIFA/HORA | K13: RENDIMIENTO | M13: Vr. UNITARIO
A14: HERRAMIENTA MENOR | J14: =M40 -> 22730.35 | K14: 0.05 | M14: =J14*K14 -> 1136.5175
A15: =+PRECIOS!C14 -> TALADRO (electrico) | J15: =+PRECIOS!J15 -> 50000 | K15: 6 | M15: =+J15/K15 -> 8333.3333
A17: SUBTOTAL $ | M17: =SUM(M14:M16) -> 9469.8508
A18: II. MATERIALES
A21: DESCRIPCIÓN | I21: UNIDAD | J21: CANTIDAD | K21: PRECIO UNIT. | M21: Vr. UNITARIO
A22: Extension Tipo Lluvia | I22: M | J22: 40 | K22: 3100 | M22: =J22*K22 -> 124000
A24: SUBTOTAL $ | M24: =SUM(M22:M23) -> 124000
A25: III. TRANSPORTES
A28: MATERIAL | H28: VOL. o PESO | I28: DISTANCIA/RENDIMIENTO | J28: M3 o Ton/Km | K28: TARIFA | M28: Vr. UNITARIO
A29: =+PRECIOS!C21 -> TRANSPORTE TIPO ACARREO | H29: 1 | I29: 0.15 | K29: =+PRECIOS!J21 -> 80000 | M29: =+K29*I29*H29 -> 12000
A31: SUBTOTAL $ | M31: =SUM(M29:M30) -> 12000
A32: IV. MANO DE OBRA
A35: TRABAJADOR | G35: CANT. | H35: JORNAL | I35: PRESTACIONES | J35: JORNAL TOTAL | K35: RENDIMIENTO | M35: Vr. UNITARIO
A36: =+PRECIOS!C30 -> OFICIAL ELECTRICISTA | G36: 1 | H36: =VLOOKUP(A36,'Salarios OBRA'!$B$7:$I$58,4,FALSE) -> 116667 | I36: =VLOOKUP(A36,'Salarios OBRA'!$B$7:$I$58,7,FALSE) -> 99976 | J36: =+I36+H36 -> 216643 | K36: 20 | M36: =J36/K36 -> 10832.15
A37: =+PRECIOS!C31 -> AYUDANTE ELECTRICIDAD | G37: 1 | H37: =VLOOKUP(A37,'Salarios OBRA'!$B$7:$I$58,4,FALSE) -> 90000 | I37: =VLOOKUP(A37,'Salarios OBRA'!$B$7:$I$58,7,FALSE) -> 78643 | J37: =+I37+H37 -> 168643 | K37: 20 | M37: =J37/K37 -> 8432.15
A38: =+PRECIOS!C27 -> AYUDANTE DE OBRA | G38: 1 | H38: =VLOOKUP(A38,'Salarios OBRA'!$B$7:$I$58,4,FALSE) -> 73333 | I38: =VLOOKUP(A38,'Salarios OBRA'!$B$7:$I$58,7,FALSE) -> 65309 | J38: =+I38+H38 -> 138642 | K38: 40 | M38: =J38/K38 -> 3466.05
A40: SUBTOTAL $ | M40: =SUM(M36:M39) -> 22730.35
A42: TOTAL COSTO | M42: =ROUND(M40+M31+M24+M17,0) -> 168200

Sheet 3.1
A2: ANALISIS DE PRECIOS UNITARIOS
A3: ENTIDAD | D3: =+PRESUPUESTO!B3 -> INSTITUTO DE CULTURA Y TURISMO SAN GIL
A4: PROYECTO: | D4: =+PRESUPUESTO!B4 -> ENSAMBLE, MONTAJE E INSTALACIÓN DE ALUMBRADO NAVIDEÑO (ORNAMENTAL Y DECORATIVO) EN LAS INSTALACIONES DEL PARQUE NATURAL EL GALLINERAL DEL MUNICIPIO DE SAN GIL, SANTANDER
A5: =+[1]AIU!$B$6 -> PROCESO
A6: LOCALIZACION: | D6: =[2]INFORMACION!$A$6 -> SAN GIL, SANTANDER | H6: FECHA: | I6: 46296
A8: ITEM | B8: DESCRIPCIÓN | K8: UNIDAD | M8: CANTIDAD
A9: 3.1 | B9: =+VLOOKUP(A9,PRESUPUESTO!$A$6:$F$93,2,FALSE) -> Suministro e instalacion de Estructura metalica en varilla de 7 mm; en forma de Reno y forrado en tela bombril dorada; con iluminacion de luz led calida, voltaje 110 v. medida Altura maxima 1,20 mts. | K9: =+VLOOKUP(A9,PRESUPUESTO!$A$6:$F$93,3,FALSE) -> UND | M9: =+VLOOKUP(A9,PRESUPUESTO!$A$6:$F$93,4,FALSE) -> 2
A10: I. EQUIPO
A13: DESCRIPCIÓN | F13: MARCA | H13: TIPO | J13: TARIFA/HORA | K13: RENDIMIENTO | M13: Vr. UNITARIO
A14: HERRAMIENTA MENOR | J14: =M40 -> 86300 | K14: 0.3 | M14: =J14*K14 -> 25890
A15: =+PRECIOS!C14 -> TALADRO (electrico) | J15: =+PRECIOS!J15 -> 50000 | K15: 12 | M15: =+J15/K15 -> 4166.6667
A17: SUBTOTAL $ | M17: =SUM(M14:M16) -> 30056.667
A18: II. MATERIALES
A21: DESCRIPCIÓN | I21: UNIDAD | J21: CANTIDAD | K21: PRECIO UNIT. | M21: Vr. UNITARIO
A22: Estructura metalica en varilla de 7 mm; en forma de Reno y forrado en tela bombril dorada; | I22: UNIDAD | J22: 1 | K22: 310000 | M22: =J22*K22 -> 310000
A23: iluminacion de luz led calida | I23: m | J23: 20 | K23: 4850 | M23: =J23*K23 -> 97000
A24: SUBTOTAL $ | M24: =SUM(M22:M23) -> 407000
A25: III. TRANSPORTES
A28: MATERIAL | H28: VOL. o PESO | I28: DISTANCIA/RENDIMIENTO | J28: M3 o Ton/Km | K28: TARIFA | M28: Vr. UNITARIO
A29: =+PRECIOS!C21 -> TRANSPORTE TIPO ACARREO | H29: 1 | I29: 0.65 | K29: =+PRECIOS!J21 -> 80000 | M29: =+K29*I29*H29 -> 52000
A31: SUBTOTAL $ | M31: =SUM(M29:M30) -> 52000
A32: IV. MANO DE OBRA
A35: TRABAJADOR | G35: CANT. | H35: JORNAL | I35: PRESTACIONES | J35: JORNAL TOTAL | K35: RENDIMIENTO | M35: Vr. UNITARIO
A36: =+PRECIOS!C30 -> OFICIAL ELECTRICISTA | G36: 1 | H36: =VLOOKUP(A36,'Salarios OBRA'!$B$7:$I$58,4,FALSE) -> 116667 | I36: =VLOOKUP(A36,'Salarios OBRA'!$B$7:$I$58,7,FALSE) -> 99976 | J36: =+I36+H36 -> 216643 | K36: 5 | M36: =J36/K36 -> 43328.6
A37: =+PRECIOS!C31 -> AYUDANTE ELECTRICIDAD | G37: 1 | H37: =VLOOKUP(A37,'Salarios OBRA'!$B$7:$I$58,4,FALSE) -> 90000 | I37: =VLOOKUP(A37,'Salarios OBRA'!$B$7:$I$58,7,FALSE) -> 78643 | J37: =+I37+H37 -> 168643 | K37: 5 | M37: =J37/K37 -> 33728.6
A38: =+PRECIOS!C27 -> AYUDANTE DE OBRA | G38: 1 | H38: =VLOOKUP(A38,'Salarios OBRA'!$B$7:$I$58,4,FALSE) -> 73333 | I38: =VLOOKUP(A38,'Salarios OBRA'!$B$7:$I$58,7,FALSE) -> 65309 | J38: =+I38+H38 -> 138642 | K38: 15 | M38: =J38/K38 -> 9242.8
A40: SUBTOTAL $ | M40: =SUM(M36:M39) -> 86300
A42: TOTAL COSTO | M42: =ROUND(M40+M31+M24+M17,0) -> 575357

Sheet 3.2
A2: ANALISIS DE PRECIOS UNITARIOS
A3: ENTIDAD | D3: =+PRESUPUESTO!B3 -> INSTITUTO DE CULTURA Y TURISMO SAN GIL
A4: PROYECTO: | D4: =+PRESUPUESTO!B4 -> ENSAMBLE, MONTAJE E INSTALACIÓN DE ALUMBRADO NAVIDEÑO (ORNAMENTAL Y DECORATIVO) EN LAS INSTALACIONES DEL PARQUE NATURAL EL GALLINERAL DEL MUNICIPIO DE SAN GIL, SANTANDER
A5: =+[1]AIU!$B$6 -> PROCESO
A6: LOCALIZACION: | D6: =[2]INFORMACION!$A$6 -> SAN GIL, SANTANDER | H6: FECHA: | I6: 46296
A8: ITEM | B8: DESCRIPCIÓN | K8: UNIDAD | M8: CANTIDAD
A9: 3.2 | B9: =+VLOOKUP(A9,PRESUPUESTO!$A$6:$F$93,2,FALSE) -> Suministro e instalacion de Estructura metalica en varilla de 7 mm; en forma de regalo, medidas 70 cms, forrado con tela bombril, colores dorado y rojo e iluminado con luz le calida. 110 voltios, color cable cristal. | K9: =+VLOOKUP(A9,PRESUPUESTO!$A$6:$F$93,3,FALSE) -> UND | M9: =+VLOOKUP(A9,PRESUPUESTO!$A$6:$F$93,4,FALSE) -> 10
A10: I. EQUIPO
A13: DESCRIPCIÓN | F13: MARCA | H13: TIPO | J13: TARIFA/HORA | K13: RENDIMIENTO | M13: Vr. UNITARIO
A14: HERRAMIENTA MENOR | J14: =M40 -> 23885.7 | K14: 0.3 | M14: =J14*K14 -> 7165.71
A15: =+PRECIOS!C14 -> TALADRO (electrico) | J15: =+PRECIOS!J15 -> 50000 | K15: 12 | M15: =+J15/K15 -> 4166.6667
A17: SUBTOTAL $ | M17: =SUM(M14:M16) -> 11332.377
A18: II. MATERIALES
A21: DESCRIPCIÓN | I21: UNIDAD | J21: CANTIDAD | K21: PRECIO UNIT. | M21: Vr. UNITARIO
A22: Estructura metalica en varilla de 7 mm; forrado en tela bombril dorada; | I22: UNIDAD | J22: 10 | K22: 15000 | M22: =J22*K22 -> 150000
A23: iluminacion de luz led calida | I23: m | J23: 20 | K23: 4500 | M23: =J23*K23 -> 90000
A24: SUBTOTAL $ | M24: =SUM(M22:M23) -> 240000
A25: III. TRANSPORTES
A28: MATERIAL | H28: VOL. o PESO | I28: DISTANCIA/RENDIMIENTO | J28: M3 o Ton/Km | K28: TARIFA | M28: Vr. UNITARIO
A29: =+PRECIOS!C21 -> TRANSPORTE TIPO ACARREO | H29: 1 | I29: 0.2 | K29: =+PRECIOS!J21 -> 80000 | M29: =+K29*I29*H29 -> 16000
A31: SUBTOTAL $ | M31: =SUM(M29:M30) -> 16000
A32: IV. MANO DE OBRA
A35: TRABAJADOR | G35: CANT. | H35: JORNAL | I35: PRESTACIONES | J35: JORNAL TOTAL | K35: RENDIMIENTO | M35: Vr. UNITARIO
A36: =+PRECIOS!C30 -> OFICIAL ELECTRICISTA | G36: 1 | H36: =VLOOKUP(A36,'Salarios OBRA'!$B$7:$I$58,4,FALSE) -> 116667 | I36: =VLOOKUP(A36,'Salarios OBRA'!$B$7:$I$58,7,FALSE) -> 99976 | J36: =+I36+H36 -> 216643 | K36: 20 | M36: =J36/K36 -> 10832.15
A37: =+PRECIOS!C31 -> AYUDANTE ELECTRICIDAD | G37: 1 | H37: =VLOOKUP(A37,'Salarios OBRA'!$B$7:$I$58,4,FALSE) -> 90000 | I37: =VLOOKUP(A37,'Salarios OBRA'!$B$7:$I$58,7,FALSE) -> 78643 | J37: =+I37+H37 -> 168643 | K37: 20 | M37: =J37/K37 -> 8432.15
A38: =+PRECIOS!C27 -> AYUDANTE DE OBRA | G38: 1 | H38: =VLOOKUP(A38,'Salarios OBRA'!$B$7:$I$58,4,FALSE) -> 73333 | I38: =VLOOKUP(A38,'Salarios OBRA'!$B$7:$I$58,7,FALSE) -> 65309 | J38: =+I38+H38 -> 138642 | K38: 30 | M38: =J38/K38 -> 4621.4
A40: SUBTOTAL $ | M40: =SUM(M36:M39) -> 23885.7
A42: TOTAL COSTO | M42: =ROUND(M40+M31+M24+M17,0) -> 291218

Sheet 3.3.
A2: ANALISIS DE PRECIOS UNITARIOS
A3: ENTIDAD | D3: =+PRESUPUESTO!B3 -> INSTITUTO DE CULTURA Y TURISMO SAN GIL
A4: PROYECTO: | D4: =+PRESUPUESTO!B4 -> ENSAMBLE, MONTAJE E INSTALACIÓN DE ALUMBRADO NAVIDEÑO (ORNAMENTAL Y DECORATIVO) EN LAS INSTALACIONES DEL PARQUE NATURAL EL GALLINERAL DEL MUNICIPIO DE SAN GIL, SANTANDER
A5: =+[1]AIU!$B$6 -> PROCESO
A6: LOCALIZACION: | D6: =[2]INFORMACION!$A$6 -> SAN GIL, SANTANDER | H6: FECHA: | I6: 46296
A8: ITEM | B8: DESCRIPCIÓN | K8: UNIDAD | M8: CANTIDAD
A9: 3.3 | B9: =+VLOOKUP(A9,PRESUPUESTO!$A$6:$F$93,2,FALSE) -> Suministro e instalacion de Estructura metalica en varilla de 7 mm; en forma de estrella , medidas 60 cms, forrado con tela bombril, colores dorado e iluminado con luz le calida. 110 voltios, color cable cristal. | K9: =+VLOOKUP(A9,PRESUPUESTO!$A$6:$F$93,3,FALSE) -> UND | M9: =+VLOOKUP(A9,PRESUPUESTO!$A$6:$F$93,4,FALSE) -> 24
A10: I. EQUIPO
A13: DESCRIPCIÓN | F13: MARCA | H13: TIPO | J13: TARIFA/HORA | K13: RENDIMIENTO | M13: Vr. UNITARIO
A14: HERRAMIENTA MENOR | J14: =M40 -> 80523.25 | K14: 0.21 | M14: =J14*K14 -> 16909.882
A15: =+PRECIOS!C14 -> TALADRO (electrico)
A17: SUBTOTAL $ | M17: =SUM(M14:M16) -> 16909.882
A18: II. MATERIALES
A21: DESCRIPCIÓN | I21: UNIDAD | J21: CANTIDAD | K21: PRECIO UNIT. | M21: Vr. UNITARIO
A22: Estructura metalica en varilla de 7 mm; forrado en tela bombril dorada; | I22: UNIDAD | J22: 15 | K22: 17500 | M22: =J22*K22 -> 262500
A23: iluminacion de luz led calida | I23: m | J23: 15 | K23: 4400 | M23: =J23*K23 -> 66000
A24: SUBTOTAL $ | M24: =SUM(M22:M23) -> 328500
A25: III. TRANSPORTES
A28: MATERIAL | H28: VOL. o PESO | I28: DISTANCIA/RENDIMIENTO | J28: M3 o Ton/Km | K28: TARIFA | M28: Vr. UNITARIO
A29: =+PRECIOS!C21 -> TRANSPORTE TIPO ACARREO | H29: 1 | I29: 0.2 | K29: =+PRECIOS!J21 -> 80000 | M29: =+K29*I29*H29 -> 16000
A31: SUBTOTAL $ | M31: =SUM(M29:M30) -> 16000
A32: IV. MANO DE OBRA
A35: TRABAJADOR | G35: CANT. | H35: JORNAL | I35: PRESTACIONES | J35: JORNAL TOTAL | K35: RENDIMIENTO | M35: Vr. UNITARIO
A36: =+PRECIOS!C30 -> OFICIAL ELECTRICISTA | G36: 1 | H36: =VLOOKUP(A36,'Salarios OBRA'!$B$7:$I$58,4,FALSE) -> 116667 | I36: =VLOOKUP(A36,'Salarios OBRA'!$B$7:$I$58,7,FALSE) -> 99976 | J36: =+I36+H36 -> 216643 | K36: 5 | M36: =J36/K36 -> 43328.6
A37: =+PRECIOS!C31 -> AYUDANTE ELECTRICIDAD | G37: 1 | H37: =VLOOKUP(A37,'Salarios OBRA'!$B$7:$I$58,4,FALSE) -> 90000 | I37: =VLOOKUP(A37,'Salarios OBRA'!$B$7:$I$58,7,FALSE) -> 78643 | J37: =+I37+H37 -> 168643 | K37: 5 | M37: =J37/K37 -> 33728.6
A38: =+PRECIOS!C27 -> AYUDANTE DE OBRA | G38: 1 | H38: =VLOOKUP(A38,'Salarios OBRA'!$B$7:$I$58,4,FALSE) -> 73333 | I38: =VLOOKUP(A38,'Salarios OBRA'!$B$7:$I$58,7,FALSE) -> 65309 | J38: =+I38+H38 -> 138642 | K38: 40 | M38: =J38/K38 -> 3466.05
A40: SUBTOTAL $ | M40: =SUM(M36:M39) -> 80523.25
A42: TOTAL COSTO | M42: =ROUND(M40+M31+M24+M17,0) -> 441933

Sheet 3.4
A2: ANALISIS DE PRECIOS UNITARIOS
A3: ENTIDAD | D3: =+PRESUPUESTO!B3 -> INSTITUTO DE CULTURA Y TURISMO SAN GIL
A4: PROYECTO: | D4: =+PRESUPUESTO!B4 -> ENSAMBLE, MONTAJE E INSTALACIÓN DE ALUMBRADO NAVIDEÑO (ORNAMENTAL Y DECORATIVO) EN LAS INSTALACIONES DEL PARQUE NATURAL EL GALLINERAL DEL MUNICIPIO DE SAN GIL, SANTANDER
A5: =+[1]AIU!$B$6 -> PROCESO
A6: LOCALIZACION: | D6: =[2]INFORMACION!$A$6 -> SAN GIL, SANTANDER | H6: FECHA: | I6: 46296
A8: ITEM | B8: DESCRIPCIÓN | K8: UNIDAD | M8: CANTIDAD
A9: 3.3 | B9: =+VLOOKUP(A9,PRESUPUESTO!$A$6:$F$93,2,FALSE) -> Suministro e instalacion de Estructura metalica en varilla de 7 mm; en forma de estrella , medidas 60 cms, forrado con tela bombril, colores dorado e iluminado con luz le calida. 110 voltios, color cable cristal. | K9: =+VLOOKUP(A9,PRESUPUESTO!$A$6:$F$93,3,FALSE) -> UND | M9: =+VLOOKUP(A9,PRESUPUESTO!$A$6:$F$93,4,FALSE) -> 24
A10: I. EQUIPO
A13: DESCRIPCIÓN | F13: MARCA | H13: TIPO | J13: TARIFA/HORA | K13: RENDIMIENTO | M13: Vr. UNITARIO
A14: HERRAMIENTA MENOR | J14: =M40 -> 80523.25 | K14: 0.2 | M14: =J14*K14 -> 16104.65
A15: =+PRECIOS!C14 -> TALADRO (electrico)
A17: SUBTOTAL $ | M17: =SUM(M14:M16) -> 16104.65
A18: II. MATERIALES
A21: DESCRIPCIÓN | I21: UNIDAD | J21: CANTIDAD | K21: PRECIO UNIT. | M21: Vr. UNITARIO
A22: Estructura metalica en varilla de 7 mm; forrado en tela bombril dorada; | I22: UNIDAD | J22: 24 | K22: 10500 | M22: =J22*K22 -> 252000
A23: iluminacion de luz led calida | I23: m | J23: 8 | K23: 4500 | M23: =J23*K23 -> 36000
A24: SUBTOTAL $ | M24: =SUM(M22:M23) -> 288000
A25: III. TRANSPORTES
A28: MATERIAL | H28: VOL. o PESO | I28: DISTANCIA/RENDIMIENTO | J28: M3 o Ton/Km | K28: TARIFA | M28: Vr. UNITARIO
A29: =+PRECIOS!C21 -> TRANSPORTE TIPO ACARREO | H29: 1 | I29: 0.2 | K29: =+PRECIOS!J21 -> 80000 | M29: =+K29*I29*H29 -> 16000
A31: SUBTOTAL $ | M31: =SUM(M29:M30) -> 16000
A32: IV. MANO DE OBRA
A35: TRABAJADOR | G35: CANT. | H35: JORNAL | I35: PRESTACIONES | J35: JORNAL TOTAL | K35: RENDIMIENTO | M35: Vr. UNITARIO
A36: =+PRECIOS!C30 -> OFICIAL ELECTRICISTA | G36: 1 | H36: =VLOOKUP(A36,'Salarios OBRA'!$B$7:$I$58,4,FALSE) -> 116667 | I36: =VLOOKUP(A36,'Salarios OBRA'!$B$7:$I$58,7,FALSE) -> 99976 | J36: =+I36+H36 -> 216643 | K36: 5 | M36: =J36/K36 -> 43328.6
A37: =+PRECIOS!C31 -> AYUDANTE ELECTRICIDAD | G37: 1 | H37: =VLOOKUP(A37,'Salarios OBRA'!$B$7:$I$58,4,FALSE) -> 90000 | I37: =VLOOKUP(A37,'Salarios OBRA'!$B$7:$I$58,7,FALSE) -> 78643 | J37: =+I37+H37 -> 168643 | K37: 5 | M37: =J37/K37 -> 33728.6
A38: =+PRECIOS!C27 -> AYUDANTE DE OBRA | G38: 1 | H38: =VLOOKUP(A38,'Salarios OBRA'!$B$7:$I$58,4,FALSE) -> 73333 | I38: =VLOOKUP(A38,'Salarios OBRA'!$B$7:$I$58,7,FALSE) -> 65309 | J38: =+I38+H38 -> 138642 | K38: 40 | M38: =J38/K38 -> 3466.05
A40: SUBTOTAL $ | M40: =SUM(M36:M39) -> 80523.25
A42: TOTAL COSTO | M42: =ROUND(M40+M31+M24+M17,0) -> 400628

Sheet 3.5
A2: ANALISIS DE PRECIOS UNITARIOS
A3: ENTIDAD | D3: =+PRESUPUESTO!B3 -> INSTITUTO DE CULTURA Y TURISMO SAN GIL
A4: PROYECTO: | D4: =+PRESUPUESTO!B4 -> ENSAMBLE, MONTAJE E INSTALACIÓN DE ALUMBRADO NAVIDEÑO (ORNAMENTAL Y DECORATIVO) EN LAS INSTALACIONES DEL PARQUE NATURAL EL GALLINERAL DEL MUNICIPIO DE SAN GIL, SANTANDER
A5: =+[1]AIU!$B$6 -> PROCESO
A6: LOCALIZACION: | D6: =[2]INFORMACION!$A$6 -> SAN GIL, SANTANDER | H6: FECHA: | I6: 46296
A8: ITEM | B8: DESCRIPCIÓN | K8: UNIDAD | M8: CANTIDAD
A9: 3.5 | B9: =+VLOOKUP(A9,PRESUPUESTO!$A$6:$F$93,2,FALSE) -> Suministro e instalacion de Farol metalico de piso, tubo altura 2,20 mts. Incluye bombillo led luz calida.Incluye bombillo decorativo le, luz calida. Voltaje 4 v.color negro | K9: =+VLOOKUP(A9,PRESUPUESTO!$A$6:$F$93,3,FALSE) -> UND | M9: =+VLOOKUP(A9,PRESUPUESTO!$A$6:$F$93,4,FALSE) -> 7
A10: I. EQUIPO
A13: DESCRIPCIÓN | F13: MARCA | H13: TIPO | J13: TARIFA/HORA | K13: RENDIMIENTO | M13: Vr. UNITARIO
A14: HERRAMIENTA MENOR | J14: =M40 -> 80523.25 | K14: 0.2 | M14: =J14*K14 -> 16104.65
A15: =+PRECIOS!C14 -> TALADRO (electrico)
A17: SUBTOTAL $ | M17: =SUM(M14:M16) -> 16104.65
A18: II. MATERIALES
A21: DESCRIPCIÓN | I21: UNIDAD | J21: CANTIDAD | K21: PRECIO UNIT. | M21: Vr. UNITARIO
A22: Tubo | I22: UNIDAD | J22: 7 | K22: 22000 | M22: =J22*K22 -> 154000
A23: Bombillo | I23: m | J23: 7 | K23: 12500 | M23: =J23*K23 -> 87500
A24: SUBTOTAL $ | M24: =SUM(M22:M23) -> 241500
A25: III. TRANSPORTES
A28: MATERIAL | H28: VOL. o PESO | I28: DISTANCIA/RENDIMIENTO | J28: M3 o Ton/Km | K28: TARIFA | M28: Vr. UNITARIO
A29: =+PRECIOS!C21 -> TRANSPORTE TIPO ACARREO | H29: 1 | I29: 0.2 | K29: =+PRECIOS!J21 -> 80000 | M29: =+K29*I29*H29 -> 16000
A31: SUBTOTAL $ | M31: =SUM(M29:M30) -> 16000
A32: IV. MANO DE OBRA
A35: TRABAJADOR | G35: CANT. | H35: JORNAL | I35: PRESTACIONES | J35: JORNAL TOTAL | K35: RENDIMIENTO | M35: Vr. UNITARIO
A36: =+PRECIOS!C30 -> OFICIAL ELECTRICISTA | G36: 1 | H36: =VLOOKUP(A36,'Salarios OBRA'!$B$7:$I$58,4,FALSE) -> 116667 | I36: =VLOOKUP(A36,'Salarios OBRA'!$B$7:$I$58,7,FALSE) -> 99976 | J36: =+I36+H36 -> 216643 | K36: 5 | M36: =J36/K36 -> 43328.6
A37: =+PRECIOS!C31 -> AYUDANTE ELECTRICIDAD | G37: 1 | H37: =VLOOKUP(A37,'Salarios OBRA'!$B$7:$I$58,4,FALSE) -> 90000 | I37: =VLOOKUP(A37,'Salarios OBRA'!$B$7:$I$58,7,FALSE) -> 78643 | J37: =+I37+H37 -> 168643 | K37: 5 | M37: =J37/K37 -> 33728.6
A38: =+PRECIOS!C27 -> AYUDANTE DE OBRA | G38: 1 | H38: =VLOOKUP(A38,'Salarios OBRA'!$B$7:$I$58,4,FALSE) -> 73333 | I38: =VLOOKUP(A38,'Salarios OBRA'!$B$7:$I$58,7,FALSE) -> 65309 | J38: =+I38+H38 -> 138642 | K38: 40 | M38: =J38/K38 -> 3466.05
A40: SUBTOTAL $ | M40: =SUM(M36:M39) -> 80523.25
A42: TOTAL COSTO | M42: =ROUND(M40+M31+M24+M17,0) -> 354128

Sheet 3.6
A2: ANALISIS DE PRECIOS UNITARIOS
A3: ENTIDAD | D3: =+PRESUPUESTO!B3 -> INSTITUTO DE CULTURA Y TURISMO SAN GIL
A4: PROYECTO: | D4: =+PRESUPUESTO!B4 -> ENSAMBLE, MONTAJE E INSTALACIÓN DE ALUMBRADO NAVIDEÑO (ORNAMENTAL Y DECORATIVO) EN LAS INSTALACIONES DEL PARQUE NATURAL EL GALLINERAL DEL MUNICIPIO DE SAN GIL, SANTANDER
A5: =+[1]AIU!$B$6 -> PROCESO
A6: LOCALIZACION: | D6: =[2]INFORMACION!$A$6 -> SAN GIL, SANTANDER | H6: FECHA: | I6: 46296
A8: ITEM | B8: DESCRIPCIÓN | K8: UNIDAD | M8: CANTIDAD
A9: 3.6 | B9: =+VLOOKUP(A9,PRESUPUESTO!$A$6:$F$93,2,FALSE) -> Suministro de Planta navideña floreada con matera negra plastica | K9: =+VLOOKUP(A9,PRESUPUESTO!$A$6:$F$93,3,FALSE) -> UND | M9: =+VLOOKUP(A9,PRESUPUESTO!$A$6:$F$93,4,FALSE) -> 20
A10: I. EQUIPO
A13: DESCRIPCIÓN | F13: MARCA | H13: TIPO | J13: TARIFA/HORA | K13: RENDIMIENTO | M13: Vr. UNITARIO
M14: =J14*K14 -> 0
A17: SUBTOTAL $ | M17: =SUM(M14:M16) -> 0
A18: II. MATERIALES
A21: DESCRIPCIÓN | I21: UNIDAD | J21: CANTIDAD | K21: PRECIO UNIT. | M21: Vr. UNITARIO
A22: Planta y matera | I22: UNIDAD | J22: 7 | K22: 2800 | M22: =J22*K22 -> 19600
M23: =J23*K23 -> 0
A24: SUBTOTAL $ | M24: =SUM(M22:M23) -> 19600
A25: III. TRANSPORTES
A28: MATERIAL | H28: VOL. o PESO | I28: DISTANCIA/RENDIMIENTO | J28: M3 o Ton/Km | K28: TARIFA | M28: Vr. UNITARIO
A29: =+PRECIOS!C21 -> TRANSPORTE TIPO ACARREO | H29: 1 | I29: 0.05 | K29: =+PRECIOS!J21 -> 80000 | M29: =+K29*I29*H29 -> 4000
A31: SUBTOTAL $ | M31: =SUM(M29:M30) -> 4000
A32: IV. MANO DE OBRA
A35: TRABAJADOR | G35: CANT. | H35: JORNAL | I35: PRESTACIONES | J35: JORNAL TOTAL | K35: RENDIMIENTO | M35: Vr. UNITARIO
A36: =+PRECIOS!C30 -> OFICIAL ELECTRICISTA | G36: 1
A37: =+PRECIOS!C31 -> AYUDANTE ELECTRICIDAD | G37: 1
A38: =+PRECIOS!C27 -> AYUDANTE DE OBRA | G38: 1 | H38: =VLOOKUP(A38,'Salarios OBRA'!$B$7:$I$58,4,FALSE) -> 73333 | I38: =VLOOKUP(A38,'Salarios OBRA'!$B$7:$I$58,7,FALSE) -> 65309 | J38: =+I38+H38 -> 138642 | K38: 50 | M38: =J38/K38 -> 2772.84
A40: SUBTOTAL $ | M40: =SUM(M36:M39) -> 2772.84
A42: TOTAL COSTO | M42: =ROUND(M40+M31+M24+M17,0) -> 26373

Sheet 3.7
A2: ANALISIS DE PRECIOS UNITARIOS
A3: ENTIDAD | D3: =+PRESUPUESTO!B3 -> INSTITUTO DE CULTURA Y TURISMO SAN GIL
A4: PROYECTO: | D4: =+PRESUPUESTO!B4 -> ENSAMBLE, MONTAJE E INSTALACIÓN DE ALUMBRADO NAVIDEÑO (ORNAMENTAL Y DECORATIVO) EN LAS INSTALACIONES DEL PARQUE NATURAL EL GALLINERAL DEL MUNICIPIO DE SAN GIL, SANTANDER
A5: =+[1]AIU!$B$6 -> PROCESO
A6: LOCALIZACION: | D6: =[2]INFORMACION!$A$6 -> SAN GIL, SANTANDER | H6: FECHA: | I6: 46296
A8: ITEM | B8: DESCRIPCIÓN | K8: UNIDAD | M8: CANTIDAD
A9: 3.7 | B9: =+VLOOKUP(A9,PRESUPUESTO!$A$6:$F$93,2,FALSE) -> Iluminacion de arbol con luz lineal calida. Suministro e Instalacion de extension lineal de 100 mts. Voltaje 110 v. cable color cristal. Altura a iluminar 6 (seis) mts de altur | K9: =+VLOOKUP(A9,PRESUPUESTO!$A$6:$F$93,3,FALSE) -> UND | M9: =+VLOOKUP(A9,PRESUPUESTO!$A$6:$F$93,4,FALSE) -> 7
A10: I. EQUIPO
A13: DESCRIPCIÓN | F13: MARCA | H13: TIPO | J13: TARIFA/HORA | K13: RENDIMIENTO | M13: Vr. UNITARIO
A14: HERRAMIENTA MENOR | J14: =M40 -> 80523.25 | K14: 0.2 | M14: =J14*K14 -> 16104.65
A15: =+PRECIOS!C14 -> TALADRO (electrico)
A17: SUBTOTAL $ | M17: =SUM(M14:M16) -> 16104.65
A18: II. MATERIALES
A21: DESCRIPCIÓN | I21: UNIDAD | J21: CANTIDAD | K21: PRECIO UNIT. | M21: Vr. UNITARIO
A22: Extension | I22: M | J22: 7 | K22: 27500 | M22: =J22*K22 -> 192500
K23: 12500 | M23: =J23*K23 -> 0
A24: SUBTOTAL $ | M24: =SUM(M22:M23) -> 192500
A25: III. TRANSPORTES
A28: MATERIAL | H28: VOL. o PESO | I28: DISTANCIA/RENDIMIENTO | J28: M3 o Ton/Km | K28: TARIFA | M28: Vr. UNITARIO
A29: =+PRECIOS!C21 -> TRANSPORTE TIPO ACARREO | H29: 1 | I29: 0.2 | K29: =+PRECIOS!J21 -> 80000 | M29: =+K29*I29*H29 -> 16000
A31: SUBTOTAL $ | M31: =SUM(M29:M30) -> 16000
A32: IV. MANO DE OBRA
A35: TRABAJADOR | G35: CANT. | H35: JORNAL | I35: PRESTACIONES | J35: JORNAL TOTAL | K35: RENDIMIENTO | M35: Vr. UNITARIO
A36: =+PRECIOS!C30 -> OFICIAL ELECTRICISTA | G36: 1 | H36: =VLOOKUP(A36,'Salarios OBRA'!$B$7:$I$58,4,FALSE) -> 116667 | I36: =VLOOKUP(A36,'Salarios OBRA'!$B$7:$I$58,7,FALSE) -> 99976 | J36: =+I36+H36 -> 216643 | K36: 5 | M36: =J36/K36 -> 43328.6
A37: =+PRECIOS!C31 -> AYUDANTE ELECTRICIDAD | G37: 1 | H37: =VLOOKUP(A37,'Salarios OBRA'!$B$7:$I$58,4,FALSE) -> 90000 | I37: =VLOOKUP(A37,'Salarios OBRA'!$B$7:$I$58,7,FALSE) -> 78643 | J37: =+I37+H37 -> 168643 | K37: 5 | M37: =J37/K37 -> 33728.6
A38: =+PRECIOS!C27 -> AYUDANTE DE OBRA | G38: 1 | H38: =VLOOKUP(A38,'Salarios OBRA'!$B$7:$I$58,4,FALSE) -> 73333 | I38: =VLOOKUP(A38,'Salarios OBRA'!$B$7:$I$58,7,FALSE) -> 65309 | J38: =+I38+H38 -> 138642 | K38: 40 | M38: =J38/K38 -> 3466.05
A40: SUBTOTAL $ | M40: =SUM(M36:M39) -> 80523.25
A42: TOTAL COSTO | M42: =ROUND(M40+M31+M24+M17,0) -> 305128

Sheet 3.8
A2: ANALISIS DE PRECIOS UNITARIOS
A3: ENTIDAD | D3: =+PRESUPUESTO!B3 -> INSTITUTO DE CULTURA Y TURISMO SAN GIL
A4: PROYECTO: | D4: =+PRESUPUESTO!B4 -> ENSAMBLE, MONTAJE E INSTALACIÓN DE ALUMBRADO NAVIDEÑO (ORNAMENTAL Y DECORATIVO) EN LAS INSTALACIONES DEL PARQUE NATURAL EL GALLINERAL DEL MUNICIPIO DE SAN GIL, SANTANDER
A5: =+[1]AIU!$B$6 -> PROCESO
A6: LOCALIZACION: | D6: =[2]INFORMACION!$A$6 -> SAN GIL, SANTANDER | H6: FECHA: | I6: 46296
A8: ITEM | B8: DESCRIPCIÓN | K8: UNIDAD | M8: CANTIDAD
A9: 3.8 | B9: =+VLOOKUP(A9,PRESUPUESTO!$A$6:$F$93,2,FALSE) -> Adecuacion que incluye Pintura de estructura metalica, tapizado de las sillas,suministro e instalacion de dos faroles con sus bombillos. Decoracion con follaje y flores navideñas en la cubierta y Suministro e instalacion de Letrereo en Madera y pintura para exterior con Mensaje "NAVIDAD EN EL GALLINERAL" | K9: =+VLOOKUP(A9,PRESUPUESTO!$A$6:$F$93,3,FALSE) -> UND | M9: =+VLOOKUP(A9,PRESUPUESTO!$A$6:$F$93,4,FALSE) -> 1
A10: I. EQUIPO
A13: DESCRIPCIÓN | F13: MARCA | H13: TIPO | J13: TARIFA/HORA | K13: RENDIMIENTO | M13: Vr. UNITARIO
A14: HERRAMIENTA MENOR | J14: =M42 -> 123271.2 | K14: 0.6 | M14: =J14*K14 -> 73962.72
A15: =+PRECIOS!C14 -> TALADRO (electrico)
A16: =PRECIOS!C11 -> ANDAMIO + TABLÓN | J16: =PRECIOS!H11 -> 2500 | K16: 0.5 | M16: =J16*K16 -> 1250
A17: EQUIPO DE TRABAJO EN ALTURA | J17: =PRECIOS!H13 -> 51000 | K17: 0.5 | M17: =J17*K17 -> 25500
A18: SUBTOTAL $ | M18: =SUM(M14:M17) -> 100712.72
A19: II. MATERIALES
A22: DESCRIPCIÓN | I22: UNIDAD | J22: CANTIDAD | K22: PRECIO UNIT. | M22: Vr. UNITARIO
A23: Pintura | I23: M | J23: 1 | K23: 485000 | M23: =J23*K23 -> 485000
A24: Faroles | J24: 2 | K24: 125000 | M24: =J24*K24 -> 250000
A25: letrero en madera | J25: 1 | L25: 550000 | M25: =L25 -> 550000
A26: SUBTOTAL $ | M26: =SUM(M23:M25) -> 1285000
A27: III. TRANSPORTES
A30: MATERIAL | H30: VOL. o PESO | I30: DISTANCIA/RENDIMIENTO | J30: M3 o Ton/Km | K30: TARIFA | M30: Vr. UNITARIO
A31: =+PRECIOS!C21 -> TRANSPORTE TIPO ACARREO | H31: 1 | I31: 0.5 | K31: =+PRECIOS!J21 -> 80000 | M31: =+K31*I31*H31 -> 40000
A33: SUBTOTAL $ | M33: =SUM(M31:M32) -> 40000
A34: IV. MANO DE OBRA
A37: TRABAJADOR | G37: CANT. | H37: JORNAL | I37: PRESTACIONES | J37: JORNAL TOTAL | K37: RENDIMIENTO | M37: Vr. UNITARIO
A38: =+PRECIOS!C30 -> OFICIAL ELECTRICISTA | G38: 1 | H38: =VLOOKUP(A38,'Salarios OBRA'!$B$7:$I$58,4,FALSE) -> 116667 | I38: =VLOOKUP(A38,'Salarios OBRA'!$B$7:$I$58,7,FALSE) -> 99976 | J38: =+I38+H38 -> 216643 | K38: 5 | M38: =J38/K38 -> 43328.6
A39: =+PRECIOS!C31 -> AYUDANTE ELECTRICIDAD | G39: 1 | H39: =VLOOKUP(A39,'Salarios OBRA'!$B$7:$I$58,4,FALSE) -> 90000 | I39: =VLOOKUP(A39,'Salarios OBRA'!$B$7:$I$58,7,FALSE) -> 78643 | J39: =+I39+H39 -> 168643 | K39: 5 | M39: =J39/K39 -> 33728.6
A40: =+PRECIOS!C27 -> AYUDANTE DE OBRA | G40: 1 | H40: =VLOOKUP(A40,'Salarios OBRA'!$B$7:$I$58,4,FALSE) -> 73333 | I40: =VLOOKUP(A40,'Salarios OBRA'!$B$7:$I$58,7,FALSE) -> 65309 | J40: =+I40+H40 -> 138642 | K40: 3 | M40: =J40/K40 -> 46214
A42: SUBTOTAL $ | M42: =SUM(M38:M41) -> 123271.2
A44: TOTAL COSTO | M44: =ROUND(M42+M33+M26+M18,0) -> 1548984

Sheet 4.1
A2: ANALISIS DE PRECIOS UNITARIOS
A3: ENTIDAD | D3: =+PRESUPUESTO!B3 -> INSTITUTO DE CULTURA Y TURISMO SAN GIL
A4: PROYECTO: | D4: =+PRESUPUESTO!B4 -> ENSAMBLE, MONTAJE E INSTALACIÓN DE ALUMBRADO NAVIDEÑO (ORNAMENTAL Y DECORATIVO) EN LAS INSTALACIONES DEL PARQUE NATURAL EL GALLINERAL DEL MUNICIPIO DE SAN GIL, SANTANDER
A5: =+[1]AIU!$B$6 -> PROCESO
A6: LOCALIZACION: | D6: =[2]INFORMACION!$A$6 -> SAN GIL, SANTANDER | H6: FECHA: | I6: 46296
A8: ITEM | B8: DESCRIPCIÓN | K8: UNIDAD | M8: CANTIDAD
A9: 4 | B9: =+VLOOKUP(A9,PRESUPUESTO!$A$6:$F$93,2,FALSE) -> Suministro e intalacion de Luz lineal calida, instalada en forma de arco, 6 (seis) metros cada uno. voltaje 110 . | K9: =+VLOOKUP(A9,PRESUPUESTO!$A$6:$F$93,3,FALSE) -> UND | M9: =+VLOOKUP(A9,PRESUPUESTO!$A$6:$F$93,4,FALSE) -> 48
A10: I. EQUIPO
A13: DESCRIPCIÓN | F13: MARCA | H13: TIPO | J13: TARIFA/HORA | K13: RENDIMIENTO | M13: Vr. UNITARIO
A14: HERRAMIENTA MENOR | J14: =M40 -> 13847.621 | K14: 0.15 | M14: =J14*K14 -> 2077.1431
A15: =+PRECIOS!C14 -> TALADRO (electrico)
A17: SUBTOTAL $ | M17: =SUM(M14:M16) -> 2077.1431
A18: II. MATERIALES
A21: DESCRIPCIÓN | I21: UNIDAD | J21: CANTIDAD | K21: PRECIO UNIT. | M21: Vr. UNITARIO
A22: Extension | I22: M | J22: 6 | K22: 2000 | M22: =J22*K22 -> 12000
M23: =J23*K23 -> 0
A24: SUBTOTAL $ | M24: =SUM(M22:M23) -> 12000
A25: III. TRANSPORTES
A28: MATERIAL | H28: VOL. o PESO | I28: DISTANCIA/RENDIMIENTO | J28: M3 o Ton/Km | K28: TARIFA | M28: Vr. UNITARIO
A29: =+PRECIOS!C21 -> TRANSPORTE TIPO ACARREO | H29: 1 | I29: 0.1 | K29: =+PRECIOS!J21 -> 80000 | M29: =+K29*I29*H29 -> 8000
A31: SUBTOTAL $ | M31: =SUM(M29:M30) -> 8000
A32: IV. MANO DE OBRA
A35: TRABAJADOR | G35: CANT. | H35: JORNAL | I35: PRESTACIONES | J35: JORNAL TOTAL | K35: RENDIMIENTO | M35: Vr. UNITARIO
A36: =+PRECIOS!C30 -> OFICIAL ELECTRICISTA | G36: 1 | H36: =VLOOKUP(A36,'Salarios OBRA'!$B$7:$I$58,4,FALSE) -> 116667 | I36: =VLOOKUP(A36,'Salarios OBRA'!$B$7:$I$58,7,FALSE) -> 99976 | J36: =+I36+H36 -> 216643 | K36: 30 | M36: =J36/K36 -> 7221.4333
A37: =+PRECIOS!C31 -> AYUDANTE ELECTRICIDAD | G37: 1 | H37: =VLOOKUP(A37,'Salarios OBRA'!$B$7:$I$58,4,FALSE) -> 90000 | I37: =VLOOKUP(A37,'Salarios OBRA'!$B$7:$I$58,7,FALSE) -> 78643 | J37: =+I37+H37 -> 168643 | K37: 30 | M37: =J37/K37 -> 5621.4333
A38: =+PRECIOS!C27 -> AYUDANTE DE OBRA | G38: 1 | I38: =VLOOKUP(A38,'Salarios OBRA'!$B$7:$I$58,7,FALSE) -> 65309 | J38: =+I38+H38 -> 65309 | K38: 65 | M38: =J38/K38 -> 1004.7538
A40: SUBTOTAL $ | M40: =SUM(M36:M39) -> 13847.621
A42: TOTAL COSTO | M42: =ROUND(M40+M31+M24+M17,0) -> 35925

Sheet 5.1
A2: ANALISIS DE PRECIOS UNITARIOS
A3: ENTIDAD | D3: =+PRESUPUESTO!B3 -> INSTITUTO DE CULTURA Y TURISMO SAN GIL
A4: PROYECTO: | D4: =+PRESUPUESTO!B4 -> ENSAMBLE, MONTAJE E INSTALACIÓN DE ALUMBRADO NAVIDEÑO (ORNAMENTAL Y DECORATIVO) EN LAS INSTALACIONES DEL PARQUE NATURAL EL GALLINERAL DEL MUNICIPIO DE SAN GIL, SANTANDER
A5: =+[1]AIU!$B$6 -> PROCESO
A6: LOCALIZACION: | D6: =[2]INFORMACION!$A$6 -> SAN GIL, SANTANDER | H6: FECHA: | I6: 46296
A8: ITEM | B8: DESCRIPCIÓN | K8: UNIDAD | M8: CANTIDAD
A9: 5.1 | B9: =+VLOOKUP(A9,PRESUPUESTO!$A$6:$F$93,2,FALSE) -> Suministro e Instalacion de faroles metalicos color negro en cada fuente. Incluye bombillo decorativo luz led calida. Voltaje 4 v. | K9: =+VLOOKUP(A9,PRESUPUESTO!$A$6:$F$93,3,FALSE) -> UND | M9: =+VLOOKUP(A9,PRESUPUESTO!$A$6:$F$93,4,FALSE) -> 5
A10: I. EQUIPO
A13: DESCRIPCIÓN | F13: MARCA | H13: TIPO | J13: TARIFA/HORA | K13: RENDIMIENTO | M13: Vr. UNITARIO
A14: HERRAMIENTA MENOR | J14: =M41 -> 20897.025 | K14: 0.15 | M14: =J14*K14 -> 3134.5537
A15: =+PRECIOS!C14 -> TALADRO (electrico)
A17: SUBTOTAL $ | M17: =SUM(M14:M16) -> 3134.5537
A18: II. MATERIALES
A21: DESCRIPCIÓN | I21: UNIDAD | J21: CANTIDAD | K21: PRECIO UNIT. | M21: Vr. UNITARIO
A22: Farol metálico color negro | I22: UND | J22: 1 | K22: 55000 | M22: =J22*K22 -> 55000
A23: Bombillo decorativo LED luz cálida, 4 V | I23: UND | J23: 1 | K23: 15000 | M23: =J23*K23 -> 15000
A24: Accesorios de fijación y conexión | I24: UND | J24: 1 | L24: 5000 | M24: =L24 -> 5000
A25: SUBTOTAL $ | M25: =SUM(M22:M24) -> 75000
A26: III. TRANSPORTES
A29: MATERIAL | H29: VOL. o PESO | I29: DISTANCIA/RENDIMIENTO | J29: M3 o Ton/Km | K29: TARIFA | M29: Vr. UNITARIO
A30: =+PRECIOS!C21 -> TRANSPORTE TIPO ACARREO | H30: 1 | I30: 0.2 | K30: =+PRECIOS!J21 -> 80000 | M30: =+K30*I30*H30 -> 16000
A32: SUBTOTAL $ | M32: =SUM(M30:M31) -> 16000
A33: IV. MANO DE OBRA
A36: TRABAJADOR | G36: CANT. | H36: JORNAL | I36: PRESTACIONES | J36: JORNAL TOTAL | K36: RENDIMIENTO | M36: Vr. UNITARIO
A37: =+PRECIOS!C30 -> OFICIAL ELECTRICISTA | G37: 1 | H37: =VLOOKUP(A37,'Salarios OBRA'!$B$7:$I$58,4,FALSE) -> 116667 | I37: =VLOOKUP(A37,'Salarios OBRA'!$B$7:$I$58,7,FALSE) -> 99976 | J37: =+I37+H37 -> 216643 | K37: 20 | M37: =J37/K37 -> 10832.15
A38: =+PRECIOS!C31 -> AYUDANTE ELECTRICIDAD | G38: 1 | H38: =VLOOKUP(A38,'Salarios OBRA'!$B$7:$I$58,4,FALSE) -> 90000 | I38: =VLOOKUP(A38,'Salarios OBRA'!$B$7:$I$58,7,FALSE) -> 78643 | J38: =+I38+H38 -> 168643 | K38: 20 | M38: =J38/K38 -> 8432.15
A39: =+PRECIOS!C27 -> AYUDANTE DE OBRA | G39: 1 | I39: =VLOOKUP(A39,'Salarios OBRA'!$B$7:$I$58,7,FALSE) -> 65309 | J39: =+I39+H39 -> 65309 | K39: 40 | M39: =J39/K39 -> 1632.725
A41: SUBTOTAL $ | M41: =SUM(M37:M40) -> 20897.025
A43: TOTAL COSTO | M43: =ROUND(M41+M32+M25+M17,0) -> 115032

Sheet 5.2
A2: ANALISIS DE PRECIOS UNITARIOS
A3: ENTIDAD | D3: =+PRESUPUESTO!B3 -> INSTITUTO DE CULTURA Y TURISMO SAN GIL
A4: PROYECTO: | D4: =+PRESUPUESTO!B4 -> ENSAMBLE, MONTAJE E INSTALACIÓN DE ALUMBRADO NAVIDEÑO (ORNAMENTAL Y DECORATIVO) EN LAS INSTALACIONES DEL PARQUE NATURAL EL GALLINERAL DEL MUNICIPIO DE SAN GIL, SANTANDER
A5: =+[1]AIU!$B$6 -> PROCESO
A6: LOCALIZACION: | D6: =[2]INFORMACION!$A$6 -> SAN GIL, SANTANDER | H6: FECHA: | I6: 46296
A8: ITEM | B8: DESCRIPCIÓN | K8: UNIDAD | M8: CANTIDAD
A9: 5.2 | B9: =+VLOOKUP(A9,PRESUPUESTO!$A$6:$F$93,2,FALSE) -> Suministro e instalacion de luz lineal calida para las plantas de las fuentes. Extension de 6 mts color cable verde. 110 voltios v. | K9: =+VLOOKUP(A9,PRESUPUESTO!$A$6:$F$93,3,FALSE) -> UND | M9: =+VLOOKUP(A9,PRESUPUESTO!$A$6:$F$93,4,FALSE) -> 5
A10: I. EQUIPO
A13: DESCRIPCIÓN | F13: MARCA | H13: TIPO | J13: TARIFA/HORA | K13: RENDIMIENTO | M13: Vr. UNITARIO
A14: HERRAMIENTA MENOR | J14: =M41 -> 13931.35 | K14: 0.15 | M14: =J14*K14 -> 2089.7025
A15: =+PRECIOS!C14 -> TALADRO (electrico)
A17: SUBTOTAL $ | M17: =SUM(M14:M16) -> 2089.7025
A18: II. MATERIALES
A21: DESCRIPCIÓN | I21: UNIDAD | J21: CANTIDAD | K21: PRECIO UNIT. | M21: Vr. UNITARIO
A22: Extensión luminosa lineal LED cálida, cable verde, 110 V | I22: UND | J22: 1 | K22: 17500 | M22: =J22*K22 -> 17500
M23: =J23*K23 -> 0
A25: SUBTOTAL $ | M25: =SUM(M22:M24) -> 17500
A26: III. TRANSPORTES
A29: MATERIAL | H29: VOL. o PESO | I29: DISTANCIA/RENDIMIENTO | J29: M3 o Ton/Km | K29: TARIFA | M29: Vr. UNITARIO
A30: =+PRECIOS!C21 -> TRANSPORTE TIPO ACARREO | H30: 1 | I30: 0.2 | K30: =+PRECIOS!J21 -> 80000 | M30: =+K30*I30*H30 -> 16000
A32: SUBTOTAL $ | M32: =SUM(M30:M31) -> 16000
A33: IV. MANO DE OBRA
A36: TRABAJADOR | G36: CANT. | H36: JORNAL | I36: PRESTACIONES | J36: JORNAL TOTAL | K36: RENDIMIENTO | M36: Vr. UNITARIO
A37: =+PRECIOS!C30 -> OFICIAL ELECTRICISTA | G37: 1 | H37: =VLOOKUP(A37,'Salarios OBRA'!$B$7:$I$58,4,FALSE) -> 116667 | I37: =VLOOKUP(A37,'Salarios OBRA'!$B$7:$I$58,7,FALSE) -> 99976 | J37: =+I37+H37 -> 216643 | K37: 30 | M37: =J37/K37 -> 7221.4333
A38: =+PRECIOS!C31 -> AYUDANTE ELECTRICIDAD | G38: 1 | H38: =VLOOKUP(A38,'Salarios OBRA'!$B$7:$I$58,4,FALSE) -> 90000 | I38: =VLOOKUP(A38,'Salarios OBRA'!$B$7:$I$58,7,FALSE) -> 78643 | J38: =+I38+H38 -> 168643 | K38: 30 | M38: =J38/K38 -> 5621.4333
A39: =+PRECIOS!C27 -> AYUDANTE DE OBRA | G39: 1 | I39: =VLOOKUP(A39,'Salarios OBRA'!$B$7:$I$58,7,FALSE) -> 65309 | J39: =+I39+H39 -> 65309 | K39: 60 | M39: =J39/K39 -> 1088.4833
A41: SUBTOTAL $ | M41: =SUM(M37:M40) -> 13931.35
A43: TOTAL COSTO | M43: =ROUND(M41+M32+M25+M17,0) -> 49521

Sheet 5.3
A2: ANALISIS DE PRECIOS UNITARIOS
A3: ENTIDAD | D3: =+PRESUPUESTO!B3 -> INSTITUTO DE CULTURA Y TURISMO SAN GIL
A4: PROYECTO: | D4: =+PRESUPUESTO!B4 -> ENSAMBLE, MONTAJE E INSTALACIÓN DE ALUMBRADO NAVIDEÑO (ORNAMENTAL Y DECORATIVO) EN LAS INSTALACIONES DEL PARQUE NATURAL EL GALLINERAL DEL MUNICIPIO DE SAN GIL, SANTANDER
A5: =+[1]AIU!$B$6 -> PROCESO
A6: LOCALIZACION: | D6: =[2]INFORMACION!$A$6 -> SAN GIL, SANTANDER | H6: FECHA: | I6: 46296
A8: ITEM | B8: DESCRIPCIÓN | K8: UNIDAD | M8: CANTIDAD
A9: 5.3 | B9: =+VLOOKUP(A9,PRESUPUESTO!$A$6:$F$93,2,FALSE) -> Pintura del techo y las lamina de las fuentes en colores navideños.(incluido en el Item de Mano de Obra) | K9: =+VLOOKUP(A9,PRESUPUESTO!$A$6:$F$93,3,FALSE) -> UND | M9: =+VLOOKUP(A9,PRESUPUESTO!$A$6:$F$93,4,FALSE) -> 5
A10: I. EQUIPO
A13: DESCRIPCIÓN | F13: MARCA | H13: TIPO | J13: TARIFA/HORA | K13: RENDIMIENTO | M13: Vr. UNITARIO
A14: HERRAMIENTA MENOR | J14: =M41 -> 109711.7 | K14: 0.25 | M14: =J14*K14 -> 27427.925
A17: SUBTOTAL $ | M17: =SUM(M14:M16) -> 27427.925
A18: II. MATERIALES
A21: DESCRIPCIÓN | I21: UNIDAD | J21: CANTIDAD | K21: PRECIO UNIT. | M21: Vr. UNITARIO
I22: UND
M23: =J23*K23 -> 0
A25: SUBTOTAL $ | M25: =SUM(M22:M24) -> 0
A26: III. TRANSPORTES
A29: MATERIAL | H29: VOL. o PESO | I29: DISTANCIA/RENDIMIENTO | J29: M3 o Ton/Km | K29: TARIFA | M29: Vr. UNITARIO
A30: =+PRECIOS!C21 -> TRANSPORTE TIPO ACARREO | H30: 1 | I30: 0.5 | K30: =+PRECIOS!J21 -> 80000 | M30: =+K30*I30*H30 -> 40000
A32: SUBTOTAL $ | M32: =SUM(M30:M31) -> 40000
A33: IV. MANO DE OBRA
A36: TRABAJADOR | G36: CANT. | H36: JORNAL | I36: PRESTACIONES | J36: JORNAL TOTAL | K36: RENDIMIENTO | M36: Vr. UNITARIO
A37: =+PRECIOS!C30 -> OFICIAL ELECTRICISTA | G37: 1 | H37: =VLOOKUP(A37,'Salarios OBRA'!$B$7:$I$58,4,FALSE) -> 116667 | I37: =VLOOKUP(A37,'Salarios OBRA'!$B$7:$I$58,7,FALSE) -> 99976 | J37: =+I37+H37 -> 216643 | K37: 5 | M37: =J37/K37 -> 43328.6
A38: =+PRECIOS!C31 -> AYUDANTE ELECTRICIDAD | G38: 1 | H38: =VLOOKUP(A38,'Salarios OBRA'!$B$7:$I$58,4,FALSE) -> 90000 | I38: =VLOOKUP(A38,'Salarios OBRA'!$B$7:$I$58,7,FALSE) -> 78643 | J38: =+I38+H38 -> 168643 | K38: 5 | M38: =J38/K38 -> 33728.6
A39: =+PRECIOS!C27 -> AYUDANTE DE OBRA | G39: 1 | I39: =VLOOKUP(A39,'Salarios OBRA'!$B$7:$I$58,7,FALSE) -> 65309 | J39: =+I39+H39 -> 65309 | K39: 2 | M39: =J39/K39 -> 32654.5
A41: SUBTOTAL $ | M41: =SUM(M37:M40) -> 109711.7
A43: TOTAL COSTO | M43: =ROUND(M41+M32+M25+M17,0) -> 177140

Sheet 5.4
A2: ANALISIS DE PRECIOS UNITARIOS
A3: ENTIDAD | D3: =+PRESUPUESTO!B3 -> INSTITUTO DE CULTURA Y TURISMO SAN GIL
A4: PROYECTO: | D4: =+PRESUPUESTO!B4 -> ENSAMBLE, MONTAJE E INSTALACIÓN DE ALUMBRADO NAVIDEÑO (ORNAMENTAL Y DECORATIVO) EN LAS INSTALACIONES DEL PARQUE NATURAL EL GALLINERAL DEL MUNICIPIO DE SAN GIL, SANTANDER
A5: =+[1]AIU!$B$6 -> PROCESO
A6: LOCALIZACION: | D6: =[2]INFORMACION!$A$6 -> SAN GIL, SANTANDER | H6: FECHA: | I6: 46296
A8: ITEM | B8: DESCRIPCIÓN | K8: UNIDAD | M8: CANTIDAD
A9: 5.4 | B9: =+VLOOKUP(A9,PRESUPUESTO!$A$6:$F$93,2,FALSE) -> Suministro e instalacion de lampara de Luces indirectas para jardin. Luz calida. Voltaje 5 v. | K9: =+VLOOKUP(A9,PRESUPUESTO!$A$6:$F$93,3,FALSE) -> UND | M9: =+VLOOKUP(A9,PRESUPUESTO!$A$6:$F$93,4,FALSE) -> 2
A10: I. EQUIPO
A13: DESCRIPCIÓN | F13: MARCA | H13: TIPO | J13: TARIFA/HORA | K13: RENDIMIENTO | M13: Vr. UNITARIO
A14: HERRAMIENTA MENOR | J14: =M41 -> 14475.592 | K14: 0.25 | M14: =J14*K14 -> 3618.8979
A17: SUBTOTAL $ | M17: =SUM(M14:M16) -> 3618.8979
A18: II. MATERIALES
A21: DESCRIPCIÓN | I21: UNIDAD | J21: CANTIDAD | K21: PRECIO UNIT. | M21: Vr. UNITARIO
A22: Lámpara LED para jardín, luz cálida, 5 V | I22: UND | J22: 1 | K22: 35000 | M22: =K22 -> 35000
A23: Cableado y accesorios de conexión | I23: UND | J23: 1 | K23: 12000 | M23: =J23*K23 -> 12000
A25: SUBTOTAL $ | M25: =SUM(M22:M24) -> 47000
A26: III. TRANSPORTES
A29: MATERIAL | H29: VOL. o PESO | I29: DISTANCIA/RENDIMIENTO | J29: M3 o Ton/Km | K29: TARIFA | M29: Vr. UNITARIO
A30: =+PRECIOS!C21 -> TRANSPORTE TIPO ACARREO | H30: 1 | I30: 0.2 | K30: =+PRECIOS!J21 -> 80000 | M30: =+K30*I30*H30 -> 16000
A32: SUBTOTAL $ | M32: =SUM(M30:M31) -> 16000
A33: IV. MANO DE OBRA
A36: TRABAJADOR | G36: CANT. | H36: JORNAL | I36: PRESTACIONES | J36: JORNAL TOTAL | K36: RENDIMIENTO | M36: Vr. UNITARIO
A37: =+PRECIOS!C30 -> OFICIAL ELECTRICISTA | G37: 1 | H37: =VLOOKUP(A37,'Salarios OBRA'!$B$7:$I$58,4,FALSE) -> 116667 | I37: =VLOOKUP(A37,'Salarios OBRA'!$B$7:$I$58,7,FALSE) -> 99976 | J37: =+I37+H37 -> 216643 | K37: 30 | M37: =J37/K37 -> 7221.4333
A38: =+PRECIOS!C31 -> AYUDANTE ELECTRICIDAD | G38: 1 | H38: =VLOOKUP(A38,'Salarios OBRA'!$B$7:$I$58,4,FALSE) -> 90000 | I38: =VLOOKUP(A38,'Salarios OBRA'!$B$7:$I$58,7,FALSE) -> 78643 | J38: =+I38+H38 -> 168643 | K38: 30 | M38: =J38/K38 -> 5621.4333
A39: =+PRECIOS!C27 -> AYUDANTE DE OBRA | G39: 1 | I39: =VLOOKUP(A39,'Salarios OBRA'!$B$7:$I$58,7,FALSE) -> 65309 | J39: =+I39+H39 -> 65309 | K39: 40 | M39: =J39/K39 -> 1632.725
A41: SUBTOTAL $ | M41: =SUM(M37:M40) -> 14475.592
A43: TOTAL COSTO | M43: =ROUND(M41+M32+M25+M17,0) -> 81094

Sheet 5.5
A2: ANALISIS DE PRECIOS UNITARIOS
