Workbook

Sheet ESTIMACION UNITARIOS 2026
B2: LOTE 1 REGIONAL BOGOTA | E2: COTIZACION SERVIECOLOGICO VIGENCIA 2026 | F2: COTIZACION PROSARC 2026 | G2: VALOR UNITARIO ESTIMADO VIGENCIA 2026 | I2: FORMULACION
B3: Ítem | C3: Descripción del Componente RESPEL | D3: Unidad de medida | I3: PROMEDIO | J3: DESVIACION | K3: COEFICIENTE | L3: FORMULA
B4: 1 | C4: Lodos de la PTAR | D4: Kg | E4: 1320 | F4: 2000 | G4: =ROUND(GEOMEAN(E4:F4),0) -> 1625 | I4: =AVERAGE(E4:F4) -> 1660 | J4: =_xlfn.STDEV.S(E4:F4) -> 480.83261 | K4: =+J4/I4 -> 0.2896582 | L4: =IF(K4>=30%,"armonica","geometrica") -> geometrica
B5: =1+B4 -> 2 | C5: Anatomopatológicos | D5: Kg | E5: 1870 | F5: 3500 | G5: =ROUND(HARMEAN(E5:F5),0) -> 2438 | I5: =AVERAGE(E5:F5) -> 2685 | J5: =_xlfn.STDEV.S(E5:F5) -> 1152.5841 | K5: =+J5/I5 -> 0.4292678 | L5: =IF(K5>=30%,"armonica","geometrica") -> armonica
B6: =1+B5 -> 3 | C6: Biosanitarios | D6: Kg | E6: 1870 | F6: 3500 | G6: =ROUND(HARMEAN(E6:F6),0) -> 2438 | I6: =AVERAGE(E6:F6) -> 2685 | J6: =_xlfn.STDEV.S(E6:F6) -> 1152.5841 | K6: =+J6/I6 -> 0.4292678 | L6: =IF(K6>=30%,"armonica","geometrica") -> armonica
B7: =1+B6 -> 4 | C7: Cortopunzantes | D7: Kg | E7: 1870 | F7: 3500 | G7: =ROUND(HARMEAN(E7:F7),0) -> 2438 | I7: =AVERAGE(E7:F7) -> 2685 | J7: =_xlfn.STDEV.S(E7:F7) -> 1152.5841 | K7: =+J7/I7 -> 0.4292678 | L7: =IF(K7>=30%,"armonica","geometrica") -> armonica
B8: =1+B7 -> 5 | C8: Hidrocarburos y parafina | D8: Kg | E8: 1930 | F8: 3500 | G8: =ROUND(HARMEAN(E8:F8),0) -> 2488 | I8: =AVERAGE(E8:F8) -> 2715 | J8: =_xlfn.STDEV.S(E8:F8) -> 1110.1576 | K8: =+J8/I8 -> 0.40889784 | L8: =IF(K8>=30%,"armonica","geometrica") -> armonica
B9: =1+B8 -> 6 | C9: Contaminados con aceite | D9: Kg | E9: 1640 | F9: 3500 | G9: =ROUND(HARMEAN(E9:F9),0) -> 2233 | I9: =AVERAGE(E9:F9) -> 2570 | J9: =_xlfn.STDEV.S(E9:F9) -> 1315.2186 | K9: =+J9/I9 -> 0.51175822 | L9: =IF(K9>=30%,"armonica","geometrica") -> armonica
B10: =1+B9 -> 7 | C10: Cortopunzantes contaminados con químicos | D10: Kg | E10: 1730 | F10: 3500 | G10: =ROUND(HARMEAN(E10:F10),0) -> 2315 | I10: =AVERAGE(E10:F10) -> 2615 | J10: =_xlfn.STDEV.S(E10:F10) -> 1251.579 | K10: =+J10/I10 -> 0.4786153 | L10: =IF(K10>=30%,"armonica","geometrica") -> armonica
B11: =1+B10 -> 8 | C11: Mezcla de hidrocarburos | D11: Kg | E11: 1910 | F11: 3500 | G11: =ROUND(HARMEAN(E11:F11),0) -> 2471 | I11: =AVERAGE(E11:F11) -> 2705 | J11: =_xlfn.STDEV.S(E11:F11) -> 1124.2998 | K11: =+J11/I11 -> 0.41563763 | L11: =IF(K11>=30%,"armonica","geometrica") -> armonica
B12: =1+B11 -> 9 | C12: Solidos contaminados con QQ | D12: Kg | E12: 1730 | F12: 3500 | G12: =ROUND(HARMEAN(E12:F12),0) -> 2315 | I12: =AVERAGE(E12:F12) -> 2615 | J12: =_xlfn.STDEV.S(E12:F12) -> 1251.579 | K12: =+J12/I12 -> 0.4786153 | L12: =IF(K12>=30%,"armonica","geometrica") -> armonica
B13: =1+B12 -> 10 | C13: Colorantes | D13: Kg | E13: 1730 | F13: 3500 | G13: =ROUND(HARMEAN(E13:F13),0) -> 2315 | I13: =AVERAGE(E13:F13) -> 2615 | J13: =_xlfn.STDEV.S(E13:F13) -> 1251.579 | K13: =+J13/I13 -> 0.4786153 | L13: =IF(K13>=30%,"armonica","geometrica") -> armonica
B14: =1+B13 -> 11 | C14: Peróxidos | D14: Kg | E14: 1730 | F14: 3500 | G14: =ROUND(HARMEAN(E14:F14),0) -> 2315 | I14: =AVERAGE(E14:F14) -> 2615 | J14: =_xlfn.STDEV.S(E14:F14) -> 1251.579 | K14: =+J14/I14 -> 0.4786153 | L14: =IF(K14>=30%,"armonica","geometrica") -> armonica
B15: =1+B14 -> 12 | C15: Estupefacientes | D15: Kg | E15: 1920 | F15: 3500 | G15: =ROUND(HARMEAN(E15:F15),0) -> 2480 | I15: =AVERAGE(E15:F15) -> 2710 | J15: =_xlfn.STDEV.S(E15:F15) -> 1117.2287 | K15: =+J15/I15 -> 0.41226152 | L15: =IF(K15>=30%,"armonica","geometrica") -> armonica
B16: =1+B15 -> 13 | C16: Líquidos contaminados con quimicos | D16: Kg | E16: 1840 | F16: 3500 | G16: =ROUND(HARMEAN(E16:F16),0) -> 2412 | I16: =AVERAGE(E16:F16) -> 2670 | J16: =_xlfn.STDEV.S(E16:F16) -> 1173.7973 | K16: =+J16/I16 -> 0.43962444 | L16: =IF(K16>=30%,"armonica","geometrica") -> armonica
... B21: =1+B20 -> 18 | C21: RAEES | D21: Kg | E21: 1420 | F21: 3500 | G21: =ROUND(HARMEAN(E21:F21),0) -> 2020 | I21: =AVERAGE(E21:F21) -> 2460 | J21: =_xlfn.STDEV.S(E21:F21) -> 1470.7821 | K21: =+J21/I21 -> 0.5978789 | L21: =IF(K21>=30%,"armonica","geometrica") -> armonica
B22: =1+B21 -> 19 | C22: Agua plomada | D22: Kg | E22: 1760 | F22: 2000 | G22: =ROUND(GEOMEAN(E22:F22),0) -> 1876 | I22: =AVERAGE(E22:F22) -> 1880 | J22: =_xlfn.STDEV.S(E22:F22) -> 169.70563 | K22: =+J22/I22 -> 0.090268951 | L22: =IF(K22>=30%,"armonica","geometrica") -> geometrica
B23: LOTE 2 REGIONAL ORIENTE
B24: 20 | C24: Lodos de la PTAR | D24: Kg | E24: 1426 | G24: =ROUND(GEOMEAN(E24:F24),0) -> 1426 | I24: =AVERAGE(E24:F24) -> 1426 | K24: =+J24/I24 -> 0 | L24: =IF(K24>=30%,"armonica","geometrica") -> geometrica
B25: =1+B24 -> 21 | C25: Anatomopatológicos | D25: Kg | E25: 2020 | G25: =ROUND(GEOMEAN(E25:F25),0) -> 2020 | I25: =AVERAGE(E25:F25) -> 2020 | K25: =+J25/I25 -> 0 | L25: =IF(K25>=30%,"armonica","geometrica") -> geometrica
B26: =1+B25 -> 22 | C26: Biosanitarios | D26: Kg | E26: 2020 | G26: =ROUND(GEOMEAN(E26:F26),0) -> 2020 | I26: =AVERAGE(E26:F26) -> 2020 | K26: =+J26/I26 -> 0 | L26: =IF(K26>=30%,"armonica","geometrica") -> geometrica
B27: =1+B26 -> 23 | C27: Cortopunzantes | D27: Kg | E27: 2020 | G27: =ROUND(GEOMEAN(E27:F27),0) -> 2020 | I27: =AVERAGE(E27:F27) -> 2020 | K27: =+J27/I27 -> 0 | L27: =IF(K27>=30%,"armonica","geometrica") -> geometrica
B28: =1+B27 -> 24 | C28: Hidrocarburos y parafina | D28: Kg | E28: 2084 | G28: =ROUND(GEOMEAN(E28:F28),0) -> 2084 | I28: =AVERAGE(E28:F28) -> 2084 | K28: =+J28/I28 -> 0 | L28: =IF(K28>=30%,"armonica","geometrica") -> geometrica
B29: =1+B28 -> 25 | C29: Contaminados con aceite | D29: Kg | E29: 1771 | G29: =ROUND(GEOMEAN(E29:F29),0) -> 1771 | I29: =AVERAGE(E29:F29) -> 1771 | K29: =+J29/I29 -> 0 | L29: =IF(K29>=30%,"armonica","geometrica") -> geometrica
B30: =1+B29 -> 26 | C30: Cortopunzantes contaminados con químicos | D30: Kg | E30: 1868 | G30: =ROUND(GEOMEAN(E30:F30),0) -> 1868 | I30: =AVERAGE(E30:F30) -> 1868 | K30: =+J30/I30 -> 0 | L30: =IF(K30>=30%,"armonica","geometrica") -> geometrica
B31: =1+B30 -> 27 | C31: Mezcla de hidrocarburos | D31: Kg | E31: 2063 | G31: =ROUND(GEOMEAN(E31:F31),0) -> 2063 | I31: =AVERAGE(E31:F31) -> 2063 | K31: =+J31/I31 -> 0 | L31: =IF(K31>=30%,"armonica","geometrica") -> geometrica
B32: =1+B31 -> 28 | C32: Solidos contaminados con QQ | D32: Kg | E32: 1868 | G32: =ROUND(GEOMEAN(E32:F32),0) -> 1868 | I32: =AVERAGE(E32:F32) -> 1868 | K32: =+J32/I32 -> 0 | L32: =IF(K32>=30%,"armonica","geometrica") -> geometrica
B33: =1+B32 -> 29 | C33: Colorantes | D33: Kg | E33: 1868 | G33: =ROUND(GEOMEAN(E33:F33),0) -> 1868 | I33: =AVERAGE(E33:F33) -> 1868 | K33: =+J33/I33 -> 0 | L33: =IF(K33>=30%,"armonica","geometrica") -> geometrica
B34: =1+B33 -> 30 | C34: Peróxidos | D34: Kg | E34: 1868 | G34: =ROUND(GEOMEAN(E34:F34),0) -> 1868 | I34: =AVERAGE(E34:F34) -> 1868 | K34: =+J34/I34 -> 0 | L34: =IF(K34>=30%,"armonica","geometrica") -> geometrica
B35: =1+B34 -> 31 | C35: Estupefacientes | D35: Kg | E35: 2074 | G35: =ROUND(GEOMEAN(E35:F35),0) -> 2074 | I35: =AVERAGE(E35:F35) -> 2074 | K35: =+J35/I35 -> 0 | L35: =IF(K35>=30%,"armonica","geometrica") -> geometrica
B36: =1+B35 -> 32 | C36: Líquidos contaminados con quimicos | D36: Kg | E36: 1987 | G36: =ROUND(GEOMEAN(E36:F36),0) -> 1987 | I36: =AVERAGE(E36:F36) -> 1987 | K36: =+J36/I36 -> 0 | L36: =IF(K36>=30%,"armonica","geometrica") -> geometrica
... B42: =1+B41 -> 38 | C42: Agua plomada | D42: Kg | E42: 1901 | G42: =ROUND(GEOMEAN(E42:F42),0) -> 1901 | I42: =AVERAGE(E42:F42) -> 1901 | K42: =+J42/I42 -> 0 | L42: =IF(K42>=30%,"armonica","geometrica") -> geometrica
B45: * JUSTIFICACIÓN DE EXCLUSIÓN DE IVA: Las tarifas unitarias ofertadas para las Regionales Bogotá y Oriente no incluyen el Impuesto sobre las Ventas (IVA), toda vez que se trata de un servicio excluido de conformidad con el numeral 12 del artículo 476 del Estatuto Tributario. Esta exclusión cubre de manera integral las actividades de recolección, transporte, tratamiento y disposición final de residuos peligrosos por constituir actividades complementarias del servicio público de aseo. Este criterio ha sido ratificado por la Dirección de Impuestos y Aduanas Nacionales (DIAN) mediante el Concepto No. 001906 (Oficio 006182 de 2019) y el Concepto No. 006487 de 2025, los cuales precisan que la exclusión del IVA cobija dichas actividades cuando hacen parte integral del servicio prestado por entidades autorizadas conforme al régimen de servicios públicos domiciliarios."

Sheet PROYECCION VALOR POR VIGENCIAS 
B2: LOTE 1 REGIONAL BOGOTA
B3: Ítem | C3: Descripción del Componente RESPEL | D3: Unidad de medida | E3: Cantidad diciembre 2026 | F3: Valor unitario estimado kilogramo * 2026 | G3: Valor total estimado 2026 | H3: Cantidad vigencia 2027 | I3: Valor unitario kilogramo * (IPC 7,0%) | J3: Valor total vigencia 2027 | K3: Cantidad vigencia 2028 | L3: Valor unitario kilogramo * (IPC 6,1%) | M3: Valor total vigencia 2028 | N3: Cantidad vigencia 2029 | O3: Valor unitario kilogramo * (IPC 5,5%) | P3: Valor total vigencia 2029 | Q3: Cantidad vigencia 2030 | R3: Valor unitario kilogramo * (IPC 5,0%) | S3: Valor total vigencia 2030
B4: 1 | C4: Lodos de la PTAR | D4: Kg | E4: 2500 | F4: =+'ESTIMACION UNITARIOS 2026'!G4 -> 1625 | G4: =ROUND((F4*E4),0) -> 4062500 | H4: 30003 | I4: =ROUND((F4*1.07),0) -> 1739 | J4: =ROUND((I4*H4),0) -> 52175217 | K4: 30000 | L4: =ROUND((I4*1.061),0) -> 1845 | M4: =ROUND((L4*K4),0) -> 55350000 | N4: 30000 | O4: =ROUND((L4*1.055),0) -> 1946 | P4: =ROUND((O4*N4),0) -> 58380000 | Q4: 18000 | R4: =ROUND((O4*1.05),0) -> 2043 | S4: =ROUND((R4*Q4),0) -> 36774000
B5: =1+B4 -> 2 | C5: Anatomopatológicos | D5: Kg | E5: 100 | F5: =+'ESTIMACION UNITARIOS 2026'!G5 -> 2438 | G5: =ROUND((F5*E5),0) -> 243800 | H5: 1200 | I5: =ROUND((F5*1.07),0) -> 2609 | J5: =ROUND((I5*H5),0) -> 3130800 | K5: 1350 | L5: =ROUND((I5*1.061),0) -> 2768 | M5: =ROUND((L5*K5),0) -> 3736800 | N5: 1500 | O5: =ROUND((L5*1.055),0) -> 2920 | P5: =ROUND((O5*N5),0) -> 4380000 | Q5: 850 | R5: =ROUND((O5*1.05),0) -> 3066 | S5: =ROUND((R5*Q5),0) -> 2606100
B6: =1+B5 -> 3 | C6: Biosanitarios | D6: Kg | E6: 1333 | F6: =+'ESTIMACION UNITARIOS 2026'!G6 -> 2438 | G6: =ROUND((F6*E6),0) -> 3249854 | H6: 20000 | I6: =ROUND((F6*1.07),0) -> 2609 | J6: =ROUND((I6*H6),0) -> 52180000 | K6: 23000 | L6: =ROUND((I6*1.061),0) -> 2768 | M6: =ROUND((L6*K6),0) -> 63664000 | N6: 25000 | O6: =ROUND((L6*1.055),0) -> 2920 | P6: =ROUND((O6*N6),0) -> 73000000 | Q6: 15000 | R6: =ROUND((O6*1.05),0) -> 3066 | S6: =ROUND((R6*Q6),0) -> 45990000
B7: =1+B6 -> 4 | C7: Cortopunzantes | D7: Kg | E7: 60 | F7: =+'ESTIMACION UNITARIOS 2026'!G7 -> 2438 | G7: =ROUND((F7*E7),0) -> 146280 | H7: 750 | I7: =ROUND((F7*1.07),0) -> 2609 | J7: =ROUND((I7*H7),0) -> 1956750 | K7: 850 | L7: =ROUND((I7*1.061),0) -> 2768 | M7: =ROUND((L7*K7),0) -> 2352800 | N7: 1000 | O7: =ROUND((L7*1.055),0) -> 2920 | P7: =ROUND((O7*N7),0) -> 2920000 | Q7: 649 | R7: =ROUND((O7*1.05),0) -> 3066 | S7: =ROUND((R7*Q7),0) -> 1989834
B8: =1+B7 -> 5 | C8: Hidrocarburos y parafina | D8: Kg | E8: 35 | F8: =+'ESTIMACION UNITARIOS 2026'!G8 -> 2488 | G8: =ROUND((F8*E8),0) -> 87080 | H8: 420 | I8: =ROUND((F8*1.07),0) -> 2662 | J8: =ROUND((I8*H8),0) -> 1118040 | K8: 476 | L8: =ROUND((I8*1.061),0) -> 2824 | M8: =ROUND((L8*K8),0) -> 1344224 | N8: 520 | O8: =ROUND((L8*1.055),0) -> 2979 | P8: =ROUND((O8*N8),0) -> 1549080 | Q8: 400 | R8: =ROUND((O8*1.05),0) -> 3128 | S8: =ROUND((R8*Q8),0) -> 1251200
B9: =1+B8 -> 6 | C9: Contaminados con aceite | D9: Kg | E9: 10 | F9: =+'ESTIMACION UNITARIOS 2026'!G9 -> 2233 | G9: =ROUND((F9*E9),0) -> 22330 | H9: 120 | I9: =ROUND((F9*1.07),0) -> 2389 | J9: =ROUND((I9*H9),0) -> 286680 | K9: 150 | L9: =ROUND((I9*1.061),0) -> 2535 | M9: =ROUND((L9*K9),0) -> 380250 | N9: 200 | O9: =ROUND((L9*1.055),0) -> 2674 | P9: =ROUND((O9*N9),0) -> 534800 | Q9: 130 | R9: =ROUND((O9*1.05),0) -> 2808 | S9: =ROUND((R9*Q9),0) -> 365040
B10: =1+B9 -> 7 | C10: Cortopunzantes contaminados con químicos | D10: Kg | E10: 30 | F10: =+'ESTIMACION UNITARIOS 2026'!G10 -> 2315 | G10: =ROUND((F10*E10),0) -> 69450 | H10: 360 | I10: =ROUND((F10*1.07),0) -> 2477 | J10: =ROUND((I10*H10),0) -> 891720 | K10: 400 | L10: =ROUND((I10*1.061),0) -> 2628 | M10: =ROUND((L10*K10),0) -> 1051200 | N10: 480 | O10: =ROUND((L10*1.055),0) -> 2773 | P10: =ROUND((O10*N10),0) -> 1331040 | Q10: 300 | R10: =ROUND((O10*1.05),0) -> 2912 | S10: =ROUND((R10*Q10),0) -> 873600
B11: =1+B10 -> 8 | C11: Mezcla de hidrocarburos | D11: Kg | E11: 15 | F11: =+'ESTIMACION UNITARIOS 2026'!G11 -> 2471 | G11: =ROUND((F11*E11),0) -> 37065 | H11: 180 | I11: =ROUND((F11*1.07),0) -> 2644 | J11: =ROUND((I11*H11),0) -> 475920 | K11: 200 | L11: =ROUND((I11*1.061),0) -> 2805 | M11: =ROUND((L11*K11),0) -> 561000 | N11: 250 | O11: =ROUND((L11*1.055),0) -> 2959 | P11: =ROUND((O11*N11),0) -> 739750 | Q11: 150 | R11: =ROUND((O11*1.05),0) -> 3107 | S11: =ROUND((R11*Q11),0) -> 466050
B12: =1+B11 -> 9 | C12: Solidos contaminados con QQ | D12: Kg | E12: 150 | F12: =+'ESTIMACION UNITARIOS 2026'!G12 -> 2315 | G12: =ROUND((F12*E12),0) -> 347250 | H12: 1800 | I12: =ROUND((F12*1.07),0) -> 2477 | J12: =ROUND((I12*H12),0) -> 4458600 | K12: 2000 | L12: =ROUND((I12*1.061),0) -> 2628 | M12: =ROUND((L12*K12),0) -> 5256000 | N12: 2500 | O12: =ROUND((L12*1.055),0) -> 2773 | P12: =ROUND((O12*N12),0) -> 6932500 | Q12: 250 | R12: =ROUND((O12*1.05),0) -> 2912 | S12: =ROUND((R12*Q12),0) -> 728000
B13: =1+B12 -> 10 | C13: Colorantes | D13: Kg | E13: 10 | F13: =+'ESTIMACION UNITARIOS 2026'!G13 -> 2315 | G13: =ROUND((F13*E13),0) -> 23150 | H13: 120 | I13: =ROUND((F13*1.07),0) -> 2477 | J13: =ROUND((I13*H13),0) -> 297240 | K13: 150 | L13: =ROUND((I13*1.061),0) -> 2628 | M13: =ROUND((L13*K13),0) -> 394200 | N13: 180 | O13: =ROUND((L13*1.055),0) -> 2773 | P13: =ROUND((O13*N13),0) -> 499140 | Q13: 25 | R13: =ROUND((O13*1.05),0) -> 2912 | S13: =ROUND((R13*Q13),0) -> 72800
B14: =1+B13 -> 11 | C14: Peróxidos | D14: Kg | E14: 15 | F14: =+'ESTIMACION UNITARIOS 2026'!G14 -> 2315 | G14: =ROUND((F14*E14),0) -> 34725 | H14: 180 | I14: =ROUND((F14*1.07),0) -> 2477 | J14: =ROUND((I14*H14),0) -> 445860 | K14: 200 | L14: =ROUND((I14*1.061),0) -> 2628 | M14: =ROUND((L14*K14),0) -> 525600 | N14: 250 | O14: =ROUND((L14*1.055),0) -> 2773 | P14: =ROUND((O14*N14),0) -> 693250 | Q14: 30 | R14: =ROUND((O14*1.05),0) -> 2912 | S14: =ROUND((R14*Q14),0) -> 87360
B15: =1+B14 -> 12 | C15: Estupefacientes | D15: Kg | E15: 200 | F15: =+'ESTIMACION UNITARIOS 2026'!G15 -> 2480 | G15: =ROUND((F15*E15),0) -> 496000 | H15: 2400 | I15: =ROUND((F15*1.07),0) -> 2654 | J15: =ROUND((I15*H15),0) -> 6369600 | K15: 3000 | L15: =ROUND((I15*1.061),0) -> 2816 | M15: =ROUND((L15*K15),0) -> 8448000 | N15: 3500 | O15: =ROUND((L15*1.055),0) -> 2971 | P15: =ROUND((O15*N15),0) -> 10398500 | Q15: 300 | R15: =ROUND((O15*1.05),0) -> 3120 | S15: =ROUND((R15*Q15),0) -> 936000
B16: =1+B15 -> 13 | C16: Líquidos contaminados con quimicos | D16: Kg | E16: 250 | F16: =+'ESTIMACION UNITARIOS 2026'!G16 -> 2412 | G16: =ROUND((F16*E16),0) -> 603000 | H16: 3000 | I16: =ROUND((F16*1.07),0) -> 2581 | J16: =ROUND((I16*H16),0) -> 7743000 | K16: 3500 | L16: =ROUND((I16*1.061),0) -> 2738 | M16: =ROUND((L16*K16),0) -> 9583000 | N16: 4000 | O16: =ROUND((L16*1.055),0) -> 2889 | P16: =ROUND((O16*N16),0) -> 11556000 | Q16: 300 | R16: =ROUND((O16*1.05),0) -> 3033 | S16: =ROUND((R16*Q16),0) -> 909900
... B22: =1+B21 -> 19 | C22: Agua plomada | D22: Kg | E22: 100 | F22: =+'ESTIMACION UNITARIOS 2026'!G22 -> 1876 | G22: =ROUND((F22*E22),0) -> 187600 | H22: 3000 | I22: =ROUND((F22*1.07),0) -> 2007 | J22: =ROUND((I22*H22),0) -> 6021000 | K22: 3000 | L22: =ROUND((I22*1.061),0) -> 2129 | M22: =ROUND((L22*K22),0) -> 6387000 | N22: 3004 | O22: =ROUND((L22*1.055),0) -> 2246 | P22: =ROUND((O22*N22),0) -> 6746984 | Q22: 3000 | R22: =ROUND((O22*1.05),0) -> 2358 | S22: =ROUND((R22*Q22),0) -> 7074000
B23: SUBTOTAL LOTE 1 POR VIGENCIAS | G23: =SUM(G4:G22) -> 10706664 | J23: =SUM(J4:J22) -> 151783187 | M23: =SUM(M4:M22) -> 177486674 | P23: =SUM(P4:P22) -> 203725144 | S23: =SUM(S4:S22) -> 103646584
B24: SUBTOTAL LOTE 1 REGIONAL BOGOTA | G24: =+G23+J23+M23+P23+S23 -> 647348253
B25: LOTE 2 REGIONAL ORIENTE
B26: 20 | C26: Lodos de la PTAR | D26: Kg | E26: 2632 | F26: =+'ESTIMACION UNITARIOS 2026'!G24 -> 1426 | G26: =ROUND((F26*E26),0) -> 3753232 | H26: 0 | I26: =ROUND((F26*1.07),0) -> 1526 | J26: =ROUND((I26*H26),0) -> 0 | K26: 491 | L26: =ROUND((I26*1.061),0) -> 1619 | M26: =ROUND((L26*K26),0) -> 794929 | N26: 537 | O26: =ROUND((L26*1.055),0) -> 1708 | P26: =ROUND((O26*N26),0) -> 917196 | Q26: 446 | R26: =ROUND((O26*1.05),0) -> 1793 | S26: =ROUND((R26*Q26),0) -> 799678
B27: =1+B26 -> 21 | C27: Anatomopatológicos | D27: Kg | E27: 500 | F27: =+'ESTIMACION UNITARIOS 2026'!G25 -> 2020 | G27: =ROUND((F27*E27),0) -> 1010000 | H27: 6550 | I27: =ROUND((F27*1.07),0) -> 2161 | J27: =ROUND((I27*H27),0) -> 14154550 | K27: 7205 | L27: =ROUND((I27*1.061),0) -> 2293 | M27: =ROUND((L27*K27),0) -> 16521065 | N27: 7926 | O27: =ROUND((L27*1.055),0) -> 2419 | P27: =ROUND((O27*N27),0) -> 19172994 | Q27: 4030 | R27: =ROUND((O27*1.05),0) -> 2540 | S27: =ROUND((R27*Q27),0) -> 10236200
B28: =1+B27 -> 22 | C28: Biosanitarios | D28: Kg | E28: 700 | F28: =+'ESTIMACION UNITARIOS 2026'!G26 -> 2020 | G28: =ROUND((F28*E28),0) -> 1414000 | H28: 9170 | I28: =ROUND((F28*1.07),0) -> 2161 | J28: =ROUND((I28*H28),0) -> 19816370 | K28: 10087 | L28: =ROUND((I28*1.061),0) -> 2293 | M28: =ROUND((L28*K28),0) -> 23129491 | N28: 11096 | O28: =ROUND((L28*1.055),0) -> 2419 | P28: =ROUND((O28*N28),0) -> 26841224 | Q28: 6064 | R28: =ROUND((O28*1.05),0) -> 2540 | S28: =ROUND((R28*Q28),0) -> 15402560
B29: =1+B28 -> 23 | C29: Cortopunzantes | D29: Kg | E29: 34 | F29: =+'ESTIMACION UNITARIOS 2026'!G27 -> 2020 | G29: =ROUND((F29*E29),0) -> 68680 | H29: 445 | I29: =ROUND((F29*1.07),0) -> 2161 | J29: =ROUND((I29*H29),0) -> 961645 | K29: 0 | L29: =ROUND((I29*1.061),0) -> 2293 | M29: =ROUND((L29*K29),0) -> 0 | N29: 535 | O29: =ROUND((L29*1.055),0) -> 2419 | P29: =ROUND((O29*N29),0) -> 1294165 | Q29: 445 | R29: =ROUND((O29*1.05),0) -> 2540 | S29: =ROUND((R29*Q29),0) -> 1130300
B30: =1+B29 -> 24 | C30: Hidrocarburos y parafina | D30: Kg | E30: 0 | F30: =+'ESTIMACION UNITARIOS 2026'!G28 -> 2084 | G30: =ROUND((F30*E30),0) -> 0 | H30: 0 | I30: =ROUND((F30*1.07),0) -> 2230 | J30: =ROUND((I30*H30),0) -> 0 | K30: 0 | L30: =ROUND((I30*1.061),0) -> 2366 | M30: =ROUND((L30*K30),0) -> 0 | N30: 0 | O30: =ROUND((L30*1.055),0) -> 2496 | P30: =ROUND((O30*N30),0) -> 0 | Q30: 0 | R30: =ROUND((O30*1.05),0) -> 2621 | S30: =ROUND((R30*Q30),0) -> 0
B31: =1+B30 -> 25 | C31: Contaminados con aceite | D31: Kg | E31: 0 | F31: =+'ESTIMACION UNITARIOS 2026'!G29 -> 1771 | G31: =ROUND((F31*E31),0) -> 0 | H31: 0 | I31: =ROUND((F31*1.07),0) -> 1895 | J31: =ROUND((I31*H31),0) -> 0 | K31: 0 | L31: =ROUND((I31*1.061),0) -> 2011 | M31: =ROUND((L31*K31),0) -> 0 | N31: 0 | O31: =ROUND((L31*1.055),0) -> 2122 | P31: =ROUND((O31*N31),0) -> 0 | Q31: 0 | R31: =ROUND((O31*1.05),0) -> 2228 | S31: =ROUND((R31*Q31),0) -> 0
B32: =1+B31 -> 26 | C32: Cortopunzantes contaminados con químicos | D32: Kg | E32: 0 | F32: =+'ESTIMACION UNITARIOS 2026'!G30 -> 1868 | G32: =ROUND((F32*E32),0) -> 0 | H32: 0 | I32: =ROUND((F32*1.07),0) -> 1999 | J32: =ROUND((I32*H32),0) -> 0 | K32: 0 | L32: =ROUND((I32*1.061),0) -> 2121 | M32: =ROUND((L32*K32),0) -> 0 | N32: 0 | O32: =ROUND((L32*1.055),0) -> 2238 | P32: =ROUND((O32*N32),0) -> 0 | Q32: 0 | R32: =ROUND((O32*1.05),0) -> 2350 | S32: =ROUND((R32*Q32),0) -> 0
B33: =1+B32 -> 27 | C33: Mezcla de hidrocarburos | D33: Kg | E33: 0 | F33: =+'ESTIMACION UNITARIOS 2026'!G31 -> 2063 | G33: =ROUND((F33*E33),0) -> 0 | H33: 0 | I33: =ROUND((F33*1.07),0) -> 2207 | J33: =ROUND((I33*H33),0) -> 0 | K33: 0 | L33: =ROUND((I33*1.061),0) -> 2342 | M33: =ROUND((L33*K33),0) -> 0 | N33: 0 | O33: =ROUND((L33*1.055),0) -> 2471 | P33: =ROUND((O33*N33),0) -> 0 | Q33: 0 | R33: =ROUND((O33*1.05),0) -> 2595 | S33: =ROUND((R33*Q33),0) -> 0
B34: =1+B33 -> 28 | C34: Solidos contaminados con QQ | D34: Kg | E34: 0 | F34: =+'ESTIMACION UNITARIOS 2026'!G32 -> 1868 | G34: =ROUND((F34*E34),0) -> 0 | H34: 0 | I34: =ROUND((F34*1.07),0) -> 1999 | J34: =ROUND((I34*H34),0) -> 0 | K34: 0 | L34: =ROUND((I34*1.061),0) -> 2121 | M34: =ROUND((L34*K34),0) -> 0 | N34: 0 | O34: =ROUND((L34*1.055),0) -> 2238 | P34: =ROUND((O34*N34),0) -> 0 | Q34: 0 | R34: =ROUND((O34*1.05),0) -> 2350 | S34: =ROUND((R34*Q34),0) -> 0
B35: =1+B34 -> 29 | C35: Colorantes | D35: Kg | E35: 0 | F35: =+'ESTIMACION UNITARIOS 2026'!G33 -> 1868 | G35: =ROUND((F35*E35),0) -> 0 | H35: 0 | I35: =ROUND((F35*1.07),0) -> 1999 | J35: =ROUND((I35*H35),0) -> 0 | K35: 0 | L35: =ROUND((I35*1.061),0) -> 2121 | M35: =ROUND((L35*K35),0) -> 0 | N35: 0 | O35: =ROUND((L35*1.055),0) -> 2238 | P35: =ROUND((O35*N35),0) -> 0 | Q35: 0 | R35: =ROUND((O35*1.05),0) -> 2350 | S35: =ROUND((R35*Q35),0) -> 0
B36: =1+B35 -> 30 | C36: Peróxidos | D36: Kg | E36: 0 | F36: =+'ESTIMACION UNITARIOS 2026'!G34 -> 1868 | G36: =ROUND((F36*E36),0) -> 0 | H36: 0 | I36: =ROUND((F36*1.07),0) -> 1999 | J36: =ROUND((I36*H36),0) -> 0 | K36: 0 | L36: =ROUND((I36*1.061),0) -> 2121 | M36: =ROUND((L36*K36),0) -> 0 | N36: 0 | O36: =ROUND((L36*1.055),0) -> 2238 | P36: =ROUND((O36*N36),0) -> 0 | Q36: 0 | R36: =ROUND((O36*1.05),0) -> 2350 | S36: =ROUND((R36*Q36),0) -> 0
B37: =1+B36 -> 31 | C37: Estupefacientes | D37: Kg | E37: 0 | F37: =+'ESTIMACION UNITARIOS 2026'!G35 -> 2074 | G37: =ROUND((F37*E37),0) -> 0 | H37: 0 | I37: =ROUND((F37*1.07),0) -> 2219 | J37: =ROUND((I37*H37),0) -> 0 | K37: 0 | L37: =ROUND((I37*1.061),0) -> 2354 | M37: =ROUND((L37*K37),0) -> 0 | N37: 0 | O37: =ROUND((L37*1.055),0) -> 2483 | P37: =ROUND((O37*N37),0) -> 0 | Q37: 0 | R37: =ROUND((O37*1.05),0) -> 2607 | S37: =ROUND((R37*Q37),0) -> 0
B38: =1+B37 -> 32 | C38: Líquidos contaminados con quimicos | D38: Kg | E38: 0 | F38: =+'ESTIMACION UNITARIOS 2026'!G36 -> 1987 | G38: =ROUND((F38*E38),0) -> 0 | H38: 0 | I38: =ROUND((F38*1.07),0) -> 2126 | J38: =ROUND((I38*H38),0) -> 0 | K38: 0 | L38: =ROUND((I38*1.061),0) -> 2256 | M38: =ROUND((L38*K38),0) -> 0 | N38: 0 | O38: =ROUND((L38*1.055),0) -> 2380 | P38: =ROUND((O38*N38),0) -> 0 | Q38: 0 | R38: =ROUND((O38*1.05),0) -> 2499 | S38: =ROUND((R38*Q38),0) -> 0
... B42: =1+B41 -> 36 | C42: Guanidina | D42: Kg | E42: 0 | F42: =+'ESTIMACION UNITARIOS 2026'!G40 -> 1771 | G42: =ROUND((F42*E42),0) -> 0 | H42: 0 | I42: =ROUND((F42*1.07),0) -> 1895 | J42: =ROUND((I42*H42),0) -> 0 | K42: 0 | L42: =ROUND((I42*1.061),0) -> 2011 | M42: =ROUND((L42*K42),0) -> 0 | N42: 0 | O42: =ROUND((L42*1.055),0) -> 2122 | P42: =ROUND((O42*N42),0) -> 0 | Q42: 0 | R42: =ROUND((O42*1.05),0) -> 2228 | S42: =ROUND((R42*Q42),0) -> 0
B43: =1+B42 -> 37 | C43: RAEES | D43: Kg | E43: 0 | F43: =+'ESTIMACION UNITARIOS 2026'!E41 -> 1534 | G43: =ROUND((F43*E43),0) -> 0 | H43: 0 | I43: =ROUND((F43*1.07),0) -> 1641 | J43: =ROUND((I43*H43),0) -> 0 | K43: 0 | L43: =ROUND((I43*1.061),0) -> 1741 | M43: =ROUND((L43*K43),0) -> 0 | N43: 0 | O43: =ROUND((L43*1.055),0) -> 1837 | P43: =ROUND((O43*N43),0) -> 0 | Q43: 0 | R43: =ROUND((O43*1.05),0) -> 1929 | S43: =ROUND((R43*Q43),0) -> 0
B44: =1+B43 -> 38 | C44: Agua plomada | D44: Kg | E44: 0 | F44: =+'ESTIMACION UNITARIOS 2026'!G42 -> 1901 | G44: =ROUND((F44*E44),0) -> 0 | H44: 0 | I44: =ROUND((F44*1.07),0) -> 2034 | J44: =ROUND((I44*H44),0) -> 0 | K44: 0 | L44: =ROUND((I44*1.061),0) -> 2158 | M44: =ROUND((L44*K44),0) -> 0 | N44: 0 | O44: =ROUND((L44*1.055),0) -> 2277 | P44: =ROUND((O44*N44),0) -> 0 | Q44: 0 | R44: =ROUND((O44*1.05),0) -> 2391 | S44: =ROUND((R44*Q44),0) -> 0
B45: SUB TOTAL LOTE 2 POR VIGENCIAS | G45: =SUM(G26:G44) -> 6245912 | J45: =SUM(J26:J44) -> 34932565 | M45: =SUM(M26:M44) -> 40445485 | P45: =SUM(P26:P44) -> 48225579 | S45: =SUM(S26:S44) -> 27568738
B46: SUB TOTAL LOTE 2 REGIONAL ORIENTE | G46: =+G45+J45+M45+P45+S45 -> 157418279
B47: TOTAL PROCESO POR VIGENCIAS | G47: =+G23+G45 -> 16952576 | J47: =+J23+J45 -> 186715752 | M47: =+M23+M45 -> 217932159 | P47: =+P23+P45 -> 251950723 | S47: =+S23+S45 -> 131215322
B48: TOTAL PROCESO LOTE 1 Y 2 | G48: =+G47+J47+M47+P47+S47 -> 804766532
B50: * JUSTIFICACIÓN DE EXCLUSIÓN DE IVA: Las tarifas unitarias ofertadas para las Regionales Bogotá y Oriente no incluyen el Impuesto sobre las Ventas (IVA), toda vez que se trata de un servicio excluido de conformidad con el numeral 12 del artículo 476 del Estatuto Tributario. Esta exclusión cubre de manera integral las actividades de recolección, transporte, tratamiento y disposición final de residuos peligrosos por constituir actividades complementarias del servicio público de aseo. Este criterio ha sido ratificado por la Dirección de Impuestos y Aduanas Nacionales (DIAN) mediante el Concepto No. 001906 (Oficio 006182 de 2019) y el Concepto No. 006487 de 2025, los cuales precisan que la exclusión del IVA cobija dichas actividades cuando hacen parte integral del servicio prestado por entidades autorizadas conforme al régimen de servicios públicos domiciliarios."

Sheet REGIONALIZACION 
B3: VIGENCIA FISCAL | C3: VALOR LOTE 1 REGIONAL BOGOTA | D3: VALOR LOTE 2 REGIONAL ORIENTE | E3: TOTAL ESTIMADO POR VIGENCIAS
B4: 2026 (DICIEMBRE) | C4: =+'PROYECCION VALOR POR VIGENCIAS '!G23 -> 10706664 | D4: =+'PROYECCION VALOR POR VIGENCIAS '!G45 -> 6245912 | E4: =+C4+D4 -> 16952576
B5: 2027 | C5: =+'PROYECCION VALOR POR VIGENCIAS '!J23 -> 151783187 | D5: =+'PROYECCION VALOR POR VIGENCIAS '!J45 -> 34932565 | E5: =+C5+D5 -> 186715752
B6: 2028 | C6: =+'PROYECCION VALOR POR VIGENCIAS '!M23 -> 177486674 | D6: =+'PROYECCION VALOR POR VIGENCIAS '!M45 -> 40445485 | E6: =+C6+D6 -> 217932159
B7: 2029 | C7: =+'PROYECCION VALOR POR VIGENCIAS '!P23 -> 203725144 | D7: =+'PROYECCION VALOR POR VIGENCIAS '!P45 -> 48225579 | E7: =+C7+D7 -> 251950723
B8: 2030 (HASTA 31 DE JULIO) | C8: =+'PROYECCION VALOR POR VIGENCIAS '!S23 -> 103646584 | D8: =+'PROYECCION VALOR POR VIGENCIAS '!S45 -> 27568738 | E8: =+C8+D8 -> 131215322
B9: TOTAL ESTIMADO PROCESO | C9: =SUM(C4:C8) -> 647348253 | D9: =SUM(D4:D8) -> 157418279 | E9: =SUM(E4:E8) -> 804766532
