Workbook

Sheet REPUESTOS
B2: PRECIOS TECHO LOTE 2 | C2: REPUESTOS VEHICULOS MULTIMARCAS MANTENIMIENTO VEHICULOS - LOTE 2 | R2: REPUESTOS VEHICULOS MULTIMARCAS MANTENIMIENTO VEHICULOS | AG2: REPUESTOS VEHICULOS MULTIMARCAS MANTENIMIENTO VEHICULOS | AV2: REPUESTOS VEHICULOS MULTIMARCAS MANTENIMIENTO VEHICULOS | BK2: REPUESTOS VEHICULOS MULTIMARCAS MANTENIMIENTO VEHICULOS | BZ2: REPUESTOS VEHICULOS MULTIMARCAS MANTENIMIENTO VEHICULOS
C3: *** Todos los precios incluyen IVA, Costos Directos e Indirectos y están expresados en pesos colombianos | R3: *** Todos los precios incluyen IVA, Costos Directos e Indirectos | AG3: *** Todos los precios incluyen IVA, Costos Directos e Indirectos | AV3: *** Todos los precios incluyen IVA, Costos Directos e Indirectos | BK3: *** Todos los precios incluyen IVA, Costos Directos e Indirectos | BZ3: *** Todos los precios incluyen IVA, Costos Directos e Indirectos
B4: DESCRIPCION | C4: CHEVROLET AVEO EMOTION MOD. 2011 | F4: CHEVROLET SPARK 1.0 | I4: CHEVROLET COLORADO | L4: CHEVROLET D-MAX 3.5 GASOLINA | O4: CHEVROLET D-MAX 3.0 DIESEL | R4: CHEVROLET NPR MOD. 2008 | U4: DODGE RAM 2500 MOD. 2014 | X4: FORD RANGER XL MOD. 2023 | AA4: CAMIONETA FOTON BJ2037 MOD. 2019 | AD4: HYUNDAI TUCSON IX35 MOD. 2013 | AG4: MAZDA B2.6 MOD. 2009 | AJ4: MAZDA B26C47 MOD. 2008 | AM4: NISSAN D22 2.5 | AP4: NISSAN NP300 2.5 | AS4: NISSAN NAVARA | AV4: NISSAN VERSA MOD. 2015 | AY4: NISSAN X-TRAIL 2.2 DIESEL MOD. 2014 | BB4: RENAULT LOGAN | BE4: RENAULT SCALA | BH4: RENAULT DUSTER 2.0/OROCH | BK4: RENAULT DUSTER 1.6 | BN4: SUZUKI ALTO | BQ4: TOYOTA 4RUNNER MOD. 2019 | BT4: TOYOTA FORTUNER 2.4 DIESEL MOD. 2023 | BW4: TOYOTA HILUX 2.4 DIESEL | BZ4: TOYOTA PRADO TX-L | CC4: TOYOTA PRADO VX 3.4 GASOLINA | CF4: TOYOTA TOCOMA 3.5 GASOLI MOD. 2020
C5: Cotización 1 | D5: Cotización 2 | E5: Precios Techo | F5: Cotización 1 | G5: Cotización 2 | H5: Precios Techo | I5: Cotización 1 | J5: Cotización 2 | K5: Precios Techo | L5: Cotización 1 | M5: Cotización 2 | N5: Precios Techo | O5: Cotización 1 | P5: Cotización 2 | Q5: Precios Techo | R5: Cotización 1 | S5: Cotización 2 | T5: Precios Techo | U5: Cotización 1 | V5: Cotización 2 | W5: Precios Techo | X5: Cotización 1 | Y5: Cotización 2 | Z5: Precios Techo | AA5: Cotización 1 | AB5: Cotización 2 | AC5: Precios Techo | AD5: Cotización 1 | AE5: Cotización 2 | AF5: Precios Techo | AG5: Cotización 1 | AH5: Cotización 2 | AI5: Precios Techo | AJ5: Cotización 1 | AK5: Cotización 2 | AL5: Precios Techo | AM5: Cotización 1 | AN5: Cotización 2 | AO5: Precios Techo | AP5: Cotización 1 | AQ5: Cotización 2 | AR5: Precios Techo | AS5: Cotización 1 | AT5: Cotización 2 | AU5: Precios Techo | AV5: Cotización 1 | AW5: Cotización 2 | AX5: Precios Techo | AY5: Cotización 1 | AZ5: Cotización 2 | BA5: Precios Techo | BB5: Cotización 1 | BC5: Cotización 2 | BD5: Precios Techo | BE5: Cotización 1 | BF5: Cotización 2 | BG5: Precios Techo | BH5: Cotización 1 | BI5: Cotización 2 | BJ5: Precios Techo | BK5: Cotización 1 | BL5: Cotización 2 | BM5: Precios Techo | BN5: Cotización 1 | BO5: Cotización 2 | BP5: Precios Techo | BQ5: Cotización 1 | BR5: Cotización 2 | BS5: Precios Techo | BT5: Cotización 1 | BU5: Cotización 2 | BV5: Precios Techo | BW5: Cotización 1 | BX5: Cotización 2 | BY5: Precios Techo | BZ5: Cotización 1 | CA5: Cotización 2 | CB5: Precios Techo | CC5: Cotización 1 | CD5: Cotización 2 | CE5: Precios Techo | CF5: Cotización 1 | CG5: Cotización 2 | CH5: Precios Techo
A6: 1 | B6: FRENOS | C6: 0 | D6: 0 | E6: 0 | F6: 0 | G6: 0 | H6: 0 | I6: 0 | J6: 0 | K6: 0 | L6: 0 | M6: 0 | N6: 0 | O6: 0 | P6: 0 | Q6: 0 | R6: 0 | S6: 0 | T6: 0 | U6: 0 | V6: 0 | W6: 0 | X6: 0 | Y6: 0 | Z6: 0 | AA6: 0 | AB6: 0 | AC6: 0 | AD6: 0 | AE6: 0 | AF6: 0 | AG6: 0 | AH6: 0 | AI6: 0 | AJ6: 0 | AK6: 0 | AL6: 0 | AM6: 0 | AN6: 0 | AO6: 0 | AP6: 0 | AQ6: 0 | AR6: 0 | AS6: 0 | AT6: 0 | AU6: 0 | AV6: 0 | AW6: 0 | AX6: 0 | AY6: 0 | AZ6: 0 | BA6: 0 | BB6: 0 | BC6: 0 | BD6: 0 | BE6: 0 | BF6: 0 | BG6: 0 | BH6: 0 | BI6: 0 | BJ6: 0 | BK6: 0 | BL6: 0 | BM6: 0 | BN6: 0 | BO6: 0 | BP6: 0 | BQ6: 0 | BR6: 0 | BS6: 0 | BT6: 0 | BU6: 0 | BV6: 0 | BW6: 0 | BX6: 0 | BY6: 0 | BZ6: 0 | CA6: 0 | CB6: 0 | CC6: 0 | CD6: 0 | CE6: 0 | CF6: 0 | CG6: 0 | CH6: 0
A7: 1.1 | B7: ANTIRRUIDOS PASTILLAS (JUEGO) | C7: 70686 | D7: 64260 | E7: =ROUND(AVERAGE(C7:D7),1) -> 67473 | F7: 62832 | G7: 57120 | H7: =ROUND(AVERAGE(F7:G7),1) -> 59976 | I7: 70686 | J7: 64260 | K7: =ROUND(AVERAGE(I7:J7),1) -> 67473 | L7: 58905 | M7: 53550 | N7: =ROUND(AVERAGE(L7:M7),1) -> 56227.5 | O7: 58905 | P7: 53550 | Q7: =ROUND(AVERAGE(O7:P7),1) -> 56227.5 | R7: 56287 | S7: 51170 | T7: =ROUND(AVERAGE(R7:S7),1) -> 53728.5 | U7: 27489 | V7: 24990 | W7: =ROUND(AVERAGE(U7:V7),1) -> 26239.5 | X7: 62832 | Y7: 57120 | Z7: =ROUND(AVERAGE(X7:Y7),1) -> 59976 | AA7: 71864.1 | AB7: 65331 | AC7: =ROUND(AVERAGE(AA7:AB7),1) -> 68597.6 | AD7: 58905 | AE7: 53550 | AF7: =ROUND(AVERAGE(AD7:AE7),1) -> 56227.5 | AG7: 61523 | AH7: 55930 | AI7: =ROUND(AVERAGE(AG7:AH7),1) -> 58726.5 | AJ7: 60214 | AK7: 54740 | AL7: =ROUND(AVERAGE(AJ7:AK7),1) -> 57477 | AM7: 64141 | AN7: 58310 | AO7: =ROUND(AVERAGE(AM7:AN7),1) -> 61225.5 | AP7: 73304 | AQ7: 66640 | AR7: =ROUND(AVERAGE(AP7:AQ7),1) -> 69972 | AS7: 61523 | AT7: 55930 | AU7: =ROUND(AVERAGE(AS7:AT7),1) -> 58726.5 | AV7: 78540 | AW7: 71400 | AX7: =ROUND(AVERAGE(AV7:AW7),1) -> 74970 | AY7: 64141 | AZ7: 58310 | BA7: =ROUND(AVERAGE(AY7:AZ7),1) -> 61225.5 | BB7: 60214 | BC7: 54740 | BD7: =ROUND(AVERAGE(BB7:BC7),1) -> 57477 | BE7: 65450 | BF7: 59500 | BG7: =ROUND(AVERAGE(BE7:BF7),1) -> 62475 | BH7: 64141 | BI7: 58310 | BJ7: =ROUND(AVERAGE(BH7:BI7),1) -> 61225.5 | BK7: 69377 | BL7: 63070 | BM7: =ROUND(AVERAGE(BK7:BL7),1) -> 66223.5 | BN7: 60214 | BO7: 54740 | BP7: =ROUND(AVERAGE(BN7:BO7),1) -> 57477 | BQ7: 70686 | BR7: 64260 | BS7: =ROUND(AVERAGE(BQ7:BR7),1) -> 67473 | BT7: 75922 | BU7: 69020 | BV7: =ROUND(AVERAGE(BT7:BU7),1) -> 72471 | BW7: 73958.5 | BX7: 67235 | BY7: =ROUND(AVERAGE(BW7:BX7),1) -> 70596.8 | BZ7: 62832 | CA7: 57120 | CB7: =ROUND(AVERAGE(BZ7:CA7),1) -> 59976 | CC7: 75922 | CD7: 69020 | CE7: =ROUND(AVERAGE(CC7:CD7),1) -> 72471 | CF7: 75922 | CG7: 69020 | CH7: =ROUND(AVERAGE(CF7:CG7),1) -> 72471
A8: 1.2 | B8: BANDAS DE FRENO ( JUEGO) | C8: 281558.59 | D8: 255962.36 | E8: =ROUND(AVERAGE(C8:D8),1) -> 268760.5 | F8: 287304.69 | G8: 261186.08 | H8: =ROUND(AVERAGE(F8:G8),1) -> 274245.4 | I8: 689932.4 | J8: 627211.28 | K8: =ROUND(AVERAGE(I8:J8),1) -> 658571.8 | L8: 672751.52 | M8: 611592.29 | N8: =ROUND(AVERAGE(L8:M8),1) -> 642171.9 | O8: 640716.62 | P8: 582469.66 | Q8: =ROUND(AVERAGE(O8:P8),1) -> 611593.1 | R8: 640277.45 | S8: 582070.41 | T8: =ROUND(AVERAGE(R8:S8),1) -> 611173.9 | U8: 758612.75 | V8: 689647.96 | W8: =ROUND(AVERAGE(U8:V8),1) -> 724130.4 | X8: 730515.99 | Y8: 664105.44 | Z8: =ROUND(AVERAGE(X8:Y8),1) -> 697310.7 | AA8: 730183.37 | AB8: 663803.06 | AC8: =ROUND(AVERAGE(AA8:AB8),1) -> 696993.2 | AD8: 773664.03 | AE8: 703330.94 | AF8: =ROUND(AVERAGE(AD8:AE8),1) -> 738497.5 | AG8: 614019.44 | AH8: 558199.49 | AI8: =ROUND(AVERAGE(AG8:AH8),1) -> 586109.5 | AJ8: 614019.44 | AK8: 558199.49 | AL8: =ROUND(AVERAGE(AJ8:AK8),1) -> 586109.5 | AM8: 864294.22 | AN8: 785722.01 | AO8: =ROUND(AVERAGE(AM8:AN8),1) -> 825008.1 | AP8: 864294.22 | AQ8: 785722.01 | AR8: =ROUND(AVERAGE(AP8:AQ8),1) -> 825008.1 | AS8: 864294.22 | AT8: 785722.01 | AU8: =ROUND(AVERAGE(AS8:AT8),1) -> 825008.1 | AV8: 543246.91 | AW8: 493860.83 | AX8: =ROUND(AVERAGE(AV8:AW8),1) -> 518553.9 | AY8: 864294.22 | AZ8: 785722.01 | BA8: =ROUND(AVERAGE(AY8:AZ8),1) -> 825008.1 | BB8: 579654.78 | BC8: 526958.89 | BD8: =ROUND(AVERAGE(BB8:BC8),1) -> 553306.8 | BE8: 574186.04 | BF8: 521987.31 | BG8: =ROUND(AVERAGE(BE8:BF8),1) -> 548086.7 | BH8: 633299.7 | BI8: 575727 | BJ8: =ROUND(AVERAGE(BH8:BI8),1) -> 604513.3 | BK8: 633299.7 | BL8: 575727 | BM8: =ROUND(AVERAGE(BK8:BL8),1) -> 604513.3 | BN8: 419516.3 | BO8: 381378.46 | BP8: =ROUND(AVERAGE(BN8:BO8),1) -> 400447.4 | BQ8: 730515.99 | BR8: 664105.44 | BS8: =ROUND(AVERAGE(BQ8:BR8),1) -> 697310.7 | BT8: 758612.75 | BU8: 689647.96 | BV8: =ROUND(AVERAGE(BT8:BU8),1) -> 724130.4 | BW8: 689932.4 | BX8: 627211.28 | BY8: =ROUND(AVERAGE(BW8:BX8),1) -> 658571.8 | BZ8: 730515.99 | CA8: 664105.44 | CB8: =ROUND(AVERAGE(BZ8:CA8),1) -> 697310.7 | CC8: 767041.79 | CD8: 697310.71 | CE8: =ROUND(AVERAGE(CC8:CD8),1) -> 732176.2 | CF8: 818177.9 | CG8: 743798.1 | CH8: =ROUND(AVERAGE(CF8:CG8),1) -> 780988
A9: 1.3 | B9: BANDAS DE FRENO EMERGENCIA | C9: 170170 | D9: 154700 | E9: =ROUND(AVERAGE(C9:D9),1) -> 162435 | F9: 143990 | G9: 130900 | H9: =ROUND(AVERAGE(F9:G9),1) -> 137445 | I9: 266905.1 | J9: 242641 | K9: =ROUND(AVERAGE(I9:J9),1) -> 254773.1 | L9: 189805 | M9: 172550 | N9: =ROUND(AVERAGE(L9:M9),1) -> 181177.5 | O9: 167552 | P9: 152320 | Q9: =ROUND(AVERAGE(O9:P9),1) -> 159936 | R9: 137445 | S9: 124950 | T9: =ROUND(AVERAGE(R9:S9),1) -> 131197.5 | U9: 78540 | V9: 71400 | W9: =ROUND(AVERAGE(U9:V9),1) -> 74970 | X9: 147917 | Y9: 134470 | Z9: =ROUND(AVERAGE(X9:Y9),1) -> 141193.5 | AA9: 265727 | AB9: 241570 | AC9: =ROUND(AVERAGE(AA9:AB9),1) -> 253648.5 | AD9: 20944 | AE9: 19040 | AF9: =ROUND(AVERAGE(AD9:AE9),1) -> 19992 | AG9: 146608 | AH9: 133280 | AI9: =ROUND(AVERAGE(AG9:AH9),1) -> 139944 | AJ9: 141372 | AK9: 128520 | AL9: =ROUND(AVERAGE(AJ9:AK9),1) -> 134946 | AM9: 150535 | AN9: 136850 | AO9: =ROUND(AVERAGE(AM9:AN9),1) -> 143692.5 | AP9: 269654 | AQ9: 245140 | AR9: =ROUND(AVERAGE(AP9:AQ9),1) -> 257397 | AS9: 143990 | AT9: 130900 | AU9: =ROUND(AVERAGE(AS9:AT9),1) -> 137445 | AV9: 274890 | AW9: 249900 | AX9: =ROUND(AVERAGE(AV9:AW9),1) -> 262395 | AY9: 153153 | AZ9: 139230 | BA9: =ROUND(AVERAGE(AY9:AZ9),1) -> 146191.5 | BB9: 137445 | BC9: 124950 | BD9: =ROUND(AVERAGE(BB9:BC9),1) -> 131197.5 | BE9: 163625 | BF9: 148750 | BG9: =ROUND(AVERAGE(BE9:BF9),1) -> 156187.5 | BH9: 154462 | BI9: 140420 | BJ9: =ROUND(AVERAGE(BH9:BI9),1) -> 147441 | BK9: 215985 | BL9: 196350 | BM9: =ROUND(AVERAGE(BK9:BL9),1) -> 206167.5 | BN9: 129591 | BO9: 117810 | BP9: =ROUND(AVERAGE(BN9:BO9),1) -> 123700.5 | BQ9: 266905.1 | BR9: 242641 | BS9: =ROUND(AVERAGE(BQ9:BR9),1) -> 254773.1 | BT9: 274890 | BU9: 249900 | BV9: =ROUND(AVERAGE(BT9:BU9),1) -> 262395 | BW9: 265727 | BX9: 241570 | BY9: =ROUND(AVERAGE(BW9:BX9),1) -> 253648.5 | BZ9: 147917 | CA9: 134470 | CB9: =ROUND(AVERAGE(BZ9:CA9),1) -> 141193.5 | CC9: 278817 | CD9: 253470 | CE9: =ROUND(AVERAGE(CC9:CD9),1) -> 266143.5 | CF9: 268345 | CG9: 243950 | CH9: =ROUND(AVERAGE(CF9:CG9),1) -> 256147.5
A10: 1.4 | B10: BOHOSTER FRENOS | C10: 602140 | D10: 547400 | E10: =ROUND(AVERAGE(C10:D10),1) -> 574770 | F10: 477785 | G10: 434350 | H10: =ROUND(AVERAGE(F10:G10),1) -> 456067.5 | I10: 981750 | J10: 892500 | K10: =ROUND(AVERAGE(I10:J10),1) -> 937125 | L10: 628320 | M10: 571200 | N10: =ROUND(AVERAGE(L10:M10),1) -> 599760 | O10: 615230 | P10: 559300 | Q10: =ROUND(AVERAGE(O10:P10),1) -> 587265 | R10: 466004 | S10: 423640 | T10: =ROUND(AVERAGE(R10:S10),1) -> 444822 | U10: 274890 | V10: 249900 | W10: =ROUND(AVERAGE(U10:V10),1) -> 262395 | X10: 484330 | Y10: 440300 | Z10: =ROUND(AVERAGE(X10:Y10),1) -> 462315 | AA10: 988295 | AB10: 898450 | AC10: =ROUND(AVERAGE(AA10:AB10),1) -> 943372.5 | AD10: 629629 | AE10: 572390 | AF10: =ROUND(AVERAGE(AD10:AE10),1) -> 601009.5 | AG10: 481712 | AH10: 437920 | AI10: =ROUND(AVERAGE(AG10:AH10),1) -> 459816 | AJ10: 471240 | AK10: 428400 | AL10: =ROUND(AVERAGE(AJ10:AK10),1) -> 449820 | AM10: 488257 | AN10: 443870 | AO10: =ROUND(AVERAGE(AM10:AN10),1) -> 466063.5 | AP10: 988295 | AQ10: 898450 | AR10: =ROUND(AVERAGE(AP10:AQ10),1) -> 943372.5 | AS10: 479094 | AT10: 435540 | AU10: =ROUND(AVERAGE(AS10:AT10),1) -> 457317 | AV10: 994840 | AW10: 904400 | AX10: =ROUND(AVERAGE(AV10:AW10),1) -> 949620 | AY10: 491398.6 | AZ10: 446726 | BA10: =ROUND(AVERAGE(AY10:AZ10),1) -> 469062.3 | BB10: 464695 | BC10: 422450 | BD10: =ROUND(AVERAGE(BB10:BC10),1) -> 443572.5 | BE10: 596904 | BF10: 542640 | BG10: =ROUND(AVERAGE(BE10:BF10),1) -> 569772 | BH10: 549780 | BI10: 499800 | BJ10: =ROUND(AVERAGE(BH10:BI10),1) -> 524790 | BK10: 824670 | BL10: 749700 | BM10: =ROUND(AVERAGE(BK10:BL10),1) -> 787185 | BN10: 458150 | BO10: 416500 | BP10: =ROUND(AVERAGE(BN10:BO10),1) -> 437325 | BQ10: 981750 | BR10: 892500 | BS10: =ROUND(AVERAGE(BQ10:BR10),1) -> 937125 | BT10: 1001385 | BU10: 910350 | BV10: =ROUND(AVERAGE(BT10:BU10),1) -> 955867.5 | BW10: 985677 | BX10: 896070 | BY10: =ROUND(AVERAGE(BW10:BX10),1) -> 940873.5 | BZ10: 484330 | CA10: 440300 | CB10: =ROUND(AVERAGE(BZ10:CA10),1) -> 462315 | CC10: 988295 | CD10: 898450 | CE10: =ROUND(AVERAGE(CC10:CD10),1) -> 943372.5 | CF10: 1007930 | CG10: 916300 | CH10: =ROUND(AVERAGE(CF10:CG10),1) -> 962115
A11: 1.5 | B11: BOMBA DE FRENOS | C11: 647835.52 | D11: 588941.38 | E11: =ROUND(AVERAGE(C11:D11),1) -> 618388.4 | F11: 661056.65 | G11: 600960.59 | H11: =ROUND(AVERAGE(F11:G11),1) -> 631008.6 | I11: 1825447.6 | J11: 1659497.8 | K11: =ROUND(AVERAGE(I11:J11),1) -> 1742472.7 | L11: 1362633.5 | M11: 1238757.8 | N11: =ROUND(AVERAGE(L11:M11),1) -> 1300695.6 | O11: 1297745.9 | P11: 1179769 | Q11: =ROUND(AVERAGE(O11:P11),1) -> 1238757.4 | R11: 1999756.2 | S11: 1817960.1 | T11: =ROUND(AVERAGE(R11:S11),1) -> 1908858.2 | U11: 2007167.3 | V11: 1824697.6 | W11: =ROUND(AVERAGE(U11:V11),1) -> 1915932.4 | X11: 1932826.7 | Y11: 1757115.2 | Z11: =ROUND(AVERAGE(X11:Y11),1) -> 1844971 | AA11: 2379709.8 | AB11: 2163372.5 | AC11: =ROUND(AVERAGE(AA11:AB11),1) -> 2271541.1 | AD11: 1567028.8 | AE11: 1424571.6 | AF11: =ROUND(AVERAGE(AD11:AE11),1) -> 1495800.2 | AG11: 1297745.9 | AH11: 1179769 | AI11: =ROUND(AVERAGE(AG11:AH11),1) -> 1238757.4 | AJ11: 1297745.9 | AK11: 1179769 | AL11: =ROUND(AVERAGE(AJ11:AK11),1) -> 1238757.4 | AM11: 2286781.5 | AN11: 2078892.3 | AO11: =ROUND(AVERAGE(AM11:AN11),1) -> 2182836.9 | AP11: 2286781.5 | AQ11: 2078892.3 | AR11: =ROUND(AVERAGE(AP11:AQ11),1) -> 2182836.9 | AS11: 2286781.5 | AT11: 2078892.3 | AU11: =ROUND(AVERAGE(AS11:AT11),1) -> 2182836.9 | AV11: 1583676.9 | AW11: 1439706.3 | AX11: =ROUND(AVERAGE(AV11:AW11),1) -> 1511691.6 | AY11: 2286781.5 | AZ11: 2078892.3 | BA11: =ROUND(AVERAGE(AY11:AZ11),1) -> 2182836.9 | BB11: 922314.99 | BC11: 838468.17 | BD11: =ROUND(AVERAGE(BB11:BC11),1) -> 880391.6 | BE11: 873991.94 | BF11: 794538.13 | BG11: =ROUND(AVERAGE(BE11:BF11),1) -> 834265 | BH11: 1016585.2 | BI11: 924168.4 | BJ11: =ROUND(AVERAGE(BH11:BI11),1) -> 970376.8 | BK11: 1016585.2 | BL11: 924168.4 | BM11: =ROUND(AVERAGE(BK11:BL11),1) -> 970376.8 | BN11: 872933.62 | BO11: 793576.01 | BP11: =ROUND(AVERAGE(BN11:BO11),1) -> 833254.8 | BQ11: 1932826.7 | BR11: 1757115.2 | BS11: =ROUND(AVERAGE(BQ11:BR11),1) -> 1844971 | BT11: 2007167.3 | BU11: 1824697.6 | BV11: =ROUND(AVERAGE(BT11:BU11),1) -> 1915932.4 | BW11: 1825447.6 | BX11: 1659497.8 | BY11: =ROUND(AVERAGE(BW11:BX11),1) -> 1742472.7 | BZ11: 1932826.7 | CA11: 1757115.2 | CB11: =ROUND(AVERAGE(BZ11:CA11),1) -> 1844971 | CC11: 2029468.1 | CD11: 1844971 | CE11: =ROUND(AVERAGE(CC11:CD11),1) -> 1937219.5 | CF11: 2164765.9 | CG11: 1967969 | CH11: =ROUND(AVERAGE(CF11:CG11),1) -> 2066367.5
A12: 1.6 | B12: CAMPANA FRENO | C12: 411125.98 | D12: 373750.89 | E12: =ROUND(AVERAGE(C12:D12),1) -> 392438.4 | F12: 419516.3 | G12: 381378.46 | H12: =ROUND(AVERAGE(F12:G12),1) -> 400447.4 | I12: 822776.14 | J12: 747978.31 | K12: =ROUND(AVERAGE(I12:J12),1) -> 785377.2 | L12: 768859.08 | M12: 698962.8 | N12: =ROUND(AVERAGE(L12:M12),1) -> 733910.9 | O12: 732246.75 | P12: 665678.86 | Q12: =ROUND(AVERAGE(O12:P12),1) -> 698962.8 | R12: 1055266.7 | S12: 959333.38 | T12: =ROUND(AVERAGE(R12:S12),1) -> 1007300 | U12: 904680.53 | V12: 822436.85 | W12: =ROUND(AVERAGE(U12:V12),1) -> 863558.7 | X12: 871174.06 | Y12: 791976.42 | Z12: =ROUND(AVERAGE(X12:Y12),1) -> 831575.2 | AA12: 1255767 | AB12: 1141606.4 | AC12: =ROUND(AVERAGE(AA12:AB12),1) -> 1198686.7 | AD12: 884187.87 | AE12: 803807.16 | AF12: =ROUND(AVERAGE(AD12:AE12),1) -> 843997.5 | AG12: 732246.75 | AH12: 665678.86 | AI12: =ROUND(AVERAGE(AG12:AH12),1) -> 698962.8 | AJ12: 732246.75 | AK12: 665678.86 | AL12: =ROUND(AVERAGE(AJ12:AK12),1) -> 698962.8 | AM12: 1030710.7 | AN12: 937009.69 | AO12: =ROUND(AVERAGE(AM12:AN12),1) -> 983860.2 | AP12: 1030710.7 | AQ12: 937009.69 | AR12: =ROUND(AVERAGE(AP12:AQ12),1) -> 983860.2 | AS12: 1030710.7 | AT12: 937009.69 | AU12: =ROUND(AVERAGE(AS12:AT12),1) -> 983860.2 | AV12: 865701 | AW12: 787000.91 | AX12: =ROUND(AVERAGE(AV12:AW12),1) -> 826351 | AY12: 1030710.7 | AZ12: 937009.69 | BA12: =ROUND(AVERAGE(AY12:AZ12),1) -> 983860.2 | BB12: 643823.93 | BC12: 585294.48 | BD12: =ROUND(AVERAGE(BB12:BC12),1) -> 614559.2 | BE12: 667835.7 | BF12: 607123.36 | BG12: =ROUND(AVERAGE(BE12:BF12),1) -> 637479.5 | BH12: 680548.58 | BI12: 618680.52 | BJ12: =ROUND(AVERAGE(BH12:BI12),1) -> 649614.6 | BK12: 680548.58 | BL12: 618680.52 | BM12: =ROUND(AVERAGE(BK12:BL12),1) -> 649614.6 | BN12: 577365.34 | BO12: 524877.58 | BP12: =ROUND(AVERAGE(BN12:BO12),1) -> 551121.5 | BQ12: 871174.06 | BR12: 791976.42 | BS12: =ROUND(AVERAGE(BQ12:BR12),1) -> 831575.2 | BT12: 904680.53 | BU12: 822436.85 | BV12: =ROUND(AVERAGE(BT12:BU12),1) -> 863558.7 | BW12: 822776.14 | BX12: 747978.31 | BY12: =ROUND(AVERAGE(BW12:BX12),1) -> 785377.2 | BZ12: 871174.06 | CA12: 791976.42 | CB12: =ROUND(AVERAGE(BZ12:CA12),1) -> 831575.2 | CC12: 914732.76 | CD12: 831575.24 | CE12: =ROUND(AVERAGE(CC12:CD12),1) -> 873154 | CF12: 975714.94 | CG12: 887013.59 | CH12: =ROUND(AVERAGE(CF12:CG12),1) -> 931364.3
A13: 1.7 | B13: CILINDRO FRENO TRASERO | C13: 272008.25 | D13: 247280.23 | E13: =ROUND(AVERAGE(C13:D13),1) -> 259644.2 | F13: 277559.44 | G13: 252326.77 | H13: =ROUND(AVERAGE(F13:G13),1) -> 264943.1 | I13: 424243.5 | J13: 385675.91 | K13: =ROUND(AVERAGE(I13:J13),1) -> 404959.7 | L13: 396443.35 | M13: 360403.04 | N13: =ROUND(AVERAGE(L13:M13),1) -> 378423.2 | O13: 377564.82 | P13: 343240.74 | Q13: =ROUND(AVERAGE(O13:P13),1) -> 360402.8 | R13: 366512.15 | S13: 333192.86 | T13: =ROUND(AVERAGE(R13:S13),1) -> 349852.5 | U13: 466475.76 | V13: 424068.88 | W13: =ROUND(AVERAGE(U13:V13),1) -> 445272.3 | X13: 449199.84 | Y13: 408363.49 | Z13: =ROUND(AVERAGE(X13:Y13),1) -> 428781.7 | AA13: 436150.03 | AB13: 396500.03 | AC13: =ROUND(AVERAGE(AA13:AB13),1) -> 416325 | AD13: 455909.78 | AE13: 414463.43 | AF13: =ROUND(AVERAGE(AD13:AE13),1) -> 435186.6 | AG13: 377564.82 | AH13: 343240.74 | AI13: =ROUND(AVERAGE(AG13:AH13),1) -> 360402.8 | AJ13: 377564.82 | AK13: 343240.74 | AL13: =ROUND(AVERAGE(AJ13:AK13),1) -> 360402.8 | AM13: 531459.89 | AN13: 483145.35 | AO13: =ROUND(AVERAGE(AM13:AN13),1) -> 507302.6 | AP13: 531459.89 | AQ13: 483145.35 | AR13: =ROUND(AVERAGE(AP13:AQ13),1) -> 507302.6 | AS13: 531459.89 | AT13: 483145.35 | AU13: =ROUND(AVERAGE(AS13:AT13),1) -> 507302.6 | AV13: 419349.28 | AW13: 381226.61 | AX13: =ROUND(AVERAGE(AV13:AW13),1) -> 400287.9 | AY13: 531459.89 | AZ13: 483145.35 | BA13: =ROUND(AVERAGE(AY13:AZ13),1) -> 507302.6 | BB13: 464151.77 | BC13: 421956.15 | BD13: =ROUND(AVERAGE(BB13:BC13),1) -> 443054 | BE13: 333070.47 | BF13: 302791.34 | BG13: =ROUND(AVERAGE(BE13:BF13),1) -> 317930.9 | BH13: 519310.01 | BI13: 472100.01 | BJ13: =ROUND(AVERAGE(BH13:BI13),1) -> 495705 | BK13: 519310.01 | BL13: 472100.01 | BM13: =ROUND(AVERAGE(BK13:BL13),1) -> 495705 | BN13: 299805.9 | BO13: 272550.82 | BP13: =ROUND(AVERAGE(BN13:BO13),1) -> 286178.4 | BQ13: 449199.84 | BR13: 408363.49 | BS13: =ROUND(AVERAGE(BQ13:BR13),1) -> 428781.7 | BT13: 466475.76 | BU13: 424068.88 | BV13: =ROUND(AVERAGE(BT13:BU13),1) -> 445272.3 | BW13: 424243.5 | BX13: 385675.91 | BY13: =ROUND(AVERAGE(BW13:BX13),1) -> 404959.7 | BZ13: 449199.84 | CA13: 408363.49 | CB13: =ROUND(AVERAGE(BZ13:CA13),1) -> 428781.7 | CC13: 471659.84 | CD13: 428781.67 | CE13: =ROUND(AVERAGE(CC13:CD13),1) -> 450220.8 | CF13: 503103.82 | CG13: 457367.11 | CH13: =ROUND(AVERAGE(CF13:CG13),1) -> 480235.5
A14: 1.8 | B14: DISCO FRENO DELANTERO | C14: 392023.89 | D14: 356385.36 | E14: =ROUND(AVERAGE(C14:D14),1) -> 374204.6 | F14: 400024.38 | G14: 363658.53 | H14: =ROUND(AVERAGE(F14:G14),1) -> 381841.5 | I14: 750402.45 | J14: 682184.04 | K14: =ROUND(AVERAGE(I14:J14),1) -> 716293.2 | L14: 701228.42 | M14: 637480.38 | N14: =ROUND(AVERAGE(L14:M14),1) -> 669354.4 | O14: 667835.7 | P14: 607123.36 | Q14: =ROUND(AVERAGE(O14:P14),1) -> 637479.5 | R14: NO COTIZADO | S14: NO COTIZADO | T14: NO COTIZADO | U14: 825103.02 | V14: 750093.65 | W14: =ROUND(AVERAGE(U14:V14),1) -> 787598.3 | X14: 794544.02 | Y14: 722312.74 | Z14: =ROUND(AVERAGE(X14:Y14),1) -> 758428.4 | AA14: 746838.69 | AB14: 678944.27 | AC14: =ROUND(AVERAGE(AA14:AB14),1) -> 712891.5 | AD14: 806411.68 | AE14: 733101.52 | AF14: =ROUND(AVERAGE(AD14:AE14),1) -> 769756.6 | AG14: 667835.7 | AH14: 607123.36 | AI14: =ROUND(AVERAGE(AG14:AH14),1) -> 637479.5 | AJ14: 667835.7 | AK14: 607123.36 | AL14: =ROUND(AVERAGE(AJ14:AK14),1) -> 637479.5 | AM14: 940045.91 | AN14: 854587.2 | AO14: =ROUND(AVERAGE(AM14:AN14),1) -> 897316.6 | AP14: 940045.91 | AQ14: 854587.2 | AR14: =ROUND(AVERAGE(AP14:AQ14),1) -> 897316.6 | AS14: 940045.91 | AT14: 854587.2 | AU14: =ROUND(AVERAGE(AS14:AT14),1) -> 897316.6 | AV14: 641730.31 | AW14: 583391.19 | AX14: =ROUND(AVERAGE(AV14:AW14),1) -> 612560.8 | AY14: 940045.91 | AZ14: 854587.2 | BA14: =ROUND(AVERAGE(AY14:AZ14),1) -> 897316.6 | BB14: 678046.03 | BC14: 616405.48 | BD14: =ROUND(AVERAGE(BB14:BC14),1) -> 647225.8 | BE14: 661056.65 | BF14: 600960.59 | BG14: =ROUND(AVERAGE(BE14:BF14),1) -> 631008.6 | BH14: 682243.34 | BI14: 620221.22 | BJ14: =ROUND(AVERAGE(BH14:BI14),1) -> 651232.3 | BK14: 682243.34 | BL14: 620221.22 | BM14: =ROUND(AVERAGE(BK14:BL14),1) -> 651232.3 | BN14: 491554.5 | BO14: 446867.73 | BP14: =ROUND(AVERAGE(BN14:BO14),1) -> 469211.1 | BQ14: 794544.02 | BR14: 722312.74 | BS14: =ROUND(AVERAGE(BQ14:BR14),1) -> 758428.4 | BT14: 825103.02 | BU14: 750093.65 | BV14: =ROUND(AVERAGE(BT14:BU14),1) -> 787598.3 | BW14: 750402.45 | BX14: 682184.04 | BY14: =ROUND(AVERAGE(BW14:BX14),1) -> 716293.2 | BZ14: 794544.02 | CA14: 722312.74 | CB14: =ROUND(AVERAGE(BZ14:CA14),1) -> 758428.4 | CC14: 834271.22 | CD14: 758428.38 | CE14: =ROUND(AVERAGE(CC14:CD14),1) -> 796349.8 | CF14: 889889.3 | CG14: 808990.27 | CH14: =ROUND(AVERAGE(CF14:CG14),1) -> 849439.8
A15: 1.9 | B15: DISCO FRENO TRASERO | C15: 392023.89 | D15: 356385.36 | E15: =ROUND(AVERAGE(C15:D15),1) -> 374204.6 | F15: 400024.38 | G15: 363658.53 | H15: =ROUND(AVERAGE(F15:G15),1) -> 381841.5 | I15: 750402.45 | J15: 682184.04 | K15: =ROUND(AVERAGE(I15:J15),1) -> 716293.2 | L15: 701228.42 | M15: 637480.38 | N15: =ROUND(AVERAGE(L15:M15),1) -> 669354.4 | O15: 667835.7 | P15: 607123.36 | Q15: =ROUND(AVERAGE(O15:P15),1) -> 637479.5 | R15: NO COTIZADO | S15: NO COTIZADO | T15: NO COTIZADO | U15: 825103.02 | V15: 750093.65 | W15: =ROUND(AVERAGE(U15:V15),1) -> 787598.3 | X15: 794544.02 | Y15: 722312.74 | Z15: =ROUND(AVERAGE(X15:Y15),1) -> 758428.4 | AA15: 774205.43 | AB15: 703823.12 | AC15: =ROUND(AVERAGE(AA15:AB15),1) -> 739014.3 | AD15: 806411.68 | AE15: 733101.52 | AF15: =ROUND(AVERAGE(AD15:AE15),1) -> 769756.6 | AG15: 667835.7 | AH15: 607123.36 | AI15: =ROUND(AVERAGE(AG15:AH15),1) -> 637479.5 | AJ15: 667835.7 | AK15: 607123.36 | AL15: =ROUND(AVERAGE(AJ15:AK15),1) -> 637479.5 | AM15: 940045.91 | AN15: 854587.2 | AO15: =ROUND(AVERAGE(AM15:AN15),1) -> 897316.6 | AP15: 940045.91 | AQ15: 854587.2 | AR15: =ROUND(AVERAGE(AP15:AQ15),1) -> 897316.6 | AS15: 940045.91 | AT15: 854587.2 | AU15: =ROUND(AVERAGE(AS15:AT15),1) -> 897316.6 | AV15: 641730.31 | AW15: 583391.19 | AX15: =ROUND(AVERAGE(AV15:AW15),1) -> 612560.8 | AY15: 940045.91 | AZ15: 854587.2 | BA15: =ROUND(AVERAGE(AY15:AZ15),1) -> 897316.6 | BB15: 678046.03 | BC15: 616405.48 | BD15: =ROUND(AVERAGE(BB15:BC15),1) -> 647225.8 | BE15: 661056.65 | BF15: 600960.59 | BG15: =ROUND(AVERAGE(BE15:BF15),1) -> 631008.6 | BH15: 682243.34 | BI15: 620221.22 | BJ15: =ROUND(AVERAGE(BH15:BI15),1) -> 651232.3 | BK15: 682243.34 | BL15: 620221.22 | BM15: =ROUND(AVERAGE(BK15:BL15),1) -> 651232.3 | BN15: 491554.5 | BO15: 446867.73 | BP15: =ROUND(AVERAGE(BN15:BO15),1) -> 469211.1 | BQ15: 794544.02 | BR15: 722312.74 | BS15: =ROUND(AVERAGE(BQ15:BR15),1) -> 758428.4 | BT15: 825103.02 | BU15: 750093.65 | BV15: =ROUND(AVERAGE(BT15:BU15),1) -> 787598.3 | BW15: 750402.45 | BX15: 682184.04 | BY15: =ROUND(AVERAGE(BW15:BX15),1) -> 716293.2 | BZ15: 794544.02 | CA15: 722312.74 | CB15: =ROUND(AVERAGE(BZ15:CA15),1) -> 758428.4 | CC15: 834271.22 | CD15: 758428.38 | CE15: =ROUND(AVERAGE(CC15:CD15),1) -> 796349.8 | CF15: 889889.3 | CG15: 808990.27 | CH15: =ROUND(AVERAGE(CF15:CG15),1) -> 849439.8
A16: 1.10 | B16: GUAYA FRENO PRINCIPAL | C16: 150535 | D16: 136850 | E16: =ROUND(AVERAGE(C16:D16),1) -> 143692.5 | F16: 143990 | G16: 130900 | H16: =ROUND(AVERAGE(F16:G16),1) -> 137445 | I16: 209440 | J16: 190400 | K16: =ROUND(AVERAGE(I16:J16),1) -> 199920 | L16: 176715 | M16: 160650 | N16: =ROUND(AVERAGE(L16:M16),1) -> 168682.5 | O16: 154462 | P16: 140420 | Q16: =ROUND(AVERAGE(O16:P16),1) -> 147441 | R16: 137445 | S16: 124950 | T16: =ROUND(AVERAGE(R16:S16),1) -> 131197.5 | U16: 91630 | V16: 83300 | W16: =ROUND(AVERAGE(U16:V16),1) -> 87465 | X16: 150535 | Y16: 136850 | Z16: =ROUND(AVERAGE(X16:Y16),1) -> 143692.5 | AA16: 213367 | AB16: 193970 | AC16: =ROUND(AVERAGE(AA16:AB16),1) -> 203668.5 | AD16: 175406 | AE16: 159460 | AF16: =ROUND(AVERAGE(AD16:AE16),1) -> 167433 | AG16: 147917 | AH16: 134470 | AI16: =ROUND(AVERAGE(AG16:AH16),1) -> 141193.5 | AJ16: 142681 | AK16: 129710 | AL16: =ROUND(AVERAGE(AJ16:AK16),1) -> 136195.5 | AM16: 154462 | AN16: 140420 | AO16: =ROUND(AVERAGE(AM16:AN16),1) -> 147441 | AP16: 213367 | AQ16: 193970 | AR16: =ROUND(AVERAGE(AP16:AQ16),1) -> 203668.5 | AS16: 149226 | AT16: 135660 | AU16: =ROUND(AVERAGE(AS16:AT16),1) -> 142443 | AV16: 218603 | AW16: 198730 | AX16: =ROUND(AVERAGE(AV16:AW16),1) -> 208666.5 | AY16: 155771 | AZ16: 141610 | BA16: =ROUND(AVERAGE(AY16:AZ16),1) -> 148690.5 | BB16: 150535 | BC16: 136850 | BD16: =ROUND(AVERAGE(BB16:BC16),1) -> 143692.5 | BE16: 147917 | BF16: 134470 | BG16: =ROUND(AVERAGE(BE16:BF16),1) -> 141193.5 | BH16: 154462 | BI16: 140420 | BJ16: =ROUND(AVERAGE(BH16:BI16),1) -> 147441 | BK16: 198968 | BL16: 180880 | BM16: =ROUND(AVERAGE(BK16:BL16),1) -> 189924 | BN16: 143990 | BO16: 130900 | BP16: =ROUND(AVERAGE(BN16:BO16),1) -> 137445 | BQ16: 209440 | BR16: 190400 | BS16: =ROUND(AVERAGE(BQ16:BR16),1) -> 199920 | BT16: 226457 | BU16: 205870 | BV16: =ROUND(AVERAGE(BT16:BU16),1) -> 216163.5 | BW16: 215985 | BX16: 196350 | BY16: =ROUND(AVERAGE(BW16:BX16),1) -> 206167.5 | BZ16: 154462 | CA16: 140420 | CB16: =ROUND(AVERAGE(BZ16:CA16),1) -> 147441 | CC16: 215985 | CD16: 196350 | CE16: =ROUND(AVERAGE(CC16:CD16),1) -> 206167.5 | CF16: 219912 | CG16: 199920 | CH16: =ROUND(AVERAGE(CF16:CG16),1) -> 209916
A17: 1.11 | B17: GUAYA FRENO TRASERA LH - RH | C17: 154331.1 | D17: 140301 | E17: =ROUND(AVERAGE(C17:D17),1) -> 147316.1 | F17: 124355 | G17: 113050 | H17: =ROUND(AVERAGE(F17:G17),1) -> 118702.5 | I17: 327250 | J17: 297500 | K17: =ROUND(AVERAGE(I17:J17),1) -> 312375 | L17: 185878 | M17: 168980 | N17: =ROUND(AVERAGE(L17:M17),1) -> 177429 | O17: 155771 | P17: 141610 | Q17: =ROUND(AVERAGE(O17:P17),1) -> 148690.5 | R17: 121737 | S17: 110670 | T17: =ROUND(AVERAGE(R17:S17),1) -> 116203.5 | U17: 62832 | V17: 57120 | W17: =ROUND(AVERAGE(U17:V17),1) -> 59976 | X17: 128282 | Y17: 116620 | Z17: =ROUND(AVERAGE(X17:Y17),1) -> 122451 | AA17: 329868 | AB17: 299880 | AC17: =ROUND(AVERAGE(AA17:AB17),1) -> 314874 | AD17: 185878 | AE17: 168980 | AF17: =ROUND(AVERAGE(AD17:AE17),1) -> 177429 | AG17: 127627.5 | AH17: 116025 | AI17: =ROUND(AVERAGE(AG17:AH17),1) -> 121826.3 | AJ17: 121737 | AK17: 110670 | AL17: =ROUND(AVERAGE(AJ17:AK17),1) -> 116203.5 | AM17: 129591 | AN17: 117810 | AO17: =ROUND(AVERAGE(AM17:AN17),1) -> 123700.5 | AP17: 329868 | AQ17: 299880 | AR17: =ROUND(AVERAGE(AP17:AQ17),1) -> 314874 | AS17: 128282 | AT17: 116620 | AU17: =ROUND(AVERAGE(AS17:AT17),1) -> 122451 | AV17: 333795 | AW17: 303450 | AX17: =ROUND(AVERAGE(AV17:AW17),1) -> 318622.5 | AY17: 133518 | AZ17: 121380 | BA17: =ROUND(AVERAGE(AY17:AZ17),1) -> 127449 | BB17: 126973 | BC17: 115430 | BD17: =ROUND(AVERAGE(BB17:BC17),1) -> 121201.5 | BE17: 143990 | BF17: 130900 | BG17: =ROUND(AVERAGE(BE17:BF17),1) -> 137445 | BH17: 129591 | BI17: 117810 | BJ17: =ROUND(AVERAGE(BH17:BI17),1) -> 123700.5 | BK17: 324632 | BL17: 295120 | BM17: =ROUND(AVERAGE(BK17:BL17),1) -> 309876 | BN17: 124355 | BO17: 113050 | BP17: =ROUND(AVERAGE(BN17:BO17),1) -> 118702.5 | BQ17: 327250 | BR17: 297500 | BS17: =ROUND(AVERAGE(BQ17:BR17),1) -> 312375 | BT17: 340340 | BU17: 309400 | BV17: =ROUND(AVERAGE(BT17:BU17),1) -> 324870 | BW17: 333795 | BX17: 303450 | BY17: =ROUND(AVERAGE(BW17:BX17),1) -> 318622.5 | BZ17: 137445 | CA17: 124950 | CB17: =ROUND(AVERAGE(BZ17:CA17),1) -> 131197.5 | CC17: 324632 | CD17: 295120 | CE17: =ROUND(AVERAGE(CC17:CD17),1) -> 309876 | CF17: 346885 | CG17: 315350 | CH17: =ROUND(AVERAGE(CF17:CG17),1) -> 331117.5
A18: 1.12 | B18: LIMITADOR DE LIQUIDO DE FRENOS | C18: 1123406.5 | D18: 1021278.7 | E18: =ROUND(AVERAGE(C18:D18),1) -> 1072342.6 | F18: 1146333.2 | G18: 1042121.1 | H18: =ROUND(AVERAGE(F18:G18),1) -> 1094227.1 | I18: 1851260.7 | J18: 1682964.3 | K18: =ROUND(AVERAGE(I18:J18),1) -> 1767112.5 | L18: 1495088.5 | M18: 1359171.4 | N18: =ROUND(AVERAGE(L18:M18),1) -> 1427129.9 | O18: 1495088.5 | P18: 1359171.4 | Q18: =ROUND(AVERAGE(O18:P18),1) -> 1427129.9 | R18: 1647021 | S18: 1497291.8 | T18: =ROUND(AVERAGE(R18:S18),1) -> 1572156.4 | U18: 2721216.6 | V18: 2473833.3 | W18: =ROUND(AVERAGE(U18:V18),1) -> 2597524.9 | X18: 2620430.8 | Y18: 2382209.8 | Z18: =ROUND(AVERAGE(X18:Y18),1) -> 2501320.3 | AA18: 1818559.1 | AB18: 1653235.6 | AC18: =ROUND(AVERAGE(AA18:AB18),1) -> 1735897.4 | AD18: 1850717.9 | AE18: 1682470.8 | AF18: =ROUND(AVERAGE(AD18:AE18),1) -> 1766594.3 | AG18: 1495088.5 | AH18: 1359171.4 | AI18: =ROUND(AVERAGE(AG18:AH18),1) -> 1427129.9 | AJ18: 1495088.5 | AK18: 1359171.4 | AL18: =ROUND(AVERAGE(AJ18:AK18),1) -> 1427129.9 | AM18: 2476962.1 | AN18: 2251783.7 | AO18: =ROUND(AVERAGE(AM18:AN18),1) -> 2364372.9 | AP18: 2476962.1 | AQ18: 2251783.7 | AR18: =ROUND(AVERAGE(AP18:AQ18),1) -> 2364372.9 | AS18: 2476962.1 | AT18: 2251783.7 | AU18: =ROUND(AVERAGE(AS18:AT18),1) -> 2364372.9 | AV18: 1832186.4 | AW18: 1665624 | AX18: =ROUND(AVERAGE(AV18:AW18),1) -> 1748905.2 | AY18: 2476962.1 | AZ18: 2251783.7 | BA18: =ROUND(AVERAGE(AY18:AZ18),1) -> 2364372.9 | BB18: 1680377.7 | BC18: 1527616.1 | BD18: =ROUND(AVERAGE(BB18:BC18),1) -> 1603996.9 | BE18: 1832186.4 | BF18: 1665624 | BG18: =ROUND(AVERAGE(BE18:BF18),1) -> 1748905.2 | BH18: 1704412.5 | BI18: 1549465.9 | BJ18: =ROUND(AVERAGE(BH18:BI18),1) -> 1626939.2 | BK18: 1704412.5 | BL18: 1549465.9 | BM18: =ROUND(AVERAGE(BK18:BL18),1) -> 1626939.2 | BN18: 1704412.5 | BO18: 1549465.9 | BP18: =ROUND(AVERAGE(BN18:BO18),1) -> 1626939.2 | BQ18: 2620430.8 | BR18: 2382209.8 | BS18: =ROUND(AVERAGE(BQ18:BR18),1) -> 2501320.3 | BT18: 2572228.7 | BU18: 2338389.7 | BV18: =ROUND(AVERAGE(BT18:BU18),1) -> 2455309.2 | BW18: 1851260.7 | BX18: 1682964.3 | BY18: =ROUND(AVERAGE(BW18:BX18),1) -> 1767112.5 | BZ18: 2476962.1 | CA18: 2251783.7 | CB18: =ROUND(AVERAGE(BZ18:CA18),1) -> 2364372.9 | CC18: 2600810.2 | CD18: 2364372.9 | CE18: =ROUND(AVERAGE(CC18:CD18),1) -> 2482591.5 | CF18: 2774197.5 | CG18: 2521997.7 | CH18: =ROUND(AVERAGE(CF18:CG18),1) -> 2648097.6
A19: 1.13 | B19: MORDAZAS DE FRENO DELANTERA | C19: 186912.11 | D19: 169920.1 | E19: =ROUND(AVERAGE(C19:D19),1) -> 178416.1 | F19: 150535 | G19: 136850 | H19: =ROUND(AVERAGE(F19:G19),1) -> 143692.5 | I19: 916300 | J19: 833000 | K19: =ROUND(AVERAGE(I19:J19),1) -> 874650 | L19: 202895 | M19: 184450 | N19: =ROUND(AVERAGE(L19:M19),1) -> 193672.5 | O19: 193732 | P19: 176120 | Q19: =ROUND(AVERAGE(O19:P19),1) -> 184926 | R19: 143990 | S19: 130900 | T19: =ROUND(AVERAGE(R19:S19),1) -> 137445 | U19: 85085 | V19: 77350 | W19: =ROUND(AVERAGE(U19:V19),1) -> 81217.5 | X19: 151844 | Y19: 138040 | Z19: =ROUND(AVERAGE(X19:Y19),1) -> 144942 | AA19: 916300 | AB19: 833000 | AC19: =ROUND(AVERAGE(AA19:AB19),1) -> 874650 | AD19: 204204 | AE19: 185640 | AF19: =ROUND(AVERAGE(AD19:AE19),1) -> 194922 | AG19: 147917 | AH19: 134470 | AI19: =ROUND(AVERAGE(AG19:AH19),1) -> 141193.5 | AJ19: 147917 | AK19: 134470 | AL19: =ROUND(AVERAGE(AJ19:AK19),1) -> 141193.5 | AM19: 154462 | AN19: 140420 | AO19: =ROUND(AVERAGE(AM19:AN19),1) -> 147441 | AP19: 942480 | AQ19: 856800 | AR19: =ROUND(AVERAGE(AP19:AQ19),1) -> 899640 | AS19: 150535 | AT19: 136850 | AU19: =ROUND(AVERAGE(AS19:AT19),1) -> 143692.5 | AV19: 962115 | AW19: 874650 | AX19: =ROUND(AVERAGE(AV19:AW19),1) -> 918382.5 | AY19: 158389 | AZ19: 143990 | BA19: =ROUND(AVERAGE(AY19:AZ19),1) -> 151189.5 | BB19: 154462 | BC19: 140420 | BD19: =ROUND(AVERAGE(BB19:BC19),1) -> 147441 | BE19: 176715 | BF19: 160650 | BG19: =ROUND(AVERAGE(BE19:BF19),1) -> 168682.5 | BH19: 154462 | BI19: 140420 | BJ19: =ROUND(AVERAGE(BH19:BI19),1) -> 147441 | BK19: 850850 | BL19: 773500 | BM19: =ROUND(AVERAGE(BK19:BL19),1) -> 812175 | BN19: 150535 | BO19: 136850 | BP19: =ROUND(AVERAGE(BN19:BO19),1) -> 143692.5 | BQ19: 916300 | BR19: 833000 | BS19: =ROUND(AVERAGE(BQ19:BR19),1) -> 874650 | BT19: 962115 | BU19: 874650 | BV19: =ROUND(AVERAGE(BT19:BU19),1) -> 918382.5 | BW19: 946407 | BX19: 860370 | BY19: =ROUND(AVERAGE(BW19:BX19),1) -> 903388.5 | BZ19: 147917 | CA19: 134470 | CB19: =ROUND(AVERAGE(BZ19:CA19),1) -> 141193.5 | CC19: 952952 | CD19: 866320 | CE19: =ROUND(AVERAGE(CC19:CD19),1) -> 909636 | CF19: 979132 | CG19: 890120 | CH19: =ROUND(AVERAGE(CF19:CG19),1) -> 934626
A20: 1.14 | B20: MORDAZAS DE FRENO TRASERA | C20: 163625 | D20: 148750 | E20: =ROUND(AVERAGE(C20:D20),1) -> 156187.5 | F20: 233002 | G20: 211820 | H20: =ROUND(AVERAGE(F20:G20),1) -> 222411 | I20: 916300 | J20: 833000 | K20: =ROUND(AVERAGE(I20:J20),1) -> 874650 | L20: 174097 | M20: 158270 | N20: =ROUND(AVERAGE(L20:M20),1) -> 166183.5 | O20: 170170 | P20: 154700 | Q20: =ROUND(AVERAGE(O20:P20),1) -> 162435 | R20: 226457 | S20: 205870 | T20: =ROUND(AVERAGE(R20:S20),1) -> 216163.5 | U20: 143990 | V20: 130900 | W20: =ROUND(AVERAGE(U20:V20),1) -> 137445 | X20: 235620 | Y20: 214200 | Z20: =ROUND(AVERAGE(X20:Y20),1) -> 224910 | AA20: 916300 | AB20: 833000 | AC20: =ROUND(AVERAGE(AA20:AB20),1) -> 874650 | AD20: 176715 | AE20: 160650 | AF20: =ROUND(AVERAGE(AD20:AE20),1) -> 168682.5 | AG20: 233002 | AH20: 211820 | AI20: =ROUND(AVERAGE(AG20:AH20),1) -> 222411 | AJ20: 233002 | AK20: 211820 | AL20: =ROUND(AVERAGE(AJ20:AK20),1) -> 222411 | AM20: 239547 | AN20: 217770 | AO20: =ROUND(AVERAGE(AM20:AN20),1) -> 228658.5 | AP20: 942480 | AQ20: 856800 | AR20: =ROUND(AVERAGE(AP20:AQ20),1) -> 899640 | AS20: 230384 | AT20: 209440 | AU20: =ROUND(AVERAGE(AS20:AT20),1) -> 219912 | AV20: 962115 | AW20: 874650 | AX20: =ROUND(AVERAGE(AV20:AW20),1) -> 918382.5 | AY20: 244783 | AZ20: 222530 | BA20: =ROUND(AVERAGE(AY20:AZ20),1) -> 233656.5 | BB20: 242165 | BC20: 220150 | BD20: =ROUND(AVERAGE(BB20:BC20),1) -> 231157.5 | BE20: 150535 | BF20: 136850 | BG20: =ROUND(AVERAGE(BE20:BF20),1) -> 143692.5 | BH20: 239547 | BI20: 217770 | BJ20: =ROUND(AVERAGE(BH20:BI20),1) -> 228658.5 | BK20: 824670 | BL20: 749700 | BM20: =ROUND(AVERAGE(BK20:BL20),1) -> 787185 | BN20: 233002 | BO20: 211820 | BP20: =ROUND(AVERAGE(BN20:BO20),1) -> 222411 | BQ20: 916300 | BR20: 833000 | BS20: =ROUND(AVERAGE(BQ20:BR20),1) -> 874650 | BT20: 955570 | BU20: 868700 | BV20: =ROUND(AVERAGE(BT20:BU20),1) -> 912135 | BW20: 939862 | BX20: 854420 | BY20: =ROUND(AVERAGE(BW20:BX20),1) -> 897141 | BZ20: 242165 | CA20: 220150 | CB20: =ROUND(AVERAGE(BZ20:CA20),1) -> 231157.5 | CC20: 972587 | CD20: 884170 | CE20: =ROUND(AVERAGE(CC20:CD20),1) -> 928378.5 | CF20: 939862 | CG20: 854420 | CH20: =ROUND(AVERAGE(CF20:CG20),1) -> 897141
A21: 1.15 | B21: PASTILLAS DELANTERAS (JUEGO) | C21: 232556.67 | D21: 211415.15 | E21: =ROUND(AVERAGE(C21:D21),1) -> 221985.9 | F21: 237302.72 | G21: 215729.74 | H21: =ROUND(AVERAGE(F21:G21),1) -> 226516.2 | I21: 626493.29 | J21: 569539.35 | K21: =ROUND(AVERAGE(I21:J21),1) -> 598016.3 | L21: 382649.11 | M21: 347862.82 | N21: =ROUND(AVERAGE(L21:M21),1) -> 365256 | O21: 364428.61 | P21: 331298.74 | Q21: =ROUND(AVERAGE(O21:P21),1) -> 347863.7 | R21: NO COTIZADO | S21: NO COTIZADO | T21: NO COTIZADO | U21: 688858.24 | V21: 626234.76 | W21: =ROUND(AVERAGE(U21:V21),1) -> 657546.5 | X21: 663344.65 | Y21: 603040.59 | Z21: =ROUND(AVERAGE(X21:Y21),1) -> 633192.6 | AA21: 647854.21 | AB21: 588958.37 | AC21: =ROUND(AVERAGE(AA21:AB21),1) -> 618406.3 | AD21: 440047.84 | AE21: 400043.49 | AF21: =ROUND(AVERAGE(AD21:AE21),1) -> 420045.7 | AG21: 364428.61 | AH21: 331298.74 | AI21: =ROUND(AVERAGE(AG21:AH21),1) -> 347863.7 | AJ21: 364428.61 | AK21: 331298.74 | AL21: =ROUND(AVERAGE(AJ21:AK21),1) -> 347863.7 | AM21: 784821.81 | AN21: 713474.38 | AO21: =ROUND(AVERAGE(AM21:AN21),1) -> 749148.1 | AP21: 784821.81 | AQ21: 713474.38 | AR21: =ROUND(AVERAGE(AP21:AQ21),1) -> 749148.1 | AS21: 784821.81 | AT21: 713474.38 | AU21: =ROUND(AVERAGE(AS21:AT21),1) -> 749148.1 | AV21: 501312.7 | AW21: 455738.82 | AX21: =ROUND(AVERAGE(AV21:AW21),1) -> 478525.8 | AY21: 784821.81 | AZ21: 713474.38 | BA21: =ROUND(AVERAGE(AY21:AZ21),1) -> 749148.1 | BB21: 457735.57 | BC21: 416123.25 | BD21: =ROUND(AVERAGE(BB21:BC21),1) -> 436929.4 | BE21: 447060.15 | BF21: 406418.32 | BG21: =ROUND(AVERAGE(BE21:BF21),1) -> 426739.2 | BH21: 470366.37 | BI21: 427605.79 | BJ21: =ROUND(AVERAGE(BH21:BI21),1) -> 448986.1 | BK21: 470366.37 | BL21: 427605.79 | BM21: =ROUND(AVERAGE(BK21:BL21),1) -> 448986.1 | BN21: 341122.39 | BO21: 310111.26 | BP21: =ROUND(AVERAGE(BN21:BO21),1) -> 325616.8 | BQ21: 663344.65 | BR21: 603040.59 | BS21: =ROUND(AVERAGE(BQ21:BR21),1) -> 633192.6 | BT21: 688858.24 | BU21: 626234.76 | BV21: =ROUND(AVERAGE(BT21:BU21),1) -> 657546.5 | BW21: 626493.29 | BX21: 569539.35 | BY21: =ROUND(AVERAGE(BW21:BX21),1) -> 598016.3 | BZ21: 663344.65 | CA21: 603040.59 | CB21: =ROUND(AVERAGE(BZ21:CA21),1) -> 633192.6 | CC21: 696511.88 | CD21: 633192.62 | CE21: =ROUND(AVERAGE(CC21:CD21),1) -> 664852.3 | CF21: 742946.01 | CG21: 675405.46 | CH21: =ROUND(AVERAGE(CF21:CG21),1) -> 709175.7
A22: 1.16 | B22: PASTILLAS TRASERAS ( JUEGO) | C22: 232556.67 | D22: 211415.15 | E22: =ROUND(AVERAGE(C22:D22),1) -> 221985.9 | F22: 237302.72 | G22: 215729.74 | H22: =ROUND(AVERAGE(F22:G22),1) -> 226516.2 | I22: 705428.61 | J22: 641298.73 | K22: =ROUND(AVERAGE(I22:J22),1) -> 673363.7 | L22: 382649.11 | M22: 347862.82 | N22: =ROUND(AVERAGE(L22:M22),1) -> 365256 | O22: 364428.61 | P22: 331298.74 | Q22: =ROUND(AVERAGE(O22:P22),1) -> 347863.7 | R22: NO COTIZADO | S22: NO COTIZADO | T22: NO COTIZADO | U22: 775651.09 | V22: 705137.36 | W22: =ROUND(AVERAGE(U22:V22),1) -> 740394.2 | X22: 746923.65 | Y22: 679021.5 | Z22: =ROUND(AVERAGE(X22:Y22),1) -> 712972.6 | AA22: 582900.32 | AB22: 529909.38 | AC22: =ROUND(AVERAGE(AA22:AB22),1) -> 556404.8 | AD22: 440047.84 | AE22: 400043.49 | AF22: =ROUND(AVERAGE(AD22:AE22),1) -> 420045.7 | AG22: 364428.61 | AH22: 331298.74 | AI22: =ROUND(AVERAGE(AG22:AH22),1) -> 347863.7 | AJ22: 364428.61 | AK22: 331298.74 | AL22: =ROUND(AVERAGE(AJ22:AK22),1) -> 347863.7 | AM22: 883705.51 | AN22: 803368.64 | AO22: =ROUND(AVERAGE(AM22:AN22),1) -> 843537.1 | AP22: 883705.51 | AQ22: 803368.64 | AR22: =ROUND(AVERAGE(AP22:AQ22),1) -> 843537.1 | AS22: 883705.51 | AT22: 803368.64 | AU22: =ROUND(AVERAGE(AS22:AT22),1) -> 843537.1 | AV22: 553699.15 | AW22: 503362.86 | AX22: =ROUND(AVERAGE(AV22:AW22),1) -> 528531 | AY22: 883705.51 | AZ22: 803368.64 | BA22: =ROUND(AVERAGE(AY22:AZ22),1) -> 843537.1 | BB22: 457735.57 | BC22: 416123.25 | BD22: =ROUND(AVERAGE(BB22:BC22),1) -> 436929.4 | BE22: 447060.15 | BF22: 406418.32 | BG22: =ROUND(AVERAGE(BE22:BF22),1) -> 426739.2 | BH22: 470791.14 | BI22: 427991.95 | BJ22: =ROUND(AVERAGE(BH22:BI22),1) -> 449391.5 | BK22: 470791.14 | BL22: 427991.95 | BM22: =ROUND(AVERAGE(BK22:BL22),1) -> 449391.5 | BN22: 341122.39 | BO22: 310111.26 | BP22: =ROUND(AVERAGE(BN22:BO22),1) -> 325616.8 | BQ22: 746923.65 | BR22: 679021.5 | BS22: =ROUND(AVERAGE(BQ22:BR22),1) -> 712972.6 | BT22: 775651.09 | BU22: 705137.36 | BV22: =ROUND(AVERAGE(BT22:BU22),1) -> 740394.2 | BW22: 705428.61 | BX22: 641298.73 | BY22: =ROUND(AVERAGE(BW22:BX22),1) -> 673363.7 | BZ22: 746923.65 | CA22: 679021.5 | CB22: =ROUND(AVERAGE(BZ22:CA22),1) -> 712972.6 | CC22: 784269.83 | CD22: 712972.57 | CE22: =ROUND(AVERAGE(CC22:CD22),1) -> 748621.2 | CF22: 836554.48 | CG22: 760504.08 | CH22: =ROUND(AVERAGE(CF22:CG22),1) -> 798529.3
A23: 1.17 | B23: SENSOR ABS DELANTERO | C23: 1265520 | D23: 1150472.7 | E23: =ROUND(AVERAGE(C23:D23),1) -> 1207996.4 | F23: 1291347 | G23: 1173951.8 | H23: =ROUND(AVERAGE(F23:G23),1) -> 1232649.4 | I23: 2268968.5 | J23: 2062698.6 | K23: =ROUND(AVERAGE(I23:J23),1) -> 2165833.6 | L23: 1682399.3 | M23: 1529453.9 | N23: =ROUND(AVERAGE(L23:M23),1) -> 1605926.6 | O23: 1682399.3 | P23: 1529453.9 | Q23: =ROUND(AVERAGE(O23:P23),1) -> 1605926.6 | R23: 1852926.7 | S23: 1684478.8 | T23: =ROUND(AVERAGE(R23:S23),1) -> 1768702.7 | U23: 3846462.5 | V23: 3496784.1 | W23: =ROUND(AVERAGE(U23:V23),1) -> 3671623.3 | X23: 3704000.2 | Y23: 3367272.9 | Z23: =ROUND(AVERAGE(X23:Y23),1) -> 3535636.6 | AA23: 2268893.6 | AB23: 2062630.6 | AC23: =ROUND(AVERAGE(AA23:AB23),1) -> 2165762.1 | AD23: 2080021.9 | AE23: 1890929 | AF23: =ROUND(AVERAGE(AD23:AE23),1) -> 1985475.5 | AG23: 1682399.3 | AH23: 1529453.9 | AI23: =ROUND(AVERAGE(AG23:AH23),1) -> 1605926.6 | AJ23: 1682399.3 | AK23: 1529453.9 | AL23: =ROUND(AVERAGE(AJ23:AK23),1) -> 1605926.6 | AM23: 3704000.2 | AN23: 3367272.9 | AO23: =ROUND(AVERAGE(AM23:AN23),1) -> 3535636.6 | AP23: 3704000.2 | AQ23: 3367272.9 | AR23: =ROUND(AVERAGE(AP23:AQ23),1) -> 3535636.6 | AS23: 3704000.2 | AT23: 3367272.9 | AU23: =ROUND(AVERAGE(AS23:AT23),1) -> 3535636.6 | AV23: 1851073.5 | AW23: 1682794.1 | AX23: =ROUND(AVERAGE(AV23:AW23),1) -> 1766933.8 | AY23: 3704000.2 | AZ23: 3367272.9 | BA23: =ROUND(AVERAGE(AY23:AZ23),1) -> 3535636.6 | BB23: 1851073.5 | BC23: 1682794.1 | BD23: =ROUND(AVERAGE(BB23:BC23),1) -> 1766933.8 | BE23: 1851073.5 | BF23: 1682794.1 | BG23: =ROUND(AVERAGE(BE23:BF23),1) -> 1766933.8 | BH23: 1851073.5 | BI23: 1682794.1 | BJ23: =ROUND(AVERAGE(BH23:BI23),1) -> 1766933.8 | BK23: 1851073.5 | BL23: 1682794.1 | BM23: =ROUND(AVERAGE(BK23:BL23),1) -> 1766933.8 | BN23: 1871832.6 | BO23: 1701666 | BP23: =ROUND(AVERAGE(BN23:BO23),1) -> 1786749.3 | BQ23: 3704000.2 | BR23: 3367272.9 | BS23: =ROUND(AVERAGE(BQ23:BR23),1) -> 3535636.6 | BT23: 3846462.5 | BU23: 3496784.1 | BV23: =ROUND(AVERAGE(BT23:BU23),1) -> 3671623.3 | BW23: 2268968.5 | BX23: 2062698.6 | BY23: =ROUND(AVERAGE(BW23:BX23),1) -> 2165833.6 | BZ23: 3704000.2 | CA23: 3367272.9 | CB23: =ROUND(AVERAGE(BZ23:CA23),1) -> 3535636.6 | CC23: 3889200.2 | CD23: 3535636.6 | CE23: =ROUND(AVERAGE(CC23:CD23),1) -> 3712418.4 | CF23: 4148480.2 | CG23: 3771345.7 | CH23: =ROUND(AVERAGE(CF23:CG23),1) -> 3959912.9
A24: 1.18 | B24: SENSOR ABS TRASERO | C24: 1094954.5 | D24: 995413.16 | E24: =ROUND(AVERAGE(C24:D24),1) -> 1045183.8 | F24: 1117300.5 | G24: 1015727.7 | H24: =ROUND(AVERAGE(F24:G24),1) -> 1066514.1 | I24: 2494266.8 | J24: 2267515.2 | K24: =ROUND(AVERAGE(I24:J24),1) -> 2380891 | L24: 1645149.1 | M24: 1495590.1 | N24: =ROUND(AVERAGE(L24:M24),1) -> 1570369.6 | O24: 1645149.1 | P24: 1495590.1 | Q24: =ROUND(AVERAGE(O24:P24),1) -> 1570369.6 | R24: 1864008.1 | S24: 1694552.9 | T24: =ROUND(AVERAGE(R24:S24),1) -> 1779280.5 | U24: 3867902.6 | V24: 3516275.1 | W24: =ROUND(AVERAGE(U24:V24),1) -> 3692088.8 | X24: 3724646.9 | Y24: 3386042.7 | Z24: =ROUND(AVERAGE(X24:Y24),1) -> 3555344.8 | AA24: 2267021.8 | AB24: 2060928.9 | AC24: =ROUND(AVERAGE(AA24:AB24),1) -> 2163975.3 | AD24: 2080021.9 | AE24: 1890929 | AF24: =ROUND(AVERAGE(AD24:AE24),1) -> 1985475.5 | AG24: 1645149.1 | AH24: 1495590.1 | AI24: =ROUND(AVERAGE(AG24:AH24),1) -> 1570369.6 | AJ24: 1645149.1 | AK24: 1495590.1 | AL24: =ROUND(AVERAGE(AJ24:AK24),1) -> 1570369.6 | AM24: 3724646.9 | AN24: 3386042.7 | AO24: =ROUND(AVERAGE(AM24:AN24),1) -> 3555344.8 | AP24: 3724646.9 | AQ24: 3386042.7 | AR24: =ROUND(AVERAGE(AP24:AQ24),1) -> 3555344.8 | AS24: 3724646.9 | AT24: 3386042.7 | AU24: =ROUND(AVERAGE(AS24:AT24),1) -> 3555344.8 | AV24: 1852945.4 | AW24: 1684495.8 | AX24: =ROUND(AVERAGE(AV24:AW24),1) -> 1768720.6 | AY24: 3724646.9 | AZ24: 3386042.7 | BA24: =ROUND(AVERAGE(AY24:AZ24),1) -> 3555344.8 | BB24: 1852945.4 | BC24: 1684495.8 | BD24: =ROUND(AVERAGE(BB24:BC24),1) -> 1768720.6 | BE24: 1852945.4 | BF24: 1684495.8 | BG24: =ROUND(AVERAGE(BE24:BF24),1) -> 1768720.6 | BH24: 1852945.4 | BI24: 1684495.8 | BJ24: =ROUND(AVERAGE(BH24:BI24),1) -> 1768720.6 | BK24: 1852945.4 | BL24: 1684495.8 | BM24: =ROUND(AVERAGE(BK24:BL24),1) -> 1768720.6 | BN24: 1852945.4 | BO24: 1684495.8 | BP24: =ROUND(AVERAGE(BN24:BO24),1) -> 1768720.6 | BQ24: 3724646.9 | BR24: 3386042.7 | BS24: =ROUND(AVERAGE(BQ24:BR24),1) -> 3555344.8 | BT24: 3867902.6 | BU24: 3516275.1 | BV24: =ROUND(AVERAGE(BT24:BU24),1) -> 3692088.8 | BW24: 2494266.8 | BX24: 2267515.2 | BY24: =ROUND(AVERAGE(BW24:BX24),1) -> 2380891 | BZ24: 3724646.9 | CA24: 3386042.7 | CB24: =ROUND(AVERAGE(BZ24:CA24),1) -> 3555344.8 | CC24: 3910879.3 | CD24: 3555344.8 | CE24: =ROUND(AVERAGE(CC24:CD24),1) -> 3733112 | CF24: 4171604.6 | CG24: 3792367.8 | CH24: =ROUND(AVERAGE(CF24:CG24),1) -> 3981986.2
A25: 1.19 | B25: SENSOR DE STOP | C25: 274083.99 | D25: 249167.26 | E25: =ROUND(AVERAGE(C25:D25),1) -> 261625.6 | F25: 279677.54 | G25: 254252.31 | H25: =ROUND(AVERAGE(F25:G25),1) -> 266964.9 | I25: 645476.93 | J25: 586797.21 | K25: =ROUND(AVERAGE(I25:J25),1) -> 616137.1 | L25: 471637.81 | M25: 428761.64 | N25: =ROUND(AVERAGE(L25:M25),1) -> 450199.7 | O25: 449179.68 | P25: 408345.17 | Q25: =ROUND(AVERAGE(O25:P25),1) -> 428762.4 | R25: 352510.56 | S25: 320464.14 | T25: =ROUND(AVERAGE(R25:S25),1) -> 336487.4 | U25: 709732.47 | V25: 645211.34 | W25: =ROUND(AVERAGE(U25:V25),1) -> 677471.9 | X25: 683447.1 | Y25: 621315.54 | Z25: =ROUND(AVERAGE(X25:Y25),1) -> 652381.3 | AA25: 419487.51 | AB25: 381352.28 | AC25: =ROUND(AVERAGE(AA25:AB25),1) -> 400419.9 | AD25: 542384.41 | AE25: 493076.74 | AF25: =ROUND(AVERAGE(AD25:AE25),1) -> 517730.6 | AG25: 449179.68 | AH25: 408345.17 | AI25: =ROUND(AVERAGE(AG25:AH25),1) -> 428762.4 | AJ25: 449179.68 | AK25: 408345.17 | AL25: =ROUND(AVERAGE(AJ25:AK25),1) -> 428762.4 | AM25: 808604.64 | AN25: 735095.13 | AO25: =ROUND(AVERAGE(AM25:AN25),1) -> 771849.9 | AP25: 808604.64 | AQ25: 735095.13 | AR25: =ROUND(AVERAGE(AP25:AQ25),1) -> 771849.9 | AS25: 808604.64 | AT25: 735095.13 | AU25: =ROUND(AVERAGE(AS25:AT25),1) -> 771849.9 | AV25: 596618.25 | AW25: 542380.22 | AX25: =ROUND(AVERAGE(AV25:AW25),1) -> 569499.2 | AY25: 808604.64 | AZ25: 735095.13 | BA25: =ROUND(AVERAGE(AY25:AZ25),1) -> 771849.9 | BB25: 453457.63 | BC25: 412234.21 | BD25: =ROUND(AVERAGE(BB25:BC25),1) -> 432845.9 | BE25: 449179.68 | BF25: 408345.17 | BG25: =ROUND(AVERAGE(BE25:BF25),1) -> 428762.4 | BH25: 449179.68 | BI25: 408345.17 | BJ25: =ROUND(AVERAGE(BH25:BI25),1) -> 428762.4 | BK25: 449179.68 | BL25: 408345.17 | BM25: =ROUND(AVERAGE(BK25:BL25),1) -> 428762.4 | BN25: 397904.85 | BO25: 361731.68 | BP25: =ROUND(AVERAGE(BN25:BO25),1) -> 379818.3 | BQ25: 683447.1 | BR25: 621315.54 | BS25: =ROUND(AVERAGE(BQ25:BR25),1) -> 652381.3 | BT25: 709732.47 | BU25: 645211.34 | BV25: =ROUND(AVERAGE(BT25:BU25),1) -> 677471.9 | BW25: 645476.93 | BX25: 586797.21 | BY25: =ROUND(AVERAGE(BW25:BX25),1) -> 616137.1 | BZ25: 683447.1 | CA25: 621315.54 | CB25: =ROUND(AVERAGE(BZ25:CA25),1) -> 652381.3 | CC25: 717619.45 | CD25: 652381.32 | CE25: =ROUND(AVERAGE(CC25:CD25),1) -> 685000.4 | CF25: 765460.75 | CG25: 695873.41 | CH25: =ROUND(AVERAGE(CF25:CG25),1) -> 730667.1
A26: 2 | B26: MOTOR | E26: 0 | H26: 0 | K26: 0 | N26: 0 | Q26: 0 | T26: 0 | W26: 0 | Z26: 0 | AC26: 0 | AF26: 0 | AI26: 0 | AL26: 0 | AO26: 0 | AR26: 0 | AU26: 0 | AX26: 0 | BA26: 0 | BD26: 0 | BG26: 0 | BJ26: 0 | BM26: 0 | BP26: 0 | BS26: 0 | BV26: 0 | BY26: 0 | CB26: 0 | CE26: 0 | CH26: 0
A27: 2.1 | B27: PISTONES (JUEGO) | C27: 915180.08 | D27: 831981.89 | E27: =ROUND(AVERAGE(C27:D27),1) -> 873581 | F27: 933857.22 | G27: 848961.11 | H27: =ROUND(AVERAGE(F27:G27),1) -> 891409.2 | I27: 4140576.4 | J27: 3764160.4 | K27: =ROUND(AVERAGE(I27:J27),1) -> 3952368.4 | L27: 2805910.1 | M27: 2550827.4 | N27: =ROUND(AVERAGE(L27:M27),1) -> 2678368.7 | O27: 2805910.1 | P27: 2550827.4 | Q27: =ROUND(AVERAGE(O27:P27),1) -> 2678368.7 | R27: 2433206.4 | S27: 2212005.8 | T27: =ROUND(AVERAGE(R27:S27),1) -> 2322606.1 | U27: 5418912.5 | V27: 4926284.1 | W27: =ROUND(AVERAGE(U27:V27),1) -> 5172598.3 | X27: 5218212 | Y27: 4743829.1 | Z27: =ROUND(AVERAGE(X27:Y27),1) -> 4981020.5 | AA27: 2526799.9 | AB27: 2297090.8 | AC27: =ROUND(AVERAGE(AA27:AB27),1) -> 2411945.3 | AD27: 3724796.7 | AE27: 3386178.8 | AF27: =ROUND(AVERAGE(AD27:AE27),1) -> 3555487.7 | AG27: 1850717.9 | AH27: 1682470.8 | AI27: =ROUND(AVERAGE(AG27:AH27),1) -> 1766594.3 | AJ27: 1850717.9 | AK27: 1682470.8 | AL27: =ROUND(AVERAGE(AJ27:AK27),1) -> 1766594.3 | AM27: 3999362.6 | AN27: 3635784.2 | AO27: =ROUND(AVERAGE(AM27:AN27),1) -> 3817573.4 | AP27: 3999362.6 | AQ27: 3635784.2 | AR27: =ROUND(AVERAGE(AP27:AQ27),1) -> 3817573.4 | AS27: 3999362.6 | AT27: 3635784.2 | AU27: =ROUND(AVERAGE(AS27:AT27),1) -> 3817573.4 | AV27: 3096466.1 | AW27: 2814969.2 | AX27: =ROUND(AVERAGE(AV27:AW27),1) -> 2955717.6 | AY27: 3999362.6 | AZ27: 3635784.2 | BA27: =ROUND(AVERAGE(AY27:AZ27),1) -> 3817573.4 | BB27: 1853132.6 | BC27: 1684666 | BD27: =ROUND(AVERAGE(BB27:BC27),1) -> 1768899.3 | BE27: 1869623.8 | BF27: 1699658 | BG27: =ROUND(AVERAGE(BE27:BF27),1) -> 1784640.9 | BH27: 1869436.6 | BI27: 1699487.8 | BJ27: =ROUND(AVERAGE(BH27:BI27),1) -> 1784462.2 | BK27: 1869436.6 | BL27: 1699487.8 | BM27: =ROUND(AVERAGE(BK27:BL27),1) -> 1784462.2 | BN27: 1869436.6 | BO27: 1699487.8 | BP27: =ROUND(AVERAGE(BN27:BO27),1) -> 1784462.2 | BQ27: 5218212 | BR27: 4743829.1 | BS27: =ROUND(AVERAGE(BQ27:BR27),1) -> 4981020.5 | BT27: 5271956.3 | BU27: 4792687.5 | BV27: =ROUND(AVERAGE(BT27:BU27),1) -> 5032321.9 | BW27: 4140576.4 | BX27: 3764160.4 | BY27: =ROUND(AVERAGE(BW27:BX27),1) -> 3952368.4 | BZ27: 5076698.6 | CA27: 4615180.6 | CB27: =ROUND(AVERAGE(BZ27:CA27),1) -> 4845939.6 | CC27: 5330533.6 | CD27: 4845939.6 | CE27: =ROUND(AVERAGE(CC27:CD27),1) -> 5088236.6 | CF27: 5685902.5 | CG27: 5169002.2 | CH27: =ROUND(AVERAGE(CF27:CG27),1) -> 5427452.4
A28: 2.2 | B28: VALVULAS DE ADMISION( JUEGO) | C28: 364850.3 | D28: 331682.09 | E28: =ROUND(AVERAGE(C28:D28),1) -> 348266.2 | F28: 372296.22 | G28: 338451.11 | H28: =ROUND(AVERAGE(F28:G28),1) -> 355373.7 | I28: 956899.94 | J28: 869909.04 | K28: =ROUND(AVERAGE(I28:J28),1) -> 913404.5 | L28: 934025.69 | M28: 849114.27 | N28: =ROUND(AVERAGE(L28:M28),1) -> 891570 | O28: 934025.69 | P28: 849114.27 | Q28: =ROUND(AVERAGE(O28:P28),1) -> 891570 | R28: 881856.68 | S28: 801687.89 | T28: =ROUND(AVERAGE(R28:S28),1) -> 841772.3 | U28: 1110335.7 | V28: 1009396.1 | W28: =ROUND(AVERAGE(U28:V28),1) -> 1059865.9 | X28: 1069212.1 | Y28: 972011.04 | Z28: =ROUND(AVERAGE(X28:Y28),1) -> 1020611.6 | AA28: 933501.57 | AB28: 848637.79 | AC28: =ROUND(AVERAGE(AA28:AB28),1) -> 891069.7 | AD28: 956899.94 | AE28: 869909.04 | AF28: =ROUND(AVERAGE(AD28:AE28),1) -> 913404.5 | AG28: 598786.73 | AH28: 544351.58 | AI28: =ROUND(AVERAGE(AG28:AH28),1) -> 571569.2 | AJ28: 598786.73 | AK28: 544351.58 | AL28: =ROUND(AVERAGE(AJ28:AK28),1) -> 571569.2 | AM28: 956899.94 | AN28: 869909.04 | AO28: =ROUND(AVERAGE(AM28:AN28),1) -> 913404.5 | AP28: 956899.94 | AQ28: 869909.04 | AR28: =ROUND(AVERAGE(AP28:AQ28),1) -> 913404.5 | AS28: 956899.94 | AT28: 869909.04 | AU28: =ROUND(AVERAGE(AS28:AT28),1) -> 913404.5 | AV28: 934025.69 | AW28: 849114.27 | AX28: =ROUND(AVERAGE(AV28:AW28),1) -> 891570 | AY28: 956899.94 | AZ28: 869909.04 | BA28: =ROUND(AVERAGE(AY28:AZ28),1) -> 913404.5 | BB28: 646169.52 | BC28: 587426.84 | BD28: =ROUND(AVERAGE(BB28:BC28),1) -> 616798.2 | BE28: 654817.56 | BF28: 595288.69 | BG28: =ROUND(AVERAGE(BE28:BF28),1) -> 625053.1 | BH28: 649913.26 | BI28: 590830.24 | BJ28: =ROUND(AVERAGE(BH28:BI28),1) -> 620371.8 | BK28: 649913.26 | BL28: 590830.24 | BM28: =ROUND(AVERAGE(BK28:BL28),1) -> 620371.8 | BN28: 595217.22 | BO28: 541106.57 | BP28: =ROUND(AVERAGE(BN28:BO28),1) -> 568161.9 | BQ28: 1069212.1 | BR28: 972011.04 | BS28: =ROUND(AVERAGE(BQ28:BR28),1) -> 1020611.6 | BT28: 1063682.9 | BU28: 966984.48 | BV28: =ROUND(AVERAGE(BT28:BU28),1) -> 1015333.7 | BW28: 956899.94 | BX28: 869909.04 | BY28: =ROUND(AVERAGE(BW28:BX28),1) -> 913404.5 | BZ28: 1024287.3 | CA28: 931170.24 | CB28: =ROUND(AVERAGE(BZ28:CA28),1) -> 977728.8 | CC28: 1075501.6 | CD28: 977728.75 | CE28: =ROUND(AVERAGE(CC28:CD28),1) -> 1026615.2 | CF28: 1147201.7 | CG28: 1042910.7 | CH28: =ROUND(AVERAGE(CF28:CG28),1) -> 1095056.2
A29: 2.3 | B29: VALVULAS DE ESCAPE (JUEGO) | C29: 364813.61 | D29: 331648.74 | E29: =ROUND(AVERAGE(C29:D29),1) -> 348231.2 | F29: 372258.79 | G29: 338417.08 | H29: =ROUND(AVERAGE(F29:G29),1) -> 355337.9 | I29: 960643.68 | J29: 873312.44 | K29: =ROUND(AVERAGE(I29:J29),1) -> 916978.1 | L29: 898272.98 | M29: 816611.8 | N29: =ROUND(AVERAGE(L29:M29),1) -> 857442.4 | O29: 898272.98 | P29: 816611.8 | Q29: =ROUND(AVERAGE(O29:P29),1) -> 857442.4 | R29: 808928.62 | S29: 735389.66 | T29: =ROUND(AVERAGE(R29:S29),1) -> 772159.1 | U29: 1062418.7 | V29: 965835.18 | W29: =ROUND(AVERAGE(U29:V29),1) -> 1014126.9 | X29: 1023070.5 | Y29: 930064.14 | Z29: =ROUND(AVERAGE(X29:Y29),1) -> 976567.3 | AA29: 933501.57 | AB29: 848637.79 | AC29: =ROUND(AVERAGE(AA29:AB29),1) -> 891069.7 | AD29: 960643.68 | AE29: 873312.44 | AF29: =ROUND(AVERAGE(AD29:AE29),1) -> 916978.1 | AG29: 606673.07 | AH29: 551520.97 | AI29: =ROUND(AVERAGE(AG29:AH29),1) -> 579097 | AJ29: 606673.07 | AK29: 551520.97 | AL29: =ROUND(AVERAGE(AJ29:AK29),1) -> 579097 | AM29: 960643.68 | AN29: 873312.44 | AO29: =ROUND(AVERAGE(AM29:AN29),1) -> 916978.1 | AP29: 960643.68 | AQ29: 873312.44 | AR29: =ROUND(AVERAGE(AP29:AQ29),1) -> 916978.1 | AS29: 960643.68 | AT29: 873312.44 | AU29: =ROUND(AVERAGE(AS29:AT29),1) -> 916978.1 | AV29: 898272.98 | AW29: 816611.8 | AX29: =ROUND(AVERAGE(AV29:AW29),1) -> 857442.4 | AY29: 960643.68 | AZ29: 873312.44 | BA29: =ROUND(AVERAGE(AY29:AZ29),1) -> 916978.1 | BB29: 646169.52 | BC29: 587426.84 | BD29: =ROUND(AVERAGE(BB29:BC29),1) -> 616798.2 | BE29: 667441.17 | BF29: 606764.7 | BG29: =ROUND(AVERAGE(BE29:BF29),1) -> 637102.9 | BH29: 673498.83 | BI29: 612271.66 | BJ29: =ROUND(AVERAGE(BH29:BI29),1) -> 642885.2 | BK29: 673498.83 | BL29: 612271.66 | BM29: =ROUND(AVERAGE(BK29:BL29),1) -> 642885.2 | BN29: 601806.2 | BO29: 547096.55 | BP29: =ROUND(AVERAGE(BN29:BO29),1) -> 574451.4 | BQ29: 1023070.5 | BR29: 930064.14 | BS29: =ROUND(AVERAGE(BQ29:BR29),1) -> 976567.3 | BT29: 1062418.7 | BU29: 965835.18 | BV29: =ROUND(AVERAGE(BT29:BU29),1) -> 1014126.9 | BW29: 960643.68 | BX29: 873312.44 | BY29: =ROUND(AVERAGE(BW29:BX29),1) -> 916978.1 | BZ29: 1023070.5 | CA29: 930064.14 | CB29: =ROUND(AVERAGE(BZ29:CA29),1) -> 976567.3 | CC29: 1074224.1 | CD29: 976567.34 | CE29: =ROUND(AVERAGE(CC29:CD29),1) -> 1025395.7 | CF29: 1145839 | CG29: 1041671.8 | CH29: =ROUND(AVERAGE(CF29:CG29),1) -> 1093755.4
A30: 2.4 | B30: ANILLOS (JUEGO) | C30: 411540.84 | D30: 374128.04 | E30: =ROUND(AVERAGE(C30:D30),1) -> 392834.4 | F30: 419939.64 | G30: 381763.3 | H30: =ROUND(AVERAGE(F30:G30),1) -> 400851.5 | I30: 1880290.5 | J30: 1709355 | K30: =ROUND(AVERAGE(I30:J30),1) -> 1794822.8 | L30: 1757074 | M30: 1597340 | N30: =ROUND(AVERAGE(L30:M30),1) -> 1677207 | O30: 1673404.3 | P30: 1521276.6 | Q30: =ROUND(AVERAGE(O30:P30),1) -> 1597340.4 | R30: 1260966.5 | S30: 1146333.2 | T30: =ROUND(AVERAGE(R30:S30),1) -> 1203649.8 | U30: 2067468.9 | V30: 1879517.2 | W30: =ROUND(AVERAGE(U30:V30),1) -> 1973493 | X30: 1990896.5 | Y30: 1809905.9 | Z30: =ROUND(AVERAGE(X30:Y30),1) -> 1900401.2 | AA30: 1500550 | AB30: 1364136.4 | AC30: =ROUND(AVERAGE(AA30:AB30),1) -> 1432343.2 | AD30: 2020636.1 | AE30: 1836942 | AF30: =ROUND(AVERAGE(AD30:AE30),1) -> 1928789.1 | AG30: 1052604.3 | AH30: 956913.03 | AI30: =ROUND(AVERAGE(AG30:AH30),1) -> 1004758.7 | AJ30: 1052604.3 | AK30: 956913.03 | AL30: =ROUND(AVERAGE(AJ30:AK30),1) -> 1004758.7 | AM30: 2355483.5 | AN30: 2141348.6 | AO30: =ROUND(AVERAGE(AM30:AN30),1) -> 2248416 | AP30: 2355483.5 | AQ30: 2141348.6 | AR30: =ROUND(AVERAGE(AP30:AQ30),1) -> 2248416 | AS30: 2355483.5 | AT30: 2141348.6 | AU30: =ROUND(AVERAGE(AS30:AT30),1) -> 2248416 | AV30: 920660.54 | AW30: 836964.13 | AX30: =ROUND(AVERAGE(AV30:AW30),1) -> 878812.3 | AY30: 2355483.5 | AZ30: 2141348.6 | BA30: =ROUND(AVERAGE(AY30:AZ30),1) -> 2248416 | BB30: 887663.79 | BC30: 806967.08 | BD30: =ROUND(AVERAGE(BB30:BC30),1) -> 847315.4 | BE30: 845176.66 | BF30: 768342.42 | BG30: =ROUND(AVERAGE(BE30:BF30),1) -> 806759.5 | BH30: 985228.54 | BI30: 895662.31 | BJ30: =ROUND(AVERAGE(BH30:BI30),1) -> 940445.4 | BK30: 985228.54 | BL30: 895662.31 | BM30: =ROUND(AVERAGE(BK30:BL30),1) -> 940445.4 | BN30: 635419.23 | BO30: 577653.85 | BP30: =ROUND(AVERAGE(BN30:BO30),1) -> 606536.5 | BQ30: 1990896.5 | BR30: 1809905.9 | BS30: =ROUND(AVERAGE(BQ30:BR30),1) -> 1900401.2 | BT30: 2067468.9 | BU30: 1879517.2 | BV30: =ROUND(AVERAGE(BT30:BU30),1) -> 1973493 | BW30: 1880290.5 | BX30: 1709355 | BY30: =ROUND(AVERAGE(BW30:BX30),1) -> 1794822.8 | BZ30: 1990896.5 | CA30: 1809905.9 | CB30: =ROUND(AVERAGE(BZ30:CA30),1) -> 1900401.2 | CC30: 2090441.3 | CD30: 1900401.2 | CE30: =ROUND(AVERAGE(CC30:CD30),1) -> 1995421.2 | CF30: 2229804 | CG30: 2027094.6 | CH30: =ROUND(AVERAGE(CF30:CG30),1) -> 2128449.3
A31: 2.5 | B31: ASPAS FAN CLUTHS | C31: 353430 | D31: 321300 | E31: =ROUND(AVERAGE(C31:D31),1) -> 337365 | F31: 248710 | G31: 226100 | H31: =ROUND(AVERAGE(F31:G31),1) -> 237405 | I31: 458150 | J31: 416500 | K31: =ROUND(AVERAGE(I31:J31),1) -> 437325 | L31: 405790 | M31: 368900 | N31: =ROUND(AVERAGE(L31:M31),1) -> 387345 | O31: 373065 | P31: 339150 | Q31: =ROUND(AVERAGE(O31:P31),1) -> 356107.5 | R31: 239547 | S31: 217770 | T31: =ROUND(AVERAGE(R31:S31),1) -> 228658.5 | U31: 193732 | V31: 176120 | W31: =ROUND(AVERAGE(U31:V31),1) -> 184926 | X31: 248710 | Y31: 226100 | Z31: =ROUND(AVERAGE(X31:Y31),1) -> 237405 | AA31: 458150 | AB31: 416500 | AC31: =ROUND(AVERAGE(AA31:AB31),1) -> 437325 | AD31: 407099 | AE31: 370090 | AF31: =ROUND(AVERAGE(AD31:AE31),1) -> 388594.5 | AG31: 242165 | AH31: 220150 | AI31: =ROUND(AVERAGE(AG31:AH31),1) -> 231157.5 | AJ31: 246092 | AK31: 223720 | AL31: =ROUND(AVERAGE(AJ31:AK31),1) -> 234906 | AM31: 257873 | AN31: 234430 | AO31: =ROUND(AVERAGE(AM31:AN31),1) -> 246151.5 | AP31: 477785 | AQ31: 434350 | AR31: =ROUND(AVERAGE(AP31:AQ31),1) -> 456067.5 | AS31: 243474 | AT31: 221340 | AU31: =ROUND(AVERAGE(AS31:AT31),1) -> 232407 | AV31: 475167 | AW31: 431970 | AX31: =ROUND(AVERAGE(AV31:AW31),1) -> 453568.5 | AY31: 265727 | AZ31: 241570 | BA31: =ROUND(AVERAGE(AY31:AZ31),1) -> 253648.5 | BB31: 252637 | BC31: 229670 | BD31: =ROUND(AVERAGE(BB31:BC31),1) -> 241153.5 | BE31: 327250 | BF31: 297500 | BG31: =ROUND(AVERAGE(BE31:BF31),1) -> 312375 | BH31: 257873 | BI31: 234430 | BJ31: =ROUND(AVERAGE(BH31:BI31),1) -> 246151.5 | BK31: 451605 | BL31: 410550 | BM31: =ROUND(AVERAGE(BK31:BL31),1) -> 431077.5 | BN31: 242165 | BO31: 220150 | BP31: =ROUND(AVERAGE(BN31:BO31),1) -> 231157.5 | BQ31: 458150 | BR31: 416500 | BS31: =ROUND(AVERAGE(BQ31:BR31),1) -> 437325 | BT31: 481712 | BU31: 437920 | BV31: =ROUND(AVERAGE(BT31:BU31),1) -> 459816 | BW31: 475167 | BX31: 431970 | BY31: =ROUND(AVERAGE(BW31:BX31),1) -> 453568.5 | BZ31: 257873 | CA31: 234430 | CB31: =ROUND(AVERAGE(BZ31:CA31),1) -> 246151.5 | CC31: 466004 | CD31: 423640 | CE31: =ROUND(AVERAGE(CC31:CD31),1) -> 444822 | CF31: 458150 | CG31: 416500 | CH31: =ROUND(AVERAGE(CF31:CG31),1) -> 437325
A32: 2.6 | B32: BASE PATIN TENSOR MONOCORREA | C32: 392700 | D32: 357000 | E32: =ROUND(AVERAGE(C32:D32),1) -> 374850 | F32: 109956 | G32: 99960 | H32: =ROUND(AVERAGE(F32:G32),1) -> 104958 | I32: 363902 | J32: 330820 | K32: =ROUND(AVERAGE(I32:J32),1) -> 347361 | L32: 471240 | M32: 428400 | N32: =ROUND(AVERAGE(L32:M32),1) -> 449820 | O32: 405790 | P32: 368900 | Q32: =ROUND(AVERAGE(O32:P32),1) -> 387345 | R32: 103411 | S32: 94010 | T32: =ROUND(AVERAGE(R32:S32),1) -> 98710.5 | U32: 62832 | V32: 57120 | W32: =ROUND(AVERAGE(U32:V32),1) -> 59976 | X32: 109956 | Y32: 99960 | Z32: =ROUND(AVERAGE(X32:Y32),1) -> 104958 | AA32: 363902 | AB32: 330820 | AC32: =ROUND(AVERAGE(AA32:AB32),1) -> 347361 | AD32: 471240 | AE32: 428400 | AF32: =ROUND(AVERAGE(AD32:AE32),1) -> 449820 | AG32: 109956 | AH32: 99960 | AI32: =ROUND(AVERAGE(AG32:AH32),1) -> 104958 | AJ32: 108647 | AK32: 98770 | AL32: =ROUND(AVERAGE(AJ32:AK32),1) -> 103708.5 | AM32: 116501 | AN32: 105910 | AO32: =ROUND(AVERAGE(AM32:AN32),1) -> 111205.5 | AP32: 363902 | AQ32: 330820 | AR32: =ROUND(AVERAGE(AP32:AQ32),1) -> 347361 | AS32: 109956 | AT32: 99960 | AU32: =ROUND(AVERAGE(AS32:AT32),1) -> 104958 | AV32: 359975 | AW32: 327250 | AX32: =ROUND(AVERAGE(AV32:AW32),1) -> 343612.5 | AY32: 123046 | AZ32: 111860 | BA32: =ROUND(AVERAGE(AY32:AZ32),1) -> 117453 | BB32: 113883 | BC32: 103530 | BD32: =ROUND(AVERAGE(BB32:BC32),1) -> 108706.5 | BE32: 370447 | BF32: 336770 | BG32: =ROUND(AVERAGE(BE32:BF32),1) -> 353608.5 | BH32: 116501 | BI32: 105910 | BJ32: =ROUND(AVERAGE(BH32:BI32),1) -> 111205.5 | BK32: 333795 | BL32: 303450 | BM32: =ROUND(AVERAGE(BK32:BL32),1) -> 318622.5 | BN32: 108647 | BO32: 98770 | BP32: =ROUND(AVERAGE(BN32:BO32),1) -> 103708.5 | BQ32: 363902 | BR32: 330820 | BS32: =ROUND(AVERAGE(BQ32:BR32),1) -> 347361 | BT32: 373065 | BU32: 339150 | BV32: =ROUND(AVERAGE(BT32:BU32),1) -> 356107.5 | BW32: 346885 | BX32: 315350 | BY32: =ROUND(AVERAGE(BW32:BX32),1) -> 331117.5 | BZ32: 119119 | CA32: 108290 | CB32: =ROUND(AVERAGE(BZ32:CA32),1) -> 113704.5 | CC32: 357357 | CD32: 324870 | CE32: =ROUND(AVERAGE(CC32:CD32),1) -> 341113.5 | CF32: 384846 | CG32: 349860 | CH32: =ROUND(AVERAGE(CF32:CG32),1) -> 367353
A33: 2.7 | B33: BOMBA DE ACEITE | C33: 853414.73 | D33: 775831.58 | E33: =ROUND(AVERAGE(C33:D33),1) -> 814623.2 | F33: 870831.36 | G33: 791664.87 | H33: =ROUND(AVERAGE(F33:G33),1) -> 831248.1 | I33: 3096073 | J33: 2814611.8 | K33: =ROUND(AVERAGE(I33:J33),1) -> 2955342.4 | L33: 1855397.5 | M33: 1686725 | N33: =ROUND(AVERAGE(L33:M33),1) -> 1771061.3 | O33: 1855397.5 | P33: 1686725 | Q33: =ROUND(AVERAGE(O33:P33),1) -> 1771061.3 | R33: NO COTIZADO | S33: NO COTIZADO | T33: NO COTIZADO | U33: 3345780.4 | V33: 3041618.6 | W33: =ROUND(AVERAGE(U33:V33),1) -> 3193699.5 | X33: 3221862.6 | Y33: 2928966 | Z33: =ROUND(AVERAGE(X33:Y33),1) -> 3075414.3 | AA33: 1871495.6 | AB33: 1701359.7 | AC33: =ROUND(AVERAGE(AA33:AB33),1) -> 1786427.6 | AD33: 2474799.3 | AE33: 2249817.6 | AF33: =ROUND(AVERAGE(AD33:AE33),1) -> 2362308.4 | AG33: 1121006.8 | AH33: 1019097.1 | AI33: =ROUND(AVERAGE(AG33:AH33),1) -> 1070051.9 | AJ33: 1121006.8 | AK33: 1019097.1 | AL33: =ROUND(AVERAGE(AJ33:AK33),1) -> 1070051.9 | AM33: 3096073 | AN33: 2814611.8 | AO33: =ROUND(AVERAGE(AM33:AN33),1) -> 2955342.4 | AP33: 3096073 | AQ33: 2814611.8 | AR33: =ROUND(AVERAGE(AP33:AQ33),1) -> 2955342.4 | AS33: 3096073 | AT33: 2814611.8 | AU33: =ROUND(AVERAGE(AS33:AT33),1) -> 2955342.4 | AV33: 2098759.4 | AW33: 1907963.1 | AX33: =ROUND(AVERAGE(AV33:AW33),1) -> 2003361.2 | AY33: 3096073 | AZ33: 2814611.8 | BA33: =ROUND(AVERAGE(AY33:AZ33),1) -> 2955342.4 | BB33: 1272497.2 | BC33: 1156815.7 | BD33: =ROUND(AVERAGE(BB33:BC33),1) -> 1214656.4 | BE33: 1272497.2 | BF33: 1156815.7 | BG33: =ROUND(AVERAGE(BE33:BF33),1) -> 1214656.4 | BH33: 1307875.6 | BI33: 1188977.8 | BJ33: =ROUND(AVERAGE(BH33:BI33),1) -> 1248426.7 | BK33: 1307875.6 | BL33: 1188977.8 | BM33: =ROUND(AVERAGE(BK33:BL33),1) -> 1248426.7 | BN33: 1146520.4 | BO33: 1042291.2 | BP33: =ROUND(AVERAGE(BN33:BO33),1) -> 1094405.8 | BQ33: 3221862.6 | BR33: 2928966 | BS33: =ROUND(AVERAGE(BQ33:BR33),1) -> 3075414.3 | BT33: 3226621.5 | BU33: 2933292.3 | BV33: =ROUND(AVERAGE(BT33:BU33),1) -> 3079956.9 | BW33: 3096073 | BX33: 2814611.8 | BY33: =ROUND(AVERAGE(BW33:BX33),1) -> 2955342.4 | BZ33: 3107117 | CA33: 2824651.8 | CB33: =ROUND(AVERAGE(BZ33:CA33),1) -> 2965884.4 | CC33: 3262472.9 | CD33: 2965884.4 | CE33: =ROUND(AVERAGE(CC33:CD33),1) -> 3114178.6 | CF33: 3479971.1 | CG33: 3163610 | CH33: =ROUND(AVERAGE(CF33:CG33),1) -> 3321790.6
A34: 2.8 | B34: BOMBA DE AGUA | C34: 648872.68 | D34: 589884.25 | E34: =ROUND(AVERAGE(C34:D34),1) -> 619378.5 | F34: 662114.98 | G34: 601922.71 | H34: =ROUND(AVERAGE(F34:G34),1) -> 632018.8 | I34: 1920049.1 | J34: 1745499.1 | K34: =ROUND(AVERAGE(I34:J34),1) -> 1832774.1 | L34: 1794227.7 | M34: 1631116.1 | N34: =ROUND(AVERAGE(L34:M34),1) -> 1712671.9 | O34: 1708788.4 | P34: 1553444 | Q34: =ROUND(AVERAGE(O34:P34),1) -> 1631116.2 | R34: 1026851.7 | S34: 933501.57 | T34: =ROUND(AVERAGE(R34:S34),1) -> 980176.6 | U34: 2111184.3 | V34: 1919258.4 | W34: =ROUND(AVERAGE(U34:V34),1) -> 2015221.3 | X34: 2032991.9 | Y34: 1848174.5 | Z34: =ROUND(AVERAGE(X34:Y34),1) -> 1940583.2 | AA34: 1221953.9 | AB34: 1110867.1 | AC34: =ROUND(AVERAGE(AA34:AB34),1) -> 1166410.5 | AD34: 2063360.9 | AE34: 1875782.6 | AF34: =ROUND(AVERAGE(AD34:AE34),1) -> 1969571.7 | AG34: 987134.96 | AH34: 897395.42 | AI34: =ROUND(AVERAGE(AG34:AH34),1) -> 942265.2 | AJ34: 987134.96 | AK34: 897395.42 | AL34: =ROUND(AVERAGE(AJ34:AK34),1) -> 942265.2 | AM34: 2405289.6 | AN34: 2186626.9 | AO34: =ROUND(AVERAGE(AM34:AN34),1) -> 2295958.2 | AP34: 2405289.6 | AQ34: 2186626.9 | AR34: =ROUND(AVERAGE(AP34:AQ34),1) -> 2295958.2 | AS34: 2405289.6 | AT34: 2186626.9 | AU34: =ROUND(AVERAGE(AS34:AT34),1) -> 2295958.2 | AV34: 992776.49 | AW34: 902524.08 | AX34: =ROUND(AVERAGE(AV34:AW34),1) -> 947650.3 | AY34: 2405289.6 | AZ34: 2186626.9 | BA34: =ROUND(AVERAGE(AY34:AZ34),1) -> 2295958.2 | BB34: 901567.47 | BC34: 819606.79 | BD34: =ROUND(AVERAGE(BB34:BC34),1) -> 860587.1 | BE34: 967536.49 | BF34: 879578.62 | BG34: =ROUND(AVERAGE(BE34:BF34),1) -> 923557.6 | BH34: 893061.98 | BI34: 811874.53 | BJ34: =ROUND(AVERAGE(BH34:BI34),1) -> 852468.3 | BK34: 893061.98 | BL34: 811874.53 | BM34: =ROUND(AVERAGE(BK34:BL34),1) -> 852468.3 | BN34: 662114.98 | BO34: 601922.71 | BP34: =ROUND(AVERAGE(BN34:BO34),1) -> 632018.8 | BQ34: 2032991.9 | BR34: 1848174.5 | BS34: =ROUND(AVERAGE(BQ34:BR34),1) -> 1940583.2 | BT34: 2111184.3 | BU34: 1919258.4 | BV34: =ROUND(AVERAGE(BT34:BU34),1) -> 2015221.3 | BW34: 1920049.1 | BX34: 1745499.1 | BY34: =ROUND(AVERAGE(BW34:BX34),1) -> 1832774.1 | BZ34: 2032991.9 | CA34: 1848174.5 | CB34: =ROUND(AVERAGE(BZ34:CA34),1) -> 1940583.2 | CC34: 2134641.5 | CD34: 1940583.2 | CE34: =ROUND(AVERAGE(CC34:CD34),1) -> 2037612.4 | CF34: 2276951 | CG34: 2069955.4 | CH34: =ROUND(AVERAGE(CF34:CG34),1) -> 2173453.2
A35: 2.9 | B35: CASQUETES BANCADA (JUEGO) | C35: 412990.04 | D35: 375445.5 | E35: =ROUND(AVERAGE(C35:D35),1) -> 394217.8 | F35: 421418.41 | G35: 383107.65 | H35: =ROUND(AVERAGE(F35:G35),1) -> 402263 | I35: 928004.03 | J35: 843640.03 | K35: =ROUND(AVERAGE(I35:J35),1) -> 885822 | L35: 867191.29 | M35: 788355.72 | N35: =ROUND(AVERAGE(L35:M35),1) -> 827773.5 | O35: 825896.4 | P35: 750814.91 | Q35: =ROUND(AVERAGE(O35:P35),1) -> 788355.7 | R35: 596714.72 | S35: 542467.93 | T35: =ROUND(AVERAGE(R35:S35),1) -> 569591.3 | U35: 1020383.7 | V35: 927621.54 | W35: =ROUND(AVERAGE(U35:V35),1) -> 974002.6 | X35: 982592.08 | Y35: 893265.53 | Z35: =ROUND(AVERAGE(X35:Y35),1) -> 937928.8 | AA35: 710091 | AB35: 645537.28 | AC35: =ROUND(AVERAGE(AA35:AB35),1) -> 677814.1 | AD35: 997270.42 | AE35: 906609.47 | AF35: =ROUND(AVERAGE(AD35:AE35),1) -> 951939.9 | AG35: 593022.81 | AH35: 539111.65 | AI35: =ROUND(AVERAGE(AG35:AH35),1) -> 566067.2 | AJ35: 593022.81 | AK35: 539111.65 | AL35: =ROUND(AVERAGE(AJ35:AK35),1) -> 566067.2 | AM35: 1162532.1 | AN35: 1056847.3 | AO35: =ROUND(AVERAGE(AM35:AN35),1) -> 1109689.7 | AP35: 1162532.1 | AQ35: 1056847.3 | AR35: =ROUND(AVERAGE(AP35:AQ35),1) -> 1109689.7 | AS35: 1162532.1 | AT35: 1056847.3 | AU35: =ROUND(AVERAGE(AS35:AT35),1) -> 1109689.7 | AV35: 631875.64 | AW35: 574432.4 | AX35: =ROUND(AVERAGE(AV35:AW35),1) -> 603154 | AY35: 1162532.1 | AZ35: 1056847.3 | BA35: =ROUND(AVERAGE(AY35:AZ35),1) -> 1109689.7 | BB35: 639331.44 | BC35: 581210.4 | BD35: =ROUND(AVERAGE(BB35:BC35),1) -> 610270.9 | BE35: 633299.7 | BF35: 575727 | BG35: =ROUND(AVERAGE(BE35:BF35),1) -> 604513.3 | BH35: 633299.7 | BI35: 575727 | BJ35: =ROUND(AVERAGE(BH35:BI35),1) -> 604513.3 | BK35: 633299.7 | BL35: 575727 | BM35: =ROUND(AVERAGE(BK35:BL35),1) -> 604513.3 | BN35: 421418.41 | BO35: 383107.65 | BP35: =ROUND(AVERAGE(BN35:BO35),1) -> 402263 | BQ35: 982592.08 | BR35: 893265.53 | BS35: =ROUND(AVERAGE(BQ35:BR35),1) -> 937928.8 | BT35: 1020383.7 | BU35: 927621.54 | BV35: =ROUND(AVERAGE(BT35:BU35),1) -> 974002.6 | BW35: 928004.03 | BX35: 843640.03 | BY35: =ROUND(AVERAGE(BW35:BX35),1) -> 885822 | BZ35: 982592.08 | CA35: 893265.53 | CB35: =ROUND(AVERAGE(BZ35:CA35),1) -> 937928.8 | CC35: 1031721.7 | CD35: 937928.8 | CE35: =ROUND(AVERAGE(CC35:CD35),1) -> 984825.2 | CF35: 1100503.1 | CG35: 1000457.4 | CH35: =ROUND(AVERAGE(CF35:CG35),1) -> 1050480.3
A36: 2.10 | B36: CASQUETES BIELA (JUEGO) | C36: 392231.32 | D36: 356573.93 | E36: =ROUND(AVERAGE(C36:D36),1) -> 374402.6 | F36: 400236.04 | G36: 363850.95 | H36: =ROUND(AVERAGE(F36:G36),1) -> 382043.5 | I36: 1109176.6 | J36: 1008342.3 | K36: =ROUND(AVERAGE(I36:J36),1) -> 1058759.5 | L36: 1036491.9 | M36: 942265.32 | N36: =ROUND(AVERAGE(L36:M36),1) -> 989378.6 | O36: 987134.96 | P36: 897395.42 | Q36: =ROUND(AVERAGE(O36:P36),1) -> 942265.2 | R36: 643455.31 | S36: 584959.38 | T36: =ROUND(AVERAGE(R36:S36),1) -> 614207.3 | U36: 1219592.4 | V36: 1108720.4 | W36: =ROUND(AVERAGE(U36:V36),1) -> 1164156.4 | X36: 1174421.3 | Y36: 1067655.7 | Z36: =ROUND(AVERAGE(X36:Y36),1) -> 1121038.5 | AA36: 765711.46 | AB36: 696101.33 | AC36: =ROUND(AVERAGE(AA36:AB36),1) -> 730906.4 | AD36: 1191965.1 | AE36: 1083604.6 | AF36: =ROUND(AVERAGE(AD36:AE36),1) -> 1137784.8 | AG36: 590924.88 | AH36: 537204.44 | AI36: =ROUND(AVERAGE(AG36:AH36),1) -> 564064.7 | AJ36: 590924.88 | AK36: 537204.44 | AL36: =ROUND(AVERAGE(AJ36:AK36),1) -> 564064.7 | AM36: 1389490.5 | AN36: 1263173.2 | AO36: =ROUND(AVERAGE(AM36:AN36),1) -> 1326331.9 | AP36: 1389490.5 | AQ36: 1263173.2 | AR36: =ROUND(AVERAGE(AP36:AQ36),1) -> 1326331.9 | AS36: 1389490.5 | AT36: 1263173.2 | AU36: =ROUND(AVERAGE(AS36:AT36),1) -> 1326331.9 | AV36: 600112.88 | AW36: 545557.17 | AX36: =ROUND(AVERAGE(AV36:AW36),1) -> 572835 | AY36: 1389490.5 | AZ36: 1263173.2 | BA36: =ROUND(AVERAGE(AY36:AZ36),1) -> 1326331.9 | BB36: 619866.87 | BC36: 563515.34 | BD36: =ROUND(AVERAGE(BB36:BC36),1) -> 591691.1 | BE36: 614019.44 | BF36: 558199.49 | BG36: =ROUND(AVERAGE(BE36:BF36),1) -> 586109.5 | BH36: 614019.44 | BI36: 558199.49 | BJ36: =ROUND(AVERAGE(BH36:BI36),1) -> 586109.5 | BK36: 614019.44 | BL36: 558199.49 | BM36: =ROUND(AVERAGE(BK36:BL36),1) -> 586109.5 | BN36: 400236.04 | BO36: 363850.95 | BP36: =ROUND(AVERAGE(BN36:BO36),1) -> 382043.5 | BQ36: 1174421.3 | BR36: 1067655.7 | BS36: =ROUND(AVERAGE(BQ36:BR36),1) -> 1121038.5 | BT36: 1219592.4 | BU36: 1108720.4 | BV36: =ROUND(AVERAGE(BT36:BU36),1) -> 1164156.4 | BW36: 1109176.6 | BX36: 1008342.3 | BY36: =ROUND(AVERAGE(BW36:BX36),1) -> 1058759.5 | BZ36: 1174421.3 | CA36: 1067655.7 | CB36: =ROUND(AVERAGE(BZ36:CA36),1) -> 1121038.5 | CC36: 1233142.4 | CD36: 1121038.5 | CE36: =ROUND(AVERAGE(CC36:CD36),1) -> 1177090.5 | CF36: 1315351.9 | CG36: 1195774.4 | CH36: =ROUND(AVERAGE(CF36:CG36),1) -> 1255563.2
A37: 2.11 | B37: CORREA AIRE ACONDICIONADO | C37: 143063.17 | D37: 130057.42 | E37: =ROUND(AVERAGE(C37:D37),1) -> 136560.3 | F37: 145982.82 | G37: 132711.66 | H37: =ROUND(AVERAGE(F37:G37),1) -> 139347.2 | I37: 233309.88 | J37: 212099.89 | K37: =ROUND(AVERAGE(I37:J37),1) -> 222704.9 | L37: 218021.02 | M37: 198200.93 | N37: =ROUND(AVERAGE(L37:M37),1) -> 208111 | O37: 207639.34 | P37: 188763.04 | Q37: =ROUND(AVERAGE(O37:P37),1) -> 198201.2 | R37: 146604.86 | S37: 133277.14 | T37: =ROUND(AVERAGE(R37:S37),1) -> 139941 | U37: 256535.46 | V37: 233214.06 | W37: =ROUND(AVERAGE(U37:V37),1) -> 244874.8 | X37: 247035 | Y37: 224577.28 | Z37: =ROUND(AVERAGE(X37:Y37),1) -> 235806.1 | AA37: 174459.72 | AB37: 158599.75 | AC37: =ROUND(AVERAGE(AA37:AB37),1) -> 166529.7 | AD37: 250724.03 | AE37: 227930.93 | AF37: =ROUND(AVERAGE(AD37:AE37),1) -> 239327.5 | AG37: 207639.34 | AH37: 188763.04 | AI37: =ROUND(AVERAGE(AG37:AH37),1) -> 198201.2 | AJ37: 207639.34 | AK37: 188763.04 | AL37: =ROUND(AVERAGE(AJ37:AK37),1) -> 198201.2 | AM37: 292273.78 | AN37: 265703.44 | AO37: =ROUND(AVERAGE(AM37:AN37),1) -> 278988.6 | AP37: 292273.78 | AQ37: 265703.44 | AR37: =ROUND(AVERAGE(AP37:AQ37),1) -> 278988.6 | AS37: 292273.78 | AT37: 265703.44 | AU37: =ROUND(AVERAGE(AS37:AT37),1) -> 278988.6 | AV37: 218887.84 | AW37: 198988.94 | AX37: =ROUND(AVERAGE(AV37:AW37),1) -> 208938.4 | AY37: 292273.78 | AZ37: 265703.44 | BA37: =ROUND(AVERAGE(AY37:AZ37),1) -> 278988.6 | BB37: 365760.52 | BC37: 332509.56 | BD37: =ROUND(AVERAGE(BB37:BC37),1) -> 349135 | BE37: 362309.08 | BF37: 329371.89 | BG37: =ROUND(AVERAGE(BE37:BF37),1) -> 345840.5 | BH37: 362309.08 | BI37: 329371.89 | BJ37: =ROUND(AVERAGE(BH37:BI37),1) -> 345840.5 | BK37: 362309.08 | BL37: 329371.89 | BM37: =ROUND(AVERAGE(BK37:BL37),1) -> 345840.5 | BN37: 188570.74 | BO37: 171427.95 | BP37: =ROUND(AVERAGE(BN37:BO37),1) -> 179999.3 | BQ37: 247035 | BR37: 224577.28 | BS37: =ROUND(AVERAGE(BQ37:BR37),1) -> 235806.1 | BT37: 256535.46 | BU37: 233214.06 | BV37: =ROUND(AVERAGE(BT37:BU37),1) -> 244874.8 | BW37: 233309.88 | BX37: 212099.89 | BY37: =ROUND(AVERAGE(BW37:BX37),1) -> 222704.9 | BZ37: 247035 | CA37: 224577.28 | CB37: =ROUND(AVERAGE(BZ37:CA37),1) -> 235806.1 | CC37: 259386.75 | CD37: 235806.14 | CE37: =ROUND(AVERAGE(CC37:CD37),1) -> 247596.4 | CF37: 276679.2 | CG37: 251526.55 | CH37: =ROUND(AVERAGE(CF37:CG37),1) -> 264102.9
A38: 2.12 | B38: CORREA ALTERNADOR | C38: 144932.88 | D38: 131757.16 | E38: =ROUND(AVERAGE(C38:D38),1) -> 138345 | F38: 147890.69 | G38: 134446.08 | H38: =ROUND(AVERAGE(F38:G38),1) -> 141168.4 | I38: 233309.88 | J38: 212099.89 | K38: =ROUND(AVERAGE(I38:J38),1) -> 222704.9 | L38: 218021.02 | M38: 198200.93 | N38: =ROUND(AVERAGE(L38:M38),1) -> 208111 | O38: 207639.34 | P38: 188763.04 | Q38: =ROUND(AVERAGE(O38:P38),1) -> 198201.2 | R38: 143722.18 | S38: 130656.53 | T38: =ROUND(AVERAGE(R38:S38),1) -> 137189.4 | U38: 256535.46 | V38: 233214.06 | W38: =ROUND(AVERAGE(U38:V38),1) -> 244874.8 | X38: 247035 | Y38: 224577.28 | Z38: =ROUND(AVERAGE(X38:Y38),1) -> 235806.1 | AA38: 171029.88 | AB38: 155481.71 | AC38: =ROUND(AVERAGE(AA38:AB38),1) -> 163255.8 | AD38: 250724.03 | AE38: 227930.93 | AF38: =ROUND(AVERAGE(AD38:AE38),1) -> 239327.5 | AG38: 207639.34 | AH38: 188763.04 | AI38: =ROUND(AVERAGE(AG38:AH38),1) -> 198201.2 | AJ38: 207639.34 | AK38: 188763.04 | AL38: =ROUND(AVERAGE(AJ38:AK38),1) -> 198201.2 | AM38: 292273.78 | AN38: 265703.44 | AO38: =ROUND(AVERAGE(AM38:AN38),1) -> 278988.6 | AP38: 292273.78 | AQ38: 265703.44 | AR38: =ROUND(AVERAGE(AP38:AQ38),1) -> 278988.6 | AS38: 292273.78 | AT38: 265703.44 | AU38: =ROUND(AVERAGE(AS38:AT38),1) -> 278988.6 | AV38: 221746.04 | AW38: 201587.31 | AX38: =ROUND(AVERAGE(AV38:AW38),1) -> 211666.7 | AY38: 292273.78 | AZ38: 265703.44 | BA38: =ROUND(AVERAGE(AY38:AZ38),1) -> 278988.6 | BB38: 310574.91 | BC38: 282340.83 | BD38: =ROUND(AVERAGE(BB38:BC38),1) -> 296457.9 | BE38: 307644.71 | BF38: 279677.01 | BG38: =ROUND(AVERAGE(BE38:BF38),1) -> 293660.9 | BH38: 307644.71 | BI38: 279677.01 | BJ38: =ROUND(AVERAGE(BH38:BI38),1) -> 293660.9 | BK38: 307644.71 | BL38: 279677.01 | BM38: =ROUND(AVERAGE(BK38:BL38),1) -> 293660.9 | BN38: 188570.74 | BO38: 171427.95 | BP38: =ROUND(AVERAGE(BN38:BO38),1) -> 179999.3 | BQ38: 247035 | BR38: 224577.28 | BS38: =ROUND(AVERAGE(BQ38:BR38),1) -> 235806.1 | BT38: 256535.46 | BU38: 233214.06 | BV38: =ROUND(AVERAGE(BT38:BU38),1) -> 244874.8 | BW38: 233309.88 | BX38: 212099.89 | BY38: =ROUND(AVERAGE(BW38:BX38),1) -> 222704.9 | BZ38: 247035 | CA38: 224577.28 | CB38: =ROUND(AVERAGE(BZ38:CA38),1) -> 235806.1 | CC38: 259386.75 | CD38: 235806.14 | CE38: =ROUND(AVERAGE(CC38:CD38),1) -> 247596.4 | CF38: 276679.2 | CG38: 251526.55 | CH38: =ROUND(AVERAGE(CF38:CG38),1) -> 264102.9
A39: 2.13 | B39: CORREA HIDRAHULICO | C39: 144932.88 | D39: 131757.16 | E39: =ROUND(AVERAGE(C39:D39),1) -> 138345 | F39: 147890.69 | G39: 134446.08 | H39: =ROUND(AVERAGE(F39:G39),1) -> 141168.4 | I39: 233309.88 | J39: 212099.89 | K39: =ROUND(AVERAGE(I39:J39),1) -> 222704.9 | L39: 218021.02 | M39: 198200.93 | N39: =ROUND(AVERAGE(L39:M39),1) -> 208111 | O39: 207639.34 | P39: 188763.04 | Q39: =ROUND(AVERAGE(O39:P39),1) -> 198201.2 | R39: 146604.86 | S39: 133277.14 | T39: =ROUND(AVERAGE(R39:S39),1) -> 139941 | U39: 256535.46 | V39: 233214.06 | W39: =ROUND(AVERAGE(U39:V39),1) -> 244874.8 | X39: 247035 | Y39: 224577.28 | Z39: =ROUND(AVERAGE(X39:Y39),1) -> 235806.1 | AA39: 174459.72 | AB39: 158599.75 | AC39: =ROUND(AVERAGE(AA39:AB39),1) -> 166529.7 | AD39: 250724.03 | AE39: 227930.93 | AF39: =ROUND(AVERAGE(AD39:AE39),1) -> 239327.5 | AG39: 207639.34 | AH39: 188763.04 | AI39: =ROUND(AVERAGE(AG39:AH39),1) -> 198201.2 | AJ39: 207639.34 | AK39: 188763.04 | AL39: =ROUND(AVERAGE(AJ39:AK39),1) -> 198201.2 | AM39: 292273.78 | AN39: 265703.44 | AO39: =ROUND(AVERAGE(AM39:AN39),1) -> 278988.6 | AP39: 292273.78 | AQ39: 265703.44 | AR39: =ROUND(AVERAGE(AP39:AQ39),1) -> 278988.6 | AS39: 292273.78 | AT39: 265703.44 | AU39: =ROUND(AVERAGE(AS39:AT39),1) -> 278988.6 | AV39: 221746.04 | AW39: 201587.31 | AX39: =ROUND(AVERAGE(AV39:AW39),1) -> 211666.7 | AY39: 292273.78 | AZ39: 265703.44 | BA39: =ROUND(AVERAGE(AY39:AZ39),1) -> 278988.6 | BB39: 311559.8 | BC39: 283236.18 | BD39: =ROUND(AVERAGE(BB39:BC39),1) -> 297398 | BE39: 308619.53 | BF39: 280563.21 | BG39: =ROUND(AVERAGE(BE39:BF39),1) -> 294591.4 | BH39: 308619.53 | BI39: 280563.21 | BJ39: =ROUND(AVERAGE(BH39:BI39),1) -> 294591.4 | BK39: 308619.53 | BL39: 280563.21 | BM39: =ROUND(AVERAGE(BK39:BL39),1) -> 294591.4 | BN39: 188570.74 | BO39: 171427.95 | BP39: =ROUND(AVERAGE(BN39:BO39),1) -> 179999.3 | BQ39: 247035 | BR39: 224577.28 | BS39: =ROUND(AVERAGE(BQ39:BR39),1) -> 235806.1 | BT39: 256535.46 | BU39: 233214.06 | BV39: =ROUND(AVERAGE(BT39:BU39),1) -> 244874.8 | BW39: 233309.88 | BX39: 212099.89 | BY39: =ROUND(AVERAGE(BW39:BX39),1) -> 222704.9 | BZ39: 247035 | CA39: 224577.28 | CB39: =ROUND(AVERAGE(BZ39:CA39),1) -> 235806.1 | CC39: 259386.75 | CD39: 235806.14 | CE39: =ROUND(AVERAGE(CC39:CD39),1) -> 247596.4 | CF39: 276679.2 | CG39: 251526.55 | CH39: =ROUND(AVERAGE(CF39:CG39),1) -> 264102.9
A40: 2.14 | B40: EMPAQUE CULATA | C40: 350702.59 | D40: 318820.54 | E40: =ROUND(AVERAGE(C40:D40),1) -> 334761.6 | F40: 357859.79 | G40: 325327.08 | H40: =ROUND(AVERAGE(F40:G40),1) -> 341593.4 | I40: 967761.11 | J40: 879782.83 | K40: =ROUND(AVERAGE(I40:J40),1) -> 923772 | L40: 904343.59 | M40: 822130.54 | N40: =ROUND(AVERAGE(L40:M40),1) -> 863237.1 | O40: 861280.5 | P40: 782982.28 | Q40: =ROUND(AVERAGE(O40:P40),1) -> 822131.4 | R40: 499321.32 | S40: 453928.47 | T40: =ROUND(AVERAGE(R40:S40),1) -> 476624.9 | U40: 1064100.5 | V40: 967364.09 | W40: =ROUND(AVERAGE(U40:V40),1) -> 1015732.3 | X40: 1024689 | Y40: 931535.45 | Z40: =ROUND(AVERAGE(X40:Y40),1) -> 978112.2 | AA40: 594192.01 | AB40: 540174.56 | AC40: =ROUND(AVERAGE(AA40:AB40),1) -> 567183.3 | AD40: 1039995.1 | AE40: 945450.12 | AF40: =ROUND(AVERAGE(AD40:AE40),1) -> 992722.6 | AG40: 861280.5 | AH40: 782982.28 | AI40: =ROUND(AVERAGE(AG40:AH40),1) -> 822131.4 | AJ40: 861280.5 | AK40: 782982.28 | AL40: =ROUND(AVERAGE(AJ40:AK40),1) -> 822131.4 | AM40: 1212338.2 | AN40: 1102125.6 | AO40: =ROUND(AVERAGE(AM40:AN40),1) -> 1157231.9 | AP40: 1212338.2 | AQ40: 1102125.6 | AR40: =ROUND(AVERAGE(AP40:AQ40),1) -> 1157231.9 | AS40: 1212338.2 | AT40: 1102125.6 | AU40: =ROUND(AVERAGE(AS40:AT40),1) -> 1157231.9 | AV40: 843938.35 | AW40: 767216.68 | AX40: =ROUND(AVERAGE(AV40:AW40),1) -> 805577.5 | AY40: 1212338.2 | AZ40: 1102125.6 | BA40: =ROUND(AVERAGE(AY40:AZ40),1) -> 1157231.9 | BB40: 976429.31 | BC40: 887663.01 | BD40: =ROUND(AVERAGE(BB40:BC40),1) -> 932046.2 | BE40: 967218.27 | BF40: 879289.33 | BG40: =ROUND(AVERAGE(BE40:BF40),1) -> 923253.8 | BH40: 967218.27 | BI40: 879289.33 | BJ40: =ROUND(AVERAGE(BH40:BI40),1) -> 923253.8 | BK40: 967218.27 | BL40: 879289.33 | BM40: =ROUND(AVERAGE(BK40:BL40),1) -> 923253.8 | BN40: 562851.15 | BO40: 511682.86 | BP40: =ROUND(AVERAGE(BN40:BO40),1) -> 537267 | BQ40: 1024689 | BR40: 931535.45 | BS40: =ROUND(AVERAGE(BQ40:BR40),1) -> 978112.2 | BT40: 1064100.5 | BU40: 967364.09 | BV40: =ROUND(AVERAGE(BT40:BU40),1) -> 1015732.3 | BW40: 967761.11 | BX40: 879782.83 | BY40: =ROUND(AVERAGE(BW40:BX40),1) -> 923772 | BZ40: 1024689 | CA40: 931535.45 | CB40: =ROUND(AVERAGE(BZ40:CA40),1) -> 978112.2 | CC40: 1075923.4 | CD40: 978112.22 | CE40: =ROUND(AVERAGE(CC40:CD40),1) -> 1027017.8 | CF40: 1147651.7 | CG40: 1043319.7 | CH40: =ROUND(AVERAGE(CF40:CG40),1) -> 1095485.7
A41: 2.15 | B41: EMPAQUE CARTER | C41: 94248 | D41: 85680 | E41: =ROUND(AVERAGE(C41:D41),1) -> 89964 | F41: 36652 | G41: 33320 | H41: =ROUND(AVERAGE(F41:G41),1) -> 34986 | I41: 202895 | J41: 184450 | K41: =ROUND(AVERAGE(I41:J41),1) -> 193672.5 | L41: 121737 | M41: 110670 | N41: =ROUND(AVERAGE(L41:M41),1) -> 116203.5 | O41: 102102 | P41: 92820 | Q41: =ROUND(AVERAGE(O41:P41),1) -> 97461 | R41: 32725 | S41: 29750 | T41: =ROUND(AVERAGE(R41:S41),1) -> 31237.5 | U41: 17017 | V41: 15470 | W41: =ROUND(AVERAGE(U41:V41),1) -> 16243.5 | X41: 39270 | Y41: 35700 | Z41: =ROUND(AVERAGE(X41:Y41),1) -> 37485 | AA41: 206822 | AB41: 188020 | AC41: =ROUND(AVERAGE(AA41:AB41),1) -> 197421 | AD41: 126973 | AE41: 115430 | AF41: =ROUND(AVERAGE(AD41:AE41),1) -> 121201.5 | AG41: 36652 | AH41: 33320 | AI41: =ROUND(AVERAGE(AG41:AH41),1) -> 34986 | AJ41: 36652 | AK41: 33320 | AL41: =ROUND(AVERAGE(AJ41:AK41),1) -> 34986 | AM41: 43197 | AN41: 39270 | AO41: =ROUND(AVERAGE(AM41:AN41),1) -> 41233.5 | AP41: 209440 | AQ41: 190400 | AR41: =ROUND(AVERAGE(AP41:AQ41),1) -> 199920 | AS41: 36652 | AT41: 33320 | AU41: =ROUND(AVERAGE(AS41:AT41),1) -> 34986 | AV41: 210749 | AW41: 191590 | AX41: =ROUND(AVERAGE(AV41:AW41),1) -> 201169.5 | AY41: 49087.5 | AZ41: 44625 | BA41: =ROUND(AVERAGE(AY41:AZ41),1) -> 46856.3 | BB41: 43197 | BC41: 39270 | BD41: =ROUND(AVERAGE(BB41:BC41),1) -> 41233.5 | BE41: 102102 | BF41: 92820 | BG41: =ROUND(AVERAGE(BE41:BF41),1) -> 97461 | BH41: 43197 | BI41: 39270 | BJ41: =ROUND(AVERAGE(BH41:BI41),1) -> 41233.5 | BK41: 192423 | BL41: 174930 | BM41: =ROUND(AVERAGE(BK41:BL41),1) -> 183676.5 | BN41: 32725 | BO41: 29750 | BP41: =ROUND(AVERAGE(BN41:BO41),1) -> 31237.5 | BQ41: 202895 | BR41: 184450 | BS41: =ROUND(AVERAGE(BQ41:BR41),1) -> 193672.5 | BT41: 215985 | BU41: 196350 | BV41: =ROUND(AVERAGE(BT41:BU41),1) -> 206167.5 | BW41: 210094.5 | BX41: 190995 | BY41: =ROUND(AVERAGE(BW41:BX41),1) -> 200544.8 | BZ41: 43197 | CA41: 39270 | CB41: =ROUND(AVERAGE(BZ41:CA41),1) -> 41233.5 | CC41: 209440 | CD41: 190400 | CE41: =ROUND(AVERAGE(CC41:CD41),1) -> 199920 | CF41: 213367 | CG41: 193970 | CH41: =ROUND(AVERAGE(CF41:CG41),1) -> 203668.5
A42: 2.16 | B42: EMPAQUE TAPA VALVULAS | C42: 242025.16 | D42: 220022.87 | E42: =ROUND(AVERAGE(C42:D42),1) -> 231024 | F42: 246964.45 | G42: 224513.14 | H42: =ROUND(AVERAGE(F42:G42),1) -> 235738.8 | I42: 407579.53 | J42: 370526.85 | K42: =ROUND(AVERAGE(I42:J42),1) -> 389053.2 | L42: 380869.39 | M42: 346244.9 | N42: =ROUND(AVERAGE(L42:M42),1) -> 363557.1 | O42: 362733.85 | P42: 329758.04 | Q42: =ROUND(AVERAGE(O42:P42),1) -> 346245.9 | R42: 292592 | S42: 265992.73 | T42: =ROUND(AVERAGE(R42:S42),1) -> 279292.4 | U42: 448151.6 | V42: 407410.54 | W42: =ROUND(AVERAGE(U42:V42),1) -> 427781.1 | X42: 431553.87 | Y42: 392321.7 | Z42: =ROUND(AVERAGE(X42:Y42),1) -> 411937.8 | AA42: 348185.1 | AB42: 316531.91 | AC42: =ROUND(AVERAGE(AA42:AB42),1) -> 332358.5 | AD42: 438000.3 | AE42: 398182.09 | AF42: =ROUND(AVERAGE(AD42:AE42),1) -> 418091.2 | AG42: 362733.85 | AH42: 329758.04 | AI42: =ROUND(AVERAGE(AG42:AH42),1) -> 346245.9 | AJ42: 362733.85 | AK42: 329758.04 | AL42: =ROUND(AVERAGE(AJ42:AK42),1) -> 346245.9 | AM42: 510582.78 | AN42: 464166.16 | AO42: =ROUND(AVERAGE(AM42:AN42),1) -> 487374.5 | AP42: 510582.78 | AQ42: 464166.16 | AR42: =ROUND(AVERAGE(AP42:AQ42),1) -> 487374.5 | AS42: 510582.78 | AT42: 464166.16 | AU42: =ROUND(AVERAGE(AS42:AT42),1) -> 487374.5 | AV42: 370297.64 | AW42: 336634.22 | AX42: =ROUND(AVERAGE(AV42:AW42),1) -> 353465.9 | AY42: 510582.78 | AZ42: 464166.16 | BA42: =ROUND(AVERAGE(AY42:AZ42),1) -> 487374.5 | BB42: 249315.81 | BC42: 226650.73 | BD42: =ROUND(AVERAGE(BB42:BC42),1) -> 237983.3 | BE42: 246964.45 | BF42: 224513.14 | BG42: =ROUND(AVERAGE(BE42:BF42),1) -> 235738.8 | BH42: 246964.45 | BI42: 224513.14 | BJ42: =ROUND(AVERAGE(BH42:BI42),1) -> 235738.8 | BK42: 246964.45 | BL42: 224513.14 | BM42: =ROUND(AVERAGE(BK42:BL42),1) -> 235738.8 | BN42: 246964.45 | BO42: 224513.14 | BP42: =ROUND(AVERAGE(BN42:BO42),1) -> 235738.8 | BQ42: 431553.87 | BR42: 392321.7 | BS42: =ROUND(AVERAGE(BQ42:BR42),1) -> 411937.8 | BT42: 448151.6 | BU42: 407410.54 | BV42: =ROUND(AVERAGE(BT42:BU42),1) -> 427781.1 | BW42: 407579.53 | BX42: 370526.85 | BY42: =ROUND(AVERAGE(BW42:BX42),1) -> 389053.2 | BZ42: 431553.87 | CA42: 392321.7 | CB42: =ROUND(AVERAGE(BZ42:CA42),1) -> 411937.8 | CC42: 453131.56 | CD42: 411937.78 | CE42: =ROUND(AVERAGE(CC42:CD42),1) -> 432534.7 | CF42: 483340.33 | CG42: 439400.3 | CH42: =ROUND(AVERAGE(CF42:CG42),1) -> 461370.3
A43: 2.17 | B43: EMPAQUETADURA ENFRIADOR DE ACEITE | C43: 104720 | D43: 95200 | E43: =ROUND(AVERAGE(C43:D43),1) -> 99960 | F43: 209309.1 | G43: 190281 | H43: =ROUND(AVERAGE(F43:G43),1) -> 199795.1 | I43: 850850 | J43: 773500 | K43: =ROUND(AVERAGE(I43:J43),1) -> 812175 | L43: 143990 | M43: 130900 | N43: =ROUND(AVERAGE(L43:M43),1) -> 137445 | O43: 1086470 | P43: 987700 | Q43: =ROUND(AVERAGE(O43:P43),1) -> 1037085 | R43: 200277 | S43: 182070 | T43: =ROUND(AVERAGE(R43:S43),1) -> 191173.5 | U43: 176715 | V43: 160650 | W43: =ROUND(AVERAGE(U43:V43),1) -> 168682.5 | X43: 212058 | Y43: 192780 | Z43: =ROUND(AVERAGE(X43:Y43),1) -> 202419 | AA43: 850850 | AB43: 773500 | AC43: =ROUND(AVERAGE(AA43:AB43),1) -> 812175 | AD43: 143990 | AE43: 130900 | AF43: =ROUND(AVERAGE(AD43:AE43),1) -> 137445 | AG43: 212058 | AH43: 192780 | AI43: =ROUND(AVERAGE(AG43:AH43),1) -> 202419 | AJ43: 202895 | AK43: 184450 | AL43: =ROUND(AVERAGE(AJ43:AK43),1) -> 193672.5 | AM43: 215985 | AN43: 196350 | AO43: =ROUND(AVERAGE(AM43:AN43),1) -> 206167.5 | AP43: 719950 | AQ43: 654500 | AR43: =ROUND(AVERAGE(AP43:AQ43),1) -> 687225 | AS43: 21336.7 | AT43: 19397 | AU43: =ROUND(AVERAGE(AS43:AT43),1) -> 20366.9 | AV43: 726495 | AW43: 660450 | AX43: =ROUND(AVERAGE(AV43:AW43),1) -> 693472.5 | AY43: 221090.1 | AZ43: 200991 | BA43: =ROUND(AVERAGE(AY43:AZ43),1) -> 211040.6 | BB43: 193732 | BC43: 176120 | BD43: =ROUND(AVERAGE(BB43:BC43),1) -> 184926 | BE43: 129591 | BF43: 117810 | BG43: =ROUND(AVERAGE(BE43:BF43),1) -> 123700.5 | BH43: 215985 | BI43: 196350 | BJ43: =ROUND(AVERAGE(BH43:BI43),1) -> 206167.5 | BK43: 759220 | BL43: 690200 | BM43: =ROUND(AVERAGE(BK43:BL43),1) -> 724710 | BN43: 189805 | BO43: 172550 | BP43: =ROUND(AVERAGE(BN43:BO43),1) -> 181177.5 | BQ43: 850850 | BR43: 773500 | BS43: =ROUND(AVERAGE(BQ43:BR43),1) -> 812175 | BT43: 736967 | BU43: 669970 | BV43: =ROUND(AVERAGE(BT43:BU43),1) -> 703468.5 | BW43: 730422 | BX43: 664020 | BY43: =ROUND(AVERAGE(BW43:BX43),1) -> 697221 | BZ43: 222530 | CA43: 202300 | CB43: =ROUND(AVERAGE(BZ43:CA43),1) -> 212415 | CC43: 359975 | CD43: 327250 | CE43: =ROUND(AVERAGE(CC43:CD43),1) -> 343612.5 | CF43: 719950 | CG43: 654500 | CH43: =ROUND(AVERAGE(CF43:CG43),1) -> 687225
A44: 2.18 | B44: EMPAQUETADURA MOTOR | C44: 1638690.2 | D44: 1489718.3 | E44: =ROUND(AVERAGE(C44:D44),1) -> 1564204.3 | F44: 1672132.8 | G44: 1520120.8 | H44: =ROUND(AVERAGE(F44:G44),1) -> 1596126.8 | I44: 2351886.6 | J44: 2138078.7 | K44: =ROUND(AVERAGE(I44:J44),1) -> 2244982.6 | L44: 2197766.9 | M44: 1997969.9 | N44: =ROUND(AVERAGE(L44:M44),1) -> 2097868.4 | O44: 2093110.6 | P44: 1902827.9 | Q44: =ROUND(AVERAGE(O44:P44),1) -> 1997969.2 | R44: 2014787.3 | S44: 1831624.8 | T44: =ROUND(AVERAGE(R44:S44),1) -> 1923206 | U44: 2586011.4 | V44: 2350919.5 | W44: =ROUND(AVERAGE(U44:V44),1) -> 2468465.5 | X44: 2490233.6 | Y44: 2263848.7 | Z44: =ROUND(AVERAGE(X44:Y44),1) -> 2377041.2 | AA44: 2397596.2 | AB44: 2179632.9 | AC44: =ROUND(AVERAGE(AA44:AB44),1) -> 2288614.6 | AD44: 2527432 | AE44: 2297665.4 | AF44: =ROUND(AVERAGE(AD44:AE44),1) -> 2412548.7 | AG44: 2093110.6 | AH44: 1902827.9 | AI44: =ROUND(AVERAGE(AG44:AH44),1) -> 1997969.2 | AJ44: 2093110.6 | AK44: 1902827.9 | AL44: =ROUND(AVERAGE(AJ44:AK44),1) -> 1997969.2 | AM44: 2946262.9 | AN44: 2678420.8 | AO44: =ROUND(AVERAGE(AM44:AN44),1) -> 2812341.9 | AP44: 2946262.9 | AQ44: 2678420.8 | AR44: =ROUND(AVERAGE(AP44:AQ44),1) -> 2812341.9 | AS44: 2946262.9 | AT44: 2678420.8 | AU44: =ROUND(AVERAGE(AS44:AT44),1) -> 2812341.9 | AV44: 2507195.6 | AW44: 2279268.8 | AX44: =ROUND(AVERAGE(AV44:AW44),1) -> 2393232.2 | AY44: 2946262.9 | AZ44: 2678420.8 | BA44: =ROUND(AVERAGE(AY44:AZ44),1) -> 2812341.9 | BB44: 2117024.5 | BC44: 1924567.7 | BD44: =ROUND(AVERAGE(BB44:BC44),1) -> 2020796.1 | BE44: 2097051.6 | BF44: 1906410.6 | BG44: =ROUND(AVERAGE(BE44:BF44),1) -> 2001731.1 | BH44: 2097051.6 | BI44: 1906410.6 | BJ44: =ROUND(AVERAGE(BH44:BI44),1) -> 2001731.1 | BK44: 2097051.6 | BL44: 1906410.6 | BM44: =ROUND(AVERAGE(BK44:BL44),1) -> 2001731.1 | BN44: 1672132.8 | BO44: 1520120.8 | BP44: =ROUND(AVERAGE(BN44:BO44),1) -> 1596126.8 | BQ44: 2490233.6 | BR44: 2263848.7 | BS44: =ROUND(AVERAGE(BQ44:BR44),1) -> 2377041.2 | BT44: 2586011.4 | BU44: 2350919.5 | BV44: =ROUND(AVERAGE(BT44:BU44),1) -> 2468465.5 | BW44: 2351886.6 | BX44: 2138078.7 | BY44: =ROUND(AVERAGE(BW44:BX44),1) -> 2244982.6 | BZ44: 2490233.6 | CA44: 2263848.7 | CB44: =ROUND(AVERAGE(BZ44:CA44),1) -> 2377041.2 | CC44: 2614745.3 | CD44: 2377041.2 | CE44: =ROUND(AVERAGE(CC44:CD44),1) -> 2495893.2 | CF44: 2789061.6 | CG44: 2535510.6 | CH44: =ROUND(AVERAGE(CF44:CG44),1) -> 2662286.1
A45: 2.19 | B45: ENFRIADOR DE ACEITE | C45: 831215 | D45: 755650 | E45: =ROUND(AVERAGE(C45:D45),1) -> 793432.5 | F45: 261800 | G45: 238000 | H45: =ROUND(AVERAGE(F45:G45),1) -> 249900 | I45: 589050 | J45: 535500 | K45: =ROUND(AVERAGE(I45:J45),1) -> 562275 | L45: 981750 | M45: 892500 | N45: =ROUND(AVERAGE(L45:M45),1) -> 937125 | O45: 848232 | P45: 771120 | Q45: =ROUND(AVERAGE(O45:P45),1) -> 809676 | R45: 255255 | S45: 232050 | T45: =ROUND(AVERAGE(R45:S45),1) -> 243652.5 | U45: 201586 | V45: 183260 | W45: =ROUND(AVERAGE(U45:V45),1) -> 192423 | X45: 268345 | Y45: 243950 | Z45: =ROUND(AVERAGE(X45:Y45),1) -> 256147.5 | AA45: 595595 | AB45: 541450 | AC45: =ROUND(AVERAGE(AA45:AB45),1) -> 568522.5 | AD45: 979132 | AE45: 890120 | AF45: =ROUND(AVERAGE(AD45:AE45),1) -> 934626 | AG45: 265727 | AH45: 241570 | AI45: =ROUND(AVERAGE(AG45:AH45),1) -> 253648.5 | AJ45: 259182 | AK45: 235620 | AL45: =ROUND(AVERAGE(AJ45:AK45),1) -> 247401 | AM45: 269654 | AN45: 245140 | AO45: =ROUND(AVERAGE(AM45:AN45),1) -> 257397 | AP45: 599522 | AQ45: 545020 | AR45: =ROUND(AVERAGE(AP45:AQ45),1) -> 572271 | AS45: 265727 | AT45: 241570 | AU45: =ROUND(AVERAGE(AS45:AT45),1) -> 253648.5 | AV45: 592977 | AW45: 539070 | AX45: =ROUND(AVERAGE(AV45:AW45),1) -> 566023.5 | AY45: 273581 | AZ45: 248710 | BA45: =ROUND(AVERAGE(AY45:AZ45),1) -> 261145.5 | BB45: 268345 | BC45: 243950 | BD45: =ROUND(AVERAGE(BB45:BC45),1) -> 256147.5 | BE45: 445060 | BF45: 404600 | BG45: =ROUND(AVERAGE(BE45:BF45),1) -> 424830 | BH45: 269654 | BI45: 245140 | BJ45: =ROUND(AVERAGE(BH45:BI45),1) -> 257397 | BK45: 569415 | BL45: 517650 | BM45: =ROUND(AVERAGE(BK45:BL45),1) -> 543532.5 | BN45: 265727 | BO45: 241570 | BP45: =ROUND(AVERAGE(BN45:BO45),1) -> 253648.5 | BQ45: 589050 | BR45: 535500 | BS45: =ROUND(AVERAGE(BQ45:BR45),1) -> 562275 | BT45: 600831 | BU45: 546210 | BV45: =ROUND(AVERAGE(BT45:BU45),1) -> 573520.5 | BW45: 595595 | BX45: 541450 | BY45: =ROUND(AVERAGE(BW45:BX45),1) -> 568522.5 | BZ45: 268345 | CA45: 243950 | CB45: =ROUND(AVERAGE(BZ45:CA45),1) -> 256147.5 | CC45: 595595 | CD45: 541450 | CE45: =ROUND(AVERAGE(CC45:CD45),1) -> 568522.5 | CF45: 619157 | CG45: 562870 | CH45: =ROUND(AVERAGE(CF45:CG45),1) -> 591013.5
... A65: 2.39 | B65: VALVULA PCV | C65: 119943.67 | D65: 109039.7 | E65: =ROUND(AVERAGE(C65:D65),1) -> 114491.7 | F65: 122391.5 | G65: 111265 | H65: =ROUND(AVERAGE(F65:G65),1) -> 116828.3 | I65: 122391.5 | J65: 111265 | K65: =ROUND(AVERAGE(I65:J65),1) -> 116828.3 | L65: 122391.5 | M65: 111265 | N65: =ROUND(AVERAGE(L65:M65),1) -> 116828.3 | O65: 122391.5 | P65: 111265 | Q65: =ROUND(AVERAGE(O65:P65),1) -> 116828.3 | R65: 122391.5 | S65: 111265 | T65: =ROUND(AVERAGE(R65:S65),1) -> 116828.3 | U65: 122391.5 | V65: 111265 | W65: =ROUND(AVERAGE(U65:V65),1) -> 116828.3 | X65: 122391.5 | Y65: 111265 | Z65: =ROUND(AVERAGE(X65:Y65),1) -> 116828.3 | AA65: 122391.5 | AB65: 111265 | AC65: =ROUND(AVERAGE(AA65:AB65),1) -> 116828.3 | AD65: 122391.5 | AE65: 111265 | AF65: =ROUND(AVERAGE(AD65:AE65),1) -> 116828.3 | AG65: 122391.5 | AH65: 111265 | AI65: =ROUND(AVERAGE(AG65:AH65),1) -> 116828.3 | AJ65: 122391.5 | AK65: 111265 | AL65: =ROUND(AVERAGE(AJ65:AK65),1) -> 116828.3 | AM65: 122391.5 | AN65: 111265 | AO65: =ROUND(AVERAGE(AM65:AN65),1) -> 116828.3 | AP65: 122391.5 | AQ65: 111265 | AR65: =ROUND(AVERAGE(AP65:AQ65),1) -> 116828.3 | AS65: 122391.5 | AT65: 111265 | AU65: =ROUND(AVERAGE(AS65:AT65),1) -> 116828.3 | AV65: 122391.5 | AW65: 111265 | AX65: =ROUND(AVERAGE(AV65:AW65),1) -> 116828.3 | AY65: 122391.5 | AZ65: 111265 | BA65: =ROUND(AVERAGE(AY65:AZ65),1) -> 116828.3 | BB65: 122391.5 | BC65: 111265 | BD65: =ROUND(AVERAGE(BB65:BC65),1) -> 116828.3 | BE65: 122391.5 | BF65: 111265 | BG65: =ROUND(AVERAGE(BE65:BF65),1) -> 116828.3 | BH65: 122391.5 | BI65: 111265 | BJ65: =ROUND(AVERAGE(BH65:BI65),1) -> 116828.3 | BK65: 122391.5 | BL65: 111265 | BM65: =ROUND(AVERAGE(BK65:BL65),1) -> 116828.3 | BN65: 122391.5 | BO65: 111265 | BP65: =ROUND(AVERAGE(BN65:BO65),1) -> 116828.3 | BQ65: 122391.5 | BR65: 111265 | BS65: =ROUND(AVERAGE(BQ65:BR65),1) -> 116828.3 | BT65: 122391.5 | BU65: 111265 | BV65: =ROUND(AVERAGE(BT65:BU65),1) -> 116828.3 | BW65: 122391.5 | BX65: 111265 | BY65: =ROUND(AVERAGE(BW65:BX65),1) -> 116828.3 | BZ65: 122391.5 | CA65: 111265 | CB65: =ROUND(AVERAGE(BZ65:CA65),1) -> 116828.3 | CC65: 128511.07 | CD65: 116828.25 | CE65: =ROUND(AVERAGE(CC65:CD65),1) -> 122669.7 | CF65: 137078.48 | CG65: 124616.8 | CH65: =ROUND(AVERAGE(CF65:CG65),1) -> 130847.6
A66: 3 | B66: SUSPENSION | E66: 0 | H66: 0 | K66: 0 | N66: 0 | Q66: 0 | T66: 0 | W66: 0 | Z66: 0 | AC66: 0 | AF66: 0 | AI66: 0 | AL66: 0 | AO66: 0 | AR66: 0 | AU66: 0 | AX66: 0 | BA66: 0 | BD66: 0 | BG66: 0 | BJ66: 0 | BM66: 0 | BP66: 0 | BS66: 0 | BV66: 0 | BY66: 0 | CB66: 0 | CE66: 0 | CH66: 0
A67: 3.1 | B67: AMORTIGUADOR TRASERO | C67: 581390.96 | D67: 528537.23 | E67: =ROUND(AVERAGE(C67:D67),1) -> 554964.1 | F67: 593256.08 | G67: 539323.71 | H67: =ROUND(AVERAGE(F67:G67),1) -> 566289.9 | I67: 743974.73 | J67: 676340.67 | K67: =ROUND(AVERAGE(I67:J67),1) -> 710157.7 | L67: 695221.16 | M67: 632019.23 | N67: =ROUND(AVERAGE(L67:M67),1) -> 663620.2 | O67: 662114.98 | P67: 601922.71 | Q67: =ROUND(AVERAGE(O67:P67),1) -> 632018.8 | R67: 559127.57 | S67: 508297.79 | T67: =ROUND(AVERAGE(R67:S67),1) -> 533712.7 | U67: 818034.55 | V67: 743667.77 | W67: =ROUND(AVERAGE(U67:V67),1) -> 780851.2 | X67: 787737.61 | Y67: 716125.1 | Z67: =ROUND(AVERAGE(X67:Y67),1) -> 751931.4 | AA67: 612079.89 | AB67: 556436.27 | AC67: =ROUND(AVERAGE(AA67:AB67),1) -> 584258.1 | AD67: 799504.47 | AE67: 726822.25 | AF67: =ROUND(AVERAGE(AD67:AE67),1) -> 763163.4 | AG67: 589018.45 | AH67: 535471.32 | AI67: =ROUND(AVERAGE(AG67:AH67),1) -> 562244.9 | AJ67: 589018.45 | AK67: 535471.32 | AL67: =ROUND(AVERAGE(AJ67:AK67),1) -> 562244.9 | AM67: 931993.99 | AN67: 847267.27 | AO67: =ROUND(AVERAGE(AM67:AN67),1) -> 889630.6 | AP67: 931993.99 | AQ67: 847267.27 | AR67: =ROUND(AVERAGE(AP67:AQ67),1) -> 889630.6 | AS67: 931993.99 | AT67: 847267.27 | AU67: =ROUND(AVERAGE(AS67:AT67),1) -> 889630.6 | AV67: 946711.21 | AW67: 860646.56 | AX67: =ROUND(AVERAGE(AV67:AW67),1) -> 903678.9 | AY67: 931993.99 | AZ67: 847267.27 | BA67: =ROUND(AVERAGE(AY67:AZ67),1) -> 889630.6 | BB67: 853227.14 | BC67: 775661.04 | BD67: =ROUND(AVERAGE(BB67:BC67),1) -> 814444.1 | BE67: 845176.66 | BF67: 768342.42 | BG67: =ROUND(AVERAGE(BE67:BF67),1) -> 806759.5 | BH67: 845176.66 | BI67: 768342.42 | BJ67: =ROUND(AVERAGE(BH67:BI67),1) -> 806759.5 | BK67: 845176.66 | BL67: 768342.42 | BM67: =ROUND(AVERAGE(BK67:BL67),1) -> 806759.5 | BN67: 657242.35 | BO67: 597493.05 | BP67: =ROUND(AVERAGE(BN67:BO67),1) -> 627367.7 | BQ67: 787737.61 | BR67: 716125.1 | BS67: =ROUND(AVERAGE(BQ67:BR67),1) -> 751931.4 | BT67: 818034.55 | BU67: 743667.77 | BV67: =ROUND(AVERAGE(BT67:BU67),1) -> 780851.2 | BW67: 743974.73 | BX67: 676340.67 | BY67: =ROUND(AVERAGE(BW67:BX67),1) -> 710157.7 | BZ67: 787737.61 | CA67: 716125.1 | CB67: =ROUND(AVERAGE(BZ67:CA67),1) -> 751931.4 | CC67: 827124.49 | CD67: 751931.36 | CE67: =ROUND(AVERAGE(CC67:CD67),1) -> 789527.9 | CF67: 882266.13 | CG67: 802060.11 | CH67: =ROUND(AVERAGE(CF67:CG67),1) -> 842163.1
A68: 3.2 | B68: AMORTIGUADORES DELANTEROS | C68: 581390.96 | D68: 528537.23 | E68: =ROUND(AVERAGE(C68:D68),1) -> 554964.1 | F68: 593256.08 | G68: 539323.71 | H68: =ROUND(AVERAGE(F68:G68),1) -> 566289.9 | I68: 743974.73 | J68: 676340.67 | K68: =ROUND(AVERAGE(I68:J68),1) -> 710157.7 | L68: 695221.16 | M68: 632019.23 | N68: =ROUND(AVERAGE(L68:M68),1) -> 663620.2 | O68: 662114.98 | P68: 601922.71 | Q68: =ROUND(AVERAGE(O68:P68),1) -> 632018.8 | R68: 559127.57 | S68: 508297.79 | T68: =ROUND(AVERAGE(R68:S68),1) -> 533712.7 | U68: 818034.55 | V68: 743667.77 | W68: =ROUND(AVERAGE(U68:V68),1) -> 780851.2 | X68: 787737.61 | Y68: 716125.1 | Z68: =ROUND(AVERAGE(X68:Y68),1) -> 751931.4 | AA68: 592966.66 | AB68: 539060.6 | AC68: =ROUND(AVERAGE(AA68:AB68),1) -> 566013.6 | AD68: 799504.47 | AE68: 726822.25 | AF68: =ROUND(AVERAGE(AD68:AE68),1) -> 763163.4 | AG68: 589018.45 | AH68: 535471.32 | AI68: =ROUND(AVERAGE(AG68:AH68),1) -> 562244.9 | AJ68: 589018.45 | AK68: 535471.32 | AL68: =ROUND(AVERAGE(AJ68:AK68),1) -> 562244.9 | AM68: 931993.99 | AN68: 847267.27 | AO68: =ROUND(AVERAGE(AM68:AN68),1) -> 889630.6 | AP68: 931993.99 | AQ68: 847267.27 | AR68: =ROUND(AVERAGE(AP68:AQ68),1) -> 889630.6 | AS68: 931993.99 | AT68: 847267.27 | AU68: =ROUND(AVERAGE(AS68:AT68),1) -> 889630.6 | AV68: 918119.12 | AW68: 834653.74 | AX68: =ROUND(AVERAGE(AV68:AW68),1) -> 876386.4 | AY68: 931993.99 | AZ68: 847267.27 | BA68: =ROUND(AVERAGE(AY68:AZ68),1) -> 889630.6 | BB68: 853227.14 | BC68: 775661.04 | BD68: =ROUND(AVERAGE(BB68:BC68),1) -> 814444.1 | BE68: 845176.66 | BF68: 768342.42 | BG68: =ROUND(AVERAGE(BE68:BF68),1) -> 806759.5 | BH68: 845176.66 | BI68: 768342.42 | BJ68: =ROUND(AVERAGE(BH68:BI68),1) -> 806759.5 | BK68: 845176.66 | BL68: 768342.42 | BM68: =ROUND(AVERAGE(BK68:BL68),1) -> 806759.5 | BN68: 657242.35 | BO68: 597493.05 | BP68: =ROUND(AVERAGE(BN68:BO68),1) -> 627367.7 | BQ68: 787737.61 | BR68: 716125.1 | BS68: =ROUND(AVERAGE(BQ68:BR68),1) -> 751931.4 | BT68: 818034.55 | BU68: 743667.77 | BV68: =ROUND(AVERAGE(BT68:BU68),1) -> 780851.2 | BW68: 743974.73 | BX68: 676340.67 | BY68: =ROUND(AVERAGE(BW68:BX68),1) -> 710157.7 | BZ68: 787737.61 | CA68: 716125.1 | CB68: =ROUND(AVERAGE(BZ68:CA68),1) -> 751931.4 | CC68: 827124.49 | CD68: 751931.36 | CE68: =ROUND(AVERAGE(CC68:CD68),1) -> 789527.9 | CF68: 882266.13 | CG68: 802060.11 | CH68: =ROUND(AVERAGE(CF68:CG68),1) -> 842163.1
A69: 3.3 | B69: ANTIRUIDO MUELLES TRASERO | C69: 45815 | D69: 41650 | E69: =ROUND(AVERAGE(C69:D69),1) -> 43732.5 | F69: 52360 | G69: 47600 | H69: =ROUND(AVERAGE(F69:G69),1) -> 49980 | I69: 287980 | J69: 261800 | K69: =ROUND(AVERAGE(I69:J69),1) -> 274890 | L69: 58905 | M69: 53550 | N69: =ROUND(AVERAGE(L69:M69),1) -> 56227.5 | O69: 48433 | P69: 44030 | Q69: =ROUND(AVERAGE(O69:P69),1) -> 46231.5 | R69: 49742 | S69: 45220 | T69: =ROUND(AVERAGE(R69:S69),1) -> 47481 | U69: 40579 | V69: 36890 | W69: =ROUND(AVERAGE(U69:V69),1) -> 38734.5 | X69: 56287 | Y69: 51170 | Z69: =ROUND(AVERAGE(X69:Y69),1) -> 53728.5 | AA69: 294525 | AB69: 267750 | AC69: =ROUND(AVERAGE(AA69:AB69),1) -> 281137.5 | AD69: 58905 | AE69: 53550 | AF69: =ROUND(AVERAGE(AD69:AE69),1) -> 56227.5 | AG69: 56287 | AH69: 51170 | AI69: =ROUND(AVERAGE(AG69:AH69),1) -> 53728.5 | AJ69: 49742 | AK69: 45220 | AL69: =ROUND(AVERAGE(AJ69:AK69),1) -> 47481 | AM69: 58905 | AN69: 53550 | AO69: =ROUND(AVERAGE(AM69:AN69),1) -> 56227.5 | AP69: 298452 | AQ69: 271320 | AR69: =ROUND(AVERAGE(AP69:AQ69),1) -> 284886 | AS69: 58905 | AT69: 53550 | AU69: =ROUND(AVERAGE(AS69:AT69),1) -> 56227.5 | AV69: 303688 | AW69: 276080 | AX69: =ROUND(AVERAGE(AV69:AW69),1) -> 289884 | AY69: 62832 | AZ69: 57120 | BA69: =ROUND(AVERAGE(AY69:AZ69),1) -> 59976 | BB69: 62832 | BC69: 57120 | BD69: =ROUND(AVERAGE(BB69:BC69),1) -> 59976 | BE69: 49742 | BF69: 45220 | BG69: =ROUND(AVERAGE(BE69:BF69),1) -> 47481 | BH69: 58905 | BI69: 53550 | BJ69: =ROUND(AVERAGE(BH69:BI69),1) -> 56227.5 | BK69: 294525 | BL69: 267750 | BM69: =ROUND(AVERAGE(BK69:BL69),1) -> 281137.5 | BN69: 49742 | BO69: 45220 | BP69: =ROUND(AVERAGE(BN69:BO69),1) -> 47481 | BQ69: 287980 | BR69: 261800 | BS69: =ROUND(AVERAGE(BQ69:BR69),1) -> 274890 | BT69: 320705 | BU69: 291550 | BV69: =ROUND(AVERAGE(BT69:BU69),1) -> 306127.5 | BW69: 304997 | BX69: 277270 | BY69: =ROUND(AVERAGE(BW69:BX69),1) -> 291133.5 | BZ69: 61523 | CA69: 55930 | CB69: =ROUND(AVERAGE(BZ69:CA69),1) -> 58726.5 | CC69: 318087 | CD69: 289170 | CE69: =ROUND(AVERAGE(CC69:CD69),1) -> 303628.5 | CF69: 311542 | CG69: 283220 | CH69: =ROUND(AVERAGE(CF69:CG69),1) -> 297381
A70: 3.4 | B70: BARRA CENTRAL DIRECCION | C70: 809793.34 | D70: 736175.76 | E70: =ROUND(AVERAGE(C70:D70),1) -> 772984.5 | F70: 826319.73 | G70: 751199.76 | H70: =ROUND(AVERAGE(F70:G70),1) -> 788759.7 | I70: 1485346.1 | J70: 1350314.7 | K70: =ROUND(AVERAGE(I70:J70),1) -> 1417830.4 | L70: 1211353.3 | M70: 1101230.3 | N70: =ROUND(AVERAGE(L70:M70),1) -> 1156291.8 | O70: 1153669.5 | P70: 1048790.4 | Q70: =ROUND(AVERAGE(O70:P70),1) -> 1101230 | R70: 1260348.8 | S70: 1145771.6 | T70: =ROUND(AVERAGE(R70:S70),1) -> 1203060.2 | U70: 1633208 | V70: 1484734.6 | W70: =ROUND(AVERAGE(U70:V70),1) -> 1558971.3 | X70: 1572719.3 | Y70: 1429744.8 | Z70: =ROUND(AVERAGE(X70:Y70),1) -> 1501232 | AA70: 1499815.7 | AB70: 1363468.8 | AC70: =ROUND(AVERAGE(AA70:AB70),1) -> 1431642.2 | AD70: 1393057.2 | AE70: 1266415.6 | AF70: =ROUND(AVERAGE(AD70:AE70),1) -> 1329736.4 | AG70: 1153669.5 | AH70: 1048790.4 | AI70: =ROUND(AVERAGE(AG70:AH70),1) -> 1101230 | AJ70: 1153669.5 | AK70: 1048790.4 | AL70: =ROUND(AVERAGE(AJ70:AK70),1) -> 1101230 | AM70: 1860726.6 | AN70: 1691569.6 | AO70: =ROUND(AVERAGE(AM70:AN70),1) -> 1776148.1 | AP70: 1860726.6 | AQ70: 1691569.6 | AR70: =ROUND(AVERAGE(AP70:AQ70),1) -> 1776148.1 | AS70: 1860726.6 | AT70: 1691569.6 | AU70: =ROUND(AVERAGE(AS70:AT70),1) -> 1776148.1 | AV70: 1308876.3 | AW70: 1189887.5 | AX70: =ROUND(AVERAGE(AV70:AW70),1) -> 1249381.9 | AY70: 1860726.6 | AZ70: 1691569.6 | BA70: =ROUND(AVERAGE(AY70:AZ70),1) -> 1776148.1 | BB70: 1310106 | BC70: 1191005.4 | BD70: =ROUND(AVERAGE(BB70:BC70),1) -> 1250555.7 | BE70: 1297745.9 | BF70: 1179769 | BG70: =ROUND(AVERAGE(BE70:BF70),1) -> 1238757.4 | BH70: 1297745.9 | BI70: 1179769 | BJ70: =ROUND(AVERAGE(BH70:BI70),1) -> 1238757.4 | BK70: 1297745.9 | BL70: 1179769 | BM70: =ROUND(AVERAGE(BK70:BL70),1) -> 1238757.4 | BN70: 1084810.6 | BO70: 986191.44 | BP70: =ROUND(AVERAGE(BN70:BO70),1) -> 1035501 | BQ70: 1572719.3 | BR70: 1429744.8 | BS70: =ROUND(AVERAGE(BQ70:BR70),1) -> 1501232 | BT70: 1633208 | BU70: 1484734.6 | BV70: =ROUND(AVERAGE(BT70:BU70),1) -> 1558971.3 | BW70: 1485346.1 | BX70: 1350314.7 | BY70: =ROUND(AVERAGE(BW70:BX70),1) -> 1417830.4 | BZ70: 1572719.3 | CA70: 1429744.8 | CB70: =ROUND(AVERAGE(BZ70:CA70),1) -> 1501232 | CC70: 1651355.2 | CD70: 1501232 | CE70: =ROUND(AVERAGE(CC70:CD70),1) -> 1576293.6 | CF70: 1761445.6 | CG70: 1601314.2 | CH70: =ROUND(AVERAGE(CF70:CG70),1) -> 1681379.9
A71: 3.5 | B71: BOCIN DELANTERO | C71: 601739.05 | D71: 547035.5 | E71: =ROUND(AVERAGE(C71:D71),1) -> 574387.3 | F71: 614019.44 | G71: 558199.49 | H71: =ROUND(AVERAGE(F71:G71),1) -> 586109.5 | I71: 1878385.5 | J71: 1707623.2 | K71: =ROUND(AVERAGE(I71:J71),1) -> 1793004.4 | L71: 1755294.3 | M71: 1595722.1 | N71: =ROUND(AVERAGE(L71:M71),1) -> 1675508.2 | O71: 1671709.5 | P71: 1519735.9 | Q71: =ROUND(AVERAGE(O71:P71),1) -> 1595722.7 | R71: 1608535.3 | S71: 1462304.8 | T71: =ROUND(AVERAGE(R71:S71),1) -> 1535420.1 | U71: 2065375.3 | V71: 1877613.9 | W71: =ROUND(AVERAGE(U71:V71),1) -> 1971494.6 | X71: 1988879.2 | Y71: 1808072 | Z71: =ROUND(AVERAGE(X71:Y71),1) -> 1898475.6 | AA71: 1914157 | AB71: 1740142.7 | AC71: =ROUND(AVERAGE(AA71:AB71),1) -> 1827149.8 | AD71: 2018588.6 | AE71: 1835080.6 | AF71: =ROUND(AVERAGE(AD71:AE71),1) -> 1926834.6 | AG71: 1671709.5 | AH71: 1519735.9 | AI71: =ROUND(AVERAGE(AG71:AH71),1) -> 1595722.7 | AJ71: 1671709.5 | AK71: 1519735.9 | AL71: =ROUND(AVERAGE(AJ71:AK71),1) -> 1595722.7 | AM71: 2353097.5 | AN71: 2139179.6 | AO71: =ROUND(AVERAGE(AM71:AN71),1) -> 2246138.6 | AP71: 2353097.5 | AQ71: 2139179.6 | AR71: =ROUND(AVERAGE(AP71:AQ71),1) -> 2246138.6 | AS71: 2353097.5 | AT71: 2139179.6 | AU71: =ROUND(AVERAGE(AS71:AT71),1) -> 2246138.6 | AV71: 1414984 | AW71: 1286349.1 | AX71: =ROUND(AVERAGE(AV71:AW71),1) -> 1350666.5 | AY71: 2353097.5 | AZ71: 2139179.6 | BA71: =ROUND(AVERAGE(AY71:AZ71),1) -> 2246138.6 | BB71: 1095569.5 | BC71: 995972.29 | BD71: =ROUND(AVERAGE(BB71:BC71),1) -> 1045770.9 | BE71: 1085233.9 | BF71: 986576.28 | BG71: =ROUND(AVERAGE(BE71:BF71),1) -> 1035905.1 | BH71: 1085233.9 | BI71: 986576.28 | BJ71: =ROUND(AVERAGE(BH71:BI71),1) -> 1035905.1 | BK71: 1085233.9 | BL71: 986576.28 | BM71: =ROUND(AVERAGE(BK71:BL71),1) -> 1035905.1 | BN71: 943700.38 | BO71: 857909.44 | BP71: =ROUND(AVERAGE(BN71:BO71),1) -> 900804.9 | BQ71: 1988879.2 | BR71: 1808072 | BS71: =ROUND(AVERAGE(BQ71:BR71),1) -> 1898475.6 | BT71: 2065375.3 | BU71: 1877613.9 | BV71: =ROUND(AVERAGE(BT71:BU71),1) -> 1971494.6 | BW71: 1878385.5 | BX71: 1707623.2 | BY71: =ROUND(AVERAGE(BW71:BX71),1) -> 1793004.4 | BZ71: 1988879.2 | CA71: 1808072 | CB71: =ROUND(AVERAGE(BZ71:CA71),1) -> 1898475.6 | CC71: 2088323.1 | CD71: 1898475.6 | CE71: =ROUND(AVERAGE(CC71:CD71),1) -> 1993399.3 | CF71: 2227544.7 | CG71: 2025040.6 | CH71: =ROUND(AVERAGE(CF71:CG71),1) -> 2126292.6
A72: 3.6 | B72: BOCIN TRASERO | C72: 601739.05 | D72: 547035.5 | E72: =ROUND(AVERAGE(C72:D72),1) -> 574387.3 | F72: 614019.44 | G72: 558199.49 | H72: =ROUND(AVERAGE(F72:G72),1) -> 586109.5 | I72: 1878385.5 | J72: 1707623.2 | K72: =ROUND(AVERAGE(I72:J72),1) -> 1793004.4 | L72: 1755294.3 | M72: 1595722.1 | N72: =ROUND(AVERAGE(L72:M72),1) -> 1675508.2 | O72: 1671709.5 | P72: 1519735.9 | Q72: =ROUND(AVERAGE(O72:P72),1) -> 1595722.7 | R72: 1542233.7 | S72: 1402030.6 | T72: =ROUND(AVERAGE(R72:S72),1) -> 1472132.2 | U72: 2065375.3 | V72: 1877613.9 | W72: =ROUND(AVERAGE(U72:V72),1) -> 1971494.6 | X72: 1988879.2 | Y72: 1808072 | Z72: =ROUND(AVERAGE(X72:Y72),1) -> 1898475.6 | AA72: 1835257.7 | AB72: 1668416.1 | AC72: =ROUND(AVERAGE(AA72:AB72),1) -> 1751836.9 | AD72: 2018588.6 | AE72: 1835080.6 | AF72: =ROUND(AVERAGE(AD72:AE72),1) -> 1926834.6 | AG72: 1671709.5 | AH72: 1519735.9 | AI72: =ROUND(AVERAGE(AG72:AH72),1) -> 1595722.7 | AJ72: 1671709.5 | AK72: 1519735.9 | AL72: =ROUND(AVERAGE(AJ72:AK72),1) -> 1595722.7 | AM72: 2353097.5 | AN72: 2139179.6 | AO72: =ROUND(AVERAGE(AM72:AN72),1) -> 2246138.6 | AP72: 2353097.5 | AQ72: 2139179.6 | AR72: =ROUND(AVERAGE(AP72:AQ72),1) -> 2246138.6 | AS72: 2353097.5 | AT72: 2139179.6 | AU72: =ROUND(AVERAGE(AS72:AT72),1) -> 2246138.6 | AV72: 1414984 | AW72: 1286349.1 | AX72: =ROUND(AVERAGE(AV72:AW72),1) -> 1350666.5 | AY72: 2353097.5 | AZ72: 2139179.6 | BA72: =ROUND(AVERAGE(AY72:AZ72),1) -> 2246138.6 | BB72: 1095569.5 | BC72: 995972.29 | BD72: =ROUND(AVERAGE(BB72:BC72),1) -> 1045770.9 | BE72: 1085233.9 | BF72: 986576.28 | BG72: =ROUND(AVERAGE(BE72:BF72),1) -> 1035905.1 | BH72: 1085233.9 | BI72: 986576.28 | BJ72: =ROUND(AVERAGE(BH72:BI72),1) -> 1035905.1 | BK72: 1085233.9 | BL72: 986576.28 | BM72: =ROUND(AVERAGE(BK72:BL72),1) -> 1035905.1 | BN72: 943700.38 | BO72: 857909.44 | BP72: =ROUND(AVERAGE(BN72:BO72),1) -> 900804.9 | BQ72: 1988879.2 | BR72: 1808072 | BS72: =ROUND(AVERAGE(BQ72:BR72),1) -> 1898475.6 | BT72: 2065375.3 | BU72: 1877613.9 | BV72: =ROUND(AVERAGE(BT72:BU72),1) -> 1971494.6 | BW72: 1878385.5 | BX72: 1707623.2 | BY72: =ROUND(AVERAGE(BW72:BX72),1) -> 1793004.4 | BZ72: 1988879.2 | CA72: 1808072 | CB72: =ROUND(AVERAGE(BZ72:CA72),1) -> 1898475.6 | CC72: 2088323.1 | CD72: 1898475.6 | CE72: =ROUND(AVERAGE(CC72:CD72),1) -> 1993399.3 | CF72: 2227544.7 | CG72: 2025040.6 | CH72: =ROUND(AVERAGE(CF72:CG72),1) -> 2126292.6
A73: 3.7 | B73: BRAZOS AXIAL (PAR) | C73: 230479.52 | D73: 209526.84 | E73: =ROUND(AVERAGE(C73:D73),1) -> 220003.2 | F73: 235183.19 | G73: 213802.9 | H73: =ROUND(AVERAGE(F73:G73),1) -> 224493 | I73: 428053.47 | J73: 389139.52 | K73: =ROUND(AVERAGE(I73:J73),1) -> 408596.5 | L73: 400002.78 | M73: 363638.89 | N73: =ROUND(AVERAGE(L73:M73),1) -> 381820.8 | O73: 380954.34 | P73: 346322.13 | Q73: =ROUND(AVERAGE(O73:P73),1) -> 363638.2 | R73: 352510.56 | S73: 320464.14 | T73: =ROUND(AVERAGE(R73:S73),1) -> 336487.4 | U73: 470664.43 | V73: 427876.76 | W73: =ROUND(AVERAGE(U73:V73),1) -> 449270.6 | X73: 453233 | Y73: 412030 | Z73: =ROUND(AVERAGE(X73:Y73),1) -> 432631.5 | AA73: 419487.51 | AB73: 381352.28 | AC73: =ROUND(AVERAGE(AA73:AB73),1) -> 400419.9 | AD73: 460003.41 | AE73: 418184.92 | AF73: =ROUND(AVERAGE(AD73:AE73),1) -> 439094.2 | AG73: 380954.34 | AH73: 346322.13 | AI73: =ROUND(AVERAGE(AG73:AH73),1) -> 363638.2 | AJ73: 380954.34 | AK73: 346322.13 | AL73: =ROUND(AVERAGE(AJ73:AK73),1) -> 363638.2 | AM73: 536231.72 | AN73: 487483.38 | AO73: =ROUND(AVERAGE(AM73:AN73),1) -> 511857.6 | AP73: 536231.72 | AQ73: 487483.38 | AR73: =ROUND(AVERAGE(AP73:AQ73),1) -> 511857.6 | AS73: 536231.72 | AT73: 487483.38 | AU73: =ROUND(AVERAGE(AS73:AT73),1) -> 511857.6 | AV73: 466366.33 | AW73: 423969.39 | AX73: =ROUND(AVERAGE(AV73:AW73),1) -> 445167.9 | AY73: 536231.72 | AZ73: 487483.38 | BA73: =ROUND(AVERAGE(AY73:AZ73),1) -> 511857.6 | BB73: 350787 | BC73: 318897.27 | BD73: =ROUND(AVERAGE(BB73:BC73),1) -> 334842.1 | BE73: 347478.11 | BF73: 315889.19 | BG73: =ROUND(AVERAGE(BE73:BF73),1) -> 331683.6 | BH73: 347478.11 | BI73: 315889.19 | BJ73: =ROUND(AVERAGE(BH73:BI73),1) -> 331683.6 | BK73: 347478.11 | BL73: 315889.19 | BM73: =ROUND(AVERAGE(BK73:BL73),1) -> 331683.6 | BN73: 347478.11 | BO73: 315889.19 | BP73: =ROUND(AVERAGE(BN73:BO73),1) -> 331683.6 | BQ73: 453233 | BR73: 412030 | BS73: =ROUND(AVERAGE(BQ73:BR73),1) -> 432631.5 | BT73: 470664.43 | BU73: 427876.76 | BV73: =ROUND(AVERAGE(BT73:BU73),1) -> 449270.6 | BW73: 428053.47 | BX73: 389139.52 | BY73: =ROUND(AVERAGE(BW73:BX73),1) -> 408596.5 | BZ73: 453233 | CA73: 412030 | CB73: =ROUND(AVERAGE(BZ73:CA73),1) -> 432631.5 | CC73: 475894.65 | CD73: 432631.5 | CE73: =ROUND(AVERAGE(CC73:CD73),1) -> 454263.1 | CF73: 507620.96 | CG73: 461473.6 | CH73: =ROUND(AVERAGE(CF73:CG73),1) -> 484547.3
A74: 3.8 | B74: BUJE DE TEMPLETE TRASERO | C74: 143990 | D74: 130900 | E74: =ROUND(AVERAGE(C74:D74),1) -> 137445 | F74: 95557 | G74: 86870 | H74: =ROUND(AVERAGE(F74:G74),1) -> 91213.5 | I74: 235620 | J74: 214200 | K74: =ROUND(AVERAGE(I74:J74),1) -> 224910 | L74: 170170 | M74: 154700 | N74: =ROUND(AVERAGE(L74:M74),1) -> 162435 | O74: 150535 | P74: 136850 | Q74: =ROUND(AVERAGE(O74:P74),1) -> 143692.5 | R74: 92939 | S74: 84490 | T74: =ROUND(AVERAGE(R74:S74),1) -> 88714.5 | U74: 82467 | V74: 74970 | W74: =ROUND(AVERAGE(U74:V74),1) -> 78718.5 | X74: 95557 | Y74: 86870 | Z74: =ROUND(AVERAGE(X74:Y74),1) -> 91213.5 | AA74: 239547 | AB74: 217770 | AC74: =ROUND(AVERAGE(AA74:AB74),1) -> 228658.5 | AD74: 170170 | AE74: 154700 | AF74: =ROUND(AVERAGE(AD74:AE74),1) -> 162435 | AG74: 95557 | AH74: 86870 | AI74: =ROUND(AVERAGE(AG74:AH74),1) -> 91213.5 | AJ74: 94902.5 | AK74: 86275 | AL74: =ROUND(AVERAGE(AJ74:AK74),1) -> 90588.8 | AM74: 98175 | AN74: 89250 | AO74: =ROUND(AVERAGE(AM74:AN74),1) -> 93712.5 | AP74: 243474 | AQ74: 221340 | AR74: =ROUND(AVERAGE(AP74:AQ74),1) -> 232407 | AS74: 98175 | AT74: 89250 | AU74: =ROUND(AVERAGE(AS74:AT74),1) -> 93712.5 | AV74: 246092 | AW74: 223720 | AX74: =ROUND(AVERAGE(AV74:AW74),1) -> 234906 | AY74: 106029 | AZ74: 96390 | BA74: =ROUND(AVERAGE(AY74:AZ74),1) -> 101209.5 | BB74: 102102 | BC74: 92820 | BD74: =ROUND(AVERAGE(BB74:BC74),1) -> 97461 | BE74: 150535 | BF74: 136850 | BG74: =ROUND(AVERAGE(BE74:BF74),1) -> 143692.5 | BH74: 98175 | BI74: 89250 | BJ74: =ROUND(AVERAGE(BH74:BI74),1) -> 93712.5 | BK74: 239547 | BL74: 217770 | BM74: =ROUND(AVERAGE(BK74:BL74),1) -> 228658.5 | BN74: 95557 | BO74: 86870 | BP74: =ROUND(AVERAGE(BN74:BO74),1) -> 91213.5 | BQ74: 235620 | BR74: 214200 | BS74: =ROUND(AVERAGE(BQ74:BR74),1) -> 224910 | BT74: 252637 | BU74: 229670 | BV74: =ROUND(AVERAGE(BT74:BU74),1) -> 241153.5 | BW74: 244783 | BX74: 222530 | BY74: =ROUND(AVERAGE(BW74:BX74),1) -> 233656.5 | BZ74: 102102 | CA74: 92820 | CB74: =ROUND(AVERAGE(BZ74:CA74),1) -> 97461 | CC74: 252637 | CD74: 229670 | CE74: =ROUND(AVERAGE(CC74:CD74),1) -> 241153.5 | CF74: 255255 | CG74: 232050 | CH74: =ROUND(AVERAGE(CF74:CG74),1) -> 243652.5
A75: 3.9 | B75: BUJES BARRA ESTABILIZADORA DELANTERA | C75: 69341.552 | D75: 63037.775 | E75: =ROUND(AVERAGE(C75:D75),1) -> 66189.7 | F75: 70756.686 | G75: 64324.26 | H75: =ROUND(AVERAGE(F75:G75),1) -> 67540.5 | I75: 114558.44 | J75: 104144.04 | K75: =ROUND(AVERAGE(I75:J75),1) -> 109351.2 | L75: 88913.825 | M75: 80830.75 | N75: =ROUND(AVERAGE(L75:M75),1) -> 84872.3 | O75: 88913.825 | P75: 80830.75 | Q75: =ROUND(AVERAGE(O75:P75),1) -> 84872.3 | R75: 93368.876 | S75: 84880.796 | T75: =ROUND(AVERAGE(R75:S75),1) -> 89124.8 | U75: 138791.96 | V75: 126174.51 | W75: =ROUND(AVERAGE(U75:V75),1) -> 132483.2 | X75: 133651.52 | Y75: 121501.38 | Z75: =ROUND(AVERAGE(X75:Y75),1) -> 127576.4 | AA75: 112087.58 | AB75: 101897.8 | AC75: =ROUND(AVERAGE(AA75:AB75),1) -> 106992.7 | AD75: 133426.89 | AE75: 121297.18 | AF75: =ROUND(AVERAGE(AD75:AE75),1) -> 127362 | AG75: 74631.457 | AH75: 67846.779 | AI75: =ROUND(AVERAGE(AG75:AH75),1) -> 71239.1 | AJ75: 74631.457 | AK75: 67846.779 | AL75: =ROUND(AVERAGE(AJ75:AK75),1) -> 71239.1 | AM75: 143759.62 | AN75: 130690.56 | AO75: =ROUND(AVERAGE(AM75:AN75),1) -> 137225.1 | AP75: 143759.62 | AQ75: 130690.56 | AR75: =ROUND(AVERAGE(AP75:AQ75),1) -> 137225.1 | AS75: 143759.62 | AT75: 130690.56 | AU75: =ROUND(AVERAGE(AS75:AT75),1) -> 137225.1 | AV75: 87116.83 | AW75: 79197.118 | AX75: =ROUND(AVERAGE(AV75:AW75),1) -> 83157 | AY75: 143759.62 | AZ75: 130690.56 | BA75: =ROUND(AVERAGE(AY75:AZ75),1) -> 137225.1 | BB75: 77869.792 | BC75: 70790.72 | BD75: =ROUND(AVERAGE(BB75:BC75),1) -> 74330.3 | BE75: 93350.157 | BF75: 84863.779 | BG75: =ROUND(AVERAGE(BE75:BF75),1) -> 89107 | BH75: 89826.722 | BI75: 81660.656 | BJ75: =ROUND(AVERAGE(BH75:BI75),1) -> 85743.7 | BK75: 89826.722 | BL75: 81660.656 | BM75: =ROUND(AVERAGE(BK75:BL75),1) -> 85743.7 | BN75: 69446.377 | BO75: 63133.07 | BP75: =ROUND(AVERAGE(BN75:BO75),1) -> 66289.7 | BQ75: 133651.52 | BR75: 121501.38 | BS75: =ROUND(AVERAGE(BQ75:BR75),1) -> 127576.4 | BT75: 138791.96 | BU75: 126174.51 | BV75: =ROUND(AVERAGE(BT75:BU75),1) -> 132483.2 | BW75: 114558.44 | BX75: 104144.04 | BY75: =ROUND(AVERAGE(BW75:BX75),1) -> 109351.2 | BZ75: 133651.52 | CA75: 121501.38 | CB75: =ROUND(AVERAGE(BZ75:CA75),1) -> 127576.4 | CC75: 140334.09 | CD75: 127576.45 | CE75: =ROUND(AVERAGE(CC75:CD75),1) -> 133955.3 | CF75: 149689.7 | CG75: 136081.55 | CH75: =ROUND(AVERAGE(CF75:CG75),1) -> 142885.6
A76: 3.10 | B76: BUJES BARRA ESTABILIZADORA TRASERA | C76: 58059.792 | D76: 52781.629 | E76: =ROUND(AVERAGE(C76:D76),1) -> 55420.7 | F76: 59244.685 | G76: 53858.805 | H76: =ROUND(AVERAGE(F76:G76),1) -> 56551.7 | I76: 115120.01 | J76: 104654.55 | K76: =ROUND(AVERAGE(I76:J76),1) -> 109887.3 | L76: 93162.97 | M76: 84693.609 | N76: =ROUND(AVERAGE(L76:M76),1) -> 88928.3 | O76: 93162.97 | P76: 84693.609 | Q76: =ROUND(AVERAGE(O76:P76),1) -> 88928.3 | R76: 95862.782 | S76: 87147.984 | T76: =ROUND(AVERAGE(R76:S76),1) -> 91505.4 | U76: 140152.67 | V76: 127411.51 | W76: =ROUND(AVERAGE(U76:V76),1) -> 133782.1 | X76: 134961.83 | Y76: 122692.57 | Z76: =ROUND(AVERAGE(X76:Y76),1) -> 128827.2 | AA76: 112087.58 | AB76: 101897.8 | AC76: =ROUND(AVERAGE(AA76:AB76),1) -> 106992.7 | AD76: 142636.49 | AE76: 129669.54 | AF76: =ROUND(AVERAGE(AD76:AE76),1) -> 136153 | AG76: 77121.044 | AH76: 70110.04 | AI76: =ROUND(AVERAGE(AG76:AH76),1) -> 73615.5 | AJ76: 77121.044 | AK76: 70110.04 | AL76: =ROUND(AVERAGE(AJ76:AK76),1) -> 73615.5 | AM76: 149375.23 | AN76: 135795.66 | AO76: =ROUND(AVERAGE(AM76:AN76),1) -> 142585.4 | AP76: 149375.23 | AQ76: 135795.66 | AR76: =ROUND(AVERAGE(AP76:AQ76),1) -> 142585.4 | AS76: 149375.23 | AT76: 135795.66 | AU76: =ROUND(AVERAGE(AS76:AT76),1) -> 142585.4 | AV76: 87135.548 | AW76: 79214.135 | AX76: =ROUND(AVERAGE(AV76:AW76),1) -> 83174.8 | AY76: 149375.23 | AZ76: 135795.66 | BA76: =ROUND(AVERAGE(AY76:AZ76),1) -> 142585.4 | BB76: 88165.077 | BC76: 80150.07 | BD76: =ROUND(AVERAGE(BB76:BC76),1) -> 84157.6 | BE76: 91291.1 | BF76: 82991.909 | BG76: =ROUND(AVERAGE(BE76:BF76),1) -> 87141.5 | BH76: 85544.459 | BI76: 77767.69 | BJ76: =ROUND(AVERAGE(BH76:BI76),1) -> 81656.1 | BK76: 85544.459 | BL76: 77767.69 | BM76: =ROUND(AVERAGE(BK76:BL76),1) -> 81656.1 | BN76: 66825.759 | BO76: 60750.69 | BP76: =ROUND(AVERAGE(BN76:BO76),1) -> 63788.2 | BQ76: 134961.83 | BR76: 122692.57 | BS76: =ROUND(AVERAGE(BQ76:BR76),1) -> 128827.2 | BT76: 140152.67 | BU76: 127411.51 | BV76: =ROUND(AVERAGE(BT76:BU76),1) -> 133782.1 | BW76: 115120.01 | BX76: 104654.55 | BY76: =ROUND(AVERAGE(BW76:BX76),1) -> 109887.3 | BZ76: 134961.83 | CA76: 122692.57 | CB76: =ROUND(AVERAGE(BZ76:CA76),1) -> 128827.2 | CC76: 141709.92 | CD76: 128827.2 | CE76: =ROUND(AVERAGE(CC76:CD76),1) -> 135268.6 | CF76: 151157.25 | CG76: 137415.68 | CH76: =ROUND(AVERAGE(CF76:CG76),1) -> 144286.5
A77: 3.11 | B77: BUJES TIJERA INFERIOR | C77: 201410.82 | D77: 183100.75 | E77: =ROUND(AVERAGE(C77:D77),1) -> 192255.8 | F77: 205521.25 | G77: 186837.5 | H77: =ROUND(AVERAGE(F77:G77),1) -> 196179.4 | I77: 346632.89 | J77: 315120.81 | K77: =ROUND(AVERAGE(I77:J77),1) -> 330876.8 | L77: 323917.02 | M77: 294470.02 | N77: =ROUND(AVERAGE(L77:M77),1) -> 309193.5 | O77: 308492.82 | P77: 280448.01 | Q77: =ROUND(AVERAGE(O77:P77),1) -> 294470.4 | R77: NO COTIZADO | S77: NO COTIZADO | T77: NO COTIZADO | U77: 381138.65 | V77: 346489.68 | W77: =ROUND(AVERAGE(U77:V77),1) -> 363814.2 | X77: 367023.31 | Y77: 333657.55 | Z77: =ROUND(AVERAGE(X77:Y77),1) -> 350340.4 | AA77: 184884.6 | AB77: 168076.91 | AC77: =ROUND(AVERAGE(AA77:AB77),1) -> 176480.8 | AD77: 372505.01 | AE77: 338640.92 | AF77: =ROUND(AVERAGE(AD77:AE77),1) -> 355573 | AG77: 308492.82 | AH77: 280448.01 | AI77: =ROUND(AVERAGE(AG77:AH77),1) -> 294470.4 | AJ77: 308492.82 | AK77: 280448.01 | AL77: =ROUND(AVERAGE(AJ77:AK77),1) -> 294470.4 | AM77: 434234.96 | AN77: 394759.06 | AO77: =ROUND(AVERAGE(AM77:AN77),1) -> 414497 | AP77: 434234.96 | AQ77: 394759.06 | AR77: =ROUND(AVERAGE(AP77:AQ77),1) -> 414497 | AS77: 434234.96 | AT77: 394759.06 | AU77: =ROUND(AVERAGE(AS77:AT77),1) -> 414497 | AV77: 352951.17 | AW77: 320864.7 | AX77: =ROUND(AVERAGE(AV77:AW77),1) -> 336907.9 | AY77: 434234.96 | AZ77: 394759.06 | BA77: =ROUND(AVERAGE(AY77:AZ77),1) -> 414497 | BB77: 595097.71 | BC77: 540997.92 | BD77: =ROUND(AVERAGE(BB77:BC77),1) -> 568047.8 | BE77: 589483.54 | BF77: 535894.13 | BG77: =ROUND(AVERAGE(BE77:BF77),1) -> 562688.8 | BH77: 589483.54 | BI77: 535894.13 | BJ77: =ROUND(AVERAGE(BH77:BI77),1) -> 562688.8 | BK77: 589483.54 | BL77: 535894.13 | BM77: =ROUND(AVERAGE(BK77:BL77),1) -> 562688.8 | BN77: 258489.41 | BO77: 234990.37 | BP77: =ROUND(AVERAGE(BN77:BO77),1) -> 246739.9 | BQ77: 367023.31 | BR77: 333657.55 | BS77: =ROUND(AVERAGE(BQ77:BR77),1) -> 350340.4 | BT77: 381138.65 | BU77: 346489.68 | BV77: =ROUND(AVERAGE(BT77:BU77),1) -> 363814.2 | BW77: 346632.89 | BX77: 315120.81 | BY77: =ROUND(AVERAGE(BW77:BX77),1) -> 330876.8 | BZ77: 367023.31 | CA77: 333657.55 | CB77: =ROUND(AVERAGE(BZ77:CA77),1) -> 350340.4 | CC77: 385374.48 | CD77: 350340.43 | CE77: =ROUND(AVERAGE(CC77:CD77),1) -> 367857.5 | CF77: 411066.11 | CG77: 373696.46 | CH77: =ROUND(AVERAGE(CF77:CG77),1) -> 392381.3
A78: 3.12 | B78: BUJES TIJERA SUPERIOR | C78: 188952.2 | D78: 171774.73 | E78: =ROUND(AVERAGE(C78:D78),1) -> 180363.5 | F78: 192808.37 | G78: 175280.34 | H78: =ROUND(AVERAGE(F78:G78),1) -> 184044.4 | I78: 207531.35 | J78: 188664.86 | K78: =ROUND(AVERAGE(I78:J78),1) -> 198098.1 | L78: 367966.45 | M78: 334514.95 | N78: =ROUND(AVERAGE(L78:M78),1) -> 351240.7 | O78: 350444.3 | P78: 318585.73 | Q78: =ROUND(AVERAGE(O78:P78),1) -> 334515 | R78: NO COTIZADO | S78: NO COTIZADO | T78: NO COTIZADO | U78: 228191.03 | V78: 207446.39 | W78: =ROUND(AVERAGE(U78:V78),1) -> 217818.7 | X78: 219740.26 | Y78: 199763.87 | Z78: =ROUND(AVERAGE(X78:Y78),1) -> 209752.1 | AA78: 182413.73 | AB78: 165830.67 | AC78: =ROUND(AVERAGE(AA78:AB78),1) -> 174122.2 | AD78: 423162.13 | AE78: 384692.85 | AF78: =ROUND(AVERAGE(AD78:AE78),1) -> 403927.5 | AG78: 350444.3 | AH78: 318585.73 | AI78: =ROUND(AVERAGE(AG78:AH78),1) -> 334515 | AJ78: 350444.3 | AK78: 318585.73 | AL78: =ROUND(AVERAGE(AJ78:AK78),1) -> 334515 | AM78: 259979.7 | AN78: 236345.19 | AO78: =ROUND(AVERAGE(AM78:AN78),1) -> 248162.4 | AP78: 259979.7 | AQ78: 236345.19 | AR78: =ROUND(AVERAGE(AP78:AQ78),1) -> 248162.4 | AS78: 259979.7 | AT78: 236345.19 | AU78: =ROUND(AVERAGE(AS78:AT78),1) -> 248162.4 | AV78: 393933.6 | AW78: 358121.46 | AX78: =ROUND(AVERAGE(AV78:AW78),1) -> 376027.5 | AY78: 259979.7 | AZ78: 236345.19 | BA78: =ROUND(AVERAGE(AY78:AZ78),1) -> 248162.4 | BB78: 639502.79 | BC78: 581366.17 | BD78: =ROUND(AVERAGE(BB78:BC78),1) -> 610434.5 | BE78: 633469.61 | BF78: 575881.46 | BG78: =ROUND(AVERAGE(BE78:BF78),1) -> 604675.5 | BH78: 633469.61 | BI78: 575881.46 | BJ78: =ROUND(AVERAGE(BH78:BI78),1) -> 604675.5 | BK78: 633469.61 | BL78: 575881.46 | BM78: =ROUND(AVERAGE(BK78:BL78),1) -> 604675.5 | BN78: 262727.03 | BO78: 238842.76 | BP78: =ROUND(AVERAGE(BN78:BO78),1) -> 250784.9 | BQ78: 219740.26 | BR78: 199763.87 | BS78: =ROUND(AVERAGE(BQ78:BR78),1) -> 209752.1 | BT78: 228191.03 | BU78: 207446.39 | BV78: =ROUND(AVERAGE(BT78:BU78),1) -> 217818.7 | BW78: 207531.35 | BX78: 188664.86 | BY78: =ROUND(AVERAGE(BW78:BX78),1) -> 198098.1 | BZ78: 219740.26 | CA78: 199763.87 | CB78: =ROUND(AVERAGE(BZ78:CA78),1) -> 209752.1 | CC78: 230727.27 | CD78: 209752.07 | CE78: =ROUND(AVERAGE(CC78:CD78),1) -> 220239.7 | CF78: 246109.09 | CG78: 223735.54 | CH78: =ROUND(AVERAGE(CF78:CG78),1) -> 234922.3
A79: 3.13 | B79: BULON MUELLE | C79: 186667.63 | D79: 169697.84 | E79: =ROUND(AVERAGE(C79:D79),1) -> 178182.7 | F79: 190477.17 | G79: 173161.07 | H79: =ROUND(AVERAGE(F79:G79),1) -> 181819.1 | I79: 214026.74 | J79: 194569.76 | K79: =ROUND(AVERAGE(I79:J79),1) -> 204298.2 | L79: 200000.67 | M79: 181818.79 | N79: =ROUND(AVERAGE(L79:M79),1) -> 190909.7 | O79: 190477.17 | P79: 173161.07 | Q79: =ROUND(AVERAGE(O79:P79),1) -> 181819.1 | R79: 164312.75 | S79: 149375.23 | T79: =ROUND(AVERAGE(R79:S79),1) -> 156844 | U79: 235332.94 | V79: 213939.03 | W79: =ROUND(AVERAGE(U79:V79),1) -> 224636 | X79: 226615.78 | Y79: 206014.35 | Z79: =ROUND(AVERAGE(X79:Y79),1) -> 216315.1 | AA79: 195532.66 | AB79: 177756.96 | AC79: =ROUND(AVERAGE(AA79:AB79),1) -> 186644.8 | AD79: 230000.99 | AE79: 209091.81 | AF79: =ROUND(AVERAGE(AD79:AE79),1) -> 219546.4 | AG79: 190477.17 | AH79: 173161.07 | AI79: =ROUND(AVERAGE(AG79:AH79),1) -> 181819.1 | AJ79: 190477.17 | AK79: 173161.07 | AL79: =ROUND(AVERAGE(AJ79:AK79),1) -> 181819.1 | AM79: 268116.58 | AN79: 243742.35 | AO79: =ROUND(AVERAGE(AM79:AN79),1) -> 255929.5 | AP79: 268116.58 | AQ79: 243742.35 | AR79: =ROUND(AVERAGE(AP79:AQ79),1) -> 255929.5 | AS79: 268116.58 | AT79: 243742.35 | AU79: =ROUND(AVERAGE(AS79:AT79),1) -> 255929.5 | AV79: 285601.29 | AW79: 259637.53 | AX79: =ROUND(AVERAGE(AV79:AW79),1) -> 272619.4 | AY79: 268116.58 | AZ79: 243742.35 | BA79: =ROUND(AVERAGE(AY79:AZ79),1) -> 255929.5 | BB79: 192291.45 | BC79: 174810.4 | BD79: =ROUND(AVERAGE(BB79:BC79),1) -> 183550.9 | BE79: 190477.17 | BF79: 173161.07 | BG79: =ROUND(AVERAGE(BE79:BF79),1) -> 181819.1 | BH79: 190477.17 | BI79: 173161.07 | BJ79: =ROUND(AVERAGE(BH79:BI79),1) -> 181819.1 | BK79: 190477.17 | BL79: 173161.07 | BM79: =ROUND(AVERAGE(BK79:BL79),1) -> 181819.1 | BN79: 190477.17 | BO79: 173161.07 | BP79: =ROUND(AVERAGE(BN79:BO79),1) -> 181819.1 | BQ79: 226615.78 | BR79: 206014.35 | BS79: =ROUND(AVERAGE(BQ79:BR79),1) -> 216315.1 | BT79: 235332.94 | BU79: 213939.03 | BV79: =ROUND(AVERAGE(BT79:BU79),1) -> 224636 | BW79: 214026.74 | BX79: 194569.76 | BY79: =ROUND(AVERAGE(BW79:BX79),1) -> 204298.2 | BZ79: 226615.78 | CA79: 206014.35 | CB79: =ROUND(AVERAGE(BZ79:CA79),1) -> 216315.1 | CC79: 237946.57 | CD79: 216315.06 | CE79: =ROUND(AVERAGE(CC79:CD79),1) -> 227130.8 | CF79: 253809.68 | CG79: 230736.07 | CH79: =ROUND(AVERAGE(CF79:CG79),1) -> 242272.9
A80: 3.14 | B80: CAJA DIRECCION | C80: 1570800 | D80: 1428000 | E80: =ROUND(AVERAGE(C80:D80),1) -> 1499400 | F80: 1243550 | G80: 1130500 | H80: =ROUND(AVERAGE(F80:G80),1) -> 1187025 | I80: 3010700 | J80: 2737000 | K80: =ROUND(AVERAGE(I80:J80),1) -> 2873850 | L80: 719950 | M80: 654500 | N80: =ROUND(AVERAGE(L80:M80),1) -> 687225 | O80: 1583890 | P80: 1439900 | Q80: =ROUND(AVERAGE(O80:P80),1) -> 1511895 | R80: 850850 | S80: 773500 | T80: =ROUND(AVERAGE(R80:S80),1) -> 812175 | U80: 2421650 | V80: 2201500 | W80: =ROUND(AVERAGE(U80:V80),1) -> 2311575 | X80: 2028950 | Y80: 1844500 | Z80: =ROUND(AVERAGE(X80:Y80),1) -> 1936725 | AA80: 3010700 | AB80: 2737000 | AC80: =ROUND(AVERAGE(AA80:AB80),1) -> 2873850 | AD80: 2421650 | AE80: 2201500 | AF80: =ROUND(AVERAGE(AD80:AE80),1) -> 2311575 | AG80: 1243550 | AH80: 1130500 | AI80: =ROUND(AVERAGE(AG80:AH80),1) -> 1187025 | AJ80: 1505350 | AK80: 1368500 | AL80: =ROUND(AVERAGE(AJ80:AK80),1) -> 1436925 | AM80: 3730650 | AN80: 3391500 | AO80: =ROUND(AVERAGE(AM80:AN80),1) -> 3561075 | AP80: 3076150 | AQ80: 2796500 | AR80: =ROUND(AVERAGE(AP80:AQ80),1) -> 2936325 | AS80: 3730650 | AT80: 3391500 | AU80: =ROUND(AVERAGE(AS80:AT80),1) -> 3561075 | AV80: 3010700 | AW80: 2737000 | AX80: =ROUND(AVERAGE(AV80:AW80),1) -> 2873850 | AY80: 3861550 | AZ80: 3510500 | BA80: =ROUND(AVERAGE(AY80:AZ80),1) -> 3686025 | BB80: 3468850 | BC80: 3153500 | BD80: =ROUND(AVERAGE(BB80:BC80),1) -> 3311175 | BE80: 2028950 | BF80: 1844500 | BG80: =ROUND(AVERAGE(BE80:BF80),1) -> 1936725 | BH80: 2552550 | BI80: 2320500 | BJ80: =ROUND(AVERAGE(BH80:BI80),1) -> 2436525 | BK80: 3207050 | BL80: 2915500 | BM80: =ROUND(AVERAGE(BK80:BL80),1) -> 3061275 | BN80: 1740970 | BO80: 1582700 | BP80: =ROUND(AVERAGE(BN80:BO80),1) -> 1661835 | BQ80: 3010700 | BR80: 2737000 | BS80: =ROUND(AVERAGE(BQ80:BR80),1) -> 2873850 | BT80: 4123350 | BU80: 3748500 | BV80: =ROUND(AVERAGE(BT80:BU80),1) -> 3935925 | BW80: 3861550 | BX80: 3510500 | BY80: =ROUND(AVERAGE(BW80:BX80),1) -> 3686025 | BZ80: 3861550 | CA80: 3510500 | CB80: =ROUND(AVERAGE(BZ80:CA80),1) -> 3686025 | CC80: 3900820 | CD80: 3546200 | CE80: =ROUND(AVERAGE(CC80:CD80),1) -> 3723510 | CF80: 4646950 | CG80: 4224500 | CH80: =ROUND(AVERAGE(CF80:CG80),1) -> 4435725
A81: 3.15 | B81: COPELAS AMORTIGUADOR DELANTERO | C81: 292771.21 | D81: 266155.65 | E81: =ROUND(AVERAGE(C81:D81),1) -> 279463.4 | F81: 298746.13 | G81: 271587.39 | H81: =ROUND(AVERAGE(F81:G81),1) -> 285166.8 | I81: 451860.78 | J81: 410782.53 | K81: =ROUND(AVERAGE(I81:J81),1) -> 431321.7 | L81: 422249.24 | M81: 383862.94 | N81: =ROUND(AVERAGE(L81:M81),1) -> 403056.1 | O81: 402142.47 | P81: 365584.07 | Q81: =ROUND(AVERAGE(O81:P81),1) -> 383863.3 | R81: 308446.74 | S81: 280406.13 | T81: =ROUND(AVERAGE(R81:S81),1) -> 294426.4 | U81: 496841.81 | V81: 451674.38 | W81: =ROUND(AVERAGE(U81:V81),1) -> 474258.1 | X81: 478439.89 | Y81: 434945.36 | Z81: =ROUND(AVERAGE(X81:Y81),1) -> 456692.6 | AA81: 367052.11 | AB81: 333683.73 | AC81: =ROUND(AVERAGE(AA81:AB81),1) -> 350367.9 | AD81: 485587.56 | AE81: 441443.23 | AF81: =ROUND(AVERAGE(AD81:AE81),1) -> 463515.4 | AG81: 402142.47 | AH81: 365584.07 | AI81: =ROUND(AVERAGE(AG81:AH81),1) -> 383863.3 | AJ81: 402142.47 | AK81: 365584.07 | AL81: =ROUND(AVERAGE(AJ81:AK81),1) -> 383863.3 | AM81: 566056.37 | AN81: 514596.7 | AO81: =ROUND(AVERAGE(AM81:AN81),1) -> 540326.5 | AP81: 566056.37 | AQ81: 514596.7 | AR81: =ROUND(AVERAGE(AP81:AQ81),1) -> 540326.5 | AS81: 566056.37 | AT81: 514596.7 | AU81: =ROUND(AVERAGE(AS81:AT81),1) -> 540326.5 | AV81: 602972.52 | AW81: 548156.84 | AX81: =ROUND(AVERAGE(AV81:AW81),1) -> 575564.7 | AY81: 566056.37 | AZ81: 514596.7 | BA81: =ROUND(AVERAGE(AY81:AZ81),1) -> 540326.5 | BB81: 588425.21 | BC81: 534932.01 | BD81: =ROUND(AVERAGE(BB81:BC81),1) -> 561678.6 | BE81: 582872.96 | BF81: 529884.51 | BG81: =ROUND(AVERAGE(BE81:BF81),1) -> 556378.7 | BH81: 582872.96 | BI81: 529884.51 | BJ81: =ROUND(AVERAGE(BH81:BI81),1) -> 556378.7 | BK81: 582872.96 | BL81: 529884.51 | BM81: =ROUND(AVERAGE(BK81:BL81),1) -> 556378.7 | BN81: 425872.02 | BO81: 387156.39 | BP81: =ROUND(AVERAGE(BN81:BO81),1) -> 406514.2 | BQ81: 478439.89 | BR81: 434945.36 | BS81: =ROUND(AVERAGE(BQ81:BR81),1) -> 456692.6 | BT81: 496841.81 | BU81: 451674.38 | BV81: =ROUND(AVERAGE(BT81:BU81),1) -> 474258.1 | BW81: 451860.78 | BX81: 410782.53 | BY81: =ROUND(AVERAGE(BW81:BX81),1) -> 431321.7 | BZ81: 478439.89 | CA81: 434945.36 | CB81: =ROUND(AVERAGE(BZ81:CA81),1) -> 456692.6 | CC81: 502361.89 | CD81: 456692.62 | CE81: =ROUND(AVERAGE(CC81:CD81),1) -> 479527.3 | CF81: 535852.68 | CG81: 487138.8 | CH81: =ROUND(AVERAGE(CF81:CG81),1) -> 511495.7
A82: 3.16 | B82: COPELAS AMORTIGUADOR TRASERO | C82: 295710.54 | D82: 268827.76 | E82: =ROUND(AVERAGE(C82:D82),1) -> 282269.1 | F82: 301745.44 | G82: 274314.04 | H82: =ROUND(AVERAGE(F82:G82),1) -> 288029.7 | I82: 711085.98 | J82: 646441.8 | K82: =ROUND(AVERAGE(I82:J82),1) -> 678763.9 | L82: 522064.54 | M82: 474604.13 | N82: =ROUND(AVERAGE(L82:M82),1) -> 498334.3 | O82: 522064.54 | P82: 474604.13 | Q82: =ROUND(AVERAGE(O82:P82),1) -> 498334.3 | R82: 405540.64 | S82: 368673.3 | T82: =ROUND(AVERAGE(R82:S82),1) -> 387107 | U82: 902186.62 | V82: 820169.66 | W82: =ROUND(AVERAGE(U82:V82),1) -> 861178.1 | X82: 868772.3 | Y82: 789793 | Z82: =ROUND(AVERAGE(X82:Y82),1) -> 829282.7 | AA82: 654780.13 | AB82: 595254.66 | AC82: =ROUND(AVERAGE(AA82:AB82),1) -> 625017.4 | AD82: 648761.34 | AE82: 589783.04 | AF82: =ROUND(AVERAGE(AD82:AE82),1) -> 619272.2 | AG82: 467593.13 | AH82: 425084.66 | AI82: =ROUND(AVERAGE(AG82:AH82),1) -> 446338.9 | AJ82: 467593.13 | AK82: 425084.66 | AL82: =ROUND(AVERAGE(AJ82:AK82),1) -> 446338.9 | AM82: 746314.57 | AN82: 678467.79 | AO82: =ROUND(AVERAGE(AM82:AN82),1) -> 712391.2 | AP82: 746314.57 | AQ82: 678467.79 | AR82: =ROUND(AVERAGE(AP82:AQ82),1) -> 712391.2 | AS82: 746314.57 | AT82: 678467.79 | AU82: =ROUND(AVERAGE(AS82:AT82),1) -> 712391.2 | AV82: 711085.98 | AW82: 646441.8 | AX82: =ROUND(AVERAGE(AV82:AW82),1) -> 678763.9 | AY82: 746314.57 | AZ82: 678467.79 | BA82: =ROUND(AVERAGE(AY82:AZ82),1) -> 712391.2 | BB82: 654592.94 | BC82: 595084.49 | BD82: =ROUND(AVERAGE(BB82:BC82),1) -> 624838.7 | BE82: 654780.13 | BF82: 595254.66 | BG82: =ROUND(AVERAGE(BE82:BF82),1) -> 625017.4 | BH82: 654911.16 | BI82: 595373.78 | BJ82: =ROUND(AVERAGE(BH82:BI82),1) -> 625142.5 | BK82: 654911.16 | BL82: 595373.78 | BM82: =ROUND(AVERAGE(BK82:BL82),1) -> 625142.5 | BN82: 559127.57 | BO82: 508297.79 | BP82: =ROUND(AVERAGE(BN82:BO82),1) -> 533712.7 | BQ82: 868772.3 | BR82: 789793 | BS82: =ROUND(AVERAGE(BQ82:BR82),1) -> 829282.7 | BT82: 801085.49 | BU82: 728259.53 | BV82: =ROUND(AVERAGE(BT82:BU82),1) -> 764672.5 | BW82: 711085.98 | BX82: 646441.8 | BY82: =ROUND(AVERAGE(BW82:BX82),1) -> 678763.9 | BZ82: 771416.35 | CA82: 701287.59 | CB82: =ROUND(AVERAGE(BZ82:CA82),1) -> 736352 | CC82: 809987.16 | CD82: 736351.97 | CE82: =ROUND(AVERAGE(CC82:CD82),1) -> 773169.6 | CF82: 863986.31 | CG82: 785442.1 | CH82: =ROUND(AVERAGE(CF82:CG82),1) -> 824714.2
A83: 3.17 | B83: GUARDAPOLVO CAJA DIRECCION | C83: 19111.4 | D83: 17374 | E83: =ROUND(AVERAGE(C83:D83),1) -> 18242.7 | F83: 20289.5 | G83: 18445 | H83: =ROUND(AVERAGE(F83:G83),1) -> 19367.3 | I83: 85085 | J83: 77350 | K83: =ROUND(AVERAGE(I83:J83),1) -> 81217.5 | L83: 30761.5 | M83: 27965 | N83: =ROUND(AVERAGE(L83:M83),1) -> 29363.3 | O83: 20420.4 | P83: 18564 | Q83: =ROUND(AVERAGE(O83:P83),1) -> 19492.2 | R83: 19111.4 | S83: 17374 | T83: =ROUND(AVERAGE(R83:S83),1) -> 18242.7 | U83: 14399 | V83: 13090 | W83: =ROUND(AVERAGE(U83:V83),1) -> 13744.5 | X83: 21729.4 | Y83: 19754 | Z83: =ROUND(AVERAGE(X83:Y83),1) -> 20741.7 | AA83: 85085 | AB83: 77350 | AC83: =ROUND(AVERAGE(AA83:AB83),1) -> 81217.5 | AD83: 30761.5 | AE83: 27965 | AF83: =ROUND(AVERAGE(AD83:AE83),1) -> 29363.3 | AG83: 20289.5 | AH83: 18445 | AI83: =ROUND(AVERAGE(AG83:AH83),1) -> 19367.3 | AJ83: 20289.5 | AK83: 18445 | AL83: =ROUND(AVERAGE(AJ83:AK83),1) -> 19367.3 | AM83: 22253 | AN83: 20230 | AO83: =ROUND(AVERAGE(AM83:AN83),1) -> 21241.5 | AP83: 89012 | AQ83: 80920 | AR83: =ROUND(AVERAGE(AP83:AQ83),1) -> 84966 | AS83: 22253 | AT83: 20230 | AU83: =ROUND(AVERAGE(AS83:AT83),1) -> 21241.5 | AV83: 85085 | AW83: 77350 | AX83: =ROUND(AVERAGE(AV83:AW83),1) -> 81217.5 | AY83: 24871 | AZ83: 22610 | BA83: =ROUND(AVERAGE(AY83:AZ83),1) -> 23740.5 | BB83: 23562 | BC83: 21420 | BD83: =ROUND(AVERAGE(BB83:BC83),1) -> 22491 | BE83: 30107 | BF83: 27370 | BG83: =ROUND(AVERAGE(BE83:BF83),1) -> 28738.5 | BH83: 22253 | BI83: 20230 | BJ83: =ROUND(AVERAGE(BH83:BI83),1) -> 21241.5 | BK83: 85085 | BL83: 77350 | BM83: =ROUND(AVERAGE(BK83:BL83),1) -> 81217.5 | BN83: 20289.5 | BO83: 18445 | BP83: =ROUND(AVERAGE(BN83:BO83),1) -> 19367.3 | BQ83: 85085 | BR83: 77350 | BS83: =ROUND(AVERAGE(BQ83:BR83),1) -> 81217.5 | BT83: 102102 | BU83: 92820 | BV83: =ROUND(AVERAGE(BT83:BU83),1) -> 97461 | BW83: 87703 | BX83: 79730 | BY83: =ROUND(AVERAGE(BW83:BX83),1) -> 83716.5 | BZ83: 23300.2 | CA83: 21182 | CB83: =ROUND(AVERAGE(BZ83:CA83),1) -> 22241.1 | CC83: 78540 | CD83: 71400 | CE83: =ROUND(AVERAGE(CC83:CD83),1) -> 74970 | CF83: 89012 | CG83: 80920 | CH83: =ROUND(AVERAGE(CF83:CG83),1) -> 84966
A84: 3.18 | B84: HOJA MULLE TRAASERA PRINCIPAL | C84: 78540 | D84: 71400 | E84: =ROUND(AVERAGE(C84:D84),1) -> 74970 | F84: 589050 | G84: 535500 | H84: =ROUND(AVERAGE(F84:G84),1) -> 562275 | I84: 680680 | J84: 618800 | K84: =ROUND(AVERAGE(I84:J84),1) -> 649740 | L84: 98175 | M84: 89250 | N84: =ROUND(AVERAGE(L84:M84),1) -> 93712.5 | O84: 82467 | P84: 74970 | Q84: =ROUND(AVERAGE(O84:P84),1) -> 78718.5 | R84: 582505 | S84: 529550 | T84: =ROUND(AVERAGE(R84:S84),1) -> 556027.5 | U84: 543235 | V84: 493850 | W84: =ROUND(AVERAGE(U84:V84),1) -> 518542.5 | X84: 592977 | Y84: 539070 | Z84: =ROUND(AVERAGE(X84:Y84),1) -> 566023.5 | AA84: 680680 | AB84: 618800 | AC84: =ROUND(AVERAGE(AA84:AB84),1) -> 649740 | AD84: 98175 | AE84: 89250 | AF84: =ROUND(AVERAGE(AD84:AE84),1) -> 93712.5 | AG84: 590359 | AH84: 536690 | AI84: =ROUND(AVERAGE(AG84:AH84),1) -> 563524.5 | AJ84: 586432 | AK84: 533120 | AL84: =ROUND(AVERAGE(AJ84:AK84),1) -> 559776 | AM84: 595595 | AN84: 541450 | AO84: =ROUND(AVERAGE(AM84:AN84),1) -> 568522.5 | AP84: 691152 | AQ84: 628320 | AR84: =ROUND(AVERAGE(AP84:AQ84),1) -> 659736 | AS84: 595595 | AT84: 541450 | AU84: =ROUND(AVERAGE(AS84:AT84),1) -> 568522.5 | AV84: 674135 | AW84: 612850 | AX84: =ROUND(AVERAGE(AV84:AW84),1) -> 643492.5 | AY84: 589050 | AZ84: 535500 | BA84: =ROUND(AVERAGE(AY84:AZ84),1) -> 562275 | BB84: 602140 | BC84: 547400 | BD84: =ROUND(AVERAGE(BB84:BC84),1) -> 574770 | BE84: 78540 | BF84: 71400 | BG84: =ROUND(AVERAGE(BE84:BF84),1) -> 74970 | BH84: 595595 | BI84: 541450 | BJ84: =ROUND(AVERAGE(BH84:BI84),1) -> 568522.5 | BK84: 651882 | BL84: 592620 | BM84: =ROUND(AVERAGE(BK84:BL84),1) -> 622251 | BN84: 569415 | BO84: 517650 | BP84: =ROUND(AVERAGE(BN84:BO84),1) -> 543532.5 | BQ84: 680680 | BR84: 618800 | BS84: =ROUND(AVERAGE(BQ84:BR84),1) -> 649740 | BT84: 719950 | BU84: 654500 | BV84: =ROUND(AVERAGE(BT84:BU84),1) -> 687225 | BW84: 704242 | BX84: 640220 | BY84: =ROUND(AVERAGE(BW84:BX84),1) -> 672231 | BZ84: 606067 | CA84: 550970 | CB84: =ROUND(AVERAGE(BZ84:CA84),1) -> 578518.5 | CC84: 671517 | CD84: 610470 | CE84: =ROUND(AVERAGE(CC84:CD84),1) -> 640993.5 | CF84: 661045 | CG84: 600950 | CH84: =ROUND(AVERAGE(CF84:CG84),1) -> 630997.5
A85: 3.19 | B85: HOJA MULLES TRAASERA 2 - 3 - 4 | C85: 366520 | D85: 333200 | E85: =ROUND(AVERAGE(C85:D85),1) -> 349860 | F85: 589050 | G85: 535500 | H85: =ROUND(AVERAGE(F85:G85),1) -> 562275 | I85: 680680 | J85: 618800 | K85: =ROUND(AVERAGE(I85:J85),1) -> 649740 | L85: 418880 | M85: 380800 | N85: =ROUND(AVERAGE(L85:M85),1) -> 399840 | O85: 370447 | P85: 336770 | Q85: =ROUND(AVERAGE(O85:P85),1) -> 353608.5 | R85: 582505 | S85: 529550 | T85: =ROUND(AVERAGE(R85:S85),1) -> 556027.5 | U85: 543235 | V85: 493850 | W85: =ROUND(AVERAGE(U85:V85),1) -> 518542.5 | X85: 592977 | Y85: 539070 | Z85: =ROUND(AVERAGE(X85:Y85),1) -> 566023.5 | AA85: 680680 | AB85: 618800 | AC85: =ROUND(AVERAGE(AA85:AB85),1) -> 649740 | AD85: 420189 | AE85: 381990 | AF85: =ROUND(AVERAGE(AD85:AE85),1) -> 401089.5 | AG85: 590359 | AH85: 536690 | AI85: =ROUND(AVERAGE(AG85:AH85),1) -> 563524.5 | AJ85: 586432 | AK85: 533120 | AL85: =ROUND(AVERAGE(AJ85:AK85),1) -> 559776 | AM85: 595595 | AN85: 541450 | AO85: =ROUND(AVERAGE(AM85:AN85),1) -> 568522.5 | AP85: 691152 | AQ85: 628320 | AR85: =ROUND(AVERAGE(AP85:AQ85),1) -> 659736 | AS85: 590359 | AT85: 536690 | AU85: =ROUND(AVERAGE(AS85:AT85),1) -> 563524.5 | AV85: 674135 | AW85: 612850 | AX85: =ROUND(AVERAGE(AV85:AW85),1) -> 643492.5 | AY85: 589050 | AZ85: 535500 | BA85: =ROUND(AVERAGE(AY85:AZ85),1) -> 562275 | BB85: 602140 | BC85: 547400 | BD85: =ROUND(AVERAGE(BB85:BC85),1) -> 574770 | BE85: 359975 | BF85: 327250 | BG85: =ROUND(AVERAGE(BE85:BF85),1) -> 343612.5 | BH85: 595595 | BI85: 541450 | BJ85: =ROUND(AVERAGE(BH85:BI85),1) -> 568522.5 | BK85: 661045 | BL85: 600950 | BM85: =ROUND(AVERAGE(BK85:BL85),1) -> 630997.5 | BN85: 582505 | BO85: 529550 | BP85: =ROUND(AVERAGE(BN85:BO85),1) -> 556027.5 | BQ85: 680680 | BR85: 618800 | BS85: =ROUND(AVERAGE(BQ85:BR85),1) -> 649740 | BT85: 736967 | BU85: 669970 | BV85: =ROUND(AVERAGE(BT85:BU85),1) -> 703468.5 | BW85: 717332 | BX85: 652120 | BY85: =ROUND(AVERAGE(BW85:BX85),1) -> 684726 | BZ85: 586432 | CA85: 533120 | CB85: =ROUND(AVERAGE(BZ85:CA85),1) -> 559776 | CC85: 691152 | CD85: 628320 | CE85: =ROUND(AVERAGE(CC85:CD85),1) -> 659736 | CF85: 730422 | CG85: 664020 | CH85: =ROUND(AVERAGE(CF85:CG85),1) -> 697221
A86: 3.20 | B86: LAGRIMAS DELANTERA | C86: 203486.55 | D86: 184987.78 | E86: =ROUND(AVERAGE(C86:D86),1) -> 194237.2 | F86: 207639.34 | G86: 188763.04 | H86: =ROUND(AVERAGE(F86:G86),1) -> 198201.2 | I86: 326220.86 | J86: 296564.42 | K86: =ROUND(AVERAGE(I86:J86),1) -> 311392.6 | L86: 395998.42 | M86: 359998.56 | N86: =ROUND(AVERAGE(L86:M86),1) -> 377998.5 | O86: 377141.49 | P86: 342855.9 | Q86: =ROUND(AVERAGE(O86:P86),1) -> 359998.7 | R86: NO COTIZADO | S86: NO COTIZADO | T86: NO COTIZADO | U86: 358694.93 | V86: 326086.3 | W86: =ROUND(AVERAGE(U86:V86),1) -> 342390.6 | X86: 345410.41 | Y86: 314009.47 | Z86: =ROUND(AVERAGE(X86:Y86),1) -> 329709.9 | AA86: 521690.17 | AB86: 474263.79 | AC86: =ROUND(AVERAGE(AA86:AB86),1) -> 497977 | AD86: 455397.17 | AE86: 413997.43 | AF86: =ROUND(AVERAGE(AD86:AE86),1) -> 434697.3 | AG86: 377141.49 | AH86: 342855.9 | AI86: =ROUND(AVERAGE(AG86:AH86),1) -> 359998.7 | AJ86: 377141.49 | AK86: 342855.9 | AL86: =ROUND(AVERAGE(AJ86:AK86),1) -> 359998.7 | AM86: 408663.78 | AN86: 371512.53 | AO86: =ROUND(AVERAGE(AM86:AN86),1) -> 390088.2 | AP86: 408663.78 | AQ86: 371512.53 | AR86: =ROUND(AVERAGE(AP86:AQ86),1) -> 390088.2 | AS86: 408663.78 | AT86: 371512.53 | AU86: =ROUND(AVERAGE(AS86:AT86),1) -> 390088.2 | AV86: 447939.93 | AW86: 407218.12 | AX86: =ROUND(AVERAGE(AV86:AW86),1) -> 427579 | AY86: 408663.78 | AZ86: 371512.53 | BA86: =ROUND(AVERAGE(AY86:AZ86),1) -> 390088.2 | BB86: 524256.07 | BC86: 476596.43 | BD86: =ROUND(AVERAGE(BB86:BC86),1) -> 500426.2 | BE86: 519310.01 | BF86: 472100.01 | BG86: =ROUND(AVERAGE(BE86:BF86),1) -> 495705 | BH86: 519310.01 | BI86: 472100.01 | BJ86: =ROUND(AVERAGE(BH86:BI86),1) -> 495705 | BK86: 519310.01 | BL86: 472100.01 | BM86: =ROUND(AVERAGE(BK86:BL86),1) -> 495705 | BN86: 298746.13 | BO86: 271587.39 | BP86: =ROUND(AVERAGE(BN86:BO86),1) -> 285166.8 | BQ86: 345410.41 | BR86: 314009.47 | BS86: =ROUND(AVERAGE(BQ86:BR86),1) -> 329709.9 | BT86: 358694.93 | BU86: 326086.3 | BV86: =ROUND(AVERAGE(BT86:BU86),1) -> 342390.6 | BW86: 326220.86 | BX86: 296564.42 | BY86: =ROUND(AVERAGE(BW86:BX86),1) -> 311392.6 | BZ86: 345410.41 | CA86: 314009.47 | CB86: =ROUND(AVERAGE(BZ86:CA86),1) -> 329709.9 | CC86: 362680.93 | CD86: 329709.94 | CE86: =ROUND(AVERAGE(CC86:CD86),1) -> 346195.4 | CF86: 386859.66 | CG86: 351690.6 | CH86: =ROUND(AVERAGE(CF86:CG86),1) -> 369275.1
A87: 3.21 | B87: LAGRIMAS TRASERAS | C87: 124355 | D87: 113050 | E87: =ROUND(AVERAGE(C87:D87),1) -> 118702.5 | F87: 109694.2 | G87: 99722 | H87: =ROUND(AVERAGE(F87:G87),1) -> 104708.1 | I87: 157080 | J87: 142800 | K87: =ROUND(AVERAGE(I87:J87),1) -> 149940 | L87: 170170 | M87: 154700 | N87: =ROUND(AVERAGE(L87:M87),1) -> 162435 | O87: 126318.5 | P87: 114835 | Q87: =ROUND(AVERAGE(O87:P87),1) -> 120576.8 | R87: 107338 | S87: 97580 | T87: =ROUND(AVERAGE(R87:S87),1) -> 102459 | U87: 82467 | V87: 74970 | W87: =ROUND(AVERAGE(U87:V87),1) -> 78718.5 | X87: 111265 | Y87: 101150 | Z87: =ROUND(AVERAGE(X87:Y87),1) -> 106207.5 | AA87: 157080 | AB87: 142800 | AC87: =ROUND(AVERAGE(AA87:AB87),1) -> 149940 | AD87: 170170 | AE87: 154700 | AF87: =ROUND(AVERAGE(AD87:AE87),1) -> 162435 | AG87: 111265 | AH87: 101150 | AI87: =ROUND(AVERAGE(AG87:AH87),1) -> 106207.5 | AJ87: 109694.2 | AK87: 99722 | AL87: =ROUND(AVERAGE(AJ87:AK87),1) -> 104708.1 | AM87: 113883 | AN87: 103530 | AO87: =ROUND(AVERAGE(AM87:AN87),1) -> 108706.5 | AP87: 157080 | AQ87: 142800 | AR87: =ROUND(AVERAGE(AP87:AQ87),1) -> 149940 | AS87: 114537.5 | AT87: 104125 | AU87: =ROUND(AVERAGE(AS87:AT87),1) -> 109331.3 | AV87: 147917 | AW87: 134470 | AX87: =ROUND(AVERAGE(AV87:AW87),1) -> 141193.5 | AY87: 116501 | AZ87: 105910 | BA87: =ROUND(AVERAGE(AY87:AZ87),1) -> 111205.5 | BB87: 128282 | BC87: 116620 | BD87: =ROUND(AVERAGE(BB87:BC87),1) -> 122451 | BE87: 134827 | BF87: 122570 | BG87: =ROUND(AVERAGE(BE87:BF87),1) -> 128698.5 | BH87: 113883 | BI87: 103530 | BJ87: =ROUND(AVERAGE(BH87:BI87),1) -> 108706.5 | BK87: 157080 | BL87: 142800 | BM87: =ROUND(AVERAGE(BK87:BL87),1) -> 149940 | BN87: 102102 | BO87: 92820 | BP87: =ROUND(AVERAGE(BN87:BO87),1) -> 97461 | BQ87: 157080 | BR87: 142800 | BS87: =ROUND(AVERAGE(BQ87:BR87),1) -> 149940 | BT87: 167552 | BU87: 152320 | BV87: =ROUND(AVERAGE(BT87:BU87),1) -> 159936 | BW87: 161007 | BX87: 146370 | BY87: =ROUND(AVERAGE(BW87:BX87),1) -> 153688.5 | BZ87: 119119 | CA87: 108290 | CB87: =ROUND(AVERAGE(BZ87:CA87),1) -> 113704.5 | CC87: 153153 | CD87: 139230 | CE87: =ROUND(AVERAGE(CC87:CD87),1) -> 146191.5 | CF87: 174097 | CG87: 158270 | CH87: =ROUND(AVERAGE(CF87:CG87),1) -> 166183.5
A88: 3.22 | B88: RETEN DE RODAMIENTO DELANTERO | C88: 76826.037 | D88: 69841.852 | E88: =ROUND(AVERAGE(C88:D88),1) -> 73333.9 | F88: 78393.916 | G88: 71267.196 | H88: =ROUND(AVERAGE(F88:G88),1) -> 74830.6 | I88: 92081.605 | J88: 83710.55 | K88: =ROUND(AVERAGE(I88:J88),1) -> 87896.1 | L88: 157954.15 | M88: 143594.68 | N88: =ROUND(AVERAGE(L88:M88),1) -> 150774.4 | O88: 150432.11 | P88: 136756.47 | Q88: =ROUND(AVERAGE(O88:P88),1) -> 143594.3 | R88: 105423.72 | S88: 95839.744 | T88: =ROUND(AVERAGE(R88:S88),1) -> 100631.7 | U88: 101248.01 | V88: 92043.644 | W88: =ROUND(AVERAGE(U88:V88),1) -> 96645.8 | X88: 97498.509 | Y88: 88635.008 | Z88: =ROUND(AVERAGE(X88:Y88),1) -> 93066.8 | AA88: 125454.17 | AB88: 114049.24 | AC88: =ROUND(AVERAGE(AA88:AB88),1) -> 119751.7 | AD88: 181647.7 | AE88: 165134.28 | AF88: =ROUND(AVERAGE(AD88:AE88),1) -> 173391 | AG88: 150432.11 | AH88: 136756.47 | AI88: =ROUND(AVERAGE(AG88:AH88),1) -> 143594.3 | AJ88: 150432.11 | AK88: 136756.47 | AL88: =ROUND(AVERAGE(AJ88:AK88),1) -> 143594.3 | AM88: 115353.27 | AN88: 104866.61 | AO88: =ROUND(AVERAGE(AM88:AN88),1) -> 110109.9 | AP88: 115353.27 | AQ88: 104866.61 | AR88: =ROUND(AVERAGE(AP88:AQ88),1) -> 110109.9 | AS88: 115353.27 | AT88: 104866.61 | AU88: =ROUND(AVERAGE(AS88:AT88),1) -> 110109.9 | AV88: 206497.5 | AW88: 187725 | AX88: =ROUND(AVERAGE(AV88:AW88),1) -> 197111.2 | AY88: 115353.27 | AZ88: 104866.61 | BA88: =ROUND(AVERAGE(AY88:AZ88),1) -> 110109.9 | BB88: 139030.98 | BC88: 126391.8 | BD88: =ROUND(AVERAGE(BB88:BC88),1) -> 132711.4 | BE88: 137720.68 | BF88: 125200.61 | BG88: =ROUND(AVERAGE(BE88:BF88),1) -> 131460.6 | BH88: 137720.68 | BI88: 125200.61 | BJ88: =ROUND(AVERAGE(BH88:BI88),1) -> 131460.6 | BK88: 137720.68 | BL88: 125200.61 | BM88: =ROUND(AVERAGE(BK88:BL88),1) -> 131460.6 | BN88: 137720.68 | BO88: 125200.61 | BP88: =ROUND(AVERAGE(BN88:BO88),1) -> 131460.6 | BQ88: 97498.509 | BR88: 88635.008 | BS88: =ROUND(AVERAGE(BQ88:BR88),1) -> 93066.8 | BT88: 101248.01 | BU88: 92043.644 | BV88: =ROUND(AVERAGE(BT88:BU88),1) -> 96645.8 | BW88: 92081.605 | BX88: 83710.55 | BY88: =ROUND(AVERAGE(BW88:BX88),1) -> 87896.1 | BZ88: 97498.509 | CA88: 88635.008 | CB88: =ROUND(AVERAGE(BZ88:CA88),1) -> 93066.8 | CC88: 102373.43 | CD88: 93066.758 | CE88: =ROUND(AVERAGE(CC88:CD88),1) -> 97720.1 | CF88: 109198.33 | CG88: 99271.209 | CH88: =ROUND(AVERAGE(CF88:CG88),1) -> 104234.8
A89: 3.23 | B89: RODAMIENTO COPELAS DELANTERO | C89: 180646.46 | D89: 164224.05 | E89: =ROUND(AVERAGE(C89:D89),1) -> 172435.3 | F89: 184333.12 | G89: 167575.56 | H89: =ROUND(AVERAGE(F89:G89),1) -> 175954.3 | I89: 215985 | J89: 196350 | K89: =ROUND(AVERAGE(I89:J89),1) -> 206167.5 | L89: 215985 | M89: 196350 | N89: =ROUND(AVERAGE(L89:M89),1) -> 206167.5 | O89: 215985 | P89: 196350 | Q89: =ROUND(AVERAGE(O89:P89),1) -> 206167.5 | R89: 215985 | S89: 196350 | T89: =ROUND(AVERAGE(R89:S89),1) -> 206167.5 | U89: 215985 | V89: 196350 | W89: =ROUND(AVERAGE(U89:V89),1) -> 206167.5 | X89: 215985 | Y89: 196350 | Z89: =ROUND(AVERAGE(X89:Y89),1) -> 206167.5 | AA89: 215985 | AB89: 196350 | AC89: =ROUND(AVERAGE(AA89:AB89),1) -> 206167.5 | AD89: 215985 | AE89: 196350 | AF89: =ROUND(AVERAGE(AD89:AE89),1) -> 206167.5 | AG89: 215985 | AH89: 196350 | AI89: =ROUND(AVERAGE(AG89:AH89),1) -> 206167.5 | AJ89: 215985 | AK89: 196350 | AL89: =ROUND(AVERAGE(AJ89:AK89),1) -> 206167.5 | AM89: 215985 | AN89: 196350 | AO89: =ROUND(AVERAGE(AM89:AN89),1) -> 206167.5 | AP89: 215985 | AQ89: 196350 | AR89: =ROUND(AVERAGE(AP89:AQ89),1) -> 206167.5 | AS89: 215985 | AT89: 196350 | AU89: =ROUND(AVERAGE(AS89:AT89),1) -> 206167.5 | AV89: 215985 | AW89: 196350 | AX89: =ROUND(AVERAGE(AV89:AW89),1) -> 206167.5 | AY89: 215985 | AZ89: 196350 | BA89: =ROUND(AVERAGE(AY89:AZ89),1) -> 206167.5 | BB89: 215985 | BC89: 196350 | BD89: =ROUND(AVERAGE(BB89:BC89),1) -> 206167.5 | BE89: 215985 | BF89: 196350 | BG89: =ROUND(AVERAGE(BE89:BF89),1) -> 206167.5 | BH89: 215985 | BI89: 196350 | BJ89: =ROUND(AVERAGE(BH89:BI89),1) -> 206167.5 | BK89: 215985 | BL89: 196350 | BM89: =ROUND(AVERAGE(BK89:BL89),1) -> 206167.5 | BN89: 215985 | BO89: 196350 | BP89: =ROUND(AVERAGE(BN89:BO89),1) -> 206167.5 | BQ89: 215985 | BR89: 196350 | BS89: =ROUND(AVERAGE(BQ89:BR89),1) -> 206167.5 | BT89: 215985 | BU89: 196350 | BV89: =ROUND(AVERAGE(BT89:BU89),1) -> 206167.5 | BW89: 215985 | BX89: 196350 | BY89: =ROUND(AVERAGE(BW89:BX89),1) -> 206167.5 | BZ89: - | CA89: - | CC89: - | CD89: - | CF89: - | CG89: -
A90: 3.24 | B90: RODAMIENTO COPELAS TRASERO | C90: 115192 | D90: 104720 | E90: =ROUND(AVERAGE(C90:D90),1) -> 109956 | F90: 65450 | G90: 59500 | H90: =ROUND(AVERAGE(F90:G90),1) -> 62475 | I90: 379610 | J90: 345100 | K90: =ROUND(AVERAGE(I90:J90),1) -> 362355 | L90: 146608 | M90: 133280 | N90: =ROUND(AVERAGE(L90:M90),1) -> 139944 | O90: 118464.5 | P90: 107695 | Q90: =ROUND(AVERAGE(O90:P90),1) -> 113079.8 | R90: 62832 | S90: 57120 | T90: =ROUND(AVERAGE(R90:S90),1) -> 59976 | U90: 45815 | V90: 41650 | W90: =ROUND(AVERAGE(U90:V90),1) -> 43732.5 | X90: 65450 | Y90: 59500 | Z90: =ROUND(AVERAGE(X90:Y90),1) -> 62475 | AA90: 386155 | AB90: 351050 | AC90: =ROUND(AVERAGE(AA90:AB90),1) -> 368602.5 | AD90: 147917 | AE90: 134470 | AF90: =ROUND(AVERAGE(AD90:AE90),1) -> 141193.5 | AG90: 65450 | AH90: 59500 | AI90: =ROUND(AVERAGE(AG90:AH90),1) -> 62475 | AJ90: 62832 | AK90: 57120 | AL90: =ROUND(AVERAGE(AJ90:AK90),1) -> 59976 | AM90: 69377 | AN90: 63070 | AO90: =ROUND(AVERAGE(AM90:AN90),1) -> 66223.5 | AP90: 386155 | AQ90: 351050 | AR90: =ROUND(AVERAGE(AP90:AQ90),1) -> 368602.5 | AS90: 66759 | AT90: 60690 | AU90: =ROUND(AVERAGE(AS90:AT90),1) -> 63724.5 | AV90: 366520 | AW90: 333200 | AX90: =ROUND(AVERAGE(AV90:AW90),1) -> 349860 | AY90: 71995 | AZ90: 65450 | BA90: =ROUND(AVERAGE(AY90:AZ90),1) -> 68722.5 | BB90: 75922 | BC90: 69020 | BD90: =ROUND(AVERAGE(BB90:BC90),1) -> 72471 | BE90: 128282 | BF90: 116620 | BG90: =ROUND(AVERAGE(BE90:BF90),1) -> 122451 | BH90: 69377 | BI90: 63070 | BJ90: =ROUND(AVERAGE(BH90:BI90),1) -> 66223.5 | BK90: 108647 | BL90: 98770 | BM90: =ROUND(AVERAGE(BK90:BL90),1) -> 103708.5 | BN90: 65450 | BO90: 59500 | BP90: =ROUND(AVERAGE(BN90:BO90),1) -> 62475 | BQ90: 379610 | BR90: 345100 | BS90: =ROUND(AVERAGE(BQ90:BR90),1) -> 362355 | BT90: 396627 | BU90: 360570 | BV90: =ROUND(AVERAGE(BT90:BU90),1) -> 378598.5 | BW90: 390082 | BX90: 354620 | BY90: =ROUND(AVERAGE(BW90:BX90),1) -> 372351 | BZ90: 81158 | CA90: 73780 | CB90: =ROUND(AVERAGE(BZ90:CA90),1) -> 77469 | CC90: 386155 | CD90: 351050 | CE90: =ROUND(AVERAGE(CC90:CD90),1) -> 368602.5 | CF90: 412335 | CG90: 374850 | CH90: =ROUND(AVERAGE(CF90:CG90),1) -> 393592.5
A91: 3.25 | B91: RODAMIENTOS DELANTEROS | C91: 180646.46 | D91: 164224.05 | E91: =ROUND(AVERAGE(C91:D91),1) -> 172435.3 | F91: 184333.12 | G91: 167575.56 | H91: =ROUND(AVERAGE(F91:G91),1) -> 175954.3 | I91: 689932.4 | J91: 627211.28 | K91: =ROUND(AVERAGE(I91:J91),1) -> 658571.8 | L91: 644720.98 | M91: 586109.99 | N91: =ROUND(AVERAGE(L91:M91),1) -> 615415.5 | O91: 614019.44 | P91: 558199.49 | Q91: =ROUND(AVERAGE(O91:P91),1) -> 586109.5 | R91: 354157.8 | S91: 321961.64 | T91: =ROUND(AVERAGE(R91:S91),1) -> 338059.7 | U91: 758612.75 | V91: 689647.96 | W91: =ROUND(AVERAGE(U91:V91),1) -> 724130.4 | X91: 730515.99 | Y91: 664105.44 | Z91: =ROUND(AVERAGE(X91:Y91),1) -> 697310.7 | AA91: 421447.21 | AB91: 383133.83 | AC91: =ROUND(AVERAGE(AA91:AB91),1) -> 402290.5 | AD91: 741428.99 | AE91: 674026.35 | AF91: =ROUND(AVERAGE(AD91:AE91),1) -> 707727.7 | AG91: 614019.44 | AH91: 558199.49 | AI91: =ROUND(AVERAGE(AG91:AH91),1) -> 586109.5 | AJ91: 614019.44 | AK91: 558199.49 | AL91: =ROUND(AVERAGE(AJ91:AK91),1) -> 586109.5 | AM91: 864294.22 | AN91: 785722.01 | AO91: =ROUND(AVERAGE(AM91:AN91),1) -> 825008.1 | AP91: 864294.22 | AQ91: 785722.01 | AR91: =ROUND(AVERAGE(AP91:AQ91),1) -> 825008.1 | AS91: 864294.22 | AT91: 785722.01 | AU91: =ROUND(AVERAGE(AS91:AT91),1) -> 825008.1 | AV91: 778336.51 | AW91: 707578.64 | AX91: =ROUND(AVERAGE(AV91:AW91),1) -> 742957.6 | AY91: 864294.22 | AZ91: 785722.01 | BA91: =ROUND(AVERAGE(AY91:AZ91),1) -> 825008.1 | BB91: 793978.14 | BC91: 721798.31 | BD91: =ROUND(AVERAGE(BB91:BC91),1) -> 757888.2 | BE91: 786487.78 | BF91: 714988.89 | BG91: =ROUND(AVERAGE(BE91:BF91),1) -> 750738.3 | BH91: 786487.78 | BI91: 714988.89 | BJ91: =ROUND(AVERAGE(BH91:BI91),1) -> 750738.3 | BK91: 786487.78 | BL91: 714988.89 | BM91: =ROUND(AVERAGE(BK91:BL91),1) -> 750738.3 | BN91: 574186.04 | BO91: 521987.31 | BP91: =ROUND(AVERAGE(BN91:BO91),1) -> 548086.7 | BQ91: 730515.99 | BR91: 664105.44 | BS91: =ROUND(AVERAGE(BQ91:BR91),1) -> 697310.7 | BT91: 758612.75 | BU91: 689647.96 | BV91: =ROUND(AVERAGE(BT91:BU91),1) -> 724130.4 | BW91: 689932.4 | BX91: 627211.28 | BY91: =ROUND(AVERAGE(BW91:BX91),1) -> 658571.8 | BZ91: 730515.99 | CA91: 664105.44 | CB91: =ROUND(AVERAGE(BZ91:CA91),1) -> 697310.7 | CC91: 767041.79 | CD91: 697310.71 | CE91: =ROUND(AVERAGE(CC91:CD91),1) -> 732176.2 | CF91: 818177.9 | CG91: 743798.1 | CH91: =ROUND(AVERAGE(CF91:CG91),1) -> 780988
A92: 3.26 | B92: RODAMIENTOS TRASEROS | C92: 275164.89 | D92: 250149.9 | E92: =ROUND(AVERAGE(C92:D92),1) -> 262657.4 | F92: 280780.5 | G92: 255255 | H92: =ROUND(AVERAGE(F92:G92),1) -> 268017.8 | I92: 689932.4 | J92: 627211.28 | K92: =ROUND(AVERAGE(I92:J92),1) -> 658571.8 | L92: 644720.98 | M92: 586109.99 | N92: =ROUND(AVERAGE(L92:M92),1) -> 615415.5 | O92: 614019.44 | P92: 558199.49 | Q92: =ROUND(AVERAGE(O92:P92),1) -> 586109.5 | R92: 385043.66 | S92: 350039.69 | T92: =ROUND(AVERAGE(R92:S92),1) -> 367541.7 | U92: 758612.75 | V92: 689647.96 | W92: =ROUND(AVERAGE(U92:V92),1) -> 724130.4 | X92: 730515.99 | Y92: 664105.44 | Z92: =ROUND(AVERAGE(X92:Y92),1) -> 697310.7 | AA92: 458202.1 | AB92: 416547.36 | AC92: =ROUND(AVERAGE(AA92:AB92),1) -> 437374.7 | AD92: 741428.99 | AE92: 674026.35 | AF92: =ROUND(AVERAGE(AD92:AE92),1) -> 707727.7 | AG92: 614019.44 | AH92: 558199.49 | AI92: =ROUND(AVERAGE(AG92:AH92),1) -> 586109.5 | AJ92: 614019.44 | AK92: 558199.49 | AL92: =ROUND(AVERAGE(AJ92:AK92),1) -> 586109.5 | AM92: 864294.22 | AN92: 785722.01 | AO92: =ROUND(AVERAGE(AM92:AN92),1) -> 825008.1 | AP92: 864294.22 | AQ92: 785722.01 | AR92: =ROUND(AVERAGE(AP92:AQ92),1) -> 825008.1 | AS92: 864294.22 | AT92: 785722.01 | AU92: =ROUND(AVERAGE(AS92:AT92),1) -> 825008.1 | AV92: 778336.51 | AW92: 707578.64 | AX92: =ROUND(AVERAGE(AV92:AW92),1) -> 742957.6 | AY92: 864294.22 | AZ92: 785722.01 | BA92: =ROUND(AVERAGE(AY92:AZ92),1) -> 825008.1 | BB92: 793978.14 | BC92: 721798.31 | BD92: =ROUND(AVERAGE(BB92:BC92),1) -> 757888.2 | BE92: 786487.78 | BF92: 714988.89 | BG92: =ROUND(AVERAGE(BE92:BF92),1) -> 750738.3 | BH92: 786487.78 | BI92: 714988.89 | BJ92: =ROUND(AVERAGE(BH92:BI92),1) -> 750738.3 | BK92: 786487.78 | BL92: 714988.89 | BM92: =ROUND(AVERAGE(BK92:BL92),1) -> 750738.3 | BN92: 574186.04 | BO92: 521987.31 | BP92: =ROUND(AVERAGE(BN92:BO92),1) -> 548086.7 | BQ92: 730515.99 | BR92: 664105.44 | BS92: =ROUND(AVERAGE(BQ92:BR92),1) -> 697310.7 | BT92: 758612.75 | BU92: 689647.96 | BV92: =ROUND(AVERAGE(BT92:BU92),1) -> 724130.4 | BW92: 689932.4 | BX92: 627211.28 | BY92: =ROUND(AVERAGE(BW92:BX92),1) -> 658571.8 | BZ92: 730515.99 | CA92: 664105.44 | CB92: =ROUND(AVERAGE(BZ92:CA92),1) -> 697310.7 | CC92: 767041.79 | CD92: 697310.71 | CE92: =ROUND(AVERAGE(CC92:CD92),1) -> 732176.2 | CF92: 818177.9 | CG92: 743798.1 | CH92: =ROUND(AVERAGE(CF92:CG92),1) -> 780988
A93: 3.27 | B93: ROTULAS INFERIORES | C93: 203486.55 | D93: 184987.78 | E93: =ROUND(AVERAGE(C93:D93),1) -> 194237.2 | F93: 207639.34 | G93: 188763.04 | H93: =ROUND(AVERAGE(F93:G93),1) -> 198201.2 | I93: 626991.5 | J93: 569992.27 | K93: =ROUND(AVERAGE(I93:J93),1) -> 598491.9 | L93: 545053.99 | M93: 495503.62 | N93: =ROUND(AVERAGE(L93:M93),1) -> 520278.8 | O93: 519098.35 | P93: 471907.59 | Q93: =ROUND(AVERAGE(O93:P93),1) -> 495503 | R93: NO COTIZADO | S93: NO COTIZADO | T93: NO COTIZADO | U93: 689406.84 | V93: 626733.49 | W93: =ROUND(AVERAGE(U93:V93),1) -> 658070.2 | X93: 663873.09 | Y93: 603520.99 | Z93: =ROUND(AVERAGE(X93:Y93),1) -> 633697 | AA93: 644110.47 | AB93: 585554.97 | AC93: =ROUND(AVERAGE(AA93:AB93),1) -> 614832.7 | AD93: 626811.51 | AE93: 569828.64 | AF93: =ROUND(AVERAGE(AD93:AE93),1) -> 598320.1 | AG93: 519098.35 | AH93: 471907.59 | AI93: =ROUND(AVERAGE(AG93:AH93),1) -> 495503 | AJ93: 519098.35 | AK93: 471907.59 | AL93: =ROUND(AVERAGE(AJ93:AK93),1) -> 495503 | AM93: 785446.73 | AN93: 714042.48 | AO93: =ROUND(AVERAGE(AM93:AN93),1) -> 749744.6 | AP93: 785446.73 | AQ93: 714042.48 | AR93: =ROUND(AVERAGE(AP93:AQ93),1) -> 749744.6 | AS93: 785446.73 | AT93: 714042.48 | AU93: =ROUND(AVERAGE(AS93:AT93),1) -> 749744.6 | AV93: 565484.73 | AW93: 514077.03 | AX93: =ROUND(AVERAGE(AV93:AW93),1) -> 539780.9 | AY93: 785446.73 | AZ93: 714042.48 | BA93: =ROUND(AVERAGE(AY93:AZ93),1) -> 749744.6 | BB93: 965092.97 | BC93: 877357.25 | BD93: =ROUND(AVERAGE(BB93:BC93),1) -> 921225.1 | BE93: 955988.49 | BF93: 869080.44 | BG93: =ROUND(AVERAGE(BE93:BF93),1) -> 912534.5 | BH93: 955988.49 | BI93: 869080.44 | BJ93: =ROUND(AVERAGE(BH93:BI93),1) -> 912534.5 | BK93: 955988.49 | BL93: 869080.44 | BM93: =ROUND(AVERAGE(BK93:BL93),1) -> 912534.5 | BN93: 377141.49 | BO93: 342855.9 | BP93: =ROUND(AVERAGE(BN93:BO93),1) -> 359998.7 | BQ93: 663873.09 | BR93: 603520.99 | BS93: =ROUND(AVERAGE(BQ93:BR93),1) -> 633697 | BT93: 689406.84 | BU93: 626733.49 | BV93: =ROUND(AVERAGE(BT93:BU93),1) -> 658070.2 | BW93: 626991.5 | BX93: 569992.27 | BY93: =ROUND(AVERAGE(BW93:BX93),1) -> 598491.9 | BZ93: 663873.09 | CA93: 603520.99 | CB93: =ROUND(AVERAGE(BZ93:CA93),1) -> 633697 | CC93: 697066.75 | CD93: 633697.04 | CE93: =ROUND(AVERAGE(CC93:CD93),1) -> 665381.9 | CF93: 743537.87 | CG93: 675943.51 | CH93: =ROUND(AVERAGE(CF93:CG93),1) -> 709740.7
A94: 3.28 | B94: ROTULAS SUPERIORES | C94: 203486.55 | D94: 184987.78 | E94: =ROUND(AVERAGE(C94:D94),1) -> 194237.2 | F94: 207639.34 | G94: 188763.04 | H94: =ROUND(AVERAGE(F94:G94),1) -> 198201.2 | I94: 650127.81 | J94: 591025.28 | K94: =ROUND(AVERAGE(I94:J94),1) -> 620576.5 | L94: 602896.21 | M94: 548087.46 | N94: =ROUND(AVERAGE(L94:M94),1) -> 575491.8 | O94: 574186.04 | P94: 521987.31 | Q94: =ROUND(AVERAGE(O94:P94),1) -> 548086.7 | R94: NO COTIZADO | S94: NO COTIZADO | T94: NO COTIZADO | U94: 714846.99 | V94: 649860.9 | W94: =ROUND(AVERAGE(U94:V94),1) -> 682353.9 | X94: 688370.11 | Y94: 625791.01 | Z94: =ROUND(AVERAGE(X94:Y94),1) -> 657080.6 | AA94: 649164.52 | AB94: 590149.56 | AC94: =ROUND(AVERAGE(AA94:AB94),1) -> 619657 | AD94: 693330.57 | AE94: 630300.52 | AF94: =ROUND(AVERAGE(AD94:AE94),1) -> 661815.5 | AG94: 574186.04 | AH94: 521987.31 | AI94: =ROUND(AVERAGE(AG94:AH94),1) -> 548086.7 | AJ94: 574186.04 | AK94: 521987.31 | AL94: =ROUND(AVERAGE(AJ94:AK94),1) -> 548086.7 | AM94: 814430.48 | AN94: 740391.34 | AO94: =ROUND(AVERAGE(AM94:AN94),1) -> 777410.9 | AP94: 814430.48 | AQ94: 740391.34 | AR94: =ROUND(AVERAGE(AP94:AQ94),1) -> 777410.9 | AS94: 814430.48 | AT94: 740391.34 | AU94: =ROUND(AVERAGE(AS94:AT94),1) -> 777410.9 | AV94: 526250.33 | AW94: 478409.39 | AX94: =ROUND(AVERAGE(AV94:AW94),1) -> 502329.9 | AY94: 814430.48 | AZ94: 740391.34 | BA94: =ROUND(AVERAGE(AY94:AZ94),1) -> 777410.9 | BB94: 97535.946 | BC94: 88669.042 | BD94: =ROUND(AVERAGE(BB94:BC94),1) -> 93102.5 | BE94: 96615.85 | BF94: 87832.591 | BG94: =ROUND(AVERAGE(BE94:BF94),1) -> 92224.2 | BH94: 96615.85 | BI94: 87832.591 | BJ94: =ROUND(AVERAGE(BH94:BI94),1) -> 92224.2 | BK94: 96615.85 | BL94: 87832.591 | BM94: =ROUND(AVERAGE(BK94:BL94),1) -> 92224.2 | BN94: 350974.19 | BO94: 319067.44 | BP94: =ROUND(AVERAGE(BN94:BO94),1) -> 335020.8 | BQ94: 688370.11 | BR94: 625791.01 | BS94: =ROUND(AVERAGE(BQ94:BR94),1) -> 657080.6 | BT94: 714846.99 | BU94: 649860.9 | BV94: =ROUND(AVERAGE(BT94:BU94),1) -> 682353.9 | BW94: 650127.81 | BX94: 591025.28 | BY94: =ROUND(AVERAGE(BW94:BX94),1) -> 620576.5 | BZ94: 688370.11 | CA94: 625791.01 | CB94: =ROUND(AVERAGE(BZ94:CA94),1) -> 657080.6 | CC94: 722788.62 | CD94: 657080.56 | CE94: =ROUND(AVERAGE(CC94:CD94),1) -> 689934.6 | CF94: 770974.53 | CG94: 700885.93 | CH94: =ROUND(AVERAGE(CF94:CG94),1) -> 735930.2
A95: 3.29 | B95: SPLINDER | C95: 39270 | D95: 35700 | E95: =ROUND(AVERAGE(C95:D95),1) -> 37485 | F95: 209309.1 | G95: 190281 | H95: =ROUND(AVERAGE(F95:G95),1) -> 199795.1 | I95: 287980 | J95: 261800 | K95: =ROUND(AVERAGE(I95:J95),1) -> 274890 | L95: 65450 | M95: 59500 | N95: =ROUND(AVERAGE(L95:M95),1) -> 62475 | O95: 65450 | P95: 59500 | Q95: =ROUND(AVERAGE(O95:P95),1) -> 62475 | R95: 202895 | S95: 184450 | T95: =ROUND(AVERAGE(R95:S95),1) -> 193672.5 | U95: 167552 | V95: 152320 | W95: =ROUND(AVERAGE(U95:V95),1) -> 159936 | X95: 209309.1 | Y95: 190281 | Z95: =ROUND(AVERAGE(X95:Y95),1) -> 199795.1 | AA95: 287980 | AB95: 261800 | AC95: =ROUND(AVERAGE(AA95:AB95),1) -> 274890 | AD95: 65450 | AE95: 59500 | AF95: =ROUND(AVERAGE(AD95:AE95),1) -> 62475 | AG95: 206822 | AH95: 188020 | AI95: =ROUND(AVERAGE(AG95:AH95),1) -> 197421 | AJ95: 202895 | AK95: 184450 | AL95: =ROUND(AVERAGE(AJ95:AK95),1) -> 193672.5 | AM95: 213367 | AN95: 193970 | AO95: =ROUND(AVERAGE(AM95:AN95),1) -> 203668.5 | AP95: 291907 | AQ95: 265370 | AR95: =ROUND(AVERAGE(AP95:AQ95),1) -> 278638.5 | AS95: 208131 | AT95: 189210 | AU95: =ROUND(AVERAGE(AS95:AT95),1) -> 198670.5 | AV95: 297143 | AW95: 270130 | AX95: =ROUND(AVERAGE(AV95:AW95),1) -> 283636.5 | AY95: 218603 | AZ95: 198730 | BA95: =ROUND(AVERAGE(AY95:AZ95),1) -> 208666.5 | BB95: 226457 | BC95: 205870 | BD95: =ROUND(AVERAGE(BB95:BC95),1) -> 216163.5 | BE95: 70686 | BF95: 64260 | BG95: =ROUND(AVERAGE(BE95:BF95),1) -> 67473 | BH95: 213367 | BI95: 193970 | BJ95: =ROUND(AVERAGE(BH95:BI95),1) -> 203668.5 | BK95: 274890 | BL95: 249900 | BM95: =ROUND(AVERAGE(BK95:BL95),1) -> 262395 | BN95: 209309.1 | BO95: 190281 | BP95: =ROUND(AVERAGE(BN95:BO95),1) -> 199795.1 | BQ95: 287980 | BR95: 261800 | BS95: =ROUND(AVERAGE(BQ95:BR95),1) -> 274890 | BT95: 320705 | BU95: 291550 | BV95: =ROUND(AVERAGE(BT95:BU95),1) -> 306127.5 | BW95: 312851 | BX95: 284410 | BY95: =ROUND(AVERAGE(BW95:BX95),1) -> 298630.5 | BZ95: 226457 | CA95: 205870 | CB95: =ROUND(AVERAGE(BZ95:CA95),1) -> 216163.5 | CC95: 278817 | CD95: 253470 | CE95: =ROUND(AVERAGE(CC95:CD95),1) -> 266143.5 | CF95: 335104 | CG95: 304640 | CH95: =ROUND(AVERAGE(CF95:CG95),1) -> 319872
A96: 3.30 | B96: TERMINAL DIRECCION | C96: 201410.82 | D96: 183100.75 | E96: =ROUND(AVERAGE(C96:D96),1) -> 192255.8 | F96: 205521.25 | G96: 186837.5 | H96: =ROUND(AVERAGE(F96:G96),1) -> 196179.4 | I96: 471917.15 | J96: 429015.59 | K96: =ROUND(AVERAGE(I96:J96),1) -> 450466.4 | L96: 440992.41 | M96: 400902.19 | N96: =ROUND(AVERAGE(L96:M96),1) -> 420947.3 | O96: 419992.91 | P96: 381811.74 | Q96: =ROUND(AVERAGE(O96:P96),1) -> 400902.3 | R96: 970227.66 | S96: 882025.14 | T96: =ROUND(AVERAGE(R96:S96),1) -> 926126.4 | U96: 518895.32 | V96: 471723.02 | W96: =ROUND(AVERAGE(U96:V96),1) -> 495309.2 | X96: 499676.98 | Y96: 454251.8 | Z96: =ROUND(AVERAGE(X96:Y96),1) -> 476964.4 | AA96: 1154570.9 | AB96: 1049609.9 | AC96: =ROUND(AVERAGE(AA96:AB96),1) -> 1102090.4 | AD96: 507141.42 | AE96: 461037.65 | AF96: =ROUND(AVERAGE(AD96:AE96),1) -> 484089.5 | AG96: 419992.91 | AH96: 381811.74 | AI96: =ROUND(AVERAGE(AG96:AH96),1) -> 400902.3 | AJ96: 419992.91 | AK96: 381811.74 | AL96: =ROUND(AVERAGE(AJ96:AK96),1) -> 400902.3 | AM96: 591182.62 | AN96: 537438.75 | AO96: =ROUND(AVERAGE(AM96:AN96),1) -> 564310.7 | AP96: 591182.62 | AQ96: 537438.75 | AR96: =ROUND(AVERAGE(AP96:AQ96),1) -> 564310.7 | AS96: 591182.62 | AT96: 537438.75 | AU96: =ROUND(AVERAGE(AS96:AT96),1) -> 564310.7 | AV96: 352634.39 | AW96: 320576.72 | AX96: =ROUND(AVERAGE(AV96:AW96),1) -> 336605.6 | AY96: 591182.62 | AZ96: 537438.75 | BA96: =ROUND(AVERAGE(AY96:AZ96),1) -> 564310.7 | BB96: 453670.73 | BC96: 412427.94 | BD96: =ROUND(AVERAGE(BB96:BC96),1) -> 433049.3 | BE96: 449391.35 | BF96: 408537.59 | BG96: =ROUND(AVERAGE(BE96:BF96),1) -> 428964.5 | BH96: 449391.35 | BI96: 408537.59 | BJ96: =ROUND(AVERAGE(BH96:BI96),1) -> 428964.5 | BK96: 449391.35 | BL96: 408537.59 | BM96: =ROUND(AVERAGE(BK96:BL96),1) -> 428964.5 | BN96: 235183.19 | BO96: 213802.9 | BP96: =ROUND(AVERAGE(BN96:BO96),1) -> 224493 | BQ96: 499676.98 | BR96: 454251.8 | BS96: =ROUND(AVERAGE(BQ96:BR96),1) -> 476964.4 | BT96: 518895.32 | BU96: 471723.02 | BV96: =ROUND(AVERAGE(BT96:BU96),1) -> 495309.2 | BW96: 471917.15 | BX96: 429015.59 | BY96: =ROUND(AVERAGE(BW96:BX96),1) -> 450466.4 | BZ96: 499676.98 | CA96: 454251.8 | CB96: =ROUND(AVERAGE(BZ96:CA96),1) -> 476964.4 | CC96: 524660.83 | CD96: 476964.39 | CE96: =ROUND(AVERAGE(CC96:CD96),1) -> 500812.6 | CF96: 559638.22 | CG96: 508762.01 | CH96: =ROUND(AVERAGE(CF96:CG96),1) -> 534200.1
A97: 3.31 | B97: TIJERA INFERIOR IZQ/DER | C97: 575838.27 | D97: 523489.34 | E97: =ROUND(AVERAGE(C97:D97),1) -> 549663.8 | F97: 587590.07 | G97: 534172.79 | H97: =ROUND(AVERAGE(F97:G97),1) -> 560881.4 | I97: 2464470.9 | J97: 2240428.1 | K97: =ROUND(AVERAGE(I97:J97),1) -> 2352449.5 | L97: 616969.79 | M97: 560881.63 | N97: =ROUND(AVERAGE(L97:M97),1) -> 588925.7 | O97: 587590.07 | P97: 534172.79 | Q97: =ROUND(AVERAGE(O97:P97),1) -> 560881.4 | R97: NO COTIZADO | S97: NO COTIZADO | T97: NO COTIZADO | U97: 2709802.5 | V97: 2463456.8 | W97: =ROUND(AVERAGE(U97:V97),1) -> 2586629.7 | X97: 2609440.1 | Y97: 2372218.2 | Z97: =ROUND(AVERAGE(X97:Y97),1) -> 2490829.1 | AA97: 587590.07 | AB97: 534172.79 | AC97: =ROUND(AVERAGE(AA97:AB97),1) -> 560881.4 | AD97: 709515.04 | AE97: 645013.68 | AF97: =ROUND(AVERAGE(AD97:AE97),1) -> 677264.4 | AG97: 587590.07 | AH97: 534172.79 | AI97: =ROUND(AVERAGE(AG97:AH97),1) -> 560881.4 | AJ97: 587590.07 | AK97: 534172.79 | AL97: =ROUND(AVERAGE(AJ97:AK97),1) -> 560881.4 | AM97: 2437521.8 | AN97: 2215928.9 | AO97: =ROUND(AVERAGE(AM97:AN97),1) -> 2326725.3 | AP97: 2437521.8 | AQ97: 2215928.9 | AR97: =ROUND(AVERAGE(AP97:AQ97),1) -> 2326725.3 | AS97: 2437521.8 | AT97: 2215928.9 | AU97: =ROUND(AVERAGE(AS97:AT97),1) -> 2326725.3 | AV97: 1402258.1 | AW97: 1274780.1 | AX97: =ROUND(AVERAGE(AV97:AW97),1) -> 1338519.1 | AY97: 2437521.8 | AZ97: 2215928.9 | BA97: =ROUND(AVERAGE(AY97:AZ97),1) -> 2326725.3 | BB97: 587590.07 | BC97: 534172.79 | BD97: =ROUND(AVERAGE(BB97:BC97),1) -> 560881.4 | BE97: 587590.07 | BF97: 534172.79 | BG97: =ROUND(AVERAGE(BE97:BF97),1) -> 560881.4 | BH97: 587590.07 | BI97: 534172.79 | BJ97: =ROUND(AVERAGE(BH97:BI97),1) -> 560881.4 | BK97: 587590.07 | BL97: 534172.79 | BM97: =ROUND(AVERAGE(BK97:BL97),1) -> 560881.4 | BN97: 587590.07 | BO97: 534172.79 | BP97: =ROUND(AVERAGE(BN97:BO97),1) -> 560881.4 | BQ97: 2609440.1 | BR97: 2372218.2 | BS97: =ROUND(AVERAGE(BQ97:BR97),1) -> 2490829.1 | BT97: 2709802.5 | BU97: 2463456.8 | BV97: =ROUND(AVERAGE(BT97:BU97),1) -> 2586629.7 | BW97: 2464470.9 | BX97: 2240428.1 | BY97: =ROUND(AVERAGE(BW97:BX97),1) -> 2352449.5 | BZ97: 2609440.1 | CA97: 2372218.2 | CB97: =ROUND(AVERAGE(BZ97:CA97),1) -> 2490829.1 | CC97: 2739912.1 | CD97: 2490829.1 | CE97: =ROUND(AVERAGE(CC97:CD97),1) -> 2615370.6 | CF97: 2922572.9 | CG97: 2656884.4 | CH97: =ROUND(AVERAGE(CF97:CG97),1) -> 2789728.6
A98: 3.32 | B98: TIJERA SUPERIOR IZQ/DER | C98: 457652.83 | D98: 416048.03 | E98: =ROUND(AVERAGE(C98:D98),1) -> 436850.4 | F98: 466992.69 | G98: 424538.81 | H98: =ROUND(AVERAGE(F98:G98),1) -> 445765.7 | I98: 3067053.2 | J98: 2788230.2 | K98: =ROUND(AVERAGE(I98:J98),1) -> 2927641.7 | L98: 490342.11 | M98: 445765.55 | N98: =ROUND(AVERAGE(L98:M98),1) -> 468053.8 | O98: 466992.69 | P98: 424538.81 | Q98: =ROUND(AVERAGE(O98:P98),1) -> 445765.7 | R98: NO COTIZADO | S98: NO COTIZADO | T98: NO COTIZADO | U98: 3372371.1 | V98: 3065791.9 | W98: =ROUND(AVERAGE(U98:V98),1) -> 3219081.5 | X98: 3247468.4 | Y98: 2952244 | Z98: =ROUND(AVERAGE(X98:Y98),1) -> 3099856.2 | AA98: 466992.69 | AB98: 424538.81 | AC98: =ROUND(AVERAGE(AA98:AB98),1) -> 445765.7 | AD98: 563893.64 | AE98: 512630.58 | AF98: =ROUND(AVERAGE(AD98:AE98),1) -> 538262.1 | AG98: 466992.69 | AH98: 424538.81 | AI98: =ROUND(AVERAGE(AG98:AH98),1) -> 445765.7 | AJ98: 466992.69 | AK98: 424538.81 | AL98: =ROUND(AVERAGE(AJ98:AK98),1) -> 445765.7 | AM98: 2846843.6 | AN98: 2588039.6 | AO98: =ROUND(AVERAGE(AM98:AN98),1) -> 2717441.6 | AP98: 2846843.6 | AQ98: 2588039.6 | AR98: =ROUND(AVERAGE(AP98:AQ98),1) -> 2717441.6 | AS98: 2846843.6 | AT98: 2588039.6 | AU98: =ROUND(AVERAGE(AS98:AT98),1) -> 2717441.6 | AV98: 1283741.4 | AW98: 1167037.6 | AX98: =ROUND(AVERAGE(AV98:AW98),1) -> 1225389.5 | AY98: 2846843.6 | AZ98: 2588039.6 | BA98: =ROUND(AVERAGE(AY98:AZ98),1) -> 2717441.6 | BB98: 466992.69 | BC98: 424538.81 | BD98: =ROUND(AVERAGE(BB98:BC98),1) -> 445765.7 | BE98: 466992.69 | BF98: 424538.81 | BG98: =ROUND(AVERAGE(BE98:BF98),1) -> 445765.7 | BH98: 466992.69 | BI98: 424538.81 | BJ98: =ROUND(AVERAGE(BH98:BI98),1) -> 445765.7 | BK98: 466992.69 | BL98: 424538.81 | BM98: =ROUND(AVERAGE(BK98:BL98),1) -> 445765.7 | BN98: 466992.69 | BO98: 424538.81 | BP98: =ROUND(AVERAGE(BN98:BO98),1) -> 445765.7 | BQ98: 3247468.4 | BR98: 2952244 | BS98: =ROUND(AVERAGE(BQ98:BR98),1) -> 3099856.2 | BT98: 3372371.1 | BU98: 3065791.9 | BV98: =ROUND(AVERAGE(BT98:BU98),1) -> 3219081.5 | BW98: 3067053.2 | BX98: 2788230.2 | BY98: =ROUND(AVERAGE(BW98:BX98),1) -> 2927641.7 | BZ98: 3247468.4 | CA98: 2952244 | CB98: =ROUND(AVERAGE(BZ98:CA98),1) -> 3099856.2 | CC98: 3409841.8 | CD98: 3099856.2 | CE98: =ROUND(AVERAGE(CC98:CD98),1) -> 3254849 | CF98: 3637164.6 | CG98: 3306513.3 | CH98: =ROUND(AVERAGE(CF98:CG98),1) -> 3471838.9
A99: 3.33 | B99: TORNILLO PRINCIPAL MUELLES | C99: 85085 | D99: 77350 | E99: =ROUND(AVERAGE(C99:D99),1) -> 81217.5 | F99: 26180 | G99: 23800 | H99: =ROUND(AVERAGE(F99:G99),1) -> 24990 | I99: 45815 | J99: 41650 | K99: =ROUND(AVERAGE(I99:J99),1) -> 43732.5 | L99: 108647 | M99: 98770 | N99: =ROUND(AVERAGE(L99:M99),1) -> 103708.5 | O99: 87703 | P99: 79730 | Q99: =ROUND(AVERAGE(O99:P99),1) -> 83716.5 | R99: 24216.5 | S99: 22015 | T99: =ROUND(AVERAGE(R99:S99),1) -> 23115.8 | U99: 20420.4 | V99: 18564 | W99: =ROUND(AVERAGE(U99:V99),1) -> 19492.2 | X99: 26180 | Y99: 23800 | Z99: =ROUND(AVERAGE(X99:Y99),1) -> 24990 | AA99: 49742 | AB99: 45220 | AC99: =ROUND(AVERAGE(AA99:AB99),1) -> 47481 | AD99: 104720 | AE99: 95200 | AF99: =ROUND(AVERAGE(AD99:AE99),1) -> 99960 | AG99: 26180 | AH99: 23800 | AI99: =ROUND(AVERAGE(AG99:AH99),1) -> 24990 | AJ99: 23562 | AK99: 21420 | AL99: =ROUND(AVERAGE(AJ99:AK99),1) -> 22491 | AM99: 27489 | AN99: 24990 | AO99: =ROUND(AVERAGE(AM99:AN99),1) -> 26239.5 | AP99: 52360 | AQ99: 47600 | AR99: =ROUND(AVERAGE(AP99:AQ99),1) -> 49980 | AS99: 27489 | AT99: 24990 | AU99: =ROUND(AVERAGE(AS99:AT99),1) -> 26239.5 | AV99: 53669 | AW99: 48790 | AX99: =ROUND(AVERAGE(AV99:AW99),1) -> 51229.5 | AY99: 30107 | AZ99: 27370 | BA99: =ROUND(AVERAGE(AY99:AZ99),1) -> 28738.5 | BB99: 30107 | BC99: 27370 | BD99: =ROUND(AVERAGE(BB99:BC99),1) -> 28738.5 | BE99: 82467 | BF99: 74970 | BG99: =ROUND(AVERAGE(BE99:BF99),1) -> 78718.5 | BH99: 27489 | BI99: 24990 | BJ99: =ROUND(AVERAGE(BH99:BI99),1) -> 26239.5 | BK99: 53669 | BL99: 48790 | BM99: =ROUND(AVERAGE(BK99:BL99),1) -> 51229.5 | BN99: 26180 | BO99: 23800 | BP99: =ROUND(AVERAGE(BN99:BO99),1) -> 24990 | BQ99: 39270 | BR99: 35700 | BS99: =ROUND(AVERAGE(BQ99:BR99),1) -> 37485 | BT99: 83776 | BU99: 76160 | BV99: =ROUND(AVERAGE(BT99:BU99),1) -> 79968 | BW99: 75922 | BX99: 69020 | BY99: =ROUND(AVERAGE(BW99:BX99),1) -> 72471 | BZ99: 30107 | CA99: 27370 | CB99: =ROUND(AVERAGE(BZ99:CA99),1) -> 28738.5 | CC99: 51051 | CD99: 46410 | CE99: =ROUND(AVERAGE(CC99:CD99),1) -> 48730.5 | CF99: 75922 | CG99: 69020 | CH99: =ROUND(AVERAGE(CF99:CG99),1) -> 72471
A100: 4 | B100: EMBRAGUE | E100: 0 | H100: 0 | K100: 0 | N100: 0 | Q100: 0 | T100: 0 | W100: 0 | Z100: 0 | AC100: 0 | AF100: 0 | AI100: 0 | AL100: 0 | AO100: 0 | AR100: 0 | AU100: 0 | AX100: 0 | BA100: 0 | BD100: 0 | BG100: 0 | BJ100: 0 | BM100: 0 | BP100: 0 | BS100: 0 | BV100: 0 | BY100: 0 | CB100: 0 | CE100: 0 | CH100: 0
A101: 4.1 | B101: BOMBA AUXILIAR DE EMBRAGUE | C101: 274498.85 | D101: 249544.41 | E101: =ROUND(AVERAGE(C101:D101),1) -> 262021.6 | F101: 280100.87 | G101: 254637.15 | H101: =ROUND(AVERAGE(F101:G101),1) -> 267369 | I101: 799587.99 | J101: 726898.17 | K101: =ROUND(AVERAGE(I101:J101),1) -> 763243.1 | L101: 775311.28 | M101: 704828.43 | N101: =ROUND(AVERAGE(L101:M101),1) -> 740069.9 | O101: 738390.8 | P101: 671264.36 | Q101: =ROUND(AVERAGE(O101:P101),1) -> 704827.6 | R101: 643455.31 | S101: 584959.38 | T101: =ROUND(AVERAGE(R101:S101),1) -> 614207.3 | U101: 879184.22 | V101: 799258.38 | W101: =ROUND(AVERAGE(U101:V101),1) -> 839221.3 | X101: 846622.32 | Y101: 769656.66 | Z101: =ROUND(AVERAGE(X101:Y101),1) -> 808139.5 | AA101: 765711.46 | AB101: 696101.33 | AC101: =ROUND(AVERAGE(AA101:AB101),1) -> 730906.4 | AD101: 891607.68 | AE101: 810552.44 | AF101: =ROUND(AVERAGE(AD101:AE101),1) -> 851080.1 | AG101: 738390.8 | AH101: 671264.36 | AI101: =ROUND(AVERAGE(AG101:AH101),1) -> 704827.6 | AJ101: 738390.8 | AK101: 671264.36 | AL101: =ROUND(AVERAGE(AJ101:AK101),1) -> 704827.6 | AM101: 1001662.1 | AN101: 910601.92 | AO101: =ROUND(AVERAGE(AM101:AN101),1) -> 956132 | AP101: 1001662.1 | AQ101: 910601.92 | AR101: =ROUND(AVERAGE(AP101:AQ101),1) -> 956132 | AS101: 1001662.1 | AT101: 910601.92 | AU101: =ROUND(AVERAGE(AS101:AT101),1) -> 956132 | AV101: 447939.93 | AW101: 407218.12 | AX101: =ROUND(AVERAGE(AV101:AW101),1) -> 427579 | AY101: 1001662.1 | AZ101: 910601.92 | BA101: =ROUND(AVERAGE(AY101:AZ101),1) -> 956132 | BB101: 667351.89 | BC101: 606683.54 | BD101: =ROUND(AVERAGE(BB101:BC101),1) -> 637017.7 | BE101: 661056.65 | BF101: 600960.59 | BG101: =ROUND(AVERAGE(BE101:BF101),1) -> 631008.6 | BH101: 661056.65 | BI101: 600960.59 | BJ101: =ROUND(AVERAGE(BH101:BI101),1) -> 631008.6 | BK101: 661056.65 | BL101: 600960.59 | BM101: =ROUND(AVERAGE(BK101:BL101),1) -> 631008.6 | BN101: 368877.9 | BO101: 335343.55 | BP101: =ROUND(AVERAGE(BN101:BO101),1) -> 352110.7 | BQ101: 846622.32 | BR101: 769656.66 | BS101: =ROUND(AVERAGE(BQ101:BR101),1) -> 808139.5 | BT101: 879184.22 | BU101: 799258.38 | BV101: =ROUND(AVERAGE(BT101:BU101),1) -> 839221.3 | BW101: 799587.99 | BX101: 726898.17 | BY101: =ROUND(AVERAGE(BW101:BX101),1) -> 763243.1 | BZ101: 846622.32 | CA101: 769656.66 | CB101: =ROUND(AVERAGE(BZ101:CA101),1) -> 808139.5 | CC101: 888953.44 | CD101: 808139.49 | CE101: =ROUND(AVERAGE(CC101:CD101),1) -> 848546.5 | CF101: 948217 | CG101: 862015.46 | CH101: =ROUND(AVERAGE(CF101:CG101),1) -> 905116.2
A102: 4.2 | B102: BOMBA PRINCIPAL DE EMBRAGUE | C102: 301908.1 | D102: 274461.9 | E102: =ROUND(AVERAGE(C102:D102),1) -> 288185 | F102: 308069.48 | G102: 280063.17 | H102: =ROUND(AVERAGE(F102:G102),1) -> 294066.3 | I102: 751354.22 | J102: 683049.29 | K102: =ROUND(AVERAGE(I102:J102),1) -> 717201.8 | L102: 702118.28 | M102: 638289.34 | N102: =ROUND(AVERAGE(L102:M102),1) -> 670203.8 | O102: 668683.8 | P102: 607894.36 | Q102: =ROUND(AVERAGE(O102:P102),1) -> 638289.1 | R102: 743319.58 | S102: 675745.07 | T102: =ROUND(AVERAGE(R102:S102),1) -> 709532.3 | U102: 826149.82 | V102: 751045.3 | W102: =ROUND(AVERAGE(U102:V102),1) -> 788597.6 | X102: 795551.95 | Y102: 723229.05 | Z102: =ROUND(AVERAGE(X102:Y102),1) -> 759390.5 | AA102: 884550.73 | AB102: 804137.03 | AC102: =ROUND(AVERAGE(AA102:AB102),1) -> 844343.9 | AD102: 807435.44 | AE102: 734032.22 | AF102: =ROUND(AVERAGE(AD102:AE102),1) -> 770733.8 | AG102: 668683.8 | AH102: 607894.36 | AI102: =ROUND(AVERAGE(AG102:AH102),1) -> 638289.1 | AJ102: 668683.8 | AK102: 607894.36 | AL102: =ROUND(AVERAGE(AJ102:AK102),1) -> 638289.1 | AM102: 941239.59 | AN102: 855672.36 | AO102: =ROUND(AVERAGE(AM102:AN102),1) -> 898456 | AP102: 941239.59 | AQ102: 855672.36 | AR102: =ROUND(AVERAGE(AP102:AQ102),1) -> 898456 | AS102: 941239.59 | AT102: 855672.36 | AU102: =ROUND(AVERAGE(AS102:AT102),1) -> 898456 | AV102: 489240.58 | AW102: 444764.17 | AX102: =ROUND(AVERAGE(AV102:AW102),1) -> 467002.4 | AY102: 941239.59 | AZ102: 855672.36 | BA102: =ROUND(AVERAGE(AY102:AZ102),1) -> 898456 | BB102: 687029.57 | BC102: 624572.33 | BD102: =ROUND(AVERAGE(BB102:BC102),1) -> 655800.9 | BE102: 680548.58 | BF102: 618680.52 | BG102: =ROUND(AVERAGE(BE102:BF102),1) -> 649614.6 | BH102: 680548.58 | BI102: 618680.52 | BJ102: =ROUND(AVERAGE(BH102:BI102),1) -> 649614.6 | BK102: 680548.58 | BL102: 618680.52 | BM102: =ROUND(AVERAGE(BK102:BL102),1) -> 649614.6 | BN102: 419516.3 | BO102: 381378.46 | BP102: =ROUND(AVERAGE(BN102:BO102),1) -> 400447.4 | BQ102: 795551.95 | BR102: 723229.05 | BS102: =ROUND(AVERAGE(BQ102:BR102),1) -> 759390.5 | BT102: 826149.82 | BU102: 751045.3 | BV102: =ROUND(AVERAGE(BT102:BU102),1) -> 788597.6 | BW102: 751354.22 | BX102: 683049.29 | BY102: =ROUND(AVERAGE(BW102:BX102),1) -> 717201.8 | BZ102: 795551.95 | CA102: 723229.05 | CB102: =ROUND(AVERAGE(BZ102:CA102),1) -> 759390.5 | CC102: 835329.55 | CD102: 759390.5 | CE102: =ROUND(AVERAGE(CC102:CD102),1) -> 797360 | CF102: 891018.18 | CG102: 810016.53 | CH102: =ROUND(AVERAGE(CF102:CG102),1) -> 850517.4
A103: 4.3 | B103: GUAYA EMBRAGUE | C103: 438326.38 | D103: 398478.53 | E103: =ROUND(AVERAGE(C103:D103),1) -> 418402.5 | F103: 447271.82 | G103: 406610.74 | H103: =ROUND(AVERAGE(F103:G103),1) -> 426941.3 | I103: 949192.16 | J103: 862901.96 | K103: =ROUND(AVERAGE(I103:J103),1) -> 906047.1 | L103: 886991.36 | M103: 806355.78 | N103: =ROUND(AVERAGE(L103:M103),1) -> 846673.6 | O103: 844753.33 | P103: 767957.57 | Q103: =ROUND(AVERAGE(O103:P103),1) -> 806355.5 | R103: 1026851.7 | S103: 933501.57 | T103: =ROUND(AVERAGE(R103:S103),1) -> 980176.6 | U103: 1043681.3 | V103: 948801.16 | W103: =ROUND(AVERAGE(U103:V103),1) -> 996241.2 | X103: 1005027.2 | Y103: 913661.06 | Z103: =ROUND(AVERAGE(X103:Y103),1) -> 959344.1 | AA103: 1221953.9 | AB103: 1110867.1 | AC103: =ROUND(AVERAGE(AA103:AB103),1) -> 1166410.5 | AD103: 1020039.6 | AE103: 927308.69 | AF103: =ROUND(AVERAGE(AD103:AE103),1) -> 973674.1 | AG103: 844753.33 | AH103: 767957.57 | AI103: =ROUND(AVERAGE(AG103:AH103),1) -> 806355.5 | AJ103: 844753.33 | AK103: 767957.57 | AL103: =ROUND(AVERAGE(AJ103:AK103),1) -> 806355.5 | AM103: 1189075.2 | AN103: 1080977.4 | AO103: =ROUND(AVERAGE(AM103:AN103),1) -> 1135026.3 | AP103: 1189075.2 | AQ103: 1080977.4 | AR103: =ROUND(AVERAGE(AP103:AQ103),1) -> 1135026.3 | AS103: 1189075.2 | AT103: 1080977.4 | AU103: =ROUND(AVERAGE(AS103:AT103),1) -> 1135026.3 | AV103: 765629.39 | AW103: 696026.72 | AX103: =ROUND(AVERAGE(AV103:AW103),1) -> 730828.1 | AY103: 1189075.2 | AZ103: 1080977.4 | BA103: =ROUND(AVERAGE(AY103:AZ103),1) -> 1135026.3 | BB103: 741787.52 | BC103: 674352.29 | BD103: =ROUND(AVERAGE(BB103:BC103),1) -> 708069.9 | BE103: 734789.61 | BF103: 667990.55 | BG103: =ROUND(AVERAGE(BE103:BF103),1) -> 701390.1 | BH103: 734789.61 | BI103: 667990.55 | BJ103: =ROUND(AVERAGE(BH103:BI103),1) -> 701390.1 | BK103: 734789.61 | BL103: 667990.55 | BM103: =ROUND(AVERAGE(BK103:BL103),1) -> 701390.1 | BN103: 633469.61 | BO103: 575881.46 | BP103: =ROUND(AVERAGE(BN103:BO103),1) -> 604675.5 | BQ103: 1005027.2 | BR103: 913661.06 | BS103: =ROUND(AVERAGE(BQ103:BR103),1) -> 959344.1 | BT103: 1043681.3 | BU103: 948801.16 | BV103: =ROUND(AVERAGE(BT103:BU103),1) -> 996241.2 | BW103: 949192.16 | BX103: 862901.96 | BY103: =ROUND(AVERAGE(BW103:BX103),1) -> 906047.1 | BZ103: 1005027.2 | CA103: 913661.06 | CB103: =ROUND(AVERAGE(BZ103:CA103),1) -> 959344.1 | CC103: 1055278.5 | CD103: 959344.11 | CE103: =ROUND(AVERAGE(CC103:CD103),1) -> 1007311.3 | CF103: 1125630.4 | CG103: 1023300.4 | CH103: =ROUND(AVERAGE(CF103:CG103),1) -> 1074465.4
A104: 4.4 | B104: HORQUILLA EMBRAGUE | C104: 119119 | D104: 108290 | E104: =ROUND(AVERAGE(C104:D104),1) -> 113704.5 | F104: 340209.1 | G104: 309281 | H104: =ROUND(AVERAGE(F104:G104),1) -> 324745.1 | I104: 431970 | J104: 392700 | K104: =ROUND(AVERAGE(I104:J104),1) -> 412335 | L104: 157080 | M104: 142800 | N104: =ROUND(AVERAGE(L104:M104),1) -> 149940 | O104: 121737 | P104: 110670 | Q104: =ROUND(AVERAGE(O104:P104),1) -> 116203.5 | R104: 205513 | S104: 186830 | T104: =ROUND(AVERAGE(R104:S104),1) -> 196171.5 | U104: 185878 | V104: 168980 | W104: =ROUND(AVERAGE(U104:V104),1) -> 177429 | X104: 340209.1 | Y104: 309281 | Z104: =ROUND(AVERAGE(X104:Y104),1) -> 324745.1 | AA104: 431970 | AB104: 392700 | AC104: =ROUND(AVERAGE(AA104:AB104),1) -> 412335 | AD104: 154462 | AE104: 140420 | AF104: =ROUND(AVERAGE(AD104:AE104),1) -> 147441 | AG104: 333795 | AH104: 303450 | AI104: =ROUND(AVERAGE(AG104:AH104),1) -> 318622.5 | AJ104: 331177 | AK104: 301070 | AL104: =ROUND(AVERAGE(AJ104:AK104),1) -> 316123.5 | AM104: 346885 | AN104: 315350 | AO104: =ROUND(AVERAGE(AM104:AN104),1) -> 331117.5 | AP104: 431970 | AQ104: 392700 | AR104: =ROUND(AVERAGE(AP104:AQ104),1) -> 412335 | AS104: 36390.2 | AT104: 33082 | AU104: =ROUND(AVERAGE(AS104:AT104),1) -> 34736.1 | AV104: 416262 | AW104: 378420 | AX104: =ROUND(AVERAGE(AV104:AW104),1) -> 397341 | AY104: 357357 | AZ104: 324870 | BA104: =ROUND(AVERAGE(AY104:AZ104),1) -> 341113.5 | BB104: 346885 | BC104: 315350 | BD104: =ROUND(AVERAGE(BB104:BC104),1) -> 331117.5 | BE104: 137445 | BF104: 124950 | BG104: =ROUND(AVERAGE(BE104:BF104),1) -> 131197.5 | BH104: 346885 | BI104: 315350 | BJ104: =ROUND(AVERAGE(BH104:BI104),1) -> 331117.5 | BK104: 431970 | BL104: 392700 | BM104: =ROUND(AVERAGE(BK104:BL104),1) -> 412335 | BN104: 340209.1 | BO104: 309281 | BP104: =ROUND(AVERAGE(BN104:BO104),1) -> 324745.1 | BQ104: 412335 | BR104: 374850 | BS104: =ROUND(AVERAGE(BQ104:BR104),1) -> 393592.5 | BT104: 451605 | BU104: 410550 | BV104: =ROUND(AVERAGE(BT104:BU104),1) -> 431077.5 | BW104: 445060 | BX104: 404600 | BY104: =ROUND(AVERAGE(BW104:BX104),1) -> 424830 | BZ104: 346885 | CA104: 315350 | CB104: =ROUND(AVERAGE(BZ104:CA104),1) -> 331117.5 | CC104: 422807 | CD104: 384370 | CE104: =ROUND(AVERAGE(CC104:CD104),1) -> 403588.5 | CF104: 442442 | CG104: 402220 | CH104: =ROUND(AVERAGE(CF104:CG104),1) -> 422331
A105: 4.5 | B105: KIT DE EMBRAGUE (DISCO-PREN Y BALI. BAL. VOLAN) | C105: 1638275.3 | D105: 1489341.2 | E105: =ROUND(AVERAGE(C105:D105),1) -> 1563808.3 | F105: 1671709.5 | G105: 1519735.9 | H105: =ROUND(AVERAGE(F105:G105),1) -> 1595722.7 | I105: 3388646.3 | J105: 3080587.5 | K105: =ROUND(AVERAGE(I105:J105),1) -> 3234616.9 | L105: 3076267.2 | M105: 2796606.5 | N105: =ROUND(AVERAGE(L105:M105),1) -> 2936436.8 | O105: 2929778.9 | P105: 2663435.4 | Q105: =ROUND(AVERAGE(O105:P105),1) -> 2796607.2 | R105: 3868968.1 | S105: 3517243.7 | T105: =ROUND(AVERAGE(R105:S105),1) -> 3693105.9 | U105: 3725978.8 | V105: 3387253.5 | W105: =ROUND(AVERAGE(U105:V105),1) -> 3556616.2 | X105: 3587978.8 | Y105: 3261798.9 | Z105: =ROUND(AVERAGE(X105:Y105),1) -> 3424888.9 | AA105: 4604071.6 | AB105: 4185519.6 | AC105: =ROUND(AVERAGE(AA105:AB105),1) -> 4394795.6 | AD105: 3537707.6 | AE105: 3216097.8 | AF105: =ROUND(AVERAGE(AD105:AE105),1) -> 3376902.7 | AG105: 3154403.3 | AH105: 2867639.4 | AI105: =ROUND(AVERAGE(AG105:AH105),1) -> 3011021.4 | AJ105: 3154403.3 | AK105: 2867639.4 | AL105: =ROUND(AVERAGE(AJ105:AK105),1) -> 3011021.4 | AM105: 2950075.8 | AN105: 2681887.1 | AO105: =ROUND(AVERAGE(AM105:AN105),1) -> 2815981.4 | AP105: 2950075.8 | AQ105: 2681887.1 | AR105: =ROUND(AVERAGE(AP105:AQ105),1) -> 2815981.4 | AS105: 2950075.8 | AT105: 2681887.1 | AU105: =ROUND(AVERAGE(AS105:AT105),1) -> 2815981.4 | AV105: 2245981.9 | AW105: 2041801.8 | AX105: =ROUND(AVERAGE(AV105:AW105),1) -> 2143891.9 | AY105: 2950075.8 | AZ105: 2681887.1 | BA105: =ROUND(AVERAGE(AY105:AZ105),1) -> 2815981.4 | BB105: 2091891 | BC105: 1901719.1 | BD105: =ROUND(AVERAGE(BB105:BC105),1) -> 1996805.1 | BE105: 2072157.2 | BF105: 1883779.3 | BG105: =ROUND(AVERAGE(BE105:BF105),1) -> 1977968.2 | BH105: 2072157.2 | BI105: 1883779.3 | BJ105: =ROUND(AVERAGE(BH105:BI105),1) -> 1977968.2 | BK105: 2072157.2 | BL105: 1883779.3 | BM105: =ROUND(AVERAGE(BK105:BL105),1) -> 1977968.2 | BN105: 2072157.2 | BO105: 1883779.3 | BP105: =ROUND(AVERAGE(BN105:BO105),1) -> 1977968.2 | BQ105: 3587978.8 | BR105: 3261798.9 | BS105: =ROUND(AVERAGE(BQ105:BR105),1) -> 3424888.9 | BT105: 3725978.8 | BU105: 3387253.5 | BV105: =ROUND(AVERAGE(BT105:BU105),1) -> 3556616.2 | BW105: 3388646.3 | BX105: 3080587.5 | BY105: =ROUND(AVERAGE(BW105:BX105),1) -> 3234616.9 | BZ105: 3587978.8 | CA105: 3261798.9 | CB105: =ROUND(AVERAGE(BZ105:CA105),1) -> 3424888.9 | CC105: 3767377.8 | CD105: 3424888.9 | CE105: =ROUND(AVERAGE(CC105:CD105),1) -> 3596133.3 | CF105: 4018536.3 | CG105: 3653214.8 | CH105: =ROUND(AVERAGE(CF105:CG105),1) -> 3835875.5
A106: 4.6 | B106: RETEN DELANTERO CAJA | C106: 113883 | D106: 103530 | E106: =ROUND(AVERAGE(C106:D106),1) -> 108706.5 | F106: 125664 | G106: 114240 | H106: =ROUND(AVERAGE(F106:G106),1) -> 119952 | I106: 106029 | J106: 96390 | K106: =ROUND(AVERAGE(I106:J106),1) -> 101209.5 | L106: 111265 | M106: 101150 | N106: =ROUND(AVERAGE(L106:M106),1) -> 106207.5 | O106: 119119 | P106: 108290 | Q106: =ROUND(AVERAGE(O106:P106),1) -> 113704.5 | R106: 116501 | S106: 105910 | T106: =ROUND(AVERAGE(R106:S106),1) -> 111205.5 | U106: 13744.5 | V106: 12495 | W106: =ROUND(AVERAGE(U106:V106),1) -> 13119.8 | X106: 110610.5 | Y106: 100555 | Z106: =ROUND(AVERAGE(X106:Y106),1) -> 105582.8 | AA106: 90321 | AB106: 82110 | AC106: =ROUND(AVERAGE(AA106:AB106),1) -> 86215.5 | AD106: 121737 | AE106: 110670 | AF106: =ROUND(AVERAGE(AD106:AE106),1) -> 116203.5 | AG106: 108647 | AH106: 98770 | AI106: =ROUND(AVERAGE(AG106:AH106),1) -> 103708.5 | AJ106: 102102 | AK106: 92820 | AL106: =ROUND(AVERAGE(AJ106:AK106),1) -> 97461 | AM106: 111265 | AN106: 101150 | AO106: =ROUND(AVERAGE(AM106:AN106),1) -> 106207.5 | AP106: 91630 | AQ106: 83300 | AR106: =ROUND(AVERAGE(AP106:AQ106),1) -> 87465 | AS106: 113883 | AT106: 103530 | AU106: =ROUND(AVERAGE(AS106:AT106),1) -> 108706.5 | AV106: 121737 | AW106: 110670 | AX106: =ROUND(AVERAGE(AV106:AW106),1) -> 116203.5 | AY106: 105374.5 | AZ106: 95795 | BA106: =ROUND(AVERAGE(AY106:AZ106),1) -> 100584.8 | BB106: 113883 | BC106: 103530 | BD106: =ROUND(AVERAGE(BB106:BC106),1) -> 108706.5 | BE106: 106029 | BF106: 96390 | BG106: =ROUND(AVERAGE(BE106:BF106),1) -> 101209.5 | BH106: 123046 | BI106: 111860 | BJ106: =ROUND(AVERAGE(BH106:BI106),1) -> 117453 | BK106: 108647 | BL106: 98770 | BM106: =ROUND(AVERAGE(BK106:BL106),1) -> 103708.5 | BN106: 104720 | BO106: 95200 | BP106: =ROUND(AVERAGE(BN106:BO106),1) -> 99960 | BQ106: 95557 | BR106: 86870 | BS106: =ROUND(AVERAGE(BQ106:BR106),1) -> 91213.5 | BT106: 108647 | BU106: 98770 | BV106: =ROUND(AVERAGE(BT106:BU106),1) -> 103708.5 | BW106: 102102 | BX106: 92820 | BY106: =ROUND(AVERAGE(BW106:BX106),1) -> 97461 | BZ106: 176715 | CA106: 160650 | CB106: =ROUND(AVERAGE(BZ106:CA106),1) -> 168682.5 | CC106: 124355 | CD106: 113050 | CE106: =ROUND(AVERAGE(CC106:CD106),1) -> 118702.5 | CF106: 123046 | CG106: 111860 | CH106: =ROUND(AVERAGE(CF106:CG106),1) -> 117453
A107: 4.7 | B107: VOLANTE BIMASA | C107: 602140 | D107: 547400 | E107: =ROUND(AVERAGE(C107:D107),1) -> 574770 | F107: 497420 | G107: 452200 | H107: =ROUND(AVERAGE(F107:G107),1) -> 474810 | I107: 1021020 | J107: 928200 | K107: =ROUND(AVERAGE(I107:J107),1) -> 974610 | L107: 680680 | M107: 618800 | N107: =ROUND(AVERAGE(L107:M107),1) -> 649740 | O107: 606067 | P107: 550970 | Q107: =ROUND(AVERAGE(O107:P107),1) -> 578518.5 | R107: 490875 | S107: 446250 | T107: =ROUND(AVERAGE(R107:S107),1) -> 468562.5 | U107: 517055 | V107: 470050 | W107: =ROUND(AVERAGE(U107:V107),1) -> 493552.5 | X107: 497420 | Y107: 452200 | Z107: =ROUND(AVERAGE(X107:Y107),1) -> 474810 | AA107: 549780 | AB107: 499800 | AC107: =ROUND(AVERAGE(AA107:AB107),1) -> 524790 | AD107: 684607 | AE107: 622370 | AF107: =ROUND(AVERAGE(AD107:AE107),1) -> 653488.5 | AG107: 490875 | AH107: 446250 | AI107: =ROUND(AVERAGE(AG107:AH107),1) -> 468562.5 | AJ107: 477785 | AK107: 434350 | AL107: =ROUND(AVERAGE(AJ107:AK107),1) -> 456067.5 | AM107: 501347 | AN107: 455770 | AO107: =ROUND(AVERAGE(AM107:AN107),1) -> 478558.5 | AP107: 497420 | AQ107: 452200 | AR107: =ROUND(AVERAGE(AP107:AQ107),1) -> 474810 | AS107: 484330 | AT107: 440300 | AU107: =ROUND(AVERAGE(AS107:AT107),1) -> 462315 | AV107: 549780 | AW107: 499800 | AX107: =ROUND(AVERAGE(AV107:AW107),1) -> 524790 | AY107: 505274 | AZ107: 459340 | BA107: =ROUND(AVERAGE(AY107:AZ107),1) -> 482307 | BB107: 497420 | BC107: 452200 | BD107: =ROUND(AVERAGE(BB107:BC107),1) -> 474810 | BE107: 562870 | BF107: 511700 | BG107: =ROUND(AVERAGE(BE107:BF107),1) -> 537285 | BH107: 501347 | BI107: 455770 | BJ107: =ROUND(AVERAGE(BH107:BI107),1) -> 478558.5 | BK107: 968660 | BL107: 880600 | BM107: =ROUND(AVERAGE(BK107:BL107),1) -> 924630 | BN107: 994840 | BO107: 904400 | BP107: =ROUND(AVERAGE(BN107:BO107),1) -> 949620 | BQ107: 1021020 | BR107: 928200 | BS107: =ROUND(AVERAGE(BQ107:BR107),1) -> 974610 | BT107: 1099560 | BU107: 999600 | BV107: =ROUND(AVERAGE(BT107:BU107),1) -> 1049580 | BW107: 1021020 | BX107: 928200 | BY107: =ROUND(AVERAGE(BW107:BX107),1) -> 974610 | BZ107: 1282820 | CA107: 1166200 | CB107: =ROUND(AVERAGE(BZ107:CA107),1) -> 1224510 | CC107: 530145 | CD107: 481950 | CE107: =ROUND(AVERAGE(CC107:CD107),1) -> 506047.5 | CF107: 1079925 | CG107: 981750 | CH107: =ROUND(AVERAGE(CF107:CG107),1) -> 1030837.5
A108: 5 | B108: TRASMISION | E108: 0 | H108: 0 | K108: 0 | N108: 0 | Q108: 0 | T108: 0 | W108: 0 | Z108: 0 | AC108: 0 | AF108: 0 | AI108: 0 | AL108: 0 | AO108: 0 | AR108: 0 | AU108: 0 | AX108: 0 | BA108: 0 | BD108: 0 | BG108: 0 | BJ108: 0 | BM108: 0 | BP108: 0 | BS108: 0 | BV108: 0 | BY108: 0 | CB108: 0 | CE108: 0 | CH108: 0
A109: 5.1 | B109: CRUCETA CARDAN | C109: 147423.47 | D109: 134021.34 | E109: =ROUND(AVERAGE(C109:D109),1) -> 140722.4 | F109: 150432.11 | G109: 136756.47 | H109: =ROUND(AVERAGE(F109:G109),1) -> 143594.3 | I109: 354488.98 | J109: 322262.71 | K109: =ROUND(AVERAGE(I109:J109),1) -> 338375.8 | L109: 331259.07 | M109: 301144.61 | N109: =ROUND(AVERAGE(L109:M109),1) -> 316201.8 | O109: 315484.97 | P109: 286804.52 | Q109: =ROUND(AVERAGE(O109:P109),1) -> 301144.7 | R109: 370218.45 | S109: 336562.23 | T109: =ROUND(AVERAGE(R109:S109),1) -> 353390.3 | U109: 389776.61 | V109: 354342.37 | W109: =ROUND(AVERAGE(U109:V109),1) -> 372059.5 | X109: 375341.61 | Y109: 341219.65 | Z109: =ROUND(AVERAGE(X109:Y109),1) -> 358280.6 | AA109: 440560.44 | AB109: 400509.49 | AC109: =ROUND(AVERAGE(AA109:AB109),1) -> 420535 | AD109: 380948.58 | AE109: 346316.89 | AF109: =ROUND(AVERAGE(AD109:AE109),1) -> 363632.7 | AG109: 315484.97 | AH109: 286804.52 | AI109: =ROUND(AVERAGE(AG109:AH109),1) -> 301144.7 | AJ109: 315484.97 | AK109: 286804.52 | AL109: =ROUND(AVERAGE(AJ109:AK109),1) -> 301144.7 | AM109: 444076.68 | AN109: 403706.07 | AO109: =ROUND(AVERAGE(AM109:AN109),1) -> 423891.4 | AP109: 444076.68 | AQ109: 403706.07 | AR109: =ROUND(AVERAGE(AP109:AQ109),1) -> 423891.4 | AS109: 444076.68 | AT109: 403706.07 | AU109: =ROUND(AVERAGE(AS109:AT109),1) -> 423891.4 | AV109: 313558.38 | AW109: 285053.08 | AX109: =ROUND(AVERAGE(AV109:AW109),1) -> 299305.7 | AY109: 444076.68 | AZ109: 403706.07 | BA109: =ROUND(AVERAGE(AY109:AZ109),1) -> 423891.4 | BB109: 225017.49 | BC109: 204561.36 | BD109: =ROUND(AVERAGE(BB109:BC109),1) -> 214789.4 | BE109: 222895.08 | BF109: 202631.89 | BG109: =ROUND(AVERAGE(BE109:BF109),1) -> 212763.5 | BH109: 222895.08 | BI109: 202631.89 | BJ109: =ROUND(AVERAGE(BH109:BI109),1) -> 212763.5 | BK109: 222895.08 | BL109: 202631.89 | BM109: =ROUND(AVERAGE(BK109:BL109),1) -> 212763.5 | BN109: 222895.08 | BO109: 202631.89 | BP109: =ROUND(AVERAGE(BN109:BO109),1) -> 212763.5 | BQ109: 375341.61 | BR109: 341219.65 | BS109: =ROUND(AVERAGE(BQ109:BR109),1) -> 358280.6 | BT109: 389776.61 | BU109: 354342.37 | BV109: =ROUND(AVERAGE(BT109:BU109),1) -> 372059.5 | BW109: 354488.98 | BX109: 322262.71 | BY109: =ROUND(AVERAGE(BW109:BX109),1) -> 338375.8 | BZ109: 375341.61 | CA109: 341219.65 | CB109: =ROUND(AVERAGE(BZ109:CA109),1) -> 358280.6 | CC109: 394108.69 | CD109: 358280.63 | CE109: =ROUND(AVERAGE(CC109:CD109),1) -> 376194.7 | CF109: 420382.61 | CG109: 382166.01 | CH109: =ROUND(AVERAGE(CF109:CG109),1) -> 401274.3
A110: 5.2 | B110: EJE TRASERO | C110: 471240 | D110: 428400 | E110: =ROUND(AVERAGE(C110:D110),1) -> 449820 | F110: 138623.1 | G110: 126021 | H110: =ROUND(AVERAGE(F110:G110),1) -> 132322.1 | I110: 497420 | J110: 452200 | K110: =ROUND(AVERAGE(I110:J110),1) -> 474810 | L110: 628320 | M110: 571200 | N110: =ROUND(AVERAGE(L110:M110),1) -> 599760 | O110: 45815 | P110: 41650 | Q110: =ROUND(AVERAGE(O110:P110),1) -> 43732.5 | R110: 135481.5 | S110: 123165 | T110: =ROUND(AVERAGE(R110:S110),1) -> 129323.3 | U110: 111265 | V110: 101150 | W110: =ROUND(AVERAGE(U110:V110),1) -> 106207.5 | X110: 138623.1 | Y110: 126021 | Z110: =ROUND(AVERAGE(X110:Y110),1) -> 132322.1 | AA110: 501347 | AB110: 455770 | AC110: =ROUND(AVERAGE(AA110:AB110),1) -> 478558.5 | AD110: 628320 | AE110: 571200 | AF110: =ROUND(AVERAGE(AD110:AE110),1) -> 599760 | AG110: 138623.1 | AH110: 126021 | AI110: =ROUND(AVERAGE(AG110:AH110),1) -> 132322.1 | AJ110: 136136 | AK110: 123760 | AL110: =ROUND(AVERAGE(AJ110:AK110),1) -> 129948 | AM110: 140063 | AN110: 127330 | AO110: =ROUND(AVERAGE(AM110:AN110),1) -> 133696.5 | AP110: 506583 | AQ110: 460530 | AR110: =ROUND(AVERAGE(AP110:AQ110),1) -> 483556.5 | AS110: 138754 | AT110: 126140 | AU110: =ROUND(AVERAGE(AS110:AT110),1) -> 132447 | AV110: 506583 | AW110: 460530 | AX110: =ROUND(AVERAGE(AV110:AW110),1) -> 483556.5 | AY110: 147917 | AZ110: 134470 | BA110: =ROUND(AVERAGE(AY110:AZ110),1) -> 141193.5 | BB110: 154462 | BC110: 140420 | BD110: =ROUND(AVERAGE(BB110:BC110),1) -> 147441 | BE110: 517055 | BF110: 470050 | BG110: =ROUND(AVERAGE(BE110:BF110),1) -> 493552.5 | BH110: 140063 | BI110: 127330 | BJ110: =ROUND(AVERAGE(BH110:BI110),1) -> 133696.5 | BK110: 481712 | BL110: 437920 | BM110: =ROUND(AVERAGE(BK110:BL110),1) -> 459816 | BN110: 138623.1 | BO110: 126021 | BP110: =ROUND(AVERAGE(BN110:BO110),1) -> 132322.1 | BQ110: 497420 | BR110: 452200 | BS110: =ROUND(AVERAGE(BQ110:BR110),1) -> 474810 | BT110: 526218 | BU110: 478380 | BV110: =ROUND(AVERAGE(BT110:BU110),1) -> 502299 | BW110: 517055 | BX110: 470050 | BY110: =ROUND(AVERAGE(BW110:BX110),1) -> 493552.5 | BZ110: 154462 | CA110: 140420 | CB110: =ROUND(AVERAGE(BZ110:CA110),1) -> 147441 | CC110: 514437 | CD110: 467670 | CE110: =ROUND(AVERAGE(CC110:CD110),1) -> 491053.5 | CF110: 497420 | CG110: 452200 | CH110: =ROUND(AVERAGE(CF110:CG110),1) -> 474810
A111: 5.3 | B111: GUARDAPOLVO EJE | C111: 126660.52 | D111: 115145.92 | E111: =ROUND(AVERAGE(C111:D111),1) -> 120903.2 | F111: 129245.42 | G111: 117495.84 | H111: =ROUND(AVERAGE(F111:G111),1) -> 123370.6 | I111: 164031.97 | J111: 149119.97 | K111: =ROUND(AVERAGE(I111:J111),1) -> 156576 | L111: 153281.67 | M111: 139346.98 | N111: =ROUND(AVERAGE(L111:M111),1) -> 146314.3 | O111: 145982.82 | P111: 132711.66 | Q111: =ROUND(AVERAGE(O111:P111),1) -> 139347.2 | R111: 189021.43 | S111: 171837.67 | T111: =ROUND(AVERAGE(R111:S111),1) -> 180429.5 | U111: 180360.43 | V111: 163964.03 | W111: =ROUND(AVERAGE(U111:V111),1) -> 172162.2 | X111: 173680.74 | Y111: 157891.58 | Z111: =ROUND(AVERAGE(X111:Y111),1) -> 165786.2 | AA111: 224935.42 | AB111: 204486.74 | AC111: =ROUND(AVERAGE(AA111:AB111),1) -> 214711.1 | AD111: 176275.44 | AE111: 160250.4 | AF111: =ROUND(AVERAGE(AD111:AE111),1) -> 168262.9 | AG111: 145982.82 | AH111: 132711.66 | AI111: =ROUND(AVERAGE(AG111:AH111),1) -> 139347.2 | AJ111: 145982.82 | AK111: 132711.66 | AL111: =ROUND(AVERAGE(AJ111:AK111),1) -> 139347.2 | AM111: 205486.69 | AN111: 186806.08 | AO111: =ROUND(AVERAGE(AM111:AN111),1) -> 196146.4 | AP111: 205486.69 | AQ111: 186806.08 | AR111: =ROUND(AVERAGE(AP111:AQ111),1) -> 196146.4 | AS111: 205486.69 | AT111: 186806.08 | AU111: =ROUND(AVERAGE(AS111:AT111),1) -> 196146.4 | AV111: 218887.84 | AW111: 198988.94 | AX111: =ROUND(AVERAGE(AV111:AW111),1) -> 208938.4 | AY111: 205486.69 | AZ111: 186806.08 | BA111: =ROUND(AVERAGE(AY111:AZ111),1) -> 196146.4 | BB111: 147373.77 | BC111: 133976.15 | BD111: =ROUND(AVERAGE(BB111:BC111),1) -> 140675 | BE111: 145982.82 | BF111: 132711.66 | BG111: =ROUND(AVERAGE(BE111:BF111),1) -> 139347.2 | BH111: 145982.82 | BI111: 132711.66 | BJ111: =ROUND(AVERAGE(BH111:BI111),1) -> 139347.2 | BK111: 145982.82 | BL111: 132711.66 | BM111: =ROUND(AVERAGE(BK111:BL111),1) -> 139347.2 | BN111: 145982.82 | BO111: 132711.66 | BP111: =ROUND(AVERAGE(BN111:BO111),1) -> 139347.2 | BQ111: 173680.74 | BR111: 157891.58 | BS111: =ROUND(AVERAGE(BQ111:BR111),1) -> 165786.2 | BT111: 180360.43 | BU111: 163964.03 | BV111: =ROUND(AVERAGE(BT111:BU111),1) -> 172162.2 | BW111: 164031.97 | BX111: 149119.97 | BY111: =ROUND(AVERAGE(BW111:BX111),1) -> 156576 | BZ111: 173680.74 | CA111: 157891.58 | CB111: =ROUND(AVERAGE(BZ111:CA111),1) -> 165786.2 | CC111: 182364.77 | CD111: 165786.16 | CE111: =ROUND(AVERAGE(CC111:CD111),1) -> 174075.5 | CF111: 194522.43 | CG111: 176838.57 | CH111: =ROUND(AVERAGE(CF111:CG111),1) -> 185680.5
A112: 5.4 | B112: PUNTA DE EJE LADO RUEDA | C112: 527403.61 | D112: 479457.82 | E112: =ROUND(AVERAGE(C112:D112),1) -> 503430.7 | F112: 538166.94 | G112: 489242.68 | H112: =ROUND(AVERAGE(F112:G112),1) -> 513704.8 | I112: 2032980.4 | J112: 1848164 | K112: =ROUND(AVERAGE(I112:J112),1) -> 1940572.2 | L112: 1139718.3 | M112: 1036107.5 | N112: =ROUND(AVERAGE(L112:M112),1) -> 1087912.9 | O112: 1085445.6 | P112: 986768.71 | Q112: =ROUND(AVERAGE(O112:P112),1) -> 1036107.1 | R112: 2907594.4 | S112: 2643267.6 | T112: =ROUND(AVERAGE(R112:S112),1) -> 2775431 | U112: 2235358.4 | V112: 2032144 | W112: =ROUND(AVERAGE(U112:V112),1) -> 2133751.2 | X112: 2152567 | Y112: 1956879.1 | Z112: =ROUND(AVERAGE(X112:Y112),1) -> 2054723 | AA112: 3460037.9 | AB112: 3145489 | AC112: =ROUND(AVERAGE(AA112:AB112),1) -> 3302763.5 | AD112: 1310676.2 | AE112: 1191523.8 | AF112: =ROUND(AVERAGE(AD112:AE112),1) -> 1251100 | AG112: 1085445.6 | AH112: 986768.71 | AI112: =ROUND(AVERAGE(AG112:AH112),1) -> 1036107.1 | AJ112: 1085445.6 | AK112: 986768.71 | AL112: =ROUND(AVERAGE(AJ112:AK112),1) -> 1036107.1 | AM112: 2546761.2 | AN112: 2315237.5 | AO112: =ROUND(AVERAGE(AM112:AN112),1) -> 2430999.3 | AP112: 2546761.2 | AQ112: 2315237.5 | AR112: =ROUND(AVERAGE(AP112:AQ112),1) -> 2430999.3 | AS112: 2546761.2 | AT112: 2315237.5 | AU112: =ROUND(AVERAGE(AS112:AT112),1) -> 2430999.3 | AV112: 1267258.9 | AW112: 1152053.5 | AX112: =ROUND(AVERAGE(AV112:AW112),1) -> 1209656.2 | AY112: 2546761.2 | AZ112: 2315237.5 | BA112: =ROUND(AVERAGE(AY112:AZ112),1) -> 2430999.3 | BB112: 2117342.7 | BC112: 1924857 | BD112: =ROUND(AVERAGE(BB112:BC112),1) -> 2021099.9 | BE112: 2097368.4 | BF112: 1906698.6 | BG112: =ROUND(AVERAGE(BE112:BF112),1) -> 2002033.5 | BH112: 2097368.4 | BI112: 1906698.6 | BJ112: =ROUND(AVERAGE(BH112:BI112),1) -> 2002033.5 | BK112: 2097368.4 | BL112: 1906698.6 | BM112: =ROUND(AVERAGE(BK112:BL112),1) -> 2002033.5 | BN112: 845176.66 | BO112: 768342.42 | BP112: =ROUND(AVERAGE(BN112:BO112),1) -> 806759.5 | BQ112: 2152567 | BR112: 1956879.1 | BS112: =ROUND(AVERAGE(BQ112:BR112),1) -> 2054723 | BT112: 2235358.4 | BU112: 2032144 | BV112: =ROUND(AVERAGE(BT112:BU112),1) -> 2133751.2 | BW112: 2032980.4 | BX112: 1848164 | BY112: =ROUND(AVERAGE(BW112:BX112),1) -> 1940572.2 | BZ112: 2152567 | CA112: 1956879.1 | CB112: =ROUND(AVERAGE(BZ112:CA112),1) -> 2054723 | CC112: 2260195.3 | CD112: 2054723 | CE112: =ROUND(AVERAGE(CC112:CD112),1) -> 2157459.2 | CF112: 2410875 | CG112: 2191704.6 | CH112: =ROUND(AVERAGE(CF112:CG112),1) -> 2301289.8
