Workbook

Sheet REPUESTOS
B2: PRECIOS TECHO LOTE 2 | C2: REPUESTOS VEHICULOS MULTIMARCAS MANTENIMIENTO VEHICULOS - LOTE 2 | R2: REPUESTOS VEHICULOS MULTIMARCAS MANTENIMIENTO VEHICULOS | AG2: REPUESTOS VEHICULOS MULTIMARCAS MANTENIMIENTO VEHICULOS | AV2: REPUESTOS VEHICULOS MULTIMARCAS MANTENIMIENTO VEHICULOS | BK2: REPUESTOS VEHICULOS MULTIMARCAS MANTENIMIENTO VEHICULOS | BZ2: REPUESTOS VEHICULOS MULTIMARCAS MANTENIMIENTO VEHICULOS
C3: *** Todos los precios incluyen IVA, Costos Directos e Indirectos y están expresados en pesos colombianos | R3: *** Todos los precios incluyen IVA, Costos Directos e Indirectos | AG3: *** Todos los precios incluyen IVA, Costos Directos e Indirectos | AV3: *** Todos los precios incluyen IVA, Costos Directos e Indirectos | BK3: *** Todos los precios incluyen IVA, Costos Directos e Indirectos | BZ3: *** Todos los precios incluyen IVA, Costos Directos e Indirectos
B4: DESCRIPCION | C4: CHEVROLET AVEO EMOTION MOD. 2011 | F4: CHEVROLET SPARK 1.0 | I4: CHEVROLET COLORADO | L4: CHEVROLET D-MAX 3.5 GASOLINA | O4: CHEVROLET D-MAX 3.0 DIESEL | R4: CHEVROLET NPR MOD. 2008 | U4: DODGE RAM 2500 MOD. 2014 | X4: FORD RANGER XL MOD. 2023 | AA4: CAMIONETA FOTON BJ2037 MOD. 2019 | AD4: HYUNDAI TUCSON IX35 MOD. 2013 | AG4: MAZDA B2.6 MOD. 2009 | AJ4: MAZDA B26C47 MOD. 2008 | AM4: NISSAN D22 2.5 | AP4: NISSAN NP300 2.5 | AS4: NISSAN NAVARA | AV4: NISSAN VERSA MOD. 2015 | AY4: NISSAN X-TRAIL 2.2 DIESEL MOD. 2014 | BB4: RENAULT LOGAN | BE4: RENAULT SCALA | BH4: RENAULT DUSTER 2.0/OROCH | BK4: RENAULT DUSTER 1.6 | BN4: SUZUKI ALTO | BQ4: TOYOTA 4RUNNER MOD. 2019 | BT4: TOYOTA FORTUNER 2.4 DIESEL MOD. 2023 | BW4: TOYOTA HILUX 2.4 DIESEL | BZ4: TOYOTA PRADO TX-L | CC4: TOYOTA PRADO VX 3.4 GASOLINA | CF4: TOYOTA TOCOMA 3.5 GASOLI MOD. 2020
C5: Cotización 1 | D5: Cotización 2 | E5: Precios Techo | F5: Cotización 1 | G5: Cotización 2 | H5: Precios Techo | I5: Cotización 1 | J5: Cotización 2 | K5: Precios Techo | L5: Cotización 1 | M5: Cotización 2 | N5: Precios Techo | O5: Cotización 1 | P5: Cotización 2 | Q5: Precios Techo | R5: Cotización 1 | S5: Cotización 2 | T5: Precios Techo | U5: Cotización 1 | V5: Cotización 2 | W5: Precios Techo | X5: Cotización 1 | Y5: Cotización 2 | Z5: Precios Techo | AA5: Cotización 1 | AB5: Cotización 2 | AC5: Precios Techo | AD5: Cotización 1 | AE5: Cotización 2 | AF5: Precios Techo | AG5: Cotización 1 | AH5: Cotización 2 | AI5: Precios Techo | AJ5: Cotización 1 | AK5: Cotización 2 | AL5: Precios Techo | AM5: Cotización 1 | AN5: Cotización 2 | AO5: Precios Techo | AP5: Cotización 1 | AQ5: Cotización 2 | AR5: Precios Techo | AS5: Cotización 1 | AT5: Cotización 2 | AU5: Precios Techo | AV5: Cotización 1 | AW5: Cotización 2 | AX5: Precios Techo | AY5: Cotización 1 | AZ5: Cotización 2 | BA5: Precios Techo | BB5: Cotización 1 | BC5: Cotización 2 | BD5: Precios Techo | BE5: Cotización 1 | BF5: Cotización 2 | BG5: Precios Techo | BH5: Cotización 1 | BI5: Cotización 2 | BJ5: Precios Techo | BK5: Cotización 1 | BL5: Cotización 2 | BM5: Precios Techo | BN5: Cotización 1 | BO5: Cotización 2 | BP5: Precios Techo | BQ5: Cotización 1 | BR5: Cotización 2 | BS5: Precios Techo | BT5: Cotización 1 | BU5: Cotización 2 | BV5: Precios Techo | BW5: Cotización 1 | BX5: Cotización 2 | BY5: Precios Techo | BZ5: Cotización 1 | CA5: Cotización 2 | CB5: Precios Techo | CC5: Cotización 1 | CD5: Cotización 2 | CE5: Precios Techo | CF5: Cotización 1 | CG5: Cotización 2 | CH5: Precios Techo
A6: 1 | B6: FRENOS | C6: 0 | D6: 0 | E6: 0 | F6: 0 | G6: 0 | H6: 0 | I6: 0 | J6: 0 | K6: 0 | L6: 0 | M6: 0 | N6: 0 | O6: 0 | P6: 0 | Q6: 0 | R6: 0 | S6: 0 | T6: 0 | U6: 0 | V6: 0 | W6: 0 | X6: 0 | Y6: 0 | Z6: 0 | AA6: 0 | AB6: 0 | AC6: 0 | AD6: 0 | AE6: 0 | AF6: 0 | AG6: 0 | AH6: 0 | AI6: 0 | AJ6: 0 | AK6: 0 | AL6: 0 | AM6: 0 | AN6: 0 | AO6: 0 | AP6: 0 | AQ6: 0 | AR6: 0 | AS6: 0 | AT6: 0 | AU6: 0 | AV6: 0 | AW6: 0 | AX6: 0 | AY6: 0 | AZ6: 0 | BA6: 0 | BB6: 0 | BC6: 0 | BD6: 0 | BE6: 0 | BF6: 0 | BG6: 0 | BH6: 0 | BI6: 0 | BJ6: 0 | BK6: 0 | BL6: 0 | BM6: 0 | BN6: 0 | BO6: 0 | BP6: 0 | BQ6: 0 | BR6: 0 | BS6: 0 | BT6: 0 | BU6: 0 | BV6: 0 | BW6: 0 | BX6: 0 | BY6: 0 | BZ6: 0 | CA6: 0 | CB6: 0 | CC6: 0 | CD6: 0 | CE6: 0 | CF6: 0 | CG6: 0 | CH6: 0
A7: 1.1 | B7: ANTIRRUIDOS PASTILLAS (JUEGO) | C7: 70686 | D7: 64260 | E7: =ROUND(AVERAGE(C7:D7),1) -> 67473 | F7: 62832 | G7: 57120 | H7: =ROUND(AVERAGE(F7:G7),1) -> 59976 | I7: 70686 | J7: 64260 | K7: =ROUND(AVERAGE(I7:J7),1) -> 67473 | L7: 58905 | M7: 53550 | N7: =ROUND(AVERAGE(L7:M7),1) -> 56227.5 | O7: 58905 | P7: 53550 | Q7: =ROUND(AVERAGE(O7:P7),1) -> 56227.5 | R7: 56287 | S7: 51170 | T7: =ROUND(AVERAGE(R7:S7),1) -> 53728.5 | U7: 27489 | V7: 24990 | W7: =ROUND(AVERAGE(U7:V7),1) -> 26239.5 | X7: 62832 | Y7: 57120 | Z7: =ROUND(AVERAGE(X7:Y7),1) -> 59976 | AA7: 71864.1 | AB7: 65331 | AC7: =ROUND(AVERAGE(AA7:AB7),1) -> 68597.6 | AD7: 58905 | AE7: 53550 | AF7: =ROUND(AVERAGE(AD7:AE7),1) -> 56227.5 | AG7: 61523 | AH7: 55930 | AI7: =ROUND(AVERAGE(AG7:AH7),1) -> 58726.5 | AJ7: 60214 | AK7: 54740 | AL7: =ROUND(AVERAGE(AJ7:AK7),1) -> 57477 | AM7: 64141 | AN7: 58310 | AO7: =ROUND(AVERAGE(AM7:AN7),1) -> 61225.5 | AP7: 73304 | AQ7: 66640 | AR7: =ROUND(AVERAGE(AP7:AQ7),1) -> 69972 | AS7: 61523 | AT7: 55930 | AU7: =ROUND(AVERAGE(AS7:AT7),1) -> 58726.5 | AV7: 78540 | AW7: 71400 | AX7: =ROUND(AVERAGE(AV7:AW7),1) -> 74970 | AY7: 64141 | AZ7: 58310 | BA7: =ROUND(AVERAGE(AY7:AZ7),1) -> 61225.5 | BB7: 60214 | BC7: 54740 | BD7: =ROUND(AVERAGE(BB7:BC7),1) -> 57477 | BE7: 65450 | BF7: 59500 | BG7: =ROUND(AVERAGE(BE7:BF7),1) -> 62475 | BH7: 64141 | BI7: 58310 | BJ7: =ROUND(AVERAGE(BH7:BI7),1) -> 61225.5 | BK7: 69377 | BL7: 63070 | BM7: =ROUND(AVERAGE(BK7:BL7),1) -> 66223.5 | BN7: 60214 | BO7: 54740 | BP7: =ROUND(AVERAGE(BN7:BO7),1) -> 57477 | BQ7: 70686 | BR7: 64260 | BS7: =ROUND(AVERAGE(BQ7:BR7),1) -> 67473 | BT7: 75922 | BU7: 69020 | BV7: =ROUND(AVERAGE(BT7:BU7),1) -> 72471 | BW7: 73958.5 | BX7: 67235 | BY7: =ROUND(AVERAGE(BW7:BX7),1) -> 70596.8 | BZ7: 62832 | CA7: 57120 | CB7: =ROUND(AVERAGE(BZ7:CA7),1) -> 59976 | CC7: 75922 | CD7: 69020 | CE7: =ROUND(AVERAGE(CC7:CD7),1) -> 72471 | CF7: 75922 | CG7: 69020 | CH7: =ROUND(AVERAGE(CF7:CG7),1) -> 72471
A8: 1.2 | B8: BANDAS DE FRENO ( JUEGO) | C8: 281558.59 | D8: 255962.36 | E8: =ROUND(AVERAGE(C8:D8),1) -> 268760.5 | F8: 287304.69 | G8: 261186.08 | H8: =ROUND(AVERAGE(F8:G8),1) -> 274245.4 | I8: 689932.4 | J8: 627211.28 | K8: =ROUND(AVERAGE(I8:J8),1) -> 658571.8 | L8: 672751.52 | M8: 611592.29 | N8: =ROUND(AVERAGE(L8:M8),1) -> 642171.9 | O8: 640716.62 | P8: 582469.66 | Q8: =ROUND(AVERAGE(O8:P8),1) -> 611593.1 | R8: 640277.45 | S8: 582070.41 | T8: =ROUND(AVERAGE(R8:S8),1) -> 611173.9 | U8: 758612.75 | V8: 689647.96 | W8: =ROUND(AVERAGE(U8:V8),1) -> 724130.4 | X8: 730515.99 | Y8: 664105.44 | Z8: =ROUND(AVERAGE(X8:Y8),1) -> 697310.7 | AA8: 730183.37 | AB8: 663803.06 | AC8: =ROUND(AVERAGE(AA8:AB8),1) -> 696993.2 | AD8: 773664.03 | AE8: 703330.94 | AF8: =ROUND(AVERAGE(AD8:AE8),1) -> 738497.5 | AG8: 614019.44 | AH8: 558199.49 | AI8: =ROUND(AVERAGE(AG8:AH8),1) -> 586109.5 | AJ8: 614019.44 | AK8: 558199.49 | AL8: =ROUND(AVERAGE(AJ8:AK8),1) -> 586109.5 | AM8: 864294.22 | AN8: 785722.01 | AO8: =ROUND(AVERAGE(AM8:AN8),1) -> 825008.1 | AP8: 864294.22 | AQ8: 785722.01 | AR8: =ROUND(AVERAGE(AP8:AQ8),1) -> 825008.1 | AS8: 864294.22 | AT8: 785722.01 | AU8: =ROUND(AVERAGE(AS8:AT8),1) -> 825008.1 | AV8: 543246.91 | AW8: 493860.83 | AX8: =ROUND(AVERAGE(AV8:AW8),1) -> 518553.9 | AY8: 864294.22 | AZ8: 785722.01 | BA8: =ROUND(AVERAGE(AY8:AZ8),1) -> 825008.1 | BB8: 579654.78 | BC8: 526958.89 | BD8: =ROUND(AVERAGE(BB8:BC8),1) -> 553306.8 | BE8: 574186.04 | BF8: 521987.31 | BG8: =ROUND(AVERAGE(BE8:BF8),1) -> 548086.7 | BH8: 633299.7 | BI8: 575727 | BJ8: =ROUND(AVERAGE(BH8:BI8),1) -> 604513.3 | BK8: 633299.7 | BL8: 575727 | BM8: =ROUND(AVERAGE(BK8:BL8),1) -> 604513.3 | BN8: 419516.3 | BO8: 381378.46 | BP8: =ROUND(AVERAGE(BN8:BO8),1) -> 400447.4 | BQ8: 730515.99 | BR8: 664105.44 | BS8: =ROUND(AVERAGE(BQ8:BR8),1) -> 697310.7 | BT8: 758612.75 | BU8: 689647.96 | BV8: =ROUND(AVERAGE(BT8:BU8),1) -> 724130.4 | BW8: 689932.4 | BX8: 627211.28 | BY8: =ROUND(AVERAGE(BW8:BX8),1) -> 658571.8 | BZ8: 730515.99 | CA8: 664105.44 | CB8: =ROUND(AVERAGE(BZ8:CA8),1) -> 697310.7 | CC8: 767041.79 | CD8: 697310.71 | CE8: =ROUND(AVERAGE(CC8:CD8),1) -> 732176.2 | CF8: 818177.9 | CG8: 743798.1 | CH8: =ROUND(AVERAGE(CF8:CG8),1) -> 780988
A9: 1.3 | B9: BANDAS DE FRENO EMERGENCIA | C9: 170170 | D9: 154700 | E9: =ROUND(AVERAGE(C9:D9),1) -> 162435 | F9: 143990 | G9: 130900 | H9: =ROUND(AVERAGE(F9:G9),1) -> 137445 | I9: 266905.1 | J9: 242641 | K9: =ROUND(AVERAGE(I9:J9),1) -> 254773.1 | L9: 189805 | M9: 172550 | N9: =ROUND(AVERAGE(L9:M9),1) -> 181177.5 | O9: 167552 | P9: 152320 | Q9: =ROUND(AVERAGE(O9:P9),1) -> 159936 | R9: 137445 | S9: 124950 | T9: =ROUND(AVERAGE(R9:S9),1) -> 131197.5 | U9: 78540 | V9: 71400 | W9: =ROUND(AVERAGE(U9:V9),1) -> 74970 | X9: 147917 | Y9: 134470 | Z9: =ROUND(AVERAGE(X9:Y9),1) -> 141193.5 | AA9: 265727 | AB9: 241570 | AC9: =ROUND(AVERAGE(AA9:AB9),1) -> 253648.5 | AD9: 20944 | AE9: 19040 | AF9: =ROUND(AVERAGE(AD9:AE9),1) -> 19992 | AG9: 146608 | AH9: 133280 | AI9: =ROUND(AVERAGE(AG9:AH9),1) -> 139944 | AJ9: 141372 | AK9: 128520 | AL9: =ROUND(AVERAGE(AJ9:AK9),1) -> 134946 | AM9: 150535 | AN9: 136850 | AO9: =ROUND(AVERAGE(AM9:AN9),1) -> 143692.5 | AP9: 269654 | AQ9: 245140 | AR9: =ROUND(AVERAGE(AP9:AQ9),1) -> 257397 | AS9: 143990 | AT9: 130900 | AU9: =ROUND(AVERAGE(AS9:AT9),1) -> 137445 | AV9: 274890 | AW9: 249900 | AX9: =ROUND(AVERAGE(AV9:AW9),1) -> 262395 | AY9: 153153 | AZ9: 139230 | BA9: =ROUND(AVERAGE(AY9:AZ9),1) -> 146191.5 | BB9: 137445 | BC9: 124950 | BD9: =ROUND(AVERAGE(BB9:BC9),1) -> 131197.5 | BE9: 163625 | BF9: 148750 | BG9: =ROUND(AVERAGE(BE9:BF9),1) -> 156187.5 | BH9: 154462 | BI9: 140420 | BJ9: =ROUND(AVERAGE(BH9:BI9),1) -> 147441 | BK9: 215985 | BL9: 196350 | BM9: =ROUND(AVERAGE(BK9:BL9),1) -> 206167.5 | BN9: 129591 | BO9: 117810 | BP9: =ROUND(AVERAGE(BN9:BO9),1) -> 123700.5 | BQ9: 266905.1 | BR9: 242641 | BS9: =ROUND(AVERAGE(BQ9:BR9),1) -> 254773.1 | BT9: 274890 | BU9: 249900 | BV9: =ROUND(AVERAGE(BT9:BU9),1) -> 262395 | BW9: 265727 | BX9: 241570 | BY9: =ROUND(AVERAGE(BW9:BX9),1) -> 253648.5 | BZ9: 147917 | CA9: 134470 | CB9: =ROUND(AVERAGE(BZ9:CA9),1) -> 141193.5 | CC9: 278817 | CD9: 253470 | CE9: =ROUND(AVERAGE(CC9:CD9),1) -> 266143.5 | CF9: 268345 | CG9: 243950 | CH9: =ROUND(AVERAGE(CF9:CG9),1) -> 256147.5
A10: 1.4 | B10: BOHOSTER FRENOS | C10: 602140 | D10: 547400 | E10: =ROUND(AVERAGE(C10:D10),1) -> 574770 | F10: 477785 | G10: 434350 | H10: =ROUND(AVERAGE(F10:G10),1) -> 456067.5 | I10: 981750 | J10: 892500 | K10: =ROUND(AVERAGE(I10:J10),1) -> 937125 | L10: 628320 | M10: 571200 | N10: =ROUND(AVERAGE(L10:M10),1) -> 599760 | O10: 615230 | P10: 559300 | Q10: =ROUND(AVERAGE(O10:P10),1) -> 587265 | R10: 466004 | S10: 423640 | T10: =ROUND(AVERAGE(R10:S10),1) -> 444822 | U10: 274890 | V10: 249900 | W10: =ROUND(AVERAGE(U10:V10),1) -> 262395 | X10: 484330 | Y10: 440300 | Z10: =ROUND(AVERAGE(X10:Y10),1) -> 462315 | AA10: 988295 | AB10: 898450 | AC10: =ROUND(AVERAGE(AA10:AB10),1) -> 943372.5 | AD10: 629629 | AE10: 572390 | AF10: =ROUND(AVERAGE(AD10:AE10),1) -> 601009.5 | AG10: 481712 | AH10: 437920 | AI10: =ROUND(AVERAGE(AG10:AH10),1) -> 459816 | AJ10: 471240 | AK10: 428400 | AL10: =ROUND(AVERAGE(AJ10:AK10),1) -> 449820 | AM10: 488257 | AN10: 443870 | AO10: =ROUND(AVERAGE(AM10:AN10),1) -> 466063.5 | AP10: 988295 | AQ10: 898450 | AR10: =ROUND(AVERAGE(AP10:AQ10),1) -> 943372.5 | AS10: 479094 | AT10: 435540 | AU10: =ROUND(AVERAGE(AS10:AT10),1) -> 457317 | AV10: 994840 | AW10: 904400 | AX10: =ROUND(AVERAGE(AV10:AW10),1) -> 949620 | AY10: 491398.6 | AZ10: 446726 | BA10: =ROUND(AVERAGE(AY10:AZ10),1) -> 469062.3 | BB10: 464695 | BC10: 422450 | BD10: =ROUND(AVERAGE(BB10:BC10),1) -> 443572.5 | BE10: 596904 | BF10: 542640 | BG10: =ROUND(AVERAGE(BE10:BF10),1) -> 569772 | BH10: 549780 | BI10: 499800 | BJ10: =ROUND(AVERAGE(BH10:BI10),1) -> 524790 | BK10: 824670 | BL10: 749700 | BM10: =ROUND(AVERAGE(BK10:BL10),1) -> 787185 | BN10: 458150 | BO10: 416500 | BP10: =ROUND(AVERAGE(BN10:BO10),1) -> 437325 | BQ10: 981750 | BR10: 892500 | BS10: =ROUND(AVERAGE(BQ10:BR10),1) -> 937125 | BT10: 1001385 | BU10: 910350 | BV10: =ROUND(AVERAGE(BT10:BU10),1) -> 955867.5 | BW10: 985677 | BX10: 896070 | BY10: =ROUND(AVERAGE(BW10:BX10),1) -> 940873.5 | BZ10: 484330 | CA10: 440300 | CB10: =ROUND(AVERAGE(BZ10:CA10),1) -> 462315 | CC10: 988295 | CD10: 898450 | CE10: =ROUND(AVERAGE(CC10:CD10),1) -> 943372.5 | CF10: 1007930 | CG10: 916300 | CH10: =ROUND(AVERAGE(CF10:CG10),1) -> 962115
A11: 1.5 | B11: BOMBA DE FRENOS | C11: 647835.52 | D11: 588941.38 | E11: =ROUND(AVERAGE(C11:D11),1) -> 618388.4 | F11: 661056.65 | G11: 600960.59 | H11: =ROUND(AVERAGE(F11:G11),1) -> 631008.6 | I11: 1825447.6 | J11: 1659497.8 | K11: =ROUND(AVERAGE(I11:J11),1) -> 1742472.7 | L11: 1362633.5 | M11: 1238757.8 | N11: =ROUND(AVERAGE(L11:M11),1) -> 1300695.6 | O11: 1297745.9 | P11: 1179769 | Q11: =ROUND(AVERAGE(O11:P11),1) -> 1238757.4 | R11: 1999756.2 | S11: 1817960.1 | T11: =ROUND(AVERAGE(R11:S11),1) -> 1908858.2 | U11: 2007167.3 | V11: 1824697.6 | W11: =ROUND(AVERAGE(U11:V11),1) -> 1915932.4 | X11: 1932826.7 | Y11: 1757115.2 | Z11: =ROUND(AVERAGE(X11:Y11),1) -> 1844971 | AA11: 2379709.8 | AB11: 2163372.5 | AC11: =ROUND(AVERAGE(AA11:AB11),1) -> 2271541.1 | AD11: 1567028.8 | AE11: 1424571.6 | AF11: =ROUND(AVERAGE(AD11:AE11),1) -> 1495800.2 | AG11: 1297745.9 | AH11: 1179769 | AI11: =ROUND(AVERAGE(AG11:AH11),1) -> 1238757.4 | AJ11: 1297745.9 | AK11: 1179769 | AL11: =ROUND(AVERAGE(AJ11:AK11),1) -> 1238757.4 | AM11: 2286781.5 | AN11: 2078892.3 | AO11: =ROUND(AVERAGE(AM11:AN11),1) -> 2182836.9 | AP11: 2286781.5 | AQ11: 2078892.3 | AR11: =ROUND(AVERAGE(AP11:AQ11),1) -> 2182836.9 | AS11: 2286781.5 | AT11: 2078892.3 | AU11: =ROUND(AVERAGE(AS11:AT11),1) -> 2182836.9 | AV11: 1583676.9 | AW11: 1439706.3 | AX11: =ROUND(AVERAGE(AV11:AW11),1) -> 1511691.6 | AY11: 2286781.5 | AZ11: 2078892.3 | BA11: =ROUND(AVERAGE(AY11:AZ11),1) -> 2182836.9 | BB11: 922314.99 | BC11: 838468.17 | BD11: =ROUND(AVERAGE(BB11:BC11),1) -> 880391.6 | BE11: 873991.94 | BF11: 794538.13 | BG11: =ROUND(AVERAGE(BE11:BF11),1) -> 834265 | BH11: 1016585.2 | BI11: 924168.4 | BJ11: =ROUND(AVERAGE(BH11:BI11),1) -> 970376.8 | BK11: 1016585.2 | BL11: 924168.4 | BM11: =ROUND(AVERAGE(BK11:BL11),1) -> 970376.8 | BN11: 872933.62 | BO11: 793576.01 | BP11: =ROUND(AVERAGE(BN11:BO11),1) -> 833254.8 | BQ11: 1932826.7 | BR11: 1757115.2 | BS11: =ROUND(AVERAGE(BQ11:BR11),1) -> 1844971 | BT11: 2007167.3 | BU11: 1824697.6 | BV11: =ROUND(AVERAGE(BT11:BU11),1) -> 1915932.4 | BW11: 1825447.6 | BX11: 1659497.8 | BY11: =ROUND(AVERAGE(BW11:BX11),1) -> 1742472.7 | BZ11: 1932826.7 | CA11: 1757115.2 | CB11: =ROUND(AVERAGE(BZ11:CA11),1) -> 1844971 | CC11: 2029468.1 | CD11: 1844971 | CE11: =ROUND(AVERAGE(CC11:CD11),1) -> 1937219.5 | CF11: 2164765.9 | CG11: 1967969 | CH11: =ROUND(AVERAGE(CF11:CG11),1) -> 2066367.5
A12: 1.6 | B12: CAMPANA FRENO | C12: 411125.98 | D12: 373750.89 | E12: =ROUND(AVERAGE(C12:D12),1) -> 392438.4 | F12: 419516.3 | G12: 381378.46 | H12: =ROUND(AVERAGE(F12:G12),1) -> 400447.4 | I12: 822776.14 | J12: 747978.31 | K12: =ROUND(AVERAGE(I12:J12),1) -> 785377.2 | L12: 768859.08 | M12: 698962.8 | N12: =ROUND(AVERAGE(L12:M12),1) -> 733910.9 | O12: 732246.75 | P12: 665678.86 | Q12: =ROUND(AVERAGE(O12:P12),1) -> 698962.8 | R12: 1055266.7 | S12: 959333.38 | T12: =ROUND(AVERAGE(R12:S12),1) -> 1007300 | U12: 904680.53 | V12: 822436.85 | W12: =ROUND(AVERAGE(U12:V12),1) -> 863558.7 | X12: 871174.06 | Y12: 791976.42 | Z12: =ROUND(AVERAGE(X12:Y12),1) -> 831575.2 | AA12: 1255767 | AB12: 1141606.4 | AC12: =ROUND(AVERAGE(AA12:AB12),1) -> 1198686.7 | AD12: 884187.87 | AE12: 803807.16 | AF12: =ROUND(AVERAGE(AD12:AE12),1) -> 843997.5 | AG12: 732246.75 | AH12: 665678.86 | AI12: =ROUND(AVERAGE(AG12:AH12),1) -> 698962.8 | AJ12: 732246.75 | AK12: 665678.86 | AL12: =ROUND(AVERAGE(AJ12:AK12),1) -> 698962.8 | AM12: 1030710.7 | AN12: 937009.69 | AO12: =ROUND(AVERAGE(AM12:AN12),1) -> 983860.2 | AP12: 1030710.7 | AQ12: 937009.69 | AR12: =ROUND(AVERAGE(AP12:AQ12),1) -> 983860.2 | AS12: 1030710.7 | AT12: 937009.69 | AU12: =ROUND(AVERAGE(AS12:AT12),1) -> 983860.2 | AV12: 865701 | AW12: 787000.91 | AX12: =ROUND(AVERAGE(AV12:AW12),1) -> 826351 | AY12: 1030710.7 | AZ12: 937009.69 | BA12: =ROUND(AVERAGE(AY12:AZ12),1) -> 983860.2 | BB12: 643823.93 | BC12: 585294.48 | BD12: =ROUND(AVERAGE(BB12:BC12),1) -> 614559.2 | BE12: 667835.7 | BF12: 607123.36 | BG12: =ROUND(AVERAGE(BE12:BF12),1) -> 637479.5 | BH12: 680548.58 | BI12: 618680.52 | BJ12: =ROUND(AVERAGE(BH12:BI12),1) -> 649614.6 | BK12: 680548.58 | BL12: 618680.52 | BM12: =ROUND(AVERAGE(BK12:BL12),1) -> 649614.6 | BN12: 577365.34 | BO12: 524877.58 | BP12: =ROUND(AVERAGE(BN12:BO12),1) -> 551121.5 | BQ12: 871174.06 | BR12: 791976.42 | BS12: =ROUND(AVERAGE(BQ12:BR12),1) -> 831575.2 | BT12: 904680.53 | BU12: 822436.85 | BV12: =ROUND(AVERAGE(BT12:BU12),1) -> 863558.7 | BW12: 822776.14 | BX12: 747978.31 | BY12: =ROUND(AVERAGE(BW12:BX12),1) -> 785377.2 | BZ12: 871174.06 | CA12: 791976.42 | CB12: =ROUND(AVERAGE(BZ12:CA12),1) -> 831575.2 | CC12: 914732.76 | CD12: 831575.24 | CE12: =ROUND(AVERAGE(CC12:CD12),1) -> 873154 | CF12: 975714.94 | CG12: 887013.59 | CH12: =ROUND(AVERAGE(CF12:CG12),1) -> 931364.3
A13: 1.7 | B13: CILINDRO FRENO TRASERO | C13: 272008.25 | D13: 247280.23 | E13: =ROUND(AVERAGE(C13:D13),1) -> 259644.2 | F13: 277559.44 | G13: 252326.77 | H13: =ROUND(AVERAGE(F13:G13),1) -> 264943.1 | I13: 424243.5 | J13: 385675.91 | K13: =ROUND(AVERAGE(I13:J13),1) -> 404959.7 | L13: 396443.35 | M13: 360403.04 | N13: =ROUND(AVERAGE(L13:M13),1) -> 378423.2 | O13: 377564.82 | P13: 343240.74 | Q13: =ROUND(AVERAGE(O13:P13),1) -> 360402.8 | R13: 366512.15 | S13: 333192.86 | T13: =ROUND(AVERAGE(R13:S13),1) -> 349852.5 | U13: 466475.76 | V13: 424068.88 | W13: =ROUND(AVERAGE(U13:V13),1) -> 445272.3 | X13: 449199.84 | Y13: 408363.49 | Z13: =ROUND(AVERAGE(X13:Y13),1) -> 428781.7 | AA13: 436150.03 | AB13: 396500.03 | AC13: =ROUND(AVERAGE(AA13:AB13),1) -> 416325 | AD13: 455909.78 | AE13: 414463.43 | AF13: =ROUND(AVERAGE(AD13:AE13),1) -> 435186.6 | AG13: 377564.82 | AH13: 343240.74 | AI13: =ROUND(AVERAGE(AG13:AH13),1) -> 360402.8 | AJ13: 377564.82 | AK13: 343240.74 | AL13: =ROUND(AVERAGE(AJ13:AK13),1) -> 360402.8 | AM13: 531459.89 | AN13: 483145.35 | AO13: =ROUND(AVERAGE(AM13:AN13),1) -> 507302.6 | AP13: 531459.89 | AQ13: 483145.35 | AR13: =ROUND(AVERAGE(AP13:AQ13),1) -> 507302.6 | AS13: 531459.89 | AT13: 483145.35 | AU13: =ROUND(AVERAGE(AS13:AT13),1) -> 507302.6 | AV13: 419349.28 | AW13: 381226.61 | AX13: =ROUND(AVERAGE(AV13:AW13),1) -> 400287.9 | AY13: 531459.89 | AZ13: 483145.35 | BA13: =ROUND(AVERAGE(AY13:AZ13),1) -> 507302.6 | BB13: 464151.77 | BC13: 421956.15 | BD13: =ROUND(AVERAGE(BB13:BC13),1) -> 443054 | BE13: 333070.47 | BF13: 302791.34 | BG13: =ROUND(AVERAGE(BE13:BF13),1) -> 317930.9 | BH13: 519310.01 | BI13: 472100.01 | BJ13: =ROUND(AVERAGE(BH13:BI13),1) -> 495705 | BK13: 519310.01 | BL13: 472100.01 | BM13: =ROUND(AVERAGE(BK13:BL13),1) -> 495705 | BN13: 299805.9 | BO13: 272550.82 | BP13: =ROUND(AVERAGE(BN13:BO13),1) -> 286178.4 | BQ13: 449199.84 | BR13: 408363.49 | BS13: =ROUND(AVERAGE(BQ13:BR13),1) -> 428781.7 | BT13: 466475.76 | BU13: 424068.88 | BV13: =ROUND(AVERAGE(BT13:BU13),1) -> 445272.3 | BW13: 424243.5 | BX13: 385675.91 | BY13: =ROUND(AVERAGE(BW13:BX13),1) -> 404959.7 | BZ13: 449199.84 | CA13: 408363.49 | CB13: =ROUND(AVERAGE(BZ13:CA13),1) -> 428781.7 | CC13: 471659.84 | CD13: 428781.67 | CE13: =ROUND(AVERAGE(CC13:CD13),1) -> 450220.8 | CF13: 503103.82 | CG13: 457367.11 | CH13: =ROUND(AVERAGE(CF13:CG13),1) -> 480235.5
A14: 1.8 | B14: DISCO FRENO DELANTERO | C14: 392023.89 | D14: 356385.36 | E14: =ROUND(AVERAGE(C14:D14),1) -> 374204.6 | F14: 400024.38 | G14: 363658.53 | H14: =ROUND(AVERAGE(F14:G14),1) -> 381841.5 | I14: 750402.45 | J14: 682184.04 | K14: =ROUND(AVERAGE(I14:J14),1) -> 716293.2 | L14: 701228.42 | M14: 637480.38 | N14: =ROUND(AVERAGE(L14:M14),1) -> 669354.4 | O14: 667835.7 | P14: 607123.36 | Q14: =ROUND(AVERAGE(O14:P14),1) -> 637479.5 | R14: NO COTIZADO | S14: NO COTIZADO | T14: NO COTIZADO | U14: 825103.02 | V14: 750093.65 | W14: =ROUND(AVERAGE(U14:V14),1) -> 787598.3 | X14: 794544.02 | Y14: 722312.74 | Z14: =ROUND(AVERAGE(X14:Y14),1) -> 758428.4 | AA14: 746838.69 | AB14: 678944.27 | AC14: =ROUND(AVERAGE(AA14:AB14),1) -> 712891.5 | AD14: 806411.68 | AE14: 733101.52 | AF14: =ROUND(AVERAGE(AD14:AE14),1) -> 769756.6 | AG14: 667835.7 | AH14: 607123.36 | AI14: =ROUND(AVERAGE(AG14:AH14),1) -> 637479.5 | AJ14: 667835.7 | AK14: 607123.36 | AL14: =ROUND(AVERAGE(AJ14:AK14),1) -> 637479.5 | AM14: 940045.91 | AN14: 854587.2 | AO14: =ROUND(AVERAGE(AM14:AN14),1) -> 897316.6 | AP14: 940045.91 | AQ14: 854587.2 | AR14: =ROUND(AVERAGE(AP14:AQ14),1) -> 897316.6 | AS14: 940045.91 | AT14: 854587.2 | AU14: =ROUND(AVERAGE(AS14:AT14),1) -> 897316.6 | AV14: 641730.31 | AW14: 583391.19 | AX14: =ROUND(AVERAGE(AV14:AW14),1) -> 612560.8 | AY14: 940045.91 | AZ14: 854587.2 | BA14: =ROUND(AVERAGE(AY14:AZ14),1) -> 897316.6 | BB14: 678046.03 | BC14: 616405.48 | BD14: =ROUND(AVERAGE(BB14:BC14),1) -> 647225.8 | BE14: 661056.65 | BF14: 600960.59 | BG14: =ROUND(AVERAGE(BE14:BF14),1) -> 631008.6 | BH14: 682243.34 | BI14: 620221.22 | BJ14: =ROUND(AVERAGE(BH14:BI14),1) -> 651232.3 | BK14: 682243.34 | BL14: 620221.22 | BM14: =ROUND(AVERAGE(BK14:BL14),1) -> 651232.3 | BN14: 491554.5 | BO14: 446867.73 | BP14: =ROUND(AVERAGE(BN14:BO14),1) -> 469211.1 | BQ14: 794544.02 | BR14: 722312.74 | BS14: =ROUND(AVERAGE(BQ14:BR14),1) -> 758428.4 | BT14: 825103.02 | BU14: 750093.65 | BV14: =ROUND(AVERAGE(BT14:BU14),1) -> 787598.3 | BW14: 750402.45 | BX14: 682184.04 | BY14: =ROUND(AVERAGE(BW14:BX14),1) -> 716293.2 | BZ14: 794544.02 | CA14: 722312.74 | CB14: =ROUND(AVERAGE(BZ14:CA14),1) -> 758428.4 | CC14: 834271.22 | CD14: 758428.38 | CE14: =ROUND(AVERAGE(CC14:CD14),1) -> 796349.8 | CF14: 889889.3 | CG14: 808990.27 | CH14: =ROUND(AVERAGE(CF14:CG14),1) -> 849439.8
A15: 1.9 | B15: DISCO FRENO TRASERO | C15: 392023.89 | D15: 356385.36 | E15: =ROUND(AVERAGE(C15:D15),1) -> 374204.6 | F15: 400024.38 | G15: 363658.53 | H15: =ROUND(AVERAGE(F15:G15),1) -> 381841.5 | I15: 750402.45 | J15: 682184.04 | K15: =ROUND(AVERAGE(I15:J15),1) -> 716293.2 | L15: 701228.42 | M15: 637480.38 | N15: =ROUND(AVERAGE(L15:M15),1) -> 669354.4 | O15: 667835.7 | P15: 607123.36 | Q15: =ROUND(AVERAGE(O15:P15),1) -> 637479.5 | R15: NO COTIZADO | S15: NO COTIZADO | T15: NO COTIZADO | U15: 825103.02 | V15: 750093.65 | W15: =ROUND(AVERAGE(U15:V15),1) -> 787598.3 | X15: 794544.02 | Y15: 722312.74 | Z15: =ROUND(AVERAGE(X15:Y15),1) -> 758428.4 | AA15: 774205.43 | AB15: 703823.12 | AC15: =ROUND(AVERAGE(AA15:AB15),1) -> 739014.3 | AD15: 806411.68 | AE15: 733101.52 | AF15: =ROUND(AVERAGE(AD15:AE15),1) -> 769756.6 | AG15: 667835.7 | AH15: 607123.36 | AI15: =ROUND(AVERAGE(AG15:AH15),1) -> 637479.5 | AJ15: 667835.7 | AK15: 607123.36 | AL15: =ROUND(AVERAGE(AJ15:AK15),1) -> 637479.5 | AM15: 940045.91 | AN15: 854587.2 | AO15: =ROUND(AVERAGE(AM15:AN15),1) -> 897316.6 | AP15: 940045.91 | AQ15: 854587.2 | AR15: =ROUND(AVERAGE(AP15:AQ15),1) -> 897316.6 | AS15: 940045.91 | AT15: 854587.2 | AU15: =ROUND(AVERAGE(AS15:AT15),1) -> 897316.6 | AV15: 641730.31 | AW15: 583391.19 | AX15: =ROUND(AVERAGE(AV15:AW15),1) -> 612560.8 | AY15: 940045.91 | AZ15: 854587.2 | BA15: =ROUND(AVERAGE(AY15:AZ15),1) -> 897316.6 | BB15: 678046.03 | BC15: 616405.48 | BD15: =ROUND(AVERAGE(BB15:BC15),1) -> 647225.8 | BE15: 661056.65 | BF15: 600960.59 | BG15: =ROUND(AVERAGE(BE15:BF15),1) -> 631008.6 | BH15: 682243.34 | BI15: 620221.22 | BJ15: =ROUND(AVERAGE(BH15:BI15),1) -> 651232.3 | BK15: 682243.34 | BL15: 620221.22 | BM15: =ROUND(AVERAGE(BK15:BL15),1) -> 651232.3 | BN15: 491554.5 | BO15: 446867.73 | BP15: =ROUND(AVERAGE(BN15:BO15),1) -> 469211.1 | BQ15: 794544.02 | BR15: 722312.74 | BS15: =ROUND(AVERAGE(BQ15:BR15),1) -> 758428.4 | BT15: 825103.02 | BU15: 750093.65 | BV15: =ROUND(AVERAGE(BT15:BU15),1) -> 787598.3 | BW15: 750402.45 | BX15: 682184.04 | BY15: =ROUND(AVERAGE(BW15:BX15),1) -> 716293.2 | BZ15: 794544.02 | CA15: 722312.74 | CB15: =ROUND(AVERAGE(BZ15:CA15),1) -> 758428.4 | CC15: 834271.22 | CD15: 758428.38 | CE15: =ROUND(AVERAGE(CC15:CD15),1) -> 796349.8 | CF15: 889889.3 | CG15: 808990.27 | CH15: =ROUND(AVERAGE(CF15:CG15),1) -> 849439.8
A16: 1.10 | B16: GUAYA FRENO PRINCIPAL | C16: 150535 | D16: 136850 | E16: =ROUND(AVERAGE(C16:D16),1) -> 143692.5 | F16: 143990 | G16: 130900 | H16: =ROUND(AVERAGE(F16:G16),1) -> 137445 | I16: 209440 | J16: 190400 | K16: =ROUND(AVERAGE(I16:J16),1) -> 199920 | L16: 176715 | M16: 160650 | N16: =ROUND(AVERAGE(L16:M16),1) -> 168682.5 | O16: 154462 | P16: 140420 | Q16: =ROUND(AVERAGE(O16:P16),1) -> 147441 | R16: 137445 | S16: 124950 | T16: =ROUND(AVERAGE(R16:S16),1) -> 131197.5 | U16: 91630 | V16: 83300 | W16: =ROUND(AVERAGE(U16:V16),1) -> 87465 | X16: 150535 | Y16: 136850 | Z16: =ROUND(AVERAGE(X16:Y16),1) -> 143692.5 | AA16: 213367 | AB16: 193970 | AC16: =ROUND(AVERAGE(AA16:AB16),1) -> 203668.5 | AD16: 175406 | AE16: 159460 | AF16: =ROUND(AVERAGE(AD16:AE16),1) -> 167433 | AG16: 147917 | AH16: 134470 | AI16: =ROUND(AVERAGE(AG16:AH16),1) -> 141193.5 | AJ16: 142681 | AK16: 129710 | AL16: =ROUND(AVERAGE(AJ16:AK16),1) -> 136195.5 | AM16: 154462 | AN16: 140420 | AO16: =ROUND(AVERAGE(AM16:AN16),1) -> 147441 | AP16: 213367 | AQ16: 193970 | AR16: =ROUND(AVERAGE(AP16:AQ16),1) -> 203668.5 | AS16: 149226 | AT16: 135660 | AU16: =ROUND(AVERAGE(AS16:AT16),1) -> 142443 | AV16: 218603 | AW16: 198730 | AX16: =ROUND(AVERAGE(AV16:AW16),1) -> 208666.5 | AY16: 155771 | AZ16: 141610 | BA16: =ROUND(AVERAGE(AY16:AZ16),1) -> 148690.5 | BB16: 150535 | BC16: 136850 | BD16: =ROUND(AVERAGE(BB16:BC16),1) -> 143692.5 | BE16: 147917 | BF16: 134470 | BG16: =ROUND(AVERAGE(BE16:BF16),1) -> 141193.5 | BH16: 154462 | BI16: 140420 | BJ16: =ROUND(AVERAGE(BH16:BI16),1) -> 147441 | BK16: 198968 | BL16: 180880 | BM16: =ROUND(AVERAGE(BK16:BL16),1) -> 189924 | BN16: 143990 | BO16: 130900 | BP16: =ROUND(AVERAGE(BN16:BO16),1) -> 137445 | BQ16: 209440 | BR16: 190400 | BS16: =ROUND(AVERAGE(BQ16:BR16),1) -> 199920 | BT16: 226457 | BU16: 205870 | BV16: =ROUND(AVERAGE(BT16:BU16),1) -> 216163.5 | BW16: 215985 | BX16: 196350 | BY16: =ROUND(AVERAGE(BW16:BX16),1) -> 206167.5 | BZ16: 154462 | CA16: 140420 | CB16: =ROUND(AVERAGE(BZ16:CA16),1) -> 147441 | CC16: 215985 | CD16: 196350 | CE16: =ROUND(AVERAGE(CC16:CD16),1) -> 206167.5 | CF16: 219912 | CG16: 199920 | CH16: =ROUND(AVERAGE(CF16:CG16),1) -> 209916
A17: 1.11 | B17: GUAYA FRENO TRASERA LH - RH | C17: 154331.1 | D17: 140301 | E17: =ROUND(AVERAGE(C17:D17),1) -> 147316.1 | F17: 124355 | G17: 113050 | H17: =ROUND(AVERAGE(F17:G17),1) -> 118702.5 | I17: 327250 | J17: 297500 | K17: =ROUND(AVERAGE(I17:J17),1) -> 312375 | L17: 185878 | M17: 168980 | N17: =ROUND(AVERAGE(L17:M17),1) -> 177429 | O17: 155771 | P17: 141610 | Q17: =ROUND(AVERAGE(O17:P17),1) -> 148690.5 | R17: 121737 | S17: 110670 | T17: =ROUND(AVERAGE(R17:S17),1) -> 116203.5 | U17: 62832 | V17: 57120 | W17: =ROUND(AVERAGE(U17:V17),1) -> 59976 | X17: 128282 | Y17: 116620 | Z17: =ROUND(AVERAGE(X17:Y17),1) -> 122451 | AA17: 329868 | AB17: 299880 | AC17: =ROUND(AVERAGE(AA17:AB17),1) -> 314874 | AD17: 185878 | AE17: 168980 | AF17: =ROUND(AVERAGE(AD17:AE17),1) -> 177429 | AG17: 127627.5 | AH17: 116025 | AI17: =ROUND(AVERAGE(AG17:AH17),1) -> 121826.3 | AJ17: 121737 | AK17: 110670 | AL17: =ROUND(AVERAGE(AJ17:AK17),1) -> 116203.5 | AM17: 129591 | AN17: 117810 | AO17: =ROUND(AVERAGE(AM17:AN17),1) -> 123700.5 | AP17: 329868 | AQ17: 299880 | AR17: =ROUND(AVERAGE(AP17:AQ17),1) -> 314874 | AS17: 128282 | AT17: 116620 | AU17: =ROUND(AVERAGE(AS17:AT17),1) -> 122451 | AV17: 333795 | AW17: 303450 | AX17: =ROUND(AVERAGE(AV17:AW17),1) -> 318622.5 | AY17: 133518 | AZ17: 121380 | BA17: =ROUND(AVERAGE(AY17:AZ17),1) -> 127449 | BB17: 126973 | BC17: 115430 | BD17: =ROUND(AVERAGE(BB17:BC17),1) -> 121201.5 | BE17: 143990 | BF17: 130900 | BG17: =ROUND(AVERAGE(BE17:BF17),1) -> 137445 | BH17: 129591 | BI17: 117810 | BJ17: =ROUND(AVERAGE(BH17:BI17),1) -> 123700.5 | BK17: 324632 | BL17: 295120 | BM17: =ROUND(AVERAGE(BK17:BL17),1) -> 309876 | BN17: 124355 | BO17: 113050 | BP17: =ROUND(AVERAGE(BN17:BO17),1) -> 118702.5 | BQ17: 327250 | BR17: 297500 | BS17: =ROUND(AVERAGE(BQ17:BR17),1) -> 312375 | BT17: 340340 | BU17: 309400 | BV17: =ROUND(AVERAGE(BT17:BU17),1) -> 324870 | BW17: 333795 | BX17: 303450 | BY17: =ROUND(AVERAGE(BW17:BX17),1) -> 318622.5 | BZ17: 137445 | CA17: 124950 | CB17: =ROUND(AVERAGE(BZ17:CA17),1) -> 131197.5 | CC17: 324632 | CD17: 295120 | CE17: =ROUND(AVERAGE(CC17:CD17),1) -> 309876 | CF17: 346885 | CG17: 315350 | CH17: =ROUND(AVERAGE(CF17:CG17),1) -> 331117.5
A18: 1.12 | B18: LIMITADOR DE LIQUIDO DE FRENOS | C18: 1123406.5 | D18: 1021278.7 | E18: =ROUND(AVERAGE(C18:D18),1) -> 1072342.6 | F18: 1146333.2 | G18: 1042121.1 | H18: =ROUND(AVERAGE(F18:G18),1) -> 1094227.1 | I18: 1851260.7 | J18: 1682964.3 | K18: =ROUND(AVERAGE(I18:J18),1) -> 1767112.5 | L18: 1495088.5 | M18: 1359171.4 | N18: =ROUND(AVERAGE(L18:M18),1) -> 1427129.9 | O18: 1495088.5 | P18: 1359171.4 | Q18: =ROUND(AVERAGE(O18:P18),1) -> 1427129.9 | R18: 1647021 | S18: 1497291.8 | T18: =ROUND(AVERAGE(R18:S18),1) -> 1572156.4 | U18: 2721216.6 | V18: 2473833.3 | W18: =ROUND(AVERAGE(U18:V18),1) -> 2597524.9 | X18: 2620430.8 | Y18: 2382209.8 | Z18: =ROUND(AVERAGE(X18:Y18),1) -> 2501320.3 | AA18: 1818559.1 | AB18: 1653235.6 | AC18: =ROUND(AVERAGE(AA18:AB18),1) -> 1735897.4 | AD18: 1850717.9 | AE18: 1682470.8 | AF18: =ROUND(AVERAGE(AD18:AE18),1) -> 1766594.3 | AG18: 1495088.5 | AH18: 1359171.4 | AI18: =ROUND(AVERAGE(AG18:AH18),1) -> 1427129.9 | AJ18: 1495088.5 | AK18: 1359171.4 | AL18: =ROUND(AVERAGE(AJ18:AK18),1) -> 1427129.9 | AM18: 2476962.1 | AN18: 2251783.7 | AO18: =ROUND(AVERAGE(AM18:AN18),1) -> 2364372.9 | AP18: 2476962.1 | AQ18: 2251783.7 | AR18: =ROUND(AVERAGE(AP18:AQ18),1) -> 2364372.9 | AS18: 2476962.1 | AT18: 2251783.7 | AU18: =ROUND(AVERAGE(AS18:AT18),1) -> 2364372.9 | AV18: 1832186.4 | AW18: 1665624 | AX18: =ROUND(AVERAGE(AV18:AW18),1) -> 1748905.2 | AY18: 2476962.1 | AZ18: 2251783.7 | BA18: =ROUND(AVERAGE(AY18:AZ18),1) -> 2364372.9 | BB18: 1680377.7 | BC18: 1527616.1 | BD18: =ROUND(AVERAGE(BB18:BC18),1) -> 1603996.9 | BE18: 1832186.4 | BF18: 1665624 | BG18: =ROUND(AVERAGE(BE18:BF18),1) -> 1748905.2 | BH18: 1704412.5 | BI18: 1549465.9 | BJ18: =ROUND(AVERAGE(BH18:BI18),1) -> 1626939.2 | BK18: 1704412.5 | BL18: 1549465.9 | BM18: =ROUND(AVERAGE(BK18:BL18),1) -> 1626939.2 | BN18: 1704412.5 | BO18: 1549465.9 | BP18: =ROUND(AVERAGE(BN18:BO18),1) -> 1626939.2 | BQ18: 2620430.8 | BR18: 2382209.8 | BS18: =ROUND(AVERAGE(BQ18:BR18),1) -> 2501320.3 | BT18: 2572228.7 | BU18: 2338389.7 | BV18: =ROUND(AVERAGE(BT18:BU18),1) -> 2455309.2 | BW18: 1851260.7 | BX18: 1682964.3 | BY18: =ROUND(AVERAGE(BW18:BX18),1) -> 1767112.5 | BZ18: 2476962.1 | CA18: 2251783.7 | CB18: =ROUND(AVERAGE(BZ18:CA18),1) -> 2364372.9 | CC18: 2600810.2 | CD18: 2364372.9 | CE18: =ROUND(AVERAGE(CC18:CD18),1) -> 2482591.5 | CF18: 2774197.5 | CG18: 2521997.7 | CH18: =ROUND(AVERAGE(CF18:CG18),1) -> 2648097.6
A19: 1.13 | B19: MORDAZAS DE FRENO DELANTERA | C19: 186912.11 | D19: 169920.1 | E19: =ROUND(AVERAGE(C19:D19),1) -> 178416.1 | F19: 150535 | G19: 136850 | H19: =ROUND(AVERAGE(F19:G19),1) -> 143692.5 | I19: 916300 | J19: 833000 | K19: =ROUND(AVERAGE(I19:J19),1) -> 874650 | L19: 202895 | M19: 184450 | N19: =ROUND(AVERAGE(L19:M19),1) -> 193672.5 | O19: 193732 | P19: 176120 | Q19: =ROUND(AVERAGE(O19:P19),1) -> 184926 | R19: 143990 | S19: 130900 | T19: =ROUND(AVERAGE(R19:S19),1) -> 137445 | U19: 85085 | V19: 77350 | W19: =ROUND(AVERAGE(U19:V19),1) -> 81217.5 | X19: 151844 | Y19: 138040 | Z19: =ROUND(AVERAGE(X19:Y19),1) -> 144942 | AA19: 916300 | AB19: 833000 | AC19: =ROUND(AVERAGE(AA19:AB19),1) -> 874650 | AD19: 204204 | AE19: 185640 | AF19: =ROUND(AVERAGE(AD19:AE19),1) -> 194922 | AG19: 147917 | AH19: 134470 | AI19: =ROUND(AVERAGE(AG19:AH19),1) -> 141193.5 | AJ19: 147917 | AK19: 134470 | AL19: =ROUND(AVERAGE(AJ19:AK19),1) -> 141193.5 | AM19: 154462 | AN19: 140420 | AO19: =ROUND(AVERAGE(AM19:AN19),1) -> 147441 | AP19: 942480 | AQ19: 856800 | AR19: =ROUND(AVERAGE(AP19:AQ19),1) -> 899640 | AS19: 150535 | AT19: 136850 | AU19: =ROUND(AVERAGE(AS19:AT19),1) -> 143692.5 | AV19: 962115 | AW19: 874650 | AX19: =ROUND(AVERAGE(AV19:AW19),1) -> 918382.5 | AY19: 158389 | AZ19: 143990 | BA19: =ROUND(AVERAGE(AY19:AZ19),1) -> 151189.5 | BB19: 154462 | BC19: 140420 | BD19: =ROUND(AVERAGE(BB19:BC19),1) -> 147441 | BE19: 176715 | BF19: 160650 | BG19: =ROUND(AVERAGE(BE19:BF19),1) -> 168682.5 | BH19: 154462 | BI19: 140420 | BJ19: =ROUND(AVERAGE(BH19:BI19),1) -> 147441 | BK19: 850850 | BL19: 773500 | BM19: =ROUND(AVERAGE(BK19:BL19),1) -> 812175 | BN19: 150535 | BO19: 136850 | BP19: =ROUND(AVERAGE(BN19:BO19),1) -> 143692.5 | BQ19: 916300 | BR19: 833000 | BS19: =ROUND(AVERAGE(BQ19:BR19),1) -> 874650 | BT19: 962115 | BU19: 874650 | BV19: =ROUND(AVERAGE(BT19:BU19),1) -> 918382.5 | BW19: 946407 | BX19: 860370 | BY19: =ROUND(AVERAGE(BW19:BX19),1) -> 903388.5 | BZ19: 147917 | CA19: 134470 | CB19: =ROUND(AVERAGE(BZ19:CA19),1) -> 141193.5 | CC19: 952952 | CD19: 866320 | CE19: =ROUND(AVERAGE(CC19:CD19),1) -> 909636 | CF19: 979132 | CG19: 890120 | CH19: =ROUND(AVERAGE(CF19:CG19),1) -> 934626
A20: 1.14 | B20: MORDAZAS DE FRENO TRASERA | C20: 163625 | D20: 148750 | E20: =ROUND(AVERAGE(C20:D20),1) -> 156187.5 | F20: 233002 | G20: 211820 | H20: =ROUND(AVERAGE(F20:G20),1) -> 222411 | I20: 916300 | J20: 833000 | K20: =ROUND(AVERAGE(I20:J20),1) -> 874650 | L20: 174097 | M20: 158270 | N20: =ROUND(AVERAGE(L20:M20),1) -> 166183.5 | O20: 170170 | P20: 154700 | Q20: =ROUND(AVERAGE(O20:P20),1) -> 162435 | R20: 226457 | S20: 205870 | T20: =ROUND(AVERAGE(R20:S20),1) -> 216163.5 | U20: 143990 | V20: 130900 | W20: =ROUND(AVERAGE(U20:V20),1) -> 137445 | X20: 235620 | Y20: 214200 | Z20: =ROUND(AVERAGE(X20:Y20),1) -> 224910 | AA20: 916300 | AB20: 833000 | AC20: =ROUND(AVERAGE(AA20:AB20),1) -> 874650 | AD20: 176715 | AE20: 160650 | AF20: =ROUND(AVERAGE(AD20:AE20),1) -> 168682.5 | AG20: 233002 | AH20: 211820 | AI20: =ROUND(AVERAGE(AG20:AH20),1) -> 222411 | AJ20: 233002 | AK20: 211820 | AL20: =ROUND(AVERAGE(AJ20:AK20),1) -> 222411 | AM20: 239547 | AN20: 217770 | AO20: =ROUND(AVERAGE(AM20:AN20),1) -> 228658.5 | AP20: 942480 | AQ20: 856800 | AR20: =ROUND(AVERAGE(AP20:AQ20),1) -> 899640 | AS20: 230384 | AT20: 209440 | AU20: =ROUND(AVERAGE(AS20:AT20),1) -> 219912 | AV20: 962115 | AW20: 874650 | AX20: =ROUND(AVERAGE(AV20:AW20),1) -> 918382.5 | AY20: 244783 | AZ20: 222530 | BA20: =ROUND(AVERAGE(AY20:AZ20),1) -> 233656.5 | BB20: 242165 | BC20: 220150 | BD20: =ROUND(AVERAGE(BB20:BC20),1) -> 231157.5 | BE20: 150535 | BF20: 136850 | BG20: =ROUND(AVERAGE(BE20:BF20),1) -> 143692.5 | BH20: 239547 | BI20: 217770 | BJ20: =ROUND(AVERAGE(BH20:BI20),1) -> 228658.5 | BK20: 824670 | BL20: 749700 | BM20: =ROUND(AVERAGE(BK20:BL20),1) -> 787185 | BN20: 233002 | BO20: 211820 | BP20: =ROUND(AVERAGE(BN20:BO20),1) -> 222411 | BQ20: 916300 | BR20: 833000 | BS20: =ROUND(AVERAGE(BQ20:BR20),1) -> 874650 | BT20: 955570 | BU20: 868700 | BV20: =ROUND(AVERAGE(BT20:BU20),1) -> 912135 | BW20: 939862 | BX20: 854420 | BY20: =ROUND(AVERAGE(BW20:BX20),1) -> 897141 | BZ20: 242165 | CA20: 220150 | CB20: =ROUND(AVERAGE(BZ20:CA20),1) -> 231157.5 | CC20: 972587 | CD20: 884170 | CE20: =ROUND(AVERAGE(CC20:CD20),1) -> 928378.5 | CF20: 939862 | CG20: 854420 | CH20: =ROUND(AVERAGE(CF20:CG20),1) -> 897141
A21: 1.15 | B21: PASTILLAS DELANTERAS (JUEGO) | C21: 232556.67 | D21: 211415.15 | E21: =ROUND(AVERAGE(C21:D21),1) -> 221985.9 | F21: 237302.72 | G21: 215729.74 | H21: =ROUND(AVERAGE(F21:G21),1) -> 226516.2 | I21: 626493.29 | J21: 569539.35 | K21: =ROUND(AVERAGE(I21:J21),1) -> 598016.3 | L21: 382649.11 | M21: 347862.82 | N21: =ROUND(AVERAGE(L21:M21),1) -> 365256 | O21: 364428.61 | P21: 331298.74 | Q21: =ROUND(AVERAGE(O21:P21),1) -> 347863.7 | R21: NO COTIZADO | S21: NO COTIZADO | T21: NO COTIZADO | U21: 688858.24 | V21: 626234.76 | W21: =ROUND(AVERAGE(U21:V21),1) -> 657546.5 | X21: 663344.65 | Y21: 603040.59 | Z21: =ROUND(AVERAGE(X21:Y21),1) -> 633192.6 | AA21: 647854.21 | AB21: 588958.37 | AC21: =ROUND(AVERAGE(AA21:AB21),1) -> 618406.3 | AD21: 440047.84 | AE21: 400043.49 | AF21: =ROUND(AVERAGE(AD21:AE21),1) -> 420045.7 | AG21: 364428.61 | AH21: 331298.74 | AI21: =ROUND(AVERAGE(AG21:AH21),1) -> 347863.7 | AJ21: 364428.61 | AK21: 331298.74 | AL21: =ROUND(AVERAGE(AJ21:AK21),1) -> 347863.7 | AM21: 784821.81 | AN21: 713474.38 | AO21: =ROUND(AVERAGE(AM21:AN21),1) -> 749148.1 | AP21: 784821.81 | AQ21: 713474.38 | AR21: =ROUND(AVERAGE(AP21:AQ21),1) -> 749148.1 | AS21: 784821.81 | AT21: 713474.38 | AU21: =ROUND(AVERAGE(AS21:AT21),1) -> 749148.1 | AV21: 501312.7 | AW21: 455738.82 | AX21: =ROUND(AVERAGE(AV21:AW21),1) -> 478525.8 | AY21: 784821.81 | AZ21: 713474.38 | BA21: =ROUND(AVERAGE(AY21:AZ21),1) -> 749148.1 | BB21: 457735.57 | BC21: 416123.25 | BD21: =ROUND(AVERAGE(BB21:BC21),1) -> 436929.4 | BE21: 447060.15 | BF21: 406418.32 | BG21: =ROUND(AVERAGE(BE21:BF21),1) -> 426739.2 | BH21: 470366.37 | BI21: 427605.79 | BJ21: =ROUND(AVERAGE(BH21:BI21),1) -> 448986.1 | BK21: 470366.37 | BL21: 427605.79 | BM21: =ROUND(AVERAGE(BK21:BL21),1) -> 448986.1 | BN21: 341122.39 | BO21: 310111.26 | BP21: =ROUND(AVERAGE(BN21:BO21),1) -> 325616.8 | BQ21: 663344.65 | BR21: 603040.59 | BS21: =ROUND(AVERAGE(BQ21:BR21),1) -> 633192.6 | BT21: 688858.24 | BU21: 626234.76 | BV21: =ROUND(AVERAGE(BT21:BU21),1) -> 657546.5 | BW21: 626493.29 | BX21: 569539.35 | BY21: =ROUND(AVERAGE(BW21:BX21),1) -> 598016.3 | BZ21: 663344.65 | CA21: 603040.59 | CB21: =ROUND(AVERAGE(BZ21:CA21),1) -> 633192.6 | CC21: 696511.88 | CD21: 633192.62 | CE21: =ROUND(AVERAGE(CC21:CD21),1) -> 664852.3 | CF21: 742946.01 | CG21: 675405.46 | CH21: =ROUND(AVERAGE(CF21:CG21),1) -> 709175.7
A22: 1.16 | B22: PASTILLAS TRASERAS ( JUEGO) | C22: 232556.67 | D22: 211415.15 | E22: =ROUND(AVERAGE(C22:D22),1) -> 221985.9 | F22: 237302.72 | G22: 215729.74 | H22: =ROUND(AVERAGE(F22:G22),1) -> 226516.2 | I22: 705428.61 | J22: 641298.73 | K22: =ROUND(AVERAGE(I22:J22),1) -> 673363.7 | L22: 382649.11 | M22: 347862.82 | N22: =ROUND(AVERAGE(L22:M22),1) -> 365256 | O22: 364428.61 | P22: 331298.74 | Q22: =ROUND(AVERAGE(O22:P22),1) -> 347863.7 | R22: NO COTIZADO | S22: NO COTIZADO | T22: NO COTIZADO | U22: 775651.09 | V22: 705137.36 | W22: =ROUND(AVERAGE(U22:V22),1) -> 740394.2 | X22: 746923.65 | Y22: 679021.5 | Z22: =ROUND(AVERAGE(X22:Y22),1) -> 712972.6 | AA22: 582900.32 | AB22: 529909.38 | AC22: =ROUND(AVERAGE(AA22:AB22),1) -> 556404.8 | AD22: 440047.84 | AE22: 400043.49 | AF22: =ROUND(AVERAGE(AD22:AE22),1) -> 420045.7 | AG22: 364428.61 | AH22: 331298.74 | AI22: =ROUND(AVERAGE(AG22:AH22),1) -> 347863.7 | AJ22: 364428.61 | AK22: 331298.74 | AL22: =ROUND(AVERAGE(AJ22:AK22),1) -> 347863.7 | AM22: 883705.51 | AN22: 803368.64 | AO22: =ROUND(AVERAGE(AM22:AN22),1) -> 843537.1 | AP22: 883705.51 | AQ22: 803368.64 | AR22: =ROUND(AVERAGE(AP22:AQ22),1) -> 843537.1 | AS22: 883705.51 | AT22: 803368.64 | AU22: =ROUND(AVERAGE(AS22:AT22),1) -> 843537.1 | AV22: 553699.15 | AW22: 503362.86 | AX22: =ROUND(AVERAGE(AV22:AW22),1) -> 528531 | AY22: 883705.51 | AZ22: 803368.64 | BA22: =ROUND(AVERAGE(AY22:AZ22),1) -> 843537.1 | BB22: 457735.57 | BC22: 416123.25 | BD22: =ROUND(AVERAGE(BB22:BC22),1) -> 436929.4 | BE22: 447060.15 | BF22: 406418.32 | BG22: =ROUND(AVERAGE(BE22:BF22),1) -> 426739.2 | BH22: 470791.14 | BI22: 427991.95 | BJ22: =ROUND(AVERAGE(BH22:BI22),1) -> 449391.5 | BK22: 470791.14 | BL22: 427991.95 | BM22: =ROUND(AVERAGE(BK22:BL22),1) -> 449391.5 | BN22: 341122.39 | BO22: 310111.26 | BP22: =ROUND(AVERAGE(BN22:BO22),1) -> 325616.8 | BQ22: 746923.65 | BR22: 679021.5 | BS22: =ROUND(AVERAGE(BQ22:BR22),1) -> 712972.6 | BT22: 775651.09 | BU22: 705137.36 | BV22: =ROUND(AVERAGE(BT22:BU22),1) -> 740394.2 | BW22: 705428.61 | BX22: 641298.73 | BY22: =ROUND(AVERAGE(BW22:BX22),1) -> 673363.7 | BZ22: 746923.65 | CA22: 679021.5 | CB22: =ROUND(AVERAGE(BZ22:CA22),1) -> 712972.6 | CC22: 784269.83 | CD22: 712972.57 | CE22: =ROUND(AVERAGE(CC22:CD22),1) -> 748621.2 | CF22: 836554.48 | CG22: 760504.08 | CH22: =ROUND(AVERAGE(CF22:CG22),1) -> 798529.3
A23: 1.17 | B23: SENSOR ABS DELANTERO | C23: 1265520 | D23: 1150472.7 | E23: =ROUND(AVERAGE(C23:D23),1) -> 1207996.4 | F23: 1291347 | G23: 1173951.8 | H23: =ROUND(AVERAGE(F23:G23),1) -> 1232649.4 | I23: 2268968.5 | J23: 2062698.6 | K23: =ROUND(AVERAGE(I23:J23),1) -> 2165833.6 | L23: 1682399.3 | M23: 1529453.9 | N23: =ROUND(AVERAGE(L23:M23),1) -> 1605926.6 | O23: 1682399.3 | P23: 1529453.9 | Q23: =ROUND(AVERAGE(O23:P23),1) -> 1605926.6 | R23: 1852926.7 | S23: 1684478.8 | T23: =ROUND(AVERAGE(R23:S23),1) -> 1768702.7 | U23: 3846462.5 | V23: 3496784.1 | W23: =ROUND(AVERAGE(U23:V23),1) -> 3671623.3 | X23: 3704000.2 | Y23: 3367272.9 | Z23: =ROUND(AVERAGE(X23:Y23),1) -> 3535636.6 | AA23: 2268893.6 | AB23: 2062630.6 | AC23: =ROUND(AVERAGE(AA23:AB23),1) -> 2165762.1 | AD23: 2080021.9 | AE23: 1890929 | AF23: =ROUND(AVERAGE(AD23:AE23),1) -> 1985475.5 | AG23: 1682399.3 | AH23: 1529453.9 | AI23: =ROUND(AVERAGE(AG23:AH23),1) -> 1605926.6 | AJ23: 1682399.3 | AK23: 1529453.9 | AL23: =ROUND(AVERAGE(AJ23:AK23),1) -> 1605926.6 | AM23: 3704000.2 | AN23: 3367272.9 | AO23: =ROUND(AVERAGE(AM23:AN23),1) -> 3535636.6 | AP23: 3704000.2 | AQ23: 3367272.9 | AR23: =ROUND(AVERAGE(AP23:AQ23),1) -> 3535636.6 | AS23: 3704000.2 | AT23: 3367272.9 | AU23: =ROUND(AVERAGE(AS23:AT23),1) -> 3535636.6 | AV23: 1851073.5 | AW23: 1682794.1 | AX23: =ROUND(AVERAGE(AV23:AW23),1) -> 1766933.8 | AY23: 3704000.2 | AZ23: 3367272.9 | BA23: =ROUND(AVERAGE(AY23:AZ23),1) -> 3535636.6 | BB23: 1851073.5 | BC23: 1682794.1 | BD23: =ROUND(AVERAGE(BB23:BC23),1) -> 1766933.8 | BE23: 1851073.5 | BF23: 1682794.1 | BG23: =ROUND(AVERAGE(BE23:BF23),1) -> 1766933.8 | BH23: 1851073.5 | BI23: 1682794.1 | BJ23: =ROUND(AVERAGE(BH23:BI23),1) -> 1766933.8 | BK23: 1851073.5 | BL23: 1682794.1 | BM23: =ROUND(AVERAGE(BK23:BL23),1) -> 1766933.8 | BN23: 1871832.6 | BO23: 1701666 | BP23: =ROUND(AVERAGE(BN23:BO23),1) -> 1786749.3 | BQ23: 3704000.2 | BR23: 3367272.9 | BS23: =ROUND(AVERAGE(BQ23:BR23),1) -> 3535636.6 | BT23: 3846462.5 | BU23: 3496784.1 | BV23: =ROUND(AVERAGE(BT23:BU23),1) -> 3671623.3 | BW23: 2268968.5 | BX23: 2062698.6 | BY23: =ROUND(AVERAGE(BW23:BX23),1) -> 2165833.6 | BZ23: 3704000.2 | CA23: 3367272.9 | CB23: =ROUND(AVERAGE(BZ23:CA23),1) -> 3535636.6 | CC23: 3889200.2 | CD23: 3535636.6 | CE23: =ROUND(AVERAGE(CC23:CD23),1) -> 3712418.4 | CF23: 4148480.2 | CG23: 3771345.7 | CH23: =ROUND(AVERAGE(CF23:CG23),1) -> 3959912.9
A24: 1.18 | B24: SENSOR ABS TRASERO | C24: 1094954.5 | D24: 995413.16 | E24: =ROUND(AVERAGE(C24:D24),1) -> 1045183.8 | F24: 1117300.5 | G24: 1015727.7 | H24: =ROUND(AVERAGE(F24:G24),1) -> 1066514.1 | I24: 2494266.8 | J24: 2267515.2 | K24: =ROUND(AVERAGE(I24:J24),1) -> 2380891 | L24: 1645149.1 | M24: 1495590.1 | N24: =ROUND(AVERAGE(L24:M24),1) -> 1570369.6 | O24: 1645149.1 | P24: 1495590.1 | Q24: =ROUND(AVERAGE(O24:P24),1) -> 1570369.6 | R24: 1864008.1 | S24: 1694552.9 | T24: =ROUND(AVERAGE(R24:S24),1) -> 1779280.5 | U24: 3867902.6 | V24: 3516275.1 | W24: =ROUND(AVERAGE(U24:V24),1) -> 3692088.8 | X24: 3724646.9 | Y24: 3386042.7 | Z24: =ROUND(AVERAGE(X24:Y24),1) -> 3555344.8 | AA24: 2267021.8 | AB24: 2060928.9 | AC24: =ROUND(AVERAGE(AA24:AB24),1) -> 2163975.3 | AD24: 2080021.9 | AE24: 1890929 | AF24: =ROUND(AVERAGE(AD24:AE24),1) -> 1985475.5 | AG24: 1645149.1 | AH24: 1495590.1 | AI24: =ROUND(AVERAGE(AG24:AH24),1) -> 1570369.6 | AJ24: 1645149.1 | AK24: 1495590.1 | AL24: =ROUND(AVERAGE(AJ24:AK24),1) -> 1570369.6 | AM24: 3724646.9 | AN24: 3386042.7 | AO24: =ROUND(AVERAGE(AM24:AN24),1) -> 3555344.8 | AP24: 3724646.9 | AQ24: 3386042.7 | AR24: =ROUND(AVERAGE(AP24:AQ24),1) -> 3555344.8 | AS24: 3724646.9 | AT24: 3386042.7 | AU24: =ROUND(AVERAGE(AS24:AT24),1) -> 3555344.8 | AV24: 1852945.4 | AW24: 1684495.8 | AX24: =ROUND(AVERAGE(AV24:AW24),1) -> 1768720.6 | AY24: 3724646.9 | AZ24: 3386042.7 | BA24: =ROUND(AVERAGE(AY24:AZ24),1) -> 3555344.8 | BB24: 1852945.4 | BC24: 1684495.8 | BD24: =ROUND(AVERAGE(BB24:BC24),1) -> 1768720.6 | BE24: 1852945.4 | BF24: 1684495.8 | BG24: =ROUND(AVERAGE(BE24:BF24),1) -> 1768720.6 | BH24: 1852945.4 | BI24: 1684495.8 | BJ24: =ROUND(AVERAGE(BH24:BI24),1) -> 1768720.6 | BK24: 1852945.4 | BL24: 1684495.8 | BM24: =ROUND(AVERAGE(BK24:BL24),1) -> 1768720.6 | BN24: 1852945.4 | BO24: 1684495.8 | BP24: =ROUND(AVERAGE(BN24:BO24),1) -> 1768720.6 | BQ24: 3724646.9 | BR24: 3386042.7 | BS24: =ROUND(AVERAGE(BQ24:BR24),1) -> 3555344.8 | BT24: 3867902.6 | BU24: 3516275.1 | BV24: =ROUND(AVERAGE(BT24:BU24),1) -> 3692088.8 | BW24: 2494266.8 | BX24: 2267515.2 | BY24: =ROUND(AVERAGE(BW24:BX24),1) -> 2380891 | BZ24: 3724646.9 | CA24: 3386042.7 | CB24: =ROUND(AVERAGE(BZ24:CA24),1) -> 3555344.8 | CC24: 3910879.3 | CD24: 3555344.8 | CE24: =ROUND(AVERAGE(CC24:CD24),1) -> 3733112 | CF24: 4171604.6 | CG24: 3792367.8 | CH24: =ROUND(AVERAGE(CF24:CG24),1) -> 3981986.2
A25: 1.19 | B25: SENSOR DE STOP | C25: 274083.99 | D25: 249167.26 | E25: =ROUND(AVERAGE(C25:D25),1) -> 261625.6 | F25: 279677.54 | G25: 254252.31 | H25: =ROUND(AVERAGE(F25:G25),1) -> 266964.9 | I25: 645476.93 | J25: 586797.21 | K25: =ROUND(AVERAGE(I25:J25),1) -> 616137.1 | L25: 471637.81 | M25: 428761.64 | N25: =ROUND(AVERAGE(L25:M25),1) -> 450199.7 | O25: 449179.68 | P25: 408345.17 | Q25: =ROUND(AVERAGE(O25:P25),1) -> 428762.4 | R25: 352510.56 | S25: 320464.14 | T25: =ROUND(AVERAGE(R25:S25),1) -> 336487.4 | U25: 709732.47 | V25: 645211.34 | W25: =ROUND(AVERAGE(U25:V25),1) -> 677471.9 | X25: 683447.1 | Y25: 621315.54 | Z25: =ROUND(AVERAGE(X25:Y25),1) -> 652381.3 | AA25: 419487.51 | AB25: 381352.28 | AC25: =ROUND(AVERAGE(AA25:AB25),1) -> 400419.9 | AD25: 542384.41 | AE25: 493076.74 | AF25: =ROUND(AVERAGE(AD25:AE25),1) -> 517730.6 | AG25: 449179.68 | AH25: 408345.17 | AI25: =ROUND(AVERAGE(AG25:AH25),1) -> 428762.4 | AJ25: 449179.68 | AK25: 408345.17 | AL25: =ROUND(AVERAGE(AJ25:AK25),1) -> 428762.4 | AM25: 808604.64 | AN25: 735095.13 | AO25: =ROUND(AVERAGE(AM25:AN25),1) -> 771849.9 | AP25: 808604.64 | AQ25: 735095.13 | AR25: =ROUND(AVERAGE(AP25:AQ25),1) -> 771849.9 | AS25: 808604.64 | AT25: 735095.13 | AU25: =ROUND(AVERAGE(AS25:AT25),1) -> 771849.9 | AV25: 596618.25 | AW25: 542380.22 | AX25: =ROUND(AVERAGE(AV25:AW25),1) -> 569499.2 | AY25: 808604.64 | AZ25: 735095.13 | BA25: =ROUND(AVERAGE(AY25:AZ25),1) -> 771849.9 | BB25: 453457.63 | BC25: 412234.21 | BD25: =ROUND(AVERAGE(BB25:BC25),1) -> 432845.9 | BE25: 449179.68 | BF25: 408345.17 | BG25: =ROUND(AVERAGE(BE25:BF25),1) -> 428762.4 | BH25: 449179.68 | BI25: 408345.17 | BJ25: =ROUND(AVERAGE(BH25:BI25),1) -> 428762.4 | BK25: 449179.68 | BL25: 408345.17 | BM25: =ROUND(AVERAGE(BK25:BL25),1) -> 428762.4 | BN25: 397904.85 | BO25: 361731.68 | BP25: =ROUND(AVERAGE(BN25:BO25),1) -> 379818.3 | BQ25: 683447.1 | BR25: 621315.54 | BS25: =ROUND(AVERAGE(BQ25:BR25),1) -> 652381.3 | BT25: 709732.47 | BU25: 645211.34 | BV25: =ROUND(AVERAGE(BT25:BU25),1) -> 677471.9 | BW25: 645476.93 | BX25: 586797.21 | BY25: =ROUND(AVERAGE(BW25:BX25),1) -> 616137.1 | BZ25: 683447.1 | CA25: 621315.54 | CB25: =ROUND(AVERAGE(BZ25:CA25),1) -> 652381.3 | CC25: 717619.45 | CD25: 652381.32 | CE25: =ROUND(AVERAGE(CC25:CD25),1) -> 685000.4 | CF25: 765460.75 | CG25: 695873.41 | CH25: =ROUND(AVERAGE(CF25:CG25),1) -> 730667.1
A26: 2 | B26: MOTOR | E26: 0 | H26: 0 | K26: 0 | N26: 0 | Q26: 0 | T26: 0 | W26: 0 | Z26: 0 | AC26: 0 | AF26: 0 | AI26: 0 | AL26: 0 | AO26: 0 | AR26: 0 | AU26: 0 | AX26: 0 | BA26: 0 | BD26: 0 | BG26: 0 | BJ26: 0 | BM26: 0 | BP26: 0 | BS26: 0 | BV26: 0 | BY26: 0 | CB26: 0 | CE26: 0 | CH26: 0
A27: 2.1 | B27: PISTONES (JUEGO) | C27: 915180.08 | D27: 831981.89 | E27: =ROUND(AVERAGE(C27:D27),1) -> 873581 | F27: 933857.22 | G27: 848961.11 | H27: =ROUND(AVERAGE(F27:G27),1) -> 891409.2 | I27: 4140576.4 | J27: 3764160.4 | K27: =ROUND(AVERAGE(I27:J27),1) -> 3952368.4 | L27: 2805910.1 | M27: 2550827.4 | N27: =ROUND(AVERAGE(L27:M27),1) -> 2678368.7 | O27: 2805910.1 | P27: 2550827.4 | Q27: =ROUND(AVERAGE(O27:P27),1) -> 2678368.7 | R27: 2433206.4 | S27: 2212005.8 | T27: =ROUND(AVERAGE(R27:S27),1) -> 2322606.1 | U27: 5418912.5 | V27: 4926284.1 | W27: =ROUND(AVERAGE(U27:V27),1) -> 5172598.3 | X27: 5218212 | Y27: 4743829.1 | Z27: =ROUND(AVERAGE(X27:Y27),1) -> 4981020.5 | AA27: 2526799.9 | AB27: 2297090.8 | AC27: =ROUND(AVERAGE(AA27:AB27),1) -> 2411945.3 | AD27: 3724796.7 | AE27: 3386178.8 | AF27: =ROUND(AVERAGE(AD27:AE27),1) -> 3555487.7 | AG27: 1850717.9 | AH27: 1682470.8 | AI27: =ROUND(AVERAGE(AG27:AH27),1) -> 1766594.3 | AJ27: 1850717.9 | AK27: 1682470.8 | AL27: =ROUND(AVERAGE(AJ27:AK27),1) -> 1766594.3 | AM27: 3999362.6 | AN27: 3635784.2 | AO27: =ROUND(AVERAGE(AM27:AN27),1) -> 3817573.4 | AP27: 3999362.6 | AQ27: 3635784.2 | AR27: =ROUND(AVERAGE(AP27:AQ27),1) -> 3817573.4 | AS27: 3999362.6 | AT27: 3635784.2 | AU27: =ROUND(AVERAGE(AS27:AT27),1) -> 3817573.4 | AV27: 3096466.1 | AW27: 2814969.2 | AX27: =ROUND(AVERAGE(AV27:AW27),1) -> 2955717.6 | AY27: 3999362.6 | AZ27: 3635784.2 | BA27: =ROUND(AVERAGE(AY27:AZ27),1) -> 3817573.4 | BB27: 1853132.6 | BC27: 1684666 | BD27: =ROUND(AVERAGE(BB27:BC27),1) -> 1768899.3 | BE27: 1869623.8 | BF27: 1699658 | BG27: =ROUND(AVERAGE(BE27:BF27),1) -> 1784640.9 | BH27: 1869436.6 | BI27: 1699487.8 | BJ27: =ROUND(AVERAGE(BH27:BI27),1) -> 1784462.2 | BK27: 1869436.6 | BL27: 1699487.8 | BM27: =ROUND(AVERAGE(BK27:BL27),1) -> 1784462.2 | BN27: 1869436.6 | BO27: 1699487.8 | BP27: =ROUND(AVERAGE(BN27:BO27),1) -> 1784462.2 | BQ27: 5218212 | BR27: 4743829.1 | BS27: =ROUND(AVERAGE(BQ27:BR27),1) -> 4981020.5 | BT27: 5271956.3 | BU27: 4792687.5 | BV27: =ROUND(AVERAGE(BT27:BU27),1) -> 5032321.9 | BW27: 4140576.4 | BX27: 3764160.4 | BY27: =ROUND(AVERAGE(BW27:BX27),1) -> 3952368.4 | BZ27: 5076698.6 | CA27: 4615180.6 | CB27: =ROUND(AVERAGE(BZ27:CA27),1) -> 4845939.6 | CC27: 5330533.6 | CD27: 4845939.6 | CE27: =ROUND(AVERAGE(CC27:CD27),1) -> 5088236.6 | CF27: 5685902.5 | CG27: 5169002.2 | CH27: =ROUND(AVERAGE(CF27:CG27),1) -> 5427452.4
A28: 2.2 | B28: VALVULAS DE ADMISION( JUEGO) | C28: 364850.3 | D28: 331682.09 | E28: =ROUND(AVERAGE(C28:D28),1) -> 348266.2 | F28: 372296.22 | G28: 338451.11 | H28: =ROUND(AVERAGE(F28:G28),1) -> 355373.7 | I28: 956899.94 | J28: 869909.04 | K28: =ROUND(AVERAGE(I28:J28),1) -> 913404.5 | L28: 934025.69 | M28: 849114.27 | N28: =ROUND(AVERAGE(L28:M28),1) -> 891570 | O28: 934025.69 | P28: 849114.27 | Q28: =ROUND(AVERAGE(O28:P28),1) -> 891570 | R28: 881856.68 | S28: 801687.89 | T28: =ROUND(AVERAGE(R28:S28),1) -> 841772.3 | U28: 1110335.7 | V28: 1009396.1 | W28: =ROUND(AVERAGE(U28:V28),1) -> 1059865.9 | X28: 1069212.1 | Y28: 972011.04 | Z28: =ROUND(AVERAGE(X28:Y28),1) -> 1020611.6 | AA28: 933501.57 | AB28: 848637.79 | AC28: =ROUND(AVERAGE(AA28:AB28),1) -> 891069.7 | AD28: 956899.94 | AE28: 869909.04 | AF28: =ROUND(AVERAGE(AD28:AE28),1) -> 913404.5 | AG28: 598786.73 | AH28: 544351.58 | AI28: =ROUND(AVERAGE(AG28:AH28),1) -> 571569.2 | AJ28: 598786.73 | AK28: 544351.58 | AL28: =ROUND(AVERAGE(AJ28:AK28),1) -> 571569.2 | AM28: 956899.94 | AN28: 869909.04 | AO28: =ROUND(AVERAGE(AM28:AN28),1) -> 913404.5 | AP28: 956899.94 | AQ28: 869909.04 | AR28: =ROUND(AVERAGE(AP28:AQ28),1) -> 913404.5 | AS28: 956899.94 | AT28: 869909.04 | AU28: =ROUND(AVERAGE(AS28:AT28),1) -> 913404.5 | AV28: 934025.69 | AW28: 849114.27 | AX28: =ROUND(AVERAGE(AV28:AW28),1) -> 891570 | AY28: 956899.94 | AZ28: 869909.04 | BA28: =ROUND(AVERAGE(AY28:AZ28),1) -> 913404.5 | BB28: 646169.52 | BC28: 587426.84 | BD28: =ROUND(AVERAGE(BB28:BC28),1) -> 616798.2 | BE28: 654817.56 | BF28: 595288.69 | BG28: =ROUND(AVERAGE(BE28:BF28),1) -> 625053.1 | BH28: 649913.26 | BI28: 590830.24 | BJ28: =ROUND(AVERAGE(BH28:BI28),1) -> 620371.8 | BK28: 649913.26 | BL28: 590830.24 | BM28: =ROUND(AVERAGE(BK28:BL28),1) -> 620371.8 | BN28: 595217.22 | BO28: 541106.57 | BP28: =ROUND(AVERAGE(BN28:BO28),1) -> 568161.9 | BQ28: 1069212.1 | BR28: 972011.04 | BS28: =ROUND(AVERAGE(BQ28:BR28),1) -> 1020611.6 | BT28: 1063682.9 | BU28: 966984.48 | BV28: =ROUND(AVERAGE(BT28:BU28),1) -> 1015333.7 | BW28: 956899.94 | BX28: 869909.04 | BY28: =ROUND(AVERAGE(BW28:BX28),1) -> 913404.5 | BZ28: 1024287.3 | CA28: 931170.24 | CB28: =ROUND(AVERAGE(BZ28:CA28),1) -> 977728.8 | CC28: 1075501.6 | CD28: 977728.75 | CE28: =ROUND(AVERAGE(CC28:CD28),1) -> 1026615.2 | CF28: 1147201.7 | CG28: 1042910.7 | CH28: =ROUND(AVERAGE(CF28:CG28),1) -> 1095056.2
A29: 2.3 | B29: VALVULAS DE ESCAPE (JUEGO) | C29: 364813.61 | D29: 331648.74 | E29: =ROUND(AVERAGE(C29:D29),1) -> 348231.2 | F29: 372258.79 | G29: 338417.08 | H29: =ROUND(AVERAGE(F29:G29),1) -> 355337.9 | I29: 960643.68 | J29: 873312.44 | K29: =ROUND(AVERAGE(I29:J29),1) -> 916978.1 | L29: 898272.98 | M29: 816611.8 | N29: =ROUND(AVERAGE(L29:M29),1) -> 857442.4 | O29: 898272.98 | P29: 816611.8 | Q29: =ROUND(AVERAGE(O29:P29),1) -> 857442.4 | R29: 808928.62 | S29: 735389.66 | T29: =ROUND(AVERAGE(R29:S29),1) -> 772159.1 | U29: 1062418.7 | V29: 965835.18 | W29: =ROUND(AVERAGE(U29:V29),1) -> 1014126.9 | X29: 1023070.5 | Y29: 930064.14 | Z29: =ROUND(AVERAGE(X29:Y29),1) -> 976567.3 | AA29: 933501.57 | AB29: 848637.79 | AC29: =ROUND(AVERAGE(AA29:AB29),1) -> 891069.7 | AD29: 960643.68 | AE29: 873312.44 | AF29: =ROUND(AVERAGE(AD29:AE29),1) -> 916978.1 | AG29: 606673.07 | AH29: 551520.97 | AI29: =ROUND(AVERAGE(AG29:AH29),1) -> 579097 | AJ29: 606673.07 | AK29: 551520.97 | AL29: =ROUND(AVERAGE(AJ29:AK29),1) -> 579097 | AM29: 960643.68 | AN29: 873312.44 | AO29: =ROUND(AVERAGE(AM29:AN29),1) -> 916978.1 | AP29: 960643.68 | AQ29: 873312.44 | AR29: =ROUND(AVERAGE(AP29:AQ29),1) -> 916978.1 | AS29: 960643.68 | AT29: 873312.44 | AU29: =ROUND(AVERAGE(AS29:AT29),1) -> 916978.1 | AV29: 898272.98 | AW29: 816611.8 | AX29: =ROUND(AVERAGE(AV29:AW29),1) -> 857442.4 | AY29: 960643.68 | AZ29: 873312.44 | BA29: =ROUND(AVERAGE(AY29:AZ29),1) -> 916978.1 | BB29: 646169.52 | BC29: 587426.84 | BD29: =ROUND(AVERAGE(BB29:BC29),1) -> 616798.2 | BE29: 667441.17 | BF29: 606764.7 | BG29: =ROUND(AVERAGE(BE29:BF29),1) -> 637102.9 | BH29: 673498.83 | BI29: 612271.66 | BJ29: =ROUND(AVERAGE(BH29:BI29),1) -> 642885.2 | BK29: 673498.83 | BL29: 612271.66 | BM29: =ROUND(AVERAGE(BK29:BL29),1) -> 642885.2 | BN29: 601806.2 | BO29: 547096.55 | BP29: =ROUND(AVERAGE(BN29:BO29),1) -> 574451.4 | BQ29: 1023070.5 | BR29: 930064.14 | BS29: =ROUND(AVERAGE(BQ29:BR29),1) -> 976567.3 | BT29: 1062418.7 | BU29: 965835.18 | BV29: =ROUND(AVERAGE(BT29:BU29),1) -> 1014126.9 | BW29: 960643.68 | BX29: 873312.44 | BY29: =ROUND(AVERAGE(BW29:BX29),1) -> 916978.1 | BZ29: 1023070.5 | CA29: 930064.14 | CB29: =ROUND(AVERAGE(BZ29:CA29),1) -> 976567.3 | CC29: 1074224.1 | CD29: 976567.34 | CE29: =ROUND(AVERAGE(CC29:CD29),1) -> 1025395.7 | CF29: 1145839 | CG29: 1041671.8 | CH29: =ROUND(AVERAGE(CF29:CG29),1) -> 1093755.4
A30: 2.4 | B30: ANILLOS (JUEGO) | C30: 411540.84 | D30: 374128.04 | E30: =ROUND(AVERAGE(C30:D30),1) -> 392834.4 | F30: 419939.64 | G30: 381763.3 | H30: =ROUND(AVERAGE(F30:G30),1) -> 400851.5 | I30: 1880290.5 | J30: 1709355 | K30: =ROUND(AVERAGE(I30:J30),1) -> 1794822.8 | L30: 1757074 | M30: 1597340 | N30: =ROUND(AVERAGE(L30:M30),1) -> 1677207 | O30: 1673404.3 | P30: 1521276.6 | Q30: =ROUND(AVERAGE(O30:P30),1) -> 1597340.4 | R30: 1260966.5 | S30: 1146333.2 | T30: =ROUND(AVERAGE(R30:S30),1) -> 1203649.8 | U30: 2067468.9 | V30: 1879517.2 | W30: =ROUND(AVERAGE(U30:V30),1) -> 1973493 | X30: 1990896.5 | Y30: 1809905.9 | Z30: =ROUND(AVERAGE(X30:Y30),1) -> 1900401.2 | AA30: 1500550 | AB30: 1364136.4 | AC30: =ROUND(AVERAGE(AA30:AB30),1) -> 1432343.2 | AD30: 2020636.1 | AE30: 1836942 | AF30: =ROUND(AVERAGE(AD30:AE30),1) -> 1928789.1 | AG30: 1052604.3 | AH30: 956913.03 | AI30: =ROUND(AVERAGE(AG30:AH30),1) -> 1004758.7 | AJ30: 1052604.3 | AK30: 956913.03 | AL30: =ROUND(AVERAGE(AJ30:AK30),1) -> 1004758.7 | AM30: 2355483.5 | AN30: 2141348.6 | AO30: =ROUND(AVERAGE(AM30:AN30),1) -> 2248416 | AP30: 2355483.5 | AQ30: 2141348.6 | AR30: =ROUND(AVERAGE(AP30:AQ30),1) -> 2248416 | AS30: 2355483.5 | AT30: 2141348.6 | AU30: =ROUND(AVERAGE(AS30:AT30),1) -> 2248416 | AV30: 920660.54 | AW30: 836964.13 | AX30: =ROUND(AVERAGE(AV30:AW30),1) -> 878812.3 | AY30: 2355483.5 | AZ30: 2141348.6 | BA30: =ROUND(AVERAGE(AY30:AZ30),1) -> 2248416 | BB30: 887663.79 | BC30: 806967.08 | BD30: =ROUND(AVERAGE(BB30:BC30),1) -> 847315.4 | BE30: 845176.66 | BF30: 768342.42 | BG30: =ROUND(AVERAGE(BE30:BF30),1) -> 806759.5 | BH30: 985228.54 | BI30: 895662.31 | BJ30: =ROUND(AVERAGE(BH30:BI30),1) -> 940445.4 | BK30: 985228.54 | BL30: 895662.31 | BM30: =ROUND(AVERAGE(BK30:BL30),1) -> 940445.4 | BN30: 635419.23 | BO30: 577653.85 | BP30: =ROUND(AVERAGE(BN30:BO30),1) -> 606536.5 | BQ30: 1990896.5 | BR30: 1809905.9 | BS30: =ROUND(AVERAGE(BQ30:BR30),1) -> 1900401.2 | BT30: 2067468.9 | BU30: 1879517.2 | BV30: =ROUND(AVERAGE(BT30:BU30),1) -> 1973493 | BW30: 1880290.5 | BX30: 1709355 | BY30: =ROUND(AVERAGE(BW30:BX30),1) -> 1794822.8 | BZ30: 1990896.5 | CA30: 1809905.9 | CB30: =ROUND(AVERAGE(BZ30:CA30),1) -> 1900401.2 | CC30: 2090441.3 | CD30: 1900401.2 | CE30: =ROUND(AVERAGE(CC30:CD30),1) -> 1995421.2 | CF30: 2229804 | CG30: 2027094.6 | CH30: =ROUND(AVERAGE(CF30:CG30),1) -> 2128449.3
A31: 2.5 | B31: ASPAS FAN CLUTHS | C31: 353430 | D31: 321300 | E31: =ROUND(AVERAGE(C31:D31),1) -> 337365 | F31: 248710 | G31: 226100 | H31: =ROUND(AVERAGE(F31:G31),1) -> 237405 | I31: 458150 | J31: 416500 | K31: =ROUND(AVERAGE(I31:J31),1) -> 437325 | L31: 405790 | M31: 368900 | N31: =ROUND(AVERAGE(L31:M31),1) -> 387345 | O31: 373065 | P31: 339150 | Q31: =ROUND(AVERAGE(O31:P31),1) -> 356107.5 | R31: 239547 | S31: 217770 | T31: =ROUND(AVERAGE(R31:S31),1) -> 228658.5 | U31: 193732 | V31: 176120 | W31: =ROUND(AVERAGE(U31:V31),1) -> 184926 | X31: 248710 | Y31: 226100 | Z31: =ROUND(AVERAGE(X31:Y31),1) -> 237405 | AA31: 458150 | AB31: 416500 | AC31: =ROUND(AVERAGE(AA31:AB31),1) -> 437325 | AD31: 407099 | AE31: 370090 | AF31: =ROUND(AVERAGE(AD31:AE31),1) -> 388594.5 | AG31: 242165 | AH31: 220150 | AI31: =ROUND(AVERAGE(AG31:AH31),1) -> 231157.5 | AJ31: 246092 | AK31: 223720 | AL31: =ROUND(AVERAGE(AJ31:AK31),1) -> 234906 | AM31: 257873 | AN31: 234430 | AO31: =ROUND(AVERAGE(AM31:AN31),1) -> 246151.5 | AP31: 477785 | AQ31: 434350 | AR31: =ROUND(AVERAGE(AP31:AQ31),1) -> 456067.5 | AS31: 243474 | AT31: 221340 | AU31: =ROUND(AVERAGE(AS31:AT31),1) -> 232407 | AV31: 475167 | AW31: 431970 | AX31: =ROUND(AVERAGE(AV31:AW31),1) -> 453568.5 | AY31: 265727 | AZ31: 241570 | BA31: =ROUND(AVERAGE(AY31:AZ31),1) -> 253648.5 | BB31: 252637 | BC31: 229670 | BD31: =ROUND(AVERAGE(BB31:BC31),1) -> 241153.5 | BE31: 327250 | BF31: 297500 | BG31: =ROUND(AVERAGE(BE31:BF31),1) -> 312375 | BH31: 257873 | BI31: 234430 | BJ31: =ROUND(AVERAGE(BH31:BI31),1) -> 246151.5 | BK31: 451605 | BL31: 410550 | BM31: =ROUND(AVERAGE(BK31:BL31),1) -> 431077.5 | BN31: 242165 | BO31: 220150 | BP31: =ROUND(AVERAGE(BN31:BO31),1) -> 231157.5 | BQ31: 458150 | BR31: 416500 | BS31: =ROUND(AVERAGE(BQ31:BR31),1) -> 437325 | BT31: 481712 | BU31: 437920 | BV31: =ROUND(AVERAGE(BT31:BU31),1) -> 459816 | BW31: 475167 | BX31: 431970 | BY31: =ROUND(AVERAGE(BW31:BX31),1) -> 453568.5 | BZ31: 257873 | CA31: 234430 | CB31: =ROUND(AVERAGE(BZ31:CA31),1) -> 246151.5 | CC31: 466004 | CD31: 423640 | CE31: =ROUND(AVERAGE(CC31:CD31),1) -> 444822 | CF31: 458150 | CG31: 416500 | CH31: =ROUND(AVERAGE(CF31:CG31),1) -> 437325
