Workbook

Sheet DATOS DEL PROPONENTE
D3: DD | E3: MM | F3: AA
B4: Santiago de Cali,
B9: Señores:
B10: SUBDIRECCIÓN REGIONAL DE APOYO DEL PACIFICO
B11: FISCALÍA GENERAL DE LA NACIÓN
B12: Cra. 10 # 12 - 10, Edificio Nueva Sede, Codigo. Postal 760044
B13: Cali - Valle del Cauca
B17: ASUNTO: ANEXO - OFERTA ECONÓMICA
B23: Respetados doctores,
B27: De manera antenta y cordial me permito entregar la propuesta economica de acuerdo al ANEXO - OFERTA ECONÓMICA para el LOTE No. 2 - CAUCA requerido para el proceso de objeto: "Prestar el servicio de mantenimiento preventivo y correctivo integral a todo costo (incluidos repuestos, mano de obra y accesorios originales u homologados) de los vehículos automotores que se encuentran al servicio de la Fiscalía General de la Nación en las Seccionales Cali, Cauca, Nariño y Valle del Cauca."
B33: Cordialmente
B40: Firma

Sheet REPUESTOS
B2: OFERTA ECONÓMICA LOTE No. 2 - CAUCA | C2: REPUESTOS VEHICULOS MULTIMARCAS MANTENIMIENTO VEHICULOS | R2: REPUESTOS VEHICULOS MULTIMARCAS MANTENIMIENTO VEHICULOS | AG2: REPUESTOS VEHICULOS MULTIMARCAS MANTENIMIENTO VEHICULOS | AV2: REPUESTOS VEHICULOS MULTIMARCAS MANTENIMIENTO VEHICULOS | BK2: REPUESTOS VEHICULOS MULTIMARCAS MANTENIMIENTO VEHICULOS | BZ2: REPUESTOS VEHICULOS MULTIMARCAS MANTENIMIENTO VEHICULOS
C3: *** Incluye Costos Directos e Indirectos | R3: *** Incluye Costos Directos e Indirectos | AG3: *** Incluye Costos Directos e Indirectos | AV3: *** Incluye Costos Directos e Indirectos | BK3: *** Incluye Costos Directos e Indirectos | BZ3: *** Incluye Costos Directos e Indirectos
B4: DESCRIPCION | C4: CHEVROLET AVEO EMOTION MOD. 2011 | F4: CHEVROLET SPARK 1.0 | I4: CHEVROLET COLORADO | L4: CHEVROLET D-MAX 3.5 GASOLINA | O4: CHEVROLET D-MAX 3.0 DIESEL | R4: CHEVROLET NPR MOD. 2008 | U4: DODGE RAM 2500 MOD. 2014 | X4: FORD RANGER XL MOD. 2023 | AA4: CAMIONETA FOTON BJ2037 MOD. 2019 | AD4: HYUNDAI TUCSON IX35 MOD. 2013 | AG4: MAZDA B2.6 MOD. 2009 | AJ4: MAZDA B26C47 MOD. 2008 | AM4: NISSAN D22 2.5 | AP4: NISSAN NP300 2.5 | AS4: NISSAN NAVARA | AV4: NISSAN VERSA MOD. 2015 | AY4: NISSAN X-TRAIL 2.2 DIESEL MOD. 2014 | BB4: RENAULT LOGAN | BE4: RENAULT SCALA | BH4: RENAULT DUSTER 2.0/OROCH | BK4: RENAULT DUSTER 1.6 | BN4: SUZUKI ALTO | BQ4: TOYOTA 4RUNNER MOD. 2019 | BT4: TOYOTA FORTUNER 2.4 DIESEL MOD. 2023 | BW4: TOYOTA HILUX 2.4 DIESEL | BZ4: TOYOTA PRADO TX-L | CC4: TOYOTA PRADO VX 3.4 GASOLINA | CF4: TOYOTA TOCOMA 3.5 GASOLI MOD. 2020
C5: SUBTOTAL | D5: IVA | E5: TOTAL | F5: SUBTOTAL | G5: IVA | H5: TOTAL | I5: SUBTOTAL | J5: IVA | K5: TOTAL | L5: SUBTOTAL | M5: IVA | N5: TOTAL | O5: SUBTOTAL | P5: IVA | Q5: TOTAL | R5: SUBTOTAL | S5: IVA | T5: TOTAL | U5: SUBTOTAL | V5: IVA | W5: TOTAL | X5: SUBTOTAL | Y5: IVA | Z5: TOTAL | AA5: SUBTOTAL | AB5: IVA | AC5: TOTAL | AD5: SUBTOTAL | AE5: IVA | AF5: TOTAL | AG5: SUBTOTAL | AH5: IVA | AI5: TOTAL | AJ5: SUBTOTAL | AK5: IVA | AL5: TOTAL | AM5: SUBTOTAL | AN5: IVA | AO5: TOTAL | AP5: SUBTOTAL | AQ5: IVA | AR5: TOTAL | AS5: SUBTOTAL | AT5: IVA | AU5: TOTAL | AV5: SUBTOTAL | AW5: IVA | AX5: TOTAL | AY5: SUBTOTAL | AZ5: IVA | BA5: TOTAL | BB5: SUBTOTAL | BC5: IVA | BD5: TOTAL | BE5: SUBTOTAL | BF5: IVA | BG5: TOTAL | BH5: SUBTOTAL | BI5: IVA | BJ5: TOTAL | BK5: SUBTOTAL | BL5: IVA | BM5: TOTAL | BN5: SUBTOTAL | BO5: IVA | BP5: TOTAL | BQ5: SUBTOTAL | BR5: IVA | BS5: TOTAL | BT5: SUBTOTAL | BU5: IVA | BV5: TOTAL | BW5: SUBTOTAL | BX5: IVA | BY5: TOTAL | BZ5: SUBTOTAL | CA5: IVA | CB5: TOTAL | CC5: SUBTOTAL | CD5: IVA | CE5: TOTAL | CF5: SUBTOTAL | CG5: IVA | CH5: TOTAL
A6: 1 | B6: FRENOS | C6: 0 | D6: 0 | E6: 0 | F6: 0 | G6: 0 | H6: 0 | I6: 0 | J6: 0 | K6: 0 | L6: 0 | M6: 0 | N6: 0 | O6: 0 | P6: 0 | Q6: 0 | R6: 0 | S6: 0 | T6: 0 | U6: 0 | V6: 0 | W6: 0 | X6: 0 | Y6: 0 | Z6: 0 | AA6: 0 | AB6: 0 | AC6: 0 | AD6: 0 | AE6: 0 | AF6: 0 | AG6: 0 | AH6: 0 | AI6: 0 | AJ6: 0 | AK6: 0 | AL6: 0 | AM6: 0 | AN6: 0 | AO6: 0 | AP6: 0 | AQ6: 0 | AR6: 0 | AS6: 0 | AT6: 0 | AU6: 0 | AV6: 0 | AW6: 0 | AX6: 0 | AY6: 0 | AZ6: 0 | BA6: 0 | BB6: 0 | BC6: 0 | BD6: 0 | BE6: 0 | BF6: 0 | BG6: 0 | BH6: 0 | BI6: 0 | BJ6: 0 | BK6: 0 | BL6: 0 | BM6: 0 | BN6: 0 | BO6: 0 | BP6: 0 | BQ6: 0 | BR6: 0 | BS6: 0 | BT6: 0 | BU6: 0 | BV6: 0 | BW6: 0 | BX6: 0 | BY6: 0 | BZ6: 0 | CA6: 0 | CB6: 0 | CC6: 0 | CD6: 0 | CE6: 0 | CF6: 0 | CG6: 0 | CH6: 0
A7: 1.1 | B7: ANTIRRUIDOS PASTILLAS (JUEGO) | D7: =C7*19% -> 0 | E7: =C7+D7 -> 0 | G7: =F7*19% -> 0 | H7: =F7+G7 -> 0 | J7: =I7*19% -> 0 | K7: =I7+J7 -> 0 | M7: =L7*19% -> 0 | N7: =L7+M7 -> 0 | P7: =O7*19% -> 0 | Q7: =O7+P7 -> 0 | S7: =R7*19% -> 0 | T7: =R7+S7 -> 0 | V7: =U7*19% -> 0 | W7: =U7+V7 -> 0 | Y7: =X7*19% -> 0 | Z7: =X7+Y7 -> 0 | AB7: =AA7*19% -> 0 | AC7: =AA7+AB7 -> 0 | AE7: =AD7*19% -> 0 | AF7: =AD7+AE7 -> 0 | AH7: =AG7*19% -> 0 | AI7: =AG7+AH7 -> 0 | AK7: =AJ7*19% -> 0 | AL7: =AJ7+AK7 -> 0 | AN7: =AM7*19% -> 0 | AO7: =AM7+AN7 -> 0 | AQ7: =AP7*19% -> 0 | AR7: =AP7+AQ7 -> 0 | AT7: =AS7*19% -> 0 | AU7: =AS7+AT7 -> 0 | AW7: =AV7*19% -> 0 | AX7: =AV7+AW7 -> 0 | AZ7: =AY7*19% -> 0 | BA7: =AY7+AZ7 -> 0 | BC7: =BB7*19% -> 0 | BD7: =BB7+BC7 -> 0 | BF7: =BE7*19% -> 0 | BG7: =BE7+BF7 -> 0 | BI7: =BH7*19% -> 0 | BJ7: =BH7+BI7 -> 0 | BL7: =BK7*19% -> 0 | BM7: =BK7+BL7 -> 0 | BO7: =BN7*19% -> 0 | BP7: =BN7+BO7 -> 0 | BR7: =BQ7*19% -> 0 | BS7: =BQ7+BR7 -> 0 | BU7: =BT7*19% -> 0 | BV7: =BT7+BU7 -> 0 | BX7: =BW7*19% -> 0 | BY7: =BW7+BX7 -> 0 | CA7: =BZ7*19% -> 0 | CB7: =BZ7+CA7 -> 0 | CD7: =CC7*19% -> 0 | CE7: =CC7+CD7 -> 0 | CG7: =CF7*19% -> 0 | CH7: =CF7+CG7 -> 0
A8: 1.2 | B8: BANDAS DE FRENO ( JUEGO) | D8: =C8*19% -> 0 | E8: =C8+D8 -> 0 | G8: =F8*19% -> 0 | H8: =F8+G8 -> 0 | J8: =I8*19% -> 0 | K8: =I8+J8 -> 0 | M8: =L8*19% -> 0 | N8: =L8+M8 -> 0 | P8: =O8*19% -> 0 | Q8: =O8+P8 -> 0 | S8: =R8*19% -> 0 | T8: =R8+S8 -> 0 | V8: =U8*19% -> 0 | W8: =U8+V8 -> 0 | Y8: =X8*19% -> 0 | Z8: =X8+Y8 -> 0 | AB8: =AA8*19% -> 0 | AC8: =AA8+AB8 -> 0 | AE8: =AD8*19% -> 0 | AF8: =AD8+AE8 -> 0 | AH8: =AG8*19% -> 0 | AI8: =AG8+AH8 -> 0 | AK8: =AJ8*19% -> 0 | AL8: =AJ8+AK8 -> 0 | AN8: =AM8*19% -> 0 | AO8: =AM8+AN8 -> 0 | AQ8: =AP8*19% -> 0 | AR8: =AP8+AQ8 -> 0 | AT8: =AS8*19% -> 0 | AU8: =AS8+AT8 -> 0 | AW8: =AV8*19% -> 0 | AX8: =AV8+AW8 -> 0 | AZ8: =AY8*19% -> 0 | BA8: =AY8+AZ8 -> 0 | BC8: =BB8*19% -> 0 | BD8: =BB8+BC8 -> 0 | BF8: =BE8*19% -> 0 | BG8: =BE8+BF8 -> 0 | BI8: =BH8*19% -> 0 | BJ8: =BH8+BI8 -> 0 | BL8: =BK8*19% -> 0 | BM8: =BK8+BL8 -> 0 | BO8: =BN8*19% -> 0 | BP8: =BN8+BO8 -> 0 | BR8: =BQ8*19% -> 0 | BS8: =BQ8+BR8 -> 0 | BU8: =BT8*19% -> 0 | BV8: =BT8+BU8 -> 0 | BX8: =BW8*19% -> 0 | BY8: =BW8+BX8 -> 0 | CA8: =BZ8*19% -> 0 | CB8: =BZ8+CA8 -> 0 | CD8: =CC8*19% -> 0 | CE8: =CC8+CD8 -> 0 | CG8: =CF8*19% -> 0 | CH8: =CF8+CG8 -> 0
A9: 1.3 | B9: BANDAS DE FRENO EMERGENCIA | D9: =C9*19% -> 0 | E9: =C9+D9 -> 0 | G9: =F9*19% -> 0 | H9: =F9+G9 -> 0 | J9: =I9*19% -> 0 | K9: =I9+J9 -> 0 | M9: =L9*19% -> 0 | N9: =L9+M9 -> 0 | P9: =O9*19% -> 0 | Q9: =O9+P9 -> 0 | S9: =R9*19% -> 0 | T9: =R9+S9 -> 0 | V9: =U9*19% -> 0 | W9: =U9+V9 -> 0 | Y9: =X9*19% -> 0 | Z9: =X9+Y9 -> 0 | AB9: =AA9*19% -> 0 | AC9: =AA9+AB9 -> 0 | AE9: =AD9*19% -> 0 | AF9: =AD9+AE9 -> 0 | AH9: =AG9*19% -> 0 | AI9: =AG9+AH9 -> 0 | AK9: =AJ9*19% -> 0 | AL9: =AJ9+AK9 -> 0 | AN9: =AM9*19% -> 0 | AO9: =AM9+AN9 -> 0 | AQ9: =AP9*19% -> 0 | AR9: =AP9+AQ9 -> 0 | AT9: =AS9*19% -> 0 | AU9: =AS9+AT9 -> 0 | AW9: =AV9*19% -> 0 | AX9: =AV9+AW9 -> 0 | AZ9: =AY9*19% -> 0 | BA9: =AY9+AZ9 -> 0 | BC9: =BB9*19% -> 0 | BD9: =BB9+BC9 -> 0 | BF9: =BE9*19% -> 0 | BG9: =BE9+BF9 -> 0 | BI9: =BH9*19% -> 0 | BJ9: =BH9+BI9 -> 0 | BL9: =BK9*19% -> 0 | BM9: =BK9+BL9 -> 0 | BO9: =BN9*19% -> 0 | BP9: =BN9+BO9 -> 0 | BR9: =BQ9*19% -> 0 | BS9: =BQ9+BR9 -> 0 | BU9: =BT9*19% -> 0 | BV9: =BT9+BU9 -> 0 | BX9: =BW9*19% -> 0 | BY9: =BW9+BX9 -> 0 | CA9: =BZ9*19% -> 0 | CB9: =BZ9+CA9 -> 0 | CD9: =CC9*19% -> 0 | CE9: =CC9+CD9 -> 0 | CG9: =CF9*19% -> 0 | CH9: =CF9+CG9 -> 0
A10: 1.4 | B10: BOHOSTER FRENOS | D10: =C10*19% -> 0 | E10: =C10+D10 -> 0 | G10: =F10*19% -> 0 | H10: =F10+G10 -> 0 | J10: =I10*19% -> 0 | K10: =I10+J10 -> 0 | M10: =L10*19% -> 0 | N10: =L10+M10 -> 0 | P10: =O10*19% -> 0 | Q10: =O10+P10 -> 0 | S10: =R10*19% -> 0 | T10: =R10+S10 -> 0 | V10: =U10*19% -> 0 | W10: =U10+V10 -> 0 | Y10: =X10*19% -> 0 | Z10: =X10+Y10 -> 0 | AB10: =AA10*19% -> 0 | AC10: =AA10+AB10 -> 0 | AE10: =AD10*19% -> 0 | AF10: =AD10+AE10 -> 0 | AH10: =AG10*19% -> 0 | AI10: =AG10+AH10 -> 0 | AK10: =AJ10*19% -> 0 | AL10: =AJ10+AK10 -> 0 | AN10: =AM10*19% -> 0 | AO10: =AM10+AN10 -> 0 | AQ10: =AP10*19% -> 0 | AR10: =AP10+AQ10 -> 0 | AT10: =AS10*19% -> 0 | AU10: =AS10+AT10 -> 0 | AW10: =AV10*19% -> 0 | AX10: =AV10+AW10 -> 0 | AZ10: =AY10*19% -> 0 | BA10: =AY10+AZ10 -> 0 | BC10: =BB10*19% -> 0 | BD10: =BB10+BC10 -> 0 | BF10: =BE10*19% -> 0 | BG10: =BE10+BF10 -> 0 | BI10: =BH10*19% -> 0 | BJ10: =BH10+BI10 -> 0 | BL10: =BK10*19% -> 0 | BM10: =BK10+BL10 -> 0 | BO10: =BN10*19% -> 0 | BP10: =BN10+BO10 -> 0 | BR10: =BQ10*19% -> 0 | BS10: =BQ10+BR10 -> 0 | BU10: =BT10*19% -> 0 | BV10: =BT10+BU10 -> 0 | BX10: =BW10*19% -> 0 | BY10: =BW10+BX10 -> 0 | CA10: =BZ10*19% -> 0 | CB10: =BZ10+CA10 -> 0 | CD10: =CC10*19% -> 0 | CE10: =CC10+CD10 -> 0 | CG10: =CF10*19% -> 0 | CH10: =CF10+CG10 -> 0
A11: 1.5 | B11: BOMBA DE FRENOS | D11: =C11*19% -> 0 | E11: =C11+D11 -> 0 | G11: =F11*19% -> 0 | H11: =F11+G11 -> 0 | J11: =I11*19% -> 0 | K11: =I11+J11 -> 0 | M11: =L11*19% -> 0 | N11: =L11+M11 -> 0 | P11: =O11*19% -> 0 | Q11: =O11+P11 -> 0 | S11: =R11*19% -> 0 | T11: =R11+S11 -> 0 | V11: =U11*19% -> 0 | W11: =U11+V11 -> 0 | Y11: =X11*19% -> 0 | Z11: =X11+Y11 -> 0 | AB11: =AA11*19% -> 0 | AC11: =AA11+AB11 -> 0 | AE11: =AD11*19% -> 0 | AF11: =AD11+AE11 -> 0 | AH11: =AG11*19% -> 0 | AI11: =AG11+AH11 -> 0 | AK11: =AJ11*19% -> 0 | AL11: =AJ11+AK11 -> 0 | AN11: =AM11*19% -> 0 | AO11: =AM11+AN11 -> 0 | AQ11: =AP11*19% -> 0 | AR11: =AP11+AQ11 -> 0 | AT11: =AS11*19% -> 0 | AU11: =AS11+AT11 -> 0 | AW11: =AV11*19% -> 0 | AX11: =AV11+AW11 -> 0 | AZ11: =AY11*19% -> 0 | BA11: =AY11+AZ11 -> 0 | BC11: =BB11*19% -> 0 | BD11: =BB11+BC11 -> 0 | BF11: =BE11*19% -> 0 | BG11: =BE11+BF11 -> 0 | BI11: =BH11*19% -> 0 | BJ11: =BH11+BI11 -> 0 | BL11: =BK11*19% -> 0 | BM11: =BK11+BL11 -> 0 | BO11: =BN11*19% -> 0 | BP11: =BN11+BO11 -> 0 | BR11: =BQ11*19% -> 0 | BS11: =BQ11+BR11 -> 0 | BU11: =BT11*19% -> 0 | BV11: =BT11+BU11 -> 0 | BX11: =BW11*19% -> 0 | BY11: =BW11+BX11 -> 0 | CA11: =BZ11*19% -> 0 | CB11: =BZ11+CA11 -> 0 | CD11: =CC11*19% -> 0 | CE11: =CC11+CD11 -> 0 | CG11: =CF11*19% -> 0 | CH11: =CF11+CG11 -> 0
A12: 1.6 | B12: CAMPANA FRENO | D12: =C12*19% -> 0 | E12: =C12+D12 -> 0 | G12: =F12*19% -> 0 | H12: =F12+G12 -> 0 | J12: =I12*19% -> 0 | K12: =I12+J12 -> 0 | M12: =L12*19% -> 0 | N12: =L12+M12 -> 0 | P12: =O12*19% -> 0 | Q12: =O12+P12 -> 0 | S12: =R12*19% -> 0 | T12: =R12+S12 -> 0 | V12: =U12*19% -> 0 | W12: =U12+V12 -> 0 | Y12: =X12*19% -> 0 | Z12: =X12+Y12 -> 0 | AB12: =AA12*19% -> 0 | AC12: =AA12+AB12 -> 0 | AE12: =AD12*19% -> 0 | AF12: =AD12+AE12 -> 0 | AH12: =AG12*19% -> 0 | AI12: =AG12+AH12 -> 0 | AK12: =AJ12*19% -> 0 | AL12: =AJ12+AK12 -> 0 | AN12: =AM12*19% -> 0 | AO12: =AM12+AN12 -> 0 | AQ12: =AP12*19% -> 0 | AR12: =AP12+AQ12 -> 0 | AT12: =AS12*19% -> 0 | AU12: =AS12+AT12 -> 0 | AW12: =AV12*19% -> 0 | AX12: =AV12+AW12 -> 0 | AZ12: =AY12*19% -> 0 | BA12: =AY12+AZ12 -> 0 | BC12: =BB12*19% -> 0 | BD12: =BB12+BC12 -> 0 | BF12: =BE12*19% -> 0 | BG12: =BE12+BF12 -> 0 | BI12: =BH12*19% -> 0 | BJ12: =BH12+BI12 -> 0 | BL12: =BK12*19% -> 0 | BM12: =BK12+BL12 -> 0 | BO12: =BN12*19% -> 0 | BP12: =BN12+BO12 -> 0 | BR12: =BQ12*19% -> 0 | BS12: =BQ12+BR12 -> 0 | BU12: =BT12*19% -> 0 | BV12: =BT12+BU12 -> 0 | BX12: =BW12*19% -> 0 | BY12: =BW12+BX12 -> 0 | CA12: =BZ12*19% -> 0 | CB12: =BZ12+CA12 -> 0 | CD12: =CC12*19% -> 0 | CE12: =CC12+CD12 -> 0 | CG12: =CF12*19% -> 0 | CH12: =CF12+CG12 -> 0
A13: 1.7 | B13: CILINDRO FRENO TRASERO | D13: =C13*19% -> 0 | E13: =C13+D13 -> 0 | G13: =F13*19% -> 0 | H13: =F13+G13 -> 0 | J13: =I13*19% -> 0 | K13: =I13+J13 -> 0 | M13: =L13*19% -> 0 | N13: =L13+M13 -> 0 | P13: =O13*19% -> 0 | Q13: =O13+P13 -> 0 | S13: =R13*19% -> 0 | T13: =R13+S13 -> 0 | V13: =U13*19% -> 0 | W13: =U13+V13 -> 0 | Y13: =X13*19% -> 0 | Z13: =X13+Y13 -> 0 | AB13: =AA13*19% -> 0 | AC13: =AA13+AB13 -> 0 | AE13: =AD13*19% -> 0 | AF13: =AD13+AE13 -> 0 | AH13: =AG13*19% -> 0 | AI13: =AG13+AH13 -> 0 | AK13: =AJ13*19% -> 0 | AL13: =AJ13+AK13 -> 0 | AN13: =AM13*19% -> 0 | AO13: =AM13+AN13 -> 0 | AQ13: =AP13*19% -> 0 | AR13: =AP13+AQ13 -> 0 | AT13: =AS13*19% -> 0 | AU13: =AS13+AT13 -> 0 | AW13: =AV13*19% -> 0 | AX13: =AV13+AW13 -> 0 | AZ13: =AY13*19% -> 0 | BA13: =AY13+AZ13 -> 0 | BC13: =BB13*19% -> 0 | BD13: =BB13+BC13 -> 0 | BF13: =BE13*19% -> 0 | BG13: =BE13+BF13 -> 0 | BI13: =BH13*19% -> 0 | BJ13: =BH13+BI13 -> 0 | BL13: =BK13*19% -> 0 | BM13: =BK13+BL13 -> 0 | BO13: =BN13*19% -> 0 | BP13: =BN13+BO13 -> 0 | BR13: =BQ13*19% -> 0 | BS13: =BQ13+BR13 -> 0 | BU13: =BT13*19% -> 0 | BV13: =BT13+BU13 -> 0 | BX13: =BW13*19% -> 0 | BY13: =BW13+BX13 -> 0 | CA13: =BZ13*19% -> 0 | CB13: =BZ13+CA13 -> 0 | CD13: =CC13*19% -> 0 | CE13: =CC13+CD13 -> 0 | CG13: =CF13*19% -> 0 | CH13: =CF13+CG13 -> 0
A14: 1.8 | B14: DISCO FRENO DELANTERO | D14: =C14*19% -> 0 | E14: =C14+D14 -> 0 | G14: =F14*19% -> 0 | H14: =F14+G14 -> 0 | J14: =I14*19% -> 0 | K14: =I14+J14 -> 0 | M14: =L14*19% -> 0 | N14: =L14+M14 -> 0 | P14: =O14*19% -> 0 | Q14: =O14+P14 -> 0 | R14: NO APLICA | S14: N/A | T14: NO APLICA | V14: =U14*19% -> 0 | W14: =U14+V14 -> 0 | Y14: =X14*19% -> 0 | Z14: =X14+Y14 -> 0 | AB14: =AA14*19% -> 0 | AC14: =AA14+AB14 -> 0 | AE14: =AD14*19% -> 0 | AF14: =AD14+AE14 -> 0 | AH14: =AG14*19% -> 0 | AI14: =AG14+AH14 -> 0 | AK14: =AJ14*19% -> 0 | AL14: =AJ14+AK14 -> 0 | AN14: =AM14*19% -> 0 | AO14: =AM14+AN14 -> 0 | AQ14: =AP14*19% -> 0 | AR14: =AP14+AQ14 -> 0 | AT14: =AS14*19% -> 0 | AU14: =AS14+AT14 -> 0 | AW14: =AV14*19% -> 0 | AX14: =AV14+AW14 -> 0 | AZ14: =AY14*19% -> 0 | BA14: =AY14+AZ14 -> 0 | BC14: =BB14*19% -> 0 | BD14: =BB14+BC14 -> 0 | BF14: =BE14*19% -> 0 | BG14: =BE14+BF14 -> 0 | BI14: =BH14*19% -> 0 | BJ14: =BH14+BI14 -> 0 | BL14: =BK14*19% -> 0 | BM14: =BK14+BL14 -> 0 | BO14: =BN14*19% -> 0 | BP14: =BN14+BO14 -> 0 | BR14: =BQ14*19% -> 0 | BS14: =BQ14+BR14 -> 0 | BU14: =BT14*19% -> 0 | BV14: =BT14+BU14 -> 0 | BX14: =BW14*19% -> 0 | BY14: =BW14+BX14 -> 0 | CA14: =BZ14*19% -> 0 | CB14: =BZ14+CA14 -> 0 | CD14: =CC14*19% -> 0 | CE14: =CC14+CD14 -> 0 | CG14: =CF14*19% -> 0 | CH14: =CF14+CG14 -> 0
A15: 1.9 | B15: DISCO FRENO TRASERO | D15: =C15*19% -> 0 | E15: =C15+D15 -> 0 | G15: =F15*19% -> 0 | H15: =F15+G15 -> 0 | J15: =I15*19% -> 0 | K15: =I15+J15 -> 0 | M15: =L15*19% -> 0 | N15: =L15+M15 -> 0 | P15: =O15*19% -> 0 | Q15: =O15+P15 -> 0 | R15: NO APLICA | S15: N/A | T15: NO APLICA | V15: =U15*19% -> 0 | W15: =U15+V15 -> 0 | Y15: =X15*19% -> 0 | Z15: =X15+Y15 -> 0 | AB15: =AA15*19% -> 0 | AC15: =AA15+AB15 -> 0 | AE15: =AD15*19% -> 0 | AF15: =AD15+AE15 -> 0 | AH15: =AG15*19% -> 0 | AI15: =AG15+AH15 -> 0 | AK15: =AJ15*19% -> 0 | AL15: =AJ15+AK15 -> 0 | AN15: =AM15*19% -> 0 | AO15: =AM15+AN15 -> 0 | AQ15: =AP15*19% -> 0 | AR15: =AP15+AQ15 -> 0 | AT15: =AS15*19% -> 0 | AU15: =AS15+AT15 -> 0 | AW15: =AV15*19% -> 0 | AX15: =AV15+AW15 -> 0 | AZ15: =AY15*19% -> 0 | BA15: =AY15+AZ15 -> 0 | BC15: =BB15*19% -> 0 | BD15: =BB15+BC15 -> 0 | BF15: =BE15*19% -> 0 | BG15: =BE15+BF15 -> 0 | BI15: =BH15*19% -> 0 | BJ15: =BH15+BI15 -> 0 | BL15: =BK15*19% -> 0 | BM15: =BK15+BL15 -> 0 | BO15: =BN15*19% -> 0 | BP15: =BN15+BO15 -> 0 | BR15: =BQ15*19% -> 0 | BS15: =BQ15+BR15 -> 0 | BU15: =BT15*19% -> 0 | BV15: =BT15+BU15 -> 0 | BX15: =BW15*19% -> 0 | BY15: =BW15+BX15 -> 0 | CA15: =BZ15*19% -> 0 | CB15: =BZ15+CA15 -> 0 | CD15: =CC15*19% -> 0 | CE15: =CC15+CD15 -> 0 | CG15: =CF15*19% -> 0 | CH15: =CF15+CG15 -> 0
A16: 1.10 | B16: GUAYA FRENO PRINCIPAL | D16: =C16*19% -> 0 | E16: =C16+D16 -> 0 | G16: =F16*19% -> 0 | H16: =F16+G16 -> 0 | J16: =I16*19% -> 0 | K16: =I16+J16 -> 0 | M16: =L16*19% -> 0 | N16: =L16+M16 -> 0 | P16: =O16*19% -> 0 | Q16: =O16+P16 -> 0 | S16: =R16*19% -> 0 | T16: =R16+S16 -> 0 | V16: =U16*19% -> 0 | W16: =U16+V16 -> 0 | Y16: =X16*19% -> 0 | Z16: =X16+Y16 -> 0 | AB16: =AA16*19% -> 0 | AC16: =AA16+AB16 -> 0 | AE16: =AD16*19% -> 0 | AF16: =AD16+AE16 -> 0 | AH16: =AG16*19% -> 0 | AI16: =AG16+AH16 -> 0 | AK16: =AJ16*19% -> 0 | AL16: =AJ16+AK16 -> 0 | AN16: =AM16*19% -> 0 | AO16: =AM16+AN16 -> 0 | AQ16: =AP16*19% -> 0 | AR16: =AP16+AQ16 -> 0 | AT16: =AS16*19% -> 0 | AU16: =AS16+AT16 -> 0 | AW16: =AV16*19% -> 0 | AX16: =AV16+AW16 -> 0 | AZ16: =AY16*19% -> 0 | BA16: =AY16+AZ16 -> 0 | BC16: =BB16*19% -> 0 | BD16: =BB16+BC16 -> 0 | BF16: =BE16*19% -> 0 | BG16: =BE16+BF16 -> 0 | BI16: =BH16*19% -> 0 | BJ16: =BH16+BI16 -> 0 | BL16: =BK16*19% -> 0 | BM16: =BK16+BL16 -> 0 | BO16: =BN16*19% -> 0 | BP16: =BN16+BO16 -> 0 | BR16: =BQ16*19% -> 0 | BS16: =BQ16+BR16 -> 0 | BU16: =BT16*19% -> 0 | BV16: =BT16+BU16 -> 0 | BX16: =BW16*19% -> 0 | BY16: =BW16+BX16 -> 0 | CA16: =BZ16*19% -> 0 | CB16: =BZ16+CA16 -> 0 | CD16: =CC16*19% -> 0 | CE16: =CC16+CD16 -> 0 | CG16: =CF16*19% -> 0 | CH16: =CF16+CG16 -> 0
A17: 1.11 | B17: GUAYA FRENO TRASERA LH - RH | D17: =C17*19% -> 0 | E17: =C17+D17 -> 0 | G17: =F17*19% -> 0 | H17: =F17+G17 -> 0 | J17: =I17*19% -> 0 | K17: =I17+J17 -> 0 | M17: =L17*19% -> 0 | N17: =L17+M17 -> 0 | P17: =O17*19% -> 0 | Q17: =O17+P17 -> 0 | S17: =R17*19% -> 0 | T17: =R17+S17 -> 0 | V17: =U17*19% -> 0 | W17: =U17+V17 -> 0 | Y17: =X17*19% -> 0 | Z17: =X17+Y17 -> 0 | AB17: =AA17*19% -> 0 | AC17: =AA17+AB17 -> 0 | AE17: =AD17*19% -> 0 | AF17: =AD17+AE17 -> 0 | AH17: =AG17*19% -> 0 | AI17: =AG17+AH17 -> 0 | AK17: =AJ17*19% -> 0 | AL17: =AJ17+AK17 -> 0 | AN17: =AM17*19% -> 0 | AO17: =AM17+AN17 -> 0 | AQ17: =AP17*19% -> 0 | AR17: =AP17+AQ17 -> 0 | AT17: =AS17*19% -> 0 | AU17: =AS17+AT17 -> 0 | AW17: =AV17*19% -> 0 | AX17: =AV17+AW17 -> 0 | AZ17: =AY17*19% -> 0 | BA17: =AY17+AZ17 -> 0 | BC17: =BB17*19% -> 0 | BD17: =BB17+BC17 -> 0 | BF17: =BE17*19% -> 0 | BG17: =BE17+BF17 -> 0 | BI17: =BH17*19% -> 0 | BJ17: =BH17+BI17 -> 0 | BL17: =BK17*19% -> 0 | BM17: =BK17+BL17 -> 0 | BO17: =BN17*19% -> 0 | BP17: =BN17+BO17 -> 0 | BR17: =BQ17*19% -> 0 | BS17: =BQ17+BR17 -> 0 | BU17: =BT17*19% -> 0 | BV17: =BT17+BU17 -> 0 | BX17: =BW17*19% -> 0 | BY17: =BW17+BX17 -> 0 | CA17: =BZ17*19% -> 0 | CB17: =BZ17+CA17 -> 0 | CD17: =CC17*19% -> 0 | CE17: =CC17+CD17 -> 0 | CG17: =CF17*19% -> 0 | CH17: =CF17+CG17 -> 0
A18: 1.12 | B18: LIMITADOR DE LIQUIDO DE FRENOS | D18: =C18*19% -> 0 | E18: =C18+D18 -> 0 | G18: =F18*19% -> 0 | H18: =F18+G18 -> 0 | J18: =I18*19% -> 0 | K18: =I18+J18 -> 0 | M18: =L18*19% -> 0 | N18: =L18+M18 -> 0 | P18: =O18*19% -> 0 | Q18: =O18+P18 -> 0 | S18: =R18*19% -> 0 | T18: =R18+S18 -> 0 | V18: =U18*19% -> 0 | W18: =U18+V18 -> 0 | Y18: =X18*19% -> 0 | Z18: =X18+Y18 -> 0 | AB18: =AA18*19% -> 0 | AC18: =AA18+AB18 -> 0 | AE18: =AD18*19% -> 0 | AF18: =AD18+AE18 -> 0 | AH18: =AG18*19% -> 0 | AI18: =AG18+AH18 -> 0 | AK18: =AJ18*19% -> 0 | AL18: =AJ18+AK18 -> 0 | AN18: =AM18*19% -> 0 | AO18: =AM18+AN18 -> 0 | AQ18: =AP18*19% -> 0 | AR18: =AP18+AQ18 -> 0 | AT18: =AS18*19% -> 0 | AU18: =AS18+AT18 -> 0 | AW18: =AV18*19% -> 0 | AX18: =AV18+AW18 -> 0 | AZ18: =AY18*19% -> 0 | BA18: =AY18+AZ18 -> 0 | BC18: =BB18*19% -> 0 | BD18: =BB18+BC18 -> 0 | BF18: =BE18*19% -> 0 | BG18: =BE18+BF18 -> 0 | BI18: =BH18*19% -> 0 | BJ18: =BH18+BI18 -> 0 | BL18: =BK18*19% -> 0 | BM18: =BK18+BL18 -> 0 | BO18: =BN18*19% -> 0 | BP18: =BN18+BO18 -> 0 | BR18: =BQ18*19% -> 0 | BS18: =BQ18+BR18 -> 0 | BU18: =BT18*19% -> 0 | BV18: =BT18+BU18 -> 0 | BX18: =BW18*19% -> 0 | BY18: =BW18+BX18 -> 0 | CA18: =BZ18*19% -> 0 | CB18: =BZ18+CA18 -> 0 | CD18: =CC18*19% -> 0 | CE18: =CC18+CD18 -> 0 | CG18: =CF18*19% -> 0 | CH18: =CF18+CG18 -> 0
A19: 1.13 | B19: MORDAZAS DE FRENO DELANTERA | D19: =C19*19% -> 0 | E19: =C19+D19 -> 0 | G19: =F19*19% -> 0 | H19: =F19+G19 -> 0 | J19: =I19*19% -> 0 | K19: =I19+J19 -> 0 | M19: =L19*19% -> 0 | N19: =L19+M19 -> 0 | P19: =O19*19% -> 0 | Q19: =O19+P19 -> 0 | S19: =R19*19% -> 0 | T19: =R19+S19 -> 0 | V19: =U19*19% -> 0 | W19: =U19+V19 -> 0 | Y19: =X19*19% -> 0 | Z19: =X19+Y19 -> 0 | AB19: =AA19*19% -> 0 | AC19: =AA19+AB19 -> 0 | AE19: =AD19*19% -> 0 | AF19: =AD19+AE19 -> 0 | AH19: =AG19*19% -> 0 | AI19: =AG19+AH19 -> 0 | AK19: =AJ19*19% -> 0 | AL19: =AJ19+AK19 -> 0 | AN19: =AM19*19% -> 0 | AO19: =AM19+AN19 -> 0 | AQ19: =AP19*19% -> 0 | AR19: =AP19+AQ19 -> 0 | AT19: =AS19*19% -> 0 | AU19: =AS19+AT19 -> 0 | AW19: =AV19*19% -> 0 | AX19: =AV19+AW19 -> 0 | AZ19: =AY19*19% -> 0 | BA19: =AY19+AZ19 -> 0 | BC19: =BB19*19% -> 0 | BD19: =BB19+BC19 -> 0 | BF19: =BE19*19% -> 0 | BG19: =BE19+BF19 -> 0 | BI19: =BH19*19% -> 0 | BJ19: =BH19+BI19 -> 0 | BL19: =BK19*19% -> 0 | BM19: =BK19+BL19 -> 0 | BO19: =BN19*19% -> 0 | BP19: =BN19+BO19 -> 0 | BR19: =BQ19*19% -> 0 | BS19: =BQ19+BR19 -> 0 | BU19: =BT19*19% -> 0 | BV19: =BT19+BU19 -> 0 | BX19: =BW19*19% -> 0 | BY19: =BW19+BX19 -> 0 | CA19: =BZ19*19% -> 0 | CB19: =BZ19+CA19 -> 0 | CD19: =CC19*19% -> 0 | CE19: =CC19+CD19 -> 0 | CG19: =CF19*19% -> 0 | CH19: =CF19+CG19 -> 0
A20: 1.14 | B20: MORDAZAS DE FRENO TRASERA | D20: =C20*19% -> 0 | E20: =C20+D20 -> 0 | G20: =F20*19% -> 0 | H20: =F20+G20 -> 0 | J20: =I20*19% -> 0 | K20: =I20+J20 -> 0 | M20: =L20*19% -> 0 | N20: =L20+M20 -> 0 | P20: =O20*19% -> 0 | Q20: =O20+P20 -> 0 | S20: =R20*19% -> 0 | T20: =R20+S20 -> 0 | V20: =U20*19% -> 0 | W20: =U20+V20 -> 0 | Y20: =X20*19% -> 0 | Z20: =X20+Y20 -> 0 | AB20: =AA20*19% -> 0 | AC20: =AA20+AB20 -> 0 | AE20: =AD20*19% -> 0 | AF20: =AD20+AE20 -> 0 | AH20: =AG20*19% -> 0 | AI20: =AG20+AH20 -> 0 | AK20: =AJ20*19% -> 0 | AL20: =AJ20+AK20 -> 0 | AN20: =AM20*19% -> 0 | AO20: =AM20+AN20 -> 0 | AQ20: =AP20*19% -> 0 | AR20: =AP20+AQ20 -> 0 | AT20: =AS20*19% -> 0 | AU20: =AS20+AT20 -> 0 | AW20: =AV20*19% -> 0 | AX20: =AV20+AW20 -> 0 | AZ20: =AY20*19% -> 0 | BA20: =AY20+AZ20 -> 0 | BC20: =BB20*19% -> 0 | BD20: =BB20+BC20 -> 0 | BF20: =BE20*19% -> 0 | BG20: =BE20+BF20 -> 0 | BI20: =BH20*19% -> 0 | BJ20: =BH20+BI20 -> 0 | BL20: =BK20*19% -> 0 | BM20: =BK20+BL20 -> 0 | BO20: =BN20*19% -> 0 | BP20: =BN20+BO20 -> 0 | BR20: =BQ20*19% -> 0 | BS20: =BQ20+BR20 -> 0 | BU20: =BT20*19% -> 0 | BV20: =BT20+BU20 -> 0 | BX20: =BW20*19% -> 0 | BY20: =BW20+BX20 -> 0 | CA20: =BZ20*19% -> 0 | CB20: =BZ20+CA20 -> 0 | CD20: =CC20*19% -> 0 | CE20: =CC20+CD20 -> 0 | CG20: =CF20*19% -> 0 | CH20: =CF20+CG20 -> 0
A21: 1.15 | B21: PASTILLAS DELANTERAS (JUEGO) | D21: =C21*19% -> 0 | E21: =C21+D21 -> 0 | G21: =F21*19% -> 0 | H21: =F21+G21 -> 0 | J21: =I21*19% -> 0 | K21: =I21+J21 -> 0 | M21: =L21*19% -> 0 | N21: =L21+M21 -> 0 | P21: =O21*19% -> 0 | Q21: =O21+P21 -> 0 | R21: NO APLICA | S21: N/A | T21: NO APLICA | V21: =U21*19% -> 0 | W21: =U21+V21 -> 0 | Y21: =X21*19% -> 0 | Z21: =X21+Y21 -> 0 | AB21: =AA21*19% -> 0 | AC21: =AA21+AB21 -> 0 | AE21: =AD21*19% -> 0 | AF21: =AD21+AE21 -> 0 | AH21: =AG21*19% -> 0 | AI21: =AG21+AH21 -> 0 | AK21: =AJ21*19% -> 0 | AL21: =AJ21+AK21 -> 0 | AN21: =AM21*19% -> 0 | AO21: =AM21+AN21 -> 0 | AQ21: =AP21*19% -> 0 | AR21: =AP21+AQ21 -> 0 | AT21: =AS21*19% -> 0 | AU21: =AS21+AT21 -> 0 | AW21: =AV21*19% -> 0 | AX21: =AV21+AW21 -> 0 | AZ21: =AY21*19% -> 0 | BA21: =AY21+AZ21 -> 0 | BC21: =BB21*19% -> 0 | BD21: =BB21+BC21 -> 0 | BF21: =BE21*19% -> 0 | BG21: =BE21+BF21 -> 0 | BI21: =BH21*19% -> 0 | BJ21: =BH21+BI21 -> 0 | BL21: =BK21*19% -> 0 | BM21: =BK21+BL21 -> 0 | BO21: =BN21*19% -> 0 | BP21: =BN21+BO21 -> 0 | BR21: =BQ21*19% -> 0 | BS21: =BQ21+BR21 -> 0 | BU21: =BT21*19% -> 0 | BV21: =BT21+BU21 -> 0 | BX21: =BW21*19% -> 0 | BY21: =BW21+BX21 -> 0 | CA21: =BZ21*19% -> 0 | CB21: =BZ21+CA21 -> 0 | CD21: =CC21*19% -> 0 | CE21: =CC21+CD21 -> 0 | CG21: =CF21*19% -> 0 | CH21: =CF21+CG21 -> 0
A22: 1.16 | B22: PASTILLAS TRASERAS ( JUEGO) | D22: =C22*19% -> 0 | E22: =C22+D22 -> 0 | G22: =F22*19% -> 0 | H22: =F22+G22 -> 0 | J22: =I22*19% -> 0 | K22: =I22+J22 -> 0 | M22: =L22*19% -> 0 | N22: =L22+M22 -> 0 | P22: =O22*19% -> 0 | Q22: =O22+P22 -> 0 | R22: NO APLICA | S22: N/A | T22: NO APLICA | V22: =U22*19% -> 0 | W22: =U22+V22 -> 0 | Y22: =X22*19% -> 0 | Z22: =X22+Y22 -> 0 | AB22: =AA22*19% -> 0 | AC22: =AA22+AB22 -> 0 | AE22: =AD22*19% -> 0 | AF22: =AD22+AE22 -> 0 | AH22: =AG22*19% -> 0 | AI22: =AG22+AH22 -> 0 | AK22: =AJ22*19% -> 0 | AL22: =AJ22+AK22 -> 0 | AN22: =AM22*19% -> 0 | AO22: =AM22+AN22 -> 0 | AQ22: =AP22*19% -> 0 | AR22: =AP22+AQ22 -> 0 | AT22: =AS22*19% -> 0 | AU22: =AS22+AT22 -> 0 | AW22: =AV22*19% -> 0 | AX22: =AV22+AW22 -> 0 | AZ22: =AY22*19% -> 0 | BA22: =AY22+AZ22 -> 0 | BC22: =BB22*19% -> 0 | BD22: =BB22+BC22 -> 0 | BF22: =BE22*19% -> 0 | BG22: =BE22+BF22 -> 0 | BI22: =BH22*19% -> 0 | BJ22: =BH22+BI22 -> 0 | BL22: =BK22*19% -> 0 | BM22: =BK22+BL22 -> 0 | BO22: =BN22*19% -> 0 | BP22: =BN22+BO22 -> 0 | BR22: =BQ22*19% -> 0 | BS22: =BQ22+BR22 -> 0 | BU22: =BT22*19% -> 0 | BV22: =BT22+BU22 -> 0 | BX22: =BW22*19% -> 0 | BY22: =BW22+BX22 -> 0 | CA22: =BZ22*19% -> 0 | CB22: =BZ22+CA22 -> 0 | CD22: =CC22*19% -> 0 | CE22: =CC22+CD22 -> 0 | CG22: =CF22*19% -> 0 | CH22: =CF22+CG22 -> 0
A23: 1.17 | B23: SENSOR ABS DELANTERO | D23: =C23*19% -> 0 | E23: =C23+D23 -> 0 | G23: =F23*19% -> 0 | H23: =F23+G23 -> 0 | J23: =I23*19% -> 0 | K23: =I23+J23 -> 0 | M23: =L23*19% -> 0 | N23: =L23+M23 -> 0 | P23: =O23*19% -> 0 | Q23: =O23+P23 -> 0 | S23: =R23*19% -> 0 | T23: =R23+S23 -> 0 | V23: =U23*19% -> 0 | W23: =U23+V23 -> 0 | Y23: =X23*19% -> 0 | Z23: =X23+Y23 -> 0 | AB23: =AA23*19% -> 0 | AC23: =AA23+AB23 -> 0 | AE23: =AD23*19% -> 0 | AF23: =AD23+AE23 -> 0 | AH23: =AG23*19% -> 0 | AI23: =AG23+AH23 -> 0 | AK23: =AJ23*19% -> 0 | AL23: =AJ23+AK23 -> 0 | AN23: =AM23*19% -> 0 | AO23: =AM23+AN23 -> 0 | AQ23: =AP23*19% -> 0 | AR23: =AP23+AQ23 -> 0 | AT23: =AS23*19% -> 0 | AU23: =AS23+AT23 -> 0 | AW23: =AV23*19% -> 0 | AX23: =AV23+AW23 -> 0 | AZ23: =AY23*19% -> 0 | BA23: =AY23+AZ23 -> 0 | BC23: =BB23*19% -> 0 | BD23: =BB23+BC23 -> 0 | BF23: =BE23*19% -> 0 | BG23: =BE23+BF23 -> 0 | BI23: =BH23*19% -> 0 | BJ23: =BH23+BI23 -> 0 | BL23: =BK23*19% -> 0 | BM23: =BK23+BL23 -> 0 | BO23: =BN23*19% -> 0 | BP23: =BN23+BO23 -> 0 | BR23: =BQ23*19% -> 0 | BS23: =BQ23+BR23 -> 0 | BU23: =BT23*19% -> 0 | BV23: =BT23+BU23 -> 0 | BX23: =BW23*19% -> 0 | BY23: =BW23+BX23 -> 0 | CA23: =BZ23*19% -> 0 | CB23: =BZ23+CA23 -> 0 | CD23: =CC23*19% -> 0 | CE23: =CC23+CD23 -> 0 | CG23: =CF23*19% -> 0 | CH23: =CF23+CG23 -> 0
A24: 1.18 | B24: SENSOR ABS TRASERO | D24: =C24*19% -> 0 | E24: =C24+D24 -> 0 | G24: =F24*19% -> 0 | H24: =F24+G24 -> 0 | J24: =I24*19% -> 0 | K24: =I24+J24 -> 0 | M24: =L24*19% -> 0 | N24: =L24+M24 -> 0 | P24: =O24*19% -> 0 | Q24: =O24+P24 -> 0 | S24: =R24*19% -> 0 | T24: =R24+S24 -> 0 | V24: =U24*19% -> 0 | W24: =U24+V24 -> 0 | Y24: =X24*19% -> 0 | Z24: =X24+Y24 -> 0 | AB24: =AA24*19% -> 0 | AC24: =AA24+AB24 -> 0 | AE24: =AD24*19% -> 0 | AF24: =AD24+AE24 -> 0 | AH24: =AG24*19% -> 0 | AI24: =AG24+AH24 -> 0 | AK24: =AJ24*19% -> 0 | AL24: =AJ24+AK24 -> 0 | AN24: =AM24*19% -> 0 | AO24: =AM24+AN24 -> 0 | AQ24: =AP24*19% -> 0 | AR24: =AP24+AQ24 -> 0 | AT24: =AS24*19% -> 0 | AU24: =AS24+AT24 -> 0 | AW24: =AV24*19% -> 0 | AX24: =AV24+AW24 -> 0 | AZ24: =AY24*19% -> 0 | BA24: =AY24+AZ24 -> 0 | BC24: =BB24*19% -> 0 | BD24: =BB24+BC24 -> 0 | BF24: =BE24*19% -> 0 | BG24: =BE24+BF24 -> 0 | BI24: =BH24*19% -> 0 | BJ24: =BH24+BI24 -> 0 | BL24: =BK24*19% -> 0 | BM24: =BK24+BL24 -> 0 | BO24: =BN24*19% -> 0 | BP24: =BN24+BO24 -> 0 | BR24: =BQ24*19% -> 0 | BS24: =BQ24+BR24 -> 0 | BU24: =BT24*19% -> 0 | BV24: =BT24+BU24 -> 0 | BX24: =BW24*19% -> 0 | BY24: =BW24+BX24 -> 0 | CA24: =BZ24*19% -> 0 | CB24: =BZ24+CA24 -> 0 | CD24: =CC24*19% -> 0 | CE24: =CC24+CD24 -> 0 | CG24: =CF24*19% -> 0 | CH24: =CF24+CG24 -> 0
A25: 1.19 | B25: SENSOR DE STOP | D25: =C25*19% -> 0 | E25: =C25+D25 -> 0 | G25: =F25*19% -> 0 | H25: =F25+G25 -> 0 | J25: =I25*19% -> 0 | K25: =I25+J25 -> 0 | M25: =L25*19% -> 0 | N25: =L25+M25 -> 0 | P25: =O25*19% -> 0 | Q25: =O25+P25 -> 0 | S25: =R25*19% -> 0 | T25: =R25+S25 -> 0 | V25: =U25*19% -> 0 | W25: =U25+V25 -> 0 | Y25: =X25*19% -> 0 | Z25: =X25+Y25 -> 0 | AB25: =AA25*19% -> 0 | AC25: =AA25+AB25 -> 0 | AE25: =AD25*19% -> 0 | AF25: =AD25+AE25 -> 0 | AH25: =AG25*19% -> 0 | AI25: =AG25+AH25 -> 0 | AK25: =AJ25*19% -> 0 | AL25: =AJ25+AK25 -> 0 | AN25: =AM25*19% -> 0 | AO25: =AM25+AN25 -> 0 | AQ25: =AP25*19% -> 0 | AR25: =AP25+AQ25 -> 0 | AT25: =AS25*19% -> 0 | AU25: =AS25+AT25 -> 0 | AW25: =AV25*19% -> 0 | AX25: =AV25+AW25 -> 0 | AZ25: =AY25*19% -> 0 | BA25: =AY25+AZ25 -> 0 | BC25: =BB25*19% -> 0 | BD25: =BB25+BC25 -> 0 | BF25: =BE25*19% -> 0 | BG25: =BE25+BF25 -> 0 | BI25: =BH25*19% -> 0 | BJ25: =BH25+BI25 -> 0 | BL25: =BK25*19% -> 0 | BM25: =BK25+BL25 -> 0 | BO25: =BN25*19% -> 0 | BP25: =BN25+BO25 -> 0 | BR25: =BQ25*19% -> 0 | BS25: =BQ25+BR25 -> 0 | BU25: =BT25*19% -> 0 | BV25: =BT25+BU25 -> 0 | BX25: =BW25*19% -> 0 | BY25: =BW25+BX25 -> 0 | CA25: =BZ25*19% -> 0 | CB25: =BZ25+CA25 -> 0 | CD25: =CC25*19% -> 0 | CE25: =CC25+CD25 -> 0 | CG25: =CF25*19% -> 0 | CH25: =CF25+CG25 -> 0
A26: 2 | B26: MOTOR | C26: 0 | D26: 0 | E26: 0 | F26: 0 | G26: 0 | H26: 0 | I26: 0 | J26: 0 | K26: 0 | L26: 0 | M26: 0 | N26: 0 | O26: 0 | P26: 0 | Q26: 0 | R26: 0 | S26: 0 | T26: 0 | U26: 0 | V26: 0 | W26: 0 | X26: 0 | Y26: 0 | Z26: 0 | AA26: 0 | AB26: 0 | AC26: 0 | AD26: 0 | AE26: 0 | AF26: 0 | AG26: 0 | AH26: 0 | AI26: 0 | AJ26: 0 | AK26: 0 | AL26: 0 | AM26: 0 | AN26: 0 | AO26: 0 | AP26: 0 | AQ26: 0 | AR26: 0 | AS26: 0 | AT26: 0 | AU26: 0 | AV26: 0 | AW26: 0 | AX26: 0 | AY26: 0 | AZ26: 0 | BA26: 0 | BB26: 0 | BC26: 0 | BD26: 0 | BE26: 0 | BF26: 0 | BG26: 0 | BH26: 0 | BI26: 0 | BJ26: 0 | BK26: 0 | BL26: 0 | BM26: 0 | BN26: 0 | BO26: 0 | BP26: 0 | BQ26: 0 | BR26: 0 | BS26: 0 | BT26: 0 | BU26: 0 | BV26: 0 | BW26: 0 | BX26: 0 | BY26: 0 | BZ26: 0 | CA26: 0 | CB26: 0 | CC26: 0 | CD26: 0 | CE26: 0 | CF26: 0 | CG26: 0 | CH26: 0
A27: 2.1 | B27: PISTONES (JUEGO) | D27: =C27*19% -> 0 | E27: =C27+D27 -> 0 | G27: =F27*19% -> 0 | H27: =F27+G27 -> 0 | J27: =I27*19% -> 0 | K27: =I27+J27 -> 0 | M27: =L27*19% -> 0 | N27: =L27+M27 -> 0 | P27: =O27*19% -> 0 | Q27: =O27+P27 -> 0 | S27: =R27*19% -> 0 | T27: =R27+S27 -> 0 | V27: =U27*19% -> 0 | W27: =U27+V27 -> 0 | Y27: =X27*19% -> 0 | Z27: =X27+Y27 -> 0 | AB27: =AA27*19% -> 0 | AC27: =AA27+AB27 -> 0 | AE27: =AD27*19% -> 0 | AF27: =AD27+AE27 -> 0 | AH27: =AG27*19% -> 0 | AI27: =AG27+AH27 -> 0 | AK27: =AJ27*19% -> 0 | AL27: =AJ27+AK27 -> 0 | AN27: =AM27*19% -> 0 | AO27: =AM27+AN27 -> 0 | AQ27: =AP27*19% -> 0 | AR27: =AP27+AQ27 -> 0 | AT27: =AS27*19% -> 0 | AU27: =AS27+AT27 -> 0 | AW27: =AV27*19% -> 0 | AX27: =AV27+AW27 -> 0 | AZ27: =AY27*19% -> 0 | BA27: =AY27+AZ27 -> 0 | BC27: =BB27*19% -> 0 | BD27: =BB27+BC27 -> 0 | BF27: =BE27*19% -> 0 | BG27: =BE27+BF27 -> 0 | BI27: =BH27*19% -> 0 | BJ27: =BH27+BI27 -> 0 | BL27: =BK27*19% -> 0 | BM27: =BK27+BL27 -> 0 | BO27: =BN27*19% -> 0 | BP27: =BN27+BO27 -> 0 | BR27: =BQ27*19% -> 0 | BS27: =BQ27+BR27 -> 0 | BU27: =BT27*19% -> 0 | BV27: =BT27+BU27 -> 0 | BX27: =BW27*19% -> 0 | BY27: =BW27+BX27 -> 0 | CA27: =BZ27*19% -> 0 | CB27: =BZ27+CA27 -> 0 | CD27: =CC27*19% -> 0 | CE27: =CC27+CD27 -> 0 | CG27: =CF27*19% -> 0 | CH27: =CF27+CG27 -> 0
A28: 2.2 | B28: VALVULAS DE ADMISION( JUEGO) | D28: =C28*19% -> 0 | E28: =C28+D28 -> 0 | G28: =F28*19% -> 0 | H28: =F28+G28 -> 0 | J28: =I28*19% -> 0 | K28: =I28+J28 -> 0 | M28: =L28*19% -> 0 | N28: =L28+M28 -> 0 | P28: =O28*19% -> 0 | Q28: =O28+P28 -> 0 | S28: =R28*19% -> 0 | T28: =R28+S28 -> 0 | V28: =U28*19% -> 0 | W28: =U28+V28 -> 0 | Y28: =X28*19% -> 0 | Z28: =X28+Y28 -> 0 | AB28: =AA28*19% -> 0 | AC28: =AA28+AB28 -> 0 | AE28: =AD28*19% -> 0 | AF28: =AD28+AE28 -> 0 | AH28: =AG28*19% -> 0 | AI28: =AG28+AH28 -> 0 | AK28: =AJ28*19% -> 0 | AL28: =AJ28+AK28 -> 0 | AN28: =AM28*19% -> 0 | AO28: =AM28+AN28 -> 0 | AQ28: =AP28*19% -> 0 | AR28: =AP28+AQ28 -> 0 | AT28: =AS28*19% -> 0 | AU28: =AS28+AT28 -> 0 | AW28: =AV28*19% -> 0 | AX28: =AV28+AW28 -> 0 | AZ28: =AY28*19% -> 0 | BA28: =AY28+AZ28 -> 0 | BC28: =BB28*19% -> 0 | BD28: =BB28+BC28 -> 0 | BF28: =BE28*19% -> 0 | BG28: =BE28+BF28 -> 0 | BI28: =BH28*19% -> 0 | BJ28: =BH28+BI28 -> 0 | BL28: =BK28*19% -> 0 | BM28: =BK28+BL28 -> 0 | BO28: =BN28*19% -> 0 | BP28: =BN28+BO28 -> 0 | BR28: =BQ28*19% -> 0 | BS28: =BQ28+BR28 -> 0 | BU28: =BT28*19% -> 0 | BV28: =BT28+BU28 -> 0 | BX28: =BW28*19% -> 0 | BY28: =BW28+BX28 -> 0 | CA28: =BZ28*19% -> 0 | CB28: =BZ28+CA28 -> 0 | CD28: =CC28*19% -> 0 | CE28: =CC28+CD28 -> 0 | CG28: =CF28*19% -> 0 | CH28: =CF28+CG28 -> 0
A29: 2.3 | B29: VALVULAS DE ESCAPE (JUEGO) | D29: =C29*19% -> 0 | E29: =C29+D29 -> 0 | G29: =F29*19% -> 0 | H29: =F29+G29 -> 0 | J29: =I29*19% -> 0 | K29: =I29+J29 -> 0 | M29: =L29*19% -> 0 | N29: =L29+M29 -> 0 | P29: =O29*19% -> 0 | Q29: =O29+P29 -> 0 | S29: =R29*19% -> 0 | T29: =R29+S29 -> 0 | V29: =U29*19% -> 0 | W29: =U29+V29 -> 0 | Y29: =X29*19% -> 0 | Z29: =X29+Y29 -> 0 | AB29: =AA29*19% -> 0 | AC29: =AA29+AB29 -> 0 | AE29: =AD29*19% -> 0 | AF29: =AD29+AE29 -> 0 | AH29: =AG29*19% -> 0 | AI29: =AG29+AH29 -> 0 | AK29: =AJ29*19% -> 0 | AL29: =AJ29+AK29 -> 0 | AN29: =AM29*19% -> 0 | AO29: =AM29+AN29 -> 0 | AQ29: =AP29*19% -> 0 | AR29: =AP29+AQ29 -> 0 | AT29: =AS29*19% -> 0 | AU29: =AS29+AT29 -> 0 | AW29: =AV29*19% -> 0 | AX29: =AV29+AW29 -> 0 | AZ29: =AY29*19% -> 0 | BA29: =AY29+AZ29 -> 0 | BC29: =BB29*19% -> 0 | BD29: =BB29+BC29 -> 0 | BF29: =BE29*19% -> 0 | BG29: =BE29+BF29 -> 0 | BI29: =BH29*19% -> 0 | BJ29: =BH29+BI29 -> 0 | BL29: =BK29*19% -> 0 | BM29: =BK29+BL29 -> 0 | BO29: =BN29*19% -> 0 | BP29: =BN29+BO29 -> 0 | BR29: =BQ29*19% -> 0 | BS29: =BQ29+BR29 -> 0 | BU29: =BT29*19% -> 0 | BV29: =BT29+BU29 -> 0 | BX29: =BW29*19% -> 0 | BY29: =BW29+BX29 -> 0 | CA29: =BZ29*19% -> 0 | CB29: =BZ29+CA29 -> 0 | CD29: =CC29*19% -> 0 | CE29: =CC29+CD29 -> 0 | CG29: =CF29*19% -> 0 | CH29: =CF29+CG29 -> 0
A30: 2.4 | B30: ANILLOS (JUEGO) | D30: =C30*19% -> 0 | E30: =C30+D30 -> 0 | G30: =F30*19% -> 0 | H30: =F30+G30 -> 0 | J30: =I30*19% -> 0 | K30: =I30+J30 -> 0 | M30: =L30*19% -> 0 | N30: =L30+M30 -> 0 | P30: =O30*19% -> 0 | Q30: =O30+P30 -> 0 | S30: =R30*19% -> 0 | T30: =R30+S30 -> 0 | V30: =U30*19% -> 0 | W30: =U30+V30 -> 0 | Y30: =X30*19% -> 0 | Z30: =X30+Y30 -> 0 | AB30: =AA30*19% -> 0 | AC30: =AA30+AB30 -> 0 | AE30: =AD30*19% -> 0 | AF30: =AD30+AE30 -> 0 | AH30: =AG30*19% -> 0 | AI30: =AG30+AH30 -> 0 | AK30: =AJ30*19% -> 0 | AL30: =AJ30+AK30 -> 0 | AN30: =AM30*19% -> 0 | AO30: =AM30+AN30 -> 0 | AQ30: =AP30*19% -> 0 | AR30: =AP30+AQ30 -> 0 | AT30: =AS30*19% -> 0 | AU30: =AS30+AT30 -> 0 | AW30: =AV30*19% -> 0 | AX30: =AV30+AW30 -> 0 | AZ30: =AY30*19% -> 0 | BA30: =AY30+AZ30 -> 0 | BC30: =BB30*19% -> 0 | BD30: =BB30+BC30 -> 0 | BF30: =BE30*19% -> 0 | BG30: =BE30+BF30 -> 0 | BI30: =BH30*19% -> 0 | BJ30: =BH30+BI30 -> 0 | BL30: =BK30*19% -> 0 | BM30: =BK30+BL30 -> 0 | BO30: =BN30*19% -> 0 | BP30: =BN30+BO30 -> 0 | BR30: =BQ30*19% -> 0 | BS30: =BQ30+BR30 -> 0 | BU30: =BT30*19% -> 0 | BV30: =BT30+BU30 -> 0 | BX30: =BW30*19% -> 0 | BY30: =BW30+BX30 -> 0 | CA30: =BZ30*19% -> 0 | CB30: =BZ30+CA30 -> 0 | CD30: =CC30*19% -> 0 | CE30: =CC30+CD30 -> 0 | CG30: =CF30*19% -> 0 | CH30: =CF30+CG30 -> 0
A31: 2.5 | B31: ASPAS FAN CLUTHS | D31: =C31*19% -> 0 | E31: =C31+D31 -> 0 | G31: =F31*19% -> 0 | H31: =F31+G31 -> 0 | J31: =I31*19% -> 0 | K31: =I31+J31 -> 0 | M31: =L31*19% -> 0 | N31: =L31+M31 -> 0 | P31: =O31*19% -> 0 | Q31: =O31+P31 -> 0 | S31: =R31*19% -> 0 | T31: =R31+S31 -> 0 | V31: =U31*19% -> 0 | W31: =U31+V31 -> 0 | Y31: =X31*19% -> 0 | Z31: =X31+Y31 -> 0 | AB31: =AA31*19% -> 0 | AC31: =AA31+AB31 -> 0 | AE31: =AD31*19% -> 0 | AF31: =AD31+AE31 -> 0 | AH31: =AG31*19% -> 0 | AI31: =AG31+AH31 -> 0 | AK31: =AJ31*19% -> 0 | AL31: =AJ31+AK31 -> 0 | AN31: =AM31*19% -> 0 | AO31: =AM31+AN31 -> 0 | AQ31: =AP31*19% -> 0 | AR31: =AP31+AQ31 -> 0 | AT31: =AS31*19% -> 0 | AU31: =AS31+AT31 -> 0 | AW31: =AV31*19% -> 0 | AX31: =AV31+AW31 -> 0 | AZ31: =AY31*19% -> 0 | BA31: =AY31+AZ31 -> 0 | BC31: =BB31*19% -> 0 | BD31: =BB31+BC31 -> 0 | BF31: =BE31*19% -> 0 | BG31: =BE31+BF31 -> 0 | BI31: =BH31*19% -> 0 | BJ31: =BH31+BI31 -> 0 | BL31: =BK31*19% -> 0 | BM31: =BK31+BL31 -> 0 | BO31: =BN31*19% -> 0 | BP31: =BN31+BO31 -> 0 | BR31: =BQ31*19% -> 0 | BS31: =BQ31+BR31 -> 0 | BU31: =BT31*19% -> 0 | BV31: =BT31+BU31 -> 0 | BX31: =BW31*19% -> 0 | BY31: =BW31+BX31 -> 0 | CA31: =BZ31*19% -> 0 | CB31: =BZ31+CA31 -> 0 | CD31: =CC31*19% -> 0 | CE31: =CC31+CD31 -> 0 | CG31: =CF31*19% -> 0 | CH31: =CF31+CG31 -> 0
A32: 2.6 | B32: BASE PATIN TENSOR MONOCORREA | D32: =C32*19% -> 0 | E32: =C32+D32 -> 0 | G32: =F32*19% -> 0 | H32: =F32+G32 -> 0 | J32: =I32*19% -> 0 | K32: =I32+J32 -> 0 | M32: =L32*19% -> 0 | N32: =L32+M32 -> 0 | P32: =O32*19% -> 0 | Q32: =O32+P32 -> 0 | S32: =R32*19% -> 0 | T32: =R32+S32 -> 0 | V32: =U32*19% -> 0 | W32: =U32+V32 -> 0 | Y32: =X32*19% -> 0 | Z32: =X32+Y32 -> 0 | AB32: =AA32*19% -> 0 | AC32: =AA32+AB32 -> 0 | AE32: =AD32*19% -> 0 | AF32: =AD32+AE32 -> 0 | AH32: =AG32*19% -> 0 | AI32: =AG32+AH32 -> 0 | AK32: =AJ32*19% -> 0 | AL32: =AJ32+AK32 -> 0 | AN32: =AM32*19% -> 0 | AO32: =AM32+AN32 -> 0 | AQ32: =AP32*19% -> 0 | AR32: =AP32+AQ32 -> 0 | AT32: =AS32*19% -> 0 | AU32: =AS32+AT32 -> 0 | AW32: =AV32*19% -> 0 | AX32: =AV32+AW32 -> 0 | AZ32: =AY32*19% -> 0 | BA32: =AY32+AZ32 -> 0 | BC32: =BB32*19% -> 0 | BD32: =BB32+BC32 -> 0 | BF32: =BE32*19% -> 0 | BG32: =BE32+BF32 -> 0 | BI32: =BH32*19% -> 0 | BJ32: =BH32+BI32 -> 0 | BL32: =BK32*19% -> 0 | BM32: =BK32+BL32 -> 0 | BO32: =BN32*19% -> 0 | BP32: =BN32+BO32 -> 0 | BR32: =BQ32*19% -> 0 | BS32: =BQ32+BR32 -> 0 | BU32: =BT32*19% -> 0 | BV32: =BT32+BU32 -> 0 | BX32: =BW32*19% -> 0 | BY32: =BW32+BX32 -> 0 | CA32: =BZ32*19% -> 0 | CB32: =BZ32+CA32 -> 0 | CD32: =CC32*19% -> 0 | CE32: =CC32+CD32 -> 0 | CG32: =CF32*19% -> 0 | CH32: =CF32+CG32 -> 0
A33: 2.7 | B33: BOMBA DE ACEITE | D33: =C33*19% -> 0 | E33: =C33+D33 -> 0 | G33: =F33*19% -> 0 | H33: =F33+G33 -> 0 | J33: =I33*19% -> 0 | K33: =I33+J33 -> 0 | M33: =L33*19% -> 0 | N33: =L33+M33 -> 0 | P33: =O33*19% -> 0 | Q33: =O33+P33 -> 0 | R33: NO APLICA | S33: N/A | T33: NO APLICA | V33: =U33*19% -> 0 | W33: =U33+V33 -> 0 | Y33: =X33*19% -> 0 | Z33: =X33+Y33 -> 0 | AB33: =AA33*19% -> 0 | AC33: =AA33+AB33 -> 0 | AE33: =AD33*19% -> 0 | AF33: =AD33+AE33 -> 0 | AH33: =AG33*19% -> 0 | AI33: =AG33+AH33 -> 0 | AK33: =AJ33*19% -> 0 | AL33: =AJ33+AK33 -> 0 | AN33: =AM33*19% -> 0 | AO33: =AM33+AN33 -> 0 | AQ33: =AP33*19% -> 0 | AR33: =AP33+AQ33 -> 0 | AT33: =AS33*19% -> 0 | AU33: =AS33+AT33 -> 0 | AW33: =AV33*19% -> 0 | AX33: =AV33+AW33 -> 0 | AZ33: =AY33*19% -> 0 | BA33: =AY33+AZ33 -> 0 | BC33: =BB33*19% -> 0 | BD33: =BB33+BC33 -> 0 | BF33: =BE33*19% -> 0 | BG33: =BE33+BF33 -> 0 | BI33: =BH33*19% -> 0 | BJ33: =BH33+BI33 -> 0 | BL33: =BK33*19% -> 0 | BM33: =BK33+BL33 -> 0 | BO33: =BN33*19% -> 0 | BP33: =BN33+BO33 -> 0 | BR33: =BQ33*19% -> 0 | BS33: =BQ33+BR33 -> 0 | BU33: =BT33*19% -> 0 | BV33: =BT33+BU33 -> 0 | BX33: =BW33*19% -> 0 | BY33: =BW33+BX33 -> 0 | CA33: =BZ33*19% -> 0 | CB33: =BZ33+CA33 -> 0 | CD33: =CC33*19% -> 0 | CE33: =CC33+CD33 -> 0 | CG33: =CF33*19% -> 0 | CH33: =CF33+CG33 -> 0
A34: 2.8 | B34: BOMBA DE AGUA | D34: =C34*19% -> 0 | E34: =C34+D34 -> 0 | G34: =F34*19% -> 0 | H34: =F34+G34 -> 0 | J34: =I34*19% -> 0 | K34: =I34+J34 -> 0 | M34: =L34*19% -> 0 | N34: =L34+M34 -> 0 | P34: =O34*19% -> 0 | Q34: =O34+P34 -> 0 | S34: =R34*19% -> 0 | T34: =R34+S34 -> 0 | V34: =U34*19% -> 0 | W34: =U34+V34 -> 0 | Y34: =X34*19% -> 0 | Z34: =X34+Y34 -> 0 | AB34: =AA34*19% -> 0 | AC34: =AA34+AB34 -> 0 | AE34: =AD34*19% -> 0 | AF34: =AD34+AE34 -> 0 | AH34: =AG34*19% -> 0 | AI34: =AG34+AH34 -> 0 | AK34: =AJ34*19% -> 0 | AL34: =AJ34+AK34 -> 0 | AN34: =AM34*19% -> 0 | AO34: =AM34+AN34 -> 0 | AQ34: =AP34*19% -> 0 | AR34: =AP34+AQ34 -> 0 | AT34: =AS34*19% -> 0 | AU34: =AS34+AT34 -> 0 | AW34: =AV34*19% -> 0 | AX34: =AV34+AW34 -> 0 | AZ34: =AY34*19% -> 0 | BA34: =AY34+AZ34 -> 0 | BC34: =BB34*19% -> 0 | BD34: =BB34+BC34 -> 0 | BF34: =BE34*19% -> 0 | BG34: =BE34+BF34 -> 0 | BI34: =BH34*19% -> 0 | BJ34: =BH34+BI34 -> 0 | BL34: =BK34*19% -> 0 | BM34: =BK34+BL34 -> 0 | BO34: =BN34*19% -> 0 | BP34: =BN34+BO34 -> 0 | BR34: =BQ34*19% -> 0 | BS34: =BQ34+BR34 -> 0 | BU34: =BT34*19% -> 0 | BV34: =BT34+BU34 -> 0 | BX34: =BW34*19% -> 0 | BY34: =BW34+BX34 -> 0 | CA34: =BZ34*19% -> 0 | CB34: =BZ34+CA34 -> 0 | CD34: =CC34*19% -> 0 | CE34: =CC34+CD34 -> 0 | CG34: =CF34*19% -> 0 | CH34: =CF34+CG34 -> 0
A35: 2.9 | B35: CASQUETES BANCADA (JUEGO) | D35: =C35*19% -> 0 | E35: =C35+D35 -> 0 | G35: =F35*19% -> 0 | H35: =F35+G35 -> 0 | J35: =I35*19% -> 0 | K35: =I35+J35 -> 0 | M35: =L35*19% -> 0 | N35: =L35+M35 -> 0 | P35: =O35*19% -> 0 | Q35: =O35+P35 -> 0 | S35: =R35*19% -> 0 | T35: =R35+S35 -> 0 | V35: =U35*19% -> 0 | W35: =U35+V35 -> 0 | Y35: =X35*19% -> 0 | Z35: =X35+Y35 -> 0 | AB35: =AA35*19% -> 0 | AC35: =AA35+AB35 -> 0 | AE35: =AD35*19% -> 0 | AF35: =AD35+AE35 -> 0 | AH35: =AG35*19% -> 0 | AI35: =AG35+AH35 -> 0 | AK35: =AJ35*19% -> 0 | AL35: =AJ35+AK35 -> 0 | AN35: =AM35*19% -> 0 | AO35: =AM35+AN35 -> 0 | AQ35: =AP35*19% -> 0 | AR35: =AP35+AQ35 -> 0 | AT35: =AS35*19% -> 0 | AU35: =AS35+AT35 -> 0 | AW35: =AV35*19% -> 0 | AX35: =AV35+AW35 -> 0 | AZ35: =AY35*19% -> 0 | BA35: =AY35+AZ35 -> 0 | BC35: =BB35*19% -> 0 | BD35: =BB35+BC35 -> 0 | BF35: =BE35*19% -> 0 | BG35: =BE35+BF35 -> 0 | BI35: =BH35*19% -> 0 | BJ35: =BH35+BI35 -> 0 | BL35: =BK35*19% -> 0 | BM35: =BK35+BL35 -> 0 | BO35: =BN35*19% -> 0 | BP35: =BN35+BO35 -> 0 | BR35: =BQ35*19% -> 0 | BS35: =BQ35+BR35 -> 0 | BU35: =BT35*19% -> 0 | BV35: =BT35+BU35 -> 0 | BX35: =BW35*19% -> 0 | BY35: =BW35+BX35 -> 0 | CA35: =BZ35*19% -> 0 | CB35: =BZ35+CA35 -> 0 | CD35: =CC35*19% -> 0 | CE35: =CC35+CD35 -> 0 | CG35: =CF35*19% -> 0 | CH35: =CF35+CG35 -> 0
A36: 2.10 | B36: CASQUETES BIELA (JUEGO) | D36: =C36*19% -> 0 | E36: =C36+D36 -> 0 | G36: =F36*19% -> 0 | H36: =F36+G36 -> 0 | J36: =I36*19% -> 0 | K36: =I36+J36 -> 0 | M36: =L36*19% -> 0 | N36: =L36+M36 -> 0 | P36: =O36*19% -> 0 | Q36: =O36+P36 -> 0 | S36: =R36*19% -> 0 | T36: =R36+S36 -> 0 | V36: =U36*19% -> 0 | W36: =U36+V36 -> 0 | Y36: =X36*19% -> 0 | Z36: =X36+Y36 -> 0 | AB36: =AA36*19% -> 0 | AC36: =AA36+AB36 -> 0 | AE36: =AD36*19% -> 0 | AF36: =AD36+AE36 -> 0 | AH36: =AG36*19% -> 0 | AI36: =AG36+AH36 -> 0 | AK36: =AJ36*19% -> 0 | AL36: =AJ36+AK36 -> 0 | AN36: =AM36*19% -> 0 | AO36: =AM36+AN36 -> 0 | AQ36: =AP36*19% -> 0 | AR36: =AP36+AQ36 -> 0 | AT36: =AS36*19% -> 0 | AU36: =AS36+AT36 -> 0 | AW36: =AV36*19% -> 0 | AX36: =AV36+AW36 -> 0 | AZ36: =AY36*19% -> 0 | BA36: =AY36+AZ36 -> 0 | BC36: =BB36*19% -> 0 | BD36: =BB36+BC36 -> 0 | BF36: =BE36*19% -> 0 | BG36: =BE36+BF36 -> 0 | BI36: =BH36*19% -> 0 | BJ36: =BH36+BI36 -> 0 | BL36: =BK36*19% -> 0 | BM36: =BK36+BL36 -> 0 | BO36: =BN36*19% -> 0 | BP36: =BN36+BO36 -> 0 | BR36: =BQ36*19% -> 0 | BS36: =BQ36+BR36 -> 0 | BU36: =BT36*19% -> 0 | BV36: =BT36+BU36 -> 0 | BX36: =BW36*19% -> 0 | BY36: =BW36+BX36 -> 0 | CA36: =BZ36*19% -> 0 | CB36: =BZ36+CA36 -> 0 | CD36: =CC36*19% -> 0 | CE36: =CC36+CD36 -> 0 | CG36: =CF36*19% -> 0 | CH36: =CF36+CG36 -> 0
A37: 2.11 | B37: CORREA AIRE ACONDICIONADO | D37: =C37*19% -> 0 | E37: =C37+D37 -> 0 | G37: =F37*19% -> 0 | H37: =F37+G37 -> 0 | J37: =I37*19% -> 0 | K37: =I37+J37 -> 0 | M37: =L37*19% -> 0 | N37: =L37+M37 -> 0 | P37: =O37*19% -> 0 | Q37: =O37+P37 -> 0 | S37: =R37*19% -> 0 | T37: =R37+S37 -> 0 | V37: =U37*19% -> 0 | W37: =U37+V37 -> 0 | Y37: =X37*19% -> 0 | Z37: =X37+Y37 -> 0 | AB37: =AA37*19% -> 0 | AC37: =AA37+AB37 -> 0 | AE37: =AD37*19% -> 0 | AF37: =AD37+AE37 -> 0 | AH37: =AG37*19% -> 0 | AI37: =AG37+AH37 -> 0 | AK37: =AJ37*19% -> 0 | AL37: =AJ37+AK37 -> 0 | AN37: =AM37*19% -> 0 | AO37: =AM37+AN37 -> 0 | AQ37: =AP37*19% -> 0 | AR37: =AP37+AQ37 -> 0 | AT37: =AS37*19% -> 0 | AU37: =AS37+AT37 -> 0 | AW37: =AV37*19% -> 0 | AX37: =AV37+AW37 -> 0 | AZ37: =AY37*19% -> 0 | BA37: =AY37+AZ37 -> 0 | BC37: =BB37*19% -> 0 | BD37: =BB37+BC37 -> 0 | BF37: =BE37*19% -> 0 | BG37: =BE37+BF37 -> 0 | BI37: =BH37*19% -> 0 | BJ37: =BH37+BI37 -> 0 | BL37: =BK37*19% -> 0 | BM37: =BK37+BL37 -> 0 | BO37: =BN37*19% -> 0 | BP37: =BN37+BO37 -> 0 | BR37: =BQ37*19% -> 0 | BS37: =BQ37+BR37 -> 0 | BU37: =BT37*19% -> 0 | BV37: =BT37+BU37 -> 0 | BX37: =BW37*19% -> 0 | BY37: =BW37+BX37 -> 0 | CA37: =BZ37*19% -> 0 | CB37: =BZ37+CA37 -> 0 | CD37: =CC37*19% -> 0 | CE37: =CC37+CD37 -> 0 | CG37: =CF37*19% -> 0 | CH37: =CF37+CG37 -> 0
A38: 2.12 | B38: CORREA ALTERNADOR | D38: =C38*19% -> 0 | E38: =C38+D38 -> 0 | G38: =F38*19% -> 0 | H38: =F38+G38 -> 0 | J38: =I38*19% -> 0 | K38: =I38+J38 -> 0 | M38: =L38*19% -> 0 | N38: =L38+M38 -> 0 | P38: =O38*19% -> 0 | Q38: =O38+P38 -> 0 | S38: =R38*19% -> 0 | T38: =R38+S38 -> 0 | V38: =U38*19% -> 0 | W38: =U38+V38 -> 0 | Y38: =X38*19% -> 0 | Z38: =X38+Y38 -> 0 | AB38: =AA38*19% -> 0 | AC38: =AA38+AB38 -> 0 | AE38: =AD38*19% -> 0 | AF38: =AD38+AE38 -> 0 | AH38: =AG38*19% -> 0 | AI38: =AG38+AH38 -> 0 | AK38: =AJ38*19% -> 0 | AL38: =AJ38+AK38 -> 0 | AN38: =AM38*19% -> 0 | AO38: =AM38+AN38 -> 0 | AQ38: =AP38*19% -> 0 | AR38: =AP38+AQ38 -> 0 | AT38: =AS38*19% -> 0 | AU38: =AS38+AT38 -> 0 | AW38: =AV38*19% -> 0 | AX38: =AV38+AW38 -> 0 | AZ38: =AY38*19% -> 0 | BA38: =AY38+AZ38 -> 0 | BC38: =BB38*19% -> 0 | BD38: =BB38+BC38 -> 0 | BF38: =BE38*19% -> 0 | BG38: =BE38+BF38 -> 0 | BI38: =BH38*19% -> 0 | BJ38: =BH38+BI38 -> 0 | BL38: =BK38*19% -> 0 | BM38: =BK38+BL38 -> 0 | BO38: =BN38*19% -> 0 | BP38: =BN38+BO38 -> 0 | BR38: =BQ38*19% -> 0 | BS38: =BQ38+BR38 -> 0 | BU38: =BT38*19% -> 0 | BV38: =BT38+BU38 -> 0 | BX38: =BW38*19% -> 0 | BY38: =BW38+BX38 -> 0 | CA38: =BZ38*19% -> 0 | CB38: =BZ38+CA38 -> 0 | CD38: =CC38*19% -> 0 | CE38: =CC38+CD38 -> 0 | CG38: =CF38*19% -> 0 | CH38: =CF38+CG38 -> 0
A39: 2.13 | B39: CORREA HIDRAHULICO | D39: =C39*19% -> 0 | E39: =C39+D39 -> 0 | G39: =F39*19% -> 0 | H39: =F39+G39 -> 0 | J39: =I39*19% -> 0 | K39: =I39+J39 -> 0 | M39: =L39*19% -> 0 | N39: =L39+M39 -> 0 | P39: =O39*19% -> 0 | Q39: =O39+P39 -> 0 | S39: =R39*19% -> 0 | T39: =R39+S39 -> 0 | V39: =U39*19% -> 0 | W39: =U39+V39 -> 0 | Y39: =X39*19% -> 0 | Z39: =X39+Y39 -> 0 | AB39: =AA39*19% -> 0 | AC39: =AA39+AB39 -> 0 | AE39: =AD39*19% -> 0 | AF39: =AD39+AE39 -> 0 | AH39: =AG39*19% -> 0 | AI39: =AG39+AH39 -> 0 | AK39: =AJ39*19% -> 0 | AL39: =AJ39+AK39 -> 0 | AN39: =AM39*19% -> 0 | AO39: =AM39+AN39 -> 0 | AQ39: =AP39*19% -> 0 | AR39: =AP39+AQ39 -> 0 | AT39: =AS39*19% -> 0 | AU39: =AS39+AT39 -> 0 | AW39: =AV39*19% -> 0 | AX39: =AV39+AW39 -> 0 | AZ39: =AY39*19% -> 0 | BA39: =AY39+AZ39 -> 0 | BC39: =BB39*19% -> 0 | BD39: =BB39+BC39 -> 0 | BF39: =BE39*19% -> 0 | BG39: =BE39+BF39 -> 0 | BI39: =BH39*19% -> 0 | BJ39: =BH39+BI39 -> 0 | BL39: =BK39*19% -> 0 | BM39: =BK39+BL39 -> 0 | BO39: =BN39*19% -> 0 | BP39: =BN39+BO39 -> 0 | BR39: =BQ39*19% -> 0 | BS39: =BQ39+BR39 -> 0 | BU39: =BT39*19% -> 0 | BV39: =BT39+BU39 -> 0 | BX39: =BW39*19% -> 0 | BY39: =BW39+BX39 -> 0 | CA39: =BZ39*19% -> 0 | CB39: =BZ39+CA39 -> 0 | CD39: =CC39*19% -> 0 | CE39: =CC39+CD39 -> 0 | CG39: =CF39*19% -> 0 | CH39: =CF39+CG39 -> 0
A40: 2.14 | B40: EMPAQUE CULATA | D40: =C40*19% -> 0 | E40: =C40+D40 -> 0 | G40: =F40*19% -> 0 | H40: =F40+G40 -> 0 | J40: =I40*19% -> 0 | K40: =I40+J40 -> 0 | M40: =L40*19% -> 0 | N40: =L40+M40 -> 0 | P40: =O40*19% -> 0 | Q40: =O40+P40 -> 0 | S40: =R40*19% -> 0 | T40: =R40+S40 -> 0 | V40: =U40*19% -> 0 | W40: =U40+V40 -> 0 | Y40: =X40*19% -> 0 | Z40: =X40+Y40 -> 0 | AB40: =AA40*19% -> 0 | AC40: =AA40+AB40 -> 0 | AE40: =AD40*19% -> 0 | AF40: =AD40+AE40 -> 0 | AH40: =AG40*19% -> 0 | AI40: =AG40+AH40 -> 0 | AK40: =AJ40*19% -> 0 | AL40: =AJ40+AK40 -> 0 | AN40: =AM40*19% -> 0 | AO40: =AM40+AN40 -> 0 | AQ40: =AP40*19% -> 0 | AR40: =AP40+AQ40 -> 0 | AT40: =AS40*19% -> 0 | AU40: =AS40+AT40 -> 0 | AW40: =AV40*19% -> 0 | AX40: =AV40+AW40 -> 0 | AZ40: =AY40*19% -> 0 | BA40: =AY40+AZ40 -> 0 | BC40: =BB40*19% -> 0 | BD40: =BB40+BC40 -> 0 | BF40: =BE40*19% -> 0 | BG40: =BE40+BF40 -> 0 | BI40: =BH40*19% -> 0 | BJ40: =BH40+BI40 -> 0 | BL40: =BK40*19% -> 0 | BM40: =BK40+BL40 -> 0 | BO40: =BN40*19% -> 0 | BP40: =BN40+BO40 -> 0 | BR40: =BQ40*19% -> 0 | BS40: =BQ40+BR40 -> 0 | BU40: =BT40*19% -> 0 | BV40: =BT40+BU40 -> 0 | BX40: =BW40*19% -> 0 | BY40: =BW40+BX40 -> 0 | CA40: =BZ40*19% -> 0 | CB40: =BZ40+CA40 -> 0 | CD40: =CC40*19% -> 0 | CE40: =CC40+CD40 -> 0 | CG40: =CF40*19% -> 0 | CH40: =CF40+CG40 -> 0
A41: 2.15 | B41: EMPAQUE CARTER | D41: =C41*19% -> 0 | E41: =C41+D41 -> 0 | G41: =F41*19% -> 0 | H41: =F41+G41 -> 0 | J41: =I41*19% -> 0 | K41: =I41+J41 -> 0 | M41: =L41*19% -> 0 | N41: =L41+M41 -> 0 | P41: =O41*19% -> 0 | Q41: =O41+P41 -> 0 | S41: =R41*19% -> 0 | T41: =R41+S41 -> 0 | V41: =U41*19% -> 0 | W41: =U41+V41 -> 0 | Y41: =X41*19% -> 0 | Z41: =X41+Y41 -> 0 | AB41: =AA41*19% -> 0 | AC41: =AA41+AB41 -> 0 | AE41: =AD41*19% -> 0 | AF41: =AD41+AE41 -> 0 | AH41: =AG41*19% -> 0 | AI41: =AG41+AH41 -> 0 | AK41: =AJ41*19% -> 0 | AL41: =AJ41+AK41 -> 0 | AN41: =AM41*19% -> 0 | AO41: =AM41+AN41 -> 0 | AQ41: =AP41*19% -> 0 | AR41: =AP41+AQ41 -> 0 | AT41: =AS41*19% -> 0 | AU41: =AS41+AT41 -> 0 | AW41: =AV41*19% -> 0 | AX41: =AV41+AW41 -> 0 | AZ41: =AY41*19% -> 0 | BA41: =AY41+AZ41 -> 0 | BC41: =BB41*19% -> 0 | BD41: =BB41+BC41 -> 0 | BF41: =BE41*19% -> 0 | BG41: =BE41+BF41 -> 0 | BI41: =BH41*19% -> 0 | BJ41: =BH41+BI41 -> 0 | BL41: =BK41*19% -> 0 | BM41: =BK41+BL41 -> 0 | BO41: =BN41*19% -> 0 | BP41: =BN41+BO41 -> 0 | BR41: =BQ41*19% -> 0 | BS41: =BQ41+BR41 -> 0 | BU41: =BT41*19% -> 0 | BV41: =BT41+BU41 -> 0 | BX41: =BW41*19% -> 0 | BY41: =BW41+BX41 -> 0 | CA41: =BZ41*19% -> 0 | CB41: =BZ41+CA41 -> 0 | CD41: =CC41*19% -> 0 | CE41: =CC41+CD41 -> 0 | CG41: =CF41*19% -> 0 | CH41: =CF41+CG41 -> 0
A42: 2.16 | B42: EMPAQUE TAPA VALVULAS | D42: =C42*19% -> 0 | E42: =C42+D42 -> 0 | G42: =F42*19% -> 0 | H42: =F42+G42 -> 0 | J42: =I42*19% -> 0 | K42: =I42+J42 -> 0 | M42: =L42*19% -> 0 | N42: =L42+M42 -> 0 | P42: =O42*19% -> 0 | Q42: =O42+P42 -> 0 | S42: =R42*19% -> 0 | T42: =R42+S42 -> 0 | V42: =U42*19% -> 0 | W42: =U42+V42 -> 0 | Y42: =X42*19% -> 0 | Z42: =X42+Y42 -> 0 | AB42: =AA42*19% -> 0 | AC42: =AA42+AB42 -> 0 | AE42: =AD42*19% -> 0 | AF42: =AD42+AE42 -> 0 | AH42: =AG42*19% -> 0 | AI42: =AG42+AH42 -> 0 | AK42: =AJ42*19% -> 0 | AL42: =AJ42+AK42 -> 0 | AN42: =AM42*19% -> 0 | AO42: =AM42+AN42 -> 0 | AQ42: =AP42*19% -> 0 | AR42: =AP42+AQ42 -> 0 | AT42: =AS42*19% -> 0 | AU42: =AS42+AT42 -> 0 | AW42: =AV42*19% -> 0 | AX42: =AV42+AW42 -> 0 | AZ42: =AY42*19% -> 0 | BA42: =AY42+AZ42 -> 0 | BC42: =BB42*19% -> 0 | BD42: =BB42+BC42 -> 0 | BF42: =BE42*19% -> 0 | BG42: =BE42+BF42 -> 0 | BI42: =BH42*19% -> 0 | BJ42: =BH42+BI42 -> 0 | BL42: =BK42*19% -> 0 | BM42: =BK42+BL42 -> 0 | BO42: =BN42*19% -> 0 | BP42: =BN42+BO42 -> 0 | BR42: =BQ42*19% -> 0 | BS42: =BQ42+BR42 -> 0 | BU42: =BT42*19% -> 0 | BV42: =BT42+BU42 -> 0 | BX42: =BW42*19% -> 0 | BY42: =BW42+BX42 -> 0 | CA42: =BZ42*19% -> 0 | CB42: =BZ42+CA42 -> 0 | CD42: =CC42*19% -> 0 | CE42: =CC42+CD42 -> 0 | CG42: =CF42*19% -> 0 | CH42: =CF42+CG42 -> 0
A43: 2.17 | B43: EMPAQUETADURA ENFRIADOR DE ACEITE | D43: =C43*19% -> 0 | E43: =C43+D43 -> 0 | G43: =F43*19% -> 0 | H43: =F43+G43 -> 0 | J43: =I43*19% -> 0 | K43: =I43+J43 -> 0 | M43: =L43*19% -> 0 | N43: =L43+M43 -> 0 | P43: =O43*19% -> 0 | Q43: =O43+P43 -> 0 | S43: =R43*19% -> 0 | T43: =R43+S43 -> 0 | V43: =U43*19% -> 0 | W43: =U43+V43 -> 0 | Y43: =X43*19% -> 0 | Z43: =X43+Y43 -> 0 | AB43: =AA43*19% -> 0 | AC43: =AA43+AB43 -> 0 | AE43: =AD43*19% -> 0 | AF43: =AD43+AE43 -> 0 | AH43: =AG43*19% -> 0 | AI43: =AG43+AH43 -> 0 | AK43: =AJ43*19% -> 0 | AL43: =AJ43+AK43 -> 0 | AN43: =AM43*19% -> 0 | AO43: =AM43+AN43 -> 0 | AQ43: =AP43*19% -> 0 | AR43: =AP43+AQ43 -> 0 | AT43: =AS43*19% -> 0 | AU43: =AS43+AT43 -> 0 | AW43: =AV43*19% -> 0 | AX43: =AV43+AW43 -> 0 | AZ43: =AY43*19% -> 0 | BA43: =AY43+AZ43 -> 0 | BC43: =BB43*19% -> 0 | BD43: =BB43+BC43 -> 0 | BF43: =BE43*19% -> 0 | BG43: =BE43+BF43 -> 0 | BI43: =BH43*19% -> 0 | BJ43: =BH43+BI43 -> 0 | BL43: =BK43*19% -> 0 | BM43: =BK43+BL43 -> 0 | BO43: =BN43*19% -> 0 | BP43: =BN43+BO43 -> 0 | BR43: =BQ43*19% -> 0 | BS43: =BQ43+BR43 -> 0 | BU43: =BT43*19% -> 0 | BV43: =BT43+BU43 -> 0 | BX43: =BW43*19% -> 0 | BY43: =BW43+BX43 -> 0 | CA43: =BZ43*19% -> 0 | CB43: =BZ43+CA43 -> 0 | CD43: =CC43*19% -> 0 | CE43: =CC43+CD43 -> 0 | CG43: =CF43*19% -> 0 | CH43: =CF43+CG43 -> 0
A44: 2.18 | B44: EMPAQUETADURA MOTOR | D44: =C44*19% -> 0 | E44: =C44+D44 -> 0 | G44: =F44*19% -> 0 | H44: =F44+G44 -> 0 | J44: =I44*19% -> 0 | K44: =I44+J44 -> 0 | M44: =L44*19% -> 0 | N44: =L44+M44 -> 0 | P44: =O44*19% -> 0 | Q44: =O44+P44 -> 0 | S44: =R44*19% -> 0 | T44: =R44+S44 -> 0 | V44: =U44*19% -> 0 | W44: =U44+V44 -> 0 | Y44: =X44*19% -> 0 | Z44: =X44+Y44 -> 0 | AB44: =AA44*19% -> 0 | AC44: =AA44+AB44 -> 0 | AE44: =AD44*19% -> 0 | AF44: =AD44+AE44 -> 0 | AH44: =AG44*19% -> 0 | AI44: =AG44+AH44 -> 0 | AK44: =AJ44*19% -> 0 | AL44: =AJ44+AK44 -> 0 | AN44: =AM44*19% -> 0 | AO44: =AM44+AN44 -> 0 | AQ44: =AP44*19% -> 0 | AR44: =AP44+AQ44 -> 0 | AT44: =AS44*19% -> 0 | AU44: =AS44+AT44 -> 0 | AW44: =AV44*19% -> 0 | AX44: =AV44+AW44 -> 0 | AZ44: =AY44*19% -> 0 | BA44: =AY44+AZ44 -> 0 | BC44: =BB44*19% -> 0 | BD44: =BB44+BC44 -> 0 | BF44: =BE44*19% -> 0 | BG44: =BE44+BF44 -> 0 | BI44: =BH44*19% -> 0 | BJ44: =BH44+BI44 -> 0 | BL44: =BK44*19% -> 0 | BM44: =BK44+BL44 -> 0 | BO44: =BN44*19% -> 0 | BP44: =BN44+BO44 -> 0 | BR44: =BQ44*19% -> 0 | BS44: =BQ44+BR44 -> 0 | BU44: =BT44*19% -> 0 | BV44: =BT44+BU44 -> 0 | BX44: =BW44*19% -> 0 | BY44: =BW44+BX44 -> 0 | CA44: =BZ44*19% -> 0 | CB44: =BZ44+CA44 -> 0 | CD44: =CC44*19% -> 0 | CE44: =CC44+CD44 -> 0 | CG44: =CF44*19% -> 0 | CH44: =CF44+CG44 -> 0
A45: 2.19 | B45: ENFRIADOR DE ACEITE | D45: =C45*19% -> 0 | E45: =C45+D45 -> 0 | G45: =F45*19% -> 0 | H45: =F45+G45 -> 0 | J45: =I45*19% -> 0 | K45: =I45+J45 -> 0 | M45: =L45*19% -> 0 | N45: =L45+M45 -> 0 | P45: =O45*19% -> 0 | Q45: =O45+P45 -> 0 | S45: =R45*19% -> 0 | T45: =R45+S45 -> 0 | V45: =U45*19% -> 0 | W45: =U45+V45 -> 0 | Y45: =X45*19% -> 0 | Z45: =X45+Y45 -> 0 | AB45: =AA45*19% -> 0 | AC45: =AA45+AB45 -> 0 | AE45: =AD45*19% -> 0 | AF45: =AD45+AE45 -> 0 | AH45: =AG45*19% -> 0 | AI45: =AG45+AH45 -> 0 | AK45: =AJ45*19% -> 0 | AL45: =AJ45+AK45 -> 0 | AN45: =AM45*19% -> 0 | AO45: =AM45+AN45 -> 0 | AQ45: =AP45*19% -> 0 | AR45: =AP45+AQ45 -> 0 | AT45: =AS45*19% -> 0 | AU45: =AS45+AT45 -> 0 | AW45: =AV45*19% -> 0 | AX45: =AV45+AW45 -> 0 | AZ45: =AY45*19% -> 0 | BA45: =AY45+AZ45 -> 0 | BC45: =BB45*19% -> 0 | BD45: =BB45+BC45 -> 0 | BF45: =BE45*19% -> 0 | BG45: =BE45+BF45 -> 0 | BI45: =BH45*19% -> 0 | BJ45: =BH45+BI45 -> 0 | BL45: =BK45*19% -> 0 | BM45: =BK45+BL45 -> 0 | BO45: =BN45*19% -> 0 | BP45: =BN45+BO45 -> 0 | BR45: =BQ45*19% -> 0 | BS45: =BQ45+BR45 -> 0 | BU45: =BT45*19% -> 0 | BV45: =BT45+BU45 -> 0 | BX45: =BW45*19% -> 0 | BY45: =BW45+BX45 -> 0 | CA45: =BZ45*19% -> 0 | CB45: =BZ45+CA45 -> 0 | CD45: =CC45*19% -> 0 | CE45: =CC45+CD45 -> 0 | CG45: =CF45*19% -> 0 | CH45: =CF45+CG45 -> 0
... A65: 2.39 | B65: VALVULA PCV | D65: =C65*19% -> 0 | E65: =C65+D65 -> 0 | G65: =F65*19% -> 0 | H65: =F65+G65 -> 0 | J65: =I65*19% -> 0 | K65: =I65+J65 -> 0 | M65: =L65*19% -> 0 | N65: =L65+M65 -> 0 | P65: =O65*19% -> 0 | Q65: =O65+P65 -> 0 | S65: =R65*19% -> 0 | T65: =R65+S65 -> 0 | V65: =U65*19% -> 0 | W65: =U65+V65 -> 0 | Y65: =X65*19% -> 0 | Z65: =X65+Y65 -> 0 | AB65: =AA65*19% -> 0 | AC65: =AA65+AB65 -> 0 | AE65: =AD65*19% -> 0 | AF65: =AD65+AE65 -> 0 | AH65: =AG65*19% -> 0 | AI65: =AG65+AH65 -> 0 | AK65: =AJ65*19% -> 0 | AL65: =AJ65+AK65 -> 0 | AN65: =AM65*19% -> 0 | AO65: =AM65+AN65 -> 0 | AQ65: =AP65*19% -> 0 | AR65: =AP65+AQ65 -> 0 | AT65: =AS65*19% -> 0 | AU65: =AS65+AT65 -> 0 | AW65: =AV65*19% -> 0 | AX65: =AV65+AW65 -> 0 | AZ65: =AY65*19% -> 0 | BA65: =AY65+AZ65 -> 0 | BC65: =BB65*19% -> 0 | BD65: =BB65+BC65 -> 0 | BF65: =BE65*19% -> 0 | BG65: =BE65+BF65 -> 0 | BI65: =BH65*19% -> 0 | BJ65: =BH65+BI65 -> 0 | BL65: =BK65*19% -> 0 | BM65: =BK65+BL65 -> 0 | BO65: =BN65*19% -> 0 | BP65: =BN65+BO65 -> 0 | BR65: =BQ65*19% -> 0 | BS65: =BQ65+BR65 -> 0 | BU65: =BT65*19% -> 0 | BV65: =BT65+BU65 -> 0 | BX65: =BW65*19% -> 0 | BY65: =BW65+BX65 -> 0 | CA65: =BZ65*19% -> 0 | CB65: =BZ65+CA65 -> 0 | CD65: =CC65*19% -> 0 | CE65: =CC65+CD65 -> 0 | CG65: =CF65*19% -> 0 | CH65: =CF65+CG65 -> 0
A66: 3 | B66: SUSPENSION | C66: 0 | D66: 0 | E66: 0 | F66: 0 | G66: 0 | H66: 0 | I66: 0 | J66: 0 | K66: 0 | L66: 0 | M66: 0 | N66: 0 | O66: 0 | P66: 0 | Q66: 0 | R66: 0 | S66: 0 | T66: 0 | U66: 0 | V66: 0 | W66: 0 | X66: 0 | Y66: 0 | Z66: 0 | AA66: 0 | AB66: 0 | AC66: 0 | AD66: 0 | AE66: 0 | AF66: 0 | AG66: 0 | AH66: 0 | AI66: 0 | AJ66: 0 | AK66: 0 | AL66: 0 | AM66: 0 | AN66: 0 | AO66: 0 | AP66: 0 | AQ66: 0 | AR66: 0 | AS66: 0 | AT66: 0 | AU66: 0 | AV66: 0 | AW66: 0 | AX66: 0 | AY66: 0 | AZ66: 0 | BA66: 0 | BB66: 0 | BC66: 0 | BD66: 0 | BE66: 0 | BF66: 0 | BG66: 0 | BH66: 0 | BI66: 0 | BJ66: 0 | BK66: 0 | BL66: 0 | BM66: 0 | BN66: 0 | BO66: 0 | BP66: 0 | BQ66: 0 | BR66: 0 | BS66: 0 | BT66: 0 | BU66: 0 | BV66: 0 | BW66: 0 | BX66: 0 | BY66: 0 | BZ66: 0 | CA66: 0 | CB66: 0 | CC66: 0 | CD66: 0 | CE66: 0 | CF66: 0 | CG66: 0 | CH66: 0
A67: 3.1 | B67: AMORTIGUADOR TRASERO | D67: =C67*19% -> 0 | E67: =C67+D67 -> 0 | G67: =F67*19% -> 0 | H67: =F67+G67 -> 0 | J67: =I67*19% -> 0 | K67: =I67+J67 -> 0 | M67: =L67*19% -> 0 | N67: =L67+M67 -> 0 | P67: =O67*19% -> 0 | Q67: =O67+P67 -> 0 | S67: =R67*19% -> 0 | T67: =R67+S67 -> 0 | V67: =U67*19% -> 0 | W67: =U67+V67 -> 0 | Y67: =X67*19% -> 0 | Z67: =X67+Y67 -> 0 | AB67: =AA67*19% -> 0 | AC67: =AA67+AB67 -> 0 | AE67: =AD67*19% -> 0 | AF67: =AD67+AE67 -> 0 | AH67: =AG67*19% -> 0 | AI67: =AG67+AH67 -> 0 | AK67: =AJ67*19% -> 0 | AL67: =AJ67+AK67 -> 0 | AN67: =AM67*19% -> 0 | AO67: =AM67+AN67 -> 0 | AQ67: =AP67*19% -> 0 | AR67: =AP67+AQ67 -> 0 | AT67: =AS67*19% -> 0 | AU67: =AS67+AT67 -> 0 | AW67: =AV67*19% -> 0 | AX67: =AV67+AW67 -> 0 | AZ67: =AY67*19% -> 0 | BA67: =AY67+AZ67 -> 0 | BC67: =BB67*19% -> 0 | BD67: =BB67+BC67 -> 0 | BF67: =BE67*19% -> 0 | BG67: =BE67+BF67 -> 0 | BI67: =BH67*19% -> 0 | BJ67: =BH67+BI67 -> 0 | BL67: =BK67*19% -> 0 | BM67: =BK67+BL67 -> 0 | BO67: =BN67*19% -> 0 | BP67: =BN67+BO67 -> 0 | BR67: =BQ67*19% -> 0 | BS67: =BQ67+BR67 -> 0 | BU67: =BT67*19% -> 0 | BV67: =BT67+BU67 -> 0 | BX67: =BW67*19% -> 0 | BY67: =BW67+BX67 -> 0 | CA67: =BZ67*19% -> 0 | CB67: =BZ67+CA67 -> 0 | CD67: =CC67*19% -> 0 | CE67: =CC67+CD67 -> 0 | CG67: =CF67*19% -> 0 | CH67: =CF67+CG67 -> 0
A68: 3.2 | B68: AMORTIGUADORES DELANTEROS | D68: =C68*19% -> 0 | E68: =C68+D68 -> 0 | G68: =F68*19% -> 0 | H68: =F68+G68 -> 0 | J68: =I68*19% -> 0 | K68: =I68+J68 -> 0 | M68: =L68*19% -> 0 | N68: =L68+M68 -> 0 | P68: =O68*19% -> 0 | Q68: =O68+P68 -> 0 | S68: =R68*19% -> 0 | T68: =R68+S68 -> 0 | V68: =U68*19% -> 0 | W68: =U68+V68 -> 0 | Y68: =X68*19% -> 0 | Z68: =X68+Y68 -> 0 | AB68: =AA68*19% -> 0 | AC68: =AA68+AB68 -> 0 | AE68: =AD68*19% -> 0 | AF68: =AD68+AE68 -> 0 | AH68: =AG68*19% -> 0 | AI68: =AG68+AH68 -> 0 | AK68: =AJ68*19% -> 0 | AL68: =AJ68+AK68 -> 0 | AN68: =AM68*19% -> 0 | AO68: =AM68+AN68 -> 0 | AQ68: =AP68*19% -> 0 | AR68: =AP68+AQ68 -> 0 | AT68: =AS68*19% -> 0 | AU68: =AS68+AT68 -> 0 | AW68: =AV68*19% -> 0 | AX68: =AV68+AW68 -> 0 | AZ68: =AY68*19% -> 0 | BA68: =AY68+AZ68 -> 0 | BC68: =BB68*19% -> 0 | BD68: =BB68+BC68 -> 0 | BF68: =BE68*19% -> 0 | BG68: =BE68+BF68 -> 0 | BI68: =BH68*19% -> 0 | BJ68: =BH68+BI68 -> 0 | BL68: =BK68*19% -> 0 | BM68: =BK68+BL68 -> 0 | BO68: =BN68*19% -> 0 | BP68: =BN68+BO68 -> 0 | BR68: =BQ68*19% -> 0 | BS68: =BQ68+BR68 -> 0 | BU68: =BT68*19% -> 0 | BV68: =BT68+BU68 -> 0 | BX68: =BW68*19% -> 0 | BY68: =BW68+BX68 -> 0 | CA68: =BZ68*19% -> 0 | CB68: =BZ68+CA68 -> 0 | CD68: =CC68*19% -> 0 | CE68: =CC68+CD68 -> 0 | CG68: =CF68*19% -> 0 | CH68: =CF68+CG68 -> 0
A69: 3.3 | B69: ANTIRUIDO MUELLES TRASERO | D69: =C69*19% -> 0 | E69: =C69+D69 -> 0 | G69: =F69*19% -> 0 | H69: =F69+G69 -> 0 | J69: =I69*19% -> 0 | K69: =I69+J69 -> 0 | M69: =L69*19% -> 0 | N69: =L69+M69 -> 0 | P69: =O69*19% -> 0 | Q69: =O69+P69 -> 0 | S69: =R69*19% -> 0 | T69: =R69+S69 -> 0 | V69: =U69*19% -> 0 | W69: =U69+V69 -> 0 | Y69: =X69*19% -> 0 | Z69: =X69+Y69 -> 0 | AB69: =AA69*19% -> 0 | AC69: =AA69+AB69 -> 0 | AE69: =AD69*19% -> 0 | AF69: =AD69+AE69 -> 0 | AH69: =AG69*19% -> 0 | AI69: =AG69+AH69 -> 0 | AK69: =AJ69*19% -> 0 | AL69: =AJ69+AK69 -> 0 | AN69: =AM69*19% -> 0 | AO69: =AM69+AN69 -> 0 | AQ69: =AP69*19% -> 0 | AR69: =AP69+AQ69 -> 0 | AT69: =AS69*19% -> 0 | AU69: =AS69+AT69 -> 0 | AW69: =AV69*19% -> 0 | AX69: =AV69+AW69 -> 0 | AZ69: =AY69*19% -> 0 | BA69: =AY69+AZ69 -> 0 | BC69: =BB69*19% -> 0 | BD69: =BB69+BC69 -> 0 | BF69: =BE69*19% -> 0 | BG69: =BE69+BF69 -> 0 | BI69: =BH69*19% -> 0 | BJ69: =BH69+BI69 -> 0 | BL69: =BK69*19% -> 0 | BM69: =BK69+BL69 -> 0 | BO69: =BN69*19% -> 0 | BP69: =BN69+BO69 -> 0 | BR69: =BQ69*19% -> 0 | BS69: =BQ69+BR69 -> 0 | BU69: =BT69*19% -> 0 | BV69: =BT69+BU69 -> 0 | BX69: =BW69*19% -> 0 | BY69: =BW69+BX69 -> 0 | CA69: =BZ69*19% -> 0 | CB69: =BZ69+CA69 -> 0 | CD69: =CC69*19% -> 0 | CE69: =CC69+CD69 -> 0 | CG69: =CF69*19% -> 0 | CH69: =CF69+CG69 -> 0
A70: 3.4 | B70: BARRA CENTRAL DIRECCION | D70: =C70*19% -> 0 | E70: =C70+D70 -> 0 | G70: =F70*19% -> 0 | H70: =F70+G70 -> 0 | J70: =I70*19% -> 0 | K70: =I70+J70 -> 0 | M70: =L70*19% -> 0 | N70: =L70+M70 -> 0 | P70: =O70*19% -> 0 | Q70: =O70+P70 -> 0 | S70: =R70*19% -> 0 | T70: =R70+S70 -> 0 | V70: =U70*19% -> 0 | W70: =U70+V70 -> 0 | Y70: =X70*19% -> 0 | Z70: =X70+Y70 -> 0 | AB70: =AA70*19% -> 0 | AC70: =AA70+AB70 -> 0 | AE70: =AD70*19% -> 0 | AF70: =AD70+AE70 -> 0 | AH70: =AG70*19% -> 0 | AI70: =AG70+AH70 -> 0 | AK70: =AJ70*19% -> 0 | AL70: =AJ70+AK70 -> 0 | AN70: =AM70*19% -> 0 | AO70: =AM70+AN70 -> 0 | AQ70: =AP70*19% -> 0 | AR70: =AP70+AQ70 -> 0 | AT70: =AS70*19% -> 0 | AU70: =AS70+AT70 -> 0 | AW70: =AV70*19% -> 0 | AX70: =AV70+AW70 -> 0 | AZ70: =AY70*19% -> 0 | BA70: =AY70+AZ70 -> 0 | BC70: =BB70*19% -> 0 | BD70: =BB70+BC70 -> 0 | BF70: =BE70*19% -> 0 | BG70: =BE70+BF70 -> 0 | BI70: =BH70*19% -> 0 | BJ70: =BH70+BI70 -> 0 | BL70: =BK70*19% -> 0 | BM70: =BK70+BL70 -> 0 | BO70: =BN70*19% -> 0 | BP70: =BN70+BO70 -> 0 | BR70: =BQ70*19% -> 0 | BS70: =BQ70+BR70 -> 0 | BU70: =BT70*19% -> 0 | BV70: =BT70+BU70 -> 0 | BX70: =BW70*19% -> 0 | BY70: =BW70+BX70 -> 0 | CA70: =BZ70*19% -> 0 | CB70: =BZ70+CA70 -> 0 | CD70: =CC70*19% -> 0 | CE70: =CC70+CD70 -> 0 | CG70: =CF70*19% -> 0 | CH70: =CF70+CG70 -> 0
A71: 3.5 | B71: BOCIN DELANTERO | D71: =C71*19% -> 0 | E71: =C71+D71 -> 0 | G71: =F71*19% -> 0 | H71: =F71+G71 -> 0 | J71: =I71*19% -> 0 | K71: =I71+J71 -> 0 | M71: =L71*19% -> 0 | N71: =L71+M71 -> 0 | P71: =O71*19% -> 0 | Q71: =O71+P71 -> 0 | S71: =R71*19% -> 0 | T71: =R71+S71 -> 0 | V71: =U71*19% -> 0 | W71: =U71+V71 -> 0 | Y71: =X71*19% -> 0 | Z71: =X71+Y71 -> 0 | AB71: =AA71*19% -> 0 | AC71: =AA71+AB71 -> 0 | AE71: =AD71*19% -> 0 | AF71: =AD71+AE71 -> 0 | AH71: =AG71*19% -> 0 | AI71: =AG71+AH71 -> 0 | AK71: =AJ71*19% -> 0 | AL71: =AJ71+AK71 -> 0 | AN71: =AM71*19% -> 0 | AO71: =AM71+AN71 -> 0 | AQ71: =AP71*19% -> 0 | AR71: =AP71+AQ71 -> 0 | AT71: =AS71*19% -> 0 | AU71: =AS71+AT71 -> 0 | AW71: =AV71*19% -> 0 | AX71: =AV71+AW71 -> 0 | AZ71: =AY71*19% -> 0 | BA71: =AY71+AZ71 -> 0 | BC71: =BB71*19% -> 0 | BD71: =BB71+BC71 -> 0 | BF71: =BE71*19% -> 0 | BG71: =BE71+BF71 -> 0 | BI71: =BH71*19% -> 0 | BJ71: =BH71+BI71 -> 0 | BL71: =BK71*19% -> 0 | BM71: =BK71+BL71 -> 0 | BO71: =BN71*19% -> 0 | BP71: =BN71+BO71 -> 0 | BR71: =BQ71*19% -> 0 | BS71: =BQ71+BR71 -> 0 | BU71: =BT71*19% -> 0 | BV71: =BT71+BU71 -> 0 | BX71: =BW71*19% -> 0 | BY71: =BW71+BX71 -> 0 | CA71: =BZ71*19% -> 0 | CB71: =BZ71+CA71 -> 0 | CD71: =CC71*19% -> 0 | CE71: =CC71+CD71 -> 0 | CG71: =CF71*19% -> 0 | CH71: =CF71+CG71 -> 0
A72: 3.6 | B72: BOCIN TRASERO | D72: =C72*19% -> 0 | E72: =C72+D72 -> 0 | G72: =F72*19% -> 0 | H72: =F72+G72 -> 0 | J72: =I72*19% -> 0 | K72: =I72+J72 -> 0 | M72: =L72*19% -> 0 | N72: =L72+M72 -> 0 | P72: =O72*19% -> 0 | Q72: =O72+P72 -> 0 | S72: =R72*19% -> 0 | T72: =R72+S72 -> 0 | V72: =U72*19% -> 0 | W72: =U72+V72 -> 0 | Y72: =X72*19% -> 0 | Z72: =X72+Y72 -> 0 | AB72: =AA72*19% -> 0 | AC72: =AA72+AB72 -> 0 | AE72: =AD72*19% -> 0 | AF72: =AD72+AE72 -> 0 | AH72: =AG72*19% -> 0 | AI72: =AG72+AH72 -> 0 | AK72: =AJ72*19% -> 0 | AL72: =AJ72+AK72 -> 0 | AN72: =AM72*19% -> 0 | AO72: =AM72+AN72 -> 0 | AQ72: =AP72*19% -> 0 | AR72: =AP72+AQ72 -> 0 | AT72: =AS72*19% -> 0 | AU72: =AS72+AT72 -> 0 | AW72: =AV72*19% -> 0 | AX72: =AV72+AW72 -> 0 | AZ72: =AY72*19% -> 0 | BA72: =AY72+AZ72 -> 0 | BC72: =BB72*19% -> 0 | BD72: =BB72+BC72 -> 0 | BF72: =BE72*19% -> 0 | BG72: =BE72+BF72 -> 0 | BI72: =BH72*19% -> 0 | BJ72: =BH72+BI72 -> 0 | BL72: =BK72*19% -> 0 | BM72: =BK72+BL72 -> 0 | BO72: =BN72*19% -> 0 | BP72: =BN72+BO72 -> 0 | BR72: =BQ72*19% -> 0 | BS72: =BQ72+BR72 -> 0 | BU72: =BT72*19% -> 0 | BV72: =BT72+BU72 -> 0 | BX72: =BW72*19% -> 0 | BY72: =BW72+BX72 -> 0 | CA72: =BZ72*19% -> 0 | CB72: =BZ72+CA72 -> 0 | CD72: =CC72*19% -> 0 | CE72: =CC72+CD72 -> 0 | CG72: =CF72*19% -> 0 | CH72: =CF72+CG72 -> 0
A73: 3.7 | B73: BRAZOS AXIAL (PAR) | D73: =C73*19% -> 0 | E73: =C73+D73 -> 0 | G73: =F73*19% -> 0 | H73: =F73+G73 -> 0 | J73: =I73*19% -> 0 | K73: =I73+J73 -> 0 | M73: =L73*19% -> 0 | N73: =L73+M73 -> 0 | P73: =O73*19% -> 0 | Q73: =O73+P73 -> 0 | S73: =R73*19% -> 0 | T73: =R73+S73 -> 0 | V73: =U73*19% -> 0 | W73: =U73+V73 -> 0 | Y73: =X73*19% -> 0 | Z73: =X73+Y73 -> 0 | AB73: =AA73*19% -> 0 | AC73: =AA73+AB73 -> 0 | AE73: =AD73*19% -> 0 | AF73: =AD73+AE73 -> 0 | AH73: =AG73*19% -> 0 | AI73: =AG73+AH73 -> 0 | AK73: =AJ73*19% -> 0 | AL73: =AJ73+AK73 -> 0 | AN73: =AM73*19% -> 0 | AO73: =AM73+AN73 -> 0 | AQ73: =AP73*19% -> 0 | AR73: =AP73+AQ73 -> 0 | AT73: =AS73*19% -> 0 | AU73: =AS73+AT73 -> 0 | AW73: =AV73*19% -> 0 | AX73: =AV73+AW73 -> 0 | AZ73: =AY73*19% -> 0 | BA73: =AY73+AZ73 -> 0 | BC73: =BB73*19% -> 0 | BD73: =BB73+BC73 -> 0 | BF73: =BE73*19% -> 0 | BG73: =BE73+BF73 -> 0 | BI73: =BH73*19% -> 0 | BJ73: =BH73+BI73 -> 0 | BL73: =BK73*19% -> 0 | BM73: =BK73+BL73 -> 0 | BO73: =BN73*19% -> 0 | BP73: =BN73+BO73 -> 0 | BR73: =BQ73*19% -> 0 | BS73: =BQ73+BR73 -> 0 | BU73: =BT73*19% -> 0 | BV73: =BT73+BU73 -> 0 | BX73: =BW73*19% -> 0 | BY73: =BW73+BX73 -> 0 | CA73: =BZ73*19% -> 0 | CB73: =BZ73+CA73 -> 0 | CD73: =CC73*19% -> 0 | CE73: =CC73+CD73 -> 0 | CG73: =CF73*19% -> 0 | CH73: =CF73+CG73 -> 0
A74: 3.8 | B74: BUJE DE TEMPLETE TRASERO | D74: =C74*19% -> 0 | E74: =C74+D74 -> 0 | G74: =F74*19% -> 0 | H74: =F74+G74 -> 0 | J74: =I74*19% -> 0 | K74: =I74+J74 -> 0 | M74: =L74*19% -> 0 | N74: =L74+M74 -> 0 | P74: =O74*19% -> 0 | Q74: =O74+P74 -> 0 | S74: =R74*19% -> 0 | T74: =R74+S74 -> 0 | V74: =U74*19% -> 0 | W74: =U74+V74 -> 0 | Y74: =X74*19% -> 0 | Z74: =X74+Y74 -> 0 | AB74: =AA74*19% -> 0 | AC74: =AA74+AB74 -> 0 | AE74: =AD74*19% -> 0 | AF74: =AD74+AE74 -> 0 | AH74: =AG74*19% -> 0 | AI74: =AG74+AH74 -> 0 | AK74: =AJ74*19% -> 0 | AL74: =AJ74+AK74 -> 0 | AN74: =AM74*19% -> 0 | AO74: =AM74+AN74 -> 0 | AQ74: =AP74*19% -> 0 | AR74: =AP74+AQ74 -> 0 | AT74: =AS74*19% -> 0 | AU74: =AS74+AT74 -> 0 | AW74: =AV74*19% -> 0 | AX74: =AV74+AW74 -> 0 | AZ74: =AY74*19% -> 0 | BA74: =AY74+AZ74 -> 0 | BC74: =BB74*19% -> 0 | BD74: =BB74+BC74 -> 0 | BF74: =BE74*19% -> 0 | BG74: =BE74+BF74 -> 0 | BI74: =BH74*19% -> 0 | BJ74: =BH74+BI74 -> 0 | BL74: =BK74*19% -> 0 | BM74: =BK74+BL74 -> 0 | BO74: =BN74*19% -> 0 | BP74: =BN74+BO74 -> 0 | BR74: =BQ74*19% -> 0 | BS74: =BQ74+BR74 -> 0 | BU74: =BT74*19% -> 0 | BV74: =BT74+BU74 -> 0 | BX74: =BW74*19% -> 0 | BY74: =BW74+BX74 -> 0 | CA74: =BZ74*19% -> 0 | CB74: =BZ74+CA74 -> 0 | CD74: =CC74*19% -> 0 | CE74: =CC74+CD74 -> 0 | CG74: =CF74*19% -> 0 | CH74: =CF74+CG74 -> 0
A75: 3.9 | B75: BUJES BARRA ESTABILIZADORA DELANTERA | D75: =C75*19% -> 0 | E75: =C75+D75 -> 0 | G75: =F75*19% -> 0 | H75: =F75+G75 -> 0 | J75: =I75*19% -> 0 | K75: =I75+J75 -> 0 | M75: =L75*19% -> 0 | N75: =L75+M75 -> 0 | P75: =O75*19% -> 0 | Q75: =O75+P75 -> 0 | S75: =R75*19% -> 0 | T75: =R75+S75 -> 0 | V75: =U75*19% -> 0 | W75: =U75+V75 -> 0 | Y75: =X75*19% -> 0 | Z75: =X75+Y75 -> 0 | AB75: =AA75*19% -> 0 | AC75: =AA75+AB75 -> 0 | AE75: =AD75*19% -> 0 | AF75: =AD75+AE75 -> 0 | AH75: =AG75*19% -> 0 | AI75: =AG75+AH75 -> 0 | AK75: =AJ75*19% -> 0 | AL75: =AJ75+AK75 -> 0 | AN75: =AM75*19% -> 0 | AO75: =AM75+AN75 -> 0 | AQ75: =AP75*19% -> 0 | AR75: =AP75+AQ75 -> 0 | AT75: =AS75*19% -> 0 | AU75: =AS75+AT75 -> 0 | AW75: =AV75*19% -> 0 | AX75: =AV75+AW75 -> 0 | AZ75: =AY75*19% -> 0 | BA75: =AY75+AZ75 -> 0 | BC75: =BB75*19% -> 0 | BD75: =BB75+BC75 -> 0 | BF75: =BE75*19% -> 0 | BG75: =BE75+BF75 -> 0 | BI75: =BH75*19% -> 0 | BJ75: =BH75+BI75 -> 0 | BL75: =BK75*19% -> 0 | BM75: =BK75+BL75 -> 0 | BO75: =BN75*19% -> 0 | BP75: =BN75+BO75 -> 0 | BR75: =BQ75*19% -> 0 | BS75: =BQ75+BR75 -> 0 | BU75: =BT75*19% -> 0 | BV75: =BT75+BU75 -> 0 | BX75: =BW75*19% -> 0 | BY75: =BW75+BX75 -> 0 | CA75: =BZ75*19% -> 0 | CB75: =BZ75+CA75 -> 0 | CD75: =CC75*19% -> 0 | CE75: =CC75+CD75 -> 0 | CG75: =CF75*19% -> 0 | CH75: =CF75+CG75 -> 0
A76: 3.10 | B76: BUJES BARRA ESTABILIZADORA TRASERA | D76: =C76*19% -> 0 | E76: =C76+D76 -> 0 | G76: =F76*19% -> 0 | H76: =F76+G76 -> 0 | J76: =I76*19% -> 0 | K76: =I76+J76 -> 0 | M76: =L76*19% -> 0 | N76: =L76+M76 -> 0 | P76: =O76*19% -> 0 | Q76: =O76+P76 -> 0 | S76: =R76*19% -> 0 | T76: =R76+S76 -> 0 | V76: =U76*19% -> 0 | W76: =U76+V76 -> 0 | Y76: =X76*19% -> 0 | Z76: =X76+Y76 -> 0 | AB76: =AA76*19% -> 0 | AC76: =AA76+AB76 -> 0 | AE76: =AD76*19% -> 0 | AF76: =AD76+AE76 -> 0 | AH76: =AG76*19% -> 0 | AI76: =AG76+AH76 -> 0 | AK76: =AJ76*19% -> 0 | AL76: =AJ76+AK76 -> 0 | AN76: =AM76*19% -> 0 | AO76: =AM76+AN76 -> 0 | AQ76: =AP76*19% -> 0 | AR76: =AP76+AQ76 -> 0 | AT76: =AS76*19% -> 0 | AU76: =AS76+AT76 -> 0 | AW76: =AV76*19% -> 0 | AX76: =AV76+AW76 -> 0 | AZ76: =AY76*19% -> 0 | BA76: =AY76+AZ76 -> 0 | BC76: =BB76*19% -> 0 | BD76: =BB76+BC76 -> 0 | BF76: =BE76*19% -> 0 | BG76: =BE76+BF76 -> 0 | BI76: =BH76*19% -> 0 | BJ76: =BH76+BI76 -> 0 | BL76: =BK76*19% -> 0 | BM76: =BK76+BL76 -> 0 | BO76: =BN76*19% -> 0 | BP76: =BN76+BO76 -> 0 | BR76: =BQ76*19% -> 0 | BS76: =BQ76+BR76 -> 0 | BU76: =BT76*19% -> 0 | BV76: =BT76+BU76 -> 0 | BX76: =BW76*19% -> 0 | BY76: =BW76+BX76 -> 0 | CA76: =BZ76*19% -> 0 | CB76: =BZ76+CA76 -> 0 | CD76: =CC76*19% -> 0 | CE76: =CC76+CD76 -> 0 | CG76: =CF76*19% -> 0 | CH76: =CF76+CG76 -> 0
A77: 3.11 | B77: BUJES TIJERA INFERIOR | D77: =C77*19% -> 0 | E77: =C77+D77 -> 0 | G77: =F77*19% -> 0 | H77: =F77+G77 -> 0 | J77: =I77*19% -> 0 | K77: =I77+J77 -> 0 | M77: =L77*19% -> 0 | N77: =L77+M77 -> 0 | P77: =O77*19% -> 0 | Q77: =O77+P77 -> 0 | R77: NO APLICA | S77: N/A | T77: NO APLICA | V77: =U77*19% -> 0 | W77: =U77+V77 -> 0 | Y77: =X77*19% -> 0 | Z77: =X77+Y77 -> 0 | AB77: =AA77*19% -> 0 | AC77: =AA77+AB77 -> 0 | AE77: =AD77*19% -> 0 | AF77: =AD77+AE77 -> 0 | AH77: =AG77*19% -> 0 | AI77: =AG77+AH77 -> 0 | AK77: =AJ77*19% -> 0 | AL77: =AJ77+AK77 -> 0 | AN77: =AM77*19% -> 0 | AO77: =AM77+AN77 -> 0 | AQ77: =AP77*19% -> 0 | AR77: =AP77+AQ77 -> 0 | AT77: =AS77*19% -> 0 | AU77: =AS77+AT77 -> 0 | AW77: =AV77*19% -> 0 | AX77: =AV77+AW77 -> 0 | AZ77: =AY77*19% -> 0 | BA77: =AY77+AZ77 -> 0 | BC77: =BB77*19% -> 0 | BD77: =BB77+BC77 -> 0 | BF77: =BE77*19% -> 0 | BG77: =BE77+BF77 -> 0 | BI77: =BH77*19% -> 0 | BJ77: =BH77+BI77 -> 0 | BL77: =BK77*19% -> 0 | BM77: =BK77+BL77 -> 0 | BO77: =BN77*19% -> 0 | BP77: =BN77+BO77 -> 0 | BR77: =BQ77*19% -> 0 | BS77: =BQ77+BR77 -> 0 | BU77: =BT77*19% -> 0 | BV77: =BT77+BU77 -> 0 | BX77: =BW77*19% -> 0 | BY77: =BW77+BX77 -> 0 | CA77: =BZ77*19% -> 0 | CB77: =BZ77+CA77 -> 0 | CD77: =CC77*19% -> 0 | CE77: =CC77+CD77 -> 0 | CG77: =CF77*19% -> 0 | CH77: =CF77+CG77 -> 0
A78: 3.12 | B78: BUJES TIJERA SUPERIOR | D78: =C78*19% -> 0 | E78: =C78+D78 -> 0 | G78: =F78*19% -> 0 | H78: =F78+G78 -> 0 | J78: =I78*19% -> 0 | K78: =I78+J78 -> 0 | M78: =L78*19% -> 0 | N78: =L78+M78 -> 0 | P78: =O78*19% -> 0 | Q78: =O78+P78 -> 0 | R78: NO APLICA | S78: N/A | T78: NO APLICA | V78: =U78*19% -> 0 | W78: =U78+V78 -> 0 | Y78: =X78*19% -> 0 | Z78: =X78+Y78 -> 0 | AB78: =AA78*19% -> 0 | AC78: =AA78+AB78 -> 0 | AE78: =AD78*19% -> 0 | AF78: =AD78+AE78 -> 0 | AH78: =AG78*19% -> 0 | AI78: =AG78+AH78 -> 0 | AK78: =AJ78*19% -> 0 | AL78: =AJ78+AK78 -> 0 | AN78: =AM78*19% -> 0 | AO78: =AM78+AN78 -> 0 | AQ78: =AP78*19% -> 0 | AR78: =AP78+AQ78 -> 0 | AT78: =AS78*19% -> 0 | AU78: =AS78+AT78 -> 0 | AW78: =AV78*19% -> 0 | AX78: =AV78+AW78 -> 0 | AZ78: =AY78*19% -> 0 | BA78: =AY78+AZ78 -> 0 | BC78: =BB78*19% -> 0 | BD78: =BB78+BC78 -> 0 | BF78: =BE78*19% -> 0 | BG78: =BE78+BF78 -> 0 | BI78: =BH78*19% -> 0 | BJ78: =BH78+BI78 -> 0 | BL78: =BK78*19% -> 0 | BM78: =BK78+BL78 -> 0 | BO78: =BN78*19% -> 0 | BP78: =BN78+BO78 -> 0 | BR78: =BQ78*19% -> 0 | BS78: =BQ78+BR78 -> 0 | BU78: =BT78*19% -> 0 | BV78: =BT78+BU78 -> 0 | BX78: =BW78*19% -> 0 | BY78: =BW78+BX78 -> 0 | CA78: =BZ78*19% -> 0 | CB78: =BZ78+CA78 -> 0 | CD78: =CC78*19% -> 0 | CE78: =CC78+CD78 -> 0 | CG78: =CF78*19% -> 0 | CH78: =CF78+CG78 -> 0
A79: 3.13 | B79: BULON MUELLE | D79: =C79*19% -> 0 | E79: =C79+D79 -> 0 | G79: =F79*19% -> 0 | H79: =F79+G79 -> 0 | J79: =I79*19% -> 0 | K79: =I79+J79 -> 0 | M79: =L79*19% -> 0 | N79: =L79+M79 -> 0 | P79: =O79*19% -> 0 | Q79: =O79+P79 -> 0 | S79: =R79*19% -> 0 | T79: =R79+S79 -> 0 | V79: =U79*19% -> 0 | W79: =U79+V79 -> 0 | Y79: =X79*19% -> 0 | Z79: =X79+Y79 -> 0 | AB79: =AA79*19% -> 0 | AC79: =AA79+AB79 -> 0 | AE79: =AD79*19% -> 0 | AF79: =AD79+AE79 -> 0 | AH79: =AG79*19% -> 0 | AI79: =AG79+AH79 -> 0 | AK79: =AJ79*19% -> 0 | AL79: =AJ79+AK79 -> 0 | AN79: =AM79*19% -> 0 | AO79: =AM79+AN79 -> 0 | AQ79: =AP79*19% -> 0 | AR79: =AP79+AQ79 -> 0 | AT79: =AS79*19% -> 0 | AU79: =AS79+AT79 -> 0 | AW79: =AV79*19% -> 0 | AX79: =AV79+AW79 -> 0 | AZ79: =AY79*19% -> 0 | BA79: =AY79+AZ79 -> 0 | BC79: =BB79*19% -> 0 | BD79: =BB79+BC79 -> 0 | BF79: =BE79*19% -> 0 | BG79: =BE79+BF79 -> 0 | BI79: =BH79*19% -> 0 | BJ79: =BH79+BI79 -> 0 | BL79: =BK79*19% -> 0 | BM79: =BK79+BL79 -> 0 | BO79: =BN79*19% -> 0 | BP79: =BN79+BO79 -> 0 | BR79: =BQ79*19% -> 0 | BS79: =BQ79+BR79 -> 0 | BU79: =BT79*19% -> 0 | BV79: =BT79+BU79 -> 0 | BX79: =BW79*19% -> 0 | BY79: =BW79+BX79 -> 0 | CA79: =BZ79*19% -> 0 | CB79: =BZ79+CA79 -> 0 | CD79: =CC79*19% -> 0 | CE79: =CC79+CD79 -> 0 | CG79: =CF79*19% -> 0 | CH79: =CF79+CG79 -> 0
A80: 3.14 | B80: CAJA DIRECCION | D80: =C80*19% -> 0 | E80: =C80+D80 -> 0 | G80: =F80*19% -> 0 | H80: =F80+G80 -> 0 | J80: =I80*19% -> 0 | K80: =I80+J80 -> 0 | M80: =L80*19% -> 0 | N80: =L80+M80 -> 0 | P80: =O80*19% -> 0 | Q80: =O80+P80 -> 0 | S80: =R80*19% -> 0 | T80: =R80+S80 -> 0 | V80: =U80*19% -> 0 | W80: =U80+V80 -> 0 | Y80: =X80*19% -> 0 | Z80: =X80+Y80 -> 0 | AB80: =AA80*19% -> 0 | AC80: =AA80+AB80 -> 0 | AE80: =AD80*19% -> 0 | AF80: =AD80+AE80 -> 0 | AH80: =AG80*19% -> 0 | AI80: =AG80+AH80 -> 0 | AK80: =AJ80*19% -> 0 | AL80: =AJ80+AK80 -> 0 | AN80: =AM80*19% -> 0 | AO80: =AM80+AN80 -> 0 | AQ80: =AP80*19% -> 0 | AR80: =AP80+AQ80 -> 0 | AT80: =AS80*19% -> 0 | AU80: =AS80+AT80 -> 0 | AW80: =AV80*19% -> 0 | AX80: =AV80+AW80 -> 0 | AZ80: =AY80*19% -> 0 | BA80: =AY80+AZ80 -> 0 | BC80: =BB80*19% -> 0 | BD80: =BB80+BC80 -> 0 | BF80: =BE80*19% -> 0 | BG80: =BE80+BF80 -> 0 | BI80: =BH80*19% -> 0 | BJ80: =BH80+BI80 -> 0 | BL80: =BK80*19% -> 0 | BM80: =BK80+BL80 -> 0 | BO80: =BN80*19% -> 0 | BP80: =BN80+BO80 -> 0 | BR80: =BQ80*19% -> 0 | BS80: =BQ80+BR80 -> 0 | BU80: =BT80*19% -> 0 | BV80: =BT80+BU80 -> 0 | BX80: =BW80*19% -> 0 | BY80: =BW80+BX80 -> 0 | CA80: =BZ80*19% -> 0 | CB80: =BZ80+CA80 -> 0 | CD80: =CC80*19% -> 0 | CE80: =CC80+CD80 -> 0 | CG80: =CF80*19% -> 0 | CH80: =CF80+CG80 -> 0
A81: 3.15 | B81: COPELAS AMORTIGUADOR DELANTERO | D81: =C81*19% -> 0 | E81: =C81+D81 -> 0 | G81: =F81*19% -> 0 | H81: =F81+G81 -> 0 | J81: =I81*19% -> 0 | K81: =I81+J81 -> 0 | M81: =L81*19% -> 0 | N81: =L81+M81 -> 0 | P81: =O81*19% -> 0 | Q81: =O81+P81 -> 0 | S81: =R81*19% -> 0 | T81: =R81+S81 -> 0 | V81: =U81*19% -> 0 | W81: =U81+V81 -> 0 | Y81: =X81*19% -> 0 | Z81: =X81+Y81 -> 0 | AB81: =AA81*19% -> 0 | AC81: =AA81+AB81 -> 0 | AE81: =AD81*19% -> 0 | AF81: =AD81+AE81 -> 0 | AH81: =AG81*19% -> 0 | AI81: =AG81+AH81 -> 0 | AK81: =AJ81*19% -> 0 | AL81: =AJ81+AK81 -> 0 | AN81: =AM81*19% -> 0 | AO81: =AM81+AN81 -> 0 | AQ81: =AP81*19% -> 0 | AR81: =AP81+AQ81 -> 0 | AT81: =AS81*19% -> 0 | AU81: =AS81+AT81 -> 0 | AW81: =AV81*19% -> 0 | AX81: =AV81+AW81 -> 0 | AZ81: =AY81*19% -> 0 | BA81: =AY81+AZ81 -> 0 | BC81: =BB81*19% -> 0 | BD81: =BB81+BC81 -> 0 | BF81: =BE81*19% -> 0 | BG81: =BE81+BF81 -> 0 | BI81: =BH81*19% -> 0 | BJ81: =BH81+BI81 -> 0 | BL81: =BK81*19% -> 0 | BM81: =BK81+BL81 -> 0 | BO81: =BN81*19% -> 0 | BP81: =BN81+BO81 -> 0 | BR81: =BQ81*19% -> 0 | BS81: =BQ81+BR81 -> 0 | BU81: =BT81*19% -> 0 | BV81: =BT81+BU81 -> 0 | BX81: =BW81*19% -> 0 | BY81: =BW81+BX81 -> 0 | CA81: =BZ81*19% -> 0 | CB81: =BZ81+CA81 -> 0 | CD81: =CC81*19% -> 0 | CE81: =CC81+CD81 -> 0 | CG81: =CF81*19% -> 0 | CH81: =CF81+CG81 -> 0
A82: 3.16 | B82: COPELAS AMORTIGUADOR TRASERO | D82: =C82*19% -> 0 | E82: =C82+D82 -> 0 | G82: =F82*19% -> 0 | H82: =F82+G82 -> 0 | J82: =I82*19% -> 0 | K82: =I82+J82 -> 0 | M82: =L82*19% -> 0 | N82: =L82+M82 -> 0 | P82: =O82*19% -> 0 | Q82: =O82+P82 -> 0 | S82: =R82*19% -> 0 | T82: =R82+S82 -> 0 | V82: =U82*19% -> 0 | W82: =U82+V82 -> 0 | Y82: =X82*19% -> 0 | Z82: =X82+Y82 -> 0 | AB82: =AA82*19% -> 0 | AC82: =AA82+AB82 -> 0 | AE82: =AD82*19% -> 0 | AF82: =AD82+AE82 -> 0 | AH82: =AG82*19% -> 0 | AI82: =AG82+AH82 -> 0 | AK82: =AJ82*19% -> 0 | AL82: =AJ82+AK82 -> 0 | AN82: =AM82*19% -> 0 | AO82: =AM82+AN82 -> 0 | AQ82: =AP82*19% -> 0 | AR82: =AP82+AQ82 -> 0 | AT82: =AS82*19% -> 0 | AU82: =AS82+AT82 -> 0 | AW82: =AV82*19% -> 0 | AX82: =AV82+AW82 -> 0 | AZ82: =AY82*19% -> 0 | BA82: =AY82+AZ82 -> 0 | BC82: =BB82*19% -> 0 | BD82: =BB82+BC82 -> 0 | BF82: =BE82*19% -> 0 | BG82: =BE82+BF82 -> 0 | BI82: =BH82*19% -> 0 | BJ82: =BH82+BI82 -> 0 | BL82: =BK82*19% -> 0 | BM82: =BK82+BL82 -> 0 | BO82: =BN82*19% -> 0 | BP82: =BN82+BO82 -> 0 | BR82: =BQ82*19% -> 0 | BS82: =BQ82+BR82 -> 0 | BU82: =BT82*19% -> 0 | BV82: =BT82+BU82 -> 0 | BX82: =BW82*19% -> 0 | BY82: =BW82+BX82 -> 0 | CA82: =BZ82*19% -> 0 | CB82: =BZ82+CA82 -> 0 | CD82: =CC82*19% -> 0 | CE82: =CC82+CD82 -> 0 | CG82: =CF82*19% -> 0 | CH82: =CF82+CG82 -> 0
A83: 3.17 | B83: GUARDAPOLVO CAJA DIRECCION | D83: =C83*19% -> 0 | E83: =C83+D83 -> 0 | G83: =F83*19% -> 0 | H83: =F83+G83 -> 0 | J83: =I83*19% -> 0 | K83: =I83+J83 -> 0 | M83: =L83*19% -> 0 | N83: =L83+M83 -> 0 | P83: =O83*19% -> 0 | Q83: =O83+P83 -> 0 | S83: =R83*19% -> 0 | T83: =R83+S83 -> 0 | V83: =U83*19% -> 0 | W83: =U83+V83 -> 0 | Y83: =X83*19% -> 0 | Z83: =X83+Y83 -> 0 | AB83: =AA83*19% -> 0 | AC83: =AA83+AB83 -> 0 | AE83: =AD83*19% -> 0 | AF83: =AD83+AE83 -> 0 | AH83: =AG83*19% -> 0 | AI83: =AG83+AH83 -> 0 | AK83: =AJ83*19% -> 0 | AL83: =AJ83+AK83 -> 0 | AN83: =AM83*19% -> 0 | AO83: =AM83+AN83 -> 0 | AQ83: =AP83*19% -> 0 | AR83: =AP83+AQ83 -> 0 | AT83: =AS83*19% -> 0 | AU83: =AS83+AT83 -> 0 | AW83: =AV83*19% -> 0 | AX83: =AV83+AW83 -> 0 | AZ83: =AY83*19% -> 0 | BA83: =AY83+AZ83 -> 0 | BC83: =BB83*19% -> 0 | BD83: =BB83+BC83 -> 0 | BF83: =BE83*19% -> 0 | BG83: =BE83+BF83 -> 0 | BI83: =BH83*19% -> 0 | BJ83: =BH83+BI83 -> 0 | BL83: =BK83*19% -> 0 | BM83: =BK83+BL83 -> 0 | BO83: =BN83*19% -> 0 | BP83: =BN83+BO83 -> 0 | BR83: =BQ83*19% -> 0 | BS83: =BQ83+BR83 -> 0 | BU83: =BT83*19% -> 0 | BV83: =BT83+BU83 -> 0 | BX83: =BW83*19% -> 0 | BY83: =BW83+BX83 -> 0 | CA83: =BZ83*19% -> 0 | CB83: =BZ83+CA83 -> 0 | CD83: =CC83*19% -> 0 | CE83: =CC83+CD83 -> 0 | CG83: =CF83*19% -> 0 | CH83: =CF83+CG83 -> 0
A84: 3.18 | B84: HOJA MULLE TRAASERA PRINCIPAL | D84: =C84*19% -> 0 | E84: =C84+D84 -> 0 | G84: =F84*19% -> 0 | H84: =F84+G84 -> 0 | J84: =I84*19% -> 0 | K84: =I84+J84 -> 0 | M84: =L84*19% -> 0 | N84: =L84+M84 -> 0 | P84: =O84*19% -> 0 | Q84: =O84+P84 -> 0 | S84: =R84*19% -> 0 | T84: =R84+S84 -> 0 | V84: =U84*19% -> 0 | W84: =U84+V84 -> 0 | Y84: =X84*19% -> 0 | Z84: =X84+Y84 -> 0 | AB84: =AA84*19% -> 0 | AC84: =AA84+AB84 -> 0 | AE84: =AD84*19% -> 0 | AF84: =AD84+AE84 -> 0 | AH84: =AG84*19% -> 0 | AI84: =AG84+AH84 -> 0 | AK84: =AJ84*19% -> 0 | AL84: =AJ84+AK84 -> 0 | AN84: =AM84*19% -> 0 | AO84: =AM84+AN84 -> 0 | AQ84: =AP84*19% -> 0 | AR84: =AP84+AQ84 -> 0 | AT84: =AS84*19% -> 0 | AU84: =AS84+AT84 -> 0 | AW84: =AV84*19% -> 0 | AX84: =AV84+AW84 -> 0 | AZ84: =AY84*19% -> 0 | BA84: =AY84+AZ84 -> 0 | BC84: =BB84*19% -> 0 | BD84: =BB84+BC84 -> 0 | BF84: =BE84*19% -> 0 | BG84: =BE84+BF84 -> 0 | BI84: =BH84*19% -> 0 | BJ84: =BH84+BI84 -> 0 | BL84: =BK84*19% -> 0 | BM84: =BK84+BL84 -> 0 | BO84: =BN84*19% -> 0 | BP84: =BN84+BO84 -> 0 | BR84: =BQ84*19% -> 0 | BS84: =BQ84+BR84 -> 0 | BU84: =BT84*19% -> 0 | BV84: =BT84+BU84 -> 0 | BX84: =BW84*19% -> 0 | BY84: =BW84+BX84 -> 0 | CA84: =BZ84*19% -> 0 | CB84: =BZ84+CA84 -> 0 | CD84: =CC84*19% -> 0 | CE84: =CC84+CD84 -> 0 | CG84: =CF84*19% -> 0 | CH84: =CF84+CG84 -> 0
A85: 3.19 | B85: HOJA MULLES TRAASERA 2 - 3 - 4 | D85: =C85*19% -> 0 | E85: =C85+D85 -> 0 | G85: =F85*19% -> 0 | H85: =F85+G85 -> 0 | J85: =I85*19% -> 0 | K85: =I85+J85 -> 0 | M85: =L85*19% -> 0 | N85: =L85+M85 -> 0 | P85: =O85*19% -> 0 | Q85: =O85+P85 -> 0 | S85: =R85*19% -> 0 | T85: =R85+S85 -> 0 | V85: =U85*19% -> 0 | W85: =U85+V85 -> 0 | Y85: =X85*19% -> 0 | Z85: =X85+Y85 -> 0 | AB85: =AA85*19% -> 0 | AC85: =AA85+AB85 -> 0 | AE85: =AD85*19% -> 0 | AF85: =AD85+AE85 -> 0 | AH85: =AG85*19% -> 0 | AI85: =AG85+AH85 -> 0 | AK85: =AJ85*19% -> 0 | AL85: =AJ85+AK85 -> 0 | AN85: =AM85*19% -> 0 | AO85: =AM85+AN85 -> 0 | AQ85: =AP85*19% -> 0 | AR85: =AP85+AQ85 -> 0 | AT85: =AS85*19% -> 0 | AU85: =AS85+AT85 -> 0 | AW85: =AV85*19% -> 0 | AX85: =AV85+AW85 -> 0 | AZ85: =AY85*19% -> 0 | BA85: =AY85+AZ85 -> 0 | BC85: =BB85*19% -> 0 | BD85: =BB85+BC85 -> 0 | BF85: =BE85*19% -> 0 | BG85: =BE85+BF85 -> 0 | BI85: =BH85*19% -> 0 | BJ85: =BH85+BI85 -> 0 | BL85: =BK85*19% -> 0 | BM85: =BK85+BL85 -> 0 | BO85: =BN85*19% -> 0 | BP85: =BN85+BO85 -> 0 | BR85: =BQ85*19% -> 0 | BS85: =BQ85+BR85 -> 0 | BU85: =BT85*19% -> 0 | BV85: =BT85+BU85 -> 0 | BX85: =BW85*19% -> 0 | BY85: =BW85+BX85 -> 0 | CA85: =BZ85*19% -> 0 | CB85: =BZ85+CA85 -> 0 | CD85: =CC85*19% -> 0 | CE85: =CC85+CD85 -> 0 | CG85: =CF85*19% -> 0 | CH85: =CF85+CG85 -> 0
A86: 3.20 | B86: LAGRIMAS DELANTERA | D86: =C86*19% -> 0 | E86: =C86+D86 -> 0 | G86: =F86*19% -> 0 | H86: =F86+G86 -> 0 | J86: =I86*19% -> 0 | K86: =I86+J86 -> 0 | M86: =L86*19% -> 0 | N86: =L86+M86 -> 0 | P86: =O86*19% -> 0 | Q86: =O86+P86 -> 0 | R86: NO APLICA | S86: N/A | T86: NO APLICA | V86: =U86*19% -> 0 | W86: =U86+V86 -> 0 | Y86: =X86*19% -> 0 | Z86: =X86+Y86 -> 0 | AB86: =AA86*19% -> 0 | AC86: =AA86+AB86 -> 0 | AE86: =AD86*19% -> 0 | AF86: =AD86+AE86 -> 0 | AH86: =AG86*19% -> 0 | AI86: =AG86+AH86 -> 0 | AK86: =AJ86*19% -> 0 | AL86: =AJ86+AK86 -> 0 | AN86: =AM86*19% -> 0 | AO86: =AM86+AN86 -> 0 | AQ86: =AP86*19% -> 0 | AR86: =AP86+AQ86 -> 0 | AT86: =AS86*19% -> 0 | AU86: =AS86+AT86 -> 0 | AW86: =AV86*19% -> 0 | AX86: =AV86+AW86 -> 0 | AZ86: =AY86*19% -> 0 | BA86: =AY86+AZ86 -> 0 | BC86: =BB86*19% -> 0 | BD86: =BB86+BC86 -> 0 | BF86: =BE86*19% -> 0 | BG86: =BE86+BF86 -> 0 | BI86: =BH86*19% -> 0 | BJ86: =BH86+BI86 -> 0 | BL86: =BK86*19% -> 0 | BM86: =BK86+BL86 -> 0 | BO86: =BN86*19% -> 0 | BP86: =BN86+BO86 -> 0 | BR86: =BQ86*19% -> 0 | BS86: =BQ86+BR86 -> 0 | BU86: =BT86*19% -> 0 | BV86: =BT86+BU86 -> 0 | BX86: =BW86*19% -> 0 | BY86: =BW86+BX86 -> 0 | CA86: =BZ86*19% -> 0 | CB86: =BZ86+CA86 -> 0 | CD86: =CC86*19% -> 0 | CE86: =CC86+CD86 -> 0 | CG86: =CF86*19% -> 0 | CH86: =CF86+CG86 -> 0
A87: 3.21 | B87: LAGRIMAS TRASERAS | D87: =C87*19% -> 0 | E87: =C87+D87 -> 0 | G87: =F87*19% -> 0 | H87: =F87+G87 -> 0 | J87: =I87*19% -> 0 | K87: =I87+J87 -> 0 | M87: =L87*19% -> 0 | N87: =L87+M87 -> 0 | P87: =O87*19% -> 0 | Q87: =O87+P87 -> 0 | S87: =R87*19% -> 0 | T87: =R87+S87 -> 0 | V87: =U87*19% -> 0 | W87: =U87+V87 -> 0 | Y87: =X87*19% -> 0 | Z87: =X87+Y87 -> 0 | AB87: =AA87*19% -> 0 | AC87: =AA87+AB87 -> 0 | AE87: =AD87*19% -> 0 | AF87: =AD87+AE87 -> 0 | AH87: =AG87*19% -> 0 | AI87: =AG87+AH87 -> 0 | AK87: =AJ87*19% -> 0 | AL87: =AJ87+AK87 -> 0 | AN87: =AM87*19% -> 0 | AO87: =AM87+AN87 -> 0 | AQ87: =AP87*19% -> 0 | AR87: =AP87+AQ87 -> 0 | AT87: =AS87*19% -> 0 | AU87: =AS87+AT87 -> 0 | AW87: =AV87*19% -> 0 | AX87: =AV87+AW87 -> 0 | AZ87: =AY87*19% -> 0 | BA87: =AY87+AZ87 -> 0 | BC87: =BB87*19% -> 0 | BD87: =BB87+BC87 -> 0 | BF87: =BE87*19% -> 0 | BG87: =BE87+BF87 -> 0 | BI87: =BH87*19% -> 0 | BJ87: =BH87+BI87 -> 0 | BL87: =BK87*19% -> 0 | BM87: =BK87+BL87 -> 0 | BO87: =BN87*19% -> 0 | BP87: =BN87+BO87 -> 0 | BR87: =BQ87*19% -> 0 | BS87: =BQ87+BR87 -> 0 | BU87: =BT87*19% -> 0 | BV87: =BT87+BU87 -> 0 | BX87: =BW87*19% -> 0 | BY87: =BW87+BX87 -> 0 | CA87: =BZ87*19% -> 0 | CB87: =BZ87+CA87 -> 0 | CD87: =CC87*19% -> 0 | CE87: =CC87+CD87 -> 0 | CG87: =CF87*19% -> 0 | CH87: =CF87+CG87 -> 0
A88: 3.22 | B88: RETEN DE RODAMIENTO DELANTERO | D88: =C88*19% -> 0 | E88: =C88+D88 -> 0 | G88: =F88*19% -> 0 | H88: =F88+G88 -> 0 | J88: =I88*19% -> 0 | K88: =I88+J88 -> 0 | M88: =L88*19% -> 0 | N88: =L88+M88 -> 0 | P88: =O88*19% -> 0 | Q88: =O88+P88 -> 0 | S88: =R88*19% -> 0 | T88: =R88+S88 -> 0 | V88: =U88*19% -> 0 | W88: =U88+V88 -> 0 | Y88: =X88*19% -> 0 | Z88: =X88+Y88 -> 0 | AB88: =AA88*19% -> 0 | AC88: =AA88+AB88 -> 0 | AE88: =AD88*19% -> 0 | AF88: =AD88+AE88 -> 0 | AH88: =AG88*19% -> 0 | AI88: =AG88+AH88 -> 0 | AK88: =AJ88*19% -> 0 | AL88: =AJ88+AK88 -> 0 | AN88: =AM88*19% -> 0 | AO88: =AM88+AN88 -> 0 | AQ88: =AP88*19% -> 0 | AR88: =AP88+AQ88 -> 0 | AT88: =AS88*19% -> 0 | AU88: =AS88+AT88 -> 0 | AW88: =AV88*19% -> 0 | AX88: =AV88+AW88 -> 0 | AZ88: =AY88*19% -> 0 | BA88: =AY88+AZ88 -> 0 | BC88: =BB88*19% -> 0 | BD88: =BB88+BC88 -> 0 | BF88: =BE88*19% -> 0 | BG88: =BE88+BF88 -> 0 | BI88: =BH88*19% -> 0 | BJ88: =BH88+BI88 -> 0 | BL88: =BK88*19% -> 0 | BM88: =BK88+BL88 -> 0 | BO88: =BN88*19% -> 0 | BP88: =BN88+BO88 -> 0 | BR88: =BQ88*19% -> 0 | BS88: =BQ88+BR88 -> 0 | BU88: =BT88*19% -> 0 | BV88: =BT88+BU88 -> 0 | BX88: =BW88*19% -> 0 | BY88: =BW88+BX88 -> 0 | CA88: =BZ88*19% -> 0 | CB88: =BZ88+CA88 -> 0 | CD88: =CC88*19% -> 0 | CE88: =CC88+CD88 -> 0 | CG88: =CF88*19% -> 0 | CH88: =CF88+CG88 -> 0
A89: 3.23 | B89: RODAMIENTO COPELAS DELANTERO | D89: =C89*19% -> 0 | E89: =C89+D89 -> 0 | G89: =F89*19% -> 0 | H89: =F89+G89 -> 0 | J89: =I89*19% -> 0 | K89: =I89+J89 -> 0 | M89: =L89*19% -> 0 | N89: =L89+M89 -> 0 | P89: =O89*19% -> 0 | Q89: =O89+P89 -> 0 | S89: =R89*19% -> 0 | T89: =R89+S89 -> 0 | V89: =U89*19% -> 0 | W89: =U89+V89 -> 0 | Y89: =X89*19% -> 0 | Z89: =X89+Y89 -> 0 | AB89: =AA89*19% -> 0 | AC89: =AA89+AB89 -> 0 | AE89: =AD89*19% -> 0 | AF89: =AD89+AE89 -> 0 | AH89: =AG89*19% -> 0 | AI89: =AG89+AH89 -> 0 | AK89: =AJ89*19% -> 0 | AL89: =AJ89+AK89 -> 0 | AN89: =AM89*19% -> 0 | AO89: =AM89+AN89 -> 0 | AQ89: =AP89*19% -> 0 | AR89: =AP89+AQ89 -> 0 | AT89: =AS89*19% -> 0 | AU89: =AS89+AT89 -> 0 | AW89: =AV89*19% -> 0 | AX89: =AV89+AW89 -> 0 | AZ89: =AY89*19% -> 0 | BA89: =AY89+AZ89 -> 0 | BC89: =BB89*19% -> 0 | BD89: =BB89+BC89 -> 0 | BF89: =BE89*19% -> 0 | BG89: =BE89+BF89 -> 0 | BI89: =BH89*19% -> 0 | BJ89: =BH89+BI89 -> 0 | BL89: =BK89*19% -> 0 | BM89: =BK89+BL89 -> 0 | BO89: =BN89*19% -> 0 | BP89: =BN89+BO89 -> 0 | BR89: =BQ89*19% -> 0 | BS89: =BQ89+BR89 -> 0 | BU89: =BT89*19% -> 0 | BV89: =BT89+BU89 -> 0 | BX89: =BW89*19% -> 0 | BY89: =BW89+BX89 -> 0 | CA89: =BZ89*19% -> 0 | CB89: =BZ89+CA89 -> 0 | CD89: =CC89*19% -> 0 | CE89: =CC89+CD89 -> 0 | CG89: =CF89*19% -> 0 | CH89: =CF89+CG89 -> 0
A90: 3.24 | B90: RODAMIENTO COPELAS TRASERO | D90: =C90*19% -> 0 | E90: =C90+D90 -> 0 | G90: =F90*19% -> 0 | H90: =F90+G90 -> 0 | J90: =I90*19% -> 0 | K90: =I90+J90 -> 0 | M90: =L90*19% -> 0 | N90: =L90+M90 -> 0 | P90: =O90*19% -> 0 | Q90: =O90+P90 -> 0 | S90: =R90*19% -> 0 | T90: =R90+S90 -> 0 | V90: =U90*19% -> 0 | W90: =U90+V90 -> 0 | Y90: =X90*19% -> 0 | Z90: =X90+Y90 -> 0 | AB90: =AA90*19% -> 0 | AC90: =AA90+AB90 -> 0 | AE90: =AD90*19% -> 0 | AF90: =AD90+AE90 -> 0 | AH90: =AG90*19% -> 0 | AI90: =AG90+AH90 -> 0 | AK90: =AJ90*19% -> 0 | AL90: =AJ90+AK90 -> 0 | AN90: =AM90*19% -> 0 | AO90: =AM90+AN90 -> 0 | AQ90: =AP90*19% -> 0 | AR90: =AP90+AQ90 -> 0 | AT90: =AS90*19% -> 0 | AU90: =AS90+AT90 -> 0 | AW90: =AV90*19% -> 0 | AX90: =AV90+AW90 -> 0 | AZ90: =AY90*19% -> 0 | BA90: =AY90+AZ90 -> 0 | BC90: =BB90*19% -> 0 | BD90: =BB90+BC90 -> 0 | BF90: =BE90*19% -> 0 | BG90: =BE90+BF90 -> 0 | BI90: =BH90*19% -> 0 | BJ90: =BH90+BI90 -> 0 | BL90: =BK90*19% -> 0 | BM90: =BK90+BL90 -> 0 | BO90: =BN90*19% -> 0 | BP90: =BN90+BO90 -> 0 | BR90: =BQ90*19% -> 0 | BS90: =BQ90+BR90 -> 0 | BU90: =BT90*19% -> 0 | BV90: =BT90+BU90 -> 0 | BX90: =BW90*19% -> 0 | BY90: =BW90+BX90 -> 0 | CA90: =BZ90*19% -> 0 | CB90: =BZ90+CA90 -> 0 | CD90: =CC90*19% -> 0 | CE90: =CC90+CD90 -> 0 | CG90: =CF90*19% -> 0 | CH90: =CF90+CG90 -> 0
A91: 3.25 | B91: RODAMIENTOS DELANTEROS | D91: =C91*19% -> 0 | E91: =C91+D91 -> 0 | G91: =F91*19% -> 0 | H91: =F91+G91 -> 0 | J91: =I91*19% -> 0 | K91: =I91+J91 -> 0 | M91: =L91*19% -> 0 | N91: =L91+M91 -> 0 | P91: =O91*19% -> 0 | Q91: =O91+P91 -> 0 | S91: =R91*19% -> 0 | T91: =R91+S91 -> 0 | V91: =U91*19% -> 0 | W91: =U91+V91 -> 0 | Y91: =X91*19% -> 0 | Z91: =X91+Y91 -> 0 | AB91: =AA91*19% -> 0 | AC91: =AA91+AB91 -> 0 | AE91: =AD91*19% -> 0 | AF91: =AD91+AE91 -> 0 | AH91: =AG91*19% -> 0 | AI91: =AG91+AH91 -> 0 | AK91: =AJ91*19% -> 0 | AL91: =AJ91+AK91 -> 0 | AN91: =AM91*19% -> 0 | AO91: =AM91+AN91 -> 0 | AQ91: =AP91*19% -> 0 | AR91: =AP91+AQ91 -> 0 | AT91: =AS91*19% -> 0 | AU91: =AS91+AT91 -> 0 | AW91: =AV91*19% -> 0 | AX91: =AV91+AW91 -> 0 | AZ91: =AY91*19% -> 0 | BA91: =AY91+AZ91 -> 0 | BC91: =BB91*19% -> 0 | BD91: =BB91+BC91 -> 0 | BF91: =BE91*19% -> 0 | BG91: =BE91+BF91 -> 0 | BI91: =BH91*19% -> 0 | BJ91: =BH91+BI91 -> 0 | BL91: =BK91*19% -> 0 | BM91: =BK91+BL91 -> 0 | BO91: =BN91*19% -> 0 | BP91: =BN91+BO91 -> 0 | BR91: =BQ91*19% -> 0 | BS91: =BQ91+BR91 -> 0 | BU91: =BT91*19% -> 0 | BV91: =BT91+BU91 -> 0 | BX91: =BW91*19% -> 0 | BY91: =BW91+BX91 -> 0 | CA91: =BZ91*19% -> 0 | CB91: =BZ91+CA91 -> 0 | CD91: =CC91*19% -> 0 | CE91: =CC91+CD91 -> 0 | CG91: =CF91*19% -> 0 | CH91: =CF91+CG91 -> 0
A92: 3.26 | B92: RODAMIENTOS TRASEROS | D92: =C92*19% -> 0 | E92: =C92+D92 -> 0 | G92: =F92*19% -> 0 | H92: =F92+G92 -> 0 | J92: =I92*19% -> 0 | K92: =I92+J92 -> 0 | M92: =L92*19% -> 0 | N92: =L92+M92 -> 0 | P92: =O92*19% -> 0 | Q92: =O92+P92 -> 0 | S92: =R92*19% -> 0 | T92: =R92+S92 -> 0 | V92: =U92*19% -> 0 | W92: =U92+V92 -> 0 | Y92: =X92*19% -> 0 | Z92: =X92+Y92 -> 0 | AB92: =AA92*19% -> 0 | AC92: =AA92+AB92 -> 0 | AE92: =AD92*19% -> 0 | AF92: =AD92+AE92 -> 0 | AH92: =AG92*19% -> 0 | AI92: =AG92+AH92 -> 0 | AK92: =AJ92*19% -> 0 | AL92: =AJ92+AK92 -> 0 | AN92: =AM92*19% -> 0 | AO92: =AM92+AN92 -> 0 | AQ92: =AP92*19% -> 0 | AR92: =AP92+AQ92 -> 0 | AT92: =AS92*19% -> 0 | AU92: =AS92+AT92 -> 0 | AW92: =AV92*19% -> 0 | AX92: =AV92+AW92 -> 0 | AZ92: =AY92*19% -> 0 | BA92: =AY92+AZ92 -> 0 | BC92: =BB92*19% -> 0 | BD92: =BB92+BC92 -> 0 | BF92: =BE92*19% -> 0 | BG92: =BE92+BF92 -> 0 | BI92: =BH92*19% -> 0 | BJ92: =BH92+BI92 -> 0 | BL92: =BK92*19% -> 0 | BM92: =BK92+BL92 -> 0 | BO92: =BN92*19% -> 0 | BP92: =BN92+BO92 -> 0 | BR92: =BQ92*19% -> 0 | BS92: =BQ92+BR92 -> 0 | BU92: =BT92*19% -> 0 | BV92: =BT92+BU92 -> 0 | BX92: =BW92*19% -> 0 | BY92: =BW92+BX92 -> 0 | CA92: =BZ92*19% -> 0 | CB92: =BZ92+CA92 -> 0 | CD92: =CC92*19% -> 0 | CE92: =CC92+CD92 -> 0 | CG92: =CF92*19% -> 0 | CH92: =CF92+CG92 -> 0
A93: 3.27 | B93: ROTULAS INFERIORES | D93: =C93*19% -> 0 | E93: =C93+D93 -> 0 | G93: =F93*19% -> 0 | H93: =F93+G93 -> 0 | J93: =I93*19% -> 0 | K93: =I93+J93 -> 0 | M93: =L93*19% -> 0 | N93: =L93+M93 -> 0 | P93: =O93*19% -> 0 | Q93: =O93+P93 -> 0 | R93: NO APLICA | S93: N/A | T93: NO APLICA | V93: =U93*19% -> 0 | W93: =U93+V93 -> 0 | Y93: =X93*19% -> 0 | Z93: =X93+Y93 -> 0 | AB93: =AA93*19% -> 0 | AC93: =AA93+AB93 -> 0 | AE93: =AD93*19% -> 0 | AF93: =AD93+AE93 -> 0 | AH93: =AG93*19% -> 0 | AI93: =AG93+AH93 -> 0 | AK93: =AJ93*19% -> 0 | AL93: =AJ93+AK93 -> 0 | AN93: =AM93*19% -> 0 | AO93: =AM93+AN93 -> 0 | AQ93: =AP93*19% -> 0 | AR93: =AP93+AQ93 -> 0 | AT93: =AS93*19% -> 0 | AU93: =AS93+AT93 -> 0 | AW93: =AV93*19% -> 0 | AX93: =AV93+AW93 -> 0 | AZ93: =AY93*19% -> 0 | BA93: =AY93+AZ93 -> 0 | BC93: =BB93*19% -> 0 | BD93: =BB93+BC93 -> 0 | BF93: =BE93*19% -> 0 | BG93: =BE93+BF93 -> 0 | BI93: =BH93*19% -> 0 | BJ93: =BH93+BI93 -> 0 | BL93: =BK93*19% -> 0 | BM93: =BK93+BL93 -> 0 | BO93: =BN93*19% -> 0 | BP93: =BN93+BO93 -> 0 | BR93: =BQ93*19% -> 0 | BS93: =BQ93+BR93 -> 0 | BU93: =BT93*19% -> 0 | BV93: =BT93+BU93 -> 0 | BX93: =BW93*19% -> 0 | BY93: =BW93+BX93 -> 0 | CA93: =BZ93*19% -> 0 | CB93: =BZ93+CA93 -> 0 | CD93: =CC93*19% -> 0 | CE93: =CC93+CD93 -> 0 | CG93: =CF93*19% -> 0 | CH93: =CF93+CG93 -> 0
A94: 3.28 | B94: ROTULAS SUPERIORES | D94: =C94*19% -> 0 | E94: =C94+D94 -> 0 | G94: =F94*19% -> 0 | H94: =F94+G94 -> 0 | J94: =I94*19% -> 0 | K94: =I94+J94 -> 0 | M94: =L94*19% -> 0 | N94: =L94+M94 -> 0 | P94: =O94*19% -> 0 | Q94: =O94+P94 -> 0 | R94: NO APLICA | S94: N/A | T94: NO APLICA | V94: =U94*19% -> 0 | W94: =U94+V94 -> 0 | Y94: =X94*19% -> 0 | Z94: =X94+Y94 -> 0 | AB94: =AA94*19% -> 0 | AC94: =AA94+AB94 -> 0 | AE94: =AD94*19% -> 0 | AF94: =AD94+AE94 -> 0 | AH94: =AG94*19% -> 0 | AI94: =AG94+AH94 -> 0 | AK94: =AJ94*19% -> 0 | AL94: =AJ94+AK94 -> 0 | AN94: =AM94*19% -> 0 | AO94: =AM94+AN94 -> 0 | AQ94: =AP94*19% -> 0 | AR94: =AP94+AQ94 -> 0 | AT94: =AS94*19% -> 0 | AU94: =AS94+AT94 -> 0 | AW94: =AV94*19% -> 0 | AX94: =AV94+AW94 -> 0 | AZ94: =AY94*19% -> 0 | BA94: =AY94+AZ94 -> 0 | BC94: =BB94*19% -> 0 | BD94: =BB94+BC94 -> 0 | BF94: =BE94*19% -> 0 | BG94: =BE94+BF94 -> 0 | BI94: =BH94*19% -> 0 | BJ94: =BH94+BI94 -> 0 | BL94: =BK94*19% -> 0 | BM94: =BK94+BL94 -> 0 | BO94: =BN94*19% -> 0 | BP94: =BN94+BO94 -> 0 | BR94: =BQ94*19% -> 0 | BS94: =BQ94+BR94 -> 0 | BU94: =BT94*19% -> 0 | BV94: =BT94+BU94 -> 0 | BX94: =BW94*19% -> 0 | BY94: =BW94+BX94 -> 0 | CA94: =BZ94*19% -> 0 | CB94: =BZ94+CA94 -> 0 | CD94: =CC94*19% -> 0 | CE94: =CC94+CD94 -> 0 | CG94: =CF94*19% -> 0 | CH94: =CF94+CG94 -> 0
A95: 3.29 | B95: SPLINDER | D95: =C95*19% -> 0 | E95: =C95+D95 -> 0 | G95: =F95*19% -> 0 | H95: =F95+G95 -> 0 | J95: =I95*19% -> 0 | K95: =I95+J95 -> 0 | M95: =L95*19% -> 0 | N95: =L95+M95 -> 0 | P95: =O95*19% -> 0 | Q95: =O95+P95 -> 0 | S95: =R95*19% -> 0 | T95: =R95+S95 -> 0 | V95: =U95*19% -> 0 | W95: =U95+V95 -> 0 | Y95: =X95*19% -> 0 | Z95: =X95+Y95 -> 0 | AB95: =AA95*19% -> 0 | AC95: =AA95+AB95 -> 0 | AE95: =AD95*19% -> 0 | AF95: =AD95+AE95 -> 0 | AH95: =AG95*19% -> 0 | AI95: =AG95+AH95 -> 0 | AK95: =AJ95*19% -> 0 | AL95: =AJ95+AK95 -> 0 | AN95: =AM95*19% -> 0 | AO95: =AM95+AN95 -> 0 | AQ95: =AP95*19% -> 0 | AR95: =AP95+AQ95 -> 0 | AT95: =AS95*19% -> 0 | AU95: =AS95+AT95 -> 0 | AW95: =AV95*19% -> 0 | AX95: =AV95+AW95 -> 0 | AZ95: =AY95*19% -> 0 | BA95: =AY95+AZ95 -> 0 | BC95: =BB95*19% -> 0 | BD95: =BB95+BC95 -> 0 | BF95: =BE95*19% -> 0 | BG95: =BE95+BF95 -> 0 | BI95: =BH95*19% -> 0 | BJ95: =BH95+BI95 -> 0 | BL95: =BK95*19% -> 0 | BM95: =BK95+BL95 -> 0 | BO95: =BN95*19% -> 0 | BP95: =BN95+BO95 -> 0 | BR95: =BQ95*19% -> 0 | BS95: =BQ95+BR95 -> 0 | BU95: =BT95*19% -> 0 | BV95: =BT95+BU95 -> 0 | BX95: =BW95*19% -> 0 | BY95: =BW95+BX95 -> 0 | CA95: =BZ95*19% -> 0 | CB95: =BZ95+CA95 -> 0 | CD95: =CC95*19% -> 0 | CE95: =CC95+CD95 -> 0 | CG95: =CF95*19% -> 0 | CH95: =CF95+CG95 -> 0
A96: 3.30 | B96: TERMINAL DIRECCION | D96: =C96*19% -> 0 | E96: =C96+D96 -> 0 | G96: =F96*19% -> 0 | H96: =F96+G96 -> 0 | J96: =I96*19% -> 0 | K96: =I96+J96 -> 0 | M96: =L96*19% -> 0 | N96: =L96+M96 -> 0 | P96: =O96*19% -> 0 | Q96: =O96+P96 -> 0 | S96: =R96*19% -> 0 | T96: =R96+S96 -> 0 | V96: =U96*19% -> 0 | W96: =U96+V96 -> 0 | Y96: =X96*19% -> 0 | Z96: =X96+Y96 -> 0 | AB96: =AA96*19% -> 0 | AC96: =AA96+AB96 -> 0 | AE96: =AD96*19% -> 0 | AF96: =AD96+AE96 -> 0 | AH96: =AG96*19% -> 0 | AI96: =AG96+AH96 -> 0 | AK96: =AJ96*19% -> 0 | AL96: =AJ96+AK96 -> 0 | AN96: =AM96*19% -> 0 | AO96: =AM96+AN96 -> 0 | AQ96: =AP96*19% -> 0 | AR96: =AP96+AQ96 -> 0 | AT96: =AS96*19% -> 0 | AU96: =AS96+AT96 -> 0 | AW96: =AV96*19% -> 0 | AX96: =AV96+AW96 -> 0 | AZ96: =AY96*19% -> 0 | BA96: =AY96+AZ96 -> 0 | BC96: =BB96*19% -> 0 | BD96: =BB96+BC96 -> 0 | BF96: =BE96*19% -> 0 | BG96: =BE96+BF96 -> 0 | BI96: =BH96*19% -> 0 | BJ96: =BH96+BI96 -> 0 | BL96: =BK96*19% -> 0 | BM96: =BK96+BL96 -> 0 | BO96: =BN96*19% -> 0 | BP96: =BN96+BO96 -> 0 | BR96: =BQ96*19% -> 0 | BS96: =BQ96+BR96 -> 0 | BU96: =BT96*19% -> 0 | BV96: =BT96+BU96 -> 0 | BX96: =BW96*19% -> 0 | BY96: =BW96+BX96 -> 0 | CA96: =BZ96*19% -> 0 | CB96: =BZ96+CA96 -> 0 | CD96: =CC96*19% -> 0 | CE96: =CC96+CD96 -> 0 | CG96: =CF96*19% -> 0 | CH96: =CF96+CG96 -> 0
A97: 3.31 | B97: TIJERA INFERIOR IZQ/DER | D97: =C97*19% -> 0 | E97: =C97+D97 -> 0 | G97: =F97*19% -> 0 | H97: =F97+G97 -> 0 | J97: =I97*19% -> 0 | K97: =I97+J97 -> 0 | M97: =L97*19% -> 0 | N97: =L97+M97 -> 0 | P97: =O97*19% -> 0 | Q97: =O97+P97 -> 0 | R97: NO APLICA | S97: N/A | T97: NO APLICA | V97: =U97*19% -> 0 | W97: =U97+V97 -> 0 | Y97: =X97*19% -> 0 | Z97: =X97+Y97 -> 0 | AB97: =AA97*19% -> 0 | AC97: =AA97+AB97 -> 0 | AE97: =AD97*19% -> 0 | AF97: =AD97+AE97 -> 0 | AH97: =AG97*19% -> 0 | AI97: =AG97+AH97 -> 0 | AK97: =AJ97*19% -> 0 | AL97: =AJ97+AK97 -> 0 | AN97: =AM97*19% -> 0 | AO97: =AM97+AN97 -> 0 | AQ97: =AP97*19% -> 0 | AR97: =AP97+AQ97 -> 0 | AT97: =AS97*19% -> 0 | AU97: =AS97+AT97 -> 0 | AW97: =AV97*19% -> 0 | AX97: =AV97+AW97 -> 0 | AZ97: =AY97*19% -> 0 | BA97: =AY97+AZ97 -> 0 | BC97: =BB97*19% -> 0 | BD97: =BB97+BC97 -> 0 | BF97: =BE97*19% -> 0 | BG97: =BE97+BF97 -> 0 | BI97: =BH97*19% -> 0 | BJ97: =BH97+BI97 -> 0 | BL97: =BK97*19% -> 0 | BM97: =BK97+BL97 -> 0 | BO97: =BN97*19% -> 0 | BP97: =BN97+BO97 -> 0 | BR97: =BQ97*19% -> 0 | BS97: =BQ97+BR97 -> 0 | BU97: =BT97*19% -> 0 | BV97: =BT97+BU97 -> 0 | BX97: =BW97*19% -> 0 | BY97: =BW97+BX97 -> 0 | CA97: =BZ97*19% -> 0 | CB97: =BZ97+CA97 -> 0 | CD97: =CC97*19% -> 0 | CE97: =CC97+CD97 -> 0 | CG97: =CF97*19% -> 0 | CH97: =CF97+CG97 -> 0
A98: 3.32 | B98: TIJERA SUPERIOR IZQ/DER | D98: =C98*19% -> 0 | E98: =C98+D98 -> 0 | G98: =F98*19% -> 0 | H98: =F98+G98 -> 0 | J98: =I98*19% -> 0 | K98: =I98+J98 -> 0 | M98: =L98*19% -> 0 | N98: =L98+M98 -> 0 | P98: =O98*19% -> 0 | Q98: =O98+P98 -> 0 | R98: NO APLICA | S98: N/A | T98: NO APLICA | V98: =U98*19% -> 0 | W98: =U98+V98 -> 0 | Y98: =X98*19% -> 0 | Z98: =X98+Y98 -> 0 | AB98: =AA98*19% -> 0 | AC98: =AA98+AB98 -> 0 | AE98: =AD98*19% -> 0 | AF98: =AD98+AE98 -> 0 | AH98: =AG98*19% -> 0 | AI98: =AG98+AH98 -> 0 | AK98: =AJ98*19% -> 0 | AL98: =AJ98+AK98 -> 0 | AN98: =AM98*19% -> 0 | AO98: =AM98+AN98 -> 0 | AQ98: =AP98*19% -> 0 | AR98: =AP98+AQ98 -> 0 | AT98: =AS98*19% -> 0 | AU98: =AS98+AT98 -> 0 | AW98: =AV98*19% -> 0 | AX98: =AV98+AW98 -> 0 | AZ98: =AY98*19% -> 0 | BA98: =AY98+AZ98 -> 0 | BC98: =BB98*19% -> 0 | BD98: =BB98+BC98 -> 0 | BF98: =BE98*19% -> 0 | BG98: =BE98+BF98 -> 0 | BI98: =BH98*19% -> 0 | BJ98: =BH98+BI98 -> 0 | BL98: =BK98*19% -> 0 | BM98: =BK98+BL98 -> 0 | BO98: =BN98*19% -> 0 | BP98: =BN98+BO98 -> 0 | BR98: =BQ98*19% -> 0 | BS98: =BQ98+BR98 -> 0 | BU98: =BT98*19% -> 0 | BV98: =BT98+BU98 -> 0 | BX98: =BW98*19% -> 0 | BY98: =BW98+BX98 -> 0 | CA98: =BZ98*19% -> 0 | CB98: =BZ98+CA98 -> 0 | CD98: =CC98*19% -> 0 | CE98: =CC98+CD98 -> 0 | CG98: =CF98*19% -> 0 | CH98: =CF98+CG98 -> 0
A99: 3.33 | B99: TORNILLO PRINCIPAL MUELLES | D99: =C99*19% -> 0 | E99: =C99+D99 -> 0 | G99: =F99*19% -> 0 | H99: =F99+G99 -> 0 | J99: =I99*19% -> 0 | K99: =I99+J99 -> 0 | M99: =L99*19% -> 0 | N99: =L99+M99 -> 0 | P99: =O99*19% -> 0 | Q99: =O99+P99 -> 0 | S99: =R99*19% -> 0 | T99: =R99+S99 -> 0 | V99: =U99*19% -> 0 | W99: =U99+V99 -> 0 | Y99: =X99*19% -> 0 | Z99: =X99+Y99 -> 0 | AB99: =AA99*19% -> 0 | AC99: =AA99+AB99 -> 0 | AE99: =AD99*19% -> 0 | AF99: =AD99+AE99 -> 0 | AH99: =AG99*19% -> 0 | AI99: =AG99+AH99 -> 0 | AK99: =AJ99*19% -> 0 | AL99: =AJ99+AK99 -> 0 | AN99: =AM99*19% -> 0 | AO99: =AM99+AN99 -> 0 | AQ99: =AP99*19% -> 0 | AR99: =AP99+AQ99 -> 0 | AT99: =AS99*19% -> 0 | AU99: =AS99+AT99 -> 0 | AW99: =AV99*19% -> 0 | AX99: =AV99+AW99 -> 0 | AZ99: =AY99*19% -> 0 | BA99: =AY99+AZ99 -> 0 | BC99: =BB99*19% -> 0 | BD99: =BB99+BC99 -> 0 | BF99: =BE99*19% -> 0 | BG99: =BE99+BF99 -> 0 | BI99: =BH99*19% -> 0 | BJ99: =BH99+BI99 -> 0 | BL99: =BK99*19% -> 0 | BM99: =BK99+BL99 -> 0 | BO99: =BN99*19% -> 0 | BP99: =BN99+BO99 -> 0 | BR99: =BQ99*19% -> 0 | BS99: =BQ99+BR99 -> 0 | BU99: =BT99*19% -> 0 | BV99: =BT99+BU99 -> 0 | BX99: =BW99*19% -> 0 | BY99: =BW99+BX99 -> 0 | CA99: =BZ99*19% -> 0 | CB99: =BZ99+CA99 -> 0 | CD99: =CC99*19% -> 0 | CE99: =CC99+CD99 -> 0 | CG99: =CF99*19% -> 0 | CH99: =CF99+CG99 -> 0
A100: 4 | B100: EMBRAGUE | C100: 0 | D100: 0 | E100: 0 | F100: 0 | G100: 0 | H100: 0 | I100: 0 | J100: 0 | K100: 0 | L100: 0 | M100: 0 | N100: 0 | O100: 0 | P100: 0 | Q100: 0 | R100: 0 | S100: 0 | T100: 0 | U100: 0 | V100: 0 | W100: 0 | X100: 0 | Y100: 0 | Z100: 0 | AA100: 0 | AB100: 0 | AC100: 0 | AD100: 0 | AE100: 0 | AF100: 0 | AG100: 0 | AH100: 0 | AI100: 0 | AJ100: 0 | AK100: 0 | AL100: 0 | AM100: 0 | AN100: 0 | AO100: 0 | AP100: 0 | AQ100: 0 | AR100: 0 | AS100: 0 | AT100: 0 | AU100: 0 | AV100: 0 | AW100: 0 | AX100: 0 | AY100: 0 | AZ100: 0 | BA100: 0 | BB100: 0 | BC100: 0 | BD100: 0 | BE100: 0 | BF100: 0 | BG100: 0 | BH100: 0 | BI100: 0 | BJ100: 0 | BK100: 0 | BL100: 0 | BM100: 0 | BN100: 0 | BO100: 0 | BP100: 0 | BQ100: 0 | BR100: 0 | BS100: 0 | BT100: 0 | BU100: 0 | BV100: 0 | BW100: 0 | BX100: 0 | BY100: 0 | BZ100: 0 | CA100: 0 | CB100: 0 | CC100: 0 | CD100: 0 | CE100: 0 | CF100: 0 | CG100: 0 | CH100: 0
A101: 4.1 | B101: BOMBA AUXILIAR DE EMBRAGUE | D101: =C101*19% -> 0 | E101: =C101+D101 -> 0 | G101: =F101*19% -> 0 | H101: =F101+G101 -> 0 | J101: =I101*19% -> 0 | K101: =I101+J101 -> 0 | M101: =L101*19% -> 0 | N101: =L101+M101 -> 0 | P101: =O101*19% -> 0 | Q101: =O101+P101 -> 0 | S101: =R101*19% -> 0 | T101: =R101+S101 -> 0 | V101: =U101*19% -> 0 | W101: =U101+V101 -> 0 | Y101: =X101*19% -> 0 | Z101: =X101+Y101 -> 0 | AB101: =AA101*19% -> 0 | AC101: =AA101+AB101 -> 0 | AE101: =AD101*19% -> 0 | AF101: =AD101+AE101 -> 0 | AH101: =AG101*19% -> 0 | AI101: =AG101+AH101 -> 0 | AK101: =AJ101*19% -> 0 | AL101: =AJ101+AK101 -> 0 | AN101: =AM101*19% -> 0 | AO101: =AM101+AN101 -> 0 | AQ101: =AP101*19% -> 0 | AR101: =AP101+AQ101 -> 0 | AT101: =AS101*19% -> 0 | AU101: =AS101+AT101 -> 0 | AW101: =AV101*19% -> 0 | AX101: =AV101+AW101 -> 0 | AZ101: =AY101*19% -> 0 | BA101: =AY101+AZ101 -> 0 | BC101: =BB101*19% -> 0 | BD101: =BB101+BC101 -> 0 | BF101: =BE101*19% -> 0 | BG101: =BE101+BF101 -> 0 | BI101: =BH101*19% -> 0 | BJ101: =BH101+BI101 -> 0 | BL101: =BK101*19% -> 0 | BM101: =BK101+BL101 -> 0 | BO101: =BN101*19% -> 0 | BP101: =BN101+BO101 -> 0 | BR101: =BQ101*19% -> 0 | BS101: =BQ101+BR101 -> 0 | BU101: =BT101*19% -> 0 | BV101: =BT101+BU101 -> 0 | BX101: =BW101*19% -> 0 | BY101: =BW101+BX101 -> 0 | CA101: =BZ101*19% -> 0 | CB101: =BZ101+CA101 -> 0 | CD101: =CC101*19% -> 0 | CE101: =CC101+CD101 -> 0 | CG101: =CF101*19% -> 0 | CH101: =CF101+CG101 -> 0
A102: 4.2 | B102: BOMBA PRINCIPAL DE EMBRAGUE | D102: =C102*19% -> 0 | E102: =C102+D102 -> 0 | G102: =F102*19% -> 0 | H102: =F102+G102 -> 0 | J102: =I102*19% -> 0 | K102: =I102+J102 -> 0 | M102: =L102*19% -> 0 | N102: =L102+M102 -> 0 | P102: =O102*19% -> 0 | Q102: =O102+P102 -> 0 | S102: =R102*19% -> 0 | T102: =R102+S102 -> 0 | V102: =U102*19% -> 0 | W102: =U102+V102 -> 0 | Y102: =X102*19% -> 0 | Z102: =X102+Y102 -> 0 | AB102: =AA102*19% -> 0 | AC102: =AA102+AB102 -> 0 | AE102: =AD102*19% -> 0 | AF102: =AD102+AE102 -> 0 | AH102: =AG102*19% -> 0 | AI102: =AG102+AH102 -> 0 | AK102: =AJ102*19% -> 0 | AL102: =AJ102+AK102 -> 0 | AN102: =AM102*19% -> 0 | AO102: =AM102+AN102 -> 0 | AQ102: =AP102*19% -> 0 | AR102: =AP102+AQ102 -> 0 | AT102: =AS102*19% -> 0 | AU102: =AS102+AT102 -> 0 | AW102: =AV102*19% -> 0 | AX102: =AV102+AW102 -> 0 | AZ102: =AY102*19% -> 0 | BA102: =AY102+AZ102 -> 0 | BC102: =BB102*19% -> 0 | BD102: =BB102+BC102 -> 0 | BF102: =BE102*19% -> 0 | BG102: =BE102+BF102 -> 0 | BI102: =BH102*19% -> 0 | BJ102: =BH102+BI102 -> 0 | BL102: =BK102*19% -> 0 | BM102: =BK102+BL102 -> 0 | BO102: =BN102*19% -> 0 | BP102: =BN102+BO102 -> 0 | BR102: =BQ102*19% -> 0 | BS102: =BQ102+BR102 -> 0 | BU102: =BT102*19% -> 0 | BV102: =BT102+BU102 -> 0 | BX102: =BW102*19% -> 0 | BY102: =BW102+BX102 -> 0 | CA102: =BZ102*19% -> 0 | CB102: =BZ102+CA102 -> 0 | CD102: =CC102*19% -> 0 | CE102: =CC102+CD102 -> 0 | CG102: =CF102*19% -> 0 | CH102: =CF102+CG102 -> 0
A103: 4.3 | B103: GUAYA EMBRAGUE | D103: =C103*19% -> 0 | E103: =C103+D103 -> 0 | G103: =F103*19% -> 0 | H103: =F103+G103 -> 0 | J103: =I103*19% -> 0 | K103: =I103+J103 -> 0 | M103: =L103*19% -> 0 | N103: =L103+M103 -> 0 | P103: =O103*19% -> 0 | Q103: =O103+P103 -> 0 | S103: =R103*19% -> 0 | T103: =R103+S103 -> 0 | V103: =U103*19% -> 0 | W103: =U103+V103 -> 0 | Y103: =X103*19% -> 0 | Z103: =X103+Y103 -> 0 | AB103: =AA103*19% -> 0 | AC103: =AA103+AB103 -> 0 | AE103: =AD103*19% -> 0 | AF103: =AD103+AE103 -> 0 | AH103: =AG103*19% -> 0 | AI103: =AG103+AH103 -> 0 | AK103: =AJ103*19% -> 0 | AL103: =AJ103+AK103 -> 0 | AN103: =AM103*19% -> 0 | AO103: =AM103+AN103 -> 0 | AQ103: =AP103*19% -> 0 | AR103: =AP103+AQ103 -> 0 | AT103: =AS103*19% -> 0 | AU103: =AS103+AT103 -> 0 | AW103: =AV103*19% -> 0 | AX103: =AV103+AW103 -> 0 | AZ103: =AY103*19% -> 0 | BA103: =AY103+AZ103 -> 0 | BC103: =BB103*19% -> 0 | BD103: =BB103+BC103 -> 0 | BF103: =BE103*19% -> 0 | BG103: =BE103+BF103 -> 0 | BI103: =BH103*19% -> 0 | BJ103: =BH103+BI103 -> 0 | BL103: =BK103*19% -> 0 | BM103: =BK103+BL103 -> 0 | BO103: =BN103*19% -> 0 | BP103: =BN103+BO103 -> 0 | BR103: =BQ103*19% -> 0 | BS103: =BQ103+BR103 -> 0 | BU103: =BT103*19% -> 0 | BV103: =BT103+BU103 -> 0 | BX103: =BW103*19% -> 0 | BY103: =BW103+BX103 -> 0 | CA103: =BZ103*19% -> 0 | CB103: =BZ103+CA103 -> 0 | CD103: =CC103*19% -> 0 | CE103: =CC103+CD103 -> 0 | CG103: =CF103*19% -> 0 | CH103: =CF103+CG103 -> 0
A104: 4.4 | B104: HORQUILLA EMBRAGUE | D104: =C104*19% -> 0 | E104: =C104+D104 -> 0 | G104: =F104*19% -> 0 | H104: =F104+G104 -> 0 | J104: =I104*19% -> 0 | K104: =I104+J104 -> 0 | M104: =L104*19% -> 0 | N104: =L104+M104 -> 0 | P104: =O104*19% -> 0 | Q104: =O104+P104 -> 0 | S104: =R104*19% -> 0 | T104: =R104+S104 -> 0 | V104: =U104*19% -> 0 | W104: =U104+V104 -> 0 | Y104: =X104*19% -> 0 | Z104: =X104+Y104 -> 0 | AB104: =AA104*19% -> 0 | AC104: =AA104+AB104 -> 0 | AE104: =AD104*19% -> 0 | AF104: =AD104+AE104 -> 0 | AH104: =AG104*19% -> 0 | AI104: =AG104+AH104 -> 0 | AK104: =AJ104*19% -> 0 | AL104: =AJ104+AK104 -> 0 | AN104: =AM104*19% -> 0 | AO104: =AM104+AN104 -> 0 | AQ104: =AP104*19% -> 0 | AR104: =AP104+AQ104 -> 0 | AT104: =AS104*19% -> 0 | AU104: =AS104+AT104 -> 0 | AW104: =AV104*19% -> 0 | AX104: =AV104+AW104 -> 0 | AZ104: =AY104*19% -> 0 | BA104: =AY104+AZ104 -> 0 | BC104: =BB104*19% -> 0 | BD104: =BB104+BC104 -> 0 | BF104: =BE104*19% -> 0 | BG104: =BE104+BF104 -> 0 | BI104: =BH104*19% -> 0 | BJ104: =BH104+BI104 -> 0 | BL104: =BK104*19% -> 0 | BM104: =BK104+BL104 -> 0 | BO104: =BN104*19% -> 0 | BP104: =BN104+BO104 -> 0 | BR104: =BQ104*19% -> 0 | BS104: =BQ104+BR104 -> 0 | BU104: =BT104*19% -> 0 | BV104: =BT104+BU104 -> 0 | BX104: =BW104*19% -> 0 | BY104: =BW104+BX104 -> 0 | CA104: =BZ104*19% -> 0 | CB104: =BZ104+CA104 -> 0 | CD104: =CC104*19% -> 0 | CE104: =CC104+CD104 -> 0 | CG104: =CF104*19% -> 0 | CH104: =CF104+CG104 -> 0
A105: 4.5 | B105: KIT DE EMBRAGUE (DISCO-PREN Y BALI. BAL. VOLAN) | D105: =C105*19% -> 0 | E105: =C105+D105 -> 0 | G105: =F105*19% -> 0 | H105: =F105+G105 -> 0 | J105: =I105*19% -> 0 | K105: =I105+J105 -> 0 | M105: =L105*19% -> 0 | N105: =L105+M105 -> 0 | P105: =O105*19% -> 0 | Q105: =O105+P105 -> 0 | S105: =R105*19% -> 0 | T105: =R105+S105 -> 0 | V105: =U105*19% -> 0 | W105: =U105+V105 -> 0 | Y105: =X105*19% -> 0 | Z105: =X105+Y105 -> 0 | AB105: =AA105*19% -> 0 | AC105: =AA105+AB105 -> 0 | AE105: =AD105*19% -> 0 | AF105: =AD105+AE105 -> 0 | AH105: =AG105*19% -> 0 | AI105: =AG105+AH105 -> 0 | AK105: =AJ105*19% -> 0 | AL105: =AJ105+AK105 -> 0 | AN105: =AM105*19% -> 0 | AO105: =AM105+AN105 -> 0 | AQ105: =AP105*19% -> 0 | AR105: =AP105+AQ105 -> 0 | AT105: =AS105*19% -> 0 | AU105: =AS105+AT105 -> 0 | AW105: =AV105*19% -> 0 | AX105: =AV105+AW105 -> 0 | AZ105: =AY105*19% -> 0 | BA105: =AY105+AZ105 -> 0 | BC105: =BB105*19% -> 0 | BD105: =BB105+BC105 -> 0 | BF105: =BE105*19% -> 0 | BG105: =BE105+BF105 -> 0 | BI105: =BH105*19% -> 0 | BJ105: =BH105+BI105 -> 0 | BL105: =BK105*19% -> 0 | BM105: =BK105+BL105 -> 0 | BO105: =BN105*19% -> 0 | BP105: =BN105+BO105 -> 0 | BR105: =BQ105*19% -> 0 | BS105: =BQ105+BR105 -> 0 | BU105: =BT105*19% -> 0 | BV105: =BT105+BU105 -> 0 | BX105: =BW105*19% -> 0 | BY105: =BW105+BX105 -> 0 | CA105: =BZ105*19% -> 0 | CB105: =BZ105+CA105 -> 0 | CD105: =CC105*19% -> 0 | CE105: =CC105+CD105 -> 0 | CG105: =CF105*19% -> 0 | CH105: =CF105+CG105 -> 0
A106: 4.6 | B106: RETEN DELANTERO CAJA | D106: =C106*19% -> 0 | E106: =C106+D106 -> 0 | G106: =F106*19% -> 0 | H106: =F106+G106 -> 0 | J106: =I106*19% -> 0 | K106: =I106+J106 -> 0 | M106: =L106*19% -> 0 | N106: =L106+M106 -> 0 | P106: =O106*19% -> 0 | Q106: =O106+P106 -> 0 | S106: =R106*19% -> 0 | T106: =R106+S106 -> 0 | V106: =U106*19% -> 0 | W106: =U106+V106 -> 0 | Y106: =X106*19% -> 0 | Z106: =X106+Y106 -> 0 | AB106: =AA106*19% -> 0 | AC106: =AA106+AB106 -> 0 | AE106: =AD106*19% -> 0 | AF106: =AD106+AE106 -> 0 | AH106: =AG106*19% -> 0 | AI106: =AG106+AH106 -> 0 | AK106: =AJ106*19% -> 0 | AL106: =AJ106+AK106 -> 0 | AN106: =AM106*19% -> 0 | AO106: =AM106+AN106 -> 0 | AQ106: =AP106*19% -> 0 | AR106: =AP106+AQ106 -> 0 | AT106: =AS106*19% -> 0 | AU106: =AS106+AT106 -> 0 | AW106: =AV106*19% -> 0 | AX106: =AV106+AW106 -> 0 | AZ106: =AY106*19% -> 0 | BA106: =AY106+AZ106 -> 0 | BC106: =BB106*19% -> 0 | BD106: =BB106+BC106 -> 0 | BF106: =BE106*19% -> 0 | BG106: =BE106+BF106 -> 0 | BI106: =BH106*19% -> 0 | BJ106: =BH106+BI106 -> 0 | BL106: =BK106*19% -> 0 | BM106: =BK106+BL106 -> 0 | BO106: =BN106*19% -> 0 | BP106: =BN106+BO106 -> 0 | BR106: =BQ106*19% -> 0 | BS106: =BQ106+BR106 -> 0 | BU106: =BT106*19% -> 0 | BV106: =BT106+BU106 -> 0 | BX106: =BW106*19% -> 0 | BY106: =BW106+BX106 -> 0 | CA106: =BZ106*19% -> 0 | CB106: =BZ106+CA106 -> 0 | CD106: =CC106*19% -> 0 | CE106: =CC106+CD106 -> 0 | CG106: =CF106*19% -> 0 | CH106: =CF106+CG106 -> 0
A107: 4.7 | B107: VOLANTE BIMASA | D107: =C107*19% -> 0 | E107: =C107+D107 -> 0 | G107: =F107*19% -> 0 | H107: =F107+G107 -> 0 | J107: =I107*19% -> 0 | K107: =I107+J107 -> 0 | M107: =L107*19% -> 0 | N107: =L107+M107 -> 0 | P107: =O107*19% -> 0 | Q107: =O107+P107 -> 0 | S107: =R107*19% -> 0 | T107: =R107+S107 -> 0 | V107: =U107*19% -> 0 | W107: =U107+V107 -> 0 | Y107: =X107*19% -> 0 | Z107: =X107+Y107 -> 0 | AB107: =AA107*19% -> 0 | AC107: =AA107+AB107 -> 0 | AE107: =AD107*19% -> 0 | AF107: =AD107+AE107 -> 0 | AH107: =AG107*19% -> 0 | AI107: =AG107+AH107 -> 0 | AK107: =AJ107*19% -> 0 | AL107: =AJ107+AK107 -> 0 | AN107: =AM107*19% -> 0 | AO107: =AM107+AN107 -> 0 | AQ107: =AP107*19% -> 0 | AR107: =AP107+AQ107 -> 0 | AT107: =AS107*19% -> 0 | AU107: =AS107+AT107 -> 0 | AW107: =AV107*19% -> 0 | AX107: =AV107+AW107 -> 0 | AZ107: =AY107*19% -> 0 | BA107: =AY107+AZ107 -> 0 | BC107: =BB107*19% -> 0 | BD107: =BB107+BC107 -> 0 | BF107: =BE107*19% -> 0 | BG107: =BE107+BF107 -> 0 | BI107: =BH107*19% -> 0 | BJ107: =BH107+BI107 -> 0 | BL107: =BK107*19% -> 0 | BM107: =BK107+BL107 -> 0 | BO107: =BN107*19% -> 0 | BP107: =BN107+BO107 -> 0 | BR107: =BQ107*19% -> 0 | BS107: =BQ107+BR107 -> 0 | BU107: =BT107*19% -> 0 | BV107: =BT107+BU107 -> 0 | BX107: =BW107*19% -> 0 | BY107: =BW107+BX107 -> 0 | CA107: =BZ107*19% -> 0 | CB107: =BZ107+CA107 -> 0 | CD107: =CC107*19% -> 0 | CE107: =CC107+CD107 -> 0 | CG107: =CF107*19% -> 0 | CH107: =CF107+CG107 -> 0
A108: 5 | B108: TRASMISION | C108: 0 | D108: 0 | E108: 0 | F108: 0 | G108: 0 | H108: 0 | I108: 0 | J108: 0 | K108: 0 | L108: 0 | M108: 0 | N108: 0 | O108: 0 | P108: 0 | Q108: 0 | R108: 0 | S108: 0 | T108: 0 | U108: 0 | V108: 0 | W108: 0 | X108: 0 | Y108: 0 | Z108: 0 | AA108: 0 | AB108: 0 | AC108: 0 | AD108: 0 | AE108: 0 | AF108: 0 | AG108: 0 | AH108: 0 | AI108: 0 | AJ108: 0 | AK108: 0 | AL108: 0 | AM108: 0 | AN108: 0 | AO108: 0 | AP108: 0 | AQ108: 0 | AR108: 0 | AS108: 0 | AT108: 0 | AU108: 0 | AV108: 0 | AW108: 0 | AX108: 0 | AY108: 0 | AZ108: 0 | BA108: 0 | BB108: 0 | BC108: 0 | BD108: 0 | BE108: 0 | BF108: 0 | BG108: 0 | BH108: 0 | BI108: 0 | BJ108: 0 | BK108: 0 | BL108: 0 | BM108: 0 | BN108: 0 | BO108: 0 | BP108: 0 | BQ108: 0 | BR108: 0 | BS108: 0 | BT108: 0 | BU108: 0 | BV108: 0 | BW108: 0 | BX108: 0 | BY108: 0 | BZ108: 0 | CA108: 0 | CB108: 0 | CC108: 0 | CD108: 0 | CE108: 0 | CF108: 0 | CG108: 0 | CH108: 0
A109: 5.1 | B109: CRUCETA CARDAN | D109: =C109*19% -> 0 | E109: =C109+D109 -> 0 | G109: =F109*19% -> 0 | H109: =F109+G109 -> 0 | J109: =I109*19% -> 0 | K109: =I109+J109 -> 0 | M109: =L109*19% -> 0 | N109: =L109+M109 -> 0 | P109: =O109*19% -> 0 | Q109: =O109+P109 -> 0 | S109: =R109*19% -> 0 | T109: =R109+S109 -> 0 | V109: =U109*19% -> 0 | W109: =U109+V109 -> 0 | Y109: =X109*19% -> 0 | Z109: =X109+Y109 -> 0 | AB109: =AA109*19% -> 0 | AC109: =AA109+AB109 -> 0 | AE109: =AD109*19% -> 0 | AF109: =AD109+AE109 -> 0 | AH109: =AG109*19% -> 0 | AI109: =AG109+AH109 -> 0 | AK109: =AJ109*19% -> 0 | AL109: =AJ109+AK109 -> 0 | AN109: =AM109*19% -> 0 | AO109: =AM109+AN109 -> 0 | AQ109: =AP109*19% -> 0 | AR109: =AP109+AQ109 -> 0 | AT109: =AS109*19% -> 0 | AU109: =AS109+AT109 -> 0 | AW109: =AV109*19% -> 0 | AX109: =AV109+AW109 -> 0 | AZ109: =AY109*19% -> 0 | BA109: =AY109+AZ109 -> 0 | BC109: =BB109*19% -> 0 | BD109: =BB109+BC109 -> 0 | BF109: =BE109*19% -> 0 | BG109: =BE109+BF109 -> 0 | BI109: =BH109*19% -> 0 | BJ109: =BH109+BI109 -> 0 | BL109: =BK109*19% -> 0 | BM109: =BK109+BL109 -> 0 | BO109: =BN109*19% -> 0 | BP109: =BN109+BO109 -> 0 | BR109: =BQ109*19% -> 0 | BS109: =BQ109+BR109 -> 0 | BU109: =BT109*19% -> 0 | BV109: =BT109+BU109 -> 0 | BX109: =BW109*19% -> 0 | BY109: =BW109+BX109 -> 0 | CA109: =BZ109*19% -> 0 | CB109: =BZ109+CA109 -> 0 | CD109: =CC109*19% -> 0 | CE109: =CC109+CD109 -> 0 | CG109: =CF109*19% -> 0 | CH109: =CF109+CG109 -> 0
A110: 5.2 | B110: EJE TRASERO | D110: =C110*19% -> 0 | E110: =C110+D110 -> 0 | G110: =F110*19% -> 0 | H110: =F110+G110 -> 0 | J110: =I110*19% -> 0 | K110: =I110+J110 -> 0 | M110: =L110*19% -> 0 | N110: =L110+M110 -> 0 | P110: =O110*19% -> 0 | Q110: =O110+P110 -> 0 | S110: =R110*19% -> 0 | T110: =R110+S110 -> 0 | V110: =U110*19% -> 0 | W110: =U110+V110 -> 0 | Y110: =X110*19% -> 0 | Z110: =X110+Y110 -> 0 | AB110: =AA110*19% -> 0 | AC110: =AA110+AB110 -> 0 | AE110: =AD110*19% -> 0 | AF110: =AD110+AE110 -> 0 | AH110: =AG110*19% -> 0 | AI110: =AG110+AH110 -> 0 | AK110: =AJ110*19% -> 0 | AL110: =AJ110+AK110 -> 0 | AN110: =AM110*19% -> 0 | AO110: =AM110+AN110 -> 0 | AQ110: =AP110*19% -> 0 | AR110: =AP110+AQ110 -> 0 | AT110: =AS110*19% -> 0 | AU110: =AS110+AT110 -> 0 | AW110: =AV110*19% -> 0 | AX110: =AV110+AW110 -> 0 | AZ110: =AY110*19% -> 0 | BA110: =AY110+AZ110 -> 0 | BC110: =BB110*19% -> 0 | BD110: =BB110+BC110 -> 0 | BF110: =BE110*19% -> 0 | BG110: =BE110+BF110 -> 0 | BI110: =BH110*19% -> 0 | BJ110: =BH110+BI110 -> 0 | BL110: =BK110*19% -> 0 | BM110: =BK110+BL110 -> 0 | BO110: =BN110*19% -> 0 | BP110: =BN110+BO110 -> 0 | BR110: =BQ110*19% -> 0 | BS110: =BQ110+BR110 -> 0 | BU110: =BT110*19% -> 0 | BV110: =BT110+BU110 -> 0 | BX110: =BW110*19% -> 0 | BY110: =BW110+BX110 -> 0 | CA110: =BZ110*19% -> 0 | CB110: =BZ110+CA110 -> 0 | CD110: =CC110*19% -> 0 | CE110: =CC110+CD110 -> 0 | CG110: =CF110*19% -> 0 | CH110: =CF110+CG110 -> 0
A111: 5.3 | B111: GUARDAPOLVO EJE | D111: =C111*19% -> 0 | E111: =C111+D111 -> 0 | G111: =F111*19% -> 0 | H111: =F111+G111 -> 0 | J111: =I111*19% -> 0 | K111: =I111+J111 -> 0 | M111: =L111*19% -> 0 | N111: =L111+M111 -> 0 | P111: =O111*19% -> 0 | Q111: =O111+P111 -> 0 | S111: =R111*19% -> 0 | T111: =R111+S111 -> 0 | V111: =U111*19% -> 0 | W111: =U111+V111 -> 0 | Y111: =X111*19% -> 0 | Z111: =X111+Y111 -> 0 | AB111: =AA111*19% -> 0 | AC111: =AA111+AB111 -> 0 | AE111: =AD111*19% -> 0 | AF111: =AD111+AE111 -> 0 | AH111: =AG111*19% -> 0 | AI111: =AG111+AH111 -> 0 | AK111: =AJ111*19% -> 0 | AL111: =AJ111+AK111 -> 0 | AN111: =AM111*19% -> 0 | AO111: =AM111+AN111 -> 0 | AQ111: =AP111*19% -> 0 | AR111: =AP111+AQ111 -> 0 | AT111: =AS111*19% -> 0 | AU111: =AS111+AT111 -> 0 | AW111: =AV111*19% -> 0 | AX111: =AV111+AW111 -> 0 | AZ111: =AY111*19% -> 0 | BA111: =AY111+AZ111 -> 0 | BC111: =BB111*19% -> 0 | BD111: =BB111+BC111 -> 0 | BF111: =BE111*19% -> 0 | BG111: =BE111+BF111 -> 0 | BI111: =BH111*19% -> 0 | BJ111: =BH111+BI111 -> 0 | BL111: =BK111*19% -> 0 | BM111: =BK111+BL111 -> 0 | BO111: =BN111*19% -> 0 | BP111: =BN111+BO111 -> 0 | BR111: =BQ111*19% -> 0 | BS111: =BQ111+BR111 -> 0 | BU111: =BT111*19% -> 0 | BV111: =BT111+BU111 -> 0 | BX111: =BW111*19% -> 0 | BY111: =BW111+BX111 -> 0 | CA111: =BZ111*19% -> 0 | CB111: =BZ111+CA111 -> 0 | CD111: =CC111*19% -> 0 | CE111: =CC111+CD111 -> 0 | CG111: =CF111*19% -> 0 | CH111: =CF111+CG111 -> 0
A112: 5.4 | B112: PUNTA DE EJE LADO RUEDA | D112: =C112*19% -> 0 | E112: =C112+D112 -> 0 | G112: =F112*19% -> 0 | H112: =F112+G112 -> 0 | J112: =I112*19% -> 0 | K112: =I112+J112 -> 0 | M112: =L112*19% -> 0 | N112: =L112+M112 -> 0 | P112: =O112*19% -> 0 | Q112: =O112+P112 -> 0 | S112: =R112*19% -> 0 | T112: =R112+S112 -> 0 | V112: =U112*19% -> 0 | W112: =U112+V112 -> 0 | Y112: =X112*19% -> 0 | Z112: =X112+Y112 -> 0 | AB112: =AA112*19% -> 0 | AC112: =AA112+AB112 -> 0 | AE112: =AD112*19% -> 0 | AF112: =AD112+AE112 -> 0 | AH112: =AG112*19% -> 0 | AI112: =AG112+AH112 -> 0 | AK112: =AJ112*19% -> 0 | AL112: =AJ112+AK112 -> 0 | AN112: =AM112*19% -> 0 | AO112: =AM112+AN112 -> 0 | AQ112: =AP112*19% -> 0 | AR112: =AP112+AQ112 -> 0 | AT112: =AS112*19% -> 0 | AU112: =AS112+AT112 -> 0 | AW112: =AV112*19% -> 0 | AX112: =AV112+AW112 -> 0 | AZ112: =AY112*19% -> 0 | BA112: =AY112+AZ112 -> 0 | BC112: =BB112*19% -> 0 | BD112: =BB112+BC112 -> 0 | BF112: =BE112*19% -> 0 | BG112: =BE112+BF112 -> 0 | BI112: =BH112*19% -> 0 | BJ112: =BH112+BI112 -> 0 | BL112: =BK112*19% -> 0 | BM112: =BK112+BL112 -> 0 | BO112: =BN112*19% -> 0 | BP112: =BN112+BO112 -> 0 | BR112: =BQ112*19% -> 0 | BS112: =BQ112+BR112 -> 0 | BU112: =BT112*19% -> 0 | BV112: =BT112+BU112 -> 0 | BX112: =BW112*19% -> 0 | BY112: =BW112+BX112 -> 0 | CA112: =BZ112*19% -> 0 | CB112: =BZ112+CA112 -> 0 | CD112: =CC112*19% -> 0 | CE112: =CC112+CD112 -> 0 | CG112: =CF112*19% -> 0 | CH112: =CF112+CG112 -> 0
A113: 5.5 | B113: PUNTA EJE LADO CAJA | D113: =C113*19% -> 0 | E113: =C113+D113 -> 0 | G113: =F113*19% -> 0 | H113: =F113+G113 -> 0 | J113: =I113*19% -> 0 | K113: =I113+J113 -> 0 | M113: =L113*19% -> 0 | N113: =L113+M113 -> 0 | P113: =O113*19% -> 0 | Q113: =O113+P113 -> 0 | S113: =R113*19% -> 0 | T113: =R113+S113 -> 0 | V113: =U113*19% -> 0 | W113: =U113+V113 -> 0 | Y113: =X113*19% -> 0 | Z113: =X113+Y113 -> 0 | AB113: =AA113*19% -> 0 | AC113: =AA113+AB113 -> 0 | AE113: =AD113*19% -> 0 | AF113: =AD113+AE113 -> 0 | AH113: =AG113*19% -> 0 | AI113: =AG113+AH113 -> 0 | AK113: =AJ113*19% -> 0 | AL113: =AJ113+AK113 -> 0 | AN113: =AM113*19% -> 0 | AO113: =AM113+AN113 -> 0 | AQ113: =AP113*19% -> 0 | AR113: =AP113+AQ113 -> 0 | AT113: =AS113*19% -> 0 | AU113: =AS113+AT113 -> 0 | AW113: =AV113*19% -> 0 | AX113: =AV113+AW113 -> 0 | AZ113: =AY113*19% -> 0 | BA113: =AY113+AZ113 -> 0 | BC113: =BB113*19% -> 0 | BD113: =BB113+BC113 -> 0 | BF113: =BE113*19% -> 0 | BG113: =BE113+BF113 -> 0 | BI113: =BH113*19% -> 0 | BJ113: =BH113+BI113 -> 0 | BL113: =BK113*19% -> 0 | BM113: =BK113+BL113 -> 0 | BO113: =BN113*19% -> 0 | BP113: =BN113+BO113 -> 0 | BR113: =BQ113*19% -> 0 | BS113: =BQ113+BR113 -> 0 | BU113: =BT113*19% -> 0 | BV113: =BT113+BU113 -> 0 | BX113: =BW113*19% -> 0 | BY113: =BW113+BX113 -> 0 | CA113: =BZ113*19% -> 0 | CB113: =BZ113+CA113 -> 0 | CD113: =CC113*19% -> 0 | CE113: =CC113+CD113 -> 0 | CG113: =CF113*19% -> 0 | CH113: =CF113+CG113 -> 0
A114: 5.6 | B114: RETEN EJE HAUSSIN | D114: =C114*19% -> 0 | E114: =C114+D114 -> 0 | G114: =F114*19% -> 0 | H114: =F114+G114 -> 0 | J114: =I114*19% -> 0 | K114: =I114+J114 -> 0 | M114: =L114*19% -> 0 | N114: =L114+M114 -> 0 | P114: =O114*19% -> 0 | Q114: =O114+P114 -> 0 | S114: =R114*19% -> 0 | T114: =R114+S114 -> 0 | V114: =U114*19% -> 0 | W114: =U114+V114 -> 0 | Y114: =X114*19% -> 0 | Z114: =X114+Y114 -> 0 | AB114: =AA114*19% -> 0 | AC114: =AA114+AB114 -> 0 | AE114: =AD114*19% -> 0 | AF114: =AD114+AE114 -> 0 | AH114: =AG114*19% -> 0 | AI114: =AG114+AH114 -> 0 | AK114: =AJ114*19% -> 0 | AL114: =AJ114+AK114 -> 0 | AN114: =AM114*19% -> 0 | AO114: =AM114+AN114 -> 0 | AQ114: =AP114*19% -> 0 | AR114: =AP114+AQ114 -> 0 | AT114: =AS114*19% -> 0 | AU114: =AS114+AT114 -> 0 | AW114: =AV114*19% -> 0 | AX114: =AV114+AW114 -> 0 | AZ114: =AY114*19% -> 0 | BA114: =AY114+AZ114 -> 0 | BC114: =BB114*19% -> 0 | BD114: =BB114+BC114 -> 0 | BF114: =BE114*19% -> 0 | BG114: =BE114+BF114 -> 0 | BI114: =BH114*19% -> 0 | BJ114: =BH114+BI114 -> 0 | BL114: =BK114*19% -> 0 | BM114: =BK114+BL114 -> 0 | BO114: =BN114*19% -> 0 | BP114: =BN114+BO114 -> 0 | BR114: =BQ114*19% -> 0 | BS114: =BQ114+BR114 -> 0 | BU114: =BT114*19% -> 0 | BV114: =BT114+BU114 -> 0 | BX114: =BW114*19% -> 0 | BY114: =BW114+BX114 -> 0 | CA114: =BZ114*19% -> 0 | CB114: =BZ114+CA114 -> 0 | CD114: =CC114*19% -> 0 | CE114: =CC114+CD114 -> 0 | CG114: =CF114*19% -> 0 | CH114: =CF114+CG114 -> 0
A115: 5.7 | B115: SOPORTE BALINERA CARDAN | D115: =C115*19% -> 0 | E115: =C115+D115 -> 0 | G115: =F115*19% -> 0 | H115: =F115+G115 -> 0 | J115: =I115*19% -> 0 | K115: =I115+J115 -> 0 | M115: =L115*19% -> 0 | N115: =L115+M115 -> 0 | P115: =O115*19% -> 0 | Q115: =O115+P115 -> 0 | S115: =R115*19% -> 0 | T115: =R115+S115 -> 0 | V115: =U115*19% -> 0 | W115: =U115+V115 -> 0 | Y115: =X115*19% -> 0 | Z115: =X115+Y115 -> 0 | AB115: =AA115*19% -> 0 | AC115: =AA115+AB115 -> 0 | AE115: =AD115*19% -> 0 | AF115: =AD115+AE115 -> 0 | AH115: =AG115*19% -> 0 | AI115: =AG115+AH115 -> 0 | AK115: =AJ115*19% -> 0 | AL115: =AJ115+AK115 -> 0 | AN115: =AM115*19% -> 0 | AO115: =AM115+AN115 -> 0 | AQ115: =AP115*19% -> 0 | AR115: =AP115+AQ115 -> 0 | AT115: =AS115*19% -> 0 | AU115: =AS115+AT115 -> 0 | AW115: =AV115*19% -> 0 | AX115: =AV115+AW115 -> 0 | AZ115: =AY115*19% -> 0 | BA115: =AY115+AZ115 -> 0 | BC115: =BB115*19% -> 0 | BD115: =BB115+BC115 -> 0 | BF115: =BE115*19% -> 0 | BG115: =BE115+BF115 -> 0 | BI115: =BH115*19% -> 0 | BJ115: =BH115+BI115 -> 0 | BL115: =BK115*19% -> 0 | BM115: =BK115+BL115 -> 0 | BO115: =BN115*19% -> 0 | BP115: =BN115+BO115 -> 0 | BR115: =BQ115*19% -> 0 | BS115: =BQ115+BR115 -> 0 | BU115: =BT115*19% -> 0 | BV115: =BT115+BU115 -> 0 | BX115: =BW115*19% -> 0 | BY115: =BW115+BX115 -> 0 | CA115: =BZ115*19% -> 0 | CB115: =BZ115+CA115 -> 0 | CD115: =CC115*19% -> 0 | CE115: =CC115+CD115 -> 0 | CG115: =CF115*19% -> 0 | CH115: =CF115+CG115 -> 0
A116: 5.8 | B116: SOPORTE CAJA | D116: =C116*19% -> 0 | E116: =C116+D116 -> 0 | G116: =F116*19% -> 0 | H116: =F116+G116 -> 0 | J116: =I116*19% -> 0 | K116: =I116+J116 -> 0 | M116: =L116*19% -> 0 | N116: =L116+M116 -> 0 | P116: =O116*19% -> 0 | Q116: =O116+P116 -> 0 | S116: =R116*19% -> 0 | T116: =R116+S116 -> 0 | V116: =U116*19% -> 0 | W116: =U116+V116 -> 0 | Y116: =X116*19% -> 0 | Z116: =X116+Y116 -> 0 | AB116: =AA116*19% -> 0 | AC116: =AA116+AB116 -> 0 | AE116: =AD116*19% -> 0 | AF116: =AD116+AE116 -> 0 | AH116: =AG116*19% -> 0 | AI116: =AG116+AH116 -> 0 | AK116: =AJ116*19% -> 0 | AL116: =AJ116+AK116 -> 0 | AN116: =AM116*19% -> 0 | AO116: =AM116+AN116 -> 0 | AQ116: =AP116*19% -> 0 | AR116: =AP116+AQ116 -> 0 | AT116: =AS116*19% -> 0 | AU116: =AS116+AT116 -> 0 | AW116: =AV116*19% -> 0 | AX116: =AV116+AW116 -> 0 | AZ116: =AY116*19% -> 0 | BA116: =AY116+AZ116 -> 0 | BC116: =BB116*19% -> 0 | BD116: =BB116+BC116 -> 0 | BF116: =BE116*19% -> 0 | BG116: =BE116+BF116 -> 0 | BI116: =BH116*19% -> 0 | BJ116: =BH116+BI116 -> 0 | BL116: =BK116*19% -> 0 | BM116: =BK116+BL116 -> 0 | BO116: =BN116*19% -> 0 | BP116: =BN116+BO116 -> 0 | BR116: =BQ116*19% -> 0 | BS116: =BQ116+BR116 -> 0 | BU116: =BT116*19% -> 0 | BV116: =BT116+BU116 -> 0 | BX116: =BW116*19% -> 0 | BY116: =BW116+BX116 -> 0 | CA116: =BZ116*19% -> 0 | CB116: =BZ116+CA116 -> 0 | CD116: =CC116*19% -> 0 | CE116: =CC116+CD116 -> 0 | CG116: =CF116*19% -> 0 | CH116: =CF116+CG116 -> 0
A117: 6 | B117: SINCRONIZACION | C117: 0 | D117: 0 | E117: 0 | F117: 0 | G117: 0 | H117: 0 | I117: 0 | J117: 0 | K117: 0 | L117: 0 | M117: 0 | N117: 0 | O117: 0 | P117: 0 | Q117: 0 | R117: 0 | S117: 0 | T117: 0 | U117: 0 | V117: 0 | W117: 0 | X117: 0 | Y117: 0 | Z117: 0 | AA117: 0 | AB117: 0 | AC117: 0 | AD117: 0 | AE117: 0 | AF117: 0 | AG117: 0 | AH117: 0 | AI117: 0 | AJ117: 0 | AK117: 0 | AL117: 0 | AM117: 0 | AN117: 0 | AO117: 0 | AP117: 0 | AQ117: 0 | AR117: 0 | AS117: 0 | AT117: 0 | AU117: 0 | AV117: 0 | AW117: 0 | AX117: 0 | AY117: 0 | AZ117: 0 | BA117: 0 | BB117: 0 | BC117: 0 | BD117: 0 | BE117: 0 | BF117: 0 | BG117: 0 | BH117: 0 | BI117: 0 | BJ117: 0 | BK117: 0 | BL117: 0 | BM117: 0 | BN117: 0 | BO117: 0 | BP117: 0 | BQ117: 0 | BR117: 0 | BS117: 0 | BT117: 0 | BU117: 0 | BV117: 0 | BW117: 0 | BX117: 0 | BY117: 0 | BZ117: 0 | CA117: 0 | CB117: 0 | CC117: 0 | CD117: 0 | CE117: 0 | CF117: 0 | CG117: 0 | CH117: 0
A118: 6.1 | B118: BOMBA COMBUSTIBLE (PILA) | D118: =C118*19% -> 0 | E118: =C118+D118 -> 0 | G118: =F118*19% -> 0 | H118: =F118+G118 -> 0 | J118: =I118*19% -> 0 | K118: =I118+J118 -> 0 | M118: =L118*19% -> 0 | N118: =L118+M118 -> 0 | P118: =O118*19% -> 0 | Q118: =O118+P118 -> 0 | S118: =R118*19% -> 0 | T118: =R118+S118 -> 0 | V118: =U118*19% -> 0 | W118: =U118+V118 -> 0 | Y118: =X118*19% -> 0 | Z118: =X118+Y118 -> 0 | AB118: =AA118*19% -> 0 | AC118: =AA118+AB118 -> 0 | AE118: =AD118*19% -> 0 | AF118: =AD118+AE118 -> 0 | AH118: =AG118*19% -> 0 | AI118: =AG118+AH118 -> 0 | AK118: =AJ118*19% -> 0 | AL118: =AJ118+AK118 -> 0 | AN118: =AM118*19% -> 0 | AO118: =AM118+AN118 -> 0 | AQ118: =AP118*19% -> 0 | AR118: =AP118+AQ118 -> 0 | AT118: =AS118*19% -> 0 | AU118: =AS118+AT118 -> 0 | AW118: =AV118*19% -> 0 | AX118: =AV118+AW118 -> 0 | AZ118: =AY118*19% -> 0 | BA118: =AY118+AZ118 -> 0 | BC118: =BB118*19% -> 0 | BD118: =BB118+BC118 -> 0 | BF118: =BE118*19% -> 0 | BG118: =BE118+BF118 -> 0 | BI118: =BH118*19% -> 0 | BJ118: =BH118+BI118 -> 0 | BL118: =BK118*19% -> 0 | BM118: =BK118+BL118 -> 0 | BO118: =BN118*19% -> 0 | BP118: =BN118+BO118 -> 0 | BR118: =BQ118*19% -> 0 | BS118: =BQ118+BR118 -> 0 | BU118: =BT118*19% -> 0 | BV118: =BT118+BU118 -> 0 | BX118: =BW118*19% -> 0 | BY118: =BW118+BX118 -> 0 | CA118: =BZ118*19% -> 0 | CB118: =BZ118+CA118 -> 0 | CD118: =CC118*19% -> 0 | CE118: =CC118+CD118 -> 0 | CG118: =CF118*19% -> 0 | CH118: =CF118+CG118 -> 0
A119: 6.2 | B119: BUJIAS UNIDAD | D119: =C119*19% -> 0 | E119: =C119+D119 -> 0 | G119: =F119*19% -> 0 | H119: =F119+G119 -> 0 | J119: =I119*19% -> 0 | K119: =I119+J119 -> 0 | M119: =L119*19% -> 0 | N119: =L119+M119 -> 0 | P119: =O119*19% -> 0 | Q119: =O119+P119 -> 0 | S119: =R119*19% -> 0 | T119: =R119+S119 -> 0 | V119: =U119*19% -> 0 | W119: =U119+V119 -> 0 | Y119: =X119*19% -> 0 | Z119: =X119+Y119 -> 0 | AB119: =AA119*19% -> 0 | AC119: =AA119+AB119 -> 0 | AE119: =AD119*19% -> 0 | AF119: =AD119+AE119 -> 0 | AH119: =AG119*19% -> 0 | AI119: =AG119+AH119 -> 0 | AK119: =AJ119*19% -> 0 | AL119: =AJ119+AK119 -> 0 | AN119: =AM119*19% -> 0 | AO119: =AM119+AN119 -> 0 | AQ119: =AP119*19% -> 0 | AR119: =AP119+AQ119 -> 0 | AT119: =AS119*19% -> 0 | AU119: =AS119+AT119 -> 0 | AW119: =AV119*19% -> 0 | AX119: =AV119+AW119 -> 0 | AZ119: =AY119*19% -> 0 | BA119: =AY119+AZ119 -> 0 | BC119: =BB119*19% -> 0 | BD119: =BB119+BC119 -> 0 | BF119: =BE119*19% -> 0 | BG119: =BE119+BF119 -> 0 | BI119: =BH119*19% -> 0 | BJ119: =BH119+BI119 -> 0 | BL119: =BK119*19% -> 0 | BM119: =BK119+BL119 -> 0 | BO119: =BN119*19% -> 0 | BP119: =BN119+BO119 -> 0 | BR119: =BQ119*19% -> 0 | BS119: =BQ119+BR119 -> 0 | BU119: =BT119*19% -> 0 | BV119: =BT119+BU119 -> 0 | BX119: =BW119*19% -> 0 | BY119: =BW119+BX119 -> 0 | CA119: =BZ119*19% -> 0 | CB119: =BZ119+CA119 -> 0 | CD119: =CC119*19% -> 0 | CE119: =CC119+CD119 -> 0 | CG119: =CF119*19% -> 0 | CH119: =CF119+CG119 -> 0
A120: 6.3 | B120: CABLES DE ALTA ( JUEGO) | D120: =C120*19% -> 0 | E120: =C120+D120 -> 0 | G120: =F120*19% -> 0 | H120: =F120+G120 -> 0 | J120: =I120*19% -> 0 | K120: =I120+J120 -> 0 | M120: =L120*19% -> 0 | N120: =L120+M120 -> 0 | P120: =O120*19% -> 0 | Q120: =O120+P120 -> 0 | R120: NO APLICA | S120: N/A | T120: NO APLICA | V120: =U120*19% -> 0 | W120: =U120+V120 -> 0 | Y120: =X120*19% -> 0 | Z120: =X120+Y120 -> 0 | AB120: =AA120*19% -> 0 | AC120: =AA120+AB120 -> 0 | AE120: =AD120*19% -> 0 | AF120: =AD120+AE120 -> 0 | AH120: =AG120*19% -> 0 | AI120: =AG120+AH120 -> 0 | AK120: =AJ120*19% -> 0 | AL120: =AJ120+AK120 -> 0 | AN120: =AM120*19% -> 0 | AO120: =AM120+AN120 -> 0 | AQ120: =AP120*19% -> 0 | AR120: =AP120+AQ120 -> 0 | AT120: =AS120*19% -> 0 | AU120: =AS120+AT120 -> 0 | AW120: =AV120*19% -> 0 | AX120: =AV120+AW120 -> 0 | AZ120: =AY120*19% -> 0 | BA120: =AY120+AZ120 -> 0 | BC120: =BB120*19% -> 0 | BD120: =BB120+BC120 -> 0 | BF120: =BE120*19% -> 0 | BG120: =BE120+BF120 -> 0 | BI120: =BH120*19% -> 0 | BJ120: =BH120+BI120 -> 0 | BL120: =BK120*19% -> 0 | BM120: =BK120+BL120 -> 0 | BO120: =BN120*19% -> 0 | BP120: =BN120+BO120 -> 0 | BR120: =BQ120*19% -> 0 | BS120: =BQ120+BR120 -> 0 | BU120: =BT120*19% -> 0 | BV120: =BT120+BU120 -> 0 | BX120: =BW120*19% -> 0 | BY120: =BW120+BX120 -> 0 | CA120: =BZ120*19% -> 0 | CB120: =BZ120+CA120 -> 0 | CD120: =CC120*19% -> 0 | CE120: =CC120+CD120 -> 0 | CG120: =CF120*19% -> 0 | CH120: =CF120+CG120 -> 0
...

Sheet REPUESTOS COMUNES
B2: OFERTA ECONÓMICA LOTE No. 2 - CAUCA | D2: REPUESTOS COMUNES
D3: MANTENIMIENTO VEHICULOS
D4: *** Incluye Costos Directos e Indirectos
B7: ITEM | C7: DESCRIPCION | D7: PRESENTACION | E7: SUBTOTAL | F7: IVA | G7: TOTAL
B8: 1 | C8: ACEITE 10W30 SINTETICO | D8: CUARTO | F8: =E8*19% -> 0 | G8: =E8+F8 -> 0
B9: 2 | C9: ACEITE 15W40 SINTETICO | D9: CUARTO | F9: =E9*19% -> 0 | G9: =E9+F9 -> 0
B10: 3 | C10: ACEITE CAJA 80W90 | D10: CUARTO | F10: =E10*19% -> 0 | G10: =E10+F10 -> 0
B11: 4 | C11: ACEITE 20W50 | D11: CUARTO | F11: =E11*19% -> 0 | G11: =E11+F11 -> 0
B12: 5 | C12: ACEITE HIDRAULICO SINTETICO | D12: CUARTO | F12: =E12*19% -> 0 | G12: =E12+F12 -> 0
B13: 6 | C13: ACEITE MOTOR 15W40 MINERAL | D13: CUARTO | F13: =E13*19% -> 0 | G13: =E13+F13 -> 0
B14: 7 | C14: ACEITE MOTOR 15W40 SINTETICO | D14: CUARTO | F14: =E14*19% -> 0 | G14: =E14+F14 -> 0
B15: 8 | C15: ACEITE MOTOR 5W30 SINTETICO | D15: CUARTO | F15: =E15*19% -> 0 | G15: =E15+F15 -> 0
B16: 9 | C16: ACEITE MOTOR 5W30 DIESEL | D16: CUARTO | F16: =E16*19% -> 0 | G16: =E16+F16 -> 0
B17: 10 | C17: ACEITE MOTOR 0W20 | D17: CUARTO | F17: =E17*19% -> 0 | G17: =E17+F17 -> 0
B18: 11 | C18: ACEITE MOTOR 10W40 | D18: CUARTO | F18: =E18*19% -> 0 | G18: =E18+F18 -> 0
B19: 12 | C19: ACEITE MOTOR 10W40 DIESEL | D19: CUARTO | F19: =E19*19% -> 0 | G19: =E19+F19 -> 0
... B69: 62 | C69: PERNOS DE SEGURIDAD | D69: UNIDAD | F69: =E69*19% -> 0 | G69: =E69+F69 -> 0
D70: TOTAL | E70: =SUBTOTAL(9,E8:E69) -> 0 | F70: =SUBTOTAL(9,F8:F69) -> 0 | G70: =SUBTOTAL(9,G8:G69) -> 0
B73: NOTA 1: La Oferta Económica deberá ser diligenciada de acuerdo a la actividad económica del proponente y cada ítem por valor unitario. NOTA 2: Para el diligenciamiento de la Oferta Económica deberán tenerse en cuentas las causales de rechazo del Pliego de Condiciones. NOTA 3: Los valores que se inlcuyan para cada bien y/o servicio no podrán superar los precios techo contenidos en el documento denominado "Complemento del Estudio del Sector Lote 2".

Sheet MANO DE OBRA
B2: OFERTA ECONÓMICA LOTE No. 2 - CAUCA MANO DE OBRA | E2: MANTENIMIENTO VEHICULOS
E3: *** Incluye Costos Directos e Indirectos
B4: ITEM | C4: ITEM MANO DE OBRA | E4: AUTOMOVIL | H4: CAMIONETA - CAMPEROS - CAMION MEDIANO
E5: SUBTOTAL | F5: IVA | G5: TOTAL | H5: SUBTOTAL | I5: IVA | J5: TOTAL
B6: 1 | C6: SISTEMA DE FRENOS | E6: 0 | F6: 0 | G6: 0 | H6: 0 | I6: 0 | J6: 0
B7: 1.1 | C7: CAMBIO BOMBA DE FRENOS PRINCIPAL | F7: =E7*19% -> 0 | G7: =E7+F7 -> 0 | I7: =H7*19% -> 0 | J7: =H7+I7 -> 0
B8: 1.2 | C8: CAMBIO DE BANDAS TRASERAS | F8: =E8*19% -> 0 | G8: =E8+F8 -> 0 | I8: =H8*19% -> 0 | J8: =H8+I8 -> 0
B9: 1.3 | C9: CAMBIO DE DISCOS DELANTEROS | F9: =E9*19% -> 0 | G9: =E9+F9 -> 0 | I9: =H9*19% -> 0 | J9: =H9+I9 -> 0
B10: 1.4 | C10: CAMBIO DE DISCOS TRASEROS | F10: =E10*19% -> 0 | G10: =E10+F10 -> 0 | I10: =H10*19% -> 0 | J10: =H10+I10 -> 0
B11: 1.5 | C11: CAMBIO DE PASTILLAS DELANTERAS Y/O TRASERAS | F11: =E11*19% -> 0 | G11: =E11+F11 -> 0 | I11: =H11*19% -> 0 | J11: =H11+I11 -> 0
B12: 1.6 | C12: CAMBIO DE SERVOFRENO (BOOSTER) | F12: =E12*19% -> 0 | G12: =E12+F12 -> 0 | I12: =H12*19% -> 0 | J12: =H12+I12 -> 0
B13: 1.7 | C13: CAMBIO EMPAQUETADURA MORDAZAS | F13: =E13*19% -> 0 | G13: =E13+F13 -> 0 | I13: =H13*19% -> 0 | J13: =H13+I13 -> 0
B14: 1.8 | C14: CAMBIO GUAYAS FRENO MANO COMPLETA | F14: =E14*19% -> 0 | G14: =E14+F14 -> 0 | I14: =H14*19% -> 0 | J14: =H14+I14 -> 0
B15: 1.9 | C15: CAMBIO LIMITADOR FRENO | F15: =E15*19% -> 0 | G15: =E15+F15 -> 0 | I15: =H15*19% -> 0 | J15: =H15+I15 -> 0
B16: 1.10 | C16: CAMBIO MANGUERA FRENO | F16: =E16*19% -> 0 | G16: =E16+F16 -> 0 | I16: =H16*19% -> 0 | J16: =H16+I16 -> 0
B17: 1.11 | C17: EMBUJAR MORDAZAS | F17: =E17*19% -> 0 | G17: =E17+F17 -> 0 | I17: =H17*19% -> 0 | J17: =H17+I17 -> 0
B18: 1.12 | C18: REPARACION GENERAL DE FRENOS | F18: =E18*19% -> 0 | G18: =E18+F18 -> 0 | I18: =H18*19% -> 0 | J18: =H18+I18 -> 0
B19: 1.13 | C19: TENSIONAR BANDAS DE FRENO | F19: =E19*19% -> 0 | G19: =E19+F19 -> 0 | I19: =H19*19% -> 0 | J19: =H19+I19 -> 0
B20: 2 | C20: SISTEMA DE SUSPENSION | F20: 0 | G20: 0 | I20: 0 | J20: 0
B21: 2.1 | C21: AJUSTE Y ENGRASE RODAMIENTOS DELANTEROS Y /O TRASEROS | F21: =E21*19% -> 0 | G21: =E21+F21 -> 0 | I21: =H21*19% -> 0 | J21: =H21+I21 -> 0
B22: 2.2 | C22: CAMBIO BOCIN DELANTERO | F22: =E22*19% -> 0 | G22: =E22+F22 -> 0 | I22: =H22*19% -> 0 | J22: =H22+I22 -> 0
B23: 2.3 | C23: CAMBIO BOCIN TRASERO | F23: =E23*19% -> 0 | G23: =E23+F23 -> 0 | I23: =H23*19% -> 0 | J23: =H23+I23 -> 0
B24: 2.4 | C24: CAMBIO BUJES BARRA ESTABILIZADORA DELANTERA | F24: =E24*19% -> 0 | G24: =E24+F24 -> 0 | I24: =H24*19% -> 0 | J24: =H24+I24 -> 0
B25: 2.5 | C25: CAMBIO BUJES BARRA ESTABILIZADORA TRASERA | F25: =E25*19% -> 0 | G25: =E25+F25 -> 0 | I25: =H25*19% -> 0 | J25: =H25+I25 -> 0
B26: 2.6 | C26: CAMBIO DE BUJES TEMPLETES TRASEROS | F26: =E26*19% -> 0 | G26: =E26+F26 -> 0 | I26: =H26*19% -> 0 | J26: =H26+I26 -> 0
B27: 2.7 | C27: CAMBIO DE PORTA MANGUETAS DELANTERAS | F27: =E27*19% -> 0 | G27: =E27+F27 -> 0 | I27: =H27*19% -> 0 | J27: =H27+I27 -> 0
B28: 2.8 | C28: CAMBIO DE ROTULA SUPERIOR O INFERIOR | F28: =E28*19% -> 0 | G28: =E28+F28 -> 0 | I28: =H28*19% -> 0 | J28: =H28+I28 -> 0
B29: 2.9 | C29: CAMBIO DE TIJERA INFERIOR DELANTERA | F29: =E29*19% -> 0 | G29: =E29+F29 -> 0 | I29: =H29*19% -> 0 | J29: =H29+I29 -> 0
B30: 2.10 | C30: CAMBIO DE TIJERA SUPERIOR DELANTERA | F30: =E30*19% -> 0 | G30: =E30+F30 -> 0 | I30: =H30*19% -> 0 | J30: =H30+I30 -> 0
B31: 2.11 | C31: CAMBIO JUEGO AMORTIGUADORES DELANTEROS CON ESPIRAL | F31: =E31*19% -> 0 | G31: =E31+F31 -> 0 | I31: =H31*19% -> 0 | J31: =H31+I31 -> 0
B32: 2.12 | C32: CAMBIO JUEGO AMORTIGUADORES SIN ESPIRAL | F32: =E32*19% -> 0 | G32: =E32+F32 -> 0 | I32: =H32*19% -> 0 | J32: =H32+I32 -> 0
... B38: 2.18 | C38: REPARACION GENERAL TREN DELANTERO | F38: =E38*19% -> 0 | G38: =E38+F38 -> 0 | I38: =H38*19% -> 0 | J38: =H38+I38 -> 0
B39: 3 | C39: SISTEMA DE DIRECCION | F39: 0 | G39: 0 | I39: 0 | J39: 0
B40: 3.1 | C40: ALINEACION DIRECCION (COMPLETA) | F40: =E40*19% -> 0 | G40: =E40+F40 -> 0 | I40: =H40*19% -> 0 | J40: =H40+I40 -> 0
B41: 3.2 | C41: BALANCEO (COMPLETO) | F41: =E41*19% -> 0 | G41: =E41+F41 -> 0 | I41: =H41*19% -> 0 | J41: =H41+I41 -> 0
B42: 3.3 | C42: CAMBIO AXIAL POR RUEDA | F42: =E42*19% -> 0 | G42: =E42+F42 -> 0 | I42: =H42*19% -> 0 | J42: =H42+I42 -> 0
B43: 3.4 | C43: CAMBIO BOMBA DIRECCION HIDRAULICO | F43: =E43*19% -> 0 | G43: =E43+F43 -> 0 | I43: =H43*19% -> 0 | J43: =H43+I43 -> 0
B44: 3.5 | C44: CAMBIO CAJA DE DIRECCION | F44: =E44*19% -> 0 | G44: =E44+F44 -> 0 | I44: =H44*19% -> 0 | J44: =H44+I44 -> 0
B45: 3.6 | C45: DESMONTAR Y EMPAQUETAR BOMBA DIRECCION HIDRAULCA (INCLUIDO EMPAQUETADURA) | F45: =E45*19% -> 0 | G45: =E45+F45 -> 0 | I45: =H45*19% -> 0 | J45: =H45+I45 -> 0
B46: 3.7 | C46: DESMONTAR Y EMPAQUETAR CAJA DIRECCION HIDRAULICA ( INCLUIDO EMPAQUETADURA) | F46: =E46*19% -> 0 | G46: =E46+F46 -> 0 | I46: =H46*19% -> 0 | J46: =H46+I46 -> 0
B47: 4 | C47: SISTEMA DE TRANSMISION | F47: 0 | G47: 0 | I47: 0 | J47: 0
B48: 4.1 | C48: CAMBIO CRUCETAS CARDAN | F48: =E48*19% -> 0 | G48: =E48+F48 -> 0 | I48: =H48*19% -> 0 | J48: =H48+I48 -> 0
B49: 4.2 | C49: CAMBIO KIT BUJES PALANCA SELECTORA | F49: =E49*19% -> 0 | G49: =E49+F49 -> 0 | I49: =H49*19% -> 0 | J49: =H49+I49 -> 0
B50: 4.3 | C50: CAMBIO DE CARDAN DELANTERO Y/O TRASERO | F50: =E50*19% -> 0 | G50: =E50+F50 -> 0 | I50: =H50*19% -> 0 | J50: =H50+I50 -> 0
B51: 4.4 | C51: CAMBIO EJE DELANTERO | F51: =E51*19% -> 0 | G51: =E51+F51 -> 0 | I51: =H51*19% -> 0 | J51: =H51+I51 -> 0
B52: 4.5 | C52: CAMBIO EJES DE TRACCION TRASERA | F52: =E52*19% -> 0 | G52: =E52+F52 -> 0 | I52: =H52*19% -> 0 | J52: =H52+I52 -> 0
B53: 4.6 | C53: CAMBIO GUARDAPOLVOS EJE DELANTERO | F53: =E53*19% -> 0 | G53: =E53+F53 -> 0 | I53: =H53*19% -> 0 | J53: =H53+I53 -> 0
B54: 4.7 | C54: CAMBIO PUNTAS EJE LADO RUEDA | F54: =E54*19% -> 0 | G54: =E54+F54 -> 0 | I54: =H54*19% -> 0 | J54: =H54+I54 -> 0
B55: 4.8 | C55: CAMBIO RETENEDOR SPEED | F55: =E55*19% -> 0 | G55: =E55+F55 -> 0 | I55: =H55*19% -> 0 | J55: =H55+I55 -> 0
B56: 4.9 | C56: CAMBIO RETENEDORES CAJA DE VELOCIDADES | F56: =E56*19% -> 0 | G56: =E56+F56 -> 0 | I56: =H56*19% -> 0 | J56: =H56+I56 -> 0
B57: 4.10 | C57: CAMBIO RETENEDORES TRANSFERENCIA | F57: =E57*19% -> 0 | G57: =E57+F57 -> 0 | I57: =H57*19% -> 0 | J57: =H57+I57 -> 0
B58: 4.11 | C58: CAMBIO SENSOR VELOCIDAD | F58: =E58*19% -> 0 | G58: =E58+F58 -> 0 | I58: =H58*19% -> 0 | J58: =H58+I58 -> 0
B59: 4.12 | C59: CAMBIO SOPORTES CAJA VELOCIDADES | F59: =E59*19% -> 0 | G59: =E59+F59 -> 0 | I59: =H59*19% -> 0 | J59: =H59+I59 -> 0
B60: 5 | C60: SISTEMA DE EMBRAGUE | F60: 0 | G60: 0 | I60: 0 | J60: 0
B61: 5.1 | C61: CAMBIO DE BOMBAS PRINCIPAL Y / O AUXILIAR EMBRAGUE | F61: =E61*19% -> 0 | G61: =E61+F61 -> 0 | I61: =H61*19% -> 0 | J61: =H61+I61 -> 0
B62: 5.2 | C62: CAMBIO GUAYA EMBRAGUE | F62: =E62*19% -> 0 | G62: =E62+F62 -> 0 | I62: =H62*19% -> 0 | J62: =H62+I62 -> 0
B63: 5.3 | C63: CAMBIO KIT EMBRAGUE (INCLUIDO BALINERA VOLANTE) | F63: =E63*19% -> 0 | G63: =E63+F63 -> 0 | I63: =H63*19% -> 0 | J63: =H63+I63 -> 0
B64: 5.4 | C64: CAMBIO MANGUERA EMBRAGUE | F64: =E64*19% -> 0 | G64: =E64+F64 -> 0 | I64: =H64*19% -> 0 | J64: =H64+I64 -> 0
B65: 6 | C65: SISTEMA ELECTRICO | F65: 0 | G65: 0 | I65: 0 | J65: 0
B66: 6.1 | C66: CAMBIO BOMBILLOS HALOGENOS Y/O EXPLORADORA | F66: =E66*19% -> 0 | G66: =E66+F66 -> 0 | I66: =H66*19% -> 0 | J66: =H66+I66 -> 0
B67: 6.2 | C67: CAMBIO BORNES O TERMINALES BATERIA | F67: =E67*19% -> 0 | G67: =E67+F67 -> 0 | I67: =H67*19% -> 0 | J67: =H67+I67 -> 0
B68: 6.4 | C68: CAMBIO CONTROL LUCES Y/O DIRECCIONALES | F68: =E68*19% -> 0 | G68: =E68+F68 -> 0 | I68: =H68*19% -> 0 | J68: =H68+I68 -> 0
B69: 6.5 | C69: CAMBIO DE ALTERNADOR. | F69: =E69*19% -> 0 | G69: =E69+F69 -> 0 | I69: =H69*19% -> 0 | J69: =H69+I69 -> 0
B70: 6.6 | C70: CAMBIO DE ARRANQUE. | F70: =E70*19% -> 0 | G70: =E70+F70 -> 0 | I70: =H70*19% -> 0 | J70: =H70+I70 -> 0
B71: 6.7 | C71: CAMBIO DE LOS STOPS | F71: =E71*19% -> 0 | G71: =E71+F71 -> 0 | I71: =H71*19% -> 0 | J71: =H71+I71 -> 0
B72: 6.8 | C72: CAMBIO DE SENSOR CIGÜEÑAL O EJE LEVAS. | F72: =E72*19% -> 0 | G72: =E72+F72 -> 0 | I72: =H72*19% -> 0 | J72: =H72+I72 -> 0
B73: 6.9 | C73: CAMBIO FAROLAS Y/O EXPLORADORAS | F73: =E73*19% -> 0 | G73: =E73+F73 -> 0 | I73: =H73*19% -> 0 | J73: =H73+I73 -> 0
B74: 6.10 | C74: CAMBIO JUEGO DE SWITCH ELEVAVIDRIOS | F74: =E74*19% -> 0 | G74: =E74+F74 -> 0 | I74: =H74*19% -> 0 | J74: =H74+I74 -> 0
B75: 6.11 | C75: CAMBIO MOTOR DEPOSITO LAVA PARABRISAS | F75: =E75*19% -> 0 | G75: =E75+F75 -> 0 | I75: =H75*19% -> 0 | J75: =H75+I75 -> 0
B76: 6.12 | C76: CAMBIO MOTOR LIMPIABRISAS | F76: =E76*19% -> 0 | G76: =E76+F76 -> 0 | I76: =H76*19% -> 0 | J76: =H76+I76 -> 0
B77: 6.13 | C77: CAMBIO MOTOVENTILADOR | F77: =E77*19% -> 0 | G77: =E77+F77 -> 0 | I77: =H77*19% -> 0 | J77: =H77+I77 -> 0
... B80: 6.16 | C80: DESMONTAR Y REPARA MOTOR DE ARRANQUE | F80: =E80*19% -> 0 | G80: =E80+F80 -> 0 | I80: =H80*19% -> 0 | J80: =H80+I80 -> 0
B81: 7 | C81: SISTEMA A/A. | F81: 0 | G81: 0 | I81: 0 | J81: 0
B82: 7.1 | C82: CAMBIO DEL COMPRESOR DEL A/A. | F82: =E82*19% -> 0 | G82: =E82+F82 -> 0 | I82: =H82*19% -> 0 | J82: =H82+I82 -> 0
B83: 7.2 | C83: CAMBIO DEL CONDENSADOR DEL A/A. | F83: =E83*19% -> 0 | G83: =E83+F83 -> 0 | I83: =H83*19% -> 0 | J83: =H83+I83 -> 0
B84: 7.3 | C84: CAMBIO DEL EVAPORADOR DEL A/A. | F84: =E84*19% -> 0 | G84: =E84+F84 -> 0 | I84: =H84*19% -> 0 | J84: =H84+I84 -> 0
B85: 7.4 | C85: CAMBIO FILRTRO ANTIPOLEN | F85: =E85*19% -> 0 | G85: =E85+F85 -> 0 | I85: =H85*19% -> 0 | J85: =H85+I85 -> 0
B86: 7.5 | C86: MANTENIMIENTO DEL SISTEMA DE A/A. | F86: =E86*19% -> 0 | G86: =E86+F86 -> 0 | I86: =H86*19% -> 0 | J86: =H86+I86 -> 0
B87: 7.6 | C87: RECARGA DEL SISTEMA DE A/A. | F87: =E87*19% -> 0 | G87: =E87+F87 -> 0 | I87: =H87*19% -> 0 | J87: =H87+I87 -> 0
B88: 8 | C88: MOTOR | F88: 0 | G88: 0 | I88: 0 | J88: 0
B89: 8.1 | C89: CAMBIO CORREAS ACCESORIOS | F89: =E89*19% -> 0 | G89: =E89+F89 -> 0 | I89: =H89*19% -> 0 | J89: =H89+I89 -> 0
B90: 8.2 | C90: CAMBIO DE SENSOR DE FLUJO DE AIRE. | F90: =E90*19% -> 0 | G90: =E90+F90 -> 0 | I90: =H90*19% -> 0 | J90: =H90+I90 -> 0
B91: 8.3 | C91: CAMBIO EMPAQUES CULATA | F91: =E91*19% -> 0 | G91: =E91+F91 -> 0 | I91: =H91*19% -> 0 | J91: =H91+I91 -> 0
B92: 8.4 | C92: CAMBIO EMPAQUES MULTIPLES (ADMISION) | F92: =E92*19% -> 0 | G92: =E92+F92 -> 0 | I92: =H92*19% -> 0 | J92: =H92+I92 -> 0
B93: 8.5 | C93: CAMBIO EMPAQUES TAPA VALVULAS | F93: =E93*19% -> 0 | G93: =E93+F93 -> 0 | I93: =H93*19% -> 0 | J93: =H93+I93 -> 0
B94: 8.6 | C94: CAMBIO GUAYA ACELERADOR | F94: =E94*19% -> 0 | G94: =E94+F94 -> 0 | I94: =H94*19% -> 0 | J94: =H94+I94 -> 0
B95: 8.7 | C95: CAMBIO KIT DISTRIBUSION ( CADENILLA,GUIAS,TENSOR, RETENES) | F95: =E95*19% -> 0 | G95: =E95+F95 -> 0 | I95: =H95*19% -> 0 | J95: =H95+I95 -> 0
B96: 8.8 | C96: CAMBIO KIT DISTRIBUSION ( CORREA,TENSORES PATINES, RETENES) | F96: =E96*19% -> 0 | G96: =E96+F96 -> 0 | I96: =H96*19% -> 0 | J96: =H96+I96 -> 0
B97: 8.9 | C97: CAMBIO PRESILENCIADOR (INCLUIDO REPUESTO) | F97: =E97*19% -> 0 | G97: =E97+F97 -> 0 | I97: =H97*19% -> 0 | J97: =H97+I97 -> 0
B98: 8.10 | C98: CAMBIO RETEN POLEA CIGÜEÑAL | F98: =E98*19% -> 0 | G98: =E98+F98 -> 0 | I98: =H98*19% -> 0 | J98: =H98+I98 -> 0
B99: 8.11 | C99: CAMBIO RETEN TRASERO CIGÜEÑAL | F99: =E99*19% -> 0 | G99: =E99+F99 -> 0 | I99: =H99*19% -> 0 | J99: =H99+I99 -> 0
B100: 8.12 | C100: CAMBIO RETENES EJE DE LEVAS | F100: =E100*19% -> 0 | G100: =E100+F100 -> 0 | I100: =H100*19% -> 0 | J100: =H100+I100 -> 0
... B105: 8.17 | C105: REPARACION DE MOTOR (INCLUYE DESMONTAJE Y MONTAJE DE MOTOR) | F105: =E105*19% -> 0 | G105: =E105+F105 -> 0 | I105: =H105*19% -> 0 | J105: =H105+I105 -> 0
B106: 9 | C106: SISTEMA REFRIGERACIOIN | F106: 0 | G106: 0 | I106: 0 | J106: 0
B107: 9.1 | C107: CAMBIO BASE TERMOSTATO | F107: =E107*19% -> 0 | G107: =E107+F107 -> 0 | I107: =H107*19% -> 0 | J107: =H107+I107 -> 0
B108: 9.2 | C108: CAMBIO BOMBA DE AGUA | F108: =E108*19% -> 0 | G108: =E108+F108 -> 0 | I108: =H108*19% -> 0 | J108: =H108+I108 -> 0
B109: 9.3 | C109: CAMBIO FAN CLUTCH O VENTILADOR | F109: =E109*19% -> 0 | G109: =E109+F109 -> 0 | I109: =H109*19% -> 0 | J109: =H109+I109 -> 0
B110: 9.4 | C110: CAMBIO MANGERA SUPERUIR RADIADOR | F110: =E110*19% -> 0 | G110: =E110+F110 -> 0 | I110: =H110*19% -> 0 | J110: =H110+I110 -> 0
B111: 9.5 | C111: CAMBIO MANGUERAS CALEFACCION | F111: =E111*19% -> 0 | G111: =E111+F111 -> 0 | I111: =H111*19% -> 0 | J111: =H111+I111 -> 0
B112: 9.6 | C112: CAMBIO MANGUREA INFERIOR RADIADOR | F112: =E112*19% -> 0 | G112: =E112+F112 -> 0 | I112: =H112*19% -> 0 | J112: =H112+I112 -> 0
...

Sheet TOTAL PORTAFOLIO
B2: TOTAL PORTAFOLIO DE SERVICIOS Y REPUESTOS
B3: MANTENIMIENTO PARQUE AUTOMOTOR
B4: LOTE No. 2 - CAUCA
C6: REPUESTOS
B7: ITEM | C7: DESCRIPCIÓN | D7: SUBTOTAL | E7: IVA | F7: VALOR PROPUESTA
B8: 1 | C8: CHEVROLET AVEO EMOTION MOD. 2011 | D8: =F8/1.19 -> 0 | E8: =F8-D8 -> 0 | F8: =REPUESTOS!E181 -> 0
B9: 2 | C9: CHEVROLET SPARK 1.0 | D9: =F9/1.19 -> 0 | E9: =F9-D9 -> 0 | F9: =REPUESTOS!H181 -> 0
B10: 3 | C10: CHEVROLET COLORADO | D10: =F10/1.19 -> 0 | E10: =F10-D10 -> 0 | F10: =REPUESTOS!K181 -> 0
B11: 4 | C11: CHEVROLET D-MAX 3.5 GASOLINA | D11: =F11/1.19 -> 0 | E11: =F11-D11 -> 0 | F11: =REPUESTOS!N181 -> 0
B12: 5 | C12: CHEVROLET D-MAX 3.0 DIESEL | D12: =F12/1.19 -> 0 | E12: =F12-D12 -> 0 | F12: =REPUESTOS!Q181 -> 0
B13: 6 | C13: CHEVROLET NPR MOD. 2008 | D13: =F13/1.19 -> 0 | E13: =F13-D13 -> 0 | F13: =REPUESTOS!T181 -> 0
B14: 7 | C14: DODGE RAM 2500 MOD. 2014 | D14: =F14/1.19 -> 0 | E14: =F14-D14 -> 0 | F14: =REPUESTOS!W181 -> 0
B15: 8 | C15: FORD RANGER XL MOD. 2023 | D15: =F15/1.19 -> 0 | E15: =F15-D15 -> 0 | F15: =REPUESTOS!Z181 -> 0
B16: 9 | C16: CAMIONETA FOTON BJ2037 MOD. 2019 | D16: =F16/1.19 -> 0 | E16: =F16-D16 -> 0 | F16: =REPUESTOS!AC181 -> 0
B17: 10 | C17: HYUNDAI TUCSON IX35 MOD. 2013 | D17: =F17/1.19 -> 0 | E17: =F17-D17 -> 0 | F17: =REPUESTOS!AF181 -> 0
B18: 11 | C18: MAZDA B2.6 MOD. 2009 | D18: =F18/1.19 -> 0 | E18: =F18-D18 -> 0 | F18: =REPUESTOS!AI181 -> 0
B19: 12 | C19: MAZDA B26C47 MOD. 2008 | D19: =F19/1.19 -> 0 | E19: =F19-D19 -> 0 | F19: =REPUESTOS!AL181 -> 0
B20: 13 | C20: NISSAN D22 2.5 | D20: =F20/1.19 -> 0 | E20: =F20-D20 -> 0 | F20: =REPUESTOS!AO181 -> 0
B21: 14 | C21: NISSAN NP300 2.5 | D21: =F21/1.19 -> 0 | E21: =F21-D21 -> 0 | F21: =REPUESTOS!AR181 -> 0
B22: 15 | C22: NISSAN NAVARA | D22: =F22/1.19 -> 0 | E22: =F22-D22 -> 0 | F22: =REPUESTOS!AU181 -> 0
B23: 16 | C23: NISSAN VERSA MOD. 2015 | D23: =F23/1.19 -> 0 | E23: =F23-D23 -> 0 | F23: =REPUESTOS!AX181 -> 0
B24: 17 | C24: NISSAN X-TRAIL 2.2 DIESEL MOD. 2014 | D24: =F24/1.19 -> 0 | E24: =F24-D24 -> 0 | F24: =REPUESTOS!BA181 -> 0
B25: 18 | C25: RENAULT LOGAN | D25: =F25/1.19 -> 0 | E25: =F25-D25 -> 0 | F25: =REPUESTOS!BD181 -> 0
B26: 19 | C26: RENAULT SCALA | D26: =F26/1.19 -> 0 | E26: =F26-D26 -> 0 | F26: =REPUESTOS!BG181 -> 0
B27: 20 | C27: RENAULT DUSTER 2.0/OROCH | D27: =F27/1.19 -> 0 | E27: =F27-D27 -> 0 | F27: =REPUESTOS!BJ181 -> 0
B28: 21 | C28: RENAULT DUSTER 1.6 | D28: =F28/1.19 -> 0 | E28: =F28-D28 -> 0 | F28: =REPUESTOS!BM181 -> 0
B29: 22 | C29: SUZUKI ALTO | D29: =F29/1.19 -> 0 | E29: =F29-D29 -> 0 | F29: =REPUESTOS!BP181 -> 0
B30: 23 | C30: TOYOTA 4RUNNER MOD. 2019 | D30: =F30/1.19 -> 0 | E30: =F30-D30 -> 0 | F30: =REPUESTOS!BS181 -> 0
B31: 24 | C31: TOYOTA FORTUNER 2.4 DIESEL MOD. 2023 | D31: =F31/1.19 -> 0 | E31: =F31-D31 -> 0 | F31: =REPUESTOS!BV181 -> 0
B32: 25 | C32: TOYOTA HILUX 2.4 DIESEL | D32: =F32/1.19 -> 0 | E32: =F32-D32 -> 0 | F32: =REPUESTOS!BY181 -> 0
B33: 26 | C33: TOYOTA PRADO TX-L | D33: =F33/1.19 -> 0 | E33: =F33-D33 -> 0 | F33: =REPUESTOS!CB181 -> 0
B34: 27 | C34: TOYOTA PRADO VX 3.4 GASOLINA | D34: =F34/1.19 -> 0 | E34: =F34-D34 -> 0 | F34: =REPUESTOS!CE181 -> 0
B35: 28 | C35: TOYOTA TOCOMA 3.5 GASOLI MOD. 2020 | D35: =F35/1.19 -> 0 | E35: =F35-D35 -> 0 | F35: =REPUESTOS!CH181 -> 0
B36: TOTAL PORTAFOLIO - REPUESTOS | D36: =SUM(D8:D35) -> 0 | E36: =SUM(E8:E35) -> 0 | F36: =SUM(F8:F35) -> 0
C38: REPUESTOS COMUNES
B39: ITEM | C39: DESCRIPCIÓN | D39: SUBTOTAL | E39: IVA | F39: VALOR PROPUESTA
B40: 1 | C40: REPUESTOS COMUNES | D40: =F40/1.19 -> 0 | E40: =F40-D40 -> 0 | F40: ='REPUESTOS COMUNES'!G70 -> 0
B41: TOTAL PORTAFOLIO - REPUESTOS COMUNES | D41: =D40 -> 0 | E41: =E40 -> 0 | F41: =F40 -> 0
C43: MANO DE OBRA
B44: ITEM | C44: DESCRIPCIÓN | D44: SUBTOTAL | E44: IVA | F44: VALOR PROPUESTA
B45: 1 | C45: AUTOMOVILES | D45: =F45/1.19 -> 0 | E45: =F45-D45 -> 0 | F45: ='MANO DE OBRA'!G135 -> 0
B46: 2 | C46: CAMIONETAS - CAMPEROS - CAMIONES MEDIONOS | D46: =F46/1.19 -> 0 | E46: =F46-D46 -> 0 | F46: ='MANO DE OBRA'!J135 -> 0
B47: TOTAL PORTAFOLIO - MANO DE OBRA | D47: =SUM(D45:D46) -> 0 | E47: =SUM(E45:E46) -> 0 | F47: =SUM(F45:F46) -> 0
C49: VALOR TOTAL DEL PORTAFOLIO MANTENIMIENTO VEHICULOS MULTIMARCA | F49: =F36+F41+F47 -> 0
