Workbook

Sheet DATOS DEL PROPONENTE
D3: DD | E3: MM | F3: AA
B4: Santiago de Cali,
B9: Señores:
B10: SUBDIRECCIÓN REGIONAL DE APOYO DEL PACIFICO
B11: FISCALÍA GENERAL DE LA NACIÓN
B12: Cra. 10 # 12 - 10, Edificio Nueva Sede, Codigo. Postal 760044
B13: Cali - Valle del Cauca
B17: ASUNTO: ANEXO - OFERTA ECONÓMICA
B23: Respetados doctores,
B27: De manera antenta y cordial me permito entregar la propuesta economica de acuerdo al ANEXO - OFERTA ECONÓMICA para el LOTE No. 2 - CAUCA requerido para el proceso de objeto: "Prestar el servicio de mantenimiento preventivo y correctivo integral a todo costo (incluidos repuestos, mano de obra y accesorios originales u homologados) de los vehículos automotores que se encuentran al servicio de la Fiscalía General de la Nación en las Seccionales Cali, Cauca, Nariño y Valle del Cauca."
B33: Cordialmente
B40: Firma

Sheet REPUESTOS
B2: OFERTA ECONÓMICA LOTE No. 2 - CAUCA | C2: REPUESTOS VEHICULOS MULTIMARCAS MANTENIMIENTO VEHICULOS | R2: REPUESTOS VEHICULOS MULTIMARCAS MANTENIMIENTO VEHICULOS | AG2: REPUESTOS VEHICULOS MULTIMARCAS MANTENIMIENTO VEHICULOS | AV2: REPUESTOS VEHICULOS MULTIMARCAS MANTENIMIENTO VEHICULOS | BK2: REPUESTOS VEHICULOS MULTIMARCAS MANTENIMIENTO VEHICULOS | BZ2: REPUESTOS VEHICULOS MULTIMARCAS MANTENIMIENTO VEHICULOS
C3: *** Incluye Costos Directos e Indirectos | R3: *** Incluye Costos Directos e Indirectos | AG3: *** Incluye Costos Directos e Indirectos | AV3: *** Incluye Costos Directos e Indirectos | BK3: *** Incluye Costos Directos e Indirectos | BZ3: *** Incluye Costos Directos e Indirectos
B4: DESCRIPCION | C4: CHEVROLET AVEO EMOTION MOD. 2011 | F4: CHEVROLET SPARK 1.0 | I4: CHEVROLET COLORADO | L4: CHEVROLET D-MAX 3.5 GASOLINA | O4: CHEVROLET D-MAX 3.0 DIESEL | R4: CHEVROLET NPR MOD. 2008 | U4: DODGE RAM 2500 MOD. 2014 | X4: FORD RANGER XL MOD. 2023 | AA4: CAMIONETA FOTON BJ2037 MOD. 2019 | AD4: HYUNDAI TUCSON IX35 MOD. 2013 | AG4: MAZDA B2.6 MOD. 2009 | AJ4: MAZDA B26C47 MOD. 2008 | AM4: NISSAN D22 2.5 | AP4: NISSAN NP300 2.5 | AS4: NISSAN NAVARA | AV4: NISSAN VERSA MOD. 2015 | AY4: NISSAN X-TRAIL 2.2 DIESEL MOD. 2014 | BB4: RENAULT LOGAN | BE4: RENAULT SCALA | BH4: RENAULT DUSTER 2.0/OROCH | BK4: RENAULT DUSTER 1.6 | BN4: SUZUKI ALTO | BQ4: TOYOTA 4RUNNER MOD. 2019 | BT4: TOYOTA FORTUNER 2.4 DIESEL MOD. 2023 | BW4: TOYOTA HILUX 2.4 DIESEL | BZ4: TOYOTA PRADO TX-L | CC4: TOYOTA PRADO VX 3.4 GASOLINA | CF4: TOYOTA TOCOMA 3.5 GASOLI MOD. 2020
C5: SUBTOTAL | D5: IVA | E5: TOTAL | F5: SUBTOTAL | G5: IVA | H5: TOTAL | I5: SUBTOTAL | J5: IVA | K5: TOTAL | L5: SUBTOTAL | M5: IVA | N5: TOTAL | O5: SUBTOTAL | P5: IVA | Q5: TOTAL | R5: SUBTOTAL | S5: IVA | T5: TOTAL | U5: SUBTOTAL | V5: IVA | W5: TOTAL | X5: SUBTOTAL | Y5: IVA | Z5: TOTAL | AA5: SUBTOTAL | AB5: IVA | AC5: TOTAL | AD5: SUBTOTAL | AE5: IVA | AF5: TOTAL | AG5: SUBTOTAL | AH5: IVA | AI5: TOTAL | AJ5: SUBTOTAL | AK5: IVA | AL5: TOTAL | AM5: SUBTOTAL | AN5: IVA | AO5: TOTAL | AP5: SUBTOTAL | AQ5: IVA | AR5: TOTAL | AS5: SUBTOTAL | AT5: IVA | AU5: TOTAL | AV5: SUBTOTAL | AW5: IVA | AX5: TOTAL | AY5: SUBTOTAL | AZ5: IVA | BA5: TOTAL | BB5: SUBTOTAL | BC5: IVA | BD5: TOTAL | BE5: SUBTOTAL | BF5: IVA | BG5: TOTAL | BH5: SUBTOTAL | BI5: IVA | BJ5: TOTAL | BK5: SUBTOTAL | BL5: IVA | BM5: TOTAL | BN5: SUBTOTAL | BO5: IVA | BP5: TOTAL | BQ5: SUBTOTAL | BR5: IVA | BS5: TOTAL | BT5: SUBTOTAL | BU5: IVA | BV5: TOTAL | BW5: SUBTOTAL | BX5: IVA | BY5: TOTAL | BZ5: SUBTOTAL | CA5: IVA | CB5: TOTAL | CC5: SUBTOTAL | CD5: IVA | CE5: TOTAL | CF5: SUBTOTAL | CG5: IVA | CH5: TOTAL
A6: 1 | B6: FRENOS | C6: 0 | D6: 0 | E6: 0 | F6: 0 | G6: 0 | H6: 0 | I6: 0 | J6: 0 | K6: 0 | L6: 0 | M6: 0 | N6: 0 | O6: 0 | P6: 0 | Q6: 0 | R6: 0 | S6: 0 | T6: 0 | U6: 0 | V6: 0 | W6: 0 | X6: 0 | Y6: 0 | Z6: 0 | AA6: 0 | AB6: 0 | AC6: 0 | AD6: 0 | AE6: 0 | AF6: 0 | AG6: 0 | AH6: 0 | AI6: 0 | AJ6: 0 | AK6: 0 | AL6: 0 | AM6: 0 | AN6: 0 | AO6: 0 | AP6: 0 | AQ6: 0 | AR6: 0 | AS6: 0 | AT6: 0 | AU6: 0 | AV6: 0 | AW6: 0 | AX6: 0 | AY6: 0 | AZ6: 0 | BA6: 0 | BB6: 0 | BC6: 0 | BD6: 0 | BE6: 0 | BF6: 0 | BG6: 0 | BH6: 0 | BI6: 0 | BJ6: 0 | BK6: 0 | BL6: 0 | BM6: 0 | BN6: 0 | BO6: 0 | BP6: 0 | BQ6: 0 | BR6: 0 | BS6: 0 | BT6: 0 | BU6: 0 | BV6: 0 | BW6: 0 | BX6: 0 | BY6: 0 | BZ6: 0 | CA6: 0 | CB6: 0 | CC6: 0 | CD6: 0 | CE6: 0 | CF6: 0 | CG6: 0 | CH6: 0
A7: 1.1 | B7: ANTIRRUIDOS PASTILLAS (JUEGO) | D7: =C7*19% -> 0 | E7: =C7+D7 -> 0 | G7: =F7*19% -> 0 | H7: =F7+G7 -> 0 | J7: =I7*19% -> 0 | K7: =I7+J7 -> 0 | M7: =L7*19% -> 0 | N7: =L7+M7 -> 0 | P7: =O7*19% -> 0 | Q7: =O7+P7 -> 0 | S7: =R7*19% -> 0 | T7: =R7+S7 -> 0 | V7: =U7*19% -> 0 | W7: =U7+V7 -> 0 | Y7: =X7*19% -> 0 | Z7: =X7+Y7 -> 0 | AB7: =AA7*19% -> 0 | AC7: =AA7+AB7 -> 0 | AE7: =AD7*19% -> 0 | AF7: =AD7+AE7 -> 0 | AH7: =AG7*19% -> 0 | AI7: =AG7+AH7 -> 0 | AK7: =AJ7*19% -> 0 | AL7: =AJ7+AK7 -> 0 | AN7: =AM7*19% -> 0 | AO7: =AM7+AN7 -> 0 | AQ7: =AP7*19% -> 0 | AR7: =AP7+AQ7 -> 0 | AT7: =AS7*19% -> 0 | AU7: =AS7+AT7 -> 0 | AW7: =AV7*19% -> 0 | AX7: =AV7+AW7 -> 0 | AZ7: =AY7*19% -> 0 | BA7: =AY7+AZ7 -> 0 | BC7: =BB7*19% -> 0 | BD7: =BB7+BC7 -> 0 | BF7: =BE7*19% -> 0 | BG7: =BE7+BF7 -> 0 | BI7: =BH7*19% -> 0 | BJ7: =BH7+BI7 -> 0 | BL7: =BK7*19% -> 0 | BM7: =BK7+BL7 -> 0 | BO7: =BN7*19% -> 0 | BP7: =BN7+BO7 -> 0 | BR7: =BQ7*19% -> 0 | BS7: =BQ7+BR7 -> 0 | BU7: =BT7*19% -> 0 | BV7: =BT7+BU7 -> 0 | BX7: =BW7*19% -> 0 | BY7: =BW7+BX7 -> 0 | CA7: =BZ7*19% -> 0 | CB7: =BZ7+CA7 -> 0 | CD7: =CC7*19% -> 0 | CE7: =CC7+CD7 -> 0 | CG7: =CF7*19% -> 0 | CH7: =CF7+CG7 -> 0
A8: 1.2 | B8: BANDAS DE FRENO ( JUEGO) | D8: =C8*19% -> 0 | E8: =C8+D8 -> 0 | G8: =F8*19% -> 0 | H8: =F8+G8 -> 0 | J8: =I8*19% -> 0 | K8: =I8+J8 -> 0 | M8: =L8*19% -> 0 | N8: =L8+M8 -> 0 | P8: =O8*19% -> 0 | Q8: =O8+P8 -> 0 | S8: =R8*19% -> 0 | T8: =R8+S8 -> 0 | V8: =U8*19% -> 0 | W8: =U8+V8 -> 0 | Y8: =X8*19% -> 0 | Z8: =X8+Y8 -> 0 | AB8: =AA8*19% -> 0 | AC8: =AA8+AB8 -> 0 | AE8: =AD8*19% -> 0 | AF8: =AD8+AE8 -> 0 | AH8: =AG8*19% -> 0 | AI8: =AG8+AH8 -> 0 | AK8: =AJ8*19% -> 0 | AL8: =AJ8+AK8 -> 0 | AN8: =AM8*19% -> 0 | AO8: =AM8+AN8 -> 0 | AQ8: =AP8*19% -> 0 | AR8: =AP8+AQ8 -> 0 | AT8: =AS8*19% -> 0 | AU8: =AS8+AT8 -> 0 | AW8: =AV8*19% -> 0 | AX8: =AV8+AW8 -> 0 | AZ8: =AY8*19% -> 0 | BA8: =AY8+AZ8 -> 0 | BC8: =BB8*19% -> 0 | BD8: =BB8+BC8 -> 0 | BF8: =BE8*19% -> 0 | BG8: =BE8+BF8 -> 0 | BI8: =BH8*19% -> 0 | BJ8: =BH8+BI8 -> 0 | BL8: =BK8*19% -> 0 | BM8: =BK8+BL8 -> 0 | BO8: =BN8*19% -> 0 | BP8: =BN8+BO8 -> 0 | BR8: =BQ8*19% -> 0 | BS8: =BQ8+BR8 -> 0 | BU8: =BT8*19% -> 0 | BV8: =BT8+BU8 -> 0 | BX8: =BW8*19% -> 0 | BY8: =BW8+BX8 -> 0 | CA8: =BZ8*19% -> 0 | CB8: =BZ8+CA8 -> 0 | CD8: =CC8*19% -> 0 | CE8: =CC8+CD8 -> 0 | CG8: =CF8*19% -> 0 | CH8: =CF8+CG8 -> 0
A9: 1.3 | B9: BANDAS DE FRENO EMERGENCIA | D9: =C9*19% -> 0 | E9: =C9+D9 -> 0 | G9: =F9*19% -> 0 | H9: =F9+G9 -> 0 | J9: =I9*19% -> 0 | K9: =I9+J9 -> 0 | M9: =L9*19% -> 0 | N9: =L9+M9 -> 0 | P9: =O9*19% -> 0 | Q9: =O9+P9 -> 0 | S9: =R9*19% -> 0 | T9: =R9+S9 -> 0 | V9: =U9*19% -> 0 | W9: =U9+V9 -> 0 | Y9: =X9*19% -> 0 | Z9: =X9+Y9 -> 0 | AB9: =AA9*19% -> 0 | AC9: =AA9+AB9 -> 0 | AE9: =AD9*19% -> 0 | AF9: =AD9+AE9 -> 0 | AH9: =AG9*19% -> 0 | AI9: =AG9+AH9 -> 0 | AK9: =AJ9*19% -> 0 | AL9: =AJ9+AK9 -> 0 | AN9: =AM9*19% -> 0 | AO9: =AM9+AN9 -> 0 | AQ9: =AP9*19% -> 0 | AR9: =AP9+AQ9 -> 0 | AT9: =AS9*19% -> 0 | AU9: =AS9+AT9 -> 0 | AW9: =AV9*19% -> 0 | AX9: =AV9+AW9 -> 0 | AZ9: =AY9*19% -> 0 | BA9: =AY9+AZ9 -> 0 | BC9: =BB9*19% -> 0 | BD9: =BB9+BC9 -> 0 | BF9: =BE9*19% -> 0 | BG9: =BE9+BF9 -> 0 | BI9: =BH9*19% -> 0 | BJ9: =BH9+BI9 -> 0 | BL9: =BK9*19% -> 0 | BM9: =BK9+BL9 -> 0 | BO9: =BN9*19% -> 0 | BP9: =BN9+BO9 -> 0 | BR9: =BQ9*19% -> 0 | BS9: =BQ9+BR9 -> 0 | BU9: =BT9*19% -> 0 | BV9: =BT9+BU9 -> 0 | BX9: =BW9*19% -> 0 | BY9: =BW9+BX9 -> 0 | CA9: =BZ9*19% -> 0 | CB9: =BZ9+CA9 -> 0 | CD9: =CC9*19% -> 0 | CE9: =CC9+CD9 -> 0 | CG9: =CF9*19% -> 0 | CH9: =CF9+CG9 -> 0
A10: 1.4 | B10: BOHOSTER FRENOS | D10: =C10*19% -> 0 | E10: =C10+D10 -> 0 | G10: =F10*19% -> 0 | H10: =F10+G10 -> 0 | J10: =I10*19% -> 0 | K10: =I10+J10 -> 0 | M10: =L10*19% -> 0 | N10: =L10+M10 -> 0 | P10: =O10*19% -> 0 | Q10: =O10+P10 -> 0 | S10: =R10*19% -> 0 | T10: =R10+S10 -> 0 | V10: =U10*19% -> 0 | W10: =U10+V10 -> 0 | Y10: =X10*19% -> 0 | Z10: =X10+Y10 -> 0 | AB10: =AA10*19% -> 0 | AC10: =AA10+AB10 -> 0 | AE10: =AD10*19% -> 0 | AF10: =AD10+AE10 -> 0 | AH10: =AG10*19% -> 0 | AI10: =AG10+AH10 -> 0 | AK10: =AJ10*19% -> 0 | AL10: =AJ10+AK10 -> 0 | AN10: =AM10*19% -> 0 | AO10: =AM10+AN10 -> 0 | AQ10: =AP10*19% -> 0 | AR10: =AP10+AQ10 -> 0 | AT10: =AS10*19% -> 0 | AU10: =AS10+AT10 -> 0 | AW10: =AV10*19% -> 0 | AX10: =AV10+AW10 -> 0 | AZ10: =AY10*19% -> 0 | BA10: =AY10+AZ10 -> 0 | BC10: =BB10*19% -> 0 | BD10: =BB10+BC10 -> 0 | BF10: =BE10*19% -> 0 | BG10: =BE10+BF10 -> 0 | BI10: =BH10*19% -> 0 | BJ10: =BH10+BI10 -> 0 | BL10: =BK10*19% -> 0 | BM10: =BK10+BL10 -> 0 | BO10: =BN10*19% -> 0 | BP10: =BN10+BO10 -> 0 | BR10: =BQ10*19% -> 0 | BS10: =BQ10+BR10 -> 0 | BU10: =BT10*19% -> 0 | BV10: =BT10+BU10 -> 0 | BX10: =BW10*19% -> 0 | BY10: =BW10+BX10 -> 0 | CA10: =BZ10*19% -> 0 | CB10: =BZ10+CA10 -> 0 | CD10: =CC10*19% -> 0 | CE10: =CC10+CD10 -> 0 | CG10: =CF10*19% -> 0 | CH10: =CF10+CG10 -> 0
A11: 1.5 | B11: BOMBA DE FRENOS | D11: =C11*19% -> 0 | E11: =C11+D11 -> 0 | G11: =F11*19% -> 0 | H11: =F11+G11 -> 0 | J11: =I11*19% -> 0 | K11: =I11+J11 -> 0 | M11: =L11*19% -> 0 | N11: =L11+M11 -> 0 | P11: =O11*19% -> 0 | Q11: =O11+P11 -> 0 | S11: =R11*19% -> 0 | T11: =R11+S11 -> 0 | V11: =U11*19% -> 0 | W11: =U11+V11 -> 0 | Y11: =X11*19% -> 0 | Z11: =X11+Y11 -> 0 | AB11: =AA11*19% -> 0 | AC11: =AA11+AB11 -> 0 | AE11: =AD11*19% -> 0 | AF11: =AD11+AE11 -> 0 | AH11: =AG11*19% -> 0 | AI11: =AG11+AH11 -> 0 | AK11: =AJ11*19% -> 0 | AL11: =AJ11+AK11 -> 0 | AN11: =AM11*19% -> 0 | AO11: =AM11+AN11 -> 0 | AQ11: =AP11*19% -> 0 | AR11: =AP11+AQ11 -> 0 | AT11: =AS11*19% -> 0 | AU11: =AS11+AT11 -> 0 | AW11: =AV11*19% -> 0 | AX11: =AV11+AW11 -> 0 | AZ11: =AY11*19% -> 0 | BA11: =AY11+AZ11 -> 0 | BC11: =BB11*19% -> 0 | BD11: =BB11+BC11 -> 0 | BF11: =BE11*19% -> 0 | BG11: =BE11+BF11 -> 0 | BI11: =BH11*19% -> 0 | BJ11: =BH11+BI11 -> 0 | BL11: =BK11*19% -> 0 | BM11: =BK11+BL11 -> 0 | BO11: =BN11*19% -> 0 | BP11: =BN11+BO11 -> 0 | BR11: =BQ11*19% -> 0 | BS11: =BQ11+BR11 -> 0 | BU11: =BT11*19% -> 0 | BV11: =BT11+BU11 -> 0 | BX11: =BW11*19% -> 0 | BY11: =BW11+BX11 -> 0 | CA11: =BZ11*19% -> 0 | CB11: =BZ11+CA11 -> 0 | CD11: =CC11*19% -> 0 | CE11: =CC11+CD11 -> 0 | CG11: =CF11*19% -> 0 | CH11: =CF11+CG11 -> 0
A12: 1.6 | B12: CAMPANA FRENO | D12: =C12*19% -> 0 | E12: =C12+D12 -> 0 | G12: =F12*19% -> 0 | H12: =F12+G12 -> 0 | J12: =I12*19% -> 0 | K12: =I12+J12 -> 0 | M12: =L12*19% -> 0 | N12: =L12+M12 -> 0 | P12: =O12*19% -> 0 | Q12: =O12+P12 -> 0 | S12: =R12*19% -> 0 | T12: =R12+S12 -> 0 | V12: =U12*19% -> 0 | W12: =U12+V12 -> 0 | Y12: =X12*19% -> 0 | Z12: =X12+Y12 -> 0 | AB12: =AA12*19% -> 0 | AC12: =AA12+AB12 -> 0 | AE12: =AD12*19% -> 0 | AF12: =AD12+AE12 -> 0 | AH12: =AG12*19% -> 0 | AI12: =AG12+AH12 -> 0 | AK12: =AJ12*19% -> 0 | AL12: =AJ12+AK12 -> 0 | AN12: =AM12*19% -> 0 | AO12: =AM12+AN12 -> 0 | AQ12: =AP12*19% -> 0 | AR12: =AP12+AQ12 -> 0 | AT12: =AS12*19% -> 0 | AU12: =AS12+AT12 -> 0 | AW12: =AV12*19% -> 0 | AX12: =AV12+AW12 -> 0 | AZ12: =AY12*19% -> 0 | BA12: =AY12+AZ12 -> 0 | BC12: =BB12*19% -> 0 | BD12: =BB12+BC12 -> 0 | BF12: =BE12*19% -> 0 | BG12: =BE12+BF12 -> 0 | BI12: =BH12*19% -> 0 | BJ12: =BH12+BI12 -> 0 | BL12: =BK12*19% -> 0 | BM12: =BK12+BL12 -> 0 | BO12: =BN12*19% -> 0 | BP12: =BN12+BO12 -> 0 | BR12: =BQ12*19% -> 0 | BS12: =BQ12+BR12 -> 0 | BU12: =BT12*19% -> 0 | BV12: =BT12+BU12 -> 0 | BX12: =BW12*19% -> 0 | BY12: =BW12+BX12 -> 0 | CA12: =BZ12*19% -> 0 | CB12: =BZ12+CA12 -> 0 | CD12: =CC12*19% -> 0 | CE12: =CC12+CD12 -> 0 | CG12: =CF12*19% -> 0 | CH12: =CF12+CG12 -> 0
A13: 1.7 | B13: CILINDRO FRENO TRASERO | D13: =C13*19% -> 0 | E13: =C13+D13 -> 0 | G13: =F13*19% -> 0 | H13: =F13+G13 -> 0 | J13: =I13*19% -> 0 | K13: =I13+J13 -> 0 | M13: =L13*19% -> 0 | N13: =L13+M13 -> 0 | P13: =O13*19% -> 0 | Q13: =O13+P13 -> 0 | S13: =R13*19% -> 0 | T13: =R13+S13 -> 0 | V13: =U13*19% -> 0 | W13: =U13+V13 -> 0 | Y13: =X13*19% -> 0 | Z13: =X13+Y13 -> 0 | AB13: =AA13*19% -> 0 | AC13: =AA13+AB13 -> 0 | AE13: =AD13*19% -> 0 | AF13: =AD13+AE13 -> 0 | AH13: =AG13*19% -> 0 | AI13: =AG13+AH13 -> 0 | AK13: =AJ13*19% -> 0 | AL13: =AJ13+AK13 -> 0 | AN13: =AM13*19% -> 0 | AO13: =AM13+AN13 -> 0 | AQ13: =AP13*19% -> 0 | AR13: =AP13+AQ13 -> 0 | AT13: =AS13*19% -> 0 | AU13: =AS13+AT13 -> 0 | AW13: =AV13*19% -> 0 | AX13: =AV13+AW13 -> 0 | AZ13: =AY13*19% -> 0 | BA13: =AY13+AZ13 -> 0 | BC13: =BB13*19% -> 0 | BD13: =BB13+BC13 -> 0 | BF13: =BE13*19% -> 0 | BG13: =BE13+BF13 -> 0 | BI13: =BH13*19% -> 0 | BJ13: =BH13+BI13 -> 0 | BL13: =BK13*19% -> 0 | BM13: =BK13+BL13 -> 0 | BO13: =BN13*19% -> 0 | BP13: =BN13+BO13 -> 0 | BR13: =BQ13*19% -> 0 | BS13: =BQ13+BR13 -> 0 | BU13: =BT13*19% -> 0 | BV13: =BT13+BU13 -> 0 | BX13: =BW13*19% -> 0 | BY13: =BW13+BX13 -> 0 | CA13: =BZ13*19% -> 0 | CB13: =BZ13+CA13 -> 0 | CD13: =CC13*19% -> 0 | CE13: =CC13+CD13 -> 0 | CG13: =CF13*19% -> 0 | CH13: =CF13+CG13 -> 0
A14: 1.8 | B14: DISCO FRENO DELANTERO | D14: =C14*19% -> 0 | E14: =C14+D14 -> 0 | G14: =F14*19% -> 0 | H14: =F14+G14 -> 0 | J14: =I14*19% -> 0 | K14: =I14+J14 -> 0 | M14: =L14*19% -> 0 | N14: =L14+M14 -> 0 | P14: =O14*19% -> 0 | Q14: =O14+P14 -> 0 | R14: NO APLICA | S14: N/A | T14: NO APLICA | V14: =U14*19% -> 0 | W14: =U14+V14 -> 0 | Y14: =X14*19% -> 0 | Z14: =X14+Y14 -> 0 | AB14: =AA14*19% -> 0 | AC14: =AA14+AB14 -> 0 | AE14: =AD14*19% -> 0 | AF14: =AD14+AE14 -> 0 | AH14: =AG14*19% -> 0 | AI14: =AG14+AH14 -> 0 | AK14: =AJ14*19% -> 0 | AL14: =AJ14+AK14 -> 0 | AN14: =AM14*19% -> 0 | AO14: =AM14+AN14 -> 0 | AQ14: =AP14*19% -> 0 | AR14: =AP14+AQ14 -> 0 | AT14: =AS14*19% -> 0 | AU14: =AS14+AT14 -> 0 | AW14: =AV14*19% -> 0 | AX14: =AV14+AW14 -> 0 | AZ14: =AY14*19% -> 0 | BA14: =AY14+AZ14 -> 0 | BC14: =BB14*19% -> 0 | BD14: =BB14+BC14 -> 0 | BF14: =BE14*19% -> 0 | BG14: =BE14+BF14 -> 0 | BI14: =BH14*19% -> 0 | BJ14: =BH14+BI14 -> 0 | BL14: =BK14*19% -> 0 | BM14: =BK14+BL14 -> 0 | BO14: =BN14*19% -> 0 | BP14: =BN14+BO14 -> 0 | BR14: =BQ14*19% -> 0 | BS14: =BQ14+BR14 -> 0 | BU14: =BT14*19% -> 0 | BV14: =BT14+BU14 -> 0 | BX14: =BW14*19% -> 0 | BY14: =BW14+BX14 -> 0 | CA14: =BZ14*19% -> 0 | CB14: =BZ14+CA14 -> 0 | CD14: =CC14*19% -> 0 | CE14: =CC14+CD14 -> 0 | CG14: =CF14*19% -> 0 | CH14: =CF14+CG14 -> 0
A15: 1.9 | B15: DISCO FRENO TRASERO | D15: =C15*19% -> 0 | E15: =C15+D15 -> 0 | G15: =F15*19% -> 0 | H15: =F15+G15 -> 0 | J15: =I15*19% -> 0 | K15: =I15+J15 -> 0 | M15: =L15*19% -> 0 | N15: =L15+M15 -> 0 | P15: =O15*19% -> 0 | Q15: =O15+P15 -> 0 | R15: NO APLICA | S15: N/A | T15: NO APLICA | V15: =U15*19% -> 0 | W15: =U15+V15 -> 0 | Y15: =X15*19% -> 0 | Z15: =X15+Y15 -> 0 | AB15: =AA15*19% -> 0 | AC15: =AA15+AB15 -> 0 | AE15: =AD15*19% -> 0 | AF15: =AD15+AE15 -> 0 | AH15: =AG15*19% -> 0 | AI15: =AG15+AH15 -> 0 | AK15: =AJ15*19% -> 0 | AL15: =AJ15+AK15 -> 0 | AN15: =AM15*19% -> 0 | AO15: =AM15+AN15 -> 0 | AQ15: =AP15*19% -> 0 | AR15: =AP15+AQ15 -> 0 | AT15: =AS15*19% -> 0 | AU15: =AS15+AT15 -> 0 | AW15: =AV15*19% -> 0 | AX15: =AV15+AW15 -> 0 | AZ15: =AY15*19% -> 0 | BA15: =AY15+AZ15 -> 0 | BC15: =BB15*19% -> 0 | BD15: =BB15+BC15 -> 0 | BF15: =BE15*19% -> 0 | BG15: =BE15+BF15 -> 0 | BI15: =BH15*19% -> 0 | BJ15: =BH15+BI15 -> 0 | BL15: =BK15*19% -> 0 | BM15: =BK15+BL15 -> 0 | BO15: =BN15*19% -> 0 | BP15: =BN15+BO15 -> 0 | BR15: =BQ15*19% -> 0 | BS15: =BQ15+BR15 -> 0 | BU15: =BT15*19% -> 0 | BV15: =BT15+BU15 -> 0 | BX15: =BW15*19% -> 0 | BY15: =BW15+BX15 -> 0 | CA15: =BZ15*19% -> 0 | CB15: =BZ15+CA15 -> 0 | CD15: =CC15*19% -> 0 | CE15: =CC15+CD15 -> 0 | CG15: =CF15*19% -> 0 | CH15: =CF15+CG15 -> 0
A16: 1.10 | B16: GUAYA FRENO PRINCIPAL | D16: =C16*19% -> 0 | E16: =C16+D16 -> 0 | G16: =F16*19% -> 0 | H16: =F16+G16 -> 0 | J16: =I16*19% -> 0 | K16: =I16+J16 -> 0 | M16: =L16*19% -> 0 | N16: =L16+M16 -> 0 | P16: =O16*19% -> 0 | Q16: =O16+P16 -> 0 | S16: =R16*19% -> 0 | T16: =R16+S16 -> 0 | V16: =U16*19% -> 0 | W16: =U16+V16 -> 0 | Y16: =X16*19% -> 0 | Z16: =X16+Y16 -> 0 | AB16: =AA16*19% -> 0 | AC16: =AA16+AB16 -> 0 | AE16: =AD16*19% -> 0 | AF16: =AD16+AE16 -> 0 | AH16: =AG16*19% -> 0 | AI16: =AG16+AH16 -> 0 | AK16: =AJ16*19% -> 0 | AL16: =AJ16+AK16 -> 0 | AN16: =AM16*19% -> 0 | AO16: =AM16+AN16 -> 0 | AQ16: =AP16*19% -> 0 | AR16: =AP16+AQ16 -> 0 | AT16: =AS16*19% -> 0 | AU16: =AS16+AT16 -> 0 | AW16: =AV16*19% -> 0 | AX16: =AV16+AW16 -> 0 | AZ16: =AY16*19% -> 0 | BA16: =AY16+AZ16 -> 0 | BC16: =BB16*19% -> 0 | BD16: =BB16+BC16 -> 0 | BF16: =BE16*19% -> 0 | BG16: =BE16+BF16 -> 0 | BI16: =BH16*19% -> 0 | BJ16: =BH16+BI16 -> 0 | BL16: =BK16*19% -> 0 | BM16: =BK16+BL16 -> 0 | BO16: =BN16*19% -> 0 | BP16: =BN16+BO16 -> 0 | BR16: =BQ16*19% -> 0 | BS16: =BQ16+BR16 -> 0 | BU16: =BT16*19% -> 0 | BV16: =BT16+BU16 -> 0 | BX16: =BW16*19% -> 0 | BY16: =BW16+BX16 -> 0 | CA16: =BZ16*19% -> 0 | CB16: =BZ16+CA16 -> 0 | CD16: =CC16*19% -> 0 | CE16: =CC16+CD16 -> 0 | CG16: =CF16*19% -> 0 | CH16: =CF16+CG16 -> 0
A17: 1.11 | B17: GUAYA FRENO TRASERA LH - RH | D17: =C17*19% -> 0 | E17: =C17+D17 -> 0 | G17: =F17*19% -> 0 | H17: =F17+G17 -> 0 | J17: =I17*19% -> 0 | K17: =I17+J17 -> 0 | M17: =L17*19% -> 0 | N17: =L17+M17 -> 0 | P17: =O17*19% -> 0 | Q17: =O17+P17 -> 0 | S17: =R17*19% -> 0 | T17: =R17+S17 -> 0 | V17: =U17*19% -> 0 | W17: =U17+V17 -> 0 | Y17: =X17*19% -> 0 | Z17: =X17+Y17 -> 0 | AB17: =AA17*19% -> 0 | AC17: =AA17+AB17 -> 0 | AE17: =AD17*19% -> 0 | AF17: =AD17+AE17 -> 0 | AH17: =AG17*19% -> 0 | AI17: =AG17+AH17 -> 0 | AK17: =AJ17*19% -> 0 | AL17: =AJ17+AK17 -> 0 | AN17: =AM17*19% -> 0 | AO17: =AM17+AN17 -> 0 | AQ17: =AP17*19% -> 0 | AR17: =AP17+AQ17 -> 0 | AT17: =AS17*19% -> 0 | AU17: =AS17+AT17 -> 0 | AW17: =AV17*19% -> 0 | AX17: =AV17+AW17 -> 0 | AZ17: =AY17*19% -> 0 | BA17: =AY17+AZ17 -> 0 | BC17: =BB17*19% -> 0 | BD17: =BB17+BC17 -> 0 | BF17: =BE17*19% -> 0 | BG17: =BE17+BF17 -> 0 | BI17: =BH17*19% -> 0 | BJ17: =BH17+BI17 -> 0 | BL17: =BK17*19% -> 0 | BM17: =BK17+BL17 -> 0 | BO17: =BN17*19% -> 0 | BP17: =BN17+BO17 -> 0 | BR17: =BQ17*19% -> 0 | BS17: =BQ17+BR17 -> 0 | BU17: =BT17*19% -> 0 | BV17: =BT17+BU17 -> 0 | BX17: =BW17*19% -> 0 | BY17: =BW17+BX17 -> 0 | CA17: =BZ17*19% -> 0 | CB17: =BZ17+CA17 -> 0 | CD17: =CC17*19% -> 0 | CE17: =CC17+CD17 -> 0 | CG17: =CF17*19% -> 0 | CH17: =CF17+CG17 -> 0
A18: 1.12 | B18: LIMITADOR DE LIQUIDO DE FRENOS | D18: =C18*19% -> 0 | E18: =C18+D18 -> 0 | G18: =F18*19% -> 0 | H18: =F18+G18 -> 0 | J18: =I18*19% -> 0 | K18: =I18+J18 -> 0 | M18: =L18*19% -> 0 | N18: =L18+M18 -> 0 | P18: =O18*19% -> 0 | Q18: =O18+P18 -> 0 | S18: =R18*19% -> 0 | T18: =R18+S18 -> 0 | V18: =U18*19% -> 0 | W18: =U18+V18 -> 0 | Y18: =X18*19% -> 0 | Z18: =X18+Y18 -> 0 | AB18: =AA18*19% -> 0 | AC18: =AA18+AB18 -> 0 | AE18: =AD18*19% -> 0 | AF18: =AD18+AE18 -> 0 | AH18: =AG18*19% -> 0 | AI18: =AG18+AH18 -> 0 | AK18: =AJ18*19% -> 0 | AL18: =AJ18+AK18 -> 0 | AN18: =AM18*19% -> 0 | AO18: =AM18+AN18 -> 0 | AQ18: =AP18*19% -> 0 | AR18: =AP18+AQ18 -> 0 | AT18: =AS18*19% -> 0 | AU18: =AS18+AT18 -> 0 | AW18: =AV18*19% -> 0 | AX18: =AV18+AW18 -> 0 | AZ18: =AY18*19% -> 0 | BA18: =AY18+AZ18 -> 0 | BC18: =BB18*19% -> 0 | BD18: =BB18+BC18 -> 0 | BF18: =BE18*19% -> 0 | BG18: =BE18+BF18 -> 0 | BI18: =BH18*19% -> 0 | BJ18: =BH18+BI18 -> 0 | BL18: =BK18*19% -> 0 | BM18: =BK18+BL18 -> 0 | BO18: =BN18*19% -> 0 | BP18: =BN18+BO18 -> 0 | BR18: =BQ18*19% -> 0 | BS18: =BQ18+BR18 -> 0 | BU18: =BT18*19% -> 0 | BV18: =BT18+BU18 -> 0 | BX18: =BW18*19% -> 0 | BY18: =BW18+BX18 -> 0 | CA18: =BZ18*19% -> 0 | CB18: =BZ18+CA18 -> 0 | CD18: =CC18*19% -> 0 | CE18: =CC18+CD18 -> 0 | CG18: =CF18*19% -> 0 | CH18: =CF18+CG18 -> 0
A19: 1.13 | B19: MORDAZAS DE FRENO DELANTERA | D19: =C19*19% -> 0 | E19: =C19+D19 -> 0 | G19: =F19*19% -> 0 | H19: =F19+G19 -> 0 | J19: =I19*19% -> 0 | K19: =I19+J19 -> 0 | M19: =L19*19% -> 0 | N19: =L19+M19 -> 0 | P19: =O19*19% -> 0 | Q19: =O19+P19 -> 0 | S19: =R19*19% -> 0 | T19: =R19+S19 -> 0 | V19: =U19*19% -> 0 | W19: =U19+V19 -> 0 | Y19: =X19*19% -> 0 | Z19: =X19+Y19 -> 0 | AB19: =AA19*19% -> 0 | AC19: =AA19+AB19 -> 0 | AE19: =AD19*19% -> 0 | AF19: =AD19+AE19 -> 0 | AH19: =AG19*19% -> 0 | AI19: =AG19+AH19 -> 0 | AK19: =AJ19*19% -> 0 | AL19: =AJ19+AK19 -> 0 | AN19: =AM19*19% -> 0 | AO19: =AM19+AN19 -> 0 | AQ19: =AP19*19% -> 0 | AR19: =AP19+AQ19 -> 0 | AT19: =AS19*19% -> 0 | AU19: =AS19+AT19 -> 0 | AW19: =AV19*19% -> 0 | AX19: =AV19+AW19 -> 0 | AZ19: =AY19*19% -> 0 | BA19: =AY19+AZ19 -> 0 | BC19: =BB19*19% -> 0 | BD19: =BB19+BC19 -> 0 | BF19: =BE19*19% -> 0 | BG19: =BE19+BF19 -> 0 | BI19: =BH19*19% -> 0 | BJ19: =BH19+BI19 -> 0 | BL19: =BK19*19% -> 0 | BM19: =BK19+BL19 -> 0 | BO19: =BN19*19% -> 0 | BP19: =BN19+BO19 -> 0 | BR19: =BQ19*19% -> 0 | BS19: =BQ19+BR19 -> 0 | BU19: =BT19*19% -> 0 | BV19: =BT19+BU19 -> 0 | BX19: =BW19*19% -> 0 | BY19: =BW19+BX19 -> 0 | CA19: =BZ19*19% -> 0 | CB19: =BZ19+CA19 -> 0 | CD19: =CC19*19% -> 0 | CE19: =CC19+CD19 -> 0 | CG19: =CF19*19% -> 0 | CH19: =CF19+CG19 -> 0
A20: 1.14 | B20: MORDAZAS DE FRENO TRASERA | D20: =C20*19% -> 0 | E20: =C20+D20 -> 0 | G20: =F20*19% -> 0 | H20: =F20+G20 -> 0 | J20: =I20*19% -> 0 | K20: =I20+J20 -> 0 | M20: =L20*19% -> 0 | N20: =L20+M20 -> 0 | P20: =O20*19% -> 0 | Q20: =O20+P20 -> 0 | S20: =R20*19% -> 0 | T20: =R20+S20 -> 0 | V20: =U20*19% -> 0 | W20: =U20+V20 -> 0 | Y20: =X20*19% -> 0 | Z20: =X20+Y20 -> 0 | AB20: =AA20*19% -> 0 | AC20: =AA20+AB20 -> 0 | AE20: =AD20*19% -> 0 | AF20: =AD20+AE20 -> 0 | AH20: =AG20*19% -> 0 | AI20: =AG20+AH20 -> 0 | AK20: =AJ20*19% -> 0 | AL20: =AJ20+AK20 -> 0 | AN20: =AM20*19% -> 0 | AO20: =AM20+AN20 -> 0 | AQ20: =AP20*19% -> 0 | AR20: =AP20+AQ20 -> 0 | AT20: =AS20*19% -> 0 | AU20: =AS20+AT20 -> 0 | AW20: =AV20*19% -> 0 | AX20: =AV20+AW20 -> 0 | AZ20: =AY20*19% -> 0 | BA20: =AY20+AZ20 -> 0 | BC20: =BB20*19% -> 0 | BD20: =BB20+BC20 -> 0 | BF20: =BE20*19% -> 0 | BG20: =BE20+BF20 -> 0 | BI20: =BH20*19% -> 0 | BJ20: =BH20+BI20 -> 0 | BL20: =BK20*19% -> 0 | BM20: =BK20+BL20 -> 0 | BO20: =BN20*19% -> 0 | BP20: =BN20+BO20 -> 0 | BR20: =BQ20*19% -> 0 | BS20: =BQ20+BR20 -> 0 | BU20: =BT20*19% -> 0 | BV20: =BT20+BU20 -> 0 | BX20: =BW20*19% -> 0 | BY20: =BW20+BX20 -> 0 | CA20: =BZ20*19% -> 0 | CB20: =BZ20+CA20 -> 0 | CD20: =CC20*19% -> 0 | CE20: =CC20+CD20 -> 0 | CG20: =CF20*19% -> 0 | CH20: =CF20+CG20 -> 0
A21: 1.15 | B21: PASTILLAS DELANTERAS (JUEGO) | D21: =C21*19% -> 0 | E21: =C21+D21 -> 0 | G21: =F21*19% -> 0 | H21: =F21+G21 -> 0 | J21: =I21*19% -> 0 | K21: =I21+J21 -> 0 | M21: =L21*19% -> 0 | N21: =L21+M21 -> 0 | P21: =O21*19% -> 0 | Q21: =O21+P21 -> 0 | R21: NO APLICA | S21: N/A | T21: NO APLICA | V21: =U21*19% -> 0 | W21: =U21+V21 -> 0 | Y21: =X21*19% -> 0 | Z21: =X21+Y21 -> 0 | AB21: =AA21*19% -> 0 | AC21: =AA21+AB21 -> 0 | AE21: =AD21*19% -> 0 | AF21: =AD21+AE21 -> 0 | AH21: =AG21*19% -> 0 | AI21: =AG21+AH21 -> 0 | AK21: =AJ21*19% -> 0 | AL21: =AJ21+AK21 -> 0 | AN21: =AM21*19% -> 0 | AO21: =AM21+AN21 -> 0 | AQ21: =AP21*19% -> 0 | AR21: =AP21+AQ21 -> 0 | AT21: =AS21*19% -> 0 | AU21: =AS21+AT21 -> 0 | AW21: =AV21*19% -> 0 | AX21: =AV21+AW21 -> 0 | AZ21: =AY21*19% -> 0 | BA21: =AY21+AZ21 -> 0 | BC21: =BB21*19% -> 0 | BD21: =BB21+BC21 -> 0 | BF21: =BE21*19% -> 0 | BG21: =BE21+BF21 -> 0 | BI21: =BH21*19% -> 0 | BJ21: =BH21+BI21 -> 0 | BL21: =BK21*19% -> 0 | BM21: =BK21+BL21 -> 0 | BO21: =BN21*19% -> 0 | BP21: =BN21+BO21 -> 0 | BR21: =BQ21*19% -> 0 | BS21: =BQ21+BR21 -> 0 | BU21: =BT21*19% -> 0 | BV21: =BT21+BU21 -> 0 | BX21: =BW21*19% -> 0 | BY21: =BW21+BX21 -> 0 | CA21: =BZ21*19% -> 0 | CB21: =BZ21+CA21 -> 0 | CD21: =CC21*19% -> 0 | CE21: =CC21+CD21 -> 0 | CG21: =CF21*19% -> 0 | CH21: =CF21+CG21 -> 0
A22: 1.16 | B22: PASTILLAS TRASERAS ( JUEGO) | D22: =C22*19% -> 0 | E22: =C22+D22 -> 0 | G22: =F22*19% -> 0 | H22: =F22+G22 -> 0 | J22: =I22*19% -> 0 | K22: =I22+J22 -> 0 | M22: =L22*19% -> 0 | N22: =L22+M22 -> 0 | P22: =O22*19% -> 0 | Q22: =O22+P22 -> 0 | R22: NO APLICA | S22: N/A | T22: NO APLICA | V22: =U22*19% -> 0 | W22: =U22+V22 -> 0 | Y22: =X22*19% -> 0 | Z22: =X22+Y22 -> 0 | AB22: =AA22*19% -> 0 | AC22: =AA22+AB22 -> 0 | AE22: =AD22*19% -> 0 | AF22: =AD22+AE22 -> 0 | AH22: =AG22*19% -> 0 | AI22: =AG22+AH22 -> 0 | AK22: =AJ22*19% -> 0 | AL22: =AJ22+AK22 -> 0 | AN22: =AM22*19% -> 0 | AO22: =AM22+AN22 -> 0 | AQ22: =AP22*19% -> 0 | AR22: =AP22+AQ22 -> 0 | AT22: =AS22*19% -> 0 | AU22: =AS22+AT22 -> 0 | AW22: =AV22*19% -> 0 | AX22: =AV22+AW22 -> 0 | AZ22: =AY22*19% -> 0 | BA22: =AY22+AZ22 -> 0 | BC22: =BB22*19% -> 0 | BD22: =BB22+BC22 -> 0 | BF22: =BE22*19% -> 0 | BG22: =BE22+BF22 -> 0 | BI22: =BH22*19% -> 0 | BJ22: =BH22+BI22 -> 0 | BL22: =BK22*19% -> 0 | BM22: =BK22+BL22 -> 0 | BO22: =BN22*19% -> 0 | BP22: =BN22+BO22 -> 0 | BR22: =BQ22*19% -> 0 | BS22: =BQ22+BR22 -> 0 | BU22: =BT22*19% -> 0 | BV22: =BT22+BU22 -> 0 | BX22: =BW22*19% -> 0 | BY22: =BW22+BX22 -> 0 | CA22: =BZ22*19% -> 0 | CB22: =BZ22+CA22 -> 0 | CD22: =CC22*19% -> 0 | CE22: =CC22+CD22 -> 0 | CG22: =CF22*19% -> 0 | CH22: =CF22+CG22 -> 0
A23: 1.17 | B23: SENSOR ABS DELANTERO | D23: =C23*19% -> 0 | E23: =C23+D23 -> 0 | G23: =F23*19% -> 0 | H23: =F23+G23 -> 0 | J23: =I23*19% -> 0 | K23: =I23+J23 -> 0 | M23: =L23*19% -> 0 | N23: =L23+M23 -> 0 | P23: =O23*19% -> 0 | Q23: =O23+P23 -> 0 | S23: =R23*19% -> 0 | T23: =R23+S23 -> 0 | V23: =U23*19% -> 0 | W23: =U23+V23 -> 0 | Y23: =X23*19% -> 0 | Z23: =X23+Y23 -> 0 | AB23: =AA23*19% -> 0 | AC23: =AA23+AB23 -> 0 | AE23: =AD23*19% -> 0 | AF23: =AD23+AE23 -> 0 | AH23: =AG23*19% -> 0 | AI23: =AG23+AH23 -> 0 | AK23: =AJ23*19% -> 0 | AL23: =AJ23+AK23 -> 0 | AN23: =AM23*19% -> 0 | AO23: =AM23+AN23 -> 0 | AQ23: =AP23*19% -> 0 | AR23: =AP23+AQ23 -> 0 | AT23: =AS23*19% -> 0 | AU23: =AS23+AT23 -> 0 | AW23: =AV23*19% -> 0 | AX23: =AV23+AW23 -> 0 | AZ23: =AY23*19% -> 0 | BA23: =AY23+AZ23 -> 0 | BC23: =BB23*19% -> 0 | BD23: =BB23+BC23 -> 0 | BF23: =BE23*19% -> 0 | BG23: =BE23+BF23 -> 0 | BI23: =BH23*19% -> 0 | BJ23: =BH23+BI23 -> 0 | BL23: =BK23*19% -> 0 | BM23: =BK23+BL23 -> 0 | BO23: =BN23*19% -> 0 | BP23: =BN23+BO23 -> 0 | BR23: =BQ23*19% -> 0 | BS23: =BQ23+BR23 -> 0 | BU23: =BT23*19% -> 0 | BV23: =BT23+BU23 -> 0 | BX23: =BW23*19% -> 0 | BY23: =BW23+BX23 -> 0 | CA23: =BZ23*19% -> 0 | CB23: =BZ23+CA23 -> 0 | CD23: =CC23*19% -> 0 | CE23: =CC23+CD23 -> 0 | CG23: =CF23*19% -> 0 | CH23: =CF23+CG23 -> 0
A24: 1.18 | B24: SENSOR ABS TRASERO | D24: =C24*19% -> 0 | E24: =C24+D24 -> 0 | G24: =F24*19% -> 0 | H24: =F24+G24 -> 0 | J24: =I24*19% -> 0 | K24: =I24+J24 -> 0 | M24: =L24*19% -> 0 | N24: =L24+M24 -> 0 | P24: =O24*19% -> 0 | Q24: =O24+P24 -> 0 | S24: =R24*19% -> 0 | T24: =R24+S24 -> 0 | V24: =U24*19% -> 0 | W24: =U24+V24 -> 0 | Y24: =X24*19% -> 0 | Z24: =X24+Y24 -> 0 | AB24: =AA24*19% -> 0 | AC24: =AA24+AB24 -> 0 | AE24: =AD24*19% -> 0 | AF24: =AD24+AE24 -> 0 | AH24: =AG24*19% -> 0 | AI24: =AG24+AH24 -> 0 | AK24: =AJ24*19% -> 0 | AL24: =AJ24+AK24 -> 0 | AN24: =AM24*19% -> 0 | AO24: =AM24+AN24 -> 0 | AQ24: =AP24*19% -> 0 | AR24: =AP24+AQ24 -> 0 | AT24: =AS24*19% -> 0 | AU24: =AS24+AT24 -> 0 | AW24: =AV24*19% -> 0 | AX24: =AV24+AW24 -> 0 | AZ24: =AY24*19% -> 0 | BA24: =AY24+AZ24 -> 0 | BC24: =BB24*19% -> 0 | BD24: =BB24+BC24 -> 0 | BF24: =BE24*19% -> 0 | BG24: =BE24+BF24 -> 0 | BI24: =BH24*19% -> 0 | BJ24: =BH24+BI24 -> 0 | BL24: =BK24*19% -> 0 | BM24: =BK24+BL24 -> 0 | BO24: =BN24*19% -> 0 | BP24: =BN24+BO24 -> 0 | BR24: =BQ24*19% -> 0 | BS24: =BQ24+BR24 -> 0 | BU24: =BT24*19% -> 0 | BV24: =BT24+BU24 -> 0 | BX24: =BW24*19% -> 0 | BY24: =BW24+BX24 -> 0 | CA24: =BZ24*19% -> 0 | CB24: =BZ24+CA24 -> 0 | CD24: =CC24*19% -> 0 | CE24: =CC24+CD24 -> 0 | CG24: =CF24*19% -> 0 | CH24: =CF24+CG24 -> 0
A25: 1.19 | B25: SENSOR DE STOP | D25: =C25*19% -> 0 | E25: =C25+D25 -> 0 | G25: =F25*19% -> 0 | H25: =F25+G25 -> 0 | J25: =I25*19% -> 0 | K25: =I25+J25 -> 0 | M25: =L25*19% -> 0 | N25: =L25+M25 -> 0 | P25: =O25*19% -> 0 | Q25: =O25+P25 -> 0 | S25: =R25*19% -> 0 | T25: =R25+S25 -> 0 | V25: =U25*19% -> 0 | W25: =U25+V25 -> 0 | Y25: =X25*19% -> 0 | Z25: =X25+Y25 -> 0 | AB25: =AA25*19% -> 0 | AC25: =AA25+AB25 -> 0 | AE25: =AD25*19% -> 0 | AF25: =AD25+AE25 -> 0 | AH25: =AG25*19% -> 0 | AI25: =AG25+AH25 -> 0 | AK25: =AJ25*19% -> 0 | AL25: =AJ25+AK25 -> 0 | AN25: =AM25*19% -> 0 | AO25: =AM25+AN25 -> 0 | AQ25: =AP25*19% -> 0 | AR25: =AP25+AQ25 -> 0 | AT25: =AS25*19% -> 0 | AU25: =AS25+AT25 -> 0 | AW25: =AV25*19% -> 0 | AX25: =AV25+AW25 -> 0 | AZ25: =AY25*19% -> 0 | BA25: =AY25+AZ25 -> 0 | BC25: =BB25*19% -> 0 | BD25: =BB25+BC25 -> 0 | BF25: =BE25*19% -> 0 | BG25: =BE25+BF25 -> 0 | BI25: =BH25*19% -> 0 | BJ25: =BH25+BI25 -> 0 | BL25: =BK25*19% -> 0 | BM25: =BK25+BL25 -> 0 | BO25: =BN25*19% -> 0 | BP25: =BN25+BO25 -> 0 | BR25: =BQ25*19% -> 0 | BS25: =BQ25+BR25 -> 0 | BU25: =BT25*19% -> 0 | BV25: =BT25+BU25 -> 0 | BX25: =BW25*19% -> 0 | BY25: =BW25+BX25 -> 0 | CA25: =BZ25*19% -> 0 | CB25: =BZ25+CA25 -> 0 | CD25: =CC25*19% -> 0 | CE25: =CC25+CD25 -> 0 | CG25: =CF25*19% -> 0 | CH25: =CF25+CG25 -> 0
A26: 2 | B26: MOTOR | C26: 0 | D26: 0 | E26: 0 | F26: 0 | G26: 0 | H26: 0 | I26: 0 | J26: 0 | K26: 0 | L26: 0 | M26: 0 | N26: 0 | O26: 0 | P26: 0 | Q26: 0 | R26: 0 | S26: 0 | T26: 0 | U26: 0 | V26: 0 | W26: 0 | X26: 0 | Y26: 0 | Z26: 0 | AA26: 0 | AB26: 0 | AC26: 0 | AD26: 0 | AE26: 0 | AF26: 0 | AG26: 0 | AH26: 0 | AI26: 0 | AJ26: 0 | AK26: 0 | AL26: 0 | AM26: 0 | AN26: 0 | AO26: 0 | AP26: 0 | AQ26: 0 | AR26: 0 | AS26: 0 | AT26: 0 | AU26: 0 | AV26: 0 | AW26: 0 | AX26: 0 | AY26: 0 | AZ26: 0 | BA26: 0 | BB26: 0 | BC26: 0 | BD26: 0 | BE26: 0 | BF26: 0 | BG26: 0 | BH26: 0 | BI26: 0 | BJ26: 0 | BK26: 0 | BL26: 0 | BM26: 0 | BN26: 0 | BO26: 0 | BP26: 0 | BQ26: 0 | BR26: 0 | BS26: 0 | BT26: 0 | BU26: 0 | BV26: 0 | BW26: 0 | BX26: 0 | BY26: 0 | BZ26: 0 | CA26: 0 | CB26: 0 | CC26: 0 | CD26: 0 | CE26: 0 | CF26: 0 | CG26: 0 | CH26: 0
A27: 2.1 | B27: PISTONES (JUEGO) | D27: =C27*19% -> 0 | E27: =C27+D27 -> 0 | G27: =F27*19% -> 0 | H27: =F27+G27 -> 0 | J27: =I27*19% -> 0 | K27: =I27+J27 -> 0 | M27: =L27*19% -> 0 | N27: =L27+M27 -> 0 | P27: =O27*19% -> 0 | Q27: =O27+P27 -> 0 | S27: =R27*19% -> 0 | T27: =R27+S27 -> 0 | V27: =U27*19% -> 0 | W27: =U27+V27 -> 0 | Y27: =X27*19% -> 0 | Z27: =X27+Y27 -> 0 | AB27: =AA27*19% -> 0 | AC27: =AA27+AB27 -> 0 | AE27: =AD27*19% -> 0 | AF27: =AD27+AE27 -> 0 | AH27: =AG27*19% -> 0 | AI27: =AG27+AH27 -> 0 | AK27: =AJ27*19% -> 0 | AL27: =AJ27+AK27 -> 0 | AN27: =AM27*19% -> 0 | AO27: =AM27+AN27 -> 0 | AQ27: =AP27*19% -> 0 | AR27: =AP27+AQ27 -> 0 | AT27: =AS27*19% -> 0 | AU27: =AS27+AT27 -> 0 | AW27: =AV27*19% -> 0 | AX27: =AV27+AW27 -> 0 | AZ27: =AY27*19% -> 0 | BA27: =AY27+AZ27 -> 0 | BC27: =BB27*19% -> 0 | BD27: =BB27+BC27 -> 0 | BF27: =BE27*19% -> 0 | BG27: =BE27+BF27 -> 0 | BI27: =BH27*19% -> 0 | BJ27: =BH27+BI27 -> 0 | BL27: =BK27*19% -> 0 | BM27: =BK27+BL27 -> 0 | BO27: =BN27*19% -> 0 | BP27: =BN27+BO27 -> 0 | BR27: =BQ27*19% -> 0 | BS27: =BQ27+BR27 -> 0 | BU27: =BT27*19% -> 0 | BV27: =BT27+BU27 -> 0 | BX27: =BW27*19% -> 0 | BY27: =BW27+BX27 -> 0 | CA27: =BZ27*19% -> 0 | CB27: =BZ27+CA27 -> 0 | CD27: =CC27*19% -> 0 | CE27: =CC27+CD27 -> 0 | CG27: =CF27*19% -> 0 | CH27: =CF27+CG27 -> 0
A28: 2.2 | B28: VALVULAS DE ADMISION( JUEGO) | D28: =C28*19% -> 0 | E28: =C28+D28 -> 0 | G28: =F28*19% -> 0 | H28: =F28+G28 -> 0 | J28: =I28*19% -> 0 | K28: =I28+J28 -> 0 | M28: =L28*19% -> 0 | N28: =L28+M28 -> 0 | P28: =O28*19% -> 0 | Q28: =O28+P28 -> 0 | S28: =R28*19% -> 0 | T28: =R28+S28 -> 0 | V28: =U28*19% -> 0 | W28: =U28+V28 -> 0 | Y28: =X28*19% -> 0 | Z28: =X28+Y28 -> 0 | AB28: =AA28*19% -> 0 | AC28: =AA28+AB28 -> 0 | AE28: =AD28*19% -> 0 | AF28: =AD28+AE28 -> 0 | AH28: =AG28*19% -> 0 | AI28: =AG28+AH28 -> 0 | AK28: =AJ28*19% -> 0 | AL28: =AJ28+AK28 -> 0 | AN28: =AM28*19% -> 0 | AO28: =AM28+AN28 -> 0 | AQ28: =AP28*19% -> 0 | AR28: =AP28+AQ28 -> 0 | AT28: =AS28*19% -> 0 | AU28: =AS28+AT28 -> 0 | AW28: =AV28*19% -> 0 | AX28: =AV28+AW28 -> 0 | AZ28: =AY28*19% -> 0 | BA28: =AY28+AZ28 -> 0 | BC28: =BB28*19% -> 0 | BD28: =BB28+BC28 -> 0 | BF28: =BE28*19% -> 0 | BG28: =BE28+BF28 -> 0 | BI28: =BH28*19% -> 0 | BJ28: =BH28+BI28 -> 0 | BL28: =BK28*19% -> 0 | BM28: =BK28+BL28 -> 0 | BO28: =BN28*19% -> 0 | BP28: =BN28+BO28 -> 0 | BR28: =BQ28*19% -> 0 | BS28: =BQ28+BR28 -> 0 | BU28: =BT28*19% -> 0 | BV28: =BT28+BU28 -> 0 | BX28: =BW28*19% -> 0 | BY28: =BW28+BX28 -> 0 | CA28: =BZ28*19% -> 0 | CB28: =BZ28+CA28 -> 0 | CD28: =CC28*19% -> 0 | CE28: =CC28+CD28 -> 0 | CG28: =CF28*19% -> 0 | CH28: =CF28+CG28 -> 0
A29: 2.3 | B29: VALVULAS DE ESCAPE (JUEGO) | D29: =C29*19% -> 0 | E29: =C29+D29 -> 0 | G29: =F29*19% -> 0 | H29: =F29+G29 -> 0 | J29: =I29*19% -> 0 | K29: =I29+J29 -> 0 | M29: =L29*19% -> 0 | N29: =L29+M29 -> 0 | P29: =O29*19% -> 0 | Q29: =O29+P29 -> 0 | S29: =R29*19% -> 0 | T29: =R29+S29 -> 0 | V29: =U29*19% -> 0 | W29: =U29+V29 -> 0 | Y29: =X29*19% -> 0 | Z29: =X29+Y29 -> 0 | AB29: =AA29*19% -> 0 | AC29: =AA29+AB29 -> 0 | AE29: =AD29*19% -> 0 | AF29: =AD29+AE29 -> 0 | AH29: =AG29*19% -> 0 | AI29: =AG29+AH29 -> 0 | AK29: =AJ29*19% -> 0 | AL29: =AJ29+AK29 -> 0 | AN29: =AM29*19% -> 0 | AO29: =AM29+AN29 -> 0 | AQ29: =AP29*19% -> 0 | AR29: =AP29+AQ29 -> 0 | AT29: =AS29*19% -> 0 | AU29: =AS29+AT29 -> 0 | AW29: =AV29*19% -> 0 | AX29: =AV29+AW29 -> 0 | AZ29: =AY29*19% -> 0 | BA29: =AY29+AZ29 -> 0 | BC29: =BB29*19% -> 0 | BD29: =BB29+BC29 -> 0 | BF29: =BE29*19% -> 0 | BG29: =BE29+BF29 -> 0 | BI29: =BH29*19% -> 0 | BJ29: =BH29+BI29 -> 0 | BL29: =BK29*19% -> 0 | BM29: =BK29+BL29 -> 0 | BO29: =BN29*19% -> 0 | BP29: =BN29+BO29 -> 0 | BR29: =BQ29*19% -> 0 | BS29: =BQ29+BR29 -> 0 | BU29: =BT29*19% -> 0 | BV29: =BT29+BU29 -> 0 | BX29: =BW29*19% -> 0 | BY29: =BW29+BX29 -> 0 | CA29: =BZ29*19% -> 0 | CB29: =BZ29+CA29 -> 0 | CD29: =CC29*19% -> 0 | CE29: =CC29+CD29 -> 0 | CG29: =CF29*19% -> 0 | CH29: =CF29+CG29 -> 0
A30: 2.4 | B30: ANILLOS (JUEGO) | D30: =C30*19% -> 0 | E30: =C30+D30 -> 0 | G30: =F30*19% -> 0 | H30: =F30+G30 -> 0 | J30: =I30*19% -> 0 | K30: =I30+J30 -> 0 | M30: =L30*19% -> 0 | N30: =L30+M30 -> 0 | P30: =O30*19% -> 0 | Q30: =O30+P30 -> 0 | S30: =R30*19% -> 0 | T30: =R30+S30 -> 0 | V30: =U30*19% -> 0 | W30: =U30+V30 -> 0 | Y30: =X30*19% -> 0 | Z30: =X30+Y30 -> 0 | AB30: =AA30*19% -> 0 | AC30: =AA30+AB30 -> 0 | AE30: =AD30*19% -> 0 | AF30: =AD30+AE30 -> 0 | AH30: =AG30*19% -> 0 | AI30: =AG30+AH30 -> 0 | AK30: =AJ30*19% -> 0 | AL30: =AJ30+AK30 -> 0 | AN30: =AM30*19% -> 0 | AO30: =AM30+AN30 -> 0 | AQ30: =AP30*19% -> 0 | AR30: =AP30+AQ30 -> 0 | AT30: =AS30*19% -> 0 | AU30: =AS30+AT30 -> 0 | AW30: =AV30*19% -> 0 | AX30: =AV30+AW30 -> 0 | AZ30: =AY30*19% -> 0 | BA30: =AY30+AZ30 -> 0 | BC30: =BB30*19% -> 0 | BD30: =BB30+BC30 -> 0 | BF30: =BE30*19% -> 0 | BG30: =BE30+BF30 -> 0 | BI30: =BH30*19% -> 0 | BJ30: =BH30+BI30 -> 0 | BL30: =BK30*19% -> 0 | BM30: =BK30+BL30 -> 0 | BO30: =BN30*19% -> 0 | BP30: =BN30+BO30 -> 0 | BR30: =BQ30*19% -> 0 | BS30: =BQ30+BR30 -> 0 | BU30: =BT30*19% -> 0 | BV30: =BT30+BU30 -> 0 | BX30: =BW30*19% -> 0 | BY30: =BW30+BX30 -> 0 | CA30: =BZ30*19% -> 0 | CB30: =BZ30+CA30 -> 0 | CD30: =CC30*19% -> 0 | CE30: =CC30+CD30 -> 0 | CG30: =CF30*19% -> 0 | CH30: =CF30+CG30 -> 0
A31: 2.5 | B31: ASPAS FAN CLUTHS | D31: =C31*19% -> 0 | E31: =C31+D31 -> 0 | G31: =F31*19% -> 0 | H31: =F31+G31 -> 0 | J31: =I31*19% -> 0 | K31: =I31+J31 -> 0 | M31: =L31*19% -> 0 | N31: =L31+M31 -> 0 | P31: =O31*19% -> 0 | Q31: =O31+P31 -> 0 | S31: =R31*19% -> 0 | T31: =R31+S31 -> 0 | V31: =U31*19% -> 0 | W31: =U31+V31 -> 0 | Y31: =X31*19% -> 0 | Z31: =X31+Y31 -> 0 | AB31: =AA31*19% -> 0 | AC31: =AA31+AB31 -> 0 | AE31: =AD31*19% -> 0 | AF31: =AD31+AE31 -> 0 | AH31: =AG31*19% -> 0 | AI31: =AG31+AH31 -> 0 | AK31: =AJ31*19% -> 0 | AL31: =AJ31+AK31 -> 0 | AN31: =AM31*19% -> 0 | AO31: =AM31+AN31 -> 0 | AQ31: =AP31*19% -> 0 | AR31: =AP31+AQ31 -> 0 | AT31: =AS31*19% -> 0 | AU31: =AS31+AT31 -> 0 | AW31: =AV31*19% -> 0 | AX31: =AV31+AW31 -> 0 | AZ31: =AY31*19% -> 0 | BA31: =AY31+AZ31 -> 0 | BC31: =BB31*19% -> 0 | BD31: =BB31+BC31 -> 0 | BF31: =BE31*19% -> 0 | BG31: =BE31+BF31 -> 0 | BI31: =BH31*19% -> 0 | BJ31: =BH31+BI31 -> 0 | BL31: =BK31*19% -> 0 | BM31: =BK31+BL31 -> 0 | BO31: =BN31*19% -> 0 | BP31: =BN31+BO31 -> 0 | BR31: =BQ31*19% -> 0 | BS31: =BQ31+BR31 -> 0 | BU31: =BT31*19% -> 0 | BV31: =BT31+BU31 -> 0 | BX31: =BW31*19% -> 0 | BY31: =BW31+BX31 -> 0 | CA31: =BZ31*19% -> 0 | CB31: =BZ31+CA31 -> 0 | CD31: =CC31*19% -> 0 | CE31: =CC31+CD31 -> 0 | CG31: =CF31*19% -> 0 | CH31: =CF31+CG31 -> 0
A32: 2.6 | B32: BASE PATIN TENSOR MONOCORREA | D32: =C32*19% -> 0 | E32: =C32+D32 -> 0 | G32: =F32*19% -> 0 | H32: =F32+G32 -> 0 | J32: =I32*19% -> 0 | K32: =I32+J32 -> 0 | M32: =L32*19% -> 0 | N32: =L32+M32 -> 0 | P32: =O32*19% -> 0 | Q32: =O32+P32 -> 0 | S32: =R32*19% -> 0 | T32: =R32+S32 -> 0 | V32: =U32*19% -> 0 | W32: =U32+V32 -> 0 | Y32: =X32*19% -> 0 | Z32: =X32+Y32 -> 0 | AB32: =AA32*19% -> 0 | AC32: =AA32+AB32 -> 0 | AE32: =AD32*19% -> 0 | AF32: =AD32+AE32 -> 0 | AH32: =AG32*19% -> 0 | AI32: =AG32+AH32 -> 0 | AK32: =AJ32*19% -> 0 | AL32: =AJ32+AK32 -> 0 | AN32: =AM32*19% -> 0 | AO32: =AM32+AN32 -> 0 | AQ32: =AP32*19% -> 0 | AR32: =AP32+AQ32 -> 0 | AT32: =AS32*19% -> 0 | AU32: =AS32+AT32 -> 0 | AW32: =AV32*19% -> 0 | AX32: =AV32+AW32 -> 0 | AZ32: =AY32*19% -> 0 | BA32: =AY32+AZ32 -> 0 | BC32: =BB32*19% -> 0 | BD32: =BB32+BC32 -> 0 | BF32: =BE32*19% -> 0 | BG32: =BE32+BF32 -> 0 | BI32: =BH32*19% -> 0 | BJ32: =BH32+BI32 -> 0 | BL32: =BK32*19% -> 0 | BM32: =BK32+BL32 -> 0 | BO32: =BN32*19% -> 0 | BP32: =BN32+BO32 -> 0 | BR32: =BQ32*19% -> 0 | BS32: =BQ32+BR32 -> 0 | BU32: =BT32*19% -> 0 | BV32: =BT32+BU32 -> 0 | BX32: =BW32*19% -> 0 | BY32: =BW32+BX32 -> 0 | CA32: =BZ32*19% -> 0 | CB32: =BZ32+CA32 -> 0 | CD32: =CC32*19% -> 0 | CE32: =CC32+CD32 -> 0 | CG32: =CF32*19% -> 0 | CH32: =CF32+CG32 -> 0
A33: 2.7 | B33: BOMBA DE ACEITE | D33: =C33*19% -> 0 | E33: =C33+D33 -> 0 | G33: =F33*19% -> 0 | H33: =F33+G33 -> 0 | J33: =I33*19% -> 0 | K33: =I33+J33 -> 0 | M33: =L33*19% -> 0 | N33: =L33+M33 -> 0 | P33: =O33*19% -> 0 | Q33: =O33+P33 -> 0 | R33: NO APLICA | S33: N/A | T33: NO APLICA | V33: =U33*19% -> 0 | W33: =U33+V33 -> 0 | Y33: =X33*19% -> 0 | Z33: =X33+Y33 -> 0 | AB33: =AA33*19% -> 0 | AC33: =AA33+AB33 -> 0 | AE33: =AD33*19% -> 0 | AF33: =AD33+AE33 -> 0 | AH33: =AG33*19% -> 0 | AI33: =AG33+AH33 -> 0 | AK33: =AJ33*19% -> 0 | AL33: =AJ33+AK33 -> 0 | AN33: =AM33*19% -> 0 | AO33: =AM33+AN33 -> 0 | AQ33: =AP33*19% -> 0 | AR33: =AP33+AQ33 -> 0 | AT33: =AS33*19% -> 0 | AU33: =AS33+AT33 -> 0 | AW33: =AV33*19% -> 0 | AX33: =AV33+AW33 -> 0 | AZ33: =AY33*19% -> 0 | BA33: =AY33+AZ33 -> 0 | BC33: =BB33*19% -> 0 | BD33: =BB33+BC33 -> 0 | BF33: =BE33*19% -> 0 | BG33: =BE33+BF33 -> 0 | BI33: =BH33*19% -> 0 | BJ33: =BH33+BI33 -> 0 | BL33: =BK33*19% -> 0 | BM33: =BK33+BL33 -> 0 | BO33: =BN33*19% -> 0 | BP33: =BN33+BO33 -> 0 | BR33: =BQ33*19% -> 0 | BS33: =BQ33+BR33 -> 0 | BU33: =BT33*19% -> 0 | BV33: =BT33+BU33 -> 0 | BX33: =BW33*19% -> 0 | BY33: =BW33+BX33 -> 0 | CA33: =BZ33*19% -> 0 | CB33: =BZ33+CA33 -> 0 | CD33: =CC33*19% -> 0 | CE33: =CC33+CD33 -> 0 | CG33: =CF33*19% -> 0 | CH33: =CF33+CG33 -> 0
A34: 2.8 | B34: BOMBA DE AGUA | D34: =C34*19% -> 0 | E34: =C34+D34 -> 0 | G34: =F34*19% -> 0 | H34: =F34+G34 -> 0 | J34: =I34*19% -> 0 | K34: =I34+J34 -> 0 | M34: =L34*19% -> 0 | N34: =L34+M34 -> 0 | P34: =O34*19% -> 0 | Q34: =O34+P34 -> 0 | S34: =R34*19% -> 0 | T34: =R34+S34 -> 0 | V34: =U34*19% -> 0 | W34: =U34+V34 -> 0 | Y34: =X34*19% -> 0 | Z34: =X34+Y34 -> 0 | AB34: =AA34*19% -> 0 | AC34: =AA34+AB34 -> 0 | AE34: =AD34*19% -> 0 | AF34: =AD34+AE34 -> 0 | AH34: =AG34*19% -> 0 | AI34: =AG34+AH34 -> 0 | AK34: =AJ34*19% -> 0 | AL34: =AJ34+AK34 -> 0 | AN34: =AM34*19% -> 0 | AO34: =AM34+AN34 -> 0 | AQ34: =AP34*19% -> 0 | AR34: =AP34+AQ34 -> 0 | AT34: =AS34*19% -> 0 | AU34: =AS34+AT34 -> 0 | AW34: =AV34*19% -> 0 | AX34: =AV34+AW34 -> 0 | AZ34: =AY34*19% -> 0 | BA34: =AY34+AZ34 -> 0 | BC34: =BB34*19% -> 0 | BD34: =BB34+BC34 -> 0 | BF34: =BE34*19% -> 0 | BG34: =BE34+BF34 -> 0 | BI34: =BH34*19% -> 0 | BJ34: =BH34+BI34 -> 0 | BL34: =BK34*19% -> 0 | BM34: =BK34+BL34 -> 0 | BO34: =BN34*19% -> 0 | BP34: =BN34+BO34 -> 0 | BR34: =BQ34*19% -> 0 | BS34: =BQ34+BR34 -> 0 | BU34: =BT34*19% -> 0 | BV34: =BT34+BU34 -> 0 | BX34: =BW34*19% -> 0 | BY34: =BW34+BX34 -> 0 | CA34: =BZ34*19% -> 0 | CB34: =BZ34+CA34 -> 0 | CD34: =CC34*19% -> 0 | CE34: =CC34+CD34 -> 0 | CG34: =CF34*19% -> 0 | CH34: =CF34+CG34 -> 0
A35: 2.9 | B35: CASQUETES BANCADA (JUEGO) | D35: =C35*19% -> 0 | E35: =C35+D35 -> 0 | G35: =F35*19% -> 0 | H35: =F35+G35 -> 0 | J35: =I35*19% -> 0 | K35: =I35+J35 -> 0 | M35: =L35*19% -> 0 | N35: =L35+M35 -> 0 | P35: =O35*19% -> 0 | Q35: =O35+P35 -> 0 | S35: =R35*19% -> 0 | T35: =R35+S35 -> 0 | V35: =U35*19% -> 0 | W35: =U35+V35 -> 0 | Y35: =X35*19% -> 0 | Z35: =X35+Y35 -> 0 | AB35: =AA35*19% -> 0 | AC35: =AA35+AB35 -> 0 | AE35: =AD35*19% -> 0 | AF35: =AD35+AE35 -> 0 | AH35: =AG35*19% -> 0 | AI35: =AG35+AH35 -> 0 | AK35: =AJ35*19% -> 0 | AL35: =AJ35+AK35 -> 0 | AN35: =AM35*19% -> 0 | AO35: =AM35+AN35 -> 0 | AQ35: =AP35*19% -> 0 | AR35: =AP35+AQ35 -> 0 | AT35: =AS35*19% -> 0 | AU35: =AS35+AT35 -> 0 | AW35: =AV35*19% -> 0 | AX35: =AV35+AW35 -> 0 | AZ35: =AY35*19% -> 0 | BA35: =AY35+AZ35 -> 0 | BC35: =BB35*19% -> 0 | BD35: =BB35+BC35 -> 0 | BF35: =BE35*19% -> 0 | BG35: =BE35+BF35 -> 0 | BI35: =BH35*19% -> 0 | BJ35: =BH35+BI35 -> 0 | BL35: =BK35*19% -> 0 | BM35: =BK35+BL35 -> 0 | BO35: =BN35*19% -> 0 | BP35: =BN35+BO35 -> 0 | BR35: =BQ35*19% -> 0 | BS35: =BQ35+BR35 -> 0 | BU35: =BT35*19% -> 0 | BV35: =BT35+BU35 -> 0 | BX35: =BW35*19% -> 0 | BY35: =BW35+BX35 -> 0 | CA35: =BZ35*19% -> 0 | CB35: =BZ35+CA35 -> 0 | CD35: =CC35*19% -> 0 | CE35: =CC35+CD35 -> 0 | CG35: =CF35*19% -> 0 | CH35: =CF35+CG35 -> 0
A36: 2.10 | B36: CASQUETES BIELA (JUEGO) | D36: =C36*19% -> 0 | E36: =C36+D36 -> 0 | G36: =F36*19% -> 0 | H36: =F36+G36 -> 0 | J36: =I36*19% -> 0 | K36: =I36+J36 -> 0 | M36: =L36*19% -> 0 | N36: =L36+M36 -> 0 | P36: =O36*19% -> 0 | Q36: =O36+P36 -> 0 | S36: =R36*19% -> 0 | T36: =R36+S36 -> 0 | V36: =U36*19% -> 0 | W36: =U36+V36 -> 0 | Y36: =X36*19% -> 0 | Z36: =X36+Y36 -> 0 | AB36: =AA36*19% -> 0 | AC36: =AA36+AB36 -> 0 | AE36: =AD36*19% -> 0 | AF36: =AD36+AE36 -> 0 | AH36: =AG36*19% -> 0 | AI36: =AG36+AH36 -> 0 | AK36: =AJ36*19% -> 0 | AL36: =AJ36+AK36 -> 0 | AN36: =AM36*19% -> 0 | AO36: =AM36+AN36 -> 0 | AQ36: =AP36*19% -> 0 | AR36: =AP36+AQ36 -> 0 | AT36: =AS36*19% -> 0 | AU36: =AS36+AT36 -> 0 | AW36: =AV36*19% -> 0 | AX36: =AV36+AW36 -> 0 | AZ36: =AY36*19% -> 0 | BA36: =AY36+AZ36 -> 0 | BC36: =BB36*19% -> 0 | BD36: =BB36+BC36 -> 0 | BF36: =BE36*19% -> 0 | BG36: =BE36+BF36 -> 0 | BI36: =BH36*19% -> 0 | BJ36: =BH36+BI36 -> 0 | BL36: =BK36*19% -> 0 | BM36: =BK36+BL36 -> 0 | BO36: =BN36*19% -> 0 | BP36: =BN36+BO36 -> 0 | BR36: =BQ36*19% -> 0 | BS36: =BQ36+BR36 -> 0 | BU36: =BT36*19% -> 0 | BV36: =BT36+BU36 -> 0 | BX36: =BW36*19% -> 0 | BY36: =BW36+BX36 -> 0 | CA36: =BZ36*19% -> 0 | CB36: =BZ36+CA36 -> 0 | CD36: =CC36*19% -> 0 | CE36: =CC36+CD36 -> 0 | CG36: =CF36*19% -> 0 | CH36: =CF36+CG36 -> 0
A37: 2.11 | B37: CORREA AIRE ACONDICIONADO | D37: =C37*19% -> 0 | E37: =C37+D37 -> 0 | G37: =F37*19% -> 0 | H37: =F37+G37 -> 0 | J37: =I37*19% -> 0 | K37: =I37+J37 -> 0 | M37: =L37*19% -> 0 | N37: =L37+M37 -> 0 | P37: =O37*19% -> 0 | Q37: =O37+P37 -> 0 | S37: =R37*19% -> 0 | T37: =R37+S37 -> 0 | V37: =U37*19% -> 0 | W37: =U37+V37 -> 0 | Y37: =X37*19% -> 0 | Z37: =X37+Y37 -> 0 | AB37: =AA37*19% -> 0 | AC37: =AA37+AB37 -> 0 | AE37: =AD37*19% -> 0 | AF37: =AD37+AE37 -> 0 | AH37: =AG37*19% -> 0 | AI37: =AG37+AH37 -> 0 | AK37: =AJ37*19% -> 0 | AL37: =AJ37+AK37 -> 0 | AN37: =AM37*19% -> 0 | AO37: =AM37+AN37 -> 0 | AQ37: =AP37*19% -> 0 | AR37: =AP37+AQ37 -> 0 | AT37: =AS37*19% -> 0 | AU37: =AS37+AT37 -> 0 | AW37: =AV37*19% -> 0 | AX37: =AV37+AW37 -> 0 | AZ37: =AY37*19% -> 0 | BA37: =AY37+AZ37 -> 0 | BC37: =BB37*19% -> 0 | BD37: =BB37+BC37 -> 0 | BF37: =BE37*19% -> 0 | BG37: =BE37+BF37 -> 0 | BI37: =BH37*19% -> 0 | BJ37: =BH37+BI37 -> 0 | BL37: =BK37*19% -> 0 | BM37: =BK37+BL37 -> 0 | BO37: =BN37*19% -> 0 | BP37: =BN37+BO37 -> 0 | BR37: =BQ37*19% -> 0 | BS37: =BQ37+BR37 -> 0 | BU37: =BT37*19% -> 0 | BV37: =BT37+BU37 -> 0 | BX37: =BW37*19% -> 0 | BY37: =BW37+BX37 -> 0 | CA37: =BZ37*19% -> 0 | CB37: =BZ37+CA37 -> 0 | CD37: =CC37*19% -> 0 | CE37: =CC37+CD37 -> 0 | CG37: =CF37*19% -> 0 | CH37: =CF37+CG37 -> 0
A38: 2.12 | B38: CORREA ALTERNADOR | D38: =C38*19% -> 0 | E38: =C38+D38 -> 0 | G38: =F38*19% -> 0 | H38: =F38+G38 -> 0 | J38: =I38*19% -> 0 | K38: =I38+J38 -> 0 | M38: =L38*19% -> 0 | N38: =L38+M38 -> 0 | P38: =O38*19% -> 0 | Q38: =O38+P38 -> 0 | S38: =R38*19% -> 0 | T38: =R38+S38 -> 0 | V38: =U38*19% -> 0 | W38: =U38+V38 -> 0 | Y38: =X38*19% -> 0 | Z38: =X38+Y38 -> 0 | AB38: =AA38*19% -> 0 | AC38: =AA38+AB38 -> 0 | AE38: =AD38*19% -> 0 | AF38: =AD38+AE38 -> 0 | AH38: =AG38*19% -> 0 | AI38: =AG38+AH38 -> 0 | AK38: =AJ38*19% -> 0 | AL38: =AJ38+AK38 -> 0 | AN38: =AM38*19% -> 0 | AO38: =AM38+AN38 -> 0 | AQ38: =AP38*19% -> 0 | AR38: =AP38+AQ38 -> 0 | AT38: =AS38*19% -> 0 | AU38: =AS38+AT38 -> 0 | AW38: =AV38*19% -> 0 | AX38: =AV38+AW38 -> 0 | AZ38: =AY38*19% -> 0 | BA38: =AY38+AZ38 -> 0 | BC38: =BB38*19% -> 0 | BD38: =BB38+BC38 -> 0 | BF38: =BE38*19% -> 0 | BG38: =BE38+BF38 -> 0 | BI38: =BH38*19% -> 0 | BJ38: =BH38+BI38 -> 0 | BL38: =BK38*19% -> 0 | BM38: =BK38+BL38 -> 0 | BO38: =BN38*19% -> 0 | BP38: =BN38+BO38 -> 0 | BR38: =BQ38*19% -> 0 | BS38: =BQ38+BR38 -> 0 | BU38: =BT38*19% -> 0 | BV38: =BT38+BU38 -> 0 | BX38: =BW38*19% -> 0 | BY38: =BW38+BX38 -> 0 | CA38: =BZ38*19% -> 0 | CB38: =BZ38+CA38 -> 0 | CD38: =CC38*19% -> 0 | CE38: =CC38+CD38 -> 0 | CG38: =CF38*19% -> 0 | CH38: =CF38+CG38 -> 0
A39: 2.13 | B39: CORREA HIDRAHULICO | D39: =C39*19% -> 0 | E39: =C39+D39 -> 0 | G39: =F39*19% -> 0 | H39: =F39+G39 -> 0 | J39: =I39*19% -> 0 | K39: =I39+J39 -> 0 | M39: =L39*19% -> 0 | N39: =L39+M39 -> 0 | P39: =O39*19% -> 0 | Q39: =O39+P39 -> 0 | S39: =R39*19% -> 0 | T39: =R39+S39 -> 0 | V39: =U39*19% -> 0 | W39: =U39+V39 -> 0 | Y39: =X39*19% -> 0 | Z39: =X39+Y39 -> 0 | AB39: =AA39*19% -> 0 | AC39: =AA39+AB39 -> 0 | AE39: =AD39*19% -> 0 | AF39: =AD39+AE39 -> 0 | AH39: =AG39*19% -> 0 | AI39: =AG39+AH39 -> 0 | AK39: =AJ39*19% -> 0 | AL39: =AJ39+AK39 -> 0 | AN39: =AM39*19% -> 0 | AO39: =AM39+AN39 -> 0 | AQ39: =AP39*19% -> 0 | AR39: =AP39+AQ39 -> 0 | AT39: =AS39*19% -> 0 | AU39: =AS39+AT39 -> 0 | AW39: =AV39*19% -> 0 | AX39: =AV39+AW39 -> 0 | AZ39: =AY39*19% -> 0 | BA39: =AY39+AZ39 -> 0 | BC39: =BB39*19% -> 0 | BD39: =BB39+BC39 -> 0 | BF39: =BE39*19% -> 0 | BG39: =BE39+BF39 -> 0 | BI39: =BH39*19% -> 0 | BJ39: =BH39+BI39 -> 0 | BL39: =BK39*19% -> 0 | BM39: =BK39+BL39 -> 0 | BO39: =BN39*19% -> 0 | BP39: =BN39+BO39 -> 0 | BR39: =BQ39*19% -> 0 | BS39: =BQ39+BR39 -> 0 | BU39: =BT39*19% -> 0 | BV39: =BT39+BU39 -> 0 | BX39: =BW39*19% -> 0 | BY39: =BW39+BX39 -> 0 | CA39: =BZ39*19% -> 0 | CB39: =BZ39+CA39 -> 0 | CD39: =CC39*19% -> 0 | CE39: =CC39+CD39 -> 0 | CG39: =CF39*19% -> 0 | CH39: =CF39+CG39 -> 0
A40: 2.14 | B40: EMPAQUE CULATA | D40: =C40*19% -> 0 | E40: =C40+D40 -> 0 | G40: =F40*19% -> 0 | H40: =F40+G40 -> 0 | J40: =I40*19% -> 0 | K40: =I40+J40 -> 0 | M40: =L40*19% -> 0 | N40: =L40+M40 -> 0 | P40: =O40*19% -> 0 | Q40: =O40+P40 -> 0 | S40: =R40*19% -> 0 | T40: =R40+S40 -> 0 | V40: =U40*19% -> 0 | W40: =U40+V40 -> 0 | Y40: =X40*19% -> 0 | Z40: =X40+Y40 -> 0 | AB40: =AA40*19% -> 0 | AC40: =AA40+AB40 -> 0 | AE40: =AD40*19% -> 0 | AF40: =AD40+AE40 -> 0 | AH40: =AG40*19% -> 0 | AI40: =AG40+AH40 -> 0 | AK40: =AJ40*19% -> 0 | AL40: =AJ40+AK40 -> 0 | AN40: =AM40*19% -> 0 | AO40: =AM40+AN40 -> 0 | AQ40: =AP40*19% -> 0 | AR40: =AP40+AQ40 -> 0 | AT40: =AS40*19% -> 0 | AU40: =AS40+AT40 -> 0 | AW40: =AV40*19% -> 0 | AX40: =AV40+AW40 -> 0 | AZ40: =AY40*19% -> 0 | BA40: =AY40+AZ40 -> 0 | BC40: =BB40*19% -> 0 | BD40: =BB40+BC40 -> 0 | BF40: =BE40*19% -> 0 | BG40: =BE40+BF40 -> 0 | BI40: =BH40*19% -> 0 | BJ40: =BH40+BI40 -> 0 | BL40: =BK40*19% -> 0 | BM40: =BK40+BL40 -> 0 | BO40: =BN40*19% -> 0 | BP40: =BN40+BO40 -> 0 | BR40: =BQ40*19% -> 0 | BS40: =BQ40+BR40 -> 0 | BU40: =BT40*19% -> 0 | BV40: =BT40+BU40 -> 0 | BX40: =BW40*19% -> 0 | BY40: =BW40+BX40 -> 0 | CA40: =BZ40*19% -> 0 | CB40: =BZ40+CA40 -> 0 | CD40: =CC40*19% -> 0 | CE40: =CC40+CD40 -> 0 | CG40: =CF40*19% -> 0 | CH40: =CF40+CG40 -> 0
A41: 2.15 | B41: EMPAQUE CARTER | D41: =C41*19% -> 0 | E41: =C41+D41 -> 0 | G41: =F41*19% -> 0 | H41: =F41+G41 -> 0 | J41: =I41*19% -> 0 | K41: =I41+J41 -> 0 | M41: =L41*19% -> 0 | N41: =L41+M41 -> 0 | P41: =O41*19% -> 0 | Q41: =O41+P41 -> 0 | S41: =R41*19% -> 0 | T41: =R41+S41 -> 0 | V41: =U41*19% -> 0 | W41: =U41+V41 -> 0 | Y41: =X41*19% -> 0 | Z41: =X41+Y41 -> 0 | AB41: =AA41*19% -> 0 | AC41: =AA41+AB41 -> 0 | AE41: =AD41*19% -> 0 | AF41: =AD41+AE41 -> 0 | AH41: =AG41*19% -> 0 | AI41: =AG41+AH41 -> 0 | AK41: =AJ41*19% -> 0 | AL41: =AJ41+AK41 -> 0 | AN41: =AM41*19% -> 0 | AO41: =AM41+AN41 -> 0 | AQ41: =AP41*19% -> 0 | AR41: =AP41+AQ41 -> 0 | AT41: =AS41*19% -> 0 | AU41: =AS41+AT41 -> 0 | AW41: =AV41*19% -> 0 | AX41: =AV41+AW41 -> 0 | AZ41: =AY41*19% -> 0 | BA41: =AY41+AZ41 -> 0 | BC41: =BB41*19% -> 0 | BD41: =BB41+BC41 -> 0 | BF41: =BE41*19% -> 0 | BG41: =BE41+BF41 -> 0 | BI41: =BH41*19% -> 0 | BJ41: =BH41+BI41 -> 0 | BL41: =BK41*19% -> 0 | BM41: =BK41+BL41 -> 0 | BO41: =BN41*19% -> 0 | BP41: =BN41+BO41 -> 0 | BR41: =BQ41*19% -> 0 | BS41: =BQ41+BR41 -> 0 | BU41: =BT41*19% -> 0 | BV41: =BT41+BU41 -> 0 | BX41: =BW41*19% -> 0 | BY41: =BW41+BX41 -> 0 | CA41: =BZ41*19% -> 0 | CB41: =BZ41+CA41 -> 0 | CD41: =CC41*19% -> 0 | CE41: =CC41+CD41 -> 0 | CG41: =CF41*19% -> 0 | CH41: =CF41+CG41 -> 0
...

Sheet REPUESTOS COMUNES
B2: OFERTA ECONÓMICA LOTE No. 2 - CAUCA | D2: REPUESTOS COMUNES
D3: MANTENIMIENTO VEHICULOS
D4: *** Incluye Costos Directos e Indirectos
B7: ITEM | C7: DESCRIPCION | D7: PRESENTACION | E7: SUBTOTAL | F7: IVA | G7: TOTAL
B8: 1 | C8: ACEITE 10W30 SINTETICO | D8: CUARTO | F8: =E8*19% -> 0 | G8: =E8+F8 -> 0
B9: 2 | C9: ACEITE 15W40 SINTETICO | D9: CUARTO | F9: =E9*19% -> 0 | G9: =E9+F9 -> 0
B10: 3 | C10: ACEITE CAJA 80W90 | D10: CUARTO | F10: =E10*19% -> 0 | G10: =E10+F10 -> 0
B11: 4 | C11: ACEITE 20W50 | D11: CUARTO | F11: =E11*19% -> 0 | G11: =E11+F11 -> 0
B12: 5 | C12: ACEITE HIDRAULICO SINTETICO | D12: CUARTO | F12: =E12*19% -> 0 | G12: =E12+F12 -> 0
B13: 6 | C13: ACEITE MOTOR 15W40 MINERAL | D13: CUARTO | F13: =E13*19% -> 0 | G13: =E13+F13 -> 0
B14: 7 | C14: ACEITE MOTOR 15W40 SINTETICO | D14: CUARTO | F14: =E14*19% -> 0 | G14: =E14+F14 -> 0
B15: 8 | C15: ACEITE MOTOR 5W30 SINTETICO | D15: CUARTO | F15: =E15*19% -> 0 | G15: =E15+F15 -> 0
B16: 9 | C16: ACEITE MOTOR 5W30 DIESEL | D16: CUARTO | F16: =E16*19% -> 0 | G16: =E16+F16 -> 0
B17: 10 | C17: ACEITE MOTOR 0W20 | D17: CUARTO | F17: =E17*19% -> 0 | G17: =E17+F17 -> 0
B18: 11 | C18: ACEITE MOTOR 10W40 | D18: CUARTO | F18: =E18*19% -> 0 | G18: =E18+F18 -> 0
B19: 12 | C19: ACEITE MOTOR 10W40 DIESEL | D19: CUARTO | F19: =E19*19% -> 0 | G19: =E19+F19 -> 0
... B69: 62 | C69: PERNOS DE SEGURIDAD | D69: UNIDAD | F69: =E69*19% -> 0 | G69: =E69+F69 -> 0
D70: TOTAL | E70: =SUBTOTAL(9,E8:E69) -> 0 | F70: =SUBTOTAL(9,F8:F69) -> 0 | G70: =SUBTOTAL(9,G8:G69) -> 0
B73: NOTA 1: La Oferta Económica deberá ser diligenciada de acuerdo a la actividad económica del proponente y cada ítem por valor unitario. NOTA 2: Para el diligenciamiento de la Oferta Económica deberán tenerse en cuentas las causales de rechazo del Pliego de Condiciones. NOTA 3: Los valores que se inlcuyan para cada bien y/o servicio no podrán superar los precios techo contenidos en el documento denominado "Complemento del Estudio del Sector Lote 2".

Sheet MANO DE OBRA
B2: OFERTA ECONÓMICA LOTE No. 2 - CAUCA MANO DE OBRA | E2: MANTENIMIENTO VEHICULOS
E3: *** Incluye Costos Directos e Indirectos
B4: ITEM | C4: ITEM MANO DE OBRA | E4: AUTOMOVIL | H4: CAMIONETA - CAMPEROS - CAMION MEDIANO
E5: SUBTOTAL | F5: IVA | G5: TOTAL | H5: SUBTOTAL | I5: IVA | J5: TOTAL
B6: 1 | C6: SISTEMA DE FRENOS | E6: 0 | F6: 0 | G6: 0 | H6: 0 | I6: 0 | J6: 0
B7: 1.1 | C7: CAMBIO BOMBA DE FRENOS PRINCIPAL | F7: =E7*19% -> 0 | G7: =E7+F7 -> 0 | I7: =H7*19% -> 0 | J7: =H7+I7 -> 0
B8: 1.2 | C8: CAMBIO DE BANDAS TRASERAS | F8: =E8*19% -> 0 | G8: =E8+F8 -> 0 | I8: =H8*19% -> 0 | J8: =H8+I8 -> 0
B9: 1.3 | C9: CAMBIO DE DISCOS DELANTEROS | F9: =E9*19% -> 0 | G9: =E9+F9 -> 0 | I9: =H9*19% -> 0 | J9: =H9+I9 -> 0
B10: 1.4 | C10: CAMBIO DE DISCOS TRASEROS | F10: =E10*19% -> 0 | G10: =E10+F10 -> 0 | I10: =H10*19% -> 0 | J10: =H10+I10 -> 0
B11: 1.5 | C11: CAMBIO DE PASTILLAS DELANTERAS Y/O TRASERAS | F11: =E11*19% -> 0 | G11: =E11+F11 -> 0 | I11: =H11*19% -> 0 | J11: =H11+I11 -> 0
B12: 1.6 | C12: CAMBIO DE SERVOFRENO (BOOSTER) | F12: =E12*19% -> 0 | G12: =E12+F12 -> 0 | I12: =H12*19% -> 0 | J12: =H12+I12 -> 0
B13: 1.7 | C13: CAMBIO EMPAQUETADURA MORDAZAS | F13: =E13*19% -> 0 | G13: =E13+F13 -> 0 | I13: =H13*19% -> 0 | J13: =H13+I13 -> 0
B14: 1.8 | C14: CAMBIO GUAYAS FRENO MANO COMPLETA | F14: =E14*19% -> 0 | G14: =E14+F14 -> 0 | I14: =H14*19% -> 0 | J14: =H14+I14 -> 0
B15: 1.9 | C15: CAMBIO LIMITADOR FRENO | F15: =E15*19% -> 0 | G15: =E15+F15 -> 0 | I15: =H15*19% -> 0 | J15: =H15+I15 -> 0
B16: 1.10 | C16: CAMBIO MANGUERA FRENO | F16: =E16*19% -> 0 | G16: =E16+F16 -> 0 | I16: =H16*19% -> 0 | J16: =H16+I16 -> 0
B17: 1.11 | C17: EMBUJAR MORDAZAS | F17: =E17*19% -> 0 | G17: =E17+F17 -> 0 | I17: =H17*19% -> 0 | J17: =H17+I17 -> 0
B18: 1.12 | C18: REPARACION GENERAL DE FRENOS | F18: =E18*19% -> 0 | G18: =E18+F18 -> 0 | I18: =H18*19% -> 0 | J18: =H18+I18 -> 0
B19: 1.13 | C19: TENSIONAR BANDAS DE FRENO | F19: =E19*19% -> 0 | G19: =E19+F19 -> 0 | I19: =H19*19% -> 0 | J19: =H19+I19 -> 0
B20: 2 | C20: SISTEMA DE SUSPENSION | F20: 0 | G20: 0 | I20: 0 | J20: 0
B21: 2.1 | C21: AJUSTE Y ENGRASE RODAMIENTOS DELANTEROS Y /O TRASEROS | F21: =E21*19% -> 0 | G21: =E21+F21 -> 0 | I21: =H21*19% -> 0 | J21: =H21+I21 -> 0
B22: 2.2 | C22: CAMBIO BOCIN DELANTERO | F22: =E22*19% -> 0 | G22: =E22+F22 -> 0 | I22: =H22*19% -> 0 | J22: =H22+I22 -> 0
B23: 2.3 | C23: CAMBIO BOCIN TRASERO | F23: =E23*19% -> 0 | G23: =E23+F23 -> 0 | I23: =H23*19% -> 0 | J23: =H23+I23 -> 0
B24: 2.4 | C24: CAMBIO BUJES BARRA ESTABILIZADORA DELANTERA | F24: =E24*19% -> 0 | G24: =E24+F24 -> 0 | I24: =H24*19% -> 0 | J24: =H24+I24 -> 0
B25: 2.5 | C25: CAMBIO BUJES BARRA ESTABILIZADORA TRASERA | F25: =E25*19% -> 0 | G25: =E25+F25 -> 0 | I25: =H25*19% -> 0 | J25: =H25+I25 -> 0
B26: 2.6 | C26: CAMBIO DE BUJES TEMPLETES TRASEROS | F26: =E26*19% -> 0 | G26: =E26+F26 -> 0 | I26: =H26*19% -> 0 | J26: =H26+I26 -> 0
B27: 2.7 | C27: CAMBIO DE PORTA MANGUETAS DELANTERAS | F27: =E27*19% -> 0 | G27: =E27+F27 -> 0 | I27: =H27*19% -> 0 | J27: =H27+I27 -> 0
B28: 2.8 | C28: CAMBIO DE ROTULA SUPERIOR O INFERIOR | F28: =E28*19% -> 0 | G28: =E28+F28 -> 0 | I28: =H28*19% -> 0 | J28: =H28+I28 -> 0
B29: 2.9 | C29: CAMBIO DE TIJERA INFERIOR DELANTERA | F29: =E29*19% -> 0 | G29: =E29+F29 -> 0 | I29: =H29*19% -> 0 | J29: =H29+I29 -> 0
B30: 2.10 | C30: CAMBIO DE TIJERA SUPERIOR DELANTERA | F30: =E30*19% -> 0 | G30: =E30+F30 -> 0 | I30: =H30*19% -> 0 | J30: =H30+I30 -> 0
B31: 2.11 | C31: CAMBIO JUEGO AMORTIGUADORES DELANTEROS CON ESPIRAL | F31: =E31*19% -> 0 | G31: =E31+F31 -> 0 | I31: =H31*19% -> 0 | J31: =H31+I31 -> 0
B32: 2.12 | C32: CAMBIO JUEGO AMORTIGUADORES SIN ESPIRAL | F32: =E32*19% -> 0 | G32: =E32+F32 -> 0 | I32: =H32*19% -> 0 | J32: =H32+I32 -> 0
... B38: 2.18 | C38: REPARACION GENERAL TREN DELANTERO | F38: =E38*19% -> 0 | G38: =E38+F38 -> 0 | I38: =H38*19% -> 0 | J38: =H38+I38 -> 0
B39: 3 | C39: SISTEMA DE DIRECCION | F39: 0 | G39: 0 | I39: 0 | J39: 0
B40: 3.1 | C40: ALINEACION DIRECCION (COMPLETA) | F40: =E40*19% -> 0 | G40: =E40+F40 -> 0 | I40: =H40*19% -> 0 | J40: =H40+I40 -> 0
B41: 3.2 | C41: BALANCEO (COMPLETO) | F41: =E41*19% -> 0 | G41: =E41+F41 -> 0 | I41: =H41*19% -> 0 | J41: =H41+I41 -> 0
B42: 3.3 | C42: CAMBIO AXIAL POR RUEDA | F42: =E42*19% -> 0 | G42: =E42+F42 -> 0 | I42: =H42*19% -> 0 | J42: =H42+I42 -> 0
B43: 3.4 | C43: CAMBIO BOMBA DIRECCION HIDRAULICO | F43: =E43*19% -> 0 | G43: =E43+F43 -> 0 | I43: =H43*19% -> 0 | J43: =H43+I43 -> 0
B44: 3.5 | C44: CAMBIO CAJA DE DIRECCION | F44: =E44*19% -> 0 | G44: =E44+F44 -> 0 | I44: =H44*19% -> 0 | J44: =H44+I44 -> 0
B45: 3.6 | C45: DESMONTAR Y EMPAQUETAR BOMBA DIRECCION HIDRAULCA (INCLUIDO EMPAQUETADURA) | F45: =E45*19% -> 0 | G45: =E45+F45 -> 0 | I45: =H45*19% -> 0 | J45: =H45+I45 -> 0
B46: 3.7 | C46: DESMONTAR Y EMPAQUETAR CAJA DIRECCION HIDRAULICA ( INCLUIDO EMPAQUETADURA) | F46: =E46*19% -> 0 | G46: =E46+F46 -> 0 | I46: =H46*19% -> 0 | J46: =H46+I46 -> 0
...

Sheet TOTAL PORTAFOLIO
B2: TOTAL PORTAFOLIO DE SERVICIOS Y REPUESTOS
B3: MANTENIMIENTO PARQUE AUTOMOTOR
B4: LOTE No. 2 - CAUCA
C6: REPUESTOS
B7: ITEM | C7: DESCRIPCIÓN | D7: SUBTOTAL | E7: IVA | F7: VALOR PROPUESTA
B8: 1 | C8: CHEVROLET AVEO EMOTION MOD. 2011 | D8: =F8/1.19 -> 0 | E8: =F8-D8 -> 0 | F8: =REPUESTOS!E181 -> 0
B9: 2 | C9: CHEVROLET SPARK 1.0 | D9: =F9/1.19 -> 0 | E9: =F9-D9 -> 0 | F9: =REPUESTOS!H181 -> 0
B10: 3 | C10: CHEVROLET COLORADO | D10: =F10/1.19 -> 0 | E10: =F10-D10 -> 0 | F10: =REPUESTOS!K181 -> 0
B11: 4 | C11: CHEVROLET D-MAX 3.5 GASOLINA | D11: =F11/1.19 -> 0 | E11: =F11-D11 -> 0 | F11: =REPUESTOS!N181 -> 0
B12: 5 | C12: CHEVROLET D-MAX 3.0 DIESEL | D12: =F12/1.19 -> 0 | E12: =F12-D12 -> 0 | F12: =REPUESTOS!Q181 -> 0
B13: 6 | C13: CHEVROLET NPR MOD. 2008 | D13: =F13/1.19 -> 0 | E13: =F13-D13 -> 0 | F13: =REPUESTOS!T181 -> 0
B14: 7 | C14: DODGE RAM 2500 MOD. 2014 | D14: =F14/1.19 -> 0 | E14: =F14-D14 -> 0 | F14: =REPUESTOS!W181 -> 0
B15: 8 | C15: FORD RANGER XL MOD. 2023 | D15: =F15/1.19 -> 0 | E15: =F15-D15 -> 0 | F15: =REPUESTOS!Z181 -> 0
B16: 9 | C16: CAMIONETA FOTON BJ2037 MOD. 2019 | D16: =F16/1.19 -> 0 | E16: =F16-D16 -> 0 | F16: =REPUESTOS!AC181 -> 0
B17: 10 | C17: HYUNDAI TUCSON IX35 MOD. 2013 | D17: =F17/1.19 -> 0 | E17: =F17-D17 -> 0 | F17: =REPUESTOS!AF181 -> 0
B18: 11 | C18: MAZDA B2.6 MOD. 2009 | D18: =F18/1.19 -> 0 | E18: =F18-D18 -> 0 | F18: =REPUESTOS!AI181 -> 0
B19: 12 | C19: MAZDA B26C47 MOD. 2008 | D19: =F19/1.19 -> 0 | E19: =F19-D19 -> 0 | F19: =REPUESTOS!AL181 -> 0
B20: 13 | C20: NISSAN D22 2.5 | D20: =F20/1.19 -> 0 | E20: =F20-D20 -> 0 | F20: =REPUESTOS!AO181 -> 0
B21: 14 | C21: NISSAN NP300 2.5 | D21: =F21/1.19 -> 0 | E21: =F21-D21 -> 0 | F21: =REPUESTOS!AR181 -> 0
B22: 15 | C22: NISSAN NAVARA | D22: =F22/1.19 -> 0 | E22: =F22-D22 -> 0 | F22: =REPUESTOS!AU181 -> 0
B23: 16 | C23: NISSAN VERSA MOD. 2015 | D23: =F23/1.19 -> 0 | E23: =F23-D23 -> 0 | F23: =REPUESTOS!AX181 -> 0
B24: 17 | C24: NISSAN X-TRAIL 2.2 DIESEL MOD. 2014 | D24: =F24/1.19 -> 0 | E24: =F24-D24 -> 0 | F24: =REPUESTOS!BA181 -> 0
B25: 18 | C25: RENAULT LOGAN | D25: =F25/1.19 -> 0 | E25: =F25-D25 -> 0 | F25: =REPUESTOS!BD181 -> 0
B26: 19 | C26: RENAULT SCALA | D26: =F26/1.19 -> 0 | E26: =F26-D26 -> 0 | F26: =REPUESTOS!BG181 -> 0
B27: 20 | C27: RENAULT DUSTER 2.0/OROCH | D27: =F27/1.19 -> 0 | E27: =F27-D27 -> 0 | F27: =REPUESTOS!BJ181 -> 0
B28: 21 | C28: RENAULT DUSTER 1.6 | D28: =F28/1.19 -> 0 | E28: =F28-D28 -> 0 | F28: =REPUESTOS!BM181 -> 0
B29: 22 | C29: SUZUKI ALTO | D29: =F29/1.19 -> 0 | E29: =F29-D29 -> 0 | F29: =REPUESTOS!BP181 -> 0
B30: 23 | C30: TOYOTA 4RUNNER MOD. 2019 | D30: =F30/1.19 -> 0 | E30: =F30-D30 -> 0 | F30: =REPUESTOS!BS181 -> 0
B31: 24 | C31: TOYOTA FORTUNER 2.4 DIESEL MOD. 2023 | D31: =F31/1.19 -> 0 | E31: =F31-D31 -> 0 | F31: =REPUESTOS!BV181 -> 0
B32: 25 | C32: TOYOTA HILUX 2.4 DIESEL | D32: =F32/1.19 -> 0 | E32: =F32-D32 -> 0 | F32: =REPUESTOS!BY181 -> 0
B33: 26 | C33: TOYOTA PRADO TX-L | D33: =F33/1.19 -> 0 | E33: =F33-D33 -> 0 | F33: =REPUESTOS!CB181 -> 0
B34: 27 | C34: TOYOTA PRADO VX 3.4 GASOLINA | D34: =F34/1.19 -> 0 | E34: =F34-D34 -> 0 | F34: =REPUESTOS!CE181 -> 0
B35: 28 | C35: TOYOTA TOCOMA 3.5 GASOLI MOD. 2020 | D35: =F35/1.19 -> 0 | E35: =F35-D35 -> 0 | F35: =REPUESTOS!CH181 -> 0
B36: TOTAL PORTAFOLIO - REPUESTOS | D36: =SUM(D8:D35) -> 0 | E36: =SUM(E8:E35) -> 0 | F36: =SUM(F8:F35) -> 0
C38: REPUESTOS COMUNES
B39: ITEM | C39: DESCRIPCIÓN | D39: SUBTOTAL | E39: IVA | F39: VALOR PROPUESTA
B40: 1 | C40: REPUESTOS COMUNES | D40: =F40/1.19 -> 0 | E40: =F40-D40 -> 0 | F40: ='REPUESTOS COMUNES'!G70 -> 0
