Workbook

Sheet Repuestos Específicos
A1: SUBDIRECCIÓN REGIONAL DE APOYO DEL PACÍFICO | D1: Prestar el servicio de mantenimiento preventivo y correctivo con suministro de repuestos, de los vehículos automotores adscritos a la Fiscalía General de la Nación -Subdirección Regional del Pacifico (Lote 3)
B2: PRECIOS TECHO LOTE 3 | C2: REPUESTOS VEHICULOS MULTIMARCAS MANTENIMIENTO VEHICULOS | R2: REPUESTOS VEHICULOS MULTIMARCAS MANTENIMIENTO VEHICULOS | AG2: REPUESTOS VEHICULOS MULTIMARCAS MANTENIMIENTO VEHICULOS | AV2: REPUESTOS VEHICULOS MULTIMARCAS MANTENIMIENTO VEHICULOS | BK2: REPUESTOS VEHICULOS MULTIMARCAS MANTENIMIENTO VEHICULOS | BZ2: REPUESTOS VEHICULOS MULTIMARCAS MANTENIMIENTO VEHICULOS | CO2: REPUESTOS VEHICULOS MULTIMARCAS MANTENIMIENTO VEHICULOS
C3: ***Todos los precios incluyen IVA, Costos Directos e Indirectos y están expresados en pesos colombianos | R3: *** Todos los precios incluyen IVA, Costos Directos e Indirectos | AG3: *** Todos los precios incluyen IVA, Costos Directos e Indirectos | AV3: *** Todos los precios incluyen IVA, Costos Directos e Indirectos | BK3: *** Todos los precios incluyen IVA, Costos Directos e Indirectos | BZ3: *** Todos los precios incluyen IVA, Costos Directos e Indirectos | CO3: *** Todos los precios incluyen IVA, Costos Directos e Indirectos
B4: DESCRIPCION | C4: CHEVROLET AVEO 1.6 MOD. 2012 | F4: CHEVROLET CHEVY TAXY 1.3 MOD. 2000 | I4: CHEVROLET CORSA 1.6 MOD. 2005 | L4: CHEVROLET SONIC MOD. 2016 | O4: CHEVROLET TRACKER 1.8 MOD. 2016 | R4: CHEVROLET TRACKER 1.2 MOD. 2025 | U4: CHEVROLET VITARA 1.6 MOD. 2011 | X4: CHEVROLET D-MAX 3.0 | AA4: CHEVROLET D-MAX 2.5 | AD4: DODGE RAM 2500 MOD. 2014 | AG4: FORD FIESTA 1.6 MOD. 2014 | AJ4: CAMIONETA JAC HFC1040KN MOD. 2017 | AM4: JEEP WRANGLER MOD. 1998 | AP4: CAMIONETA MAZDA B26C47 | AS4: MITSUBISHI MONTERO L146 | AV4: NISSAN FRONTIER D22 | AY4: NISSAN FRONTIER NP300 2.5 | BB4: NISSAN KICKS MOD. 2022 | BE4: NISSAN NAVARA | BH4: NISSAN V-DRIVE MOD. 2024 | BK4: NISSAN VERSA | BN4: RENAULT LOGAN | BQ4: RENAULT STPWAY | BT4: RENAULT DUSTER / OROCH 2.0 | BW4: RENAULT DUSTER 1.4 | BZ4: TOYOTA FORTUNER 2.4 MOD. 2024 | CC4: TOYOTA FORTUNER 4.0 GAS. MOD. 2011 | CF4: TOYOTA HILUX 2.4 DIESEL MOD. 2020 | CI4: TOYOTA LAND CRUISER 200 MOD. 2013 | CL4: TOYOTA PRADO 4.0 GAS. | CO4: TOYOTA PRADO 3.0 DIE | CR4: TOYOTA PRADO TXL
C5: Cotización 1 (Incl. IVA) | D5: Cotización 2 (Incl. IVA) | E5: Precios Techo (Incl. IVA) | F5: Cotización 1 (Incl. IVA) | G5: Cotización 2 (Incl. IVA) | H5: Precios Techo (Incl. IVA) | I5: Cotización 1 (Incl. IVA) | J5: Cotización 2 (Incl. IVA) | K5: Precios Techo (Incl. IVA) | L5: Cotización 1 (Incl. IVA) | M5: Cotización 2 (Incl. IVA) | N5: Precios Techo (Incl. IVA) | O5: Cotización 1 (Incl. IVA) | P5: Cotización 2 (Incl. IVA) | Q5: Precios Techo (Incl. IVA) | R5: Cotización 1 (Incl. IVA) | S5: Cotización 2 (Incl. IVA) | T5: Precios Techo (Incl. IVA) | U5: Cotización 1 (Incl. IVA) | V5: Cotización 2 (Incl. IVA) | W5: Precios Techo (Incl. IVA) | X5: Cotización 1 (Incl. IVA) | Y5: Cotización 2 (Incl. IVA) | Z5: Precios Techo (Incl. IVA) | AA5: Cotización 1 (Incl. IVA) | AB5: Cotización 2 (Incl. IVA) | AC5: Precios Techo (Incl. IVA) | AD5: Cotización 1 (Incl. IVA) | AE5: Cotización 2 (Incl. IVA) | AF5: Precios Techo (Incl. IVA) | AG5: Cotización 1 (Incl. IVA) | AH5: Cotización 2 (Incl. IVA) | AI5: Precios Techo (Incl. IVA) | AJ5: Cotización 1 (Incl. IVA) | AK5: Cotización 2 (Incl. IVA) | AL5: Precios Techo (Incl. IVA) | AM5: Cotización 1 (Incl. IVA) | AN5: Cotización 2 (Incl. IVA) | AO5: Precios Techo (Incl. IVA) | AP5: Cotización 1 (Incl. IVA) | AQ5: Cotización 2 (Incl. IVA) | AR5: Precios Techo (Incl. IVA) | AS5: Cotización 1 (Incl. IVA) | AT5: Cotización 2 (Incl. IVA) | AU5: Precios Techo (Incl. IVA) | AV5: Cotización 1 (Incl. IVA) | AW5: Cotización 2 (Incl. IVA) | AX5: Precios Techo (Incl. IVA) | AY5: Cotización 1 (Incl. IVA) | AZ5: Cotización 2 (Incl. IVA) | BA5: Precios Techo (Incl. IVA) | BB5: Cotización 1 (Incl. IVA) | BC5: Cotización 2 (Incl. IVA) | BD5: Precios Techo (Incl. IVA) | BE5: Cotización 1 (Incl. IVA) | BF5: Cotización 2 (Incl. IVA) | BG5: Precios Techo (Incl. IVA) | BH5: Cotización 1 (Incl. IVA) | BI5: Cotización 2 (Incl. IVA) | BJ5: Precios Techo (Incl. IVA) | BK5: Cotización 1 (Incl. IVA) | BL5: Cotización 2 (Incl. IVA) | BM5: Precios Techo (Incl. IVA) | BN5: Cotización 1 (Incl. IVA) | BO5: Cotización 2 (Incl. IVA) | BP5: Precios Techo (Incl. IVA) | BQ5: Cotización 1 (Incl. IVA) | BR5: Cotización 2 (Incl. IVA) | BS5: Precios Techo (Incl. IVA) | BT5: Cotización 1 (Incl. IVA) | BU5: Cotización 2 (Incl. IVA) | BV5: Precios Techo (Incl. IVA) | BW5: Cotización 1 (Incl. IVA) | BX5: Cotización 2 (Incl. IVA) | BY5: Precios Techo (Incl. IVA) | BZ5: Cotización 1 (Incl. IVA) | CA5: Cotización 2 (Incl. IVA) | CB5: Precios Techo (Incl. IVA) | CC5: Cotización 1 (Incl. IVA) | CD5: Cotización 2 (Incl. IVA) | CE5: Precios Techo (Incl. IVA) | CF5: Cotización 1 (Incl. IVA) | CG5: Cotización 2 (Incl. IVA) | CH5: Precios Techo (Incl. IVA) | CI5: Cotización 1 (Incl. IVA) | CJ5: Cotización 2 (Incl. IVA) | CK5: Precios Techo (Incl. IVA) | CL5: Cotización 1 (Incl. IVA) | CM5: Cotización 2 (Incl. IVA) | CN5: Precios Techo (Incl. IVA) | CO5: Cotización 1 (Incl. IVA) | CP5: Cotización 2 (Incl. IVA) | CQ5: Precios Techo (Incl. IVA) | CR5: Cotización 1 (Incl. IVA) | CS5: Cotización 2 (Incl. IVA) | CT5: Precios Techo (Incl. IVA)
A6: 1 | B6: FRENOS | C6: 0 | D6: 0 | E6: 0 | F6: 0 | G6: 0 | H6: 0 | I6: 0 | J6: 0 | K6: 0 | L6: 0 | M6: 0 | N6: 0 | O6: 0 | P6: 0 | Q6: 0 | R6: 0 | S6: 0 | T6: 0 | U6: 0 | V6: 0 | W6: 0 | X6: 0 | Y6: 0 | Z6: 0 | AA6: 0 | AB6: 0 | AC6: 0 | AD6: 0 | AE6: 0 | AF6: 0 | AG6: 0 | AH6: 0 | AI6: 0 | AJ6: 0 | AK6: 0 | AL6: 0 | AM6: 0 | AN6: 0 | AO6: 0 | AP6: 0 | AQ6: 0 | AR6: 0 | AS6: 0 | AT6: 0 | AU6: 0 | AV6: 0 | AW6: 0 | AX6: 0 | AY6: 0 | AZ6: 0 | BA6: 0 | BB6: 0 | BC6: 0 | BD6: 0 | BE6: 0 | BF6: 0 | BG6: 0 | BH6: 0 | BI6: 0 | BJ6: 0 | BK6: 0 | BL6: 0 | BM6: 0 | BN6: 0 | BO6: 0 | BP6: 0 | BQ6: 0 | BR6: 0 | BS6: 0 | BT6: 0 | BU6: 0 | BV6: 0 | BW6: 0 | BX6: 0 | BY6: 0 | BZ6: 0 | CA6: 0 | CB6: 0 | CC6: 0 | CD6: 0 | CE6: 0 | CF6: 0 | CG6: 0 | CH6: 0 | CI6: 0 | CJ6: 0 | CK6: 0 | CL6: 0 | CM6: 0 | CN6: 0 | CO6: 0 | CP6: 0 | CQ6: 0 | CR6: 0 | CS6: 0 | CT6: 0
A7: 1.1 | B7: ANTIRRUIDOS PASTILLAS (JUEGO) | C7: 33320 | D7: 77350 | E7: =ROUND(AVERAGE(C7:D7),1) -> 55335 | F7: 33320 | G7: 77707.12 | H7: =ROUND(AVERAGE(F7:G7),1) -> 55513.6 | I7: 33320 | J7: 77528.56 | K7: =ROUND(AVERAGE(I7:J7),1) -> 55424.3 | L7: 33320 | M7: 79675.024 | N7: =ROUND(AVERAGE(L7:M7),1) -> 56497.5 | O7: 41650 | P7: 79315.275 | Q7: =ROUND(AVERAGE(O7:P7),1) -> 60482.6 | R7: 41650 | S7: 80225.803 | T7: =ROUND(AVERAGE(R7:S7),1) -> 60937.9 | U7: 41650 | V7: 80057.25 | W7: =ROUND(AVERAGE(U7:V7),1) -> 60853.6 | X7: 41650 | Y7: 77350 | Z7: =ROUND(AVERAGE(X7:Y7),1) -> 59500 | AA7: 41650 | AB7: 79283.75 | AC7: =ROUND(AVERAGE(AA7:AB7),1) -> 60466.9 | AD7: 41650 | AE7: 77350 | AF7: =ROUND(AVERAGE(AD7:AE7),1) -> 59500 | AG7: 33320 | AH7: 77350 | AI7: =ROUND(AVERAGE(AG7:AH7),1) -> 55335 | AJ7: 41650 | AK7: 77350 | AL7: =ROUND(AVERAGE(AJ7:AK7),1) -> 59500 | AM7: 41650 | AN7: 102864.86 | AO7: =ROUND(AVERAGE(AM7:AN7),1) -> 72257.4 | AP7: 41650 | AQ7: 79283.75 | AR7: =ROUND(AVERAGE(AP7:AQ7),1) -> 60466.9 | AS7: 41650 | AT7: 104407.83 | AU7: =ROUND(AVERAGE(AS7:AT7),1) -> 73028.9 | AV7: 41650 | AW7: 82058.681 | AX7: =ROUND(AVERAGE(AV7:AW7),1) -> 61854.3 | AY7: 41650 | AZ7: 84520.442 | BA7: =ROUND(AVERAGE(AY7:AZ7),1) -> 63085.2 | BB7: 41650 | BC7: 81991 | BD7: =ROUND(AVERAGE(BB7:BC7),1) -> 61820.5 | BE7: 41650 | BF7: 84520.442 | BG7: =ROUND(AVERAGE(BE7:BF7),1) -> 63085.2 | BH7: 33320 | BI7: 83220.865 | BJ7: =ROUND(AVERAGE(BH7:BI7),1) -> 58270.4 | BK7: 33320 | BL7: 78460.865 | BM7: =ROUND(AVERAGE(BK7:BL7),1) -> 55890.4 | BN7: 33320 | BO7: 79477.125 | BP7: =ROUND(AVERAGE(BN7:BO7),1) -> 56398.6 | BQ7: 33320 | BR7: 95782.627 | BS7: =ROUND(AVERAGE(BQ7:BR7),1) -> 64551.3 | BT7: 41650 | BU7: 97458.823 | BV7: =ROUND(AVERAGE(BT7:BU7),1) -> 69554.4 | BW7: 41650 | BX7: 95996.941 | BY7: =ROUND(AVERAGE(BW7:BX7),1) -> 68823.5 | BZ7: 41650 | CA7: 81681.6 | CB7: =ROUND(AVERAGE(BZ7:CA7),1) -> 61665.8 | CC7: 42245 | CD7: 80456.376 | CE7: =ROUND(AVERAGE(CC7:CD7),1) -> 61350.7 | CF7: 41650 | CG7: 81068.988 | CH7: =ROUND(AVERAGE(CF7:CG7),1) -> 61359.5 | CI7: 42245 | CJ7: 80456.376 | CK7: =ROUND(AVERAGE(CI7:CJ7),1) -> 61350.7 | CL7: 42245 | CM7: 85765.68 | CN7: =ROUND(AVERAGE(CL7:CM7),1) -> 64005.3 | CO7: 42245 | CP7: 84264.781 | CQ7: =ROUND(AVERAGE(CO7:CP7),1) -> 63254.9 | CR7: 42245 | CS7: 88338.65 | CT7: =ROUND(AVERAGE(CR7:CS7),1) -> 65291.8
A8: 1.2 | B8: BANDAS DE FRENO ( JUEGO) | C8: 133280 | D8: 315512.49 | E8: =ROUND(AVERAGE(C8:D8),1) -> 224396.2 | F8: 124950 | G8: 298982.07 | H8: =ROUND(AVERAGE(F8:G8),1) -> 211966 | I8: 124950 | J8: 307247.28 | K8: =ROUND(AVERAGE(I8:J8),1) -> 216098.6 | L8: 158270 | M8: 314928.46 | N8: =ROUND(AVERAGE(L8:M8),1) -> 236599.2 | O8: 166600 | P8: 330674.89 | Q8: =ROUND(AVERAGE(O8:P8),1) -> 248637.4 | R8: 192780 | S8: 363742.38 | T8: =ROUND(AVERAGE(R8:S8),1) -> 278261.2 | U8: 166600 | V8: 326555.43 | W8: =ROUND(AVERAGE(U8:V8),1) -> 246577.7 | X8: 208845 | Y8: 465182.87 | Z8: =ROUND(AVERAGE(X8:Y8),1) -> 337013.9 | AA8: 208845 | AB8: 476812.44 | AC8: =ROUND(AVERAGE(AA8:AB8),1) -> 342828.7 | AD8: 249007.5 | AE8: 370154.21 | AF8: =ROUND(AVERAGE(AD8:AE8),1) -> 309580.9 | AG8: 133280 | AH8: 372835.94 | AI8: =ROUND(AVERAGE(AG8:AH8),1) -> 253058 | AJ8: 200812.5 | AK8: 508444.87 | AL8: =ROUND(AVERAGE(AJ8:AK8),1) -> 354628.7 | AM8: 192780 | AN8: 353262.04 | AO8: =ROUND(AVERAGE(AM8:AN8),1) -> 273021 | AP8: 176715 | AQ8: 476812.44 | AR8: =ROUND(AVERAGE(AP8:AQ8),1) -> 326763.7 | AS8: 208845 | AT8: 358560.97 | AU8: =ROUND(AVERAGE(AS8:AT8),1) -> 283703 | AV8: 208845 | AW8: 493500.87 | AX8: =ROUND(AVERAGE(AV8:AW8),1) -> 351172.9 | AY8: 208845 | AZ8: 508305.9 | BA8: =ROUND(AVERAGE(AY8:AZ8),1) -> 358575.4 | BB8: 166600 | BC8: 334443.24 | BD8: =ROUND(AVERAGE(BB8:BC8),1) -> 250521.6 | BE8: 208845 | BF8: 508305.9 | BG8: =ROUND(AVERAGE(BE8:BF8),1) -> 358575.4 | BH8: 166600 | BI8: 339459.89 | BJ8: =ROUND(AVERAGE(BH8:BI8),1) -> 253029.9 | BK8: 133280 | BL8: 339459.89 | BM8: =ROUND(AVERAGE(BK8:BL8),1) -> 236369.9 | BN8: 133280 | BO8: 324189.08 | BP8: =ROUND(AVERAGE(BN8:BO8),1) -> 228734.5 | BQ8: 133280 | BR8: 303466.8 | BS8: =ROUND(AVERAGE(BQ8:BR8),1) -> 218373.4 | BT8: 166600 | BU8: 308777.47 | BV8: =ROUND(AVERAGE(BT8:BU8),1) -> 237688.7 | BW8: 166600 | BX8: 304145.81 | BY8: =ROUND(AVERAGE(BW8:BX8),1) -> 235372.9 | BZ8: 232942.5 | CA8: 390882.84 | CB8: =ROUND(AVERAGE(BZ8:CA8),1) -> 311912.7 | CC8: 208845 | CD8: 385019.6 | CE8: =ROUND(AVERAGE(CC8:CD8),1) -> 296932.3 | CF8: 232942.5 | CG8: 387951.22 | CH8: =ROUND(AVERAGE(CF8:CG8),1) -> 310446.9 | CI8: 208845 | CJ8: 385019.6 | CK8: =ROUND(AVERAGE(CI8:CJ8),1) -> 296932.3 | CL8: 208845 | CM8: 410426.99 | CN8: =ROUND(AVERAGE(CL8:CM8),1) -> 309636 | CO8: 208845 | CP8: 403244.51 | CQ8: =ROUND(AVERAGE(CO8:CP8),1) -> 306044.8 | CR8: 208845 | CS8: 422739.8 | CT8: =ROUND(AVERAGE(CR8:CS8),1) -> 315792.4
A9: 1.3 | B9: BANDAS DE FRENO EMERGENCIA | C9: 133280 | D9: 315512.49 | E9: =ROUND(AVERAGE(C9:D9),1) -> 224396.2 | F9: 124950 | G9: 193065.4 | H9: =ROUND(AVERAGE(F9:G9),1) -> 159007.7 | I9: 124950 | J9: 254288.94 | K9: =ROUND(AVERAGE(I9:J9),1) -> 189619.5 | L9: 158270 | M9: 260646.17 | N9: =ROUND(AVERAGE(L9:M9),1) -> 209458.1 | O9: 166600 | P9: 273678.48 | Q9: =ROUND(AVERAGE(O9:P9),1) -> 220139.2 | R9: 192780 | S9: 301046.32 | T9: =ROUND(AVERAGE(R9:S9),1) -> 246913.2 | U9: 166600 | V9: 326555.43 | W9: =ROUND(AVERAGE(U9:V9),1) -> 246577.7 | X9: 208845 | Y9: 397016.69 | Z9: =ROUND(AVERAGE(X9:Y9),1) -> 302930.8 | AA9: 208845 | AB9: 406942.11 | AC9: =ROUND(AVERAGE(AA9:AB9),1) -> 307893.6 | AD9: 249007.5 | AE9: 370154.21 | AF9: =ROUND(AVERAGE(AD9:AE9),1) -> 309580.9 | AG9: 133280 | AH9: 308572.48 | AI9: =ROUND(AVERAGE(AG9:AH9),1) -> 220926.2 | AJ9: 200812.5 | AK9: 360900.35 | AL9: =ROUND(AVERAGE(AJ9:AK9),1) -> 280856.4 | AM9: 192780 | AN9: 221053.04 | AO9: =ROUND(AVERAGE(AM9:AN9),1) -> 206916.5 | AP9: 176715 | AQ9: 406942.11 | AR9: =ROUND(AVERAGE(AP9:AQ9),1) -> 291828.6 | AS9: 208845 | AT9: 224368.84 | AU9: =ROUND(AVERAGE(AS9:AT9),1) -> 216606.9 | AV9: 208845 | AW9: 421185.08 | AX9: =ROUND(AVERAGE(AV9:AW9),1) -> 315015 | AY9: 208845 | AZ9: 433820.63 | BA9: =ROUND(AVERAGE(AY9:AZ9),1) -> 321332.8 | BB9: 166600 | BC9: 334443.24 | BD9: =ROUND(AVERAGE(BB9:BC9),1) -> 250521.6 | BE9: 20825 | BF9: 433820.63 | BG9: =ROUND(AVERAGE(BE9:BF9),1) -> 227322.8 | BH9: 166600 | BI9: 339459.89 | BJ9: =ROUND(AVERAGE(BH9:BI9),1) -> 253029.9 | BK9: 133280 | BL9: 339459.89 | BM9: =ROUND(AVERAGE(BK9:BL9),1) -> 236369.9 | BN9: 133280 | BO9: 324189.08 | BP9: =ROUND(AVERAGE(BN9:BO9),1) -> 228734.5 | BQ9: 133280 | BR9: 195961.38 | BS9: =ROUND(AVERAGE(BQ9:BR9),1) -> 164620.7 | BT9: 166600 | BU9: 199390.7 | BV9: =ROUND(AVERAGE(BT9:BU9),1) -> 182995.4 | BW9: 166600 | BX9: 196399.84 | BY9: =ROUND(AVERAGE(BW9:BX9),1) -> 181499.9 | BZ9: 232942.5 | CA9: 390882.84 | CB9: =ROUND(AVERAGE(BZ9:CA9),1) -> 311912.7 | CC9: 208845 | CD9: 385019.6 | CE9: =ROUND(AVERAGE(CC9:CD9),1) -> 296932.3 | CF9: 232942.5 | CG9: 387951.22 | CH9: =ROUND(AVERAGE(CF9:CG9),1) -> 310446.9 | CI9: 208845 | CJ9: 385019.6 | CK9: =ROUND(AVERAGE(CI9:CJ9),1) -> 296932.3 | CL9: 208845 | CM9: 410426.99 | CN9: =ROUND(AVERAGE(CL9:CM9),1) -> 309636 | CO9: 208845 | CP9: 403244.51 | CQ9: =ROUND(AVERAGE(CO9:CP9),1) -> 306044.8 | CR9: 208845 | CS9: 422739.8 | CT9: =ROUND(AVERAGE(CR9:CS9),1) -> 315792.4
A10: 1.4 | B10: BOHOSTER FRENOS | C10: 385560 | D10: 1011500 | E10: =ROUND(AVERAGE(C10:D10),1) -> 698530 | F10: 353430 | G10: 1182035.6 | H10: =ROUND(AVERAGE(F10:G10),1) -> 767732.8 | I10: 359380 | J10: 1096767.8 | K10: =ROUND(AVERAGE(I10:J10),1) -> 728073.9 | L10: 449820 | M10: 1124187 | N10: =ROUND(AVERAGE(L10:M10),1) -> 787003.5 | O10: 473917.5 | P10: 1180396.3 | Q10: =ROUND(AVERAGE(O10:P10),1) -> 827156.9 | R10: 556920 | S10: 1298436 | T10: =ROUND(AVERAGE(R10:S10),1) -> 927678 | U10: 473917.5 | V10: 1046902.5 | W10: =ROUND(AVERAGE(U10:V10),1) -> 760410 | X10: 587860 | Y10: 2053351.5 | Z10: =ROUND(AVERAGE(X10:Y10),1) -> 1320605.8 | AA10: 587860 | AB10: 2104685.3 | AC10: =ROUND(AVERAGE(AA10:AB10),1) -> 1346272.7 | AD10: 711620 | AE10: 3834468.1 | AF10: =ROUND(AVERAGE(AD10:AE10),1) -> 2273044.1 | AG10: 385560 | AH10: 1330896.9 | AI10: =ROUND(AVERAGE(AG10:AH10),1) -> 858228.4 | AJ10: 572390 | AK10: 3738606.4 | AL10: =ROUND(AVERAGE(AJ10:AK10),1) -> 2155498.2 | AM10: 541450 | AN10: 2549240.6 | AO10: =ROUND(AVERAGE(AM10:AN10),1) -> 1545345.3 | AP10: 495040 | AQ10: 2104685.3 | AR10: =ROUND(AVERAGE(AP10:AQ10),1) -> 1299862.7 | AS10: 587860 | AT10: 2587479.2 | AU10: =ROUND(AVERAGE(AS10:AT10),1) -> 1587669.6 | AV10: 587860 | AW10: 2178349.3 | AX10: =ROUND(AVERAGE(AV10:AW10),1) -> 1383104.6 | AY10: 587860 | AZ10: 2243699.8 | BA10: =ROUND(AVERAGE(AY10:AZ10),1) -> 1415779.9 | BB10: 481950 | BC10: 1072190 | BD10: =ROUND(AVERAGE(BB10:BC10),1) -> 777070 | BE10: 587860 | BF10: 2243699.8 | BG10: =ROUND(AVERAGE(BE10:BF10),1) -> 1415779.9 | BH10: 481950 | BI10: 1088272.9 | BJ10: =ROUND(AVERAGE(BH10:BI10),1) -> 785111.4 | BK10: 385560 | BL10: 1088272.9 | BM10: =ROUND(AVERAGE(BK10:BL10),1) -> 736916.4 | BN10: 385560 | BO10: 1039316.2 | BP10: =ROUND(AVERAGE(BN10:BO10),1) -> 712438.1 | BQ10: 385560 | BR10: 1199766.1 | BS10: =ROUND(AVERAGE(BQ10:BR10),1) -> 792663 | BT10: 473917.5 | BU10: 1220762 | BV10: =ROUND(AVERAGE(BT10:BU10),1) -> 847339.7 | BW10: 473917.5 | BX10: 1202450.6 | BY10: =ROUND(AVERAGE(BW10:BX10),1) -> 838184 | BZ10: 657475 | CA10: 4049198.3 | CB10: =ROUND(AVERAGE(BZ10:CA10),1) -> 2353336.7 | CC10: 587860 | CD10: 3988460.4 | CE10: =ROUND(AVERAGE(CC10:CD10),1) -> 2288160.2 | CF10: 657475 | CG10: 4018829.4 | CH10: =ROUND(AVERAGE(CF10:CG10),1) -> 2338152.2 | CI10: 587860 | CJ10: 3988460.4 | CK10: =ROUND(AVERAGE(CI10:CJ10),1) -> 2288160.2 | CL10: 587860 | CM10: 4251658.3 | CN10: =ROUND(AVERAGE(CL10:CM10),1) -> 2419759.1 | CO10: 587860 | CP10: 4177254.2 | CQ10: =ROUND(AVERAGE(CO10:CP10),1) -> 2382557.1 | CR10: 587860 | CS10: 4379208 | CT10: =ROUND(AVERAGE(CR10:CS10),1) -> 2483534
A11: 1.5 | B11: BOMBA DE FRENOS | C11: 433755 | D11: 580001.28 | E11: =ROUND(AVERAGE(C11:D11),1) -> 506878.1 | F11: 401625 | G11: 549613.7 | H11: =ROUND(AVERAGE(F11:G11),1) -> 475619.3 | I11: 407575 | J11: 564807.49 | K11: =ROUND(AVERAGE(I11:J11),1) -> 486191.2 | L11: 495040 | M11: 578927.68 | N11: =ROUND(AVERAGE(L11:M11),1) -> 536983.8 | O11: 518245 | P11: 607874.06 | Q11: =ROUND(AVERAGE(O11:P11),1) -> 563059.5 | R11: 634270 | S11: 668661.47 | T11: =ROUND(AVERAGE(R11:S11),1) -> 651465.7 | U11: 518245 | V11: 600301.33 | W11: =ROUND(AVERAGE(U11:V11),1) -> 559273.2 | X11: 665210 | Y11: 674948.92 | Z11: =ROUND(AVERAGE(X11:Y11),1) -> 670079.5 | AA11: 665210 | AB11: 691822.65 | AC11: =ROUND(AVERAGE(AA11:AB11),1) -> 678516.3 | AD11: 819910 | AE11: 1335775.6 | AF11: =ROUND(AVERAGE(AD11:AE11),1) -> 1077842.8 | AG11: 433755 | AH11: 685378 | AI11: =ROUND(AVERAGE(AG11:AH11),1) -> 559566.5 | AJ11: 649740 | AK11: 1302381.2 | AL11: =ROUND(AVERAGE(AJ11:AK11),1) -> 976060.6 | AM11: 611065 | AN11: 482581.43 | AO11: =ROUND(AVERAGE(AM11:AN11),1) -> 546823.2 | AP11: 572390 | AQ11: 691822.65 | AR11: =ROUND(AVERAGE(AP11:AQ11),1) -> 632106.3 | AS11: 665210 | AT11: 489820.15 | AU11: =ROUND(AVERAGE(AS11:AT11),1) -> 577515.1 | AV11: 665210 | AW11: 716036.44 | AX11: =ROUND(AVERAGE(AV11:AW11),1) -> 690623.2 | AY11: 665210 | AZ11: 737517.53 | BA11: =ROUND(AVERAGE(AY11:AZ11),1) -> 701363.8 | BB11: 525980 | BC11: 614801.36 | BD11: =ROUND(AVERAGE(BB11:BC11),1) -> 570390.7 | BE11: 665210 | BF11: 737517.53 | BG11: =ROUND(AVERAGE(BE11:BF11),1) -> 701363.8 | BH11: 525980 | BI11: 624023.38 | BJ11: =ROUND(AVERAGE(BH11:BI11),1) -> 575001.7 | BK11: 433755 | BL11: 624023.38 | BM11: =ROUND(AVERAGE(BK11:BL11),1) -> 528889.2 | BN11: 433755 | BO11: 595951.32 | BP11: =ROUND(AVERAGE(BN11:BO11),1) -> 514853.2 | BQ11: 433755 | BR11: 557857.9 | BS11: =ROUND(AVERAGE(BQ11:BR11),1) -> 495806.5 | BT11: 518245 | BU11: 567620.42 | BV11: =ROUND(AVERAGE(BT11:BU11),1) -> 542932.7 | BW11: 518245 | BX11: 559106.11 | BY11: =ROUND(AVERAGE(BW11:BX11),1) -> 538675.6 | BZ11: 750295 | CA11: 1410579 | CB11: =ROUND(AVERAGE(BZ11:CA11),1) -> 1080437 | CC11: 665210 | CD11: 1389420.3 | CE11: =ROUND(AVERAGE(CC11:CD11),1) -> 1027315.2 | CF11: 750295 | CG11: 1399999.7 | CH11: =ROUND(AVERAGE(CF11:CG11),1) -> 1075147.3 | CI11: 665210 | CJ11: 1389420.3 | CK11: =ROUND(AVERAGE(CI11:CJ11),1) -> 1027315.2 | CL11: 665210 | CM11: 1481108 | CN11: =ROUND(AVERAGE(CL11:CM11),1) -> 1073159 | CO11: 665210 | CP11: 1455188.6 | CQ11: =ROUND(AVERAGE(CO11:CP11),1) -> 1060199.3 | CR11: 665210 | CS11: 1525541.2 | CT11: =ROUND(AVERAGE(CR11:CS11),1) -> 1095375.6
A12: 1.6 | B12: CAMPANA FRENO | C12: 329332.5 | D12: 463499.45 | E12: =ROUND(AVERAGE(C12:D12),1) -> 396416 | F12: 305235 | G12: 439215.66 | H12: =ROUND(AVERAGE(F12:G12),1) -> 372225.3 | I12: 430185 | J12: 451357.56 | K12: =ROUND(AVERAGE(I12:J12),1) -> 440771.3 | L12: 385560 | M12: 462641.5 | N12: =ROUND(AVERAGE(L12:M12),1) -> 424100.7 | O12: 401625 | P12: 485773.57 | Q12: =ROUND(AVERAGE(O12:P12),1) -> 443699.3 | R12: 479570 | S12: 534350.93 | T12: =ROUND(AVERAGE(R12:S12),1) -> 506960.5 | U12: 401625 | V12: 479721.94 | W12: =ROUND(AVERAGE(U12:V12),1) -> 440673.5 | X12: 502775 | Y12: 657614.2 | Z12: =ROUND(AVERAGE(X12:Y12),1) -> 580194.6 | AA12: 502775 | AB12: 674054.55 | AC12: =ROUND(AVERAGE(AA12:AB12),1) -> 588414.8 | AD12: 611065 | AE12: 762888.56 | AF12: =ROUND(AVERAGE(AD12:AE12),1) -> 686976.8 | AG12: 329332.5 | AH12: 547709.7 | AI12: =ROUND(AVERAGE(AG12:AH12),1) -> 438521.1 | AJ12: 487305 | AK12: 743816.35 | AL12: =ROUND(AVERAGE(AJ12:AK12),1) -> 615560.7 | AM12: 481950 | AN12: 430052.78 | AO12: =ROUND(AVERAGE(AM12:AN12),1) -> 456001.4 | AP12: 441787.5 | AQ12: 674054.55 | AR12: =ROUND(AVERAGE(AP12:AQ12),1) -> 557921 | AS12: 502775 | AT12: 436503.57 | AU12: =ROUND(AVERAGE(AS12:AT12),1) -> 469639.3 | AV12: 502775 | AW12: 697646.46 | AX12: =ROUND(AVERAGE(AV12:AW12),1) -> 600210.7 | AY12: 502775 | AZ12: 718575.86 | BA12: =ROUND(AVERAGE(AY12:AZ12),1) -> 610675.4 | BB12: 409657.5 | BC12: 491309.42 | BD12: =ROUND(AVERAGE(BB12:BC12),1) -> 450483.5 | BE12: 502775 | BF12: 718575.86 | BG12: =ROUND(AVERAGE(BE12:BF12),1) -> 610675.4 | BH12: 409657.5 | BI12: 498679.06 | BJ12: =ROUND(AVERAGE(BH12:BI12),1) -> 454168.3 | BK12: 329332.5 | BL12: 498679.06 | BM12: =ROUND(AVERAGE(BK12:BL12),1) -> 414005.8 | BN12: 329332.5 | BO12: 476245.69 | BP12: =ROUND(AVERAGE(BN12:BO12),1) -> 402789.1 | BQ12: 447737.5 | BR12: 445803.9 | BS12: =ROUND(AVERAGE(BQ12:BR12),1) -> 446770.7 | BT12: 401625 | BU12: 453605.47 | BV12: =ROUND(AVERAGE(BT12:BU12),1) -> 427615.2 | BW12: 401625 | BX12: 446801.38 | BY12: =ROUND(AVERAGE(BW12:BX12),1) -> 424213.2 | BZ12: 564655 | CA12: 805610.32 | CB12: =ROUND(AVERAGE(BZ12:CA12),1) -> 685132.7 | CC12: 502775 | CD12: 793526.17 | CE12: =ROUND(AVERAGE(CC12:CD12),1) -> 648150.6 | CF12: 564655 | CG12: 799568.24 | CH12: =ROUND(AVERAGE(CF12:CG12),1) -> 682111.6 | CI12: 502775 | CJ12: 793526.17 | CK12: =ROUND(AVERAGE(CI12:CJ12),1) -> 648150.6 | CL12: 502775 | CM12: 845890.84 | CN12: =ROUND(AVERAGE(CL12:CM12),1) -> 674332.9 | CO12: 502775 | CP12: 831087.75 | CQ12: =ROUND(AVERAGE(CO12:CP12),1) -> 666931.4 | CR12: 502775 | CS12: 871267.56 | CT12: =ROUND(AVERAGE(CR12:CS12),1) -> 687021.3
A13: 1.7 | B13: CILINDRO FRENO TRASERO | C13: 124950 | D13: 241302.42 | E13: =ROUND(AVERAGE(C13:D13),1) -> 183126.2 | F13: 116620 | G13: 228660.04 | H13: =ROUND(AVERAGE(F13:G13),1) -> 172640 | I13: 122570 | J13: 234981.23 | K13: =ROUND(AVERAGE(I13:J13),1) -> 178775.6 | L13: 149940 | M13: 240855.76 | N13: =ROUND(AVERAGE(L13:M13),1) -> 195397.9 | O13: 158270 | P13: 252898.55 | Q13: =ROUND(AVERAGE(O13:P13),1) -> 205584.3 | R13: 184747.5 | S13: 278188.4 | T13: =ROUND(AVERAGE(R13:S13),1) -> 231468 | U13: 158270 | V13: 249748.01 | W13: =ROUND(AVERAGE(U13:V13),1) -> 204009 | X13: 192780 | Y13: 280210.35 | Z13: =ROUND(AVERAGE(X13:Y13),1) -> 236495.2 | AA13: 192780 | AB13: 287215.61 | AC13: =ROUND(AVERAGE(AA13:AB13),1) -> 239997.8 | AD13: 240975 | AE13: 416302.68 | AF13: =ROUND(AVERAGE(AD13:AE13),1) -> 328638.8 | AG13: 124950 | AH13: 285143.11 | AI13: =ROUND(AVERAGE(AG13:AH13),1) -> 205046.6 | AJ13: 192780 | AK13: 405895.11 | AL13: =ROUND(AVERAGE(AJ13:AK13),1) -> 299337.6 | AM13: 176715 | AN13: 230084.41 | AO13: =ROUND(AVERAGE(AM13:AN13),1) -> 203399.7 | AP13: 168682.5 | AQ13: 287215.61 | AR13: =ROUND(AVERAGE(AP13:AQ13),1) -> 227949.1 | AS13: 192780 | AT13: 233535.68 | AU13: =ROUND(AVERAGE(AS13:AT13),1) -> 213157.8 | AV13: 192780 | AW13: 297268.16 | AX13: =ROUND(AVERAGE(AV13:AW13),1) -> 245024.1 | AY13: 192780 | AZ13: 306186.2 | BA13: =ROUND(AVERAGE(AY13:AZ13),1) -> 249483.1 | BB13: 158270 | BC13: 255780.57 | BD13: =ROUND(AVERAGE(BB13:BC13),1) -> 207025.3 | BE13: 192780 | BF13: 306186.2 | BG13: =ROUND(AVERAGE(BE13:BF13),1) -> 249483.1 | BH13: 158270 | BI13: 259617.28 | BJ13: =ROUND(AVERAGE(BH13:BI13),1) -> 208943.6 | BK13: 124950 | BL13: 259617.28 | BM13: =ROUND(AVERAGE(BK13:BL13),1) -> 192283.6 | BN13: 124950 | BO13: 247938.24 | BP13: =ROUND(AVERAGE(BN13:BO13),1) -> 186444.1 | BQ13: 124950 | BR13: 232089.94 | BS13: =ROUND(AVERAGE(BQ13:BR13),1) -> 178520 | BT13: 158270 | BU13: 236151.51 | BV13: =ROUND(AVERAGE(BT13:BU13),1) -> 197210.8 | BW13: 158270 | BX13: 232609.24 | BY13: =ROUND(AVERAGE(BW13:BX13),1) -> 195439.6 | BZ13: 216877.5 | CA13: 439615.63 | CB13: =ROUND(AVERAGE(BZ13:CA13),1) -> 328246.6 | CC13: 192780 | CD13: 433021.4 | CE13: =ROUND(AVERAGE(CC13:CD13),1) -> 312900.7 | CF13: 216877.5 | CG13: 436318.51 | CH13: =ROUND(AVERAGE(CF13:CG13),1) -> 326598 | CI13: 192780 | CJ13: 433021.4 | CK13: =ROUND(AVERAGE(CI13:CJ13),1) -> 312900.7 | CL13: 192780 | CM13: 461596.41 | CN13: =ROUND(AVERAGE(CL13:CM13),1) -> 327188.2 | CO13: 192780 | CP13: 453518.48 | CQ13: =ROUND(AVERAGE(CO13:CP13),1) -> 323149.2 | CR13: 192780 | CS13: 475444.31 | CT13: =ROUND(AVERAGE(CR13:CS13),1) -> 334112.2
A14: 1.8 | B14: DISCO FRENO DELANTERO | C14: 257040 | D14: 397610.94 | E14: =ROUND(AVERAGE(C14:D14),1) -> 327325.5 | F14: 240975 | G14: 376779.2 | H14: =ROUND(AVERAGE(F14:G14),1) -> 308877.1 | I14: 246925 | J14: 387195.07 | K14: =ROUND(AVERAGE(I14:J14),1) -> 317060 | L14: 305235 | M14: 396874.95 | N14: =ROUND(AVERAGE(L14:M14),1) -> 351055 | O14: 321300 | P14: 416718.7 | Q14: =ROUND(AVERAGE(O14:P14),1) -> 369009.3 | R14: 393592.5 | S14: 458390.57 | T14: =ROUND(AVERAGE(R14:S14),1) -> 425991.5 | U14: 321300 | V14: 411527.33 | W14: =ROUND(AVERAGE(U14:V14),1) -> 366413.7 | X14: 409657.5 | Y14: 690890.43 | Z14: =ROUND(AVERAGE(X14:Y14),1) -> 550274 | AA14: 409657.5 | AB14: 708162.69 | AC14: =ROUND(AVERAGE(AA14:AB14),1) -> 558910.1 | AD14: 487305 | AE14: 893191.62 | AF14: =ROUND(AVERAGE(AD14:AE14),1) -> 690248.3 | AG14: 257040 | AH14: 469850.33 | AI14: =ROUND(AVERAGE(AG14:AH14),1) -> 363445.2 | AJ14: 401625 | AK14: 870861.83 | AL14: =ROUND(AVERAGE(AJ14:AK14),1) -> 636243.4 | AM14: 377527.5 | AN14: 467028.49 | AO14: =ROUND(AVERAGE(AM14:AN14),1) -> 422278 | AP14: 353430 | AQ14: 708162.69 | AR14: =ROUND(AVERAGE(AP14:AQ14),1) -> 530796.3 | AS14: 409657.5 | AT14: 474033.92 | AU14: =ROUND(AVERAGE(AS14:AT14),1) -> 441845.7 | AV14: 409657.5 | AW14: 732948.39 | AX14: =ROUND(AVERAGE(AV14:AW14),1) -> 571302.9 | AY14: 409657.5 | AZ14: 754936.84 | BA14: =ROUND(AVERAGE(AY14:AZ14),1) -> 582297.2 | BB14: 321300 | BC14: 421467.6 | BD14: =ROUND(AVERAGE(BB14:BC14),1) -> 371383.8 | BE14: 409657.5 | BF14: 754936.84 | BG14: =ROUND(AVERAGE(BE14:BF14),1) -> 582297.2 | BH14: 321300 | BI14: 427789.61 | BJ14: =ROUND(AVERAGE(BH14:BI14),1) -> 374544.8 | BK14: 257040 | BL14: 427789.61 | BM14: =ROUND(AVERAGE(BK14:BL14),1) -> 342414.8 | BN14: 257040 | BO14: 408545.24 | BP14: =ROUND(AVERAGE(BN14:BO14),1) -> 332792.6 | BQ14: 257040 | BR14: 382430.89 | BS14: =ROUND(AVERAGE(BQ14:BR14),1) -> 319735.4 | BT14: 321300 | BU14: 389123.43 | BV14: =ROUND(AVERAGE(BT14:BU14),1) -> 355211.7 | BW14: 321300 | BX14: 383286.58 | BY14: =ROUND(AVERAGE(BW14:BX14),1) -> 352293.3 | BZ14: 457852.5 | CA14: 943210.35 | CB14: =ROUND(AVERAGE(BZ14:CA14),1) -> 700531.4 | CC14: 409657.5 | CD14: 929062.19 | CE14: =ROUND(AVERAGE(CC14:CD14),1) -> 669359.8 | CF14: 457852.5 | CG14: 936136.27 | CH14: =ROUND(AVERAGE(CF14:CG14),1) -> 696994.4 | CI14: 409657.5 | CJ14: 929062.19 | CK14: =ROUND(AVERAGE(CI14:CJ14),1) -> 669359.8 | CL14: 409657.5 | CM14: 990370.86 | CN14: =ROUND(AVERAGE(CL14:CM14),1) -> 700014.2 | CO14: 409657.5 | CP14: 973039.37 | CQ14: =ROUND(AVERAGE(CO14:CP14),1) -> 691348.4 | CR14: 409657.5 | CS14: 1020082 | CT14: =ROUND(AVERAGE(CR14:CS14),1) -> 714869.7
A15: 1.9 | B15: DISCO FRENO TRASERO | C15: 257040 | D15: 351101.41 | E15: =ROUND(AVERAGE(C15:D15),1) -> 304070.7 | F15: 240975 | G15: 332706.4 | H15: =ROUND(AVERAGE(F15:G15),1) -> 286840.7 | I15: 246925 | J15: 341903.91 | K15: =ROUND(AVERAGE(I15:J15),1) -> 294414.5 | L15: 305235 | M15: 350451.5 | N15: =ROUND(AVERAGE(L15:M15),1) -> 327843.3 | O15: 321300 | P15: 367974.08 | Q15: =ROUND(AVERAGE(O15:P15),1) -> 344637 | R15: 393592.5 | S15: 404771.49 | T15: =ROUND(AVERAGE(R15:S15),1) -> 399182 | U15: 321300 | V15: 363389.96 | W15: =ROUND(AVERAGE(U15:V15),1) -> 342345 | X15: 409657.5 | Y15: 586921.02 | Z15: =ROUND(AVERAGE(X15:Y15),1) -> 498289.3 | AA15: 409657.5 | AB15: 601594.05 | AC15: =ROUND(AVERAGE(AA15:AB15),1) -> 505625.8 | AD15: 487305 | AE15: 758778.69 | AF15: =ROUND(AVERAGE(AD15:AE15),1) -> 623041.8 | AG15: 257040 | AH15: 414890.77 | AI15: =ROUND(AVERAGE(AG15:AH15),1) -> 335965.4 | AJ15: 401625 | AK15: 739809.22 | AL15: =ROUND(AVERAGE(AJ15:AK15),1) -> 570717.1 | AM15: 377527.5 | AN15: 402010.76 | AO15: =ROUND(AVERAGE(AM15:AN15),1) -> 389769.1 | AP15: 353430 | AQ15: 601594.05 | AR15: =ROUND(AVERAGE(AP15:AQ15),1) -> 477512 | AS15: 409657.5 | AT15: 408040.92 | AU15: =ROUND(AVERAGE(AS15:AT15),1) -> 408849.2 | AV15: 409657.5 | AW15: 622649.84 | AX15: =ROUND(AVERAGE(AV15:AW15),1) -> 516153.7 | AY15: 409657.5 | AZ15: 641329.34 | BA15: =ROUND(AVERAGE(AY15:AZ15),1) -> 525493.4 | BB15: 321300 | BC15: 372167.49 | BD15: =ROUND(AVERAGE(BB15:BC15),1) -> 346733.7 | BE15: 409657.5 | BF15: 641329.34 | BG15: =ROUND(AVERAGE(BE15:BF15),1) -> 525493.4 | BH15: 321300 | BI15: 377750 | BJ15: =ROUND(AVERAGE(BH15:BI15),1) -> 349525 | BK15: 257040 | BL15: 377750 | BM15: =ROUND(AVERAGE(BK15:BL15),1) -> 317395 | BN15: 257040 | BO15: 360756.7 | BP15: =ROUND(AVERAGE(BN15:BO15),1) -> 308898.3 | BQ15: 257040 | BR15: 337697 | BS15: =ROUND(AVERAGE(BQ15:BR15),1) -> 297368.5 | BT15: 321300 | BU15: 343606.7 | BV15: =ROUND(AVERAGE(BT15:BU15),1) -> 332453.3 | BW15: 321300 | BX15: 338452.6 | BY15: =ROUND(AVERAGE(BW15:BX15),1) -> 329876.3 | BZ15: 457852.5 | CA15: 801270.3 | CB15: =ROUND(AVERAGE(BZ15:CA15),1) -> 629561.4 | CC15: 409657.5 | CD15: 789251.24 | CE15: =ROUND(AVERAGE(CC15:CD15),1) -> 599454.4 | CF15: 457852.5 | CG15: 795260.77 | CH15: =ROUND(AVERAGE(CF15:CG15),1) -> 626556.6 | CI15: 409657.5 | CJ15: 789251.24 | CK15: =ROUND(AVERAGE(CI15:CJ15),1) -> 599454.4 | CL15: 409657.5 | CM15: 841333.81 | CN15: =ROUND(AVERAGE(CL15:CM15),1) -> 625495.7 | CO15: 409657.5 | CP15: 826610.47 | CQ15: =ROUND(AVERAGE(CO15:CP15),1) -> 618134 | CR15: 409657.5 | CS15: 866573.83 | CT15: =ROUND(AVERAGE(CR15:CS15),1) -> 638115.7
A16: 1.10 | B16: GUAYA FRENO PRINCIPAL | C16: 91630 | D16: 214200 | E16: =ROUND(AVERAGE(C16:D16),1) -> 152915 | F16: 91630 | G16: 281776.16 | H16: =ROUND(AVERAGE(F16:G16),1) -> 186703.1 | I16: 97580 | J16: 247988.08 | K16: =ROUND(AVERAGE(I16:J16),1) -> 172784 | L16: 108290 | M16: 254187.78 | N16: =ROUND(AVERAGE(L16:M16),1) -> 181238.9 | O16: 116620 | P16: 266897.17 | Q16: =ROUND(AVERAGE(O16:P16),1) -> 191758.6 | R16: 141610 | S16: 293586.89 | T16: =ROUND(AVERAGE(R16:S16),1) -> 217598.4 | U16: 116620 | V16: 221697 | W16: =ROUND(AVERAGE(U16:V16),1) -> 169158.5 | X16: 149940 | Y16: 253988.76 | Z16: =ROUND(AVERAGE(X16:Y16),1) -> 201964.4 | AA16: 149940 | AB16: 260338.48 | AC16: =ROUND(AVERAGE(AA16:AB16),1) -> 205139.2 | AD16: 168682.5 | AE16: 396978.35 | AF16: =ROUND(AVERAGE(AD16:AE16),1) -> 282830.4 | AG16: 91630 | AH16: 300926.56 | AI16: =ROUND(AVERAGE(AG16:AH16),1) -> 196278.3 | AJ16: 141610 | AK16: 387053.89 | AL16: =ROUND(AVERAGE(AJ16:AK16),1) -> 264331.9 | AM16: 133280 | AN16: 183519.26 | AO16: =ROUND(AVERAGE(AM16:AN16),1) -> 158399.6 | AP16: 124950 | AQ16: 260338.48 | AR16: =ROUND(AVERAGE(AP16:AQ16),1) -> 192644.2 | AS16: 149940 | AT16: 186272.05 | AU16: =ROUND(AVERAGE(AS16:AT16),1) -> 168106 | AV16: 149940 | AW16: 269450.33 | AX16: =ROUND(AVERAGE(AV16:AW16),1) -> 209695.2 | AY16: 149940 | AZ16: 277533.84 | BA16: =ROUND(AVERAGE(AY16:AZ16),1) -> 213736.9 | BB16: 116620 | BC16: 227052 | BD16: =ROUND(AVERAGE(BB16:BC16),1) -> 171836 | BE16: 149940 | BF16: 277533.84 | BG16: =ROUND(AVERAGE(BE16:BF16),1) -> 213736.9 | BH16: 116620 | BI16: 230457.78 | BJ16: =ROUND(AVERAGE(BH16:BI16),1) -> 173538.9 | BK16: 91630 | BL16: 230457.78 | BM16: =ROUND(AVERAGE(BK16:BL16),1) -> 161043.9 | BN16: 91630 | BO16: 220090.5 | BP16: =ROUND(AVERAGE(BN16:BO16),1) -> 155860.3 | BQ16: 91630 | BR16: 286002.8 | BS16: =ROUND(AVERAGE(BQ16:BR16),1) -> 188816.4 | BT16: 116620 | BU16: 291007.85 | BV16: =ROUND(AVERAGE(BT16:BU16),1) -> 203813.9 | BW16: 116620 | BX16: 286642.74 | BY16: =ROUND(AVERAGE(BW16:BX16),1) -> 201631.4 | BZ16: 166600 | CA16: 419209.14 | CB16: =ROUND(AVERAGE(BZ16:CA16),1) -> 292904.6 | CC16: 149940 | CD16: 412921 | CE16: =ROUND(AVERAGE(CC16:CD16),1) -> 281430.5 | CF16: 166600 | CG16: 416065.07 | CH16: =ROUND(AVERAGE(CF16:CG16),1) -> 291332.5 | CI16: 149940 | CJ16: 412921 | CK16: =ROUND(AVERAGE(CI16:CJ16),1) -> 281430.5 | CL16: 149940 | CM16: 440169.6 | CN16: =ROUND(AVERAGE(CL16:CM16),1) -> 295054.8 | CO16: 149940 | CP16: 432466.63 | CQ16: =ROUND(AVERAGE(CO16:CP16),1) -> 291203.3 | CR16: 149940 | CS16: 453374.68 | CT16: =ROUND(AVERAGE(CR16:CS16),1) -> 301657.3
A17: 1.11 | B17: GUAYA FRENO TRASERA LH - RH | C17: 91630 | D17: 208250 | E17: =ROUND(AVERAGE(C17:D17),1) -> 149940 | F17: 91630 | G17: 281776.16 | H17: =ROUND(AVERAGE(F17:G17),1) -> 186703.1 | I17: 97580 | J17: 245013.08 | K17: =ROUND(AVERAGE(I17:J17),1) -> 171296.5 | L17: 108290 | M17: 251138.41 | N17: =ROUND(AVERAGE(L17:M17),1) -> 179714.2 | O17: 116620 | P17: 263695.33 | Q17: =ROUND(AVERAGE(O17:P17),1) -> 190157.7 | R17: 141610 | S17: 290064.86 | T17: =ROUND(AVERAGE(R17:S17),1) -> 215837.4 | U17: 116620 | V17: 215538.75 | W17: =ROUND(AVERAGE(U17:V17),1) -> 166079.4 | X17: 149940 | Y17: 207826.52 | Z17: =ROUND(AVERAGE(X17:Y17),1) -> 178883.3 | AA17: 149940 | AB17: 213022.18 | AC17: =ROUND(AVERAGE(AA17:AB17),1) -> 181481.1 | AD17: 168682.5 | AE17: 290776.11 | AF17: =ROUND(AVERAGE(AD17:AE17),1) -> 229729.3 | AG17: 91630 | AH17: 297316.48 | AI17: =ROUND(AVERAGE(AG17:AH17),1) -> 194473.2 | AJ17: 141610 | AK17: 283506.71 | AL17: =ROUND(AVERAGE(AJ17:AK17),1) -> 212558.4 | AM17: 133280 | AN17: 144171.99 | AO17: =ROUND(AVERAGE(AM17:AN17),1) -> 138726 | AP17: 124950 | AQ17: 213022.18 | AR17: =ROUND(AVERAGE(AP17:AQ17),1) -> 168986.1 | AS17: 149940 | AT17: 146334.57 | AU17: =ROUND(AVERAGE(AS17:AT17),1) -> 148137.3 | AV17: 149940 | AW17: 220477.96 | AX17: =ROUND(AVERAGE(AV17:AW17),1) -> 185209 | AY17: 149940 | AZ17: 227092.3 | BA17: =ROUND(AVERAGE(AY17:AZ17),1) -> 188516.1 | BB17: 116620 | BC17: 220745 | BD17: =ROUND(AVERAGE(BB17:BC17),1) -> 168682.5 | BE17: 149940 | BF17: 227092.3 | BG17: =ROUND(AVERAGE(BE17:BF17),1) -> 188516.1 | BH17: 116620 | BI17: 224056.17 | BJ17: =ROUND(AVERAGE(BH17:BI17),1) -> 170338.1 | BK17: 91630 | BL17: 224056.17 | BM17: =ROUND(AVERAGE(BK17:BL17),1) -> 157843.1 | BN17: 91630 | BO17: 213976.88 | BP17: =ROUND(AVERAGE(BN17:BO17),1) -> 152803.4 | BQ17: 91630 | BR17: 286002.8 | BS17: =ROUND(AVERAGE(BQ17:BR17),1) -> 188816.4 | BT17: 116620 | BU17: 291007.85 | BV17: =ROUND(AVERAGE(BT17:BU17),1) -> 203813.9 | BW17: 116620 | BX17: 286642.74 | BY17: =ROUND(AVERAGE(BW17:BX17),1) -> 201631.4 | BZ17: 166600 | CA17: 307059.58 | CB17: =ROUND(AVERAGE(BZ17:CA17),1) -> 236829.8 | CC17: 149940 | CD17: 302453.68 | CE17: =ROUND(AVERAGE(CC17:CD17),1) -> 226196.8 | CF17: 166600 | CG17: 304756.63 | CH17: =ROUND(AVERAGE(CF17:CG17),1) -> 235678.3 | CI17: 149940 | CJ17: 302453.68 | CK17: =ROUND(AVERAGE(CI17:CJ17),1) -> 226196.8 | CL17: 149940 | CM17: 322412.55 | CN17: =ROUND(AVERAGE(CL17:CM17),1) -> 236176.3 | CO17: 149940 | CP17: 316770.33 | CQ17: =ROUND(AVERAGE(CO17:CP17),1) -> 233355.2 | CR17: 149940 | CS17: 332084.93 | CT17: =ROUND(AVERAGE(CR17:CS17),1) -> 241012.5
A18: 1.12 | B18: LIMITADOR DE LIQUIDO DE FRENOS | C18: 192780 | D18: 316841.23 | E18: =ROUND(AVERAGE(C18:D18),1) -> 254810.6 | F18: 192780 | G18: 457461.41 | H18: =ROUND(AVERAGE(F18:G18),1) -> 325120.7 | I18: 198730 | J18: 387151.32 | K18: =ROUND(AVERAGE(I18:J18),1) -> 292940.7 | L18: 224910 | M18: 396830.11 | N18: =ROUND(AVERAGE(L18:M18),1) -> 310870.1 | O18: 232942.5 | P18: 416671.61 | Q18: =ROUND(AVERAGE(O18:P18),1) -> 324807.1 | R18: 289170 | S18: 458338.77 | T18: =ROUND(AVERAGE(R18:S18),1) -> 373754.4 | U18: 232942.5 | V18: 327930.68 | W18: =ROUND(AVERAGE(U18:V18),1) -> 280436.6 | X18: 305235 | Y18: 316841.23 | Z18: =ROUND(AVERAGE(X18:Y18),1) -> 311038.1 | AA18: 305235 | AB18: 324762.26 | AC18: =ROUND(AVERAGE(AA18:AB18),1) -> 314998.6 | AD18: 369495 | AE18: 798428.7 | AF18: =ROUND(AVERAGE(AD18:AE18),1) -> 583961.8 | AG18: 192780 | AH18: 469797.24 | AI18: =ROUND(AVERAGE(AG18:AH18),1) -> 331288.6 | AJ18: 297202.5 | AK18: 778467.98 | AL18: =ROUND(AVERAGE(AJ18:AK18),1) -> 537835.2 | AM18: 281137.5 | AN18: 461972.94 | AO18: =ROUND(AVERAGE(AM18:AN18),1) -> 371555.2 | AP18: 257040 | AQ18: 324762.26 | AR18: =ROUND(AVERAGE(AP18:AQ18),1) -> 290901.1 | AS18: 305235 | AT18: 468902.53 | AU18: =ROUND(AVERAGE(AS18:AT18),1) -> 387068.8 | AV18: 305235 | AW18: 336128.94 | AX18: =ROUND(AVERAGE(AV18:AW18),1) -> 320682 | AY18: 305235 | AZ18: 346212.81 | BA18: =ROUND(AVERAGE(AY18:AZ18),1) -> 325723.9 | BB18: 240975 | BC18: 335851.71 | BD18: =ROUND(AVERAGE(BB18:BC18),1) -> 288413.4 | BE18: 305235 | BF18: 346212.81 | BG18: =ROUND(AVERAGE(BE18:BF18),1) -> 325723.9 | BH18: 240975 | BI18: 340889.48 | BJ18: =ROUND(AVERAGE(BH18:BI18),1) -> 290932.2 | BK18: 192780 | BL18: 340889.48 | BM18: =ROUND(AVERAGE(BK18:BL18),1) -> 266834.7 | BN18: 192780 | BO18: 325554.37 | BP18: =ROUND(AVERAGE(BN18:BO18),1) -> 259167.2 | BQ18: 192780 | BR18: 464323.33 | BS18: =ROUND(AVERAGE(BQ18:BR18),1) -> 328551.7 | BT18: 232942.5 | BU18: 472448.99 | BV18: =ROUND(AVERAGE(BT18:BU18),1) -> 352695.7 | BW18: 232942.5 | BX18: 465362.26 | BY18: =ROUND(AVERAGE(BW18:BX18),1) -> 349152.4 | BZ18: 337365 | CA18: 843140.71 | CB18: =ROUND(AVERAGE(BZ18:CA18),1) -> 590252.9 | CC18: 305235 | CD18: 830493.6 | CE18: =ROUND(AVERAGE(CC18:CD18),1) -> 567864.3 | CF18: 337365 | CG18: 836817.15 | CH18: =ROUND(AVERAGE(CF18:CG18),1) -> 587091.1 | CI18: 305235 | CJ18: 830493.6 | CK18: =ROUND(AVERAGE(CI18:CJ18),1) -> 567864.3 | CL18: 305235 | CM18: 885297.74 | CN18: =ROUND(AVERAGE(CL18:CM18),1) -> 595266.4 | CO18: 305235 | CP18: 869805.03 | CQ18: =ROUND(AVERAGE(CO18:CP18),1) -> 587520 | CR18: 305235 | CS18: 911856.67 | CT18: =ROUND(AVERAGE(CR18:CS18),1) -> 608545.8
... A25: 1.19 | B25: SENSOR DE STOP | C25: 74970 | D25: 229583.84 | E25: =ROUND(AVERAGE(C25:D25),1) -> 152276.9 | F25: 74970 | G25: 192311.97 | H25: =ROUND(AVERAGE(F25:G25),1) -> 133641 | I25: 80920 | J25: 210947.91 | K25: =ROUND(AVERAGE(I25:J25),1) -> 145934 | L25: 91630 | M25: 216221.6 | N25: =ROUND(AVERAGE(L25:M25),1) -> 153925.8 | O25: 99960 | P25: 227032.68 | Q25: =ROUND(AVERAGE(O25:P25),1) -> 163496.3 | R25: 133280 | S25: 249735.95 | T25: =ROUND(AVERAGE(R25:S25),1) -> 191508 | U25: 99960 | V25: 237619.28 | W25: =ROUND(AVERAGE(U25:V25),1) -> 168789.6 | X25: 124950 | Y25: 253474.16 | Z25: =ROUND(AVERAGE(X25:Y25),1) -> 189212.1 | AA25: 124950 | AB25: 259811.01 | AC25: =ROUND(AVERAGE(AA25:AB25),1) -> 192380.5 | AD25: 149940 | AE25: 438881.04 | AF25: =ROUND(AVERAGE(AD25:AE25),1) -> 294410.5 | AG25: 74970 | AH25: 255979.35 | AI25: =ROUND(AVERAGE(AG25:AH25),1) -> 165474.7 | AJ25: 116620 | AK25: 427909.01 | AL25: =ROUND(AVERAGE(AJ25:AK25),1) -> 272264.5 | AM25: 116620 | AN25: 211262.15 | AO25: =ROUND(AVERAGE(AM25:AN25),1) -> 163941.1 | AP25: 108290 | AQ25: 259811.01 | AR25: =ROUND(AVERAGE(AP25:AQ25),1) -> 184050.5 | AS25: 124950 | AT25: 214431.08 | AU25: =ROUND(AVERAGE(AS25:AT25),1) -> 169690.5 | AV25: 124950 | AW25: 268904.4 | AX25: =ROUND(AVERAGE(AV25:AW25),1) -> 196927.2 | AY25: 124950 | AZ25: 276971.53 | BA25: =ROUND(AVERAGE(AY25:AZ25),1) -> 200960.8 | BB25: 108290 | BC25: 243358.87 | BD25: =ROUND(AVERAGE(BB25:BC25),1) -> 175824.4 | BE25: 124950 | BF25: 276971.53 | BG25: =ROUND(AVERAGE(BE25:BF25),1) -> 200960.8 | BH25: 108290 | BI25: 247009.26 | BJ25: =ROUND(AVERAGE(BH25:BI25),1) -> 177649.6 | BK25: 74970 | BL25: 247009.26 | BM25: =ROUND(AVERAGE(BK25:BL25),1) -> 160989.6 | BN25: 74970 | BO25: 235897.4 | BP25: =ROUND(AVERAGE(BN25:BO25),1) -> 155433.7 | BQ25: 74970 | BR25: 195196.65 | BS25: =ROUND(AVERAGE(BQ25:BR25),1) -> 135083.3 | BT25: 99960 | BU25: 198612.59 | BV25: =ROUND(AVERAGE(BT25:BU25),1) -> 149286.3 | BW25: 99960 | BX25: 195633.4 | BY25: =ROUND(AVERAGE(BW25:BX25),1) -> 147796.7 | BZ25: 149940 | CA25: 463458.38 | CB25: =ROUND(AVERAGE(BZ25:CA25),1) -> 306699.2 | CC25: 124950 | CD25: 456506.5 | CE25: =ROUND(AVERAGE(CC25:CD25),1) -> 290728.3 | CF25: 149940 | CG25: 459982.44 | CH25: =ROUND(AVERAGE(CF25:CG25),1) -> 304961.2 | CI25: 124950 | CJ25: 456506.5 | CK25: =ROUND(AVERAGE(CI25:CJ25),1) -> 290728.3 | CL25: 124950 | CM25: 486631.29 | CN25: =ROUND(AVERAGE(CL25:CM25),1) -> 305790.6 | CO25: 124950 | CP25: 478115.25 | CQ25: =ROUND(AVERAGE(CO25:CP25),1) -> 301532.6 | CR25: 124950 | CS25: 501230.23 | CT25: =ROUND(AVERAGE(CR25:CS25),1) -> 313090.1
A26: 2 | B26: MOTOR | C26: 0 | D26: 0 | E26: 0 | F26: 0 | G26: 0 | H26: 0 | I26: 0 | J26: 0 | K26: 0 | L26: 0 | M26: 0 | N26: 0 | O26: 0 | P26: 0 | Q26: 0 | R26: 0 | S26: 0 | T26: 0 | U26: 0 | V26: 0 | W26: 0 | X26: 0 | Y26: 0 | Z26: 0 | AA26: 0 | AB26: 0 | AC26: 0 | AD26: 0 | AE26: 0 | AF26: 0 | AG26: 0 | AH26: 0 | AI26: 0 | AJ26: 0 | AK26: 0 | AL26: 0 | AM26: 0 | AN26: 0 | AO26: 0 | AP26: 0 | AQ26: 0 | AR26: 0 | AS26: 0 | AT26: 0 | AU26: 0 | AV26: 0 | AW26: 0 | AX26: 0 | AY26: 0 | AZ26: 0 | BA26: 0 | BB26: 0 | BC26: 0 | BD26: 0 | BE26: 0 | BF26: 0 | BG26: 0 | BH26: 0 | BI26: 0 | BJ26: 0 | BK26: 0 | BL26: 0 | BM26: 0 | BN26: 0 | BO26: 0 | BP26: 0 | BQ26: 0 | BR26: 0 | BS26: 0 | BT26: 0 | BU26: 0 | BV26: 0 | BW26: 0 | BX26: 0 | BY26: 0 | BZ26: 0 | CA26: 0 | CB26: 0 | CC26: 0 | CD26: 0 | CE26: 0 | CF26: 0 | CG26: 0 | CH26: 0 | CI26: 0 | CJ26: 0 | CK26: 0 | CL26: 0 | CM26: 0 | CN26: 0 | CO26: 0 | CP26: 0 | CQ26: 0 | CR26: 0 | CS26: 0 | CT26: 0
A27: 2.1 | B27: PISTONES (JUEGO) | C27: 634270 | D27: 1119341.3 | E27: =ROUND(AVERAGE(C27:D27),1) -> 876805.6 | F27: 580125 | G27: 1090121.5 | H27: =ROUND(AVERAGE(F27:G27),1) -> 835123.3 | I27: 603330 | J27: 1104731.4 | K27: =ROUND(AVERAGE(I27:J27),1) -> 854030.7 | L27: 743750 | M27: 1132349.7 | N27: =ROUND(AVERAGE(L27:M27),1) -> 938049.9 | O27: 781235 | P27: 1188967.2 | Q27: =ROUND(AVERAGE(O27:P27),1) -> 985101.1 | R27: 959140 | S27: 1307863.9 | T27: =ROUND(AVERAGE(R27:S27),1) -> 1133502 | U27: 781235 | V27: 1158518.2 | W27: =ROUND(AVERAGE(U27:V27),1) -> 969876.6 | X27: 1183455 | Y27: 2697207.9 | Z27: =ROUND(AVERAGE(X27:Y27),1) -> 1940331.5 | AA27: 1183455 | AB27: 2764638.1 | AC27: =ROUND(AVERAGE(AA27:AB27),1) -> 1974046.6 | AD27: 1413065.5 | AE27: 4469806.1 | AF27: =ROUND(AVERAGE(AD27:AE27),1) -> 2941435.8 | AG27: 634270 | AH27: 1340560.5 | AI27: =ROUND(AVERAGE(AG27:AH27),1) -> 987415.3 | AJ27: 1152515 | AK27: 4358060.9 | AL27: =ROUND(AVERAGE(AJ27:AK27),1) -> 2755288 | AM27: 920465 | AN27: 1089558.8 | AO27: =ROUND(AVERAGE(AM27:AN27),1) -> 1005011.9 | AP27: 850850 | AQ27: 2764638.1 | AR27: =ROUND(AVERAGE(AP27:AQ27),1) -> 1807744.1 | AS27: 982345 | AT27: 1105902.2 | AU27: =ROUND(AVERAGE(AS27:AT27),1) -> 1044123.6 | AV27: 1156144.5 | AW27: 2861400.5 | AX27: =ROUND(AVERAGE(AV27:AW27),1) -> 2008772.5 | AY27: 1156144.5 | AZ27: 2947242.5 | BA27: =ROUND(AVERAGE(AY27:AZ27),1) -> 2051693.5 | BB27: 788970 | BC27: 1186501.8 | BD27: =ROUND(AVERAGE(BB27:BC27),1) -> 987735.9 | BE27: 1156144.5 | BF27: 2947242.5 | BG27: =ROUND(AVERAGE(BE27:BF27),1) -> 2051693.5 | BH27: 788970 | BI27: 1204299.3 | BJ27: =ROUND(AVERAGE(BH27:BI27),1) -> 996634.6 | BK27: 634270 | BL27: 1204299.3 | BM27: =ROUND(AVERAGE(BK27:BL27),1) -> 919284.6 | BN27: 634270 | BO27: 1150123.2 | BP27: =ROUND(AVERAGE(BN27:BO27),1) -> 892196.6 | BQ27: 634270 | BR27: 1106473.4 | BS27: =ROUND(AVERAGE(BQ27:BR27),1) -> 870371.7 | BT27: 781235 | BU27: 1125836.6 | BV27: =ROUND(AVERAGE(BT27:BU27),1) -> 953535.8 | BW27: 781235 | BX27: 1108949.1 | BY27: =ROUND(AVERAGE(BW27:BX27),1) -> 945092 | BZ27: 1292161.5 | CA27: 4720115.2 | CB27: =ROUND(AVERAGE(BZ27:CA27),1) -> 3006138.4 | CC27: 1156144.5 | CD27: 4649313.5 | CE27: =ROUND(AVERAGE(CC27:CD27),1) -> 2902729 | CF27: 1292161.5 | CG27: 4684714.4 | CH27: =ROUND(AVERAGE(CF27:CG27),1) -> 2988437.9 | CI27: 1156144.5 | CJ27: 4649313.5 | CK27: =ROUND(AVERAGE(CI27:CJ27),1) -> 2902729 | CL27: 1156144.5 | CM27: 4956121 | CN27: =ROUND(AVERAGE(CL27:CM27),1) -> 3056132.7 | CO27: 1156144.5 | CP27: 4869388.9 | CQ27: =ROUND(AVERAGE(CO27:CP27),1) -> 3012766.7 | CR27: 1155787.5 | CS27: 5104804.6 | CT27: =ROUND(AVERAGE(CR27:CS27),1) -> 3130296.1
A28: 2.2 | B28: VALVULAS DE ADMISION( JUEGO) | C28: 257040 | D28: 1094390.1 | E28: =ROUND(AVERAGE(C28:D28),1) -> 675715 | F28: 240975 | G28: 682260.99 | H28: =ROUND(AVERAGE(F28:G28),1) -> 461618 | I28: 249007.5 | J28: 888325.52 | K28: =ROUND(AVERAGE(I28:J28),1) -> 568666.5 | L28: 305235 | M28: 910533.66 | N28: =ROUND(AVERAGE(L28:M28),1) -> 607884.3 | O28: 321300 | P28: 956060.34 | Q28: =ROUND(AVERAGE(O28:P28),1) -> 638680.2 | R28: 393592.5 | S28: 1051666.4 | T28: =ROUND(AVERAGE(R28:S28),1) -> 722629.4 | U28: 321300 | V28: 1132693.7 | W28: =ROUND(AVERAGE(U28:V28),1) -> 726996.9 | X28: 471835 | Y28: 838444 | Z28: =ROUND(AVERAGE(X28:Y28),1) -> 655139.5 | AA28: 471835 | AB28: 859405.1 | AC28: =ROUND(AVERAGE(AA28:AB28),1) -> 665620 | AD28: 572390 | AE28: 2153601.6 | AF28: =ROUND(AVERAGE(AD28:AE28),1) -> 1362995.8 | AG28: 257040 | AH28: 1077958 | AI28: =ROUND(AVERAGE(AG28:AH28),1) -> 667499 | AJ28: 473917.5 | AK28: 2099761.6 | AL28: =ROUND(AVERAGE(AJ28:AK28),1) -> 1286839.5 | AM28: 377527.5 | AN28: 710192.43 | AO28: =ROUND(AVERAGE(AM28:AN28),1) -> 543860 | AP28: 353430 | AQ28: 859405.1 | AR28: =ROUND(AVERAGE(AP28:AQ28),1) -> 606417.5 | AS28: 409657.5 | AT28: 720845.31 | AU28: =ROUND(AVERAGE(AS28:AT28),1) -> 565251.4 | AV28: 471835 | AW28: 889484.27 | AX28: =ROUND(AVERAGE(AV28:AW28),1) -> 680659.6 | AY28: 471835 | AZ28: 916168.8 | BA28: =ROUND(AVERAGE(AY28:AZ28),1) -> 694001.9 | BB28: 321300 | BC28: 1160053.5 | BD28: =ROUND(AVERAGE(BB28:BC28),1) -> 740676.7 | BE28: 471835 | BF28: 916168.8 | BG28: =ROUND(AVERAGE(BE28:BF28),1) -> 694001.9 | BH28: 321300 | BI28: 1177454.3 | BJ28: =ROUND(AVERAGE(BH28:BI28),1) -> 749377.1 | BK28: 257040 | BL28: 1177454.3 | BM28: =ROUND(AVERAGE(BK28:BL28),1) -> 717247.1 | BN28: 257040 | BO28: 1124485.8 | BP28: =ROUND(AVERAGE(BN28:BO28),1) -> 690762.9 | BQ28: 257040 | BR28: 692494.9 | BS28: =ROUND(AVERAGE(BQ28:BR28),1) -> 474767.5 | BT28: 321300 | BU28: 704613.56 | BV28: =ROUND(AVERAGE(BT28:BU28),1) -> 512956.8 | BW28: 321300 | BX28: 694044.36 | BY28: =ROUND(AVERAGE(BW28:BX28),1) -> 507672.2 | BZ28: 525980 | CA28: 2274203.3 | CB28: =ROUND(AVERAGE(BZ28:CA28),1) -> 1400091.6 | CC28: 471835 | CD28: 2240090.2 | CE28: =ROUND(AVERAGE(CC28:CD28),1) -> 1355962.6 | CF28: 502180 | CG28: 2257146.8 | CH28: =ROUND(AVERAGE(CF28:CG28),1) -> 1379663.4 | CI28: 471835 | CJ28: 2240090.2 | CK28: =ROUND(AVERAGE(CI28:CJ28),1) -> 1355962.6 | CL28: 471835 | CM28: 2387913.5 | CN28: =ROUND(AVERAGE(CL28:CM28),1) -> 1429874.2 | CO28: 471835 | CP28: 2346125 | CQ28: =ROUND(AVERAGE(CO28:CP28),1) -> 1408980 | CR28: 471835 | CS28: 2459550.9 | CT28: =ROUND(AVERAGE(CR28:CS28),1) -> 1465692.9
A29: 2.3 | B29: VALVULAS DE ESCAPE (JUEGO) | C29: 297202.5 | D29: 881912.76 | E29: =ROUND(AVERAGE(C29:D29),1) -> 589557.6 | F29: 273105 | G29: 514738.96 | H29: =ROUND(AVERAGE(F29:G29),1) -> 393922 | I29: 289170 | J29: 698325.86 | K29: =ROUND(AVERAGE(I29:J29),1) -> 493747.9 | L29: 353430 | M29: 715784.01 | N29: =ROUND(AVERAGE(L29:M29),1) -> 534607 | O29: 369495 | P29: 751573.21 | Q29: =ROUND(AVERAGE(O29:P29),1) -> 560534.1 | R29: 457852.5 | S29: 826730.53 | T29: =ROUND(AVERAGE(R29:S29),1) -> 642291.5 | U29: 369495 | V29: 912779.71 | W29: =ROUND(AVERAGE(U29:V29),1) -> 641137.4 | X29: 541450 | Y29: 779468.35 | Z29: =ROUND(AVERAGE(X29:Y29),1) -> 660459.2 | AA29: 541450 | AB29: 798955.06 | AC29: =ROUND(AVERAGE(AA29:AB29),1) -> 670202.5 | AD29: 665210 | AE29: 2173728.7 | AF29: =ROUND(AVERAGE(AD29:AE29),1) -> 1419469.4 | AG29: 297202.5 | AH29: 847398.79 | AI29: =ROUND(AVERAGE(AG29:AH29),1) -> 572300.6 | AJ29: 525980 | AK29: 2119385.5 | AL29: =ROUND(AVERAGE(AJ29:AK29),1) -> 1322682.8 | AM29: 441787.5 | AN29: 687465.63 | AO29: =ROUND(AVERAGE(AM29:AN29),1) -> 564626.6 | AP29: 409657.5 | AQ29: 798955.06 | AR29: =ROUND(AVERAGE(AP29:AQ29),1) -> 604306.3 | AS29: 473917.5 | AT29: 697777.61 | AU29: =ROUND(AVERAGE(AS29:AT29),1) -> 585847.6 | AV29: 541450 | AW29: 826918.48 | AX29: =ROUND(AVERAGE(AV29:AW29),1) -> 684184.2 | AY29: 541450 | AZ29: 851726.04 | BA29: =ROUND(AVERAGE(AY29:AZ29),1) -> 696588 | BB29: 377527.5 | BC29: 934827.53 | BD29: =ROUND(AVERAGE(BB29:BC29),1) -> 656177.5 | BE29: 541450 | BF29: 851726.04 | BG29: =ROUND(AVERAGE(BE29:BF29),1) -> 696588 | BH29: 377527.5 | BI29: 948849.94 | BJ29: =ROUND(AVERAGE(BH29:BI29),1) -> 663188.7 | BK29: 297202.5 | BL29: 948849.94 | BM29: =ROUND(AVERAGE(BK29:BL29),1) -> 623026.2 | BN29: 297202.5 | BO29: 906165.36 | BP29: =ROUND(AVERAGE(BN29:BO29),1) -> 601683.9 | BQ29: 297202.5 | BR29: 522460.05 | BS29: =ROUND(AVERAGE(BQ29:BR29),1) -> 409831.3 | BT29: 369495 | BU29: 531603.1 | BV29: =ROUND(AVERAGE(BT29:BU29),1) -> 450549 | BW29: 369495 | BX29: 523629.05 | BY29: =ROUND(AVERAGE(BW29:BX29),1) -> 446562 | BZ29: 611065 | CA29: 2295457.5 | CB29: =ROUND(AVERAGE(BZ29:CA29),1) -> 1453261.3 | CC29: 541450 | CD29: 2261025.7 | CE29: =ROUND(AVERAGE(CC29:CD29),1) -> 1401237.8 | CF29: 611065 | CG29: 2278241.6 | CH29: =ROUND(AVERAGE(CF29:CG29),1) -> 1444653.3 | CI29: 541450 | CJ29: 2261025.7 | CK29: =ROUND(AVERAGE(CI29:CJ29),1) -> 1401237.8 | CL29: 541450 | CM29: 2410230.4 | CN29: =ROUND(AVERAGE(CL29:CM29),1) -> 1475840.2 | CO29: 541450 | CP29: 2368051.4 | CQ29: =ROUND(AVERAGE(CO29:CP29),1) -> 1454750.7 | CR29: 541450 | CS29: 2482537.3 | CT29: =ROUND(AVERAGE(CR29:CS29),1) -> 1511993.7
A30: 2.4 | B30: ANILLOS (JUEGO) | C30: 353430 | D30: 788773.22 | E30: =ROUND(AVERAGE(C30:D30),1) -> 571101.6 | F30: 329332.5 | G30: 629981.74 | H30: =ROUND(AVERAGE(F30:G30),1) -> 479657.1 | I30: 337365 | J30: 709377.48 | K30: =ROUND(AVERAGE(I30:J30),1) -> 523371.2 | L30: 417690 | M30: 727111.91 | N30: =ROUND(AVERAGE(L30:M30),1) -> 572401 | O30: 441787.5 | P30: 763467.51 | Q30: =ROUND(AVERAGE(O30:P30),1) -> 602627.5 | R30: 518245 | S30: 839814.26 | T30: =ROUND(AVERAGE(R30:S30),1) -> 679029.6 | U30: 441787.5 | V30: 816380.28 | W30: =ROUND(AVERAGE(U30:V30),1) -> 629083.9 | X30: 642005 | Y30: 1344511 | Z30: =ROUND(AVERAGE(X30:Y30),1) -> 993258 | AA30: 642005 | AB30: 1378123.7 | AC30: =ROUND(AVERAGE(AA30:AB30),1) -> 1010064.4 | AD30: 781235 | AE30: 2073799.4 | AF30: =ROUND(AVERAGE(AD30:AE30),1) -> 1427517.2 | AG30: 353430 | AH30: 860809.62 | AI30: =ROUND(AVERAGE(AG30:AH30),1) -> 607119.8 | AJ30: 626535 | AK30: 2021954.4 | AL30: =ROUND(AVERAGE(AJ30:AK30),1) -> 1324244.7 | AM30: 502775 | AN30: 564229.38 | AO30: =ROUND(AVERAGE(AM30:AN30),1) -> 533502.2 | AP30: 481950 | AQ30: 1378123.7 | AR30: =ROUND(AVERAGE(AP30:AQ30),1) -> 930036.9 | AS30: 541450 | AT30: 572692.82 | AU30: =ROUND(AVERAGE(AS30:AT30),1) -> 557071.4 | AV30: 642005 | AW30: 1426358.1 | AX30: =ROUND(AVERAGE(AV30:AW30),1) -> 1034181.5 | AY30: 642005 | AZ30: 1469148.8 | BA30: =ROUND(AVERAGE(AY30:AZ30),1) -> 1055576.9 | BB30: 441787.5 | BC30: 836099.61 | BD30: =ROUND(AVERAGE(BB30:BC30),1) -> 638943.6 | BE30: 642005 | BF30: 1469148.8 | BG30: =ROUND(AVERAGE(BE30:BF30),1) -> 1055576.9 | BH30: 441787.5 | BI30: 848641.1 | BJ30: =ROUND(AVERAGE(BH30:BI30),1) -> 645214.3 | BK30: 353430 | BL30: 848641.1 | BM30: =ROUND(AVERAGE(BK30:BL30),1) -> 601035.6 | BN30: 353430 | BO30: 810464.48 | BP30: =ROUND(AVERAGE(BN30:BO30),1) -> 581947.2 | BQ30: 353430 | BR30: 639431.46 | BS30: =ROUND(AVERAGE(BQ30:BR30),1) -> 496430.7 | BT30: 441787.5 | BU30: 650621.51 | BV30: =ROUND(AVERAGE(BT30:BU30),1) -> 546204.5 | BW30: 441787.5 | BX30: 640862.19 | BY30: =ROUND(AVERAGE(BW30:BX30),1) -> 541324.8 | BZ30: 719355 | CA30: 2189932.2 | CB30: =ROUND(AVERAGE(BZ30:CA30),1) -> 1454643.6 | CC30: 642005 | CD30: 2157083.2 | CE30: =ROUND(AVERAGE(CC30:CD30),1) -> 1399544.1 | CF30: 719355 | CG30: 2173507.7 | CH30: =ROUND(AVERAGE(CF30:CG30),1) -> 1446431.3 | CI30: 642005 | CJ30: 2157083.2 | CK30: =ROUND(AVERAGE(CI30:CJ30),1) -> 1399544.1 | CL30: 642005 | CM30: 2299428.8 | CN30: =ROUND(AVERAGE(CL30:CM30),1) -> 1470716.9 | CO30: 642005 | CP30: 2259188.8 | CQ30: =ROUND(AVERAGE(CO30:CP30),1) -> 1450596.9 | CR30: 642005 | CS30: 2368411.6 | CT30: =ROUND(AVERAGE(CR30:CS30),1) -> 1505208.3
A31: 2.5 | B31: ASPAS FAN CLUTHS | C31: 549185 | D31: 307020 | E31: =ROUND(AVERAGE(C31:D31),1) -> 428102.5 | F31: 510510 | G31: 497420 | H31: =ROUND(AVERAGE(F31:G31),1) -> 503965 | I31: 525980 | J31: 521220 | K31: =ROUND(AVERAGE(I31:J31),1) -> 523600 | L31: 649740 | M31: 534250.5 | N31: =ROUND(AVERAGE(L31:M31),1) -> 591995.3 | O31: 680680 | P31: 560963.03 | Q31: =ROUND(AVERAGE(O31:P31),1) -> 620821.5 | R31: 835380 | S31: 617059.33 | T31: =ROUND(AVERAGE(R31:S31),1) -> 726219.7 | U31: 680680 | V31: 564095.7 | W31: =ROUND(AVERAGE(U31:V31),1) -> 622387.9 | X31: 874055 | Y31: 439337.29 | Z31: =ROUND(AVERAGE(X31:Y31),1) -> 656696.1 | AA31: 874055 | AB31: 450320.72 | AC31: =ROUND(AVERAGE(AA31:AB31),1) -> 662187.9 | AD31: 1075165 | AE31: 796337.29 | AF31: =ROUND(AVERAGE(AD31:AE31),1) -> 935751.1 | AG31: 549185 | AH31: 632485.81 | AI31: =ROUND(AVERAGE(AG31:AH31),1) -> 590835.4 | AJ31: 850850 | AK31: 776428.86 | AL31: =ROUND(AVERAGE(AJ31:AK31),1) -> 813639.4 | AM31: 804440 | AN31: 460530 | AO31: =ROUND(AVERAGE(AM31:AN31),1) -> 632485 | AP31: 750295 | AQ31: 450320.72 | AR31: =ROUND(AVERAGE(AP31:AQ31),1) -> 600307.9 | AS31: 874055 | AT31: 467437.95 | AU31: =ROUND(AVERAGE(AS31:AT31),1) -> 670746.5 | AV31: 874055 | AW31: 466081.95 | AX31: =ROUND(AVERAGE(AV31:AW31),1) -> 670068.5 | AY31: 874055 | AZ31: 480064.41 | BA31: =ROUND(AVERAGE(AY31:AZ31),1) -> 677059.7 | BB31: 688415 | BC31: 325441.2 | BD31: =ROUND(AVERAGE(BB31:BC31),1) -> 506928.1 | BE31: 874055 | BF31: 480064.41 | BG31: =ROUND(AVERAGE(BE31:BF31),1) -> 677059.7 | BH31: 688415 | BI31: 330322.82 | BJ31: =ROUND(AVERAGE(BH31:BI31),1) -> 509368.9 | BK31: 549185 | BL31: 330322.82 | BM31: =ROUND(AVERAGE(BK31:BL31),1) -> 439753.9 | BN31: 549185 | BO31: 315463.05 | BP31: =ROUND(AVERAGE(BN31:BO31),1) -> 432324 | BQ31: 549185 | BR31: 504881.3 | BS31: =ROUND(AVERAGE(BQ31:BR31),1) -> 527033.2 | BT31: 680680 | BU31: 513716.72 | BV31: =ROUND(AVERAGE(BT31:BU31),1) -> 597198.4 | BW31: 680680 | BX31: 506010.97 | BY31: =ROUND(AVERAGE(BW31:BX31),1) -> 593345.5 | BZ31: 959675.5 | CA31: 840932.18 | CB31: =ROUND(AVERAGE(BZ31:CA31),1) -> 900303.8 | CC31: 874055 | CD31: 828318.2 | CE31: =ROUND(AVERAGE(CC31:CD31),1) -> 851186.6 | CF31: 959675.5 | CG31: 834625.19 | CH31: =ROUND(AVERAGE(CF31:CG31),1) -> 897150.3 | CI31: 874055 | CJ31: 828318.2 | CK31: =ROUND(AVERAGE(CI31:CJ31),1) -> 851186.6 | CL31: 874055 | CM31: 882978.79 | CN31: =ROUND(AVERAGE(CL31:CM31),1) -> 878516.9 | CO31: 874055 | CP31: 867526.66 | CQ31: =ROUND(AVERAGE(CO31:CP31),1) -> 870790.8 | CR31: 874055 | CS31: 909468.15 | CT31: =ROUND(AVERAGE(CR31:CS31),1) -> 891761.6
A32: 2.6 | B32: BASE PATIN TENSOR MONOCORREA | C32: 208845 | D32: 235620 | E32: =ROUND(AVERAGE(C32:D32),1) -> 222232.5 | F32: 184747.5 | G32: 509320 | H32: =ROUND(AVERAGE(F32:G32),1) -> 347033.8 | I32: 192780 | J32: 491470 | K32: =ROUND(AVERAGE(I32:J32),1) -> 342125 | L32: 240975 | M32: 503756.75 | N32: =ROUND(AVERAGE(L32:M32),1) -> 372365.9 | O32: 257040 | P32: 528944.59 | Q32: =ROUND(AVERAGE(O32:P32),1) -> 392992.3 | R32: 313267.5 | S32: 581839.05 | T32: =ROUND(AVERAGE(R32:S32),1) -> 447553.3 | U32: 257040 | V32: 490196.7 | W32: =ROUND(AVERAGE(U32:V32),1) -> 373618.4 | X32: 321300 | Y32: 260778.98 | Z32: =ROUND(AVERAGE(X32:Y32),1) -> 291039.5 | AA32: 321300 | AB32: 267298.45 | AC32: =ROUND(AVERAGE(AA32:AB32),1) -> 294299.2 | AD32: 401625 | AE32: 379778.98 | AF32: =ROUND(AVERAGE(AD32:AE32),1) -> 390702 | AG32: 208845 | AH32: 596385.02 | AI32: =ROUND(AVERAGE(AG32:AH32),1) -> 402615 | AJ32: 313267.5 | AK32: 370284.51 | AL32: =ROUND(AVERAGE(AJ32:AK32),1) -> 341776 | AM32: 297202.5 | AN32: 220439.17 | AO32: =ROUND(AVERAGE(AM32:AN32),1) -> 258820.8 | AP32: 273105 | AQ32: 267298.45 | AR32: =ROUND(AVERAGE(AP32:AQ32),1) -> 270201.7 | AS32: 321300 | AT32: 223745.76 | AU32: =ROUND(AVERAGE(AS32:AT32),1) -> 272522.9 | AV32: 321300 | AW32: 276653.9 | AX32: =ROUND(AVERAGE(AV32:AW32),1) -> 298977 | AY32: 321300 | AZ32: 284953.52 | BA32: =ROUND(AVERAGE(AY32:AZ32),1) -> 303126.8 | BB32: 257040 | BC32: 249757.2 | BD32: =ROUND(AVERAGE(BB32:BC32),1) -> 253398.6 | BE32: 321300 | BF32: 284953.52 | BG32: =ROUND(AVERAGE(BE32:BF32),1) -> 303126.8 | BH32: 257040 | BI32: 253503.56 | BJ32: =ROUND(AVERAGE(BH32:BI32),1) -> 255271.8 | BK32: 208845 | BL32: 253503.56 | BM32: =ROUND(AVERAGE(BK32:BL32),1) -> 231174.3 | BN32: 208845 | BO32: 242099.55 | BP32: =ROUND(AVERAGE(BN32:BO32),1) -> 225472.3 | BQ32: 208845 | BR32: 516959.8 | BS32: =ROUND(AVERAGE(BQ32:BR32),1) -> 362902.4 | BT32: 257040 | BU32: 526006.6 | BV32: =ROUND(AVERAGE(BT32:BU32),1) -> 391523.3 | BW32: 257040 | BX32: 518116.5 | BY32: =ROUND(AVERAGE(BW32:BX32),1) -> 387578.2 | BZ32: 361462.5 | CA32: 401046.6 | CB32: =ROUND(AVERAGE(BZ32:CA32),1) -> 381254.6 | CC32: 321300 | CD32: 395030.9 | CE32: =ROUND(AVERAGE(CC32:CD32),1) -> 358165.5 | CF32: 361462.5 | CG32: 398038.75 | CH32: =ROUND(AVERAGE(CF32:CG32),1) -> 379750.6 | CI32: 321300 | CJ32: 395030.9 | CK32: =ROUND(AVERAGE(CI32:CJ32),1) -> 358165.5 | CL32: 321300 | CM32: 421098.93 | CN32: =ROUND(AVERAGE(CL32:CM32),1) -> 371199.5 | CO32: 321300 | CP32: 413729.7 | CQ32: =ROUND(AVERAGE(CO32:CP32),1) -> 367514.9 | CR32: 321300 | CS32: 433731.9 | CT32: =ROUND(AVERAGE(CR32:CS32),1) -> 377516
A33: 2.7 | B33: BOMBA DE ACEITE | C33: 481950 | D33: 1300478.7 | E33: =ROUND(AVERAGE(C33:D33),1) -> 891214.4 | F33: 441787.5 | G33: 887221.07 | H33: =ROUND(AVERAGE(F33:G33),1) -> 664504.3 | I33: 457852.5 | J33: 1093849.9 | K33: =ROUND(AVERAGE(I33:J33),1) -> 775851.2 | L33: 541450 | M33: 1121196.1 | N33: =ROUND(AVERAGE(L33:M33),1) -> 831323.1 | O33: 572390 | P33: 1177256 | Q33: =ROUND(AVERAGE(O33:P33),1) -> 874823 | R33: 696150 | S33: 1294981.6 | T33: =ROUND(AVERAGE(R33:S33),1) -> 995565.8 | U33: 572390 | V33: 1345995.5 | W33: =ROUND(AVERAGE(U33:V33),1) -> 959192.7 | X33: 866320 | Y33: 1719367 | Z33: =ROUND(AVERAGE(X33:Y33),1) -> 1292843.5 | AA33: 866320 | AB33: 1762351.1 | AC33: =ROUND(AVERAGE(AA33:AB33),1) -> 1314335.6 | AD33: 1051960 | AE33: 3325053.6 | AF33: =ROUND(AVERAGE(AD33:AE33),1) -> 2188506.8 | AG33: 481950 | AH33: 1327356.1 | AI33: =ROUND(AVERAGE(AG33:AH33),1) -> 904653 | AJ33: 835380 | AK33: 3241927.3 | AL33: =ROUND(AVERAGE(AJ33:AK33),1) -> 2038653.6 | AM33: 672945 | AN33: 1333540 | AO33: =ROUND(AVERAGE(AM33:AN33),1) -> 1003242.5 | AP33: 618800 | AQ33: 1762351.1 | AR33: =ROUND(AVERAGE(AP33:AQ33),1) -> 1190575.6 | AS33: 734825 | AT33: 1353543.1 | AU33: =ROUND(AVERAGE(AS33:AT33),1) -> 1044184.1 | AV33: 866320 | AW33: 1824033.4 | AX33: =ROUND(AVERAGE(AV33:AW33),1) -> 1345176.7 | AY33: 866320 | AZ33: 1878754.4 | BA33: =ROUND(AVERAGE(AY33:AZ33),1) -> 1372537.2 | BB33: 572390 | BC33: 1378507.5 | BD33: =ROUND(AVERAGE(BB33:BC33),1) -> 975448.7 | BE33: 866320 | BF33: 1878754.4 | BG33: =ROUND(AVERAGE(BE33:BF33),1) -> 1372537.2 | BH33: 572390 | BI33: 1399185.1 | BJ33: =ROUND(AVERAGE(BH33:BI33),1) -> 985787.5 | BK33: 481950 | BL33: 1399185.1 | BM33: =ROUND(AVERAGE(BK33:BL33),1) -> 940567.5 | BN33: 481950 | BO33: 1336241.9 | BP33: =ROUND(AVERAGE(BN33:BO33),1) -> 909095.9 | BQ33: 481950 | BR33: 900529.39 | BS33: =ROUND(AVERAGE(BQ33:BR33),1) -> 691239.7 | BT33: 572390 | BU33: 916288.65 | BV33: =ROUND(AVERAGE(BT33:BU33),1) -> 744339.3 | BW33: 572390 | BX33: 902544.32 | BY33: =ROUND(AVERAGE(BW33:BX33),1) -> 737467.2 | BZ33: 944562.5 | CA33: 3511256.6 | CB33: =ROUND(AVERAGE(BZ33:CA33),1) -> 2227909.6 | CC33: 866320 | CD33: 3458587.8 | CE33: =ROUND(AVERAGE(CC33:CD33),1) -> 2162453.9 | CF33: 944562.5 | CG33: 3484922.2 | CH33: =ROUND(AVERAGE(CF33:CG33),1) -> 2214742.3 | CI33: 866320 | CJ33: 3458587.8 | CK33: =ROUND(AVERAGE(CI33:CJ33),1) -> 2162453.9 | CL33: 866320 | CM33: 3686819.4 | CN33: =ROUND(AVERAGE(CL33:CM33),1) -> 2276569.7 | CO33: 866320 | CP33: 3622300.1 | CQ33: =ROUND(AVERAGE(CO33:CP33),1) -> 2244310.1 | CR33: 866320 | CS33: 3797424 | CT33: =ROUND(AVERAGE(CR33:CS33),1) -> 2331872
A34: 2.8 | B34: BOMBA DE AGUA | C34: 353430 | D34: 530717.78 | E34: =ROUND(AVERAGE(C34:D34),1) -> 442073.9 | F34: 329332.5 | G34: 423876.6 | H34: =ROUND(AVERAGE(F34:G34),1) -> 376604.6 | I34: 456365 | J34: 477297.19 | K34: =ROUND(AVERAGE(I34:J34),1) -> 466831.1 | L34: 417690 | M34: 489229.62 | N34: =ROUND(AVERAGE(L34:M34),1) -> 453459.8 | O34: 441787.5 | P34: 513691.1 | Q34: =ROUND(AVERAGE(O34:P34),1) -> 477739.3 | R34: 518245 | S34: 565060.21 | T34: =ROUND(AVERAGE(R34:S34),1) -> 541652.6 | U34: 441787.5 | V34: 549292.9 | W34: =ROUND(AVERAGE(U34:V34),1) -> 495540.2 | X34: 642005 | Y34: 871856.9 | Z34: =ROUND(AVERAGE(X34:Y34),1) -> 756931 | AA34: 642005 | AB34: 893653.33 | AC34: =ROUND(AVERAGE(AA34:AB34),1) -> 767829.2 | AD34: 781235 | AE34: 1321435.3 | AF34: =ROUND(AVERAGE(AD34:AE34),1) -> 1051335.2 | AG34: 353430 | AH34: 579186.72 | AI34: =ROUND(AVERAGE(AG34:AH34),1) -> 466308.4 | AJ34: 626535 | AK34: 1288399.4 | AL34: =ROUND(AVERAGE(AJ34:AK34),1) -> 957467.2 | AM34: 502775 | AN34: 475094.58 | AO34: =ROUND(AVERAGE(AM34:AN34),1) -> 488934.8 | AP34: 481950 | AQ34: 893653.33 | AR34: =ROUND(AVERAGE(AP34:AQ34),1) -> 687801.7 | AS34: 541450 | AT34: 482221 | AU34: =ROUND(AVERAGE(AS34:AT34),1) -> 511835.5 | AV34: 642005 | AW34: 924931.19 | AX34: =ROUND(AVERAGE(AV34:AW34),1) -> 783468.1 | AY34: 642005 | AZ34: 952679.13 | BA34: =ROUND(AVERAGE(AY34:AZ34),1) -> 797342.1 | BB34: 441787.5 | BC34: 562560.85 | BD34: =ROUND(AVERAGE(BB34:BC34),1) -> 502174.2 | BE34: 642005 | BF34: 952679.13 | BG34: =ROUND(AVERAGE(BE34:BF34),1) -> 797342.1 | BH34: 441787.5 | BI34: 570999.26 | BJ34: =ROUND(AVERAGE(BH34:BI34),1) -> 506393.4 | BK34: 353430 | BL34: 570999.26 | BM34: =ROUND(AVERAGE(BK34:BL34),1) -> 462214.6 | BN34: 353430 | BO34: 545312.52 | BP34: =ROUND(AVERAGE(BN34:BO34),1) -> 449371.3 | BQ34: 353430 | BR34: 430234.75 | BS34: =ROUND(AVERAGE(BQ34:BR34),1) -> 391832.4 | BT34: 441787.5 | BU34: 437763.86 | BV34: =ROUND(AVERAGE(BT34:BU34),1) -> 439775.7 | BW34: 441787.5 | BX34: 431197.4 | BY34: =ROUND(AVERAGE(BW34:BX34),1) -> 436492.5 | BZ34: 719355 | CA34: 1395435.7 | CB34: =ROUND(AVERAGE(BZ34:CA34),1) -> 1057395.3 | CC34: 642005 | CD34: 1374504.1 | CE34: =ROUND(AVERAGE(CC34:CD34),1) -> 1008254.6 | CF34: 719355 | CG34: 1384969.9 | CH34: =ROUND(AVERAGE(CF34:CG34),1) -> 1052162.5 | CI34: 642005 | CJ34: 1374504.1 | CK34: =ROUND(AVERAGE(CI34:CJ34),1) -> 1008254.6 | CL34: 642005 | CM34: 1465207.5 | CN34: =ROUND(AVERAGE(CL34:CM34),1) -> 1053606.2 | CO34: 642005 | CP34: 1439566.3 | CQ34: =ROUND(AVERAGE(CO34:CP34),1) -> 1040785.7 | CR34: 642005 | CS34: 1509163.7 | CT34: =ROUND(AVERAGE(CR34:CS34),1) -> 1075584.3
A35: 2.9 | B35: CASQUETES BANCADA (JUEGO) | C35: 257040 | D35: 458150 | E35: =ROUND(AVERAGE(C35:D35),1) -> 357595 | F35: 240975 | G35: 285176.92 | H35: =ROUND(AVERAGE(F35:G35),1) -> 263076 | I35: 249007.5 | J35: 371663.46 | K35: =ROUND(AVERAGE(I35:J35),1) -> 310335.5 | L35: 305235 | M35: 380955.05 | N35: =ROUND(AVERAGE(L35:M35),1) -> 343095 | O35: 321300 | P35: 400002.8 | Q35: =ROUND(AVERAGE(O35:P35),1) -> 360651.4 | R35: 393592.5 | S35: 440003.08 | T35: =ROUND(AVERAGE(R35:S35),1) -> 416797.8 | U35: 321300 | V35: 474185.25 | W35: =ROUND(AVERAGE(U35:V35),1) -> 397742.6 | X35: 471835 | Y35: 463988.29 | Z35: =ROUND(AVERAGE(X35:Y35),1) -> 467911.6 | AA35: 471835 | AB35: 475588 | AC35: =ROUND(AVERAGE(AA35:AB35),1) -> 473711.5 | AD35: 572390 | AE35: 758095.31 | AF35: =ROUND(AVERAGE(AD35:AE35),1) -> 665242.7 | AG35: 257040 | AH35: 451003.15 | AI35: =ROUND(AVERAGE(AG35:AH35),1) -> 354021.6 | AJ35: 473917.5 | AK35: 739142.92 | AL35: =ROUND(AVERAGE(AJ35:AK35),1) -> 606530.2 | AM35: 377527.5 | AN35: 263608.95 | AO35: =ROUND(AVERAGE(AM35:AN35),1) -> 320568.2 | AP35: 353430 | AQ35: 475588 | AR35: =ROUND(AVERAGE(AP35:AQ35),1) -> 414509 | AS35: 409657.5 | AT35: 267563.09 | AU35: =ROUND(AVERAGE(AS35:AT35),1) -> 338610.3 | AV35: 471835 | AW35: 492233.58 | AX35: =ROUND(AVERAGE(AV35:AW35),1) -> 482034.3 | AY35: 471835 | AZ35: 507000.58 | BA35: =ROUND(AVERAGE(AY35:AZ35),1) -> 489417.8 | BB35: 321300 | BC35: 485639 | BD35: =ROUND(AVERAGE(BB35:BC35),1) -> 403469.5 | BE35: 471835 | BF35: 507000.58 | BG35: =ROUND(AVERAGE(BE35:BF35),1) -> 489417.8 | BH35: 321300 | BI35: 492923.59 | BJ35: =ROUND(AVERAGE(BH35:BI35),1) -> 407111.8 | BK35: 257040 | BL35: 492923.59 | BM35: =ROUND(AVERAGE(BK35:BL35),1) -> 374981.8 | BN35: 257040 | BO35: 470749.12 | BP35: =ROUND(AVERAGE(BN35:BO35),1) -> 363894.6 | BQ35: 257040 | BR35: 289454.57 | BS35: =ROUND(AVERAGE(BQ35:BR35),1) -> 273247.3 | BT35: 321300 | BU35: 294520.03 | BV35: =ROUND(AVERAGE(BT35:BU35),1) -> 307910 | BW35: 321300 | BX35: 290102.23 | BY35: =ROUND(AVERAGE(BW35:BX35),1) -> 305701.1 | BZ35: 525980 | CA35: 800548.64 | CB35: =ROUND(AVERAGE(BZ35:CA35),1) -> 663264.3 | CC35: 471835 | CD35: 788540.41 | CE35: =ROUND(AVERAGE(CC35:CD35),1) -> 630187.7 | CF35: 525980 | CG35: 794544.53 | CH35: =ROUND(AVERAGE(CF35:CG35),1) -> 660262.3 | CI35: 471835 | CJ35: 788540.41 | CK35: =ROUND(AVERAGE(CI35:CJ35),1) -> 630187.7 | CL35: 471835 | CM35: 840576.08 | CN35: =ROUND(AVERAGE(CL35:CM35),1) -> 656205.5 | CO35: 471835 | CP35: 825866 | CQ35: =ROUND(AVERAGE(CO35:CP35),1) -> 648850.5 | CR35: 471835 | CS35: 865793.36 | CT35: =ROUND(AVERAGE(CR35:CS35),1) -> 668814.2
A36: 2.10 | B36: CASQUETES BIELA (JUEGO) | C36: 249007.5 | D36: 423640 | E36: =ROUND(AVERAGE(C36:D36),1) -> 336323.8 | F36: 224910 | G36: 306241.12 | H36: =ROUND(AVERAGE(F36:G36),1) -> 265575.6 | I36: 232942.5 | J36: 364940.56 | K36: =ROUND(AVERAGE(I36:J36),1) -> 298941.5 | L36: 289170 | M36: 374064.08 | N36: =ROUND(AVERAGE(L36:M36),1) -> 331617 | O36: 305235 | P36: 392767.28 | Q36: =ROUND(AVERAGE(O36:P36),1) -> 349001.1 | R36: 369495 | S36: 432044.01 | T36: =ROUND(AVERAGE(R36:S36),1) -> 400769.5 | U36: 305235 | V36: 438467.4 | W36: =ROUND(AVERAGE(U36:V36),1) -> 371851.2 | X36: 457852.5 | Y36: 395770.06 | Z36: =ROUND(AVERAGE(X36:Y36),1) -> 426811.3 | AA36: 457852.5 | AB36: 405664.31 | AC36: =ROUND(AVERAGE(AA36:AB36),1) -> 431758.4 | AD36: 541450 | AE36: 578909.14 | AF36: =ROUND(AVERAGE(AD36:AE36),1) -> 560179.6 | AG36: 249305 | AH36: 442845.11 | AI36: =ROUND(AVERAGE(AG36:AH36),1) -> 346075.1 | AJ36: 449820 | AK36: 564436.42 | AL36: =ROUND(AVERAGE(AJ36:AK36),1) -> 507128.2 | AM36: 361462.5 | AN36: 268484.52 | AO36: =ROUND(AVERAGE(AM36:AN36),1) -> 314973.5 | AP36: 329332.5 | AQ36: 405664.31 | AR36: =ROUND(AVERAGE(AP36:AQ36),1) -> 367498.4 | AS36: 393592.5 | AT36: 272511.78 | AU36: =ROUND(AVERAGE(AS36:AT36),1) -> 333052.1 | AV36: 457852.5 | AW36: 419862.56 | AX36: =ROUND(AVERAGE(AV36:AW36),1) -> 438857.5 | AY36: 457852.5 | AZ36: 432458.44 | BA36: =ROUND(AVERAGE(AY36:AZ36),1) -> 445155.5 | BB36: 305235 | BC36: 449058.4 | BD36: =ROUND(AVERAGE(BB36:BC36),1) -> 377146.7 | BE36: 457852.5 | BF36: 432458.44 | BG36: =ROUND(AVERAGE(BE36:BF36),1) -> 445155.5 | BH36: 305235 | BI36: 455794.28 | BJ36: =ROUND(AVERAGE(BH36:BI36),1) -> 380514.6 | BK36: 249007.5 | BL36: 455794.28 | BM36: =ROUND(AVERAGE(BK36:BL36),1) -> 352400.9 | BN36: 249007.5 | BO36: 435290.1 | BP36: =ROUND(AVERAGE(BN36:BO36),1) -> 342148.8 | BQ36: 249007.5 | BR36: 310834.74 | BS36: =ROUND(AVERAGE(BQ36:BR36),1) -> 279921.1 | BT36: 305235 | BU36: 316274.35 | BV36: =ROUND(AVERAGE(BT36:BU36),1) -> 310754.7 | BW36: 305235 | BX36: 311530.23 | BY36: =ROUND(AVERAGE(BW36:BX36),1) -> 308382.6 | BZ36: 495040 | CA36: 611328.06 | CB36: =ROUND(AVERAGE(BZ36:CA36),1) -> 553184 | CC36: 457852.5 | CD36: 602158.13 | CE36: =ROUND(AVERAGE(CC36:CD36),1) -> 530005.3 | CF36: 495040 | CG36: 606743.1 | CH36: =ROUND(AVERAGE(CF36:CG36),1) -> 550891.5 | CI36: 457852.5 | CJ36: 602158.13 | CK36: =ROUND(AVERAGE(CI36:CJ36),1) -> 530005.3 | CL36: 457852.5 | CM36: 641894.46 | CN36: =ROUND(AVERAGE(CL36:CM36),1) -> 549873.5 | CO36: 457852.5 | CP36: 630661.31 | CQ36: =ROUND(AVERAGE(CO36:CP36),1) -> 544256.9 | CR36: 457852.5 | CS36: 661151.29 | CT36: =ROUND(AVERAGE(CR36:CS36),1) -> 559501.9
A37: 2.11 | B37: CORREA AIRE ACONDICIONADO | C37: 99960 | D37: 159994.37 | E37: =ROUND(AVERAGE(C37:D37),1) -> 129977.2 | F37: 91630 | G37: 127785.18 | H37: =ROUND(AVERAGE(F37:G37),1) -> 109707.6 | I37: 91630 | J37: 143889.78 | K37: =ROUND(AVERAGE(I37:J37),1) -> 117759.9 | L37: 116620 | M37: 147487.02 | N37: =ROUND(AVERAGE(L37:M37),1) -> 132053.5 | O37: 124950 | P37: 154861.37 | Q37: =ROUND(AVERAGE(O37:P37),1) -> 139905.7 | R37: 149940 | S37: 170347.51 | T37: =ROUND(AVERAGE(R37:S37),1) -> 160143.8 | U37: 124950 | V37: 165594.17 | W37: =ROUND(AVERAGE(U37:V37),1) -> 145272.1 | X37: 158270 | Y37: 163649.29 | Z37: =ROUND(AVERAGE(X37:Y37),1) -> 160959.6 | AA37: 158270 | AB37: 167740.53 | AC37: =ROUND(AVERAGE(AA37:AB37),1) -> 163005.3 | AD37: 184747.5 | AE37: 239081.96 | AF37: =ROUND(AVERAGE(AD37:AE37),1) -> 211914.7 | AG37: 99960 | AH37: 174606.2 | AI37: =ROUND(AVERAGE(AG37:AH37),1) -> 137283.1 | AJ37: 149940 | AK37: 233104.91 | AL37: =ROUND(AVERAGE(AJ37:AK37),1) -> 191522.5 | AM37: 141610 | AN37: 143855.94 | AO37: =ROUND(AVERAGE(AM37:AN37),1) -> 142733 | AP37: 133280 | AQ37: 167740.53 | AR37: =ROUND(AVERAGE(AP37:AQ37),1) -> 150510.3 | AS37: 158270 | AT37: 146013.78 | AU37: =ROUND(AVERAGE(AS37:AT37),1) -> 152141.9 | AV37: 158270 | AW37: 173611.44 | AX37: =ROUND(AVERAGE(AV37:AW37),1) -> 165940.7 | AY37: 158270 | AZ37: 178819.79 | BA37: =ROUND(AVERAGE(AY37:AZ37),1) -> 168544.9 | BB37: 124950 | BC37: 169594.03 | BD37: =ROUND(AVERAGE(BB37:BC37),1) -> 147272 | BE37: 158270 | BF37: 178819.79 | BG37: =ROUND(AVERAGE(BE37:BF37),1) -> 168544.9 | BH37: 124950 | BI37: 172137.94 | BJ37: =ROUND(AVERAGE(BH37:BI37),1) -> 148544 | BK37: 99960 | BL37: 172137.94 | BM37: =ROUND(AVERAGE(BK37:BL37),1) -> 136049 | BN37: 99960 | BO37: 164394.21 | BP37: =ROUND(AVERAGE(BN37:BO37),1) -> 132177.1 | BQ37: 99960 | BR37: 129701.96 | BS37: =ROUND(AVERAGE(BQ37:BR37),1) -> 114831 | BT37: 124950 | BU37: 131971.75 | BV37: =ROUND(AVERAGE(BT37:BU37),1) -> 128460.9 | BW37: 124950 | BX37: 129992.17 | BY37: =ROUND(AVERAGE(BW37:BX37),1) -> 127471.1 | BZ37: 168682.5 | CA37: 252470.55 | CB37: =ROUND(AVERAGE(BZ37:CA37),1) -> 210576.5 | CC37: 158270 | CD37: 248683.49 | CE37: =ROUND(AVERAGE(CC37:CD37),1) -> 203476.7 | CF37: 168682.5 | CG37: 250577.02 | CH37: =ROUND(AVERAGE(CF37:CG37),1) -> 209629.8 | CI37: 158270 | CJ37: 248683.49 | CK37: =ROUND(AVERAGE(CI37:CJ37),1) -> 203476.7 | CL37: 158270 | CM37: 265094.08 | CN37: =ROUND(AVERAGE(CL37:CM37),1) -> 211682 | CO37: 158270 | CP37: 260454.93 | CQ37: =ROUND(AVERAGE(CO37:CP37),1) -> 209362.5 | CR37: 158270 | CS37: 273046.9 | CT37: =ROUND(AVERAGE(CR37:CS37),1) -> 215658.4
A38: 2.12 | B38: CORREA ALTERNADOR | C38: 116620 | D38: 170765.61 | E38: =ROUND(AVERAGE(C38:D38),1) -> 143692.8 | F38: 108290 | G38: 136388.02 | H38: =ROUND(AVERAGE(F38:G38),1) -> 122339 | I38: 116620 | J38: 153576.82 | K38: =ROUND(AVERAGE(I38:J38),1) -> 135098.4 | L38: 141610 | M38: 157416.24 | N38: =ROUND(AVERAGE(L38:M38),1) -> 149513.1 | O38: 149940 | P38: 165287.05 | Q38: =ROUND(AVERAGE(O38:P38),1) -> 157613.5 | R38: 192780 | S38: 181815.76 | T38: =ROUND(AVERAGE(R38:S38),1) -> 187297.9 | U38: 149940 | V38: 176742.41 | W38: =ROUND(AVERAGE(U38:V38),1) -> 163341.2 | X38: 184747.5 | Y38: 158310.11 | Z38: =ROUND(AVERAGE(X38:Y38),1) -> 171528.8 | AA38: 184747.5 | AB38: 162267.86 | AC38: =ROUND(AVERAGE(AA38:AB38),1) -> 173507.7 | AD38: 224910 | AE38: 231281.72 | AF38: =ROUND(AVERAGE(AD38:AE38),1) -> 228095.9 | AG38: 116620 | AH38: 186361.15 | AI38: =ROUND(AVERAGE(AG38:AH38),1) -> 151490.6 | AJ38: 176715 | AK38: 225499.68 | AL38: =ROUND(AVERAGE(AJ38:AK38),1) -> 201107.3 | AM38: 168682.5 | AN38: 146026.73 | AO38: =ROUND(AVERAGE(AM38:AN38),1) -> 157354.6 | AP38: 166600 | AQ38: 162267.86 | AR38: =ROUND(AVERAGE(AP38:AQ38),1) -> 164433.9 | AS38: 184747.5 | AT38: 148217.13 | AU38: =ROUND(AVERAGE(AS38:AT38),1) -> 166482.3 | AV38: 184747.5 | AW38: 167947.24 | AX38: =ROUND(AVERAGE(AV38:AW38),1) -> 176347.4 | AY38: 184747.5 | AZ38: 172985.65 | BA38: =ROUND(AVERAGE(AY38:AZ38),1) -> 178866.6 | BB38: 166600 | BC38: 181011.55 | BD38: =ROUND(AVERAGE(BB38:BC38),1) -> 173805.8 | BE38: 184747.5 | BF38: 172985.65 | BG38: =ROUND(AVERAGE(BE38:BF38),1) -> 178866.6 | BH38: 166600 | BI38: 183726.72 | BJ38: =ROUND(AVERAGE(BH38:BI38),1) -> 175163.4 | BK38: 116620 | BL38: 183726.72 | BM38: =ROUND(AVERAGE(BK38:BL38),1) -> 150173.4 | BN38: 116620 | BO38: 175461.67 | BP38: =ROUND(AVERAGE(BN38:BO38),1) -> 146040.8 | BQ38: 116620 | BR38: 138433.84 | BS38: =ROUND(AVERAGE(BQ38:BR38),1) -> 127526.9 | BT38: 149940 | BU38: 140856.43 | BV38: =ROUND(AVERAGE(BT38:BU38),1) -> 145398.2 | BW38: 149940 | BX38: 138743.59 | BY38: =ROUND(AVERAGE(BW38:BX38),1) -> 144341.8 | BZ38: 224910 | CA38: 244233.5 | CB38: =ROUND(AVERAGE(BZ38:CA38),1) -> 234571.7 | CC38: 184747.5 | CD38: 240570 | CE38: =ROUND(AVERAGE(CC38:CD38),1) -> 212658.7 | CF38: 224910 | CG38: 242401.75 | CH38: =ROUND(AVERAGE(CF38:CG38),1) -> 233655.9 | CI38: 184747.5 | CJ38: 240570 | CK38: =ROUND(AVERAGE(CI38:CJ38),1) -> 212658.7 | CL38: 184747.5 | CM38: 256445.17 | CN38: =ROUND(AVERAGE(CL38:CM38),1) -> 220596.3 | CO38: 184747.5 | CP38: 251957.38 | CQ38: =ROUND(AVERAGE(CO38:CP38),1) -> 218352.4 | CR38: 184747.5 | CS38: 264138.53 | CT38: =ROUND(AVERAGE(CR38:CS38),1) -> 224443
... A65: 2.39 | B65: VALVULA PCV | C65: 83300 | D65: 300074.6 | E65: =ROUND(AVERAGE(C65:D65),1) -> 191687.3 | F65: 74970 | G65: 449677.87 | H65: =ROUND(AVERAGE(F65:G65),1) -> 262323.9 | I65: 83300 | J65: 374876.24 | K65: =ROUND(AVERAGE(I65:J65),1) -> 229088.1 | L65: 99960 | M65: 384248.14 | N65: =ROUND(AVERAGE(L65:M65),1) -> 242104.1 | O65: 108290 | P65: 403460.55 | Q65: =ROUND(AVERAGE(O65:P65),1) -> 255875.3 | R65: 124950 | S65: 443806.61 | T65: =ROUND(AVERAGE(R65:S65),1) -> 284378.3 | U65: 108290 | V65: 310577.22 | W65: =ROUND(AVERAGE(U65:V65),1) -> 209433.6 | X65: 133280 | Y65: 574667.99 | Z65: =ROUND(AVERAGE(X65:Y65),1) -> 353974 | AA65: 133280 | AB65: 589034.69 | AC65: =ROUND(AVERAGE(AA65:AB65),1) -> 361157.3 | AD65: 166600 | AE65: 705700.08 | AF65: =ROUND(AVERAGE(AD65:AE65),1) -> 436150 | AG65: 83300 | AH65: 454901.77 | AI65: =ROUND(AVERAGE(AG65:AH65),1) -> 269100.9 | AJ65: 133280 | AK65: 688057.58 | AL65: =ROUND(AVERAGE(AJ65:AK65),1) -> 410668.8 | AM65: 124950 | AN65: 322284.18 | AO65: =ROUND(AVERAGE(AM65:AN65),1) -> 223617.1 | AP65: 116620 | AQ65: 589034.69 | AR65: =ROUND(AVERAGE(AP65:AQ65),1) -> 352827.3 | AS65: 133280 | AT65: 327118.44 | AU65: =ROUND(AVERAGE(AS65:AT65),1) -> 230199.2 | AV65: 133280 | AW65: 609650.91 | AX65: =ROUND(AVERAGE(AV65:AW65),1) -> 371465.5 | AY65: 133280 | AZ65: 627940.43 | BA65: =ROUND(AVERAGE(AY65:AZ65),1) -> 380610.2 | BB65: 108290 | BC65: 318079.08 | BD65: =ROUND(AVERAGE(BB65:BC65),1) -> 213184.5 | BE65: 133280 | BF65: 627940.43 | BG65: =ROUND(AVERAGE(BE65:BF65),1) -> 380610.2 | BH65: 108290 | BI65: 322850.27 | BJ65: =ROUND(AVERAGE(BH65:BI65),1) -> 215570.1 | BK65: 83300 | BL65: 322850.27 | BM65: =ROUND(AVERAGE(BK65:BL65),1) -> 203075.1 | BN65: 83300 | BO65: 308326.66 | BP65: =ROUND(AVERAGE(BN65:BO65),1) -> 195813.3 | BQ65: 83300 | BR65: 456423.04 | BS65: =ROUND(AVERAGE(BQ65:BR65),1) -> 269861.5 | BT65: 108290 | BU65: 464410.44 | BV65: =ROUND(AVERAGE(BT65:BU65),1) -> 286350.2 | BW65: 108290 | BX65: 457444.29 | BY65: =ROUND(AVERAGE(BW65:BX65),1) -> 282867.1 | BZ65: 149940 | CA65: 745219.29 | CB65: =ROUND(AVERAGE(BZ65:CA65),1) -> 447579.6 | CC65: 133280 | CD65: 734041 | CE65: =ROUND(AVERAGE(CC65:CD65),1) -> 433660.5 | CF65: 149940 | CG65: 739630.14 | CH65: =ROUND(AVERAGE(CF65:CG65),1) -> 444785.1 | CI65: 133280 | CJ65: 734041 | CK65: =ROUND(AVERAGE(CI65:CJ65),1) -> 433660.5 | CL65: 133280 | CM65: 782480.25 | CN65: =ROUND(AVERAGE(CL65:CM65),1) -> 457880.1 | CO65: 133280 | CP65: 768786.85 | CQ65: =ROUND(AVERAGE(CO65:CP65),1) -> 451033.4 | CR65: 133280 | CS65: 805954.66 | CT65: =ROUND(AVERAGE(CR65:CS65),1) -> 469617.3
A66: 3 | B66: SUSPENSION | C66: 0 | D66: 0 | E66: 0 | F66: 0 | G66: 0 | H66: 0 | I66: 0 | J66: 0 | K66: 0 | L66: 0 | M66: 0 | N66: 0 | O66: 0 | P66: 0 | Q66: 0 | R66: 0 | S66: 0 | T66: 0 | U66: 0 | V66: 0 | W66: 0 | X66: 0 | Y66: 0 | Z66: 0 | AA66: 0 | AB66: 0 | AC66: 0 | AD66: 0 | AE66: 0 | AF66: 0 | AG66: 0 | AH66: 0 | AI66: 0 | AJ66: 0 | AK66: 0 | AL66: 0 | AM66: 0 | AN66: 0 | AO66: 0 | AP66: 0 | AQ66: 0 | AR66: 0 | AS66: 0 | AT66: 0 | AU66: 0 | AV66: 0 | AW66: 0 | AX66: 0 | AY66: 0 | AZ66: 0 | BA66: 0 | BB66: 0 | BC66: 0 | BD66: 0 | BE66: 0 | BF66: 0 | BG66: 0 | BH66: 0 | BI66: 0 | BJ66: 0 | BK66: 0 | BL66: 0 | BM66: 0 | BN66: 0 | BO66: 0 | BP66: 0 | BQ66: 0 | BR66: 0 | BS66: 0 | BT66: 0 | BU66: 0 | BV66: 0 | BW66: 0 | BX66: 0 | BY66: 0 | BZ66: 0 | CA66: 0 | CB66: 0 | CC66: 0 | CD66: 0 | CE66: 0 | CF66: 0 | CG66: 0 | CH66: 0 | CI66: 0 | CJ66: 0 | CK66: 0 | CL66: 0 | CM66: 0 | CN66: 0 | CO66: 0 | CP66: 0 | CQ66: 0 | CR66: 0 | CS66: 0 | CT66: 0
A67: 3.1 | B67: AMORTIGUADOR TRASERO | C67: 313267.5 | D67: 455644.03 | E67: =ROUND(AVERAGE(C67:D67),1) -> 384455.8 | F67: 289170 | G67: 574644.03 | H67: =ROUND(AVERAGE(F67:G67),1) -> 431907 | I67: 297202.5 | J67: 574644.03 | K67: =ROUND(AVERAGE(I67:J67),1) -> 435923.3 | L67: 369495 | M67: 589010.13 | N67: =ROUND(AVERAGE(L67:M67),1) -> 479252.6 | O67: 385560 | P67: 618460.64 | Q67: =ROUND(AVERAGE(O67:P67),1) -> 502010.3 | R67: 473917.5 | S67: 680306.7 | T67: =ROUND(AVERAGE(R67:S67),1) -> 577112.1 | U67: 385560 | V67: 594756.57 | W67: =ROUND(AVERAGE(U67:V67),1) -> 490158.3 | X67: 479570 | Y67: 499839.88 | Z67: =ROUND(AVERAGE(X67:Y67),1) -> 489704.9 | AA67: 479570 | AB67: 512335.88 | AC67: =ROUND(AVERAGE(AA67:AB67),1) -> 495952.9 | AD67: 587860 | AE67: 2012473.8 | AF67: =ROUND(AVERAGE(AD67:AE67),1) -> 1300166.9 | AG67: 313267.5 | AH67: 578314.37 | AI67: =ROUND(AVERAGE(AG67:AH67),1) -> 445790.9 | AJ67: 481950 | AK67: 653161.94 | AL67: =ROUND(AVERAGE(AJ67:AK67),1) -> 567556 | AM67: 457852.5 | AN67: 468212.52 | AO67: =ROUND(AVERAGE(AM67:AN67),1) -> 463032.5 | AP67: 425722.5 | AQ67: 512335.88 | AR67: =ROUND(AVERAGE(AP67:AQ67),1) -> 469029.2 | AS67: 479570 | AT67: 475235.71 | AU67: =ROUND(AVERAGE(AS67:AT67),1) -> 477402.9 | AV67: 479570 | AW67: 530267.63 | AX67: =ROUND(AVERAGE(AV67:AW67),1) -> 504918.8 | AY67: 479570 | AZ67: 546175.66 | BA67: =ROUND(AVERAGE(AY67:AZ67),1) -> 512872.8 | BB67: 393592.5 | BC67: 482982.67 | BD67: =ROUND(AVERAGE(BB67:BC67),1) -> 438287.6 | BE67: 479570 | BF67: 546175.66 | BG67: =ROUND(AVERAGE(BE67:BF67),1) -> 512872.8 | BH67: 393592.5 | BI67: 490227.41 | BJ67: =ROUND(AVERAGE(BH67:BI67),1) -> 441910 | BK67: 313267.5 | BL67: 490227.41 | BM67: =ROUND(AVERAGE(BK67:BL67),1) -> 401747.5 | BN67: 313267.5 | BO67: 468174.24 | BP67: =ROUND(AVERAGE(BN67:BO67),1) -> 390720.9 | BQ67: 313267.5 | BR67: 583263.69 | BS67: =ROUND(AVERAGE(BQ67:BR67),1) -> 448265.6 | BT67: 393592.5 | BU67: 593470.8 | BV67: =ROUND(AVERAGE(BT67:BU67),1) -> 493531.7 | BW67: 393592.5 | BX67: 584568.74 | BY67: =ROUND(AVERAGE(BW67:BX67),1) -> 489080.6 | BZ67: 541450 | CA67: 697172.32 | CB67: =ROUND(AVERAGE(BZ67:CA67),1) -> 619311.2 | CC67: 479570 | CD67: 546294.73 | CE67: =ROUND(AVERAGE(CC67:CD67),1) -> 512932.4 | CF67: 541450 | CG67: 562233.53 | CH67: =ROUND(AVERAGE(CF67:CG67),1) -> 551841.8 | CI67: 479570 | CJ67: 546294.73 | CK67: =ROUND(AVERAGE(CI67:CJ67),1) -> 512932.4 | CL67: 479570 | CM67: 565430.93 | CN67: =ROUND(AVERAGE(CL67:CM67),1) -> 522500.5 | CO67: 479570 | CP67: 526380.89 | CQ67: =ROUND(AVERAGE(CO67:CP67),1) -> 502975.4 | CR67: 479570 | CS67: 513373.86 | CT67: =ROUND(AVERAGE(CR67:CS67),1) -> 496471.9
A68: 3.2 | B68: AMORTIGUADORES DELANTEROS | C68: 385560 | D68: 553889.8 | E68: =ROUND(AVERAGE(C68:D68),1) -> 469724.9 | F68: 353430 | G68: 672889.8 | H68: =ROUND(AVERAGE(F68:G68),1) -> 513159.9 | I68: 361462.5 | J68: 672889.8 | K68: =ROUND(AVERAGE(I68:J68),1) -> 517176.2 | L68: 449820 | M68: 689712.05 | N68: =ROUND(AVERAGE(L68:M68),1) -> 569766 | O68: 473917.5 | P68: 724197.65 | Q68: =ROUND(AVERAGE(O68:P68),1) -> 599057.6 | R68: 556920 | S68: 796617.41 | T68: =ROUND(AVERAGE(R68:S68),1) -> 676768.7 | U68: 473917.5 | V68: 696440.95 | W68: =ROUND(AVERAGE(U68:V68),1) -> 585179.2 | X68: 587860 | Y68: 531148.57 | Z68: =ROUND(AVERAGE(X68:Y68),1) -> 559504.3 | AA68: 158270 | AB68: 544427.28 | AC68: =ROUND(AVERAGE(AA68:AB68),1) -> 351348.6 | AD68: 711620 | AE68: 1989366.2 | AF68: =ROUND(AVERAGE(AD68:AE68),1) -> 1350493.1 | AG68: 385560 | AH68: 578532.85 | AI68: =ROUND(AVERAGE(AG68:AH68),1) -> 482046.4 | AJ68: 572390 | AK68: 749632.01 | AL68: =ROUND(AVERAGE(AJ68:AK68),1) -> 661011 | AM68: 541450 | AN68: 456305.76 | AO68: =ROUND(AVERAGE(AM68:AN68),1) -> 498877.9 | AP68: 495040 | AQ68: 544427.28 | AR68: =ROUND(AVERAGE(AP68:AQ68),1) -> 519733.6 | AS68: 587860 | AT68: 342365.35 | AU68: =ROUND(AVERAGE(AS68:AT68),1) -> 465112.7 | AV68: 587860 | AW68: 563482.24 | AX68: =ROUND(AVERAGE(AV68:AW68),1) -> 575671.1 | AY68: 587860 | AZ68: 580386.71 | BA68: =ROUND(AVERAGE(AY68:AZ68),1) -> 584123.4 | BB68: 481950 | BC68: 587123.19 | BD68: =ROUND(AVERAGE(BB68:BC68),1) -> 534536.6 | BE68: 587860 | BF68: 580386.71 | BG68: =ROUND(AVERAGE(BE68:BF68),1) -> 584123.4 | BH68: 481950 | BI68: 595930.04 | BJ68: =ROUND(AVERAGE(BH68:BI68),1) -> 538940 | BK68: 385560 | BL68: 595930.04 | BM68: =ROUND(AVERAGE(BK68:BL68),1) -> 490745 | BN68: 385560 | BO68: 569121.77 | BP68: =ROUND(AVERAGE(BN68:BO68),1) -> 477340.9 | BQ68: 278460 | BR68: 682983.15 | BS68: =ROUND(AVERAGE(BQ68:BR68),1) -> 480721.6 | BT68: 481950 | BU68: 694935.35 | BV68: =ROUND(AVERAGE(BT68:BU68),1) -> 588442.7 | BW68: 481950 | BX68: 684511.32 | BY68: =ROUND(AVERAGE(BW68:BX68),1) -> 583230.7 | BZ68: 657475 | CA68: 910770.66 | CB68: =ROUND(AVERAGE(BZ68:CA68),1) -> 784122.8 | CC68: 587860 | CD68: 641259.1 | CE68: =ROUND(AVERAGE(CC68:CD68),1) -> 614559.6 | CF68: 657475 | CG68: 657014.88 | CH68: =ROUND(AVERAGE(CF68:CG68),1) -> 657244.9 | CI68: 587860 | CJ68: 641259.1 | CK68: =ROUND(AVERAGE(CI68:CJ68),1) -> 614559.6 | CL68: 587860 | CM68: 658809.2 | CN68: =ROUND(AVERAGE(CL68:CM68),1) -> 623334.6 | CO68: 587860 | CP68: 620207.54 | CQ68: =ROUND(AVERAGE(CO68:CP68),1) -> 604033.8 | CR68: 587860 | CS68: 605983.47 | CT68: =ROUND(AVERAGE(CR68:CS68),1) -> 596921.7
A69: 3.3 | B69: ANTIRUIDO MUELLES TRASERO | C69: 99960 | D69: 197025.92 | E69: =ROUND(AVERAGE(C69:D69),1) -> 148493 | F69: 91630 | G69: 197025.92 | H69: =ROUND(AVERAGE(F69:G69),1) -> 144328 | I69: 91630 | J69: 197025.92 | K69: =ROUND(AVERAGE(I69:J69),1) -> 144328 | L69: 116620 | M69: 201951.57 | N69: =ROUND(AVERAGE(L69:M69),1) -> 159285.8 | O69: 124950 | P69: 212049.15 | Q69: =ROUND(AVERAGE(O69:P69),1) -> 168499.6 | R69: 149940 | S69: 233254.06 | T69: =ROUND(AVERAGE(R69:S69),1) -> 191597 | U69: 124950 | V69: 203921.83 | W69: =ROUND(AVERAGE(U69:V69),1) -> 164435.9 | X69: 158270 | Y69: 197025.92 | Z69: =ROUND(AVERAGE(X69:Y69),1) -> 177648 | AA69: 541450 | AB69: 201951.57 | AC69: =ROUND(AVERAGE(AA69:AB69),1) -> 371700.8 | AD69: 184747.5 | AE69: 255289.97 | AF69: =ROUND(AVERAGE(AD69:AE69),1) -> 220018.7 | AG69: 99960 | AH69: 239085.41 | AI69: =ROUND(AVERAGE(AG69:AH69),1) -> 169522.7 | AJ69: 149940 | AK69: 248907.72 | AL69: =ROUND(AVERAGE(AJ69:AK69),1) -> 199423.9 | AM69: 141610 | AN69: 148100.26 | AO69: =ROUND(AVERAGE(AM69:AN69),1) -> 144855.1 | AP69: 490280 | AQ69: 201951.57 | AR69: =ROUND(AVERAGE(AP69:AQ69),1) -> 346115.8 | AS69: 158270 | AT69: 150321.76 | AU69: =ROUND(AVERAGE(AS69:AT69),1) -> 154295.9 | AV69: 158270 | AW69: 209019.87 | AX69: =ROUND(AVERAGE(AV69:AW69),1) -> 183644.9 | AY69: 158270 | AZ69: 215290.47 | BA69: =ROUND(AVERAGE(AY69:AZ69),1) -> 186780.2 | BB69: 124950 | BC69: 208847.48 | BD69: =ROUND(AVERAGE(BB69:BC69),1) -> 166898.7 | BE69: 158270 | BF69: 215290.47 | BG69: =ROUND(AVERAGE(BE69:BF69),1) -> 186780.2 | BH69: 124950 | BI69: 211980.19 | BJ69: =ROUND(AVERAGE(BH69:BI69),1) -> 168465.1 | BK69: 99960 | BL69: 211980.19 | BM69: =ROUND(AVERAGE(BK69:BL69),1) -> 155970.1 | BN69: 99960 | BO69: 202444.13 | BP69: =ROUND(AVERAGE(BN69:BO69),1) -> 151202.1 | BQ69: 99960 | BR69: 199981.31 | BS69: =ROUND(AVERAGE(BQ69:BR69),1) -> 149970.7 | BT69: 124950 | BU69: 203480.98 | BV69: =ROUND(AVERAGE(BT69:BU69),1) -> 164215.5 | BW69: 124950 | BX69: 200428.77 | BY69: =ROUND(AVERAGE(BW69:BX69),1) -> 162689.4 | BZ69: 168682.5 | CA69: 269586.21 | CB69: =ROUND(AVERAGE(BZ69:CA69),1) -> 219134.4 | CC69: 158270 | CD69: 265542.42 | CE69: =ROUND(AVERAGE(CC69:CD69),1) -> 211906.2 | CF69: 168682.5 | CG69: 267564.31 | CH69: =ROUND(AVERAGE(CF69:CG69),1) -> 218123.4 | CI69: 158270 | CJ69: 265542.42 | CK69: =ROUND(AVERAGE(CI69:CJ69),1) -> 211906.2 | CL69: 158270 | CM69: 283065.52 | CN69: =ROUND(AVERAGE(CL69:CM69),1) -> 220667.8 | CO69: 158270 | CP69: 278111.87 | CQ69: =ROUND(AVERAGE(CO69:CP69),1) -> 218190.9 | CR69: 158270 | CS69: 291557.49 | CT69: =ROUND(AVERAGE(CR69:CS69),1) -> 224913.7
A70: 3.4 | B70: BARRA CENTRAL DIRECCION | C70: 353430 | D70: 520100.91 | E70: =ROUND(AVERAGE(C70:D70),1) -> 436765.5 | F70: 329332.5 | G70: 517720.91 | H70: =ROUND(AVERAGE(F70:G70),1) -> 423526.7 | I70: 337365 | J70: 518910.91 | K70: =ROUND(AVERAGE(I70:J70),1) -> 428138 | L70: 417690 | M70: 531883.68 | N70: =ROUND(AVERAGE(L70:M70),1) -> 474786.8 | O70: 441787.5 | P70: 558477.86 | Q70: =ROUND(AVERAGE(O70:P70),1) -> 500132.7 | R70: 518245 | S70: 614325.65 | T70: =ROUND(AVERAGE(R70:S70),1) -> 566285.3 | U70: 441787.5 | V70: 538304.44 | W70: =ROUND(AVERAGE(U70:V70),1) -> 490046 | X70: 541450 | Y70: 694505.42 | Z70: =ROUND(AVERAGE(X70:Y70),1) -> 617977.7 | AA70: 257040 | AB70: 711868.06 | AC70: =ROUND(AVERAGE(AA70:AB70),1) -> 484454 | AD70: 665210 | AE70: 1105359.4 | AF70: =ROUND(AVERAGE(AD70:AE70),1) -> 885284.7 | AG70: 353430 | AH70: 629683.79 | AI70: =ROUND(AVERAGE(AG70:AH70),1) -> 491556.9 | AJ70: 525980 | AK70: 1077725.4 | AL70: =ROUND(AVERAGE(AJ70:AK70),1) -> 801852.7 | AM70: 502775 | AN70: 646984.58 | AO70: =ROUND(AVERAGE(AM70:AN70),1) -> 574879.8 | AP70: 481950 | AQ70: 711868.06 | AR70: =ROUND(AVERAGE(AP70:AQ70),1) -> 596909 | AS70: 541450 | AT70: 656689.34 | AU70: =ROUND(AVERAGE(AS70:AT70),1) -> 599069.7 | AV70: 541450 | AW70: 736783.44 | AX70: =ROUND(AVERAGE(AV70:AW70),1) -> 639116.7 | AY70: 541450 | AZ70: 758886.94 | BA70: =ROUND(AVERAGE(AY70:AZ70),1) -> 650168.5 | BB70: 441787.5 | BC70: 551306.96 | BD70: =ROUND(AVERAGE(BB70:BC70),1) -> 496547.2 | BE70: 541450 | BF70: 758886.94 | BG70: =ROUND(AVERAGE(BE70:BF70),1) -> 650168.5 | BH70: 441787.5 | BI70: 559576.57 | BJ70: =ROUND(AVERAGE(BH70:BI70),1) -> 500682 | BK70: 353430 | BL70: 559576.57 | BM70: =ROUND(AVERAGE(BK70:BL70),1) -> 456503.3 | BN70: 353430 | BO70: 534403.68 | BP70: =ROUND(AVERAGE(BN70:BO70),1) -> 443916.8 | BQ70: 353430 | BR70: 525486.72 | BS70: =ROUND(AVERAGE(BQ70:BR70),1) -> 439458.4 | BT70: 441787.5 | BU70: 534682.74 | BV70: =ROUND(AVERAGE(BT70:BU70),1) -> 488235.1 | BW70: 441787.5 | BX70: 526662.5 | BY70: =ROUND(AVERAGE(BW70:BX70),1) -> 484225 | BZ70: 611065 | CA70: 1167259.5 | CB70: =ROUND(AVERAGE(BZ70:CA70),1) -> 889162.2 | CC70: 541450 | CD70: 1149750.6 | CE70: =ROUND(AVERAGE(CC70:CD70),1) -> 845600.3 | CF70: 611065 | CG70: 1158505 | CH70: =ROUND(AVERAGE(CF70:CG70),1) -> 884785 | CI70: 541450 | CJ70: 1149750.6 | CK70: =ROUND(AVERAGE(CI70:CJ70),1) -> 845600.3 | CL70: 541450 | CM70: 1225622.5 | CN70: =ROUND(AVERAGE(CL70:CM70),1) -> 883536.2 | CO70: 541450 | CP70: 1204174.1 | CQ70: =ROUND(AVERAGE(CO70:CP70),1) -> 872812 | CR70: 541450 | CS70: 1262391.1 | CT70: =ROUND(AVERAGE(CR70:CS70),1) -> 901920.6
A71: 3.5 | B71: BOCIN DELANTERO | C71: 166600 | D71: 676402.54 | E71: =ROUND(AVERAGE(C71:D71),1) -> 421501.3 | F71: 158270 | G71: 795402.54 | H71: =ROUND(AVERAGE(F71:G71),1) -> 476836.3 | I71: 158270 | J71: 735902.54 | K71: =ROUND(AVERAGE(I71:J71),1) -> 447086.3 | L71: 192780 | M71: 754300.1 | N71: =ROUND(AVERAGE(L71:M71),1) -> 473540.1 | O71: 200812.5 | P71: 792015.11 | Q71: =ROUND(AVERAGE(O71:P71),1) -> 496413.8 | R71: 249007.5 | S71: 871216.62 | T71: =ROUND(AVERAGE(R71:S71),1) -> 560112.1 | U71: 200812.5 | V71: 700076.63 | W71: =ROUND(AVERAGE(U71:V71),1) -> 450444.6 | X71: 257040 | Y71: 728730.68 | Z71: =ROUND(AVERAGE(X71:Y71),1) -> 492885.3 | AA71: 257040 | AB71: 746948.94 | AC71: =ROUND(AVERAGE(AA71:AB71),1) -> 501994.5 | AD71: 321300 | AE71: 983224.16 | AF71: =ROUND(AVERAGE(AD71:AE71),1) -> 652262.1 | AG71: 166600 | AH71: 892997.03 | AI71: =ROUND(AVERAGE(AG71:AH71),1) -> 529798.5 | AJ71: 257040 | AK71: 958643.56 | AL71: =ROUND(AVERAGE(AJ71:AK71),1) -> 607841.8 | AM71: 240975 | AN71: 678868 | AO71: =ROUND(AVERAGE(AM71:AN71),1) -> 459921.5 | AP71: 224910 | AQ71: 746948.94 | AR71: =ROUND(AVERAGE(AP71:AQ71),1) -> 485929.5 | AS71: 257040 | AT71: 689051.02 | AU71: =ROUND(AVERAGE(AS71:AT71),1) -> 473045.5 | AV71: 257040 | AW71: 773092.15 | AX71: =ROUND(AVERAGE(AV71:AW71),1) -> 515066.1 | AY71: 257040 | AZ71: 796284.92 | BA71: =ROUND(AVERAGE(AY71:AZ71),1) -> 526662.5 | BB71: 208845 | BC71: 716986.69 | BD71: =ROUND(AVERAGE(BB71:BC71),1) -> 462915.8 | BE71: 257040 | BF71: 796284.92 | BG71: =ROUND(AVERAGE(BE71:BF71),1) -> 526662.5 | BH71: 208845 | BI71: 727741.49 | BJ71: =ROUND(AVERAGE(BH71:BI71),1) -> 468293.2 | BK71: 166600 | BL71: 727741.49 | BM71: =ROUND(AVERAGE(BK71:BL71),1) -> 447170.7 | BN71: 166600 | BO71: 695003.61 | BP71: =ROUND(AVERAGE(BN71:BO71),1) -> 430801.8 | BQ71: 166600 | BR71: 807333.58 | BS71: =ROUND(AVERAGE(BQ71:BR71),1) -> 486966.8 | BT71: 208845 | BU71: 821461.92 | BV71: =ROUND(AVERAGE(BT71:BU71),1) -> 515153.5 | BW71: 208845 | BX71: 809139.99 | BY71: =ROUND(AVERAGE(BW71:BX71),1) -> 508992.5 | BZ71: 289170 | CA71: 1038284.7 | CB71: =ROUND(AVERAGE(BZ71:CA71),1) -> 663727.4 | CC71: 257040 | CD71: 1022710.4 | CE71: =ROUND(AVERAGE(CC71:CD71),1) -> 639875.2 | CF71: 289170 | CG71: 1030497.6 | CH71: =ROUND(AVERAGE(CF71:CG71),1) -> 659833.8 | CI71: 257040 | CJ71: 1022710.4 | CK71: =ROUND(AVERAGE(CI71:CJ71),1) -> 639875.2 | CL71: 257040 | CM71: 1090199 | CN71: =ROUND(AVERAGE(CL71:CM71),1) -> 673619.5 | CO71: 257040 | CP71: 1071120.5 | CQ71: =ROUND(AVERAGE(CO71:CP71),1) -> 664080.2 | CR71: 257040 | CS71: 1122904.9 | CT71: =ROUND(AVERAGE(CR71:CS71),1) -> 689972.5
A72: 3.6 | B72: BOCIN TRASERO | C72: 166600 | D72: 724112.96 | E72: =ROUND(AVERAGE(C72:D72),1) -> 445356.5 | F72: 158270 | G72: 605112.96 | H72: =ROUND(AVERAGE(F72:G72),1) -> 381691.5 | I72: 158270 | J72: 664612.96 | K72: =ROUND(AVERAGE(I72:J72),1) -> 411441.5 | L72: 192780 | M72: 681228.28 | N72: =ROUND(AVERAGE(L72:M72),1) -> 437004.1 | O72: 200812.5 | P72: 715289.7 | Q72: =ROUND(AVERAGE(O72:P72),1) -> 458051.1 | R72: 249007.5 | S72: 786818.66 | T72: =ROUND(AVERAGE(R72:S72),1) -> 517913.1 | U72: 200812.5 | V72: 749456.91 | W72: =ROUND(AVERAGE(U72:V72),1) -> 475134.7 | X72: 257040 | Y72: 782094.49 | Z72: =ROUND(AVERAGE(X72:Y72),1) -> 519567.2 | AA72: 257040 | AB72: 801646.85 | AC72: =ROUND(AVERAGE(AA72:AB72),1) -> 529343.4 | AD72: 321300 | AE72: 1055224.1 | AF72: =ROUND(AVERAGE(AD72:AE72),1) -> 688262.1 | AG72: 166600 | AH72: 806489.13 | AI72: =ROUND(AVERAGE(AG72:AH72),1) -> 486544.6 | AJ72: 257040 | AK72: 1028843.5 | AL72: =ROUND(AVERAGE(AJ72:AK72),1) -> 642941.8 | AM72: 240975 | AN72: 728580.45 | AO72: =ROUND(AVERAGE(AM72:AN72),1) -> 484777.7 | AP72: 224910 | AQ72: 801646.85 | AR72: =ROUND(AVERAGE(AP72:AQ72),1) -> 513278.4 | AS72: 257040 | AT72: 739509.15 | AU72: =ROUND(AVERAGE(AS72:AT72),1) -> 498274.6 | AV72: 257040 | AW72: 829704.49 | AX72: =ROUND(AVERAGE(AV72:AW72),1) -> 543372.2 | AY72: 257040 | AZ72: 854595.62 | BA72: =ROUND(AVERAGE(AY72:AZ72),1) -> 555817.8 | BB72: 208845 | BC72: 767559.73 | BD72: =ROUND(AVERAGE(BB72:BC72),1) -> 488202.4 | BE72: 257040 | BF72: 854595.62 | BG72: =ROUND(AVERAGE(BE72:BF72),1) -> 555817.8 | BH72: 208845 | BI72: 779073.13 | BJ72: =ROUND(AVERAGE(BH72:BI72),1) -> 493959.1 | BK72: 166600 | BL72: 779073.13 | BM72: =ROUND(AVERAGE(BK72:BL72),1) -> 472836.6 | BN72: 166600 | BO72: 744026.06 | BP72: =ROUND(AVERAGE(BN72:BO72),1) -> 455313 | BQ72: 166600 | BR72: 614189.65 | BS72: =ROUND(AVERAGE(BQ72:BR72),1) -> 390394.8 | BT72: 208845 | BU72: 624937.97 | BV72: =ROUND(AVERAGE(BT72:BU72),1) -> 416891.5 | BW72: 208845 | BX72: 615563.9 | BY72: =ROUND(AVERAGE(BW72:BX72),1) -> 412204.5 | BZ72: 289170 | CA72: 1114316.7 | CB72: =ROUND(AVERAGE(BZ72:CA72),1) -> 701743.3 | CC72: 257040 | CD72: 1097601.9 | CE72: =ROUND(AVERAGE(CC72:CD72),1) -> 677321 | CF72: 289170 | CG72: 1105959.3 | CH72: =ROUND(AVERAGE(CF72:CG72),1) -> 697564.7 | CI72: 257040 | CJ72: 1097601.9 | CK72: =ROUND(AVERAGE(CI72:CJ72),1) -> 677321 | CL72: 257040 | CM72: 1170032.5 | CN72: =ROUND(AVERAGE(CL72:CM72),1) -> 713536.3 | CO72: 257040 | CP72: 1149556.9 | CQ72: =ROUND(AVERAGE(CO72:CP72),1) -> 703298.5 | CR72: 257040 | CS72: 1205133.5 | CT72: =ROUND(AVERAGE(CR72:CS72),1) -> 731086.7
A73: 3.7 | B73: BRAZOS AXIAL (PAR) | C73: 158270 | D73: 370294.62 | E73: =ROUND(AVERAGE(C73:D73),1) -> 264282.3 | F73: 141610 | G73: 474222.89 | H73: =ROUND(AVERAGE(F73:G73),1) -> 307916.4 | I73: 149940 | J73: 422258.75 | K73: =ROUND(AVERAGE(I73:J73),1) -> 286099.4 | L73: 176715 | M73: 432815.22 | N73: =ROUND(AVERAGE(L73:M73),1) -> 304765.1 | O73: 184747.5 | P73: 454455.98 | Q73: =ROUND(AVERAGE(O73:P73),1) -> 319601.7 | R73: 224910 | S73: 499901.58 | T73: =ROUND(AVERAGE(R73:S73),1) -> 362405.8 | U73: 184747.5 | V73: 383254.93 | W73: =ROUND(AVERAGE(U73:V73),1) -> 284001.2 | X73: 240975 | Y73: 380065.21 | Z73: =ROUND(AVERAGE(X73:Y73),1) -> 310520.1 | AA73: 240975 | AB73: 389566.84 | AC73: =ROUND(AVERAGE(AA73:AB73),1) -> 315270.9 | AD73: 289170 | AE73: 329028.27 | AF73: =ROUND(AVERAGE(AD73:AE73),1) -> 309099.1 | AG73: 158270 | AH73: 512399.12 | AI73: =ROUND(AVERAGE(AG73:AH73),1) -> 335334.6 | AJ73: 232942.5 | AK73: 320802.56 | AL73: =ROUND(AVERAGE(AJ73:AK73),1) -> 276872.5 | AM73: 216877.5 | AN73: 188552.32 | AO73: =ROUND(AVERAGE(AM73:AN73),1) -> 202714.9 | AP73: 200812.5 | AQ73: 389566.84 | AR73: =ROUND(AVERAGE(AP73:AQ73),1) -> 295189.7 | AS73: 240975 | AT73: 191380.61 | AU73: =ROUND(AVERAGE(AS73:AT73),1) -> 216177.8 | AV73: 240975 | AW73: 403201.68 | AX73: =ROUND(AVERAGE(AV73:AW73),1) -> 322088.3 | AY73: 240975 | AZ73: 415297.73 | BA73: =ROUND(AVERAGE(AY73:AZ73),1) -> 328136.4 | BB73: 184747.5 | BC73: 392512.3 | BD73: =ROUND(AVERAGE(BB73:BC73),1) -> 288629.9 | BE73: 240975 | BF73: 415297.73 | BG73: =ROUND(AVERAGE(BE73:BF73),1) -> 328136.4 | BH73: 184747.5 | BI73: 398399.98 | BJ73: =ROUND(AVERAGE(BH73:BI73),1) -> 291573.7 | BK73: 158270 | BL73: 398399.98 | BM73: =ROUND(AVERAGE(BK73:BL73),1) -> 278335 | BN73: 158270 | BO73: 380477.72 | BP73: =ROUND(AVERAGE(BN73:BO73),1) -> 269373.9 | BQ73: 158270 | BR73: 481336.23 | BS73: =ROUND(AVERAGE(BQ73:BR73),1) -> 319803.1 | BT73: 184747.5 | BU73: 489759.62 | BV73: =ROUND(AVERAGE(BT73:BU73),1) -> 337253.6 | BW73: 184747.5 | BX73: 482413.22 | BY73: =ROUND(AVERAGE(BW73:BX73),1) -> 333580.4 | BZ73: 265072.5 | CA73: 347453.85 | CB73: =ROUND(AVERAGE(BZ73:CA73),1) -> 306263.2 | CC73: 240975 | CD73: 342242.04 | CE73: =ROUND(AVERAGE(CC73:CD73),1) -> 291608.5 | CF73: 265072.5 | CG73: 344847.95 | CH73: =ROUND(AVERAGE(CF73:CG73),1) -> 304960.2 | CI73: 240975 | CJ73: 342242.04 | CK73: =ROUND(AVERAGE(CI73:CJ73),1) -> 291608.5 | CL73: 240975 | CM73: 364826.54 | CN73: =ROUND(AVERAGE(CL73:CM73),1) -> 302900.8 | CO73: 240975 | CP73: 358442.08 | CQ73: =ROUND(AVERAGE(CO73:CP73),1) -> 299708.5 | CR73: 240975 | CS73: 375771.34 | CT73: =ROUND(AVERAGE(CR73:CS73),1) -> 308373.2
A74: 3.8 | B74: BUJE DE TEMPLETE TRASERO | C74: 99960 | D74: 256418.82 | E74: =ROUND(AVERAGE(C74:D74),1) -> 178189.4 | F74: 91630 | G74: 291381.18 | H74: =ROUND(AVERAGE(F74:G74),1) -> 191505.6 | I74: 91630 | J74: 273900 | K74: =ROUND(AVERAGE(I74:J74),1) -> 182765 | L74: 116620 | M74: 280747.5 | N74: =ROUND(AVERAGE(L74:M74),1) -> 198683.7 | O74: 124950 | P74: 294784.87 | Q74: =ROUND(AVERAGE(O74:P74),1) -> 209867.4 | R74: 153510 | S74: 324263.36 | T74: =ROUND(AVERAGE(R74:S74),1) -> 238886.7 | U74: 124950 | V74: 265393.48 | W74: =ROUND(AVERAGE(U74:V74),1) -> 195171.7 | X74: 158270 | Y74: 256418.82 | Z74: =ROUND(AVERAGE(X74:Y74),1) -> 207344.4 | AA74: 158270 | AB74: 262829.29 | AC74: =ROUND(AVERAGE(AA74:AB74),1) -> 210549.6 | AD74: 184747.5 | AE74: 279847.45 | AF74: =ROUND(AVERAGE(AD74:AE74),1) -> 232297.5 | AG74: 99960 | AH74: 332369.95 | AI74: =ROUND(AVERAGE(AG74:AH74),1) -> 216165 | AJ74: 149940 | AK74: 272851.26 | AL74: =ROUND(AVERAGE(AJ74:AK74),1) -> 211395.6 | AM74: 141610 | AN74: 162345.75 | AO74: =ROUND(AVERAGE(AM74:AN74),1) -> 151977.9 | AP74: 133280 | AQ74: 262829.29 | AR74: =ROUND(AVERAGE(AP74:AQ74),1) -> 198054.6 | AS74: 158270 | AT74: 164780.94 | AU74: =ROUND(AVERAGE(AS74:AT74),1) -> 161525.5 | AV74: 158270 | AW74: 272028.32 | AX74: =ROUND(AVERAGE(AV74:AW74),1) -> 215149.2 | AY74: 158270 | AZ74: 280189.17 | BA74: =ROUND(AVERAGE(AY74:AZ74),1) -> 219229.6 | BB74: 124950 | BC74: 271803.95 | BD74: =ROUND(AVERAGE(BB74:BC74),1) -> 198377 | BE74: 158270 | BF74: 280189.17 | BG74: =ROUND(AVERAGE(BE74:BF74),1) -> 219229.6 | BH74: 124950 | BI74: 275881.01 | BJ74: =ROUND(AVERAGE(BH74:BI74),1) -> 200415.5 | BK74: 99960 | BL74: 275881.01 | BM74: =ROUND(AVERAGE(BK74:BL74),1) -> 187920.5 | BN74: 99960 | BO74: 263470.34 | BP74: =ROUND(AVERAGE(BN74:BO74),1) -> 181715.2 | BQ74: 99960 | BR74: 295751.9 | BS74: =ROUND(AVERAGE(BQ74:BR74),1) -> 197855.9 | BT74: 124950 | BU74: 300927.55 | BV74: =ROUND(AVERAGE(BT74:BU74),1) -> 212938.8 | BW74: 124950 | BX74: 296413.64 | BY74: =ROUND(AVERAGE(BW74:BX74),1) -> 210681.8 | BZ74: 168682.5 | CA74: 295518.9 | CB74: =ROUND(AVERAGE(BZ74:CA74),1) -> 232100.7 | CC74: 158270 | CD74: 291086.12 | CE74: =ROUND(AVERAGE(CC74:CD74),1) -> 224678.1 | CF74: 168682.5 | CG74: 293302.51 | CH74: =ROUND(AVERAGE(CF74:CG74),1) -> 230992.5 | CI74: 158270 | CJ74: 291086.12 | CK74: =ROUND(AVERAGE(CI74:CJ74),1) -> 224678.1 | CL74: 158270 | CM74: 310294.85 | CN74: =ROUND(AVERAGE(CL74:CM74),1) -> 234282.4 | CO74: 158270 | CP74: 304864.69 | CQ74: =ROUND(AVERAGE(CO74:CP74),1) -> 231567.3 | CR74: 158270 | CS74: 319603.69 | CT74: =ROUND(AVERAGE(CR74:CS74),1) -> 238936.8
A75: 3.9 | B75: BUJES BARRA ESTABILIZADORA DELANTERA | C75: 91630 | D75: 247966.09 | E75: =ROUND(AVERAGE(C75:D75),1) -> 169798 | F75: 83300 | G75: 317561.18 | H75: =ROUND(AVERAGE(F75:G75),1) -> 200430.6 | I75: 83300 | J75: 282763.64 | K75: =ROUND(AVERAGE(I75:J75),1) -> 183031.8 | L75: 108290 | M75: 289832.73 | N75: =ROUND(AVERAGE(L75:M75),1) -> 199061.4 | O75: 116620 | P75: 304324.36 | Q75: =ROUND(AVERAGE(O75:P75),1) -> 210472.2 | R75: 141610 | S75: 334756.8 | T75: =ROUND(AVERAGE(R75:S75),1) -> 238183.4 | U75: 116620 | V75: 256644.9 | W75: =ROUND(AVERAGE(U75:V75),1) -> 186632.5 | X75: 149940 | Y75: 342423.18 | Z75: =ROUND(AVERAGE(X75:Y75),1) -> 246181.6 | AA75: 149940 | AB75: 350983.76 | AC75: =ROUND(AVERAGE(AA75:AB75),1) -> 250461.9 | AD75: 168682.5 | AE75: 327896.13 | AF75: =ROUND(AVERAGE(AD75:AE75),1) -> 248289.3 | AG75: 91630 | AH75: 343125.72 | AI75: =ROUND(AVERAGE(AG75:AH75),1) -> 217377.9 | AJ75: 141610 | AK75: 319698.73 | AL75: =ROUND(AVERAGE(AJ75:AK75),1) -> 230654.4 | AM75: 133280 | AN75: 211114.52 | AO75: =ROUND(AVERAGE(AM75:AN75),1) -> 172197.3 | AP75: 124950 | AQ75: 350983.76 | AR75: =ROUND(AVERAGE(AP75:AQ75),1) -> 237966.9 | AS75: 149940 | AT75: 214281.23 | AU75: =ROUND(AVERAGE(AS75:AT75),1) -> 182110.6 | AV75: 149940 | AW75: 363268.19 | AX75: =ROUND(AVERAGE(AV75:AW75),1) -> 256604.1 | AY75: 149940 | AZ75: 374166.23 | BA75: =ROUND(AVERAGE(AY75:AZ75),1) -> 262053.1 | BB75: 116620 | BC75: 262844.06 | BD75: =ROUND(AVERAGE(BB75:BC75),1) -> 189732 | BE75: 149940 | BF75: 374166.23 | BG75: =ROUND(AVERAGE(BE75:BF75),1) -> 262053.1 | BH75: 116620 | BI75: 266786.72 | BJ75: =ROUND(AVERAGE(BH75:BI75),1) -> 191703.4 | BK75: 91630 | BL75: 266786.72 | BM75: =ROUND(AVERAGE(BK75:BL75),1) -> 179208.4 | BN75: 91630 | BO75: 254785.16 | BP75: =ROUND(AVERAGE(BN75:BO75),1) -> 173207.6 | BQ75: 91630 | BR75: 322324.6 | BS75: =ROUND(AVERAGE(BQ75:BR75),1) -> 206977.3 | BT75: 116620 | BU75: 327965.28 | BV75: =ROUND(AVERAGE(BT75:BU75),1) -> 222292.6 | BW75: 116620 | BX75: 323045.8 | BY75: =ROUND(AVERAGE(BW75:BX75),1) -> 219832.9 | BZ75: 166600 | CA75: 346258.32 | CB75: =ROUND(AVERAGE(BZ75:CA75),1) -> 256429.2 | CC75: 149940 | CD75: 341064.44 | CE75: =ROUND(AVERAGE(CC75:CD75),1) -> 245502.2 | CF75: 166600 | CG75: 343661.38 | CH75: =ROUND(AVERAGE(CF75:CG75),1) -> 255130.7 | CI75: 149940 | CJ75: 341064.44 | CK75: =ROUND(AVERAGE(CI75:CJ75),1) -> 245502.2 | CL75: 149940 | CM75: 363571.23 | CN75: =ROUND(AVERAGE(CL75:CM75),1) -> 256755.6 | CO75: 149940 | CP75: 357208.74 | CQ75: =ROUND(AVERAGE(CO75:CP75),1) -> 253574.4 | CR75: 149940 | CS75: 374478.37 | CT75: =ROUND(AVERAGE(CR75:CS75),1) -> 262209.2
A76: 3.10 | B76: BUJES BARRA ESTABILIZADORA TRASERA | C76: 91630 | D76: 236694.91 | E76: =ROUND(AVERAGE(C76:D76),1) -> 164162.5 | F76: 83300 | G76: 303126.58 | H76: =ROUND(AVERAGE(F76:G76),1) -> 193213.3 | I76: 83300 | J76: 269910.74 | K76: =ROUND(AVERAGE(I76:J76),1) -> 176605.4 | L76: 108290 | M76: 276658.51 | N76: =ROUND(AVERAGE(L76:M76),1) -> 192474.3 | O76: 116620 | P76: 290491.44 | Q76: =ROUND(AVERAGE(O76:P76),1) -> 203555.7 | R76: 141610 | S76: 319540.58 | T76: =ROUND(AVERAGE(R76:S76),1) -> 230575.3 | U76: 116620 | V76: 244979.23 | W76: =ROUND(AVERAGE(U76:V76),1) -> 180799.6 | X76: 149940 | Y76: 326858.49 | Z76: =ROUND(AVERAGE(X76:Y76),1) -> 238399.2 | AA76: 149940 | AB76: 335029.95 | AC76: =ROUND(AVERAGE(AA76:AB76),1) -> 242485 | AD76: 168682.5 | AE76: 312991.76 | AF76: =ROUND(AVERAGE(AD76:AE76),1) -> 240837.1 | AG76: 91630 | AH76: 327529.09 | AI76: =ROUND(AVERAGE(AG76:AH76),1) -> 209579.5 | AJ76: 141610 | AK76: 305166.97 | AL76: =ROUND(AVERAGE(AJ76:AK76),1) -> 223388.5 | AM76: 133280 | AN76: 201518.4 | AO76: =ROUND(AVERAGE(AM76:AN76),1) -> 167399.2 | AP76: 124950 | AQ76: 335029.95 | AR76: =ROUND(AVERAGE(AP76:AQ76),1) -> 229990 | AS76: 149940 | AT76: 204541.18 | AU76: =ROUND(AVERAGE(AS76:AT76),1) -> 177240.6 | AV76: 149940 | AW76: 346756 | AX76: =ROUND(AVERAGE(AV76:AW76),1) -> 248348 | AY76: 149940 | AZ76: 357158.68 | BA76: =ROUND(AVERAGE(AY76:AZ76),1) -> 253549.3 | BB76: 116620 | BC76: 250896.6 | BD76: =ROUND(AVERAGE(BB76:BC76),1) -> 183758.3 | BE76: 149940 | BF76: 357158.68 | BG76: =ROUND(AVERAGE(BE76:BF76),1) -> 253549.3 | BH76: 116620 | BI76: 254660.05 | BJ76: =ROUND(AVERAGE(BH76:BI76),1) -> 185640 | BK76: 91630 | BL76: 254660.05 | BM76: =ROUND(AVERAGE(BK76:BL76),1) -> 173145 | BN76: 91630 | BO76: 243204.02 | BP76: =ROUND(AVERAGE(BN76:BO76),1) -> 167417 | BQ76: 91630 | BR76: 307673.48 | BS76: =ROUND(AVERAGE(BQ76:BR76),1) -> 199651.7 | BT76: 116620 | BU76: 313057.76 | BV76: =ROUND(AVERAGE(BT76:BU76),1) -> 214838.9 | BW76: 116620 | BX76: 308361.9 | BY76: =ROUND(AVERAGE(BW76:BX76),1) -> 212490.9 | BZ76: 166600 | CA76: 330519.3 | CB76: =ROUND(AVERAGE(BZ76:CA76),1) -> 248559.7 | CC76: 149940 | CD76: 325561.51 | CE76: =ROUND(AVERAGE(CC76:CD76),1) -> 237750.8 | CF76: 166600 | CG76: 328040.41 | CH76: =ROUND(AVERAGE(CF76:CG76),1) -> 247320.2 | CI76: 149940 | CJ76: 325561.51 | CK76: =ROUND(AVERAGE(CI76:CJ76),1) -> 237750.8 | CL76: 149940 | CM76: 347045.27 | CN76: =ROUND(AVERAGE(CL76:CM76),1) -> 248492.6 | CO76: 149940 | CP76: 340971.98 | CQ76: =ROUND(AVERAGE(CO76:CP76),1) -> 245456 | CR76: 149940 | CS76: 357456.63 | CT76: =ROUND(AVERAGE(CR76:CS76),1) -> 253698.3
A77: 3.11 | B77: BUJES TIJERA INFERIOR | C77: 141610 | D77: 431166.7 | E77: =ROUND(AVERAGE(C77:D77),1) -> 286388.3 | F77: 133280 | G77: 470025.42 | H77: =ROUND(AVERAGE(F77:G77),1) -> 301652.7 | I77: 133280 | J77: 450596.06 | K77: =ROUND(AVERAGE(I77:J77),1) -> 291938 | L77: 166600 | M77: 461860.96 | N77: =ROUND(AVERAGE(L77:M77),1) -> 314230.5 | O77: 168682.5 | P77: 484954.01 | Q77: =ROUND(AVERAGE(O77:P77),1) -> 326818.3 | R77: 208845 | S77: 533449.41 | T77: =ROUND(AVERAGE(R77:S77),1) -> 371147.2 | U77: 168682.5 | V77: 446257.53 | W77: =ROUND(AVERAGE(U77:V77),1) -> 307470 | X77: 216877.5 | Y77: 641522.72 | Z77: =ROUND(AVERAGE(X77:Y77),1) -> 429200.1 | AA77: 216877.5 | AB77: 657560.79 | AC77: =ROUND(AVERAGE(AA77:AB77),1) -> 437219.1 | AD77: 265072.5 | AE77: 331607.81 | AF77: =ROUND(AVERAGE(AD77:AE77),1) -> 298340.2 | AG77: 141610 | AH77: 546785.65 | AI77: =ROUND(AVERAGE(AG77:AH77),1) -> 344197.8 | AJ77: 208845 | AK77: 323317.61 | AL77: =ROUND(AVERAGE(AJ77:AK77),1) -> 266081.3 | AM77: 200812.5 | AN77: 309030.55 | AO77: =ROUND(AVERAGE(AM77:AN77),1) -> 254921.5 | AP77: 184747.5 | AQ77: 657560.79 | AR77: =ROUND(AVERAGE(AP77:AQ77),1) -> 421154.1 | AS77: 216877.5 | AT77: 313666.01 | AU77: =ROUND(AVERAGE(AS77:AT77),1) -> 265271.8 | AV77: 216877.5 | AW77: 680575.42 | AX77: =ROUND(AVERAGE(AV77:AW77),1) -> 448726.5 | AY77: 216877.5 | AZ77: 700992.68 | BA77: =ROUND(AVERAGE(AY77:AZ77),1) -> 458935.1 | BB77: 168682.5 | BC77: 457036.7 | BD77: =ROUND(AVERAGE(BB77:BC77),1) -> 312859.6 | BE77: 216877.5 | BF77: 700992.68 | BG77: =ROUND(AVERAGE(BE77:BF77),1) -> 458935.1 | BH77: 168682.5 | BI77: 463892.25 | BJ77: =ROUND(AVERAGE(BH77:BI77),1) -> 316287.4 | BK77: 141610 | BL77: 463892.25 | BM77: =ROUND(AVERAGE(BK77:BL77),1) -> 302751.1 | BN77: 141610 | BO77: 443023.78 | BP77: =ROUND(AVERAGE(BN77:BO77),1) -> 292316.9 | BQ77: 141610 | BR77: 477075.8 | BS77: =ROUND(AVERAGE(BQ77:BR77),1) -> 309342.9 | BT77: 168682.5 | BU77: 485424.63 | BV77: =ROUND(AVERAGE(BT77:BU77),1) -> 327053.6 | BW77: 168682.5 | BX77: 478143.26 | BY77: =ROUND(AVERAGE(BW77:BX77),1) -> 323412.9 | BZ77: 240975 | CA77: 350177.84 | CB77: =ROUND(AVERAGE(BZ77:CA77),1) -> 295576.4 | CC77: 216877.5 | CD77: 344925.18 | CE77: =ROUND(AVERAGE(CC77:CD77),1) -> 280901.3 | CF77: 240975 | CG77: 347551.51 | CH77: =ROUND(AVERAGE(CF77:CG77),1) -> 294263.3 | CI77: 216877.5 | CJ77: 344925.18 | CK77: =ROUND(AVERAGE(CI77:CJ77),1) -> 280901.3 | CL77: 216877.5 | CM77: 367686.74 | CN77: =ROUND(AVERAGE(CL77:CM77),1) -> 292282.1 | CO77: 216877.5 | CP77: 361252.22 | CQ77: =ROUND(AVERAGE(CO77:CP77),1) -> 289064.9 | CR77: 216877.5 | CS77: 378717.34 | CT77: =ROUND(AVERAGE(CR77:CS77),1) -> 297797.4
A78: 3.12 | B78: BUJES TIJERA SUPERIOR | C78: 158270 | D78: 435882.47 | E78: =ROUND(AVERAGE(C78:D78),1) -> 297076.2 | F78: 141610 | G78: 475166.19 | H78: =ROUND(AVERAGE(F78:G78),1) -> 308388.1 | I78: 149940 | J78: 455524.33 | K78: =ROUND(AVERAGE(I78:J78),1) -> 302732.2 | L78: 176715 | M78: 466912.44 | N78: =ROUND(AVERAGE(L78:M78),1) -> 321813.7 | O78: 184747.5 | P78: 490258.06 | Q78: =ROUND(AVERAGE(O78:P78),1) -> 337502.8 | R78: 224910 | S78: 539283.86 | T78: =ROUND(AVERAGE(R78:S78),1) -> 382096.9 | U78: 184747.5 | V78: 451138.35 | W78: =ROUND(AVERAGE(U78:V78),1) -> 317942.9 | X78: 240975 | Y78: 647574.82 | Z78: =ROUND(AVERAGE(X78:Y78),1) -> 444274.9 | AA78: 240975 | AB78: 663764.19 | AC78: =ROUND(AVERAGE(AA78:AB78),1) -> 452369.6 | AD78: 289170 | AE78: 334736.18 | AF78: =ROUND(AVERAGE(AD78:AE78),1) -> 311953.1 | AG78: 158270 | AH78: 552765.96 | AI78: =ROUND(AVERAGE(AG78:AH78),1) -> 355518 | AJ78: 232942.5 | AK78: 326367.78 | AL78: =ROUND(AVERAGE(AJ78:AK78),1) -> 279655.1 | AM78: 216877.5 | AN78: 310823.29 | AO78: =ROUND(AVERAGE(AM78:AN78),1) -> 263850.4 | AP78: 200812.5 | AQ78: 663764.19 | AR78: =ROUND(AVERAGE(AP78:AQ78),1) -> 432288.3 | AS78: 240975 | AT78: 315485.64 | AU78: =ROUND(AVERAGE(AS78:AT78),1) -> 278230.3 | AV78: 240975 | AW78: 686995.94 | AX78: =ROUND(AVERAGE(AV78:AW78),1) -> 463985.5 | AY78: 240975 | AZ78: 707605.82 | BA78: =ROUND(AVERAGE(AY78:AZ78),1) -> 474290.4 | BB78: 184747.5 | BC78: 462035.41 | BD78: =ROUND(AVERAGE(BB78:BC78),1) -> 323391.5 | BE78: 240975 | BF78: 707605.82 | BG78: =ROUND(AVERAGE(BE78:BF78),1) -> 474290.4 | BH78: 184747.5 | BI78: 468965.94 | BJ78: =ROUND(AVERAGE(BH78:BI78),1) -> 326856.7 | BK78: 158270 | BL78: 468965.94 | BM78: =ROUND(AVERAGE(BK78:BL78),1) -> 313618 | BN78: 158270 | BO78: 447869.23 | BP78: =ROUND(AVERAGE(BN78:BO78),1) -> 303069.6 | BQ78: 158270 | BR78: 482293.68 | BS78: =ROUND(AVERAGE(BQ78:BR78),1) -> 320281.8 | BT78: 184747.5 | BU78: 490733.82 | BV78: =ROUND(AVERAGE(BT78:BU78),1) -> 337740.7 | BW78: 184747.5 | BX78: 483372.82 | BY78: =ROUND(AVERAGE(BW78:BX78),1) -> 334060.2 | BZ78: 265072.5 | CA78: 353481.41 | CB78: =ROUND(AVERAGE(BZ78:CA78),1) -> 309277 | CC78: 240975 | CD78: 348179.19 | CE78: =ROUND(AVERAGE(CC78:CD78),1) -> 294577.1 | CF78: 265072.5 | CG78: 350830.3 | CH78: =ROUND(AVERAGE(CF78:CG78),1) -> 307951.4 | CI78: 240975 | CJ78: 348179.19 | CK78: =ROUND(AVERAGE(CI78:CJ78),1) -> 294577.1 | CL78: 240975 | CM78: 371155.48 | CN78: =ROUND(AVERAGE(CL78:CM78),1) -> 306065.2 | CO78: 240975 | CP78: 364660.26 | CQ78: =ROUND(AVERAGE(CO78:CP78),1) -> 302817.6 | CR78: 240975 | CS78: 382290.14 | CT78: =ROUND(AVERAGE(CR78:CS78),1) -> 311632.6
... A99: 3.33 | B99: TORNILLO PRINCIPAL MUELLES | C99: 99960 | D99: 60279.762 | E99: =ROUND(AVERAGE(C99:D99),1) -> 80119.9 | F99: 91630 | G99: 60279.762 | H99: =ROUND(AVERAGE(F99:G99),1) -> 75954.9 | I99: 91630 | J99: 60279.762 | K99: =ROUND(AVERAGE(I99:J99),1) -> 75954.9 | L99: 116620 | M99: 61786.756 | N99: =ROUND(AVERAGE(L99:M99),1) -> 89203.4 | O99: 124950 | P99: 64876.094 | Q99: =ROUND(AVERAGE(O99:P99),1) -> 94913 | R99: 149940 | S99: 71363.703 | T99: =ROUND(AVERAGE(R99:S99),1) -> 110651.9 | U99: 124950 | V99: 62389.553 | W99: =ROUND(AVERAGE(U99:V99),1) -> 93669.8 | X99: 158270 | Y99: 92241.569 | Z99: =ROUND(AVERAGE(X99:Y99),1) -> 125255.8 | AA99: 158270 | AB99: 94547.608 | AC99: =ROUND(AVERAGE(AA99:AB99),1) -> 126408.8 | AD99: 137147.5 | AE99: 105463.66 | AF99: =ROUND(AVERAGE(AD99:AE99),1) -> 121305.6 | AG99: 99960 | AH99: 73147.795 | AI99: =ROUND(AVERAGE(AG99:AH99),1) -> 86553.9 | AJ99: 149940 | AK99: 102827.07 | AL99: =ROUND(AVERAGE(AJ99:AK99),1) -> 126383.5 | AM99: 141610 | AN99: 89629.967 | AO99: =ROUND(AVERAGE(AM99:AN99),1) -> 115620 | AP99: 133280 | AQ99: 94547.608 | AR99: =ROUND(AVERAGE(AP99:AQ99),1) -> 113913.8 | AS99: 158270 | AT99: 90974.417 | AU99: =ROUND(AVERAGE(AS99:AT99),1) -> 124622.2 | AV99: 158270 | AW99: 97856.774 | AX99: =ROUND(AVERAGE(AV99:AW99),1) -> 128063.4 | AY99: 158270 | AZ99: 100792.48 | BA99: =ROUND(AVERAGE(AY99:AZ99),1) -> 129531.2 | BB99: 124950 | BC99: 63896.547 | BD99: =ROUND(AVERAGE(BB99:BC99),1) -> 94423.3 | BE99: 158270 | BF99: 100792.48 | BG99: =ROUND(AVERAGE(BE99:BF99),1) -> 129531.2 | BH99: 124950 | BI99: 64854.996 | BJ99: =ROUND(AVERAGE(BH99:BI99),1) -> 94902.5 | BK99: 99960 | BL99: 64854.996 | BM99: =ROUND(AVERAGE(BK99:BL99),1) -> 82407.5 | BN99: 99960 | BO99: 61937.455 | BP99: =ROUND(AVERAGE(BN99:BO99),1) -> 80948.7 | BQ99: 99960 | BR99: 61183.958 | BS99: =ROUND(AVERAGE(BQ99:BR99),1) -> 80572 | BT99: 124950 | BU99: 62254.677 | BV99: =ROUND(AVERAGE(BT99:BU99),1) -> 93602.3 | BW99: 124950 | BX99: 61320.857 | BY99: =ROUND(AVERAGE(BW99:BX99),1) -> 93135.4 | BZ99: 168682.5 | CA99: 111369.62 | CB99: =ROUND(AVERAGE(BZ99:CA99),1) -> 140026.1 | CC99: 158270 | CD99: 109699.08 | CE99: =ROUND(AVERAGE(CC99:CD99),1) -> 133984.5 | CF99: 168682.5 | CG99: 110534.35 | CH99: =ROUND(AVERAGE(CF99:CG99),1) -> 139608.4 | CI99: 158270 | CJ99: 109699.08 | CK99: =ROUND(AVERAGE(CI99:CJ99),1) -> 133984.5 | CL99: 158270 | CM99: 116938.1 | CN99: =ROUND(AVERAGE(CL99:CM99),1) -> 137604.1 | CO99: 158270 | CP99: 114891.69 | CQ99: =ROUND(AVERAGE(CO99:CP99),1) -> 136580.8 | CR99: 158270 | CS99: 120446.25 | CT99: =ROUND(AVERAGE(CR99:CS99),1) -> 139358.1
A100: 4 | B100: EMBRAGUE | C100: 0 | D100: 0 | E100: 0 | F100: 0 | G100: 0 | H100: 0 | I100: 0 | J100: 0 | K100: 0 | L100: 0 | M100: 0 | N100: 0 | O100: 0 | P100: 0 | Q100: 0 | R100: 0 | S100: 0 | T100: 0 | U100: 0 | V100: 0 | W100: 0 | X100: 0 | Y100: 0 | Z100: 0 | AA100: 0 | AB100: 0 | AC100: 0 | AD100: 0 | AE100: 0 | AF100: 0 | AG100: 0 | AH100: 0 | AI100: 0 | AJ100: 0 | AK100: 0 | AL100: 0 | AM100: 0 | AN100: 0 | AO100: 0 | AP100: 0 | AQ100: 0 | AR100: 0 | AS100: 0 | AT100: 0 | AU100: 0 | AV100: 0 | AW100: 0 | AX100: 0 | AY100: 0 | AZ100: 0 | BA100: 0 | BB100: 0 | BC100: 0 | BD100: 0 | BE100: 0 | BF100: 0 | BG100: 0 | BH100: 0 | BI100: 0 | BJ100: 0 | BK100: 0 | BL100: 0 | BM100: 0 | BN100: 0 | BO100: 0 | BP100: 0 | BQ100: 0 | BR100: 0 | BS100: 0 | BT100: 0 | BU100: 0 | BV100: 0 | BW100: 0 | BX100: 0 | BY100: 0 | BZ100: 0 | CA100: 0 | CB100: 0 | CC100: 0 | CD100: 0 | CE100: 0 | CF100: 0 | CG100: 0 | CH100: 0 | CI100: 0 | CJ100: 0 | CK100: 0 | CL100: 0 | CM100: 0 | CN100: 0 | CO100: 0 | CP100: 0 | CQ100: 0 | CR100: 0 | CS100: 0 | CT100: 0
A101: 4.1 | B101: BOMBA AUXILIAR DE EMBRAGUE | C101: 265072.5 | D101: 240715.67 | E101: =ROUND(AVERAGE(C101:D101),1) -> 252894.1 | F101: 232942.5 | G101: 407491.61 | H101: =ROUND(AVERAGE(F101:G101),1) -> 320217.1 | I101: 240975 | J101: 443103.64 | K101: =ROUND(AVERAGE(I101:J101),1) -> 342039.3 | L101: 305235 | M101: 454181.23 | N101: =ROUND(AVERAGE(L101:M101),1) -> 379708.1 | O101: 321300 | P101: 476890.29 | Q101: =ROUND(AVERAGE(O101:P101),1) -> 399095.1 | R101: 385560 | S101: 524579.32 | T101: =ROUND(AVERAGE(R101:S101),1) -> 455069.7 | U101: 321300 | V101: 495470.72 | W101: =ROUND(AVERAGE(U101:V101),1) -> 408385.4 | X101: 409657.5 | Y101: 368254.91 | Z101: =ROUND(AVERAGE(X101:Y101),1) -> 388956.2 | AA101: 409657.5 | AB101: 377461.28 | AC101: =ROUND(AVERAGE(AA101:AB101),1) -> 393559.4 | AD101: 479570 | AE101: 955066.86 | AF101: =ROUND(AVERAGE(AD101:AE101),1) -> 717318.4 | AG101: 265072.5 | AH101: 537693.8 | AI101: =ROUND(AVERAGE(AG101:AH101),1) -> 401383.2 | AJ101: 393592.5 | AK101: 931190.19 | AL101: =ROUND(AVERAGE(AJ101:AK101),1) -> 662391.3 | AM101: 377527.5 | AN101: 416250.96 | AO101: =ROUND(AVERAGE(AM101:AN101),1) -> 396889.2 | AP101: 345397.5 | AQ101: 377461.28 | AR101: =ROUND(AVERAGE(AP101:AQ101),1) -> 361429.4 | AS101: 409657.5 | AT101: 422494.72 | AU101: =ROUND(AVERAGE(AS101:AT101),1) -> 416076.1 | AV101: 409657.5 | AW101: 390672.43 | AX101: =ROUND(AVERAGE(AV101:AW101),1) -> 400165 | AY101: 409657.5 | AZ101: 402392.6 | BA101: =ROUND(AVERAGE(AY101:AZ101),1) -> 406025.1 | BB101: 321300 | BC101: 255158.61 | BD101: =ROUND(AVERAGE(BB101:BC101),1) -> 288229.3 | BE101: 409657.5 | BF101: 402392.6 | BG101: =ROUND(AVERAGE(BE101:BF101),1) -> 406025.1 | BH101: 321300 | BI101: 258985.99 | BJ101: =ROUND(AVERAGE(BH101:BI101),1) -> 290143 | BK101: 265072.5 | BL101: 258985.99 | BM101: =ROUND(AVERAGE(BK101:BL101),1) -> 262029.2 | BN101: 265072.5 | BO101: 247335.35 | BP101: =ROUND(AVERAGE(BN101:BO101),1) -> 256203.9 | BQ101: 265072.5 | BR101: 413603.98 | BS101: =ROUND(AVERAGE(BQ101:BR101),1) -> 339338.2 | BT101: 321300 | BU101: 420842.05 | BV101: =ROUND(AVERAGE(BT101:BU101),1) -> 371071 | BW101: 321300 | BX101: 414529.42 | BY101: =ROUND(AVERAGE(BW101:BX101),1) -> 367914.7 | BZ101: 457852.5 | CA101: 1008550.6 | CB101: =ROUND(AVERAGE(BZ101:CA101),1) -> 733201.6 | CC101: 409657.5 | CD101: 993422.34 | CE101: =ROUND(AVERAGE(CC101:CD101),1) -> 701539.9 | CF101: 457852.5 | CG101: 1000986.5 | CH101: =ROUND(AVERAGE(CF101:CG101),1) -> 729419.5 | CI101: 457852.5 | CJ101: 993422.34 | CK101: =ROUND(AVERAGE(CI101:CJ101),1) -> 725637.4 | CL101: 409657.5 | CM101: 1058978.1 | CN101: =ROUND(AVERAGE(CL101:CM101),1) -> 734317.8 | CO101: 409657.5 | CP101: 1040446 | CQ101: =ROUND(AVERAGE(CO101:CP101),1) -> 725051.8 | CR101: 409657.5 | CS101: 1090747.5 | CT101: =ROUND(AVERAGE(CR101:CS101),1) -> 750202.5
A102: 4.2 | B102: BOMBA PRINCIPAL DE EMBRAGUE | C102: 313267.5 | D102: 448179.26 | E102: =ROUND(AVERAGE(C102:D102),1) -> 380723.4 | F102: 289170 | G102: 685383.44 | H102: =ROUND(AVERAGE(F102:G102),1) -> 487276.7 | I102: 305235 | J102: 745281.35 | K102: =ROUND(AVERAGE(I102:J102),1) -> 525258.2 | L102: 369495 | M102: 763913.38 | N102: =ROUND(AVERAGE(L102:M102),1) -> 566704.2 | O102: 385560 | P102: 802109.05 | Q102: =ROUND(AVERAGE(O102:P102),1) -> 593834.5 | R102: 481950 | S102: 882319.96 | T102: =ROUND(AVERAGE(R102:S102),1) -> 682135 | U102: 385560 | V102: 833360.53 | W102: =ROUND(AVERAGE(U102:V102),1) -> 609460.3 | X102: 479570 | Y102: 540426.04 | Z102: =ROUND(AVERAGE(X102:Y102),1) -> 509998 | AA102: 479570 | AB102: 553936.69 | AC102: =ROUND(AVERAGE(AA102:AB102),1) -> 516753.3 | AD102: 595595 | AE102: 1382094.3 | AF102: =ROUND(AVERAGE(AD102:AE102),1) -> 988844.7 | AG102: 313267.5 | AH102: 904377.95 | AI102: =ROUND(AVERAGE(AG102:AH102),1) -> 608822.7 | AJ102: 471835 | AK102: 1347542 | AL102: =ROUND(AVERAGE(AJ102:AK102),1) -> 909688.5 | AM102: 465885 | AN102: 643857.86 | AO102: =ROUND(AVERAGE(AM102:AN102),1) -> 554871.4 | AP102: 433755 | AQ102: 553936.69 | AR102: =ROUND(AVERAGE(AP102:AQ102),1) -> 493845.8 | AS102: 479570 | AT102: 653515.73 | AU102: =ROUND(AVERAGE(AS102:AT102),1) -> 566542.9 | AV102: 479570 | AW102: 573324.47 | AX102: =ROUND(AVERAGE(AV102:AW102),1) -> 526447.2 | AY102: 479570 | AZ102: 590524.21 | BA102: =ROUND(AVERAGE(AY102:AZ102),1) -> 535047.1 | BB102: 393592.5 | BC102: 475070.02 | BD102: =ROUND(AVERAGE(BB102:BC102),1) -> 434331.3 | BE102: 479570 | BF102: 590524.21 | BG102: =ROUND(AVERAGE(BE102:BF102),1) -> 535047.1 | BH102: 393592.5 | BI102: 482196.07 | BJ102: =ROUND(AVERAGE(BH102:BI102),1) -> 437894.3 | BK102: 313267.5 | BL102: 482196.07 | BM102: =ROUND(AVERAGE(BK102:BL102),1) -> 397731.8 | BN102: 313267.5 | BO102: 460504.19 | BP102: =ROUND(AVERAGE(BN102:BO102),1) -> 386885.8 | BQ102: 313267.5 | BR102: 695664.19 | BS102: =ROUND(AVERAGE(BQ102:BR102),1) -> 504465.8 | BT102: 393592.5 | BU102: 707838.31 | BV102: =ROUND(AVERAGE(BT102:BU102),1) -> 550715.4 | BW102: 393592.5 | BX102: 697220.74 | BY102: =ROUND(AVERAGE(BW102:BX102),1) -> 545406.6 | BZ102: 541450 | CA102: 1459491.6 | CB102: =ROUND(AVERAGE(BZ102:CA102),1) -> 1000470.8 | CC102: 479570 | CD102: 1437599.2 | CE102: =ROUND(AVERAGE(CC102:CD102),1) -> 958584.6 | CF102: 541450 | CG102: 1448545.4 | CH102: =ROUND(AVERAGE(CF102:CG102),1) -> 994997.7 | CI102: 541450 | CJ102: 1437599.2 | CK102: =ROUND(AVERAGE(CI102:CJ102),1) -> 989524.6 | CL102: 479570 | CM102: 1532466.2 | CN102: =ROUND(AVERAGE(CL102:CM102),1) -> 1006018.1 | CO102: 479570 | CP102: 1505648 | CQ102: =ROUND(AVERAGE(CO102:CP102),1) -> 992609 | CR102: 479570 | CS102: 1578440.2 | CT102: =ROUND(AVERAGE(CR102:CS102),1) -> 1029005.1
A103: 4.3 | B103: GUAYA EMBRAGUE | C103: 108290 | D103: 189842.98 | E103: =ROUND(AVERAGE(C103:D103),1) -> 149066.5 | F103: 99960 | G103: 364187.83 | H103: =ROUND(AVERAGE(F103:G103),1) -> 232073.9 | I103: 99960 | J103: 396015.41 | K103: =ROUND(AVERAGE(I103:J103),1) -> 247987.7 | L103: 124950 | M103: 405915.79 | N103: =ROUND(AVERAGE(L103:M103),1) -> 265432.9 | O103: 133280 | P103: 426211.58 | Q103: =ROUND(AVERAGE(O103:P103),1) -> 279745.8 | R103: 158270 | S103: 468832.74 | T103: =ROUND(AVERAGE(R103:S103),1) -> 313551.4 | U103: 133280 | V103: 442817.48 | W103: =ROUND(AVERAGE(U103:V103),1) -> 288048.7 | X103: 166600 | Y103: 422161.26 | Z103: =ROUND(AVERAGE(X103:Y103),1) -> 294380.6 | AA103: 166600 | AB103: 432715.29 | AC103: =ROUND(AVERAGE(AA103:AB103),1) -> 299657.6 | AD103: 192780 | AE103: 624918.25 | AF103: =ROUND(AVERAGE(AD103:AE103),1) -> 408849.1 | AG103: 108290 | AH103: 480553.56 | AI103: =ROUND(AVERAGE(AG103:AH103),1) -> 294421.8 | AJ103: 158270 | AK103: 609295.29 | AL103: =ROUND(AVERAGE(AJ103:AK103),1) -> 383782.6 | AM103: 149940 | AN103: 314662.46 | AO103: =ROUND(AVERAGE(AM103:AN103),1) -> 232301.2 | AP103: 141610 | AQ103: 432715.29 | AR103: =ROUND(AVERAGE(AP103:AQ103),1) -> 287162.6 | AS103: 166600 | AT103: 319382.39 | AU103: =ROUND(AVERAGE(AS103:AT103),1) -> 242991.2 | AV103: 166600 | AW103: 447860.32 | AX103: =ROUND(AVERAGE(AV103:AW103),1) -> 307230.2 | AY103: 166600 | AZ103: 461296.13 | BA103: =ROUND(AVERAGE(AY103:AZ103),1) -> 313948.1 | BB103: 133280 | BC103: 201233.56 | BD103: =ROUND(AVERAGE(BB103:BC103),1) -> 167256.8 | BE103: 166600 | BF103: 461296.13 | BG103: =ROUND(AVERAGE(BE103:BF103),1) -> 313948.1 | BH103: 133280 | BI103: 204252.06 | BJ103: =ROUND(AVERAGE(BH103:BI103),1) -> 168766 | BK103: 108290 | BL103: 204252.06 | BM103: =ROUND(AVERAGE(BK103:BL103),1) -> 156271 | BN103: 108290 | BO103: 195063.66 | BP103: =ROUND(AVERAGE(BN103:BO103),1) -> 151676.8 | BQ103: 108290 | BR103: 369650.65 | BS103: =ROUND(AVERAGE(BQ103:BR103),1) -> 238970.3 | BT103: 133280 | BU103: 376119.54 | BV103: =ROUND(AVERAGE(BT103:BU103),1) -> 254699.8 | BW103: 133280 | BX103: 370477.75 | BY103: =ROUND(AVERAGE(BW103:BX103),1) -> 251878.9 | BZ103: 176715 | CA103: 659913.67 | CB103: =ROUND(AVERAGE(BZ103:CA103),1) -> 418314.3 | CC103: 166600 | CD103: 650014.96 | CE103: =ROUND(AVERAGE(CC103:CD103),1) -> 408307.5 | CF103: 176715 | CG103: 654964.32 | CH103: =ROUND(AVERAGE(CF103:CG103),1) -> 415839.7 | CI103: 176715 | CJ103: 650014.96 | CK103: =ROUND(AVERAGE(CI103:CJ103),1) -> 413365 | CL103: 166600 | CM103: 692909.35 | CN103: =ROUND(AVERAGE(CL103:CM103),1) -> 429754.7 | CO103: 166600 | CP103: 680783.44 | CQ103: =ROUND(AVERAGE(CO103:CP103),1) -> 423691.7 | CR103: 166600 | CS103: 713696.63 | CT103: =ROUND(AVERAGE(CR103:CS103),1) -> 440148.3
A104: 4.4 | B104: HORQUILLA EMBRAGUE | C104: 224910 | D104: 330518.21 | E104: =ROUND(AVERAGE(C104:D104),1) -> 277714.1 | F104: 208845 | G104: 254013.98 | H104: =ROUND(AVERAGE(F104:G104),1) -> 231429.5 | I104: 216877.5 | J104: 411266.09 | K104: =ROUND(AVERAGE(I104:J104),1) -> 314071.8 | L104: 273105 | M104: 421547.75 | N104: =ROUND(AVERAGE(L104:M104),1) -> 347326.4 | O104: 289170 | P104: 442625.13 | Q104: =ROUND(AVERAGE(O104:P104),1) -> 365897.6 | R104: 345397.5 | S104: 486887.65 | T104: =ROUND(AVERAGE(R104:S104),1) -> 416142.6 | U104: 289170 | V104: 588416.35 | W104: =ROUND(AVERAGE(U104:V104),1) -> 438793.2 | X104: 361462.5 | Y104: 429864.54 | Z104: =ROUND(AVERAGE(X104:Y104),1) -> 395663.5 | AA104: 361462.5 | AB104: 318636.15 | AC104: =ROUND(AVERAGE(AA104:AB104),1) -> 340049.3 | AD104: 449820 | AE104: 568518.21 | AF104: =ROUND(AVERAGE(AD104:AE104),1) -> 509169.1 | AG104: 224910 | AH104: 499059.84 | AI104: =ROUND(AVERAGE(AG104:AH104),1) -> 361984.9 | AJ104: 353430 | AK104: 554305.26 | AL104: =ROUND(AVERAGE(AJ104:AK104),1) -> 453867.6 | AM104: 337365 | AN104: 457540.73 | AO104: =ROUND(AVERAGE(AM104:AN104),1) -> 397452.9 | AP104: 313267.5 | AQ104: 440611.15 | AR104: =ROUND(AVERAGE(AP104:AQ104),1) -> 376939.3 | AS104: 361462.5 | AT104: 464403.84 | AU104: =ROUND(AVERAGE(AS104:AT104),1) -> 412933.2 | AV104: 361462.5 | AW104: 456032.54 | AX104: =ROUND(AVERAGE(AV104:AW104),1) -> 408747.5 | AY104: 361462.5 | AZ104: 469713.52 | BA104: =ROUND(AVERAGE(AY104:AZ104),1) -> 415588 | BB104: 289170 | BC104: 350349.3 | BD104: =ROUND(AVERAGE(BB104:BC104),1) -> 319759.7 | BE104: 361462.5 | BF104: 469713.52 | BG104: =ROUND(AVERAGE(BE104:BF104),1) -> 415588 | BH104: 289170 | BI104: 355604.54 | BJ104: =ROUND(AVERAGE(BH104:BI104),1) -> 322387.3 | BK104: 224910 | BL104: 355604.54 | BM104: =ROUND(AVERAGE(BK104:BL104),1) -> 290257.3 | BN104: 224910 | BO104: 339607.46 | BP104: =ROUND(AVERAGE(BN104:BO104),1) -> 282258.7 | BQ104: 224910 | BR104: 257824.19 | BS104: =ROUND(AVERAGE(BQ104:BR104),1) -> 241367.1 | BT104: 289170 | BU104: 262336.11 | BV104: =ROUND(AVERAGE(BT104:BU104),1) -> 275753.1 | BW104: 289170 | BX104: 258401.07 | BY104: =ROUND(AVERAGE(BW104:BX104),1) -> 273785.5 | BZ104: 270725 | CA104: 600355.23 | CB104: =ROUND(AVERAGE(BZ104:CA104),1) -> 435540.1 | CC104: 361462.5 | CD104: 591349.9 | CE104: =ROUND(AVERAGE(CC104:CD104),1) -> 476406.2 | CF104: 270725 | CG104: 595852.57 | CH104: =ROUND(AVERAGE(CF104:CG104),1) -> 433288.8 | CI104: 361462.5 | CJ104: 591349.9 | CK104: =ROUND(AVERAGE(CI104:CJ104),1) -> 476406.2 | CL104: 361462.5 | CM104: 630372.99 | CN104: =ROUND(AVERAGE(CL104:CM104),1) -> 495917.7 | CO104: 361462.5 | CP104: 619341.46 | CQ104: =ROUND(AVERAGE(CO104:CP104),1) -> 490402 | CR104: 361462.5 | CS104: 649284.18 | CT104: =ROUND(AVERAGE(CR104:CS104),1) -> 505373.3
A105: 4.5 | B105: KIT DE EMBRAGUE (DISCO-PREN Y BALI. BAL. VOLAN) | C105: 564655 | D105: 2224246.7 | E105: =ROUND(AVERAGE(C105:D105),1) -> 1394450.9 | F105: 618800 | G105: 1893319.8 | H105: =ROUND(AVERAGE(F105:G105),1) -> 1256059.9 | I105: 649740 | J105: 2058783.3 | K105: =ROUND(AVERAGE(I105:J105),1) -> 1354261.6 | L105: 773500 | M105: 2110252.8 | N105: =ROUND(AVERAGE(L105:M105),1) -> 1441876.4 | O105: 982345 | P105: 2215765.5 | Q105: =ROUND(AVERAGE(O105:P105),1) -> 1599055.2 | R105: 1636250 | S105: 2437342 | T105: =ROUND(AVERAGE(R105:S105),1) -> 2036796 | U105: 982345 | V105: 2302095.3 | W105: =ROUND(AVERAGE(U105:V105),1) -> 1642220.2 | X105: 989901.5 | Y105: 3281549.7 | Z105: =ROUND(AVERAGE(X105:Y105),1) -> 2135725.6 | AA105: 989901.5 | AB105: 3363588.4 | AC105: =ROUND(AVERAGE(AA105:AB105),1) -> 2176745 | AD105: 2677500 | AE105: 5737161.3 | AF105: =ROUND(AVERAGE(AD105:AE105),1) -> 4207330.7 | AG105: 850850 | AH105: 2498275.6 | AI105: =ROUND(AVERAGE(AG105:AH105),1) -> 1674562.8 | AJ105: 1933750 | AK105: 5593732.3 | AL105: =ROUND(AVERAGE(AJ105:AK105),1) -> 3763741.1 | AM105: 1636250 | AN105: 2405607.1 | AO105: =ROUND(AVERAGE(AM105:AN105),1) -> 2020928.5 | AP105: 1360170 | AQ105: 3363588.4 | AR105: =ROUND(AVERAGE(AP105:AQ105),1) -> 2361879.2 | AS105: 1785000 | AT105: 2441691.2 | AU105: =ROUND(AVERAGE(AS105:AT105),1) -> 2113345.6 | AV105: 1933750 | AW105: 3481314 | AX105: =ROUND(AVERAGE(AV105:AW105),1) -> 2707532 | AY105: 2082500 | AZ105: 3585753.4 | BA105: =ROUND(AVERAGE(AY105:AZ105),1) -> 2834126.7 | BB105: 1435735 | BC105: 2357701.5 | BD105: =ROUND(AVERAGE(BB105:BC105),1) -> 1896718.3 | BE105: 2082500 | BF105: 3585753.4 | BG105: =ROUND(AVERAGE(BE105:BF105),1) -> 2834126.7 | BH105: 1435735 | BI105: 2393067 | BJ105: =ROUND(AVERAGE(BH105:BI105),1) -> 1914401 | BK105: 1209040 | BL105: 2393067 | BM105: =ROUND(AVERAGE(BK105:BL105),1) -> 1801053.5 | BN105: 1209040 | BO105: 2285413.5 | BP105: =ROUND(AVERAGE(BN105:BO105),1) -> 1747226.7 | BQ105: 1209040 | BR105: 1921719.6 | BS105: =ROUND(AVERAGE(BQ105:BR105),1) -> 1565379.8 | BT105: 1435735 | BU105: 1955349.7 | BV105: =ROUND(AVERAGE(BT105:BU105),1) -> 1695542.4 | BW105: 1435735 | BX105: 1926019.5 | BY105: =ROUND(AVERAGE(BW105:BX105),1) -> 1680877.2 | BZ105: 2380000 | CA105: 6058442.4 | CB105: =ROUND(AVERAGE(BZ105:CA105),1) -> 4219221.2 | CC105: 2231250 | CD105: 5967565.7 | CE105: =ROUND(AVERAGE(CC105:CD105),1) -> 4099407.9 | CF105: 2380000 | CG105: 6013004 | CH105: =ROUND(AVERAGE(CF105:CG105),1) -> 4196502 | CI105: 2975000 | CJ105: 5967565.7 | CK105: =ROUND(AVERAGE(CI105:CJ105),1) -> 4471282.9 | CL105: 2231250 | CM105: 6361364.5 | CN105: =ROUND(AVERAGE(CL105:CM105),1) -> 4296307.2 | CO105: 2231250 | CP105: 6250040.6 | CQ105: =ROUND(AVERAGE(CO105:CP105),1) -> 4240645.3 | CR105: 2231250 | CS105: 6552205.4 | CT105: =ROUND(AVERAGE(CR105:CS105),1) -> 4391727.7
A106: 4.6 | B106: RETEN DELANTERO CAJA | C106: 99960 | D106: 260340.18 | E106: =ROUND(AVERAGE(C106:D106),1) -> 180150.1 | F106: 91630 | G106: 260340.18 | H106: =ROUND(AVERAGE(F106:G106),1) -> 175985.1 | I106: 91630 | J106: 260340.18 | K106: =ROUND(AVERAGE(I106:J106),1) -> 175985.1 | L106: 116620 | M106: 266848.68 | N106: =ROUND(AVERAGE(L106:M106),1) -> 191734.3 | O106: 124950 | P106: 280191.12 | Q106: =ROUND(AVERAGE(O106:P106),1) -> 202570.6 | R106: 149940 | S106: 308210.23 | T106: =ROUND(AVERAGE(R106:S106),1) -> 229075.1 | U106: 124950 | V106: 269452.08 | W106: =ROUND(AVERAGE(U106:V106),1) -> 197201 | X106: 158270 | Y106: 176145.89 | Z106: =ROUND(AVERAGE(X106:Y106),1) -> 167207.9 | AA106: 158270 | AB106: 180549.54 | AC106: =ROUND(AVERAGE(AA106:AB106),1) -> 169409.8 | AD106: 184747.5 | AE106: 357840.5 | AF106: =ROUND(AVERAGE(AD106:AE106),1) -> 271294 | AG106: 99960 | AH106: 315915.48 | AI106: =ROUND(AVERAGE(AG106:AH106),1) -> 207937.7 | AJ106: 149940 | AK106: 348894.49 | AL106: =ROUND(AVERAGE(AJ106:AK106),1) -> 249417.2 | AM106: 141610 | AN106: 214182.68 | AO106: =ROUND(AVERAGE(AM106:AN106),1) -> 177896.3 | AP106: 133280 | AQ106: 180549.54 | AR106: =ROUND(AVERAGE(AP106:AQ106),1) -> 156914.8 | AS106: 158270 | AT106: 217395.42 | AU106: =ROUND(AVERAGE(AS106:AT106),1) -> 187832.7 | AV106: 158270 | AW106: 186868.77 | AX106: =ROUND(AVERAGE(AV106:AW106),1) -> 172569.4 | AY106: 158270 | AZ106: 192474.83 | BA106: =ROUND(AVERAGE(AY106:AZ106),1) -> 175372.4 | BB106: 124950 | BC106: 275960.59 | BD106: =ROUND(AVERAGE(BB106:BC106),1) -> 200455.3 | BE106: 158270 | BF106: 192474.83 | BG106: =ROUND(AVERAGE(BE106:BF106),1) -> 175372.4 | BH106: 124950 | BI106: 280100 | BJ106: =ROUND(AVERAGE(BH106:BI106),1) -> 202525 | BK106: 99960 | BL106: 280100 | BM106: =ROUND(AVERAGE(BK106:BL106),1) -> 190030 | BN106: 99960 | BO106: 267499.53 | BP106: =ROUND(AVERAGE(BN106:BO106),1) -> 183729.8 | BQ106: 99960 | BR106: 264245.28 | BS106: =ROUND(AVERAGE(BQ106:BR106),1) -> 182102.6 | BT106: 124950 | BU106: 268869.57 | BV106: =ROUND(AVERAGE(BT106:BU106),1) -> 196909.8 | BW106: 124950 | BX106: 264836.53 | BY106: =ROUND(AVERAGE(BW106:BX106),1) -> 194893.3 | BZ106: 168682.5 | CA106: 377879.57 | CB106: =ROUND(AVERAGE(BZ106:CA106),1) -> 273281 | CC106: 158270 | CD106: 372211.38 | CE106: =ROUND(AVERAGE(CC106:CD106),1) -> 265240.7 | CF106: 168682.5 | CG106: 375045.47 | CH106: =ROUND(AVERAGE(CF106:CG106),1) -> 271864 | CI106: 168682.5 | CJ106: 372211.38 | CK106: =ROUND(AVERAGE(CI106:CJ106),1) -> 270446.9 | CL106: 158270 | CM106: 396773.55 | CN106: =ROUND(AVERAGE(CL106:CM106),1) -> 277521.8 | CO106: 158270 | CP106: 389830.01 | CQ106: =ROUND(AVERAGE(CO106:CP106),1) -> 274050 | CR106: 158270 | CS106: 408676.75 | CT106: =ROUND(AVERAGE(CR106:CS106),1) -> 283473.4
A107: 4.7 | B107: VOLANTE BIMASA | C107: 2913120 | D107: 1909958.2 | E107: =ROUND(AVERAGE(C107:D107),1) -> 2411539.1 | F107: 2789062.5 | G107: 451039.88 | H107: =ROUND(AVERAGE(F107:G107),1) -> 1620051.2 | I107: 2885750 | J107: 1180499 | K107: =ROUND(AVERAGE(I107:J107),1) -> 2033124.5 | L107: 3420060 | M107: 1210011.5 | N107: =ROUND(AVERAGE(L107:M107),1) -> 2315035.8 | O107: 3598560 | P107: 1270512.1 | Q107: =ROUND(AVERAGE(O107:P107),1) -> 2434536 | R107: 4412520 | S107: 1397563.3 | T107: =ROUND(AVERAGE(R107:S107),1) -> 2905041.6 | U107: 3598560 | V107: 1976806.7 | W107: =ROUND(AVERAGE(U107:V107),1) -> 2787683.4 | X107: 5462100 | Y107: 2424100.6 | Z107: =ROUND(AVERAGE(X107:Y107),1) -> 3943100.3 | AA107: 5462100 | AB107: 2424100.6 | AC107: =ROUND(AVERAGE(AA107:AB107),1) -> 3943100.3 | AD107: 6675900 | AE107: 4206769.8 | AF107: =ROUND(AVERAGE(AD107:AE107),1) -> 5441334.9 | AG107: 2913120 | AH107: 1908502.4 | AI107: =ROUND(AVERAGE(AG107:AH107),1) -> 2410811.2 | AJ107: 5305020 | AK107: 4101600.5 | AL107: =ROUND(AVERAGE(AJ107:AK107),1) -> 4703310.3 | AM107: 4255440 | AN107: 2161264.6 | AO107: =ROUND(AVERAGE(AM107:AN107),1) -> 3208352.3 | AP107: 3941280 | AQ107: 2956796.8 | AR107: =ROUND(AVERAGE(AP107:AQ107),1) -> 3449038.4 | AS107: 4626720 | AT107: 2193683.6 | AU107: =ROUND(AVERAGE(AS107:AT107),1) -> 3410201.8 | AV107: 5462100 | AW107: 3060284.7 | AX107: =ROUND(AVERAGE(AV107:AW107),1) -> 4261192.3 | AY107: 5462100 | AZ107: 3152093.2 | BA107: =ROUND(AVERAGE(AY107:AZ107),1) -> 4307096.6 | BB107: 3648540 | BC107: 2024555.7 | BD107: =ROUND(AVERAGE(BB107:BC107),1) -> 2836547.8 | BE107: 5462100 | BF107: 3152093.2 | BG107: =ROUND(AVERAGE(BE107:BF107),1) -> 4307096.6 | BH107: 3648540 | BI107: 2054924 | BJ107: =ROUND(AVERAGE(BH107:BI107),1) -> 2851732 | BK107: 2913120 | BL107: 2054924 | BM107: =ROUND(AVERAGE(BK107:BL107),1) -> 2484022 | BN107: 2913120 | BO107: 1962482 | BP107: =ROUND(AVERAGE(BN107:BO107),1) -> 2437801 | BQ107: 2913120 | BR107: 457805.48 | BS107: =ROUND(AVERAGE(BQ107:BR107),1) -> 1685462.7 | BT107: 3648540 | BU107: 465817.08 | BV107: =ROUND(AVERAGE(BT107:BU107),1) -> 2057178.5 | BW107: 3648540 | BX107: 458829.82 | BY107: =ROUND(AVERAGE(BW107:BX107),1) -> 2053684.9 | BZ107: 6111840 | CA107: 4442348.9 | CB107: =ROUND(AVERAGE(BZ107:CA107),1) -> 5277094.4 | CC107: 5462100 | CD107: 4375713.6 | CE107: =ROUND(AVERAGE(CC107:CD107),1) -> 4918906.8 | CF107: 6111840 | CG107: 4409031.3 | CH107: =ROUND(AVERAGE(CF107:CG107),1) -> 5260435.6 | CI107: 5462100 | CJ107: 4375713.6 | CK107: =ROUND(AVERAGE(CI107:CJ107),1) -> 4918906.8 | CL107: 5462100 | CM107: 4664466.3 | CN107: =ROUND(AVERAGE(CL107:CM107),1) -> 5063283.2 | CO107: 5462100 | CP107: 4582838.2 | CQ107: =ROUND(AVERAGE(CO107:CP107),1) -> 5022469.1 | CR107: 5462100 | CS107: 4804400.3 | CT107: =ROUND(AVERAGE(CR107:CS107),1) -> 5133250.2
A108: 5 | B108: TRASMISION | C108: 0 | D108: 0 | E108: 0 | F108: 0 | G108: 0 | H108: 0 | I108: 0 | J108: 0 | K108: 0 | L108: 0 | M108: 0 | N108: 0 | O108: 0 | P108: 0 | Q108: 0 | R108: 0 | S108: 0 | T108: 0 | U108: 0 | V108: 0 | W108: 0 | X108: 0 | Y108: 0 | Z108: 0 | AA108: 0 | AB108: 0 | AC108: 0 | AD108: 0 | AE108: 0 | AF108: 0 | AG108: 0 | AH108: 0 | AI108: 0 | AJ108: 0 | AK108: 0 | AL108: 0 | AM108: 0 | AN108: 0 | AO108: 0 | AP108: 0 | AQ108: 0 | AR108: 0 | AS108: 0 | AT108: 0 | AU108: 0 | AV108: 0 | AW108: 0 | AX108: 0 | AY108: 0 | AZ108: 0 | BA108: 0 | BB108: 0 | BC108: 0 | BD108: 0 | BE108: 0 | BF108: 0 | BG108: 0 | BH108: 0 | BI108: 0 | BJ108: 0 | BK108: 0 | BL108: 0 | BM108: 0 | BN108: 0 | BO108: 0 | BP108: 0 | BQ108: 0 | BR108: 0 | BS108: 0 | BT108: 0 | BU108: 0 | BV108: 0 | BW108: 0 | BX108: 0 | BY108: 0 | BZ108: 0 | CA108: 0 | CB108: 0 | CC108: 0 | CD108: 0 | CE108: 0 | CF108: 0 | CG108: 0 | CH108: 0 | CI108: 0 | CJ108: 0 | CK108: 0 | CL108: 0 | CM108: 0 | CN108: 0 | CO108: 0 | CP108: 0 | CQ108: 0 | CR108: 0 | CS108: 0 | CT108: 0
A109: 5.1 | B109: CRUCETA CARDAN | C109: 208845 | D109: 209399.61 | E109: =ROUND(AVERAGE(C109:D109),1) -> 209122.3 | F109: 185068.8 | G109: 173699.61 | H109: =ROUND(AVERAGE(F109:G109),1) -> 179384.2 | I109: 192780 | J109: 251049.61 | K109: =ROUND(AVERAGE(I109:J109),1) -> 221914.8 | L109: 240975 | M109: 257325.85 | N109: =ROUND(AVERAGE(L109:M109),1) -> 249150.4 | O109: 257040 | P109: 270192.15 | Q109: =ROUND(AVERAGE(O109:P109),1) -> 263616.1 | R109: 313267.5 | S109: 297211.36 | T109: =ROUND(AVERAGE(R109:S109),1) -> 305239.4 | U109: 257040 | V109: 339893.6 | W109: =ROUND(AVERAGE(U109:V109),1) -> 298466.8 | X109: 321300 | Y109: 431595.2 | Z109: =ROUND(AVERAGE(X109:Y109),1) -> 376447.6 | AA109: 321300 | AB109: 442385.09 | AC109: =ROUND(AVERAGE(AA109:AB109),1) -> 381842.5 | AD109: 401625 | AE109: 592000.84 | AF109: =ROUND(AVERAGE(AD109:AE109),1) -> 496812.9 | AG109: 208845 | AH109: 304641.64 | AI109: =ROUND(AVERAGE(AG109:AH109),1) -> 256743.3 | AJ109: 313267.5 | AK109: 577200.82 | AL109: =ROUND(AVERAGE(AJ109:AK109),1) -> 445234.2 | AM109: 297202.5 | AN109: 300929.93 | AO109: =ROUND(AVERAGE(AM109:AN109),1) -> 299066.2 | AP109: 273105 | AQ109: 442385.09 | AR109: =ROUND(AVERAGE(AP109:AQ109),1) -> 357745 | AS109: 321300 | AT109: 305443.88 | AU109: =ROUND(AVERAGE(AS109:AT109),1) -> 313371.9 | AV109: 321300 | AW109: 457868.56 | AX109: =ROUND(AVERAGE(AV109:AW109),1) -> 389584.3 | AY109: 321300 | AZ109: 471604.62 | BA109: =ROUND(AVERAGE(AY109:AZ109),1) -> 396452.3 | BB109: 257040 | BC109: 221963.59 | BD109: =ROUND(AVERAGE(BB109:BC109),1) -> 239501.8 | BE109: 321300 | BF109: 471604.62 | BG109: =ROUND(AVERAGE(BE109:BF109),1) -> 396452.3 | BH109: 257040 | BI109: 225293.04 | BJ109: =ROUND(AVERAGE(BH109:BI109),1) -> 241166.5 | BK109: 208845 | BL109: 225293.04 | BM109: =ROUND(AVERAGE(BK109:BL109),1) -> 217069 | BN109: 208845 | BO109: 215158.1 | BP109: =ROUND(AVERAGE(BN109:BO109),1) -> 212001.6 | BQ109: 208845 | BR109: 176305.11 | BS109: =ROUND(AVERAGE(BQ109:BR109),1) -> 192575.1 | BT109: 257040 | BU109: 179390.45 | BV109: =ROUND(AVERAGE(BT109:BU109),1) -> 218215.2 | BW109: 257040 | BX109: 176699.59 | BY109: =ROUND(AVERAGE(BW109:BX109),1) -> 216869.8 | BZ109: 361462.5 | CA109: 625152.89 | CB109: =ROUND(AVERAGE(BZ109:CA109),1) -> 493307.7 | CC109: 321300 | CD109: 615775.59 | CE109: =ROUND(AVERAGE(CC109:CD109),1) -> 468537.8 | CF109: 361462.5 | CG109: 620464.24 | CH109: =ROUND(AVERAGE(CF109:CG109),1) -> 490963.4 | CI109: 321300 | CJ109: 615775.59 | CK109: =ROUND(AVERAGE(CI109:CJ109),1) -> 468537.8 | CL109: 321300 | CM109: 656410.53 | CN109: =ROUND(AVERAGE(CL109:CM109),1) -> 488855.3 | CO109: 321300 | CP109: 644923.35 | CQ109: =ROUND(AVERAGE(CO109:CP109),1) -> 483111.7 | CR109: 321300 | CS109: 676102.85 | CT109: =ROUND(AVERAGE(CR109:CS109),1) -> 498701.4
A110: 5.2 | B110: EJE TRASERO | C110: 1517250 | D110: 890098.77 | E110: =ROUND(AVERAGE(C110:D110),1) -> 1203674.4 | F110: 1420622 | G110: 925671.44 | H110: =ROUND(AVERAGE(F110:G110),1) -> 1173146.7 | I110: 1465961 | J110: 907885.11 | K110: =ROUND(AVERAGE(I110:J110),1) -> 1186923.1 | L110: 1777562.5 | M110: 930582.23 | N110: =ROUND(AVERAGE(L110:M110),1) -> 1354072.4 | O110: 1874250 | P110: 977111.35 | Q110: =ROUND(AVERAGE(O110:P110),1) -> 1425680.7 | R110: 2298187.5 | S110: 1074822.5 | T110: =ROUND(AVERAGE(R110:S110),1) -> 1686505 | U110: 1874250 | V110: 921252.23 | W110: =ROUND(AVERAGE(U110:V110),1) -> 1397751.1 | X110: 2409750 | Y110: 791676.96 | Z110: =ROUND(AVERAGE(X110:Y110),1) -> 1600713.5 | AA110: 2409750 | AB110: 811468.88 | AC110: =ROUND(AVERAGE(AA110:AB110),1) -> 1610609.4 | AD110: 2945250 | AE110: 1518899.3 | AF110: =ROUND(AVERAGE(AD110:AE110),1) -> 2232074.7 | AG110: 1517250 | AH110: 1101693 | AI110: =ROUND(AVERAGE(AG110:AH110),1) -> 1309471.5 | AJ110: 2342812.5 | AK110: 1480926.9 | AL110: =ROUND(AVERAGE(AJ110:AK110),1) -> 1911869.7 | AM110: 2216375 | AN110: 641637.76 | AO110: =ROUND(AVERAGE(AM110:AN110),1) -> 1429006.4 | AP110: 2052750 | AQ110: 811468.88 | AR110: =ROUND(AVERAGE(AP110:AQ110),1) -> 1432109.4 | AS110: 2409750 | AT110: 651262.33 | AU110: =ROUND(AVERAGE(AS110:AT110),1) -> 1530506.2 | AV110: 2409750 | AW110: 839870.29 | AX110: =ROUND(AVERAGE(AV110:AW110),1) -> 1624810.1 | AY110: 2409750 | AZ110: 865066.4 | BA110: =ROUND(AVERAGE(AY110:AZ110),1) -> 1637408.2 | BB110: 1896562.5 | BC110: 943504.7 | BD110: =ROUND(AVERAGE(BB110:BC110),1) -> 1420033.6 | BE110: 2409750 | BF110: 865066.4 | BG110: =ROUND(AVERAGE(BE110:BF110),1) -> 1637408.2 | BH110: 1896562.5 | BI110: 957657.27 | BJ110: =ROUND(AVERAGE(BH110:BI110),1) -> 1427109.9 | BK110: 1517250 | BL110: 957657.27 | BM110: =ROUND(AVERAGE(BK110:BL110),1) -> 1237453.6 | BN110: 1517250 | BO110: 914576.49 | BP110: =ROUND(AVERAGE(BN110:BO110),1) -> 1215913.2 | BQ110: 1517250 | BR110: 939556.51 | BS110: =ROUND(AVERAGE(BQ110:BR110),1) -> 1228403.3 | BT110: 1896562.5 | BU110: 955998.75 | BV110: =ROUND(AVERAGE(BT110:BU110),1) -> 1426280.6 | BW110: 1896562.5 | BX110: 941658.77 | BY110: =ROUND(AVERAGE(BW110:BX110),1) -> 1419110.6 | BZ110: 2699812.5 | CA110: 1603957.7 | CB110: =ROUND(AVERAGE(BZ110:CA110),1) -> 2151885.1 | CC110: 2409750 | CD110: 1579898.3 | CE110: =ROUND(AVERAGE(CC110:CD110),1) -> 1994824.2 | CF110: 2699812.5 | CG110: 1591928 | CH110: =ROUND(AVERAGE(CF110:CG110),1) -> 2145870.3 | CI110: 2409750 | CJ110: 1579898.3 | CK110: =ROUND(AVERAGE(CI110:CJ110),1) -> 1994824.2 | CL110: 2409750 | CM110: 1684155.6 | CN110: =ROUND(AVERAGE(CL110:CM110),1) -> 2046952.8 | CO110: 2409750 | CP110: 1654682.9 | CQ110: =ROUND(AVERAGE(CO110:CP110),1) -> 2032216.4 | CR110: 2409750 | CS110: 1734680.3 | CT110: =ROUND(AVERAGE(CR110:CS110),1) -> 2072215.1
A111: 5.3 | B111: GUARDAPOLVO EJE | C111: 99960 | D111: 140254.09 | E111: =ROUND(AVERAGE(C111:D111),1) -> 120107 | F111: 91630 | G111: 140254.09 | H111: =ROUND(AVERAGE(F111:G111),1) -> 115942 | I111: 91630 | J111: 140254.09 | K111: =ROUND(AVERAGE(I111:J111),1) -> 115942 | L111: 116620 | M111: 143760.44 | N111: =ROUND(AVERAGE(L111:M111),1) -> 130190.2 | O111: 124950 | P111: 150948.46 | Q111: =ROUND(AVERAGE(O111:P111),1) -> 137949.2 | R111: 149940 | S111: 166043.31 | T111: =ROUND(AVERAGE(R111:S111),1) -> 157991.7 | U111: 124950 | V111: 145162.98 | W111: =ROUND(AVERAGE(U111:V111),1) -> 135056.5 | X111: 158270 | Y111: 169088.22 | Z111: =ROUND(AVERAGE(X111:Y111),1) -> 163679.1 | AA111: 158270 | AB111: 173315.43 | AC111: =ROUND(AVERAGE(AA111:AB111),1) -> 165792.7 | AD111: 184747.5 | AE111: 231931.15 | AF111: =ROUND(AVERAGE(AD111:AE111),1) -> 208339.3 | AG111: 99960 | AH111: 170194.39 | AI111: =ROUND(AVERAGE(AG111:AH111),1) -> 135077.2 | AJ111: 149940 | AK111: 226132.87 | AL111: =ROUND(AVERAGE(AJ111:AK111),1) -> 188036.4 | AM111: 141610 | AN111: 215541.13 | AO111: =ROUND(AVERAGE(AM111:AN111),1) -> 178575.6 | AP111: 133280 | AQ111: 173315.43 | AR111: =ROUND(AVERAGE(AP111:AQ111),1) -> 153297.7 | AS111: 158270 | AT111: 218774.25 | AU111: =ROUND(AVERAGE(AS111:AT111),1) -> 188522.1 | AV111: 158270 | AW111: 179381.47 | AX111: =ROUND(AVERAGE(AV111:AW111),1) -> 168825.7 | AY111: 158270 | AZ111: 184762.91 | BA111: =ROUND(AVERAGE(AY111:AZ111),1) -> 171516.5 | BB111: 124950 | BC111: 148669.33 | BD111: =ROUND(AVERAGE(BB111:BC111),1) -> 136809.7 | BE111: 158270 | BF111: 184762.91 | BG111: =ROUND(AVERAGE(BE111:BF111),1) -> 171516.5 | BH111: 124950 | BI111: 150899.37 | BJ111: =ROUND(AVERAGE(BH111:BI111),1) -> 137924.7 | BK111: 99960 | BL111: 150899.37 | BM111: =ROUND(AVERAGE(BK111:BL111),1) -> 125429.7 | BN111: 99960 | BO111: 144111.07 | BP111: =ROUND(AVERAGE(BN111:BO111),1) -> 122035.5 | BQ111: 99960 | BR111: 142357.9 | BS111: =ROUND(AVERAGE(BQ111:BR111),1) -> 121158.9 | BT111: 124950 | BU111: 144849.16 | BV111: =ROUND(AVERAGE(BT111:BU111),1) -> 134899.6 | BW111: 124950 | BX111: 142676.42 | BY111: =ROUND(AVERAGE(BW111:BX111),1) -> 133813.2 | BZ111: 168682.5 | CA111: 244919.29 | CB111: =ROUND(AVERAGE(BZ111:CA111),1) -> 206800.9 | CC111: 158270 | CD111: 241245.5 | CE111: =ROUND(AVERAGE(CC111:CD111),1) -> 199757.8 | CF111: 168682.5 | CG111: 243082.4 | CH111: =ROUND(AVERAGE(CF111:CG111),1) -> 205882.4 | CI111: 158270 | CJ111: 241245.5 | CK111: =ROUND(AVERAGE(CI111:CJ111),1) -> 199757.8 | CL111: 158270 | CM111: 257165.26 | CN111: =ROUND(AVERAGE(CL111:CM111),1) -> 207717.6 | CO111: 158270 | CP111: 252664.86 | CQ111: =ROUND(AVERAGE(CO111:CP111),1) -> 205467.4 | CR111: 158270 | CS111: 264880.21 | CT111: =ROUND(AVERAGE(CR111:CS111),1) -> 211575.1
A112: 5.4 | B112: PUNTA DE EJE LADO RUEDA | C112: 329332.5 | D112: 288722.07 | E112: =ROUND(AVERAGE(C112:D112),1) -> 309027.3 | F112: 305235 | G112: 397762.24 | H112: =ROUND(AVERAGE(F112:G112),1) -> 351498.6 | I112: 313267.5 | J112: 402742.16 | K112: =ROUND(AVERAGE(I112:J112),1) -> 358004.8 | L112: 385560 | M112: 412810.71 | N112: =ROUND(AVERAGE(L112:M112),1) -> 399185.4 | O112: 401625 | P112: 433451.25 | Q112: =ROUND(AVERAGE(O112:P112),1) -> 417538.1 | R112: 479570 | S112: 476796.37 | T112: =ROUND(AVERAGE(R112:S112),1) -> 478183.2 | U112: 401625 | V112: 421992.34 | W112: =ROUND(AVERAGE(U112:V112),1) -> 411808.7 | X112: 502775 | Y112: 491543.61 | Z112: =ROUND(AVERAGE(X112:Y112),1) -> 497159.3 | AA112: 502775 | AB112: 503832.2 | AC112: =ROUND(AVERAGE(AA112:AB112),1) -> 503303.6 | AD112: 611065 | AE112: 968865.87 | AF112: =ROUND(AVERAGE(AD112:AE112),1) -> 789965.4 | AG112: 329332.5 | AH112: 488716.28 | AI112: =ROUND(AVERAGE(AG112:AH112),1) -> 409024.4 | AJ112: 487305 | AK112: 944644.22 | AL112: =ROUND(AVERAGE(AJ112:AK112),1) -> 715974.6 | AM112: 481950 | AN112: 461728.99 | AO112: =ROUND(AVERAGE(AM112:AN112),1) -> 471839.5 | AP112: 441787.5 | AQ112: 503832.2 | AR112: =ROUND(AVERAGE(AP112:AQ112),1) -> 472809.9 | AS112: 502775 | AT112: 468654.92 | AU112: =ROUND(AVERAGE(AS112:AT112),1) -> 485715 | AV112: 502775 | AW112: 521466.33 | AX112: =ROUND(AVERAGE(AV112:AW112),1) -> 512120.7 | AY112: 502775 | AZ112: 537110.32 | BA112: =ROUND(AVERAGE(AY112:AZ112),1) -> 519942.7 | BB112: 409657.5 | BC112: 306045.39 | BD112: =ROUND(AVERAGE(BB112:BC112),1) -> 357851.4 | BE112: 502775 | BF112: 537110.32 | BG112: =ROUND(AVERAGE(BE112:BF112),1) -> 519942.7 | BH112: 409657.5 | BI112: 310636.07 | BJ112: =ROUND(AVERAGE(BH112:BI112),1) -> 360146.8 | BK112: 329332.5 | BL112: 310636.07 | BM112: =ROUND(AVERAGE(BK112:BL112),1) -> 319984.3 | BN112: 329332.5 | BO112: 296661.92 | BP112: =ROUND(AVERAGE(BN112:BO112),1) -> 312997.2 | BQ112: 329332.5 | BR112: 403728.68 | BS112: =ROUND(AVERAGE(BQ112:BR112),1) -> 366530.6 | BT112: 409657.5 | BU112: 410793.93 | BV112: =ROUND(AVERAGE(BT112:BU112),1) -> 410225.7 | BW112: 409657.5 | BX112: 404632.02 | BY112: =ROUND(AVERAGE(BW112:BX112),1) -> 407144.8 | BZ112: 564655 | CA112: 1023122.4 | CB112: =ROUND(AVERAGE(BZ112:CA112),1) -> 793888.7 | CC112: 502775 | CD112: 1007775.5 | CE112: =ROUND(AVERAGE(CC112:CD112),1) -> 755275.3 | CF112: 564655 | CG112: 1015448.9 | CH112: =ROUND(AVERAGE(CF112:CG112),1) -> 790052 | CI112: 502775 | CJ112: 1007775.5 | CK112: =ROUND(AVERAGE(CI112:CJ112),1) -> 755275.3 | CL112: 502775 | CM112: 1074278.5 | CN112: =ROUND(AVERAGE(CL112:CM112),1) -> 788526.7 | CO112: 502775 | CP112: 1055478.6 | CQ112: =ROUND(AVERAGE(CO112:CP112),1) -> 779126.8 | CR112: 502775 | CS112: 1106506.8 | CT112: =ROUND(AVERAGE(CR112:CS112),1) -> 804640.9
A113: 5.5 | B113: PUNTA EJE LADO CAJA | C113: 313267.5 | D113: 267455.9 | E113: =ROUND(AVERAGE(C113:D113),1) -> 290361.7 | F113: 289170 | G113: 407759.16 | H113: =ROUND(AVERAGE(F113:G113),1) -> 348464.6 | I113: 297202.5 | J113: 397107.53 | K113: =ROUND(AVERAGE(I113:J113),1) -> 347155 | L113: 369495 | M113: 407035.22 | N113: =ROUND(AVERAGE(L113:M113),1) -> 388265.1 | O113: 385560 | P113: 427386.98 | Q113: =ROUND(AVERAGE(O113:P113),1) -> 406473.5 | R113: 473917.5 | S113: 470125.68 | T113: =ROUND(AVERAGE(R113:S113),1) -> 472021.6 | U113: 385560 | V113: 399981.85 | W113: =ROUND(AVERAGE(U113:V113),1) -> 392770.9 | X113: 479570 | Y113: 728989.41 | Z113: =ROUND(AVERAGE(X113:Y113),1) -> 604279.7 | AA113: 479570 | AB113: 747214.14 | AC113: =ROUND(AVERAGE(AA113:AB113),1) -> 613392.1 | AD113: 587860 | AE113: 1456092.3 | AF113: =ROUND(AVERAGE(AD113:AE113),1) -> 1021976.2 | AG113: 313267.5 | AH113: 481878.82 | AI113: =ROUND(AVERAGE(AG113:AH113),1) -> 397573.2 | AJ113: 481950 | AK113: 1419690 | AL113: =ROUND(AVERAGE(AJ113:AK113),1) -> 950820 | AM113: 457852.5 | AN113: 472321.71 | AO113: =ROUND(AVERAGE(AM113:AN113),1) -> 465087.1 | AP113: 425722.5 | AQ113: 747214.14 | AR113: =ROUND(AVERAGE(AP113:AQ113),1) -> 586468.3 | AS113: 479570 | AT113: 479406.54 | AU113: =ROUND(AVERAGE(AS113:AT113),1) -> 479488.3 | AV113: 479570 | AW113: 773366.64 | AX113: =ROUND(AVERAGE(AV113:AW113),1) -> 626468.3 | AY113: 479570 | AZ113: 796567.64 | BA113: =ROUND(AVERAGE(AY113:AZ113),1) -> 638068.8 | BB113: 393592.5 | BC113: 283503.25 | BD113: =ROUND(AVERAGE(BB113:BC113),1) -> 338547.9 | BE113: 479570 | BF113: 796567.64 | BG113: =ROUND(AVERAGE(BE113:BF113),1) -> 638068.8 | BH113: 393592.5 | BI113: 287755.8 | BJ113: =ROUND(AVERAGE(BH113:BI113),1) -> 340674.2 | BK113: 313267.5 | BL113: 287755.8 | BM113: =ROUND(AVERAGE(BK113:BL113),1) -> 300511.7 | BN113: 313267.5 | BO113: 274810.93 | BP113: =ROUND(AVERAGE(BN113:BO113),1) -> 294039.2 | BQ113: 313267.5 | BR113: 413875.55 | BS113: =ROUND(AVERAGE(BQ113:BR113),1) -> 363571.5 | BT113: 393592.5 | BU113: 421118.37 | BV113: =ROUND(AVERAGE(BT113:BU113),1) -> 407355.4 | BW113: 393592.5 | BX113: 414801.6 | BY113: =ROUND(AVERAGE(BW113:BX113),1) -> 404197 | BZ113: 541450 | CA113: 1537633.5 | CB113: =ROUND(AVERAGE(BZ113:CA113),1) -> 1039541.8 | CC113: 479570 | CD113: 1514569 | CE113: =ROUND(AVERAGE(CC113:CD113),1) -> 997069.5 | CF113: 541450 | CG113: 1526101.2 | CH113: =ROUND(AVERAGE(CF113:CG113),1) -> 1033775.6 | CI113: 479570 | CJ113: 1514569 | CK113: =ROUND(AVERAGE(CI113:CJ113),1) -> 997069.5 | CL113: 479570 | CM113: 1614515.2 | CN113: =ROUND(AVERAGE(CL113:CM113),1) -> 1047042.6 | CO113: 479570 | CP113: 1586261.2 | CQ113: =ROUND(AVERAGE(CO113:CP113),1) -> 1032915.6 | CR113: 479570 | CS113: 1662950.6 | CT113: =ROUND(AVERAGE(CR113:CS113),1) -> 1071260.3
A114: 5.6 | B114: RETEN EJE HAUSSIN | C114: 83300 | D114: 248290.71 | E114: =ROUND(AVERAGE(C114:D114),1) -> 165795.4 | F114: 74970 | G114: 260190.71 | H114: =ROUND(AVERAGE(F114:G114),1) -> 167580.4 | I114: 83300 | J114: 254240.71 | K114: =ROUND(AVERAGE(I114:J114),1) -> 168770.4 | L114: 99960 | M114: 260596.73 | N114: =ROUND(AVERAGE(L114:M114),1) -> 180278.4 | O114: 108290 | P114: 273626.56 | Q114: =ROUND(AVERAGE(O114:P114),1) -> 190958.3 | R114: 124950 | S114: 300989.22 | T114: =ROUND(AVERAGE(R114:S114),1) -> 212969.6 | U114: 108290 | V114: 256980.88 | W114: =ROUND(AVERAGE(U114:V114),1) -> 182635.4 | X114: 133280 | Y114: 85129.057 | Z114: =ROUND(AVERAGE(X114:Y114),1) -> 109204.5 | AA114: 133280 | AB114: 87257.284 | AC114: =ROUND(AVERAGE(AA114:AB114),1) -> 110268.6 | AD114: 166600 | AE114: 172980.78 | AF114: =ROUND(AVERAGE(AD114:AE114),1) -> 169790.4 | AG114: 83300 | AH114: 308513.95 | AI114: =ROUND(AVERAGE(AG114:AH114),1) -> 195907 | AJ114: 133280 | AK114: 168656.26 | AL114: =ROUND(AVERAGE(AJ114:AK114),1) -> 150968.1 | AM114: 124950 | AN114: 148963.01 | AO114: =ROUND(AVERAGE(AM114:AN114),1) -> 136956.5 | AP114: 116620 | AQ114: 87257.284 | AR114: =ROUND(AVERAGE(AP114:AQ114),1) -> 101938.6 | AS114: 133280 | AT114: 151197.46 | AU114: =ROUND(AVERAGE(AS114:AT114),1) -> 142238.7 | AV114: 133280 | AW114: 90311.289 | AX114: =ROUND(AVERAGE(AV114:AW114),1) -> 111795.6 | AY114: 133280 | AZ114: 93020.627 | BA114: =ROUND(AVERAGE(AY114:AZ114),1) -> 113150.3 | BB114: 108290 | BC114: 263188.15 | BD114: =ROUND(AVERAGE(BB114:BC114),1) -> 185739.1 | BE114: 133280 | BF114: 93020.627 | BG114: =ROUND(AVERAGE(BE114:BF114),1) -> 113150.3 | BH114: 108290 | BI114: 267135.98 | BJ114: =ROUND(AVERAGE(BH114:BI114),1) -> 187713 | BK114: 83300 | BL114: 267135.98 | BM114: =ROUND(AVERAGE(BK114:BL114),1) -> 175218 | BN114: 83300 | BO114: 255118.7 | BP114: =ROUND(AVERAGE(BN114:BO114),1) -> 169209.4 | BQ114: 83300 | BR114: 264093.57 | BS114: =ROUND(AVERAGE(BQ114:BR114),1) -> 173696.8 | BT114: 108290 | BU114: 268715.21 | BV114: =ROUND(AVERAGE(BT114:BU114),1) -> 188502.6 | BW114: 108290 | BX114: 264684.48 | BY114: =ROUND(AVERAGE(BW114:BX114),1) -> 186487.2 | BZ114: 149940 | CA114: 182667.7 | CB114: =ROUND(AVERAGE(BZ114:CA114),1) -> 166303.9 | CC114: 133280 | CD114: 179927.69 | CE114: =ROUND(AVERAGE(CC114:CD114),1) -> 156603.8 | CF114: 149940 | CG114: 181297.7 | CH114: =ROUND(AVERAGE(CF114:CG114),1) -> 165618.8 | CI114: 133280 | CJ114: 179927.69 | CK114: =ROUND(AVERAGE(CI114:CJ114),1) -> 156603.8 | CL114: 133280 | CM114: 191801.09 | CN114: =ROUND(AVERAGE(CL114:CM114),1) -> 162540.5 | CO114: 133280 | CP114: 188444.57 | CQ114: =ROUND(AVERAGE(CO114:CP114),1) -> 160862.3 | CR114: 133280 | CS114: 197555.12 | CT114: =ROUND(AVERAGE(CR114:CS114),1) -> 165417.6
A115: 5.7 | B115: SOPORTE BALINERA CARDAN | C115: 337365 | D115: 550511.21 | E115: =ROUND(AVERAGE(C115:D115),1) -> 443938.1 | F115: 313267.5 | G115: 504998.44 | H115: =ROUND(AVERAGE(F115:G115),1) -> 409133 | I115: 321300 | J115: 527754.83 | K115: =ROUND(AVERAGE(I115:J115),1) -> 424527.4 | L115: 401625 | M115: 540948.7 | N115: =ROUND(AVERAGE(L115:M115),1) -> 471286.8 | O115: 417690 | P115: 567996.13 | Q115: =ROUND(AVERAGE(O115:P115),1) -> 492843.1 | R115: 495040 | S115: 624795.74 | T115: =ROUND(AVERAGE(R115:S115),1) -> 559917.9 | U115: 417690 | V115: 569779.11 | W115: =ROUND(AVERAGE(U115:V115),1) -> 493734.6 | X115: 525980 | Y115: 663688.07 | Z115: =ROUND(AVERAGE(X115:Y115),1) -> 594834 | AA115: 525980 | AB115: 680280.27 | AC115: =ROUND(AVERAGE(AA115:AB115),1) -> 603130.1 | AD115: 634270 | AE115: 910352.78 | AF115: =ROUND(AVERAGE(AD115:AE115),1) -> 772311.4 | AG115: 337365 | AH115: 640415.64 | AI115: =ROUND(AVERAGE(AG115:AH115),1) -> 488890.3 | AJ115: 510510 | AK115: 887593.96 | AL115: =ROUND(AVERAGE(AJ115:AK115),1) -> 699052 | AM115: 479570 | AN115: 443796.22 | AO115: =ROUND(AVERAGE(AM115:AN115),1) -> 461683.1 | AP115: 465885 | AQ115: 680280.27 | AR115: =ROUND(AVERAGE(AP115:AQ115),1) -> 573082.6 | AS115: 525980 | AT115: 450453.16 | AU115: =ROUND(AVERAGE(AS115:AT115),1) -> 488216.6 | AV115: 525980 | AW115: 704090.08 | AX115: =ROUND(AVERAGE(AV115:AW115),1) -> 615035 | AY115: 525980 | AZ115: 725212.78 | BA115: =ROUND(AVERAGE(AY115:AZ115),1) -> 625596.4 | BB115: 425722.5 | BC115: 583541.89 | BD115: =ROUND(AVERAGE(BB115:BC115),1) -> 504632.2 | BE115: 525980 | BF115: 725212.78 | BG115: =ROUND(AVERAGE(BE115:BF115),1) -> 625596.4 | BH115: 425722.5 | BI115: 592295.01 | BJ115: =ROUND(AVERAGE(BH115:BI115),1) -> 509008.8 | BK115: 337365 | BL115: 592295.01 | BM115: =ROUND(AVERAGE(BK115:BL115),1) -> 464830 | BN115: 337365 | BO115: 565650.27 | BP115: =ROUND(AVERAGE(BN115:BO115),1) -> 451507.6 | BQ115: 337365 | BR115: 512573.42 | BS115: =ROUND(AVERAGE(BQ115:BR115),1) -> 424969.2 | BT115: 425722.5 | BU115: 521543.45 | BV115: =ROUND(AVERAGE(BT115:BU115),1) -> 473633 | BW115: 425722.5 | BX115: 513720.3 | BY115: =ROUND(AVERAGE(BW115:BX115),1) -> 469721.4 | BZ115: 587860 | CA115: 961332.53 | CB115: =ROUND(AVERAGE(BZ115:CA115),1) -> 774596.3 | CC115: 525980 | CD115: 946912.54 | CE115: =ROUND(AVERAGE(CC115:CD115),1) -> 736446.3 | CF115: 587860 | CG115: 954122.54 | CH115: =ROUND(AVERAGE(CF115:CG115),1) -> 770991.3 | CI115: 525980 | CJ115: 946912.54 | CK115: =ROUND(AVERAGE(CI115:CJ115),1) -> 736446.3 | CL115: 525980 | CM115: 1009399.2 | CN115: =ROUND(AVERAGE(CL115:CM115),1) -> 767689.6 | CO115: 525980 | CP115: 991734.67 | CQ115: =ROUND(AVERAGE(CO115:CP115),1) -> 758857.3 | CR115: 525980 | CS115: 1039681.1 | CT115: =ROUND(AVERAGE(CR115:CS115),1) -> 782830.6
A116: 5.8 | B116: SOPORTE CAJA | C116: 297202.5 | D116: 433610.4 | E116: =ROUND(AVERAGE(C116:D116),1) -> 365406.5 | F116: 273105 | G116: 397762.24 | H116: =ROUND(AVERAGE(F116:G116),1) -> 335433.6 | I116: 289170 | J116: 415686.32 | K116: =ROUND(AVERAGE(I116:J116),1) -> 352428.2 | L116: 353430 | M116: 426078.48 | N116: =ROUND(AVERAGE(L116:M116),1) -> 389754.2 | O116: 369495 | P116: 447382.41 | Q116: =ROUND(AVERAGE(O116:P116),1) -> 408438.7 | R116: 457852.5 | S116: 492120.65 | T116: =ROUND(AVERAGE(R116:S116),1) -> 474986.6 | U116: 369495 | V116: 448786.77 | W116: =ROUND(AVERAGE(U116:V116),1) -> 409140.9 | X116: 473917.5 | Y116: 522754.2 | Z116: =ROUND(AVERAGE(X116:Y116),1) -> 498335.9 | AA116: 473917.5 | AB116: 535823.06 | AC116: =ROUND(AVERAGE(AA116:AB116),1) -> 504870.3 | AD116: 564655 | AE116: 717039.77 | AF116: =ROUND(AVERAGE(AD116:AE116),1) -> 640847.4 | AG116: 297202.5 | AH116: 504423.66 | AI116: =ROUND(AVERAGE(AG116:AH116),1) -> 400813.1 | AJ116: 465885 | AK116: 699113.77 | AL116: =ROUND(AVERAGE(AJ116:AK116),1) -> 582499.4 | AM116: 441787.5 | AN116: 469946.95 | AO116: =ROUND(AVERAGE(AM116:AN116),1) -> 455867.2 | AP116: 409657.5 | AQ116: 535823.06 | AR116: =ROUND(AVERAGE(AP116:AQ116),1) -> 472740.3 | AS116: 473917.5 | AT116: 476996.15 | AU116: =ROUND(AVERAGE(AS116:AT116),1) -> 475456.8 | AV116: 473917.5 | AW116: 554576.86 | AX116: =ROUND(AVERAGE(AV116:AW116),1) -> 514247.2 | AY116: 473917.5 | AZ116: 571214.17 | BA116: =ROUND(AVERAGE(AY116:AZ116),1) -> 522565.8 | BB116: 377527.5 | BC116: 459627.03 | BD116: =ROUND(AVERAGE(BB116:BC116),1) -> 418577.3 | BE116: 473917.5 | BF116: 571214.17 | BG116: =ROUND(AVERAGE(BE116:BF116),1) -> 522565.8 | BH116: 377527.5 | BI116: 466521.43 | BJ116: =ROUND(AVERAGE(BH116:BI116),1) -> 422024.5 | BK116: 297202.5 | BL116: 466521.43 | BM116: =ROUND(AVERAGE(BK116:BL116),1) -> 381862 | BN116: 297202.5 | BO116: 445534.69 | BP116: =ROUND(AVERAGE(BN116:BO116),1) -> 371368.6 | BQ116: 297202.5 | BR116: 403728.68 | BS116: =ROUND(AVERAGE(BQ116:BR116),1) -> 350465.6 | BT116: 377527.5 | BU116: 410793.93 | BV116: =ROUND(AVERAGE(BT116:BU116),1) -> 394160.7 | BW116: 377527.5 | BX116: 404632.02 | BY116: =ROUND(AVERAGE(BW116:BX116),1) -> 391079.8 | BZ116: 518245 | CA116: 757194 | CB116: =ROUND(AVERAGE(BZ116:CA116),1) -> 637719.5 | CC116: 473917.5 | CD116: 745836.09 | CE116: =ROUND(AVERAGE(CC116:CD116),1) -> 609876.8 | CF116: 518245 | CG116: 751515.04 | CH116: =ROUND(AVERAGE(CF116:CG116),1) -> 634880 | CI116: 473917.5 | CJ116: 745836.09 | CK116: =ROUND(AVERAGE(CI116:CJ116),1) -> 609876.8 | CL116: 473917.5 | CM116: 795053.7 | CN116: =ROUND(AVERAGE(CL116:CM116),1) -> 634485.6 | CO116: 473917.5 | CP116: 781140.26 | CQ116: =ROUND(AVERAGE(CO116:CP116),1) -> 627528.9 | CR116: 473917.5 | CS116: 818905.31 | CT116: =ROUND(AVERAGE(CR116:CS116),1) -> 646411.4
A117: 6 | B117: SINCRONIZACION | C117: 0 | D117: 0 | E117: 0 | F117: 0 | G117: 0 | H117: 0 | I117: 0 | J117: 0 | K117: 0 | L117: 0 | M117: 0 | N117: 0 | O117: 0 | P117: 0 | Q117: 0 | R117: 0 | S117: 0 | T117: 0 | U117: 0 | V117: 0 | W117: 0 | X117: 0 | Y117: 0 | Z117: 0 | AA117: 0 | AB117: 0 | AC117: 0 | AD117: 0 | AE117: 0 | AF117: 0 | AG117: 0 | AH117: 0 | AI117: 0 | AJ117: 0 | AK117: 0 | AL117: 0 | AM117: 0 | AN117: 0 | AO117: 0 | AP117: 0 | AQ117: 0 | AR117: 0 | AS117: 0 | AT117: 0 | AU117: 0 | AV117: 0 | AW117: 0 | AX117: 0 | AY117: 0 | AZ117: 0 | BA117: 0 | BB117: 0 | BC117: 0 | BD117: 0 | BE117: 0 | BF117: 0 | BG117: 0 | BH117: 0 | BI117: 0 | BJ117: 0 | BK117: 0 | BL117: 0 | BM117: 0 | BN117: 0 | BO117: 0 | BP117: 0 | BQ117: 0 | BR117: 0 | BS117: 0 | BT117: 0 | BU117: 0 | BV117: 0 | BW117: 0 | BX117: 0 | BY117: 0 | BZ117: 0 | CA117: 0 | CB117: 0 | CC117: 0 | CD117: 0 | CE117: 0 | CF117: 0 | CG117: 0 | CH117: 0 | CI117: 0 | CJ117: 0 | CK117: 0 | CL117: 0 | CM117: 0 | CN117: 0 | CO117: 0 | CP117: 0 | CQ117: 0 | CR117: 0 | CS117: 0 | CT117: 0
A118: 6.1 | B118: BOMBA COMBUSTIBLE (PILA) | C118: 297202.5 | D118: 834197.99 | E118: =ROUND(AVERAGE(C118:D118),1) -> 565700.2 | F118: 273105 | G118: 909379.74 | H118: =ROUND(AVERAGE(F118:G118),1) -> 591242.4 | I118: 297202.5 | J118: 871788.87 | K118: =ROUND(AVERAGE(I118:J118),1) -> 584495.7 | L118: 353430 | M118: 893583.59 | N118: =ROUND(AVERAGE(L118:M118),1) -> 623506.8 | O118: 369495 | P118: 938262.77 | Q118: =ROUND(AVERAGE(O118:P118),1) -> 653878.9 | R118: 457852.5 | S118: 1032089 | T118: =ROUND(AVERAGE(R118:S118),1) -> 744970.8 | U118: 369495 | V118: 863394.92 | W118: =ROUND(AVERAGE(U118:V118),1) -> 616445 | X118: 473917.5 | Y118: 1125898.7 | Z118: =ROUND(AVERAGE(X118:Y118),1) -> 799908.1 | AA118: 473917.5 | AB118: 1154046.2 | AC118: =ROUND(AVERAGE(AA118:AB118),1) -> 813981.8 | AD118: 564655 | AE118: 3946402 | AF118: =ROUND(AVERAGE(AD118:AE118),1) -> 2255528.5 | AG118: 297202.5 | AH118: 1057891.3 | AI118: =ROUND(AVERAGE(AG118:AH118),1) -> 677546.9 | AJ118: 473917.5 | AK118: 3847742 | AL118: =ROUND(AVERAGE(AJ118:AK118),1) -> 2160829.7 | AM118: 473917.5 | AN118: 705314.4 | AO118: =ROUND(AVERAGE(AM118:AN118),1) -> 589616 | AP118: 473917.5 | AQ118: 1154046.2 | AR118: =ROUND(AVERAGE(AP118:AQ118),1) -> 813981.8 | AS118: 473917.5 | AT118: 715894.12 | AU118: =ROUND(AVERAGE(AS118:AT118),1) -> 594905.8 | AV118: 473917.5 | AW118: 1194437.8 | AX118: =ROUND(AVERAGE(AV118:AW118),1) -> 834177.7 | AY118: 473917.5 | AZ118: 1230270.9 | BA118: =ROUND(AVERAGE(AY118:AZ118),1) -> 852094.2 | BB118: 377527.5 | BC118: 884249.87 | BD118: =ROUND(AVERAGE(BB118:BC118),1) -> 630888.7 | BE118: 473917.5 | BF118: 1230270.9 | BG118: =ROUND(AVERAGE(BE118:BF118),1) -> 852094.2 | BH118: 377527.5 | BI118: 897513.62 | BJ118: =ROUND(AVERAGE(BH118:BI118),1) -> 637520.6 | BK118: 297202.5 | BL118: 897513.62 | BM118: =ROUND(AVERAGE(BK118:BL118),1) -> 597358.1 | BN118: 297202.5 | BO118: 857138.44 | BP118: =ROUND(AVERAGE(BN118:BO118),1) -> 577170.5 | BQ118: 297202.5 | BR118: 923020.44 | BS118: =ROUND(AVERAGE(BQ118:BR118),1) -> 610111.5 | BT118: 369495 | BU118: 939173.29 | BV118: =ROUND(AVERAGE(BT118:BU118),1) -> 654334.1 | BW118: 369495 | BX118: 925085.69 | BY118: =ROUND(AVERAGE(BW118:BX118),1) -> 647290.3 | BZ118: 518245 | CA118: 4167400.5 | CB118: =ROUND(AVERAGE(BZ118:CA118),1) -> 2342822.8 | CC118: 473917.5 | CD118: 4104889.5 | CE118: =ROUND(AVERAGE(CC118:CD118),1) -> 2289403.5 | CF118: 518245 | CG118: 4136145 | CH118: =ROUND(AVERAGE(CF118:CG118),1) -> 2327195 | CI118: 473917.5 | CJ118: 4104889.5 | CK118: =ROUND(AVERAGE(CI118:CJ118),1) -> 2289403.5 | CL118: 473917.5 | CM118: 4375770.6 | CN118: =ROUND(AVERAGE(CL118:CM118),1) -> 2424844 | CO118: 473917.5 | CP118: 4299194.6 | CQ118: =ROUND(AVERAGE(CO118:CP118),1) -> 2386556 | CR118: 473917.5 | CS118: 4507043.7 | CT118: =ROUND(AVERAGE(CR118:CS118),1) -> 2490480.6
A119: 6.2 | B119: BUJIAS UNIDAD | C119: 41650 | D119: 75396.684 | E119: =ROUND(AVERAGE(C119:D119),1) -> 58523.3 | F119: 33320 | G119: 74448.78 | H119: =ROUND(AVERAGE(F119:G119),1) -> 53884.4 | I119: 41650 | J119: 74922.732 | K119: =ROUND(AVERAGE(I119:J119),1) -> 58286.4 | L119: 49980 | M119: 76795.801 | N119: =ROUND(AVERAGE(L119:M119),1) -> 63387.9 | O119: 49980 | P119: 80635.591 | Q119: =ROUND(AVERAGE(O119:P119),1) -> 65307.8 | R119: 58310 | S119: 88699.15 | T119: =ROUND(AVERAGE(R119:S119),1) -> 73504.6 | U119: 49980 | V119: 78035.568 | W119: =ROUND(AVERAGE(U119:V119),1) -> 64007.8 | X119: 66640 | Y119: 173812.88 | Z119: =ROUND(AVERAGE(X119:Y119),1) -> 120226.4 | AA119: 66640 | AB119: 178158.2 | AC119: =ROUND(AVERAGE(AA119:AB119),1) -> 122399.1 | AD119: 74970 | AE119: 314884.24 | AF119: =ROUND(AVERAGE(AD119:AE119),1) -> 194927.1 | AG119: 41650 | AH119: 90916.628 | AI119: =ROUND(AVERAGE(AG119:AH119),1) -> 66283.3 | AJ119: 66640 | AK119: 307012.13 | AL119: =ROUND(AVERAGE(AJ119:AK119),1) -> 186826.1 | AM119: 66640 | AN119: 153505.24 | AO119: =ROUND(AVERAGE(AM119:AN119),1) -> 110072.6 | AP119: 66640 | AQ119: 178158.2 | AR119: =ROUND(AVERAGE(AP119:AQ119),1) -> 122399.1 | AS119: 66640 | AT119: 155807.82 | AU119: =ROUND(AVERAGE(AS119:AT119),1) -> 111223.9 | AV119: 66640 | AW119: 184393.73 | AX119: =ROUND(AVERAGE(AV119:AW119),1) -> 125516.9 | AY119: 66640 | AZ119: 189925.55 | BA119: =ROUND(AVERAGE(AY119:AZ119),1) -> 128282.8 | BB119: 49980 | BC119: 79920.486 | BD119: =ROUND(AVERAGE(BB119:BC119),1) -> 64950.2 | BE119: 66640 | BF119: 189925.55 | BG119: =ROUND(AVERAGE(BE119:BF119),1) -> 128282.8 | BH119: 49980 | BI119: 81119.293 | BJ119: =ROUND(AVERAGE(BH119:BI119),1) -> 65549.6 | BK119: 41650 | BL119: 81119.293 | BM119: =ROUND(AVERAGE(BK119:BL119),1) -> 61384.6 | BN119: 41650 | BO119: 77470.093 | BP119: =ROUND(AVERAGE(BN119:BO119),1) -> 59560 | BQ119: 41650 | BR119: 75565.512 | BS119: =ROUND(AVERAGE(BQ119:BR119),1) -> 58607.8 | BT119: 49980 | BU119: 76887.908 | BV119: =ROUND(AVERAGE(BT119:BU119),1) -> 63434 | BW119: 49980 | BX119: 75734.59 | BY119: =ROUND(AVERAGE(BW119:BX119),1) -> 62857.3 | BZ119: 66640 | CA119: 332517.76 | CB119: =ROUND(AVERAGE(BZ119:CA119),1) -> 199578.9 | CC119: 66640 | CD119: 327529.99 | CE119: =ROUND(AVERAGE(CC119:CD119),1) -> 197085 | CF119: 66640 | CG119: 330023.87 | CH119: =ROUND(AVERAGE(CF119:CG119),1) -> 198331.9 | CI119: 66640 | CJ119: 327529.99 | CK119: =ROUND(AVERAGE(CI119:CJ119),1) -> 197085 | CL119: 66640 | CM119: 349143.64 | CN119: =ROUND(AVERAGE(CL119:CM119),1) -> 207891.8 | CO119: 66640 | CP119: 343033.63 | CQ119: =ROUND(AVERAGE(CO119:CP119),1) -> 204836.8 | CR119: 66640 | CS119: 359617.95 | CT119: =ROUND(AVERAGE(CR119:CS119),1) -> 213129
A120: 6.3 | B120: CABLES DE ALTA ( JUEGO) | C120: 208845 | D120: 259013.68 | E120: =ROUND(AVERAGE(C120:D120),1) -> 233929.3 | F120: 184747.5 | G120: 456470.68 | H120: =ROUND(AVERAGE(F120:G120),1) -> 320609.1 | I120: 208845 | J120: 476742.18 | K120: =ROUND(AVERAGE(I120:J120),1) -> 342793.6 | L120: 240975 | M120: 488660.74 | N120: =ROUND(AVERAGE(L120:M120),1) -> 364817.9 | O120: 257040 | P120: 513093.77 | Q120: =ROUND(AVERAGE(O120:P120),1) -> 385066.9 | R120: 313267.5 | S120: 564403.15 | T120: =ROUND(AVERAGE(R120:S120),1) -> 438835.3 | U120: 257040 | V120: 514409.16 | W120: =ROUND(AVERAGE(U120:V120),1) -> 385724.6 | X120: 321300 | Y120: 378013.68 | Z120: =ROUND(AVERAGE(X120:Y120),1) -> 349656.8 | AA120: 321300 | AB120: 387464.02 | AC120: =ROUND(AVERAGE(AA120:AB120),1) -> 354382 | AD120: 401625 | AE120: 728291.28 | AF120: =ROUND(AVERAGE(AD120:AE120),1) -> 564958.1 | AG120: 208845 | AH120: 578513.23 | AI120: =ROUND(AVERAGE(AG120:AH120),1) -> 393679.1 | AJ120: 321300 | AK120: 710084 | AL120: =ROUND(AVERAGE(AJ120:AK120),1) -> 515692 | AM120: 321300 | AN120: 577994 | AO120: =ROUND(AVERAGE(AM120:AN120),1) -> 449647 | AP120: 321300 | AQ120: 387464.02 | AR120: =ROUND(AVERAGE(AP120:AQ120),1) -> 354382 | AS120: 321300 | AT120: 586663.91 | AU120: =ROUND(AVERAGE(AS120:AT120),1) -> 453982 | AV120: 321300 | AW120: 401025.26 | AX120: =ROUND(AVERAGE(AV120:AW120),1) -> 361162.6 | AY120: 321300 | AZ120: 413056.02 | BA120: =ROUND(AVERAGE(AY120:AZ120),1) -> 367178 | BB120: 257040 | BC120: 274554.5 | BD120: =ROUND(AVERAGE(BB120:BC120),1) -> 265797.3 | BE120: 321300 | BF120: 413056.02 | BG120: =ROUND(AVERAGE(BE120:BF120),1) -> 367178 | BH120: 257040 | BI120: 278672.82 | BJ120: =ROUND(AVERAGE(BH120:BI120),1) -> 267856.4 | BK120: 208845 | BL120: 278672.82 | BM120: =ROUND(AVERAGE(BK120:BL120),1) -> 243758.9 | BN120: 208845 | BO120: 266136.56 | BP120: =ROUND(AVERAGE(BN120:BO120),1) -> 237490.8 | BQ120: 208845 | BR120: 463317.74 | BS120: =ROUND(AVERAGE(BQ120:BR120),1) -> 336081.4 | BT120: 257040 | BU120: 471425.8 | BV120: =ROUND(AVERAGE(BT120:BU120),1) -> 364232.9 | BW120: 257040 | BX120: 464354.42 | BY120: =ROUND(AVERAGE(BW120:BX120),1) -> 360697.2 | BZ120: 361462.5 | CA120: 769075.6 | CB120: =ROUND(AVERAGE(BZ120:CA120),1) -> 565269 | CC120: 321300 | CD120: 757539.46 | CE120: =ROUND(AVERAGE(CC120:CD120),1) -> 539419.7 | CF120: 361462.5 | CG120: 763307.53 | CH120: =ROUND(AVERAGE(CF120:CG120),1) -> 562385 | CI120: 321300 | CJ120: 757539.46 | CK120: =ROUND(AVERAGE(CI120:CJ120),1) -> 539419.7 | CL120: 321300 | CM120: 807529.37 | CN120: =ROUND(AVERAGE(CL120:CM120),1) -> 564414.7 | CO120: 321300 | CP120: 793397.61 | CQ120: =ROUND(AVERAGE(CO120:CP120),1) -> 557348.8 | CR120: 321300 | CS120: 831755.26 | CT120: =ROUND(AVERAGE(CR120:CS120),1) -> 576527.6
A121: 6.4 | B121: FILTRO COMBUSTIBLE | C121: 66640 | D121: 237107.44 | E121: =ROUND(AVERAGE(C121:D121),1) -> 151873.7 | F121: 58310 | G121: 237107.44 | H121: =ROUND(AVERAGE(F121:G121),1) -> 147708.7 | I121: 66640 | J121: 237107.44 | K121: =ROUND(AVERAGE(I121:J121),1) -> 151873.7 | L121: 74970 | M121: 243035.13 | N121: =ROUND(AVERAGE(L121:M121),1) -> 159002.6 | O121: 74970 | P121: 255186.89 | Q121: =ROUND(AVERAGE(O121:P121),1) -> 165078.4 | R121: 99960 | S121: 280705.57 | T121: =ROUND(AVERAGE(R121:S121),1) -> 190332.8 | U121: 74970 | V121: 245406.2 | W121: =ROUND(AVERAGE(U121:V121),1) -> 160188.1 | X121: 99960 | Y121: 299168.8 | Z121: =ROUND(AVERAGE(X121:Y121),1) -> 199564.4 | AA121: 99960 | AB121: 306648.02 | AC121: =ROUND(AVERAGE(AA121:AB121),1) -> 203304 | AD121: 124950 | AE121: 339423.83 | AF121: =ROUND(AVERAGE(AD121:AE121),1) -> 232186.9 | AG121: 66640 | AH121: 287723.21 | AI121: =ROUND(AVERAGE(AG121:AH121),1) -> 177181.6 | AJ121: 99960 | AK121: 330938.23 | AL121: =ROUND(AVERAGE(AJ121:AK121),1) -> 215449.1 | AM121: 99960 | AN121: 207728.7 | AO121: =ROUND(AVERAGE(AM121:AN121),1) -> 153844.3 | AP121: 99960 | AQ121: 306648.02 | AR121: =ROUND(AVERAGE(AP121:AQ121),1) -> 203304 | AS121: 99960 | AT121: 210844.63 | AU121: =ROUND(AVERAGE(AS121:AT121),1) -> 155402.3 | AV121: 99960 | AW121: 317380.7 | AX121: =ROUND(AVERAGE(AV121:AW121),1) -> 208670.4 | AY121: 99960 | AZ121: 326902.13 | BA121: =ROUND(AVERAGE(AY121:AZ121),1) -> 213431.1 | BB121: 83300 | BC121: 251333.89 | BD121: =ROUND(AVERAGE(BB121:BC121),1) -> 167316.9 | BE121: 99960 | BF121: 326902.13 | BG121: =ROUND(AVERAGE(BE121:BF121),1) -> 213431.1 | BH121: 83300 | BI121: 255103.9 | BJ121: =ROUND(AVERAGE(BH121:BI121),1) -> 169201.9 | BK121: 66640 | BL121: 255103.9 | BM121: =ROUND(AVERAGE(BK121:BL121),1) -> 160871.9 | BN121: 66640 | BO121: 243627.9 | BP121: =ROUND(AVERAGE(BN121:BO121),1) -> 155133.9 | BQ121: 66640 | BR121: 240664.06 | BS121: =ROUND(AVERAGE(BQ121:BR121),1) -> 153652 | BT121: 74970 | BU121: 244875.68 | BV121: =ROUND(AVERAGE(BT121:BU121),1) -> 159922.8 | BW121: 74970 | BX121: 241202.54 | BY121: =ROUND(AVERAGE(BW121:BX121),1) -> 158086.3 | BZ121: 116620 | CA121: 358431.56 | CB121: =ROUND(AVERAGE(BZ121:CA121),1) -> 237525.8 | CC121: 99960 | CD121: 353055.09 | CE121: =ROUND(AVERAGE(CC121:CD121),1) -> 226507.5 | CF121: 116620 | CG121: 355743.33 | CH121: =ROUND(AVERAGE(CF121:CG121),1) -> 236181.7 | CI121: 99960 | CJ121: 353055.09 | CK121: =ROUND(AVERAGE(CI121:CJ121),1) -> 226507.5 | CL121: 99960 | CM121: 376353.14 | CN121: =ROUND(AVERAGE(CL121:CM121),1) -> 238156.6 | CO121: 99960 | CP121: 369766.96 | CQ121: =ROUND(AVERAGE(CO121:CP121),1) -> 234863.5 | CR121: 99960 | CS121: 387643.73 | CT121: =ROUND(AVERAGE(CR121:CS121),1) -> 243801.9
A122: 6.5 | B122: FILTRO DE AIRE | C122: 74970 | D122: 210412.13 | E122: =ROUND(AVERAGE(C122:D122),1) -> 142691.1 | F122: 74970 | G122: 210412.13 | H122: =ROUND(AVERAGE(F122:G122),1) -> 142691.1 | I122: 74970 | J122: 210412.13 | K122: =ROUND(AVERAGE(I122:J122),1) -> 142691.1 | L122: 91630 | M122: 215672.43 | N122: =ROUND(AVERAGE(L122:M122),1) -> 153651.2 | O122: 99960 | P122: 226456.05 | Q122: =ROUND(AVERAGE(O122:P122),1) -> 163208 | R122: 116620 | S122: 249101.66 | T122: =ROUND(AVERAGE(R122:S122),1) -> 182860.8 | U122: 99960 | V122: 217776.55 | W122: =ROUND(AVERAGE(U122:V122),1) -> 158868.3 | X122: 124950 | Y122: 245473.94 | Z122: =ROUND(AVERAGE(X122:Y122),1) -> 185212 | AA122: 124950 | AB122: 251610.79 | AC122: =ROUND(AVERAGE(AA122:AB122),1) -> 188280.4 | AD122: 149940 | AE122: 278147.74 | AF122: =ROUND(AVERAGE(AD122:AE122),1) -> 214043.9 | AG122: 74970 | AH122: 255329.2 | AI122: =ROUND(AVERAGE(AG122:AH122),1) -> 165149.6 | AJ122: 124950 | AK122: 271194.05 | AL122: =ROUND(AVERAGE(AJ122:AK122),1) -> 198072 | AM122: 124950 | AN122: 178887.22 | AO122: =ROUND(AVERAGE(AM122:AN122),1) -> 151918.6 | AP122: 124950 | AQ122: 251610.79 | AR122: =ROUND(AVERAGE(AP122:AQ122),1) -> 188280.4 | AS122: 124950 | AT122: 181570.53 | AU122: =ROUND(AVERAGE(AS122:AT122),1) -> 153260.3 | AV122: 124950 | AW122: 260417.17 | AX122: =ROUND(AVERAGE(AV122:AW122),1) -> 192683.6 | AY122: 124950 | AZ122: 268229.68 | BA122: =ROUND(AVERAGE(AY122:AZ122),1) -> 196589.8 | BB122: 99960 | BC122: 223036.86 | BD122: =ROUND(AVERAGE(BB122:BC122),1) -> 161498.4 | BE122: 124950 | BF122: 268229.68 | BG122: =ROUND(AVERAGE(BE122:BF122),1) -> 196589.8 | BH122: 99960 | BI122: 226382.41 | BJ122: =ROUND(AVERAGE(BH122:BI122),1) -> 163171.2 | BK122: 74970 | BL122: 226382.41 | BM122: =ROUND(AVERAGE(BK122:BL122),1) -> 150676.2 | BN122: 74970 | BO122: 216198.46 | BP122: =ROUND(AVERAGE(BN122:BO122),1) -> 145584.2 | BQ122: 74970 | BR122: 213568.31 | BS122: =ROUND(AVERAGE(BQ122:BR122),1) -> 144269.2 | BT122: 99960 | BU122: 217305.76 | BV122: =ROUND(AVERAGE(BT122:BU122),1) -> 158632.9 | BW122: 99960 | BX122: 214046.17 | BY122: =ROUND(AVERAGE(BW122:BX122),1) -> 157003.1 | BZ122: 141610 | CA122: 293724.02 | CB122: =ROUND(AVERAGE(BZ122:CA122),1) -> 217667 | CC122: 124950 | CD122: 289318.16 | CE122: =ROUND(AVERAGE(CC122:CD122),1) -> 207134.1 | CF122: 141610 | CG122: 291521.09 | CH122: =ROUND(AVERAGE(CF122:CG122),1) -> 216565.5 | CI122: 124950 | CJ122: 289318.16 | CK122: =ROUND(AVERAGE(CI122:CJ122),1) -> 207134.1 | CL122: 124950 | CM122: 308410.22 | CN122: =ROUND(AVERAGE(CL122:CM122),1) -> 216680.1 | CO122: 124950 | CP122: 303013.04 | CQ122: =ROUND(AVERAGE(CO122:CP122),1) -> 213981.5 | CR122: 124950 | CS122: 317662.52 | CT122: =ROUND(AVERAGE(CR122:CS122),1) -> 221306.3
A123: 6.6 | B123: FILTRO TRAMPA | C123: 124950 | D123: 214619.54 | E123: =ROUND(AVERAGE(C123:D123),1) -> 169784.8 | F123: 116620 | G123: 214619.54 | H123: =ROUND(AVERAGE(F123:G123),1) -> 165619.8 | I123: 124950 | J123: 214619.54 | K123: =ROUND(AVERAGE(I123:J123),1) -> 169784.8 | L123: 149940 | M123: 219985.03 | N123: =ROUND(AVERAGE(L123:M123),1) -> 184962.5 | O123: 158270 | P123: 230984.28 | Q123: =ROUND(AVERAGE(O123:P123),1) -> 194627.1 | R123: 184747.5 | S123: 254082.71 | T123: =ROUND(AVERAGE(R123:S123),1) -> 219415.1 | U123: 158270 | V123: 222131.23 | W123: =ROUND(AVERAGE(U123:V123),1) -> 190200.6 | X123: 192780 | Y123: 253499.68 | Z123: =ROUND(AVERAGE(X123:Y123),1) -> 223139.8 | AA123: 192780 | AB123: 259837.17 | AC123: =ROUND(AVERAGE(AA123:AB123),1) -> 226308.6 | AD123: 240975 | AE123: 288403.35 | AF123: =ROUND(AVERAGE(AD123:AE123),1) -> 264689.2 | AG123: 124950 | AH123: 260434.78 | AI123: =ROUND(AVERAGE(AG123:AH123),1) -> 192692.4 | AJ123: 192780 | AK123: 281193.26 | AL123: =ROUND(AVERAGE(AJ123:AK123),1) -> 236986.6 | AM123: 192780 | AN123: 183190.71 | AO123: =ROUND(AVERAGE(AM123:AN123),1) -> 187985.4 | AP123: 192780 | AQ123: 259837.17 | AR123: =ROUND(AVERAGE(AP123:AQ123),1) -> 226308.6 | AS123: 192780 | AT123: 185938.57 | AU123: =ROUND(AVERAGE(AS123:AT123),1) -> 189359.3 | AV123: 192780 | AW123: 268931.47 | AX123: =ROUND(AVERAGE(AV123:AW123),1) -> 230855.7 | AY123: 192780 | AZ123: 276999.42 | BA123: =ROUND(AVERAGE(AY123:AZ123),1) -> 234889.7 | BB123: 158270 | BC123: 227496.72 | BD123: =ROUND(AVERAGE(BB123:BC123),1) -> 192883.4 | BE123: 192780 | BF123: 276999.42 | BG123: =ROUND(AVERAGE(BE123:BF123),1) -> 234889.7 | BH123: 158270 | BI123: 230909.17 | BJ123: =ROUND(AVERAGE(BH123:BI123),1) -> 194589.6 | BK123: 124950 | BL123: 230909.17 | BM123: =ROUND(AVERAGE(BK123:BL123),1) -> 177929.6 | BN123: 124950 | BO123: 220521.58 | BP123: =ROUND(AVERAGE(BN123:BO123),1) -> 172735.8 | BQ123: 124950 | BR123: 217838.84 | BS123: =ROUND(AVERAGE(BQ123:BR123),1) -> 171394.4 | BT123: 158270 | BU123: 221651.02 | BV123: =ROUND(AVERAGE(BT123:BU123),1) -> 189960.5 | BW123: 158270 | BX123: 218326.25 | BY123: =ROUND(AVERAGE(BW123:BX123),1) -> 188298.1 | BZ123: 216877.5 | CA123: 304553.94 | CB123: =ROUND(AVERAGE(BZ123:CA123),1) -> 260715.7 | CC123: 192780 | CD123: 299985.63 | CE123: =ROUND(AVERAGE(CC123:CD123),1) -> 246382.8 | CF123: 216877.5 | CG123: 302269.78 | CH123: =ROUND(AVERAGE(CF123:CG123),1) -> 259573.6 | CI123: 192780 | CJ123: 299985.63 | CK123: =ROUND(AVERAGE(CI123:CJ123),1) -> 246382.8 | CL123: 192780 | CM123: 319781.63 | CN123: =ROUND(AVERAGE(CL123:CM123),1) -> 256280.8 | CO123: 192780 | CP123: 314185.45 | CQ123: =ROUND(AVERAGE(CO123:CP123),1) -> 253482.7 | CR123: 192780 | CS123: 329375.08 | CT123: =ROUND(AVERAGE(CR123:CS123),1) -> 261077.5
A124: 6.7 | B124: MANGUERA COMBUSTIBLE X METRO | C124: 66640 | D124: 184144.21 | E124: =ROUND(AVERAGE(C124:D124),1) -> 125392.1 | F124: 58310 | G124: 145922.92 | H124: =ROUND(AVERAGE(F124:G124),1) -> 102116.5 | I124: 66640 | J124: 165033.56 | K124: =ROUND(AVERAGE(I124:J124),1) -> 115836.8 | L124: 74970 | M124: 169159.4 | N124: =ROUND(AVERAGE(L124:M124),1) -> 122064.7 | O124: 74970 | P124: 177617.37 | Q124: =ROUND(AVERAGE(O124:P124),1) -> 126293.7 | R124: 99960 | S124: 195379.11 | T124: =ROUND(AVERAGE(R124:S124),1) -> 147669.6 | U124: 74970 | V124: 190589.25 | W124: =ROUND(AVERAGE(U124:V124),1) -> 132779.6 | X124: 99960 | Y124: 184144.21 | Z124: =ROUND(AVERAGE(X124:Y124),1) -> 142052.1 | AA124: 99960 | AB124: 188747.81 | AC124: =ROUND(AVERAGE(AA124:AB124),1) -> 144353.9 | AD124: 124950 | AE124: 197234.21 | AF124: =ROUND(AVERAGE(AD124:AE124),1) -> 161092.1 | AG124: 66640 | AH124: 200263.59 | AI124: =ROUND(AVERAGE(AG124:AH124),1) -> 133451.8 | AJ124: 99960 | AK124: 192303.35 | AL124: =ROUND(AVERAGE(AJ124:AK124),1) -> 146131.7 | AM124: 99960 | AN124: 183309.59 | AO124: =ROUND(AVERAGE(AM124:AN124),1) -> 141634.8 | AP124: 99960 | AQ124: 188747.81 | AR124: =ROUND(AVERAGE(AP124:AQ124),1) -> 144353.9 | AS124: 99960 | AT124: 186059.23 | AU124: =ROUND(AVERAGE(AS124:AT124),1) -> 143009.6 | AV124: 99960 | AW124: 195353.98 | AX124: =ROUND(AVERAGE(AV124:AW124),1) -> 147657 | AY124: 99960 | AZ124: 201214.6 | BA124: =ROUND(AVERAGE(AY124:AZ124),1) -> 150587.3 | BB124: 83300 | BC124: 195192.86 | BD124: =ROUND(AVERAGE(BB124:BC124),1) -> 139246.4 | BE124: 99960 | BF124: 201214.6 | BG124: =ROUND(AVERAGE(BE124:BF124),1) -> 150587.3 | BH124: 83300 | BI124: 198120.75 | BJ124: =ROUND(AVERAGE(BH124:BI124),1) -> 140710.4 | BK124: 66640 | BL124: 198120.75 | BM124: =ROUND(AVERAGE(BK124:BL124),1) -> 132380.4 | BN124: 66640 | BO124: 189208.17 | BP124: =ROUND(AVERAGE(BN124:BO124),1) -> 127924.1 | BQ124: 66640 | BR124: 148111.77 | BS124: =ROUND(AVERAGE(BQ124:BR124),1) -> 107375.9 | BT124: 74970 | BU124: 150703.72 | BV124: =ROUND(AVERAGE(BT124:BU124),1) -> 112836.9 | BW124: 74970 | BX124: 148443.17 | BY124: =ROUND(AVERAGE(BW124:BX124),1) -> 111706.6 | BZ124: 116620 | CA124: 208279.32 | CB124: =ROUND(AVERAGE(BZ124:CA124),1) -> 162449.7 | CC124: 99960 | CD124: 205155.13 | CE124: =ROUND(AVERAGE(CC124:CD124),1) -> 152557.6 | CF124: 116620 | CG124: 206717.23 | CH124: =ROUND(AVERAGE(CF124:CG124),1) -> 161668.6 | CI124: 99960 | CJ124: 205155.13 | CK124: =ROUND(AVERAGE(CI124:CJ124),1) -> 152557.6 | CL124: 99960 | CM124: 218693.29 | CN124: =ROUND(AVERAGE(CL124:CM124),1) -> 159326.6 | CO124: 99960 | CP124: 214866.15 | CQ124: =ROUND(AVERAGE(CO124:CP124),1) -> 157413.1 | CR124: 99960 | CS124: 225254.09 | CT124: =ROUND(AVERAGE(CR124:CS124),1) -> 162607
A125: 6.8 | B125: MEDIDOR COMBUSTIBLE | C125: 249007.5 | D125: 621338.11 | E125: =ROUND(AVERAGE(C125:D125),1) -> 435172.8 | F125: 224910 | G125: 569969.82 | H125: =ROUND(AVERAGE(F125:G125),1) -> 397439.9 | I125: 249007.5 | J125: 595653.96 | K125: =ROUND(AVERAGE(I125:J125),1) -> 422330.7 | L125: 292740 | M125: 610545.31 | N125: =ROUND(AVERAGE(L125:M125),1) -> 451642.7 | O125: 305235 | P125: 641072.58 | Q125: =ROUND(AVERAGE(O125:P125),1) -> 473153.8 | R125: 369495 | S125: 705179.83 | T125: =ROUND(AVERAGE(R125:S125),1) -> 537337.4 | U125: 305235 | V125: 643084.94 | W125: =ROUND(AVERAGE(U125:V125),1) -> 474160 | X125: 393592.5 | Y125: 720375.32 | Z125: =ROUND(AVERAGE(X125:Y125),1) -> 556983.9 | AA125: 393592.5 | AB125: 738384.7 | AC125: =ROUND(AVERAGE(AA125:AB125),1) -> 565988.6 | AD125: 473917.5 | AE125: 801788.57 | AF125: =ROUND(AVERAGE(AD125:AE125),1) -> 637853 | AG125: 249007.5 | AH125: 722809.33 | AI125: =ROUND(AVERAGE(AG125:AH125),1) -> 485908.4 | AJ125: 393592.5 | AK125: 781743.85 | AL125: =ROUND(AVERAGE(AJ125:AK125),1) -> 587668.2 | AM125: 393592.5 | AN125: 509110.77 | AO125: =ROUND(AVERAGE(AM125:AN125),1) -> 451351.6 | AP125: 393592.5 | AQ125: 738384.7 | AR125: =ROUND(AVERAGE(AP125:AQ125),1) -> 565988.6 | AS125: 393592.5 | AT125: 516747.43 | AU125: =ROUND(AVERAGE(AS125:AT125),1) -> 455170 | AV125: 393592.5 | AW125: 764228.17 | AX125: =ROUND(AVERAGE(AV125:AW125),1) -> 578910.3 | AY125: 393592.5 | AZ125: 787155.01 | BA125: =ROUND(AVERAGE(AY125:AZ125),1) -> 590373.8 | BB125: 305235 | BC125: 658618.4 | BD125: =ROUND(AVERAGE(BB125:BC125),1) -> 481926.7 | BE125: 393592.5 | BF125: 787155.01 | BG125: =ROUND(AVERAGE(BE125:BF125),1) -> 590373.8 | BH125: 305235 | BI125: 668497.67 | BJ125: =ROUND(AVERAGE(BH125:BI125),1) -> 486866.3 | BK125: 249007.5 | BL125: 668497.67 | BM125: =ROUND(AVERAGE(BK125:BL125),1) -> 458752.6 | BN125: 249007.5 | BO125: 638424.91 | BP125: =ROUND(AVERAGE(BN125:BO125),1) -> 443716.2 | BQ125: 249007.5 | BR125: 578519.36 | BS125: =ROUND(AVERAGE(BQ125:BR125),1) -> 413763.4 | BT125: 305235 | BU125: 588643.45 | BV125: =ROUND(AVERAGE(BT125:BU125),1) -> 446939.2 | BW125: 305235 | BX125: 579813.8 | BY125: =ROUND(AVERAGE(BW125:BX125),1) -> 442524.4 | BZ125: 433755 | CA125: 846688.73 | CB125: =ROUND(AVERAGE(BZ125:CA125),1) -> 640221.9 | CC125: 393592.5 | CD125: 833988.4 | CE125: =ROUND(AVERAGE(CC125:CD125),1) -> 613790.4 | CF125: 433755 | CG125: 840338.56 | CH125: =ROUND(AVERAGE(CF125:CG125),1) -> 637046.8 | CI125: 393592.5 | CJ125: 833988.4 | CK125: =ROUND(AVERAGE(CI125:CJ125),1) -> 613790.4 | CL125: 393592.5 | CM125: 889023.17 | CN125: =ROUND(AVERAGE(CL125:CM125),1) -> 641307.8 | CO125: 393592.5 | CP125: 873465.26 | CQ125: =ROUND(AVERAGE(CO125:CP125),1) -> 633528.9 | CR125: 393592.5 | CS125: 915693.86 | CT125: =ROUND(AVERAGE(CR125:CS125),1) -> 654643.2
A126: 6.9 | B126: MODULO BOMBA COMBUSTIBLE | C126: 297202.5 | D126: 1094785.6 | E126: =ROUND(AVERAGE(C126:D126),1) -> 695994 | F126: 273105 | G126: 1094785.6 | H126: =ROUND(AVERAGE(F126:G126),1) -> 683945.3 | I126: 297202.5 | J126: 1094785.6 | K126: =ROUND(AVERAGE(I126:J126),1) -> 695994 | L126: 353430 | M126: 1122155.2 | N126: =ROUND(AVERAGE(L126:M126),1) -> 737792.6 | O126: 369495 | P126: 1178263 | Q126: =ROUND(AVERAGE(O126:P126),1) -> 773879 | R126: 457852.5 | S126: 1296089.2 | T126: =ROUND(AVERAGE(R126:S126),1) -> 876970.9 | U126: 369495 | V126: 1133103.1 | W126: =ROUND(AVERAGE(U126:V126),1) -> 751299 | X126: 473917.5 | Y126: 2622972.9 | Z126: =ROUND(AVERAGE(X126:Y126),1) -> 1548445.2 | AA126: 473917.5 | AB126: 2688547.2 | AC126: =ROUND(AVERAGE(AA126:AB126),1) -> 1581232.3 | AD126: 564655 | AE126: 3143111.3 | AF126: =ROUND(AVERAGE(AD126:AE126),1) -> 1853883.1 | AG126: 297202.5 | AH126: 1328491.5 | AI126: =ROUND(AVERAGE(AG126:AH126),1) -> 812847 | AJ126: 473917.5 | AK126: 3064533.5 | AL126: =ROUND(AVERAGE(AJ126:AK126),1) -> 1769225.5 | AM126: 473917.5 | AN126: 904584.66 | AO126: =ROUND(AVERAGE(AM126:AN126),1) -> 689251.1 | AP126: 473917.5 | AQ126: 2688547.2 | AR126: =ROUND(AVERAGE(AP126:AQ126),1) -> 1581232.3 | AS126: 473917.5 | AT126: 918153.43 | AU126: =ROUND(AVERAGE(AS126:AT126),1) -> 696035.5 | AV126: 473917.5 | AW126: 2782646.3 | AX126: =ROUND(AVERAGE(AV126:AW126),1) -> 1628281.9 | AY126: 473917.5 | AZ126: 2866125.7 | BA126: =ROUND(AVERAGE(AY126:AZ126),1) -> 1670021.6 | BB126: 377527.5 | BC126: 1160472.7 | BD126: =ROUND(AVERAGE(BB126:BC126),1) -> 769000.1 | BE126: 473917.5 | BF126: 2866125.7 | BG126: =ROUND(AVERAGE(BE126:BF126),1) -> 1670021.6 | BH126: 377527.5 | BI126: 1177879.8 | BJ126: =ROUND(AVERAGE(BH126:BI126),1) -> 777703.6 | BK126: 297202.5 | BL126: 1177879.8 | BM126: =ROUND(AVERAGE(BK126:BL126),1) -> 737541.1 | BN126: 297202.5 | BO126: 1124892.2 | BP126: =ROUND(AVERAGE(BN126:BO126),1) -> 711047.3 | BQ126: 297202.5 | BR126: 1111207.3 | BS126: =ROUND(AVERAGE(BQ126:BR126),1) -> 704204.9 | BT126: 369495 | BU126: 1130653.5 | BV126: =ROUND(AVERAGE(BT126:BU126),1) -> 750074.2 | BW126: 369495 | BX126: 1113693.7 | BY126: =ROUND(AVERAGE(BW126:BX126),1) -> 741594.3 | BZ126: 518245 | CA126: 3319125.5 | CB126: =ROUND(AVERAGE(BZ126:CA126),1) -> 1918685.3 | CC126: 473917.5 | CD126: 3269338.6 | CE126: =ROUND(AVERAGE(CC126:CD126),1) -> 1871628.1 | CF126: 518245 | CG126: 3294232.1 | CH126: =ROUND(AVERAGE(CF126:CG126),1) -> 1906238.5 | CI126: 473917.5 | CJ126: 3269338.6 | CK126: =ROUND(AVERAGE(CI126:CJ126),1) -> 1871628.1 | CL126: 473917.5 | CM126: 3485081.8 | CN126: =ROUND(AVERAGE(CL126:CM126),1) -> 1979499.6 | CO126: 473917.5 | CP126: 3424092.9 | CQ126: =ROUND(AVERAGE(CO126:CP126),1) -> 1949005.2 | CR126: 473917.5 | CS126: 3589634.2 | CT126: =ROUND(AVERAGE(CR126:CS126),1) -> 2031775.9
A127: 6.10 | B127: ORING O EMPAQUE CUERPO ACELERACION | C127: 41650 | D127: 69901.57 | E127: =ROUND(AVERAGE(C127:D127),1) -> 55775.8 | F127: 41650 | G127: 81932.47 | H127: =ROUND(AVERAGE(F127:G127),1) -> 61791.2 | I127: 41650 | J127: 75917.02 | K127: =ROUND(AVERAGE(I127:J127),1) -> 58783.5 | L127: 49980 | M127: 77814.946 | N127: =ROUND(AVERAGE(L127:M127),1) -> 63897.5 | O127: 49980 | P127: 81705.693 | Q127: =ROUND(AVERAGE(O127:P127),1) -> 65842.8 | R127: 66640 | S127: 89876.263 | T127: =ROUND(AVERAGE(R127:S127),1) -> 78258.1 | U127: 49980 | V127: 72348.125 | W127: =ROUND(AVERAGE(U127:V127),1) -> 61164.1 | X127: 66640 | Y127: 95022.47 | Z127: =ROUND(AVERAGE(X127:Y127),1) -> 80831.2 | AA127: 66640 | AB127: 97398.032 | AC127: =ROUND(AVERAGE(AA127:AB127),1) -> 82019 | AD127: 83300 | AE127: 177002.98 | AF127: =ROUND(AVERAGE(AD127:AE127),1) -> 130151.5 | AG127: 41650 | AH127: 92123.169 | AI127: =ROUND(AVERAGE(AG127:AH127),1) -> 66886.6 | AJ127: 66640 | AK127: 172577.91 | AL127: =ROUND(AVERAGE(AJ127:AK127),1) -> 119609 | AM127: 66640 | AN127: 185800 | AO127: =ROUND(AVERAGE(AM127:AN127),1) -> 126220 | AP127: 66640 | AQ127: 97398.032 | AR127: =ROUND(AVERAGE(AP127:AQ127),1) -> 82019 | AS127: 66640 | AT127: 188587 | AU127: =ROUND(AVERAGE(AS127:AT127),1) -> 127613.5 | AV127: 66640 | AW127: 100806.96 | AX127: =ROUND(AVERAGE(AV127:AW127),1) -> 83723.5 | AY127: 66640 | AZ127: 103831.17 | BA127: =ROUND(AVERAGE(AY127:AZ127),1) -> 85235.6 | BB127: 49980 | BC127: 74095.665 | BD127: =ROUND(AVERAGE(BB127:BC127),1) -> 62037.8 | BE127: 66640 | BF127: 103831.17 | BG127: =ROUND(AVERAGE(BE127:BF127),1) -> 85235.6 | BH127: 49980 | BI127: 75207.1 | BJ127: =ROUND(AVERAGE(BH127:BI127),1) -> 62593.5 | BK127: 41650 | BL127: 75207.1 | BM127: =ROUND(AVERAGE(BK127:BL127),1) -> 58428.5 | BN127: 41650 | BO127: 71823.864 | BP127: =ROUND(AVERAGE(BN127:BO127),1) -> 56736.9 | BQ127: 41650 | BR127: 83161.458 | BS127: =ROUND(AVERAGE(BQ127:BR127),1) -> 62405.7 | BT127: 49980 | BU127: 84616.783 | BV127: =ROUND(AVERAGE(BT127:BU127),1) -> 67298.4 | BW127: 49980 | BX127: 83347.531 | BY127: =ROUND(AVERAGE(BW127:BX127),1) -> 66663.8 | BZ127: 74970 | CA127: 186915.15 | CB127: =ROUND(AVERAGE(BZ127:CA127),1) -> 130942.6 | CC127: 66640 | CD127: 184111.42 | CE127: =ROUND(AVERAGE(CC127:CD127),1) -> 125375.7 | CF127: 74970 | CG127: 185513.28 | CH127: =ROUND(AVERAGE(CF127:CG127),1) -> 130241.6 | CI127: 66640 | CJ127: 184111.42 | CK127: =ROUND(AVERAGE(CI127:CJ127),1) -> 125375.7 | CL127: 66640 | CM127: 196260.9 | CN127: =ROUND(AVERAGE(CL127:CM127),1) -> 131450.5 | CO127: 66640 | CP127: 192826.34 | CQ127: =ROUND(AVERAGE(CO127:CP127),1) -> 129733.2 | CR127: 66640 | CS127: 202148.73 | CT127: =ROUND(AVERAGE(CR127:CS127),1) -> 134394.4
A128: 6.11 | B128: REGULADOR PRESION DE COMBUSTIBLE | C128: 176715 | D128: 769126.77 | E128: =ROUND(AVERAGE(C128:D128),1) -> 472920.9 | F128: 166600 | G128: 769126.77 | H128: =ROUND(AVERAGE(F128:G128),1) -> 467863.4 | I128: 176715 | J128: 769126.77 | K128: =ROUND(AVERAGE(I128:J128),1) -> 472920.9 | L128: 208845 | M128: 788354.93 | N128: =ROUND(AVERAGE(L128:M128),1) -> 498600 | O128: 216877.5 | P128: 827772.68 | Q128: =ROUND(AVERAGE(O128:P128),1) -> 522325.1 | R128: 265072.5 | S128: 910549.95 | T128: =ROUND(AVERAGE(R128:S128),1) -> 587811.2 | U128: 216877.5 | V128: 796046.2 | W128: =ROUND(AVERAGE(U128:V128),1) -> 506461.9 | X128: 281137.5 | Y128: 706058.1 | Z128: =ROUND(AVERAGE(X128:Y128),1) -> 493597.8 | AA128: 281137.5 | AB128: 723709.55 | AC128: =ROUND(AVERAGE(AA128:AB128),1) -> 502423.5 | AD128: 345397.5 | AE128: 1334819.5 | AF128: =ROUND(AVERAGE(AD128:AE128),1) -> 840108.5 | AG128: 176715 | AH128: 933313.7 | AI128: =ROUND(AVERAGE(AG128:AH128),1) -> 555014.3 | AJ128: 281137.5 | AK128: 1301449 | AL128: =ROUND(AVERAGE(AJ128:AK128),1) -> 791293.3 | AM128: 281137.5 | AN128: 864685.34 | AO128: =ROUND(AVERAGE(AM128:AN128),1) -> 572911.4 | AP128: 281137.5 | AQ128: 723709.55 | AR128: =ROUND(AVERAGE(AP128:AQ128),1) -> 502423.5 | AS128: 281137.5 | AT128: 877655.62 | AU128: =ROUND(AVERAGE(AS128:AT128),1) -> 579396.6 | AV128: 281137.5 | AW128: 749039.39 | AX128: =ROUND(AVERAGE(AV128:AW128),1) -> 515088.4 | AY128: 281137.5 | AZ128: 771510.57 | BA128: =ROUND(AVERAGE(AY128:AZ128),1) -> 526324 | BB128: 224910 | BC128: 815274.37 | BD128: =ROUND(AVERAGE(BB128:BC128),1) -> 520092.2 | BE128: 281137.5 | BF128: 771510.57 | BG128: =ROUND(AVERAGE(BE128:BF128),1) -> 526324 | BH128: 224910 | BI128: 827503.49 | BJ128: =ROUND(AVERAGE(BH128:BI128),1) -> 526206.7 | BK128: 176715 | BL128: 827503.49 | BM128: =ROUND(AVERAGE(BK128:BL128),1) -> 502109.2 | BN128: 176715 | BO128: 790277.75 | BP128: =ROUND(AVERAGE(BN128:BO128),1) -> 483496.4 | BQ128: 176715 | BR128: 780663.67 | BS128: =ROUND(AVERAGE(BQ128:BR128),1) -> 478689.3 | BT128: 216877.5 | BU128: 794325.28 | BV128: =ROUND(AVERAGE(BT128:BU128),1) -> 505601.4 | BW128: 216877.5 | BX128: 782410.4 | BY128: =ROUND(AVERAGE(BW128:BX128),1) -> 499644 | BZ128: 313267.5 | CA128: 1409569.4 | CB128: =ROUND(AVERAGE(BZ128:CA128),1) -> 861418.4 | CC128: 281137.5 | CD128: 1388425.9 | CE128: =ROUND(AVERAGE(CC128:CD128),1) -> 834781.7 | CF128: 313267.5 | CG128: 1398997.6 | CH128: =ROUND(AVERAGE(CF128:CG128),1) -> 856132.6 | CI128: 281137.5 | CJ128: 1388425.9 | CK128: =ROUND(AVERAGE(CI128:CJ128),1) -> 834781.7 | CL128: 281137.5 | CM128: 1480047.9 | CN128: =ROUND(AVERAGE(CL128:CM128),1) -> 880592.7 | CO128: 281137.5 | CP128: 1454147 | CQ128: =ROUND(AVERAGE(CO128:CP128),1) -> 867642.3 | CR128: 281137.5 | CS128: 1524449.3 | CT128: =ROUND(AVERAGE(CR128:CS128),1) -> 902793.4
A129: 7 | B129: ELECTRICO/ELECTRONICO | C129: 0 | D129: 0 | E129: 0 | F129: 0 | G129: 0 | H129: 0 | I129: 0 | J129: 0 | K129: 0 | L129: 0 | M129: 0 | N129: 0 | O129: 0 | P129: 0 | Q129: 0 | R129: 0 | S129: 0 | T129: 0 | U129: 0 | V129: 0 | W129: 0 | X129: 0 | Y129: 0 | Z129: 0 | AA129: 0 | AB129: 0 | AC129: 0 | AD129: 0 | AE129: 0 | AF129: 0 | AG129: 0 | AH129: 0 | AI129: 0 | AJ129: 0 | AK129: 0 | AL129: 0 | AM129: 0 | AN129: 0 | AO129: 0 | AP129: 0 | AQ129: 0 | AR129: 0 | AS129: 0 | AT129: 0 | AU129: 0 | AV129: 0 | AW129: 0 | AX129: 0 | AY129: 0 | AZ129: 0 | BA129: 0 | BB129: 0 | BC129: 0 | BD129: 0 | BE129: 0 | BF129: 0 | BG129: 0 | BH129: 0 | BI129: 0 | BJ129: 0 | BK129: 0 | BL129: 0 | BM129: 0 | BN129: 0 | BO129: 0 | BP129: 0 | BQ129: 0 | BR129: 0 | BS129: 0 | BT129: 0 | BU129: 0 | BV129: 0 | BW129: 0 | BX129: 0 | BY129: 0 | BZ129: 0 | CA129: 0 | CB129: 0 | CC129: 0 | CD129: 0 | CE129: 0 | CF129: 0 | CG129: 0 | CH129: 0 | CI129: 0 | CJ129: 0 | CK129: 0 | CL129: 0 | CM129: 0 | CN129: 0 | CO129: 0 | CP129: 0 | CQ129: 0 | CR129: 0 | CS129: 0 | CT129: 0
A130: 7.1 | B130: ALARMA COMPLETA | C130: 249007.5 | D130: 679458.25 | E130: =ROUND(AVERAGE(C130:D130),1) -> 464232.9 | F130: 224910 | G130: 679458.25 | H130: =ROUND(AVERAGE(F130:G130),1) -> 452184.1 | I130: 232942.5 | J130: 679458.25 | K130: =ROUND(AVERAGE(I130:J130),1) -> 456200.4 | L130: 305235 | M130: 696444.71 | N130: =ROUND(AVERAGE(L130:M130),1) -> 500839.9 | O130: 305235 | P130: 731266.94 | Q130: =ROUND(AVERAGE(O130:P130),1) -> 518251 | R130: 369495 | S130: 804393.64 | T130: =ROUND(AVERAGE(R130:S130),1) -> 586944.3 | U130: 305235 | V130: 703239.29 | W130: =ROUND(AVERAGE(U130:V130),1) -> 504237.1 | X130: 393592.5 | Y130: 679458.25 | Z130: =ROUND(AVERAGE(X130:Y130),1) -> 536525.4 | AA130: 393592.5 | AB130: 696444.71 | AC130: =ROUND(AVERAGE(AA130:AB130),1) -> 545018.6 | AD130: 473917.5 | AE130: 798458.25 | AF130: =ROUND(AVERAGE(AD130:AE130),1) -> 636187.9 | AG130: 249007.5 | AH130: 824503.48 | AI130: =ROUND(AVERAGE(AG130:AH130),1) -> 536755.5 | AJ130: 377527.5 | AK130: 778496.79 | AL130: =ROUND(AVERAGE(AJ130:AK130),1) -> 578012.1 | AM130: 361462.5 | AN130: 778496.79 | AO130: =ROUND(AVERAGE(AM130:AN130),1) -> 569979.6 | AP130: 329332.5 | AQ130: 696444.71 | AR130: =ROUND(AVERAGE(AP130:AQ130),1) -> 512888.6 | AS130: 393592.5 | AT130: 790174.25 | AU130: =ROUND(AVERAGE(AS130:AT130),1) -> 591883.4 | AV130: 393592.5 | AW130: 720820.27 | AX130: =ROUND(AVERAGE(AV130:AW130),1) -> 557206.4 | AY130: 393592.5 | AZ130: 742444.88 | BA130: =ROUND(AVERAGE(AY130:AZ130),1) -> 568018.7 | BB130: 305235 | BC130: 720225.74 | BD130: =ROUND(AVERAGE(BB130:BC130),1) -> 512730.4 | BE130: 393592.5 | BF130: 742444.88 | BG130: =ROUND(AVERAGE(BE130:BF130),1) -> 568018.7 | BH130: 305235 | BI130: 731029.13 | BJ130: =ROUND(AVERAGE(BH130:BI130),1) -> 518132.1 | BK130: 249007.5 | BL130: 731029.13 | BM130: =ROUND(AVERAGE(BK130:BL130),1) -> 490018.3 | BN130: 249007.5 | BO130: 698143.35 | BP130: =ROUND(AVERAGE(BN130:BO130),1) -> 473575.4 | BQ130: 249007.5 | BR130: 689650.12 | BS130: =ROUND(AVERAGE(BQ130:BR130),1) -> 469328.8 | BT130: 305235 | BU130: 701719 | BV130: =ROUND(AVERAGE(BT130:BU130),1) -> 503477 | BW130: 305235 | BX130: 691193.22 | BY130: =ROUND(AVERAGE(BW130:BX130),1) -> 498214.1 | BZ130: 433755 | CA130: 843171.91 | CB130: =ROUND(AVERAGE(BZ130:CA130),1) -> 638463.5 | CC130: 393592.5 | CD130: 830524.33 | CE130: =ROUND(AVERAGE(CC130:CD130),1) -> 612058.4 | CF130: 433755 | CG130: 836848.12 | CH130: =ROUND(AVERAGE(CF130:CG130),1) -> 635301.6 | CI130: 393592.5 | CJ130: 830524.33 | CK130: =ROUND(AVERAGE(CI130:CJ130),1) -> 612058.4 | CL130: 393592.5 | CM130: 885330.51 | CN130: =ROUND(AVERAGE(CL130:CM130),1) -> 639461.5 | CO130: 393592.5 | CP130: 869837.22 | CQ130: =ROUND(AVERAGE(CO130:CP130),1) -> 631714.9 | CR130: 393592.5 | CS130: 911890.42 | CT130: =ROUND(AVERAGE(CR130:CS130),1) -> 652741.5
A131: 7.2 | B131: ALTERNADOR | C131: 850850 | D131: 1135183.6 | E131: =ROUND(AVERAGE(C131:D131),1) -> 993016.8 | F131: 788970 | G131: 1240755.7 | H131: =ROUND(AVERAGE(F131:G131),1) -> 1014862.9 | I131: 812175 | J131: 1187969.7 | K131: =ROUND(AVERAGE(I131:J131),1) -> 1000072.3 | L131: 1027684 | M131: 1217668.9 | N131: =ROUND(AVERAGE(L131:M131),1) -> 1122676.5 | O131: 1027684 | P131: 1278552.4 | Q131: =ROUND(AVERAGE(O131:P131),1) -> 1153118.2 | R131: 1390396 | S131: 1406407.6 | T131: =ROUND(AVERAGE(R131:S131),1) -> 1398401.8 | U131: 1027684 | V131: 1174915.1 | W131: =ROUND(AVERAGE(U131:V131),1) -> 1101299.5 | X131: 1329944 | Y131: 1462557.4 | Z131: =ROUND(AVERAGE(X131:Y131),1) -> 1396250.7 | AA131: 1329944 | AB131: 1499121.4 | AC131: =ROUND(AVERAGE(AA131:AB131),1) -> 1414532.7 | AD131: 1591625 | AE131: 1919773.2 | AF131: =ROUND(AVERAGE(AD131:AE131),1) -> 1755699.1 | AG131: 850850 | AH131: 1441567.8 | AI131: =ROUND(AVERAGE(AG131:AH131),1) -> 1146208.9 | AJ131: 1292161.5 | AK131: 1871778.9 | AL131: =ROUND(AVERAGE(AJ131:AK131),1) -> 1581970.2 | AM131: 1216596.5 | AN131: 1019535.8 | AO131: =ROUND(AVERAGE(AM131:AN131),1) -> 1118066.2 | AP131: 1133475 | AQ131: 1499121.4 | AR131: =ROUND(AVERAGE(AP131:AQ131),1) -> 1316298.2 | AS131: 1329944 | AT131: 1034828.9 | AU131: =ROUND(AVERAGE(AS131:AT131),1) -> 1182386.4 | AV131: 1329944 | AW131: 1551590.6 | AX131: =ROUND(AVERAGE(AV131:AW131),1) -> 1440767.3 | AY131: 1329944 | AZ131: 1598138.3 | BA131: =ROUND(AVERAGE(AY131:AZ131),1) -> 1464041.2 | BB131: 1148588 | BC131: 1203294.7 | BD131: =ROUND(AVERAGE(BB131:BC131),1) -> 1175941.3 | BE131: 1329944 | BF131: 1598138.3 | BG131: =ROUND(AVERAGE(BE131:BF131),1) -> 1464041.2 | BH131: 1148588 | BI131: 1221344.1 | BJ131: =ROUND(AVERAGE(BH131:BI131),1) -> 1184966 | BK131: 850850 | BL131: 1221344.1 | BM131: =ROUND(AVERAGE(BK131:BL131),1) -> 1036097 | BN131: 850850 | BO131: 1166401.2 | BP131: =ROUND(AVERAGE(BN131:BO131),1) -> 1008625.6 | BQ131: 850850 | BR131: 1259367.1 | BS131: =ROUND(AVERAGE(BQ131:BR131),1) -> 1055108.5 | BT131: 1148588 | BU131: 1281406 | BV131: =ROUND(AVERAGE(BT131:BU131),1) -> 1214997 | BW131: 1148588 | BX131: 1262184.9 | BY131: =ROUND(AVERAGE(BW131:BX131),1) -> 1205386.4 | BZ131: 1606500 | CA131: 2027280.5 | CB131: =ROUND(AVERAGE(BZ131:CA131),1) -> 1816890.3 | CC131: 1329944 | CD131: 1996871.3 | CE131: =ROUND(AVERAGE(CC131:CD131),1) -> 1663407.7 | CF131: 1606500 | CG131: 2012075.9 | CH131: =ROUND(AVERAGE(CF131:CG131),1) -> 1809288 | CI131: 1329944 | CJ131: 1996871.3 | CK131: =ROUND(AVERAGE(CI131:CJ131),1) -> 1663407.7 | CL131: 1329944 | CM131: 2128644.5 | CN131: =ROUND(AVERAGE(CL131:CM131),1) -> 1729294.3 | CO131: 1329944 | CP131: 2091393.3 | CQ131: =ROUND(AVERAGE(CO131:CP131),1) -> 1710668.6 | CR131: 1329944 | CS131: 2192503.9 | CT131: =ROUND(AVERAGE(CR131:CS131),1) -> 1761223.9
A132: 7.3 | B132: BATERIA | C132: 549185 | D132: 865925.01 | E132: =ROUND(AVERAGE(C132:D132),1) -> 707555 | F132: 510510 | G132: 868209.06 | H132: =ROUND(AVERAGE(F132:G132),1) -> 689359.5 | I132: 525980 | J132: 867067.04 | K132: =ROUND(AVERAGE(I132:J132),1) -> 696523.5 | L132: 680680 | M132: 888743.71 | N132: =ROUND(AVERAGE(L132:M132),1) -> 784711.9 | O132: 680680 | P132: 933180.9 | Q132: =ROUND(AVERAGE(O132:P132),1) -> 806930.4 | R132: 835380 | S132: 1026499 | T132: =ROUND(AVERAGE(R132:S132),1) -> 930939.5 | U132: 680680 | V132: 896232.39 | W132: =ROUND(AVERAGE(U132:V132),1) -> 788456.2 | X132: 874055 | Y132: 958393.93 | Z132: =ROUND(AVERAGE(X132:Y132),1) -> 916224.5 | AA132: 874055 | AB132: 982353.78 | AC132: =ROUND(AVERAGE(AA132:AB132),1) -> 928204.4 | AD132: 1050353.5 | AE132: 1429279.7 | AF132: =ROUND(AVERAGE(AD132:AE132),1) -> 1239816.6 | AG132: 549185 | AH132: 1052161.5 | AI132: =ROUND(AVERAGE(AG132:AH132),1) -> 800673.2 | AJ132: 850850 | AK132: 1393547.7 | AL132: =ROUND(AVERAGE(AJ132:AK132),1) -> 1122198.9 | AM132: 804440 | AN132: 725333.37 | AO132: =ROUND(AVERAGE(AM132:AN132),1) -> 764886.7 | AP132: 750295 | AQ132: 982353.78 | AR132: =ROUND(AVERAGE(AP132:AQ132),1) -> 866324.4 | AS132: 874055 | AT132: 736213.37 | AU132: =ROUND(AVERAGE(AS132:AT132),1) -> 805134.2 | AV132: 874055 | AW132: 1016736.2 | AX132: =ROUND(AVERAGE(AV132:AW132),1) -> 945395.6 | AY132: 874055 | AZ132: 1047238.2 | BA132: =ROUND(AVERAGE(AY132:AZ132),1) -> 960646.6 | BB132: 688415 | BC132: 917880.51 | BD132: =ROUND(AVERAGE(BB132:BC132),1) -> 803147.8 | BE132: 874055 | BF132: 1047238.2 | BG132: =ROUND(AVERAGE(BE132:BF132),1) -> 960646.6 | BH132: 688415 | BI132: 931648.72 | BJ132: =ROUND(AVERAGE(BH132:BI132),1) -> 810031.9 | BK132: 549185 | BL132: 931648.72 | BM132: =ROUND(AVERAGE(BK132:BL132),1) -> 740416.9 | BN132: 549185 | BO132: 889737.95 | BP132: =ROUND(AVERAGE(BN132:BO132),1) -> 719461.5 | BQ132: 549185 | BR132: 881232.19 | BS132: =ROUND(AVERAGE(BQ132:BR132),1) -> 715208.6 | BT132: 688415 | BU132: 896653.76 | BV132: =ROUND(AVERAGE(BT132:BU132),1) -> 792534.4 | BW132: 688415 | BX132: 883203.95 | BY132: =ROUND(AVERAGE(BW132:BX132),1) -> 785809.5 | BZ132: 959675.5 | CA132: 1271319.4 | CB132: =ROUND(AVERAGE(BZ132:CA132),1) -> 1115497.4 | CC132: 874055 | CD132: 1248679.6 | CE132: =ROUND(AVERAGE(CC132:CD132),1) -> 1061367.3 | CF132: 959675.5 | CG132: 1259999.5 | CH132: =ROUND(AVERAGE(CF132:CG132),1) -> 1109837.5 | CI132: 874055 | CJ132: 1248679.6 | CK132: =ROUND(AVERAGE(CI132:CJ132),1) -> 1061367.3 | CL132: 874055 | CM132: 1227785.3 | CN132: =ROUND(AVERAGE(CL132:CM132),1) -> 1050920.2 | CO132: 874055 | CP132: 1200051.6 | CQ132: =ROUND(AVERAGE(CO132:CP132),1) -> 1037053.3 | CR132: 874055 | CS132: 1275328.9 | CT132: =ROUND(AVERAGE(CR132:CS132),1) -> 1074692
A133: 7.4 | B133: BLOQUEOS PUERTAS | C133: 216877.5 | D133: 579892.95 | E133: =ROUND(AVERAGE(C133:D133),1) -> 398385.2 | F133: 200812.5 | G133: 579892.95 | H133: =ROUND(AVERAGE(F133:G133),1) -> 390352.7 | I133: 208845 | J133: 579892.95 | K133: =ROUND(AVERAGE(I133:J133),1) -> 394369 | L133: 273105 | M133: 594390.27 | N133: =ROUND(AVERAGE(L133:M133),1) -> 433747.6 | O133: 273105 | P133: 624109.79 | Q133: =ROUND(AVERAGE(O133:P133),1) -> 448607.4 | R133: 329332.5 | S133: 686520.77 | T133: =ROUND(AVERAGE(R133:S133),1) -> 507926.6 | U133: 273105 | V133: 600189.2 | W133: =ROUND(AVERAGE(U133:V133),1) -> 436647.1 | X133: 345397.5 | Y133: 598416 | Z133: =ROUND(AVERAGE(X133:Y133),1) -> 471906.8 | AA133: 345397.5 | AB133: 598416 | AC133: =ROUND(AVERAGE(AA133:AB133),1) -> 471906.8 | AD133: 425722.5 | AE133: 831281.64 | AF133: =ROUND(AVERAGE(AD133:AE133),1) -> 628502.1 | AG133: 216877.5 | AH133: 703683.79 | AI133: =ROUND(AVERAGE(AG133:AH133),1) -> 460280.6 | AJ133: 337365 | AK133: 810499.6 | AL133: =ROUND(AVERAGE(AJ133:AK133),1) -> 573932.3 | AM133: 321300 | AN133: 311998.96 | AO133: =ROUND(AVERAGE(AM133:AN133),1) -> 316649.5 | AP133: 297202.5 | AQ133: 729917.92 | AR133: =ROUND(AVERAGE(AP133:AQ133),1) -> 513560.2 | AS133: 345397.5 | AT133: 316678.94 | AU133: =ROUND(AVERAGE(AS133:AT133),1) -> 331038.2 | AV133: 345397.5 | AW133: 755465.04 | AX133: =ROUND(AVERAGE(AV133:AW133),1) -> 550431.3 | AY133: 345397.5 | AZ133: 778128.99 | BA133: =ROUND(AVERAGE(AY133:AZ133),1) -> 561763.2 | BB133: 273105 | BC133: 614686.53 | BD133: =ROUND(AVERAGE(BB133:BC133),1) -> 443895.8 | BE133: 345397.5 | BF133: 778128.99 | BG133: =ROUND(AVERAGE(BE133:BF133),1) -> 561763.2 | BH133: 273105 | BI133: 623906.82 | BJ133: =ROUND(AVERAGE(BH133:BI133),1) -> 448505.9 | BK133: 216877.5 | BL133: 623906.82 | BM133: =ROUND(AVERAGE(BK133:BL133),1) -> 420392.2 | BN133: 216877.5 | BO133: 595840.01 | BP133: =ROUND(AVERAGE(BN133:BO133),1) -> 406358.8 | BQ133: 216877.5 | BR133: 588591.34 | BS133: =ROUND(AVERAGE(BQ133:BR133),1) -> 402734.4 | BT133: 273105 | BU133: 598891.69 | BV133: =ROUND(AVERAGE(BT133:BU133),1) -> 435998.3 | BW133: 273105 | BX133: 589908.32 | BY133: =ROUND(AVERAGE(BW133:BX133),1) -> 431506.7 | BZ133: 385560 | CA133: 877833.41 | CB133: =ROUND(AVERAGE(BZ133:CA133),1) -> 631696.7 | CC133: 345397.5 | CD133: 864665.91 | CE133: =ROUND(AVERAGE(CC133:CD133),1) -> 605031.7 | CF133: 385560 | CG133: 871249.66 | CH133: =ROUND(AVERAGE(CF133:CG133),1) -> 628404.8 | CI133: 345397.5 | CJ133: 864665.91 | CK133: =ROUND(AVERAGE(CI133:CJ133),1) -> 605031.7 | CL133: 345397.5 | CM133: 921725.08 | CN133: =ROUND(AVERAGE(CL133:CM133),1) -> 633561.3 | CO133: 345397.5 | CP133: 905594.89 | CQ133: =ROUND(AVERAGE(CO133:CP133),1) -> 625496.2 | CR133: 345397.5 | CS133: 949376.83 | CT133: =ROUND(AVERAGE(CR133:CS133),1) -> 647387.2
