Workbook

Sheet Repuestos Específicos
A1: SUBDIRECCIÓN REGIONAL DE APOYO DEL PACÍFICO | D1: Prestar el servicio de mantenimiento preventivo y correctivo con suministro de repuestos, de los vehículos automotores adscritos a la Fiscalía General de la Nación -Subdirección Regional del Pacifico (Lote 3)
B2: PRECIOS TECHO LOTE 3 | C2: REPUESTOS VEHICULOS MULTIMARCAS MANTENIMIENTO VEHICULOS | R2: REPUESTOS VEHICULOS MULTIMARCAS MANTENIMIENTO VEHICULOS | AG2: REPUESTOS VEHICULOS MULTIMARCAS MANTENIMIENTO VEHICULOS | AV2: REPUESTOS VEHICULOS MULTIMARCAS MANTENIMIENTO VEHICULOS | BK2: REPUESTOS VEHICULOS MULTIMARCAS MANTENIMIENTO VEHICULOS | BZ2: REPUESTOS VEHICULOS MULTIMARCAS MANTENIMIENTO VEHICULOS | CO2: REPUESTOS VEHICULOS MULTIMARCAS MANTENIMIENTO VEHICULOS
C3: ***Todos los precios incluyen IVA, Costos Directos e Indirectos y están expresados en pesos colombianos | R3: *** Todos los precios incluyen IVA, Costos Directos e Indirectos | AG3: *** Todos los precios incluyen IVA, Costos Directos e Indirectos | AV3: *** Todos los precios incluyen IVA, Costos Directos e Indirectos | BK3: *** Todos los precios incluyen IVA, Costos Directos e Indirectos | BZ3: *** Todos los precios incluyen IVA, Costos Directos e Indirectos | CO3: *** Todos los precios incluyen IVA, Costos Directos e Indirectos
B4: DESCRIPCION | C4: CHEVROLET AVEO 1.6 MOD. 2012 | F4: CHEVROLET CHEVY TAXY 1.3 MOD. 2000 | I4: CHEVROLET CORSA 1.6 MOD. 2005 | L4: CHEVROLET SONIC MOD. 2016 | O4: CHEVROLET TRACKER 1.8 MOD. 2016 | R4: CHEVROLET TRACKER 1.2 MOD. 2025 | U4: CHEVROLET VITARA 1.6 MOD. 2011 | X4: CHEVROLET D-MAX 3.0 | AA4: CHEVROLET D-MAX 2.5 | AD4: DODGE RAM 2500 MOD. 2014 | AG4: FORD FIESTA 1.6 MOD. 2014 | AJ4: CAMIONETA JAC HFC1040KN MOD. 2017 | AM4: JEEP WRANGLER MOD. 1998 | AP4: CAMIONETA MAZDA B26C47 | AS4: MITSUBISHI MONTERO L146 | AV4: NISSAN FRONTIER D22 | AY4: NISSAN FRONTIER NP300 2.5 | BB4: NISSAN KICKS MOD. 2022 | BE4: NISSAN NAVARA | BH4: NISSAN V-DRIVE MOD. 2024 | BK4: NISSAN VERSA | BN4: RENAULT LOGAN | BQ4: RENAULT STPWAY | BT4: RENAULT DUSTER / OROCH 2.0 | BW4: RENAULT DUSTER 1.4 | BZ4: TOYOTA FORTUNER 2.4 MOD. 2024 | CC4: TOYOTA FORTUNER 4.0 GAS. MOD. 2011 | CF4: TOYOTA HILUX 2.4 DIESEL MOD. 2020 | CI4: TOYOTA LAND CRUISER 200 MOD. 2013 | CL4: TOYOTA PRADO 4.0 GAS. | CO4: TOYOTA PRADO 3.0 DIE | CR4: TOYOTA PRADO TXL
C5: Cotización 1 (Incl. IVA) | D5: Cotización 2 (Incl. IVA) | E5: Precios Techo (Incl. IVA) | F5: Cotización 1 (Incl. IVA) | G5: Cotización 2 (Incl. IVA) | H5: Precios Techo (Incl. IVA) | I5: Cotización 1 (Incl. IVA) | J5: Cotización 2 (Incl. IVA) | K5: Precios Techo (Incl. IVA) | L5: Cotización 1 (Incl. IVA) | M5: Cotización 2 (Incl. IVA) | N5: Precios Techo (Incl. IVA) | O5: Cotización 1 (Incl. IVA) | P5: Cotización 2 (Incl. IVA) | Q5: Precios Techo (Incl. IVA) | R5: Cotización 1 (Incl. IVA) | S5: Cotización 2 (Incl. IVA) | T5: Precios Techo (Incl. IVA) | U5: Cotización 1 (Incl. IVA) | V5: Cotización 2 (Incl. IVA) | W5: Precios Techo (Incl. IVA) | X5: Cotización 1 (Incl. IVA) | Y5: Cotización 2 (Incl. IVA) | Z5: Precios Techo (Incl. IVA) | AA5: Cotización 1 (Incl. IVA) | AB5: Cotización 2 (Incl. IVA) | AC5: Precios Techo (Incl. IVA) | AD5: Cotización 1 (Incl. IVA) | AE5: Cotización 2 (Incl. IVA) | AF5: Precios Techo (Incl. IVA) | AG5: Cotización 1 (Incl. IVA) | AH5: Cotización 2 (Incl. IVA) | AI5: Precios Techo (Incl. IVA) | AJ5: Cotización 1 (Incl. IVA) | AK5: Cotización 2 (Incl. IVA) | AL5: Precios Techo (Incl. IVA) | AM5: Cotización 1 (Incl. IVA) | AN5: Cotización 2 (Incl. IVA) | AO5: Precios Techo (Incl. IVA) | AP5: Cotización 1 (Incl. IVA) | AQ5: Cotización 2 (Incl. IVA) | AR5: Precios Techo (Incl. IVA) | AS5: Cotización 1 (Incl. IVA) | AT5: Cotización 2 (Incl. IVA) | AU5: Precios Techo (Incl. IVA) | AV5: Cotización 1 (Incl. IVA) | AW5: Cotización 2 (Incl. IVA) | AX5: Precios Techo (Incl. IVA) | AY5: Cotización 1 (Incl. IVA) | AZ5: Cotización 2 (Incl. IVA) | BA5: Precios Techo (Incl. IVA) | BB5: Cotización 1 (Incl. IVA) | BC5: Cotización 2 (Incl. IVA) | BD5: Precios Techo (Incl. IVA) | BE5: Cotización 1 (Incl. IVA) | BF5: Cotización 2 (Incl. IVA) | BG5: Precios Techo (Incl. IVA) | BH5: Cotización 1 (Incl. IVA) | BI5: Cotización 2 (Incl. IVA) | BJ5: Precios Techo (Incl. IVA) | BK5: Cotización 1 (Incl. IVA) | BL5: Cotización 2 (Incl. IVA) | BM5: Precios Techo (Incl. IVA) | BN5: Cotización 1 (Incl. IVA) | BO5: Cotización 2 (Incl. IVA) | BP5: Precios Techo (Incl. IVA) | BQ5: Cotización 1 (Incl. IVA) | BR5: Cotización 2 (Incl. IVA) | BS5: Precios Techo (Incl. IVA) | BT5: Cotización 1 (Incl. IVA) | BU5: Cotización 2 (Incl. IVA) | BV5: Precios Techo (Incl. IVA) | BW5: Cotización 1 (Incl. IVA) | BX5: Cotización 2 (Incl. IVA) | BY5: Precios Techo (Incl. IVA) | BZ5: Cotización 1 (Incl. IVA) | CA5: Cotización 2 (Incl. IVA) | CB5: Precios Techo (Incl. IVA) | CC5: Cotización 1 (Incl. IVA) | CD5: Cotización 2 (Incl. IVA) | CE5: Precios Techo (Incl. IVA) | CF5: Cotización 1 (Incl. IVA) | CG5: Cotización 2 (Incl. IVA) | CH5: Precios Techo (Incl. IVA) | CI5: Cotización 1 (Incl. IVA) | CJ5: Cotización 2 (Incl. IVA) | CK5: Precios Techo (Incl. IVA) | CL5: Cotización 1 (Incl. IVA) | CM5: Cotización 2 (Incl. IVA) | CN5: Precios Techo (Incl. IVA) | CO5: Cotización 1 (Incl. IVA) | CP5: Cotización 2 (Incl. IVA) | CQ5: Precios Techo (Incl. IVA) | CR5: Cotización 1 (Incl. IVA) | CS5: Cotización 2 (Incl. IVA) | CT5: Precios Techo (Incl. IVA)
A6: 1 | B6: FRENOS | C6: 0 | D6: 0 | E6: 0 | F6: 0 | G6: 0 | H6: 0 | I6: 0 | J6: 0 | K6: 0 | L6: 0 | M6: 0 | N6: 0 | O6: 0 | P6: 0 | Q6: 0 | R6: 0 | S6: 0 | T6: 0 | U6: 0 | V6: 0 | W6: 0 | X6: 0 | Y6: 0 | Z6: 0 | AA6: 0 | AB6: 0 | AC6: 0 | AD6: 0 | AE6: 0 | AF6: 0 | AG6: 0 | AH6: 0 | AI6: 0 | AJ6: 0 | AK6: 0 | AL6: 0 | AM6: 0 | AN6: 0 | AO6: 0 | AP6: 0 | AQ6: 0 | AR6: 0 | AS6: 0 | AT6: 0 | AU6: 0 | AV6: 0 | AW6: 0 | AX6: 0 | AY6: 0 | AZ6: 0 | BA6: 0 | BB6: 0 | BC6: 0 | BD6: 0 | BE6: 0 | BF6: 0 | BG6: 0 | BH6: 0 | BI6: 0 | BJ6: 0 | BK6: 0 | BL6: 0 | BM6: 0 | BN6: 0 | BO6: 0 | BP6: 0 | BQ6: 0 | BR6: 0 | BS6: 0 | BT6: 0 | BU6: 0 | BV6: 0 | BW6: 0 | BX6: 0 | BY6: 0 | BZ6: 0 | CA6: 0 | CB6: 0 | CC6: 0 | CD6: 0 | CE6: 0 | CF6: 0 | CG6: 0 | CH6: 0 | CI6: 0 | CJ6: 0 | CK6: 0 | CL6: 0 | CM6: 0 | CN6: 0 | CO6: 0 | CP6: 0 | CQ6: 0 | CR6: 0 | CS6: 0 | CT6: 0
A7: 1.1 | B7: ANTIRRUIDOS PASTILLAS (JUEGO) | C7: 33320 | D7: 77350 | E7: =ROUND(AVERAGE(C7:D7),1) -> 55335 | F7: 33320 | G7: 77707.12 | H7: =ROUND(AVERAGE(F7:G7),1) -> 55513.6 | I7: 33320 | J7: 77528.56 | K7: =ROUND(AVERAGE(I7:J7),1) -> 55424.3 | L7: 33320 | M7: 79675.024 | N7: =ROUND(AVERAGE(L7:M7),1) -> 56497.5 | O7: 41650 | P7: 79315.275 | Q7: =ROUND(AVERAGE(O7:P7),1) -> 60482.6 | R7: 41650 | S7: 80225.803 | T7: =ROUND(AVERAGE(R7:S7),1) -> 60937.9 | U7: 41650 | V7: 80057.25 | W7: =ROUND(AVERAGE(U7:V7),1) -> 60853.6 | X7: 41650 | Y7: 77350 | Z7: =ROUND(AVERAGE(X7:Y7),1) -> 59500 | AA7: 41650 | AB7: 79283.75 | AC7: =ROUND(AVERAGE(AA7:AB7),1) -> 60466.9 | AD7: 41650 | AE7: 77350 | AF7: =ROUND(AVERAGE(AD7:AE7),1) -> 59500 | AG7: 33320 | AH7: 77350 | AI7: =ROUND(AVERAGE(AG7:AH7),1) -> 55335 | AJ7: 41650 | AK7: 77350 | AL7: =ROUND(AVERAGE(AJ7:AK7),1) -> 59500 | AM7: 41650 | AN7: 102864.86 | AO7: =ROUND(AVERAGE(AM7:AN7),1) -> 72257.4 | AP7: 41650 | AQ7: 79283.75 | AR7: =ROUND(AVERAGE(AP7:AQ7),1) -> 60466.9 | AS7: 41650 | AT7: 104407.83 | AU7: =ROUND(AVERAGE(AS7:AT7),1) -> 73028.9 | AV7: 41650 | AW7: 82058.681 | AX7: =ROUND(AVERAGE(AV7:AW7),1) -> 61854.3 | AY7: 41650 | AZ7: 84520.442 | BA7: =ROUND(AVERAGE(AY7:AZ7),1) -> 63085.2 | BB7: 41650 | BC7: 81991 | BD7: =ROUND(AVERAGE(BB7:BC7),1) -> 61820.5 | BE7: 41650 | BF7: 84520.442 | BG7: =ROUND(AVERAGE(BE7:BF7),1) -> 63085.2 | BH7: 33320 | BI7: 83220.865 | BJ7: =ROUND(AVERAGE(BH7:BI7),1) -> 58270.4 | BK7: 33320 | BL7: 78460.865 | BM7: =ROUND(AVERAGE(BK7:BL7),1) -> 55890.4 | BN7: 33320 | BO7: 79477.125 | BP7: =ROUND(AVERAGE(BN7:BO7),1) -> 56398.6 | BQ7: 33320 | BR7: 95782.627 | BS7: =ROUND(AVERAGE(BQ7:BR7),1) -> 64551.3 | BT7: 41650 | BU7: 97458.823 | BV7: =ROUND(AVERAGE(BT7:BU7),1) -> 69554.4 | BW7: 41650 | BX7: 95996.941 | BY7: =ROUND(AVERAGE(BW7:BX7),1) -> 68823.5 | BZ7: 41650 | CA7: 81681.6 | CB7: =ROUND(AVERAGE(BZ7:CA7),1) -> 61665.8 | CC7: 42245 | CD7: 80456.376 | CE7: =ROUND(AVERAGE(CC7:CD7),1) -> 61350.7 | CF7: 41650 | CG7: 81068.988 | CH7: =ROUND(AVERAGE(CF7:CG7),1) -> 61359.5 | CI7: 42245 | CJ7: 80456.376 | CK7: =ROUND(AVERAGE(CI7:CJ7),1) -> 61350.7 | CL7: 42245 | CM7: 85765.68 | CN7: =ROUND(AVERAGE(CL7:CM7),1) -> 64005.3 | CO7: 42245 | CP7: 84264.781 | CQ7: =ROUND(AVERAGE(CO7:CP7),1) -> 63254.9 | CR7: 42245 | CS7: 88338.65 | CT7: =ROUND(AVERAGE(CR7:CS7),1) -> 65291.8
A8: 1.2 | B8: BANDAS DE FRENO ( JUEGO) | C8: 133280 | D8: 315512.49 | E8: =ROUND(AVERAGE(C8:D8),1) -> 224396.2 | F8: 124950 | G8: 298982.07 | H8: =ROUND(AVERAGE(F8:G8),1) -> 211966 | I8: 124950 | J8: 307247.28 | K8: =ROUND(AVERAGE(I8:J8),1) -> 216098.6 | L8: 158270 | M8: 314928.46 | N8: =ROUND(AVERAGE(L8:M8),1) -> 236599.2 | O8: 166600 | P8: 330674.89 | Q8: =ROUND(AVERAGE(O8:P8),1) -> 248637.4 | R8: 192780 | S8: 363742.38 | T8: =ROUND(AVERAGE(R8:S8),1) -> 278261.2 | U8: 166600 | V8: 326555.43 | W8: =ROUND(AVERAGE(U8:V8),1) -> 246577.7 | X8: 208845 | Y8: 465182.87 | Z8: =ROUND(AVERAGE(X8:Y8),1) -> 337013.9 | AA8: 208845 | AB8: 476812.44 | AC8: =ROUND(AVERAGE(AA8:AB8),1) -> 342828.7 | AD8: 249007.5 | AE8: 370154.21 | AF8: =ROUND(AVERAGE(AD8:AE8),1) -> 309580.9 | AG8: 133280 | AH8: 372835.94 | AI8: =ROUND(AVERAGE(AG8:AH8),1) -> 253058 | AJ8: 200812.5 | AK8: 508444.87 | AL8: =ROUND(AVERAGE(AJ8:AK8),1) -> 354628.7 | AM8: 192780 | AN8: 353262.04 | AO8: =ROUND(AVERAGE(AM8:AN8),1) -> 273021 | AP8: 176715 | AQ8: 476812.44 | AR8: =ROUND(AVERAGE(AP8:AQ8),1) -> 326763.7 | AS8: 208845 | AT8: 358560.97 | AU8: =ROUND(AVERAGE(AS8:AT8),1) -> 283703 | AV8: 208845 | AW8: 493500.87 | AX8: =ROUND(AVERAGE(AV8:AW8),1) -> 351172.9 | AY8: 208845 | AZ8: 508305.9 | BA8: =ROUND(AVERAGE(AY8:AZ8),1) -> 358575.4 | BB8: 166600 | BC8: 334443.24 | BD8: =ROUND(AVERAGE(BB8:BC8),1) -> 250521.6 | BE8: 208845 | BF8: 508305.9 | BG8: =ROUND(AVERAGE(BE8:BF8),1) -> 358575.4 | BH8: 166600 | BI8: 339459.89 | BJ8: =ROUND(AVERAGE(BH8:BI8),1) -> 253029.9 | BK8: 133280 | BL8: 339459.89 | BM8: =ROUND(AVERAGE(BK8:BL8),1) -> 236369.9 | BN8: 133280 | BO8: 324189.08 | BP8: =ROUND(AVERAGE(BN8:BO8),1) -> 228734.5 | BQ8: 133280 | BR8: 303466.8 | BS8: =ROUND(AVERAGE(BQ8:BR8),1) -> 218373.4 | BT8: 166600 | BU8: 308777.47 | BV8: =ROUND(AVERAGE(BT8:BU8),1) -> 237688.7 | BW8: 166600 | BX8: 304145.81 | BY8: =ROUND(AVERAGE(BW8:BX8),1) -> 235372.9 | BZ8: 232942.5 | CA8: 390882.84 | CB8: =ROUND(AVERAGE(BZ8:CA8),1) -> 311912.7 | CC8: 208845 | CD8: 385019.6 | CE8: =ROUND(AVERAGE(CC8:CD8),1) -> 296932.3 | CF8: 232942.5 | CG8: 387951.22 | CH8: =ROUND(AVERAGE(CF8:CG8),1) -> 310446.9 | CI8: 208845 | CJ8: 385019.6 | CK8: =ROUND(AVERAGE(CI8:CJ8),1) -> 296932.3 | CL8: 208845 | CM8: 410426.99 | CN8: =ROUND(AVERAGE(CL8:CM8),1) -> 309636 | CO8: 208845 | CP8: 403244.51 | CQ8: =ROUND(AVERAGE(CO8:CP8),1) -> 306044.8 | CR8: 208845 | CS8: 422739.8 | CT8: =ROUND(AVERAGE(CR8:CS8),1) -> 315792.4
A9: 1.3 | B9: BANDAS DE FRENO EMERGENCIA | C9: 133280 | D9: 315512.49 | E9: =ROUND(AVERAGE(C9:D9),1) -> 224396.2 | F9: 124950 | G9: 193065.4 | H9: =ROUND(AVERAGE(F9:G9),1) -> 159007.7 | I9: 124950 | J9: 254288.94 | K9: =ROUND(AVERAGE(I9:J9),1) -> 189619.5 | L9: 158270 | M9: 260646.17 | N9: =ROUND(AVERAGE(L9:M9),1) -> 209458.1 | O9: 166600 | P9: 273678.48 | Q9: =ROUND(AVERAGE(O9:P9),1) -> 220139.2 | R9: 192780 | S9: 301046.32 | T9: =ROUND(AVERAGE(R9:S9),1) -> 246913.2 | U9: 166600 | V9: 326555.43 | W9: =ROUND(AVERAGE(U9:V9),1) -> 246577.7 | X9: 208845 | Y9: 397016.69 | Z9: =ROUND(AVERAGE(X9:Y9),1) -> 302930.8 | AA9: 208845 | AB9: 406942.11 | AC9: =ROUND(AVERAGE(AA9:AB9),1) -> 307893.6 | AD9: 249007.5 | AE9: 370154.21 | AF9: =ROUND(AVERAGE(AD9:AE9),1) -> 309580.9 | AG9: 133280 | AH9: 308572.48 | AI9: =ROUND(AVERAGE(AG9:AH9),1) -> 220926.2 | AJ9: 200812.5 | AK9: 360900.35 | AL9: =ROUND(AVERAGE(AJ9:AK9),1) -> 280856.4 | AM9: 192780 | AN9: 221053.04 | AO9: =ROUND(AVERAGE(AM9:AN9),1) -> 206916.5 | AP9: 176715 | AQ9: 406942.11 | AR9: =ROUND(AVERAGE(AP9:AQ9),1) -> 291828.6 | AS9: 208845 | AT9: 224368.84 | AU9: =ROUND(AVERAGE(AS9:AT9),1) -> 216606.9 | AV9: 208845 | AW9: 421185.08 | AX9: =ROUND(AVERAGE(AV9:AW9),1) -> 315015 | AY9: 208845 | AZ9: 433820.63 | BA9: =ROUND(AVERAGE(AY9:AZ9),1) -> 321332.8 | BB9: 166600 | BC9: 334443.24 | BD9: =ROUND(AVERAGE(BB9:BC9),1) -> 250521.6 | BE9: 20825 | BF9: 433820.63 | BG9: =ROUND(AVERAGE(BE9:BF9),1) -> 227322.8 | BH9: 166600 | BI9: 339459.89 | BJ9: =ROUND(AVERAGE(BH9:BI9),1) -> 253029.9 | BK9: 133280 | BL9: 339459.89 | BM9: =ROUND(AVERAGE(BK9:BL9),1) -> 236369.9 | BN9: 133280 | BO9: 324189.08 | BP9: =ROUND(AVERAGE(BN9:BO9),1) -> 228734.5 | BQ9: 133280 | BR9: 195961.38 | BS9: =ROUND(AVERAGE(BQ9:BR9),1) -> 164620.7 | BT9: 166600 | BU9: 199390.7 | BV9: =ROUND(AVERAGE(BT9:BU9),1) -> 182995.4 | BW9: 166600 | BX9: 196399.84 | BY9: =ROUND(AVERAGE(BW9:BX9),1) -> 181499.9 | BZ9: 232942.5 | CA9: 390882.84 | CB9: =ROUND(AVERAGE(BZ9:CA9),1) -> 311912.7 | CC9: 208845 | CD9: 385019.6 | CE9: =ROUND(AVERAGE(CC9:CD9),1) -> 296932.3 | CF9: 232942.5 | CG9: 387951.22 | CH9: =ROUND(AVERAGE(CF9:CG9),1) -> 310446.9 | CI9: 208845 | CJ9: 385019.6 | CK9: =ROUND(AVERAGE(CI9:CJ9),1) -> 296932.3 | CL9: 208845 | CM9: 410426.99 | CN9: =ROUND(AVERAGE(CL9:CM9),1) -> 309636 | CO9: 208845 | CP9: 403244.51 | CQ9: =ROUND(AVERAGE(CO9:CP9),1) -> 306044.8 | CR9: 208845 | CS9: 422739.8 | CT9: =ROUND(AVERAGE(CR9:CS9),1) -> 315792.4
A10: 1.4 | B10: BOHOSTER FRENOS | C10: 385560 | D10: 1011500 | E10: =ROUND(AVERAGE(C10:D10),1) -> 698530 | F10: 353430 | G10: 1182035.6 | H10: =ROUND(AVERAGE(F10:G10),1) -> 767732.8 | I10: 359380 | J10: 1096767.8 | K10: =ROUND(AVERAGE(I10:J10),1) -> 728073.9 | L10: 449820 | M10: 1124187 | N10: =ROUND(AVERAGE(L10:M10),1) -> 787003.5 | O10: 473917.5 | P10: 1180396.3 | Q10: =ROUND(AVERAGE(O10:P10),1) -> 827156.9 | R10: 556920 | S10: 1298436 | T10: =ROUND(AVERAGE(R10:S10),1) -> 927678 | U10: 473917.5 | V10: 1046902.5 | W10: =ROUND(AVERAGE(U10:V10),1) -> 760410 | X10: 587860 | Y10: 2053351.5 | Z10: =ROUND(AVERAGE(X10:Y10),1) -> 1320605.8 | AA10: 587860 | AB10: 2104685.3 | AC10: =ROUND(AVERAGE(AA10:AB10),1) -> 1346272.7 | AD10: 711620 | AE10: 3834468.1 | AF10: =ROUND(AVERAGE(AD10:AE10),1) -> 2273044.1 | AG10: 385560 | AH10: 1330896.9 | AI10: =ROUND(AVERAGE(AG10:AH10),1) -> 858228.4 | AJ10: 572390 | AK10: 3738606.4 | AL10: =ROUND(AVERAGE(AJ10:AK10),1) -> 2155498.2 | AM10: 541450 | AN10: 2549240.6 | AO10: =ROUND(AVERAGE(AM10:AN10),1) -> 1545345.3 | AP10: 495040 | AQ10: 2104685.3 | AR10: =ROUND(AVERAGE(AP10:AQ10),1) -> 1299862.7 | AS10: 587860 | AT10: 2587479.2 | AU10: =ROUND(AVERAGE(AS10:AT10),1) -> 1587669.6 | AV10: 587860 | AW10: 2178349.3 | AX10: =ROUND(AVERAGE(AV10:AW10),1) -> 1383104.6 | AY10: 587860 | AZ10: 2243699.8 | BA10: =ROUND(AVERAGE(AY10:AZ10),1) -> 1415779.9 | BB10: 481950 | BC10: 1072190 | BD10: =ROUND(AVERAGE(BB10:BC10),1) -> 777070 | BE10: 587860 | BF10: 2243699.8 | BG10: =ROUND(AVERAGE(BE10:BF10),1) -> 1415779.9 | BH10: 481950 | BI10: 1088272.9 | BJ10: =ROUND(AVERAGE(BH10:BI10),1) -> 785111.4 | BK10: 385560 | BL10: 1088272.9 | BM10: =ROUND(AVERAGE(BK10:BL10),1) -> 736916.4 | BN10: 385560 | BO10: 1039316.2 | BP10: =ROUND(AVERAGE(BN10:BO10),1) -> 712438.1 | BQ10: 385560 | BR10: 1199766.1 | BS10: =ROUND(AVERAGE(BQ10:BR10),1) -> 792663 | BT10: 473917.5 | BU10: 1220762 | BV10: =ROUND(AVERAGE(BT10:BU10),1) -> 847339.7 | BW10: 473917.5 | BX10: 1202450.6 | BY10: =ROUND(AVERAGE(BW10:BX10),1) -> 838184 | BZ10: 657475 | CA10: 4049198.3 | CB10: =ROUND(AVERAGE(BZ10:CA10),1) -> 2353336.7 | CC10: 587860 | CD10: 3988460.4 | CE10: =ROUND(AVERAGE(CC10:CD10),1) -> 2288160.2 | CF10: 657475 | CG10: 4018829.4 | CH10: =ROUND(AVERAGE(CF10:CG10),1) -> 2338152.2 | CI10: 587860 | CJ10: 3988460.4 | CK10: =ROUND(AVERAGE(CI10:CJ10),1) -> 2288160.2 | CL10: 587860 | CM10: 4251658.3 | CN10: =ROUND(AVERAGE(CL10:CM10),1) -> 2419759.1 | CO10: 587860 | CP10: 4177254.2 | CQ10: =ROUND(AVERAGE(CO10:CP10),1) -> 2382557.1 | CR10: 587860 | CS10: 4379208 | CT10: =ROUND(AVERAGE(CR10:CS10),1) -> 2483534
A11: 1.5 | B11: BOMBA DE FRENOS | C11: 433755 | D11: 580001.28 | E11: =ROUND(AVERAGE(C11:D11),1) -> 506878.1 | F11: 401625 | G11: 549613.7 | H11: =ROUND(AVERAGE(F11:G11),1) -> 475619.3 | I11: 407575 | J11: 564807.49 | K11: =ROUND(AVERAGE(I11:J11),1) -> 486191.2 | L11: 495040 | M11: 578927.68 | N11: =ROUND(AVERAGE(L11:M11),1) -> 536983.8 | O11: 518245 | P11: 607874.06 | Q11: =ROUND(AVERAGE(O11:P11),1) -> 563059.5 | R11: 634270 | S11: 668661.47 | T11: =ROUND(AVERAGE(R11:S11),1) -> 651465.7 | U11: 518245 | V11: 600301.33 | W11: =ROUND(AVERAGE(U11:V11),1) -> 559273.2 | X11: 665210 | Y11: 674948.92 | Z11: =ROUND(AVERAGE(X11:Y11),1) -> 670079.5 | AA11: 665210 | AB11: 691822.65 | AC11: =ROUND(AVERAGE(AA11:AB11),1) -> 678516.3 | AD11: 819910 | AE11: 1335775.6 | AF11: =ROUND(AVERAGE(AD11:AE11),1) -> 1077842.8 | AG11: 433755 | AH11: 685378 | AI11: =ROUND(AVERAGE(AG11:AH11),1) -> 559566.5 | AJ11: 649740 | AK11: 1302381.2 | AL11: =ROUND(AVERAGE(AJ11:AK11),1) -> 976060.6 | AM11: 611065 | AN11: 482581.43 | AO11: =ROUND(AVERAGE(AM11:AN11),1) -> 546823.2 | AP11: 572390 | AQ11: 691822.65 | AR11: =ROUND(AVERAGE(AP11:AQ11),1) -> 632106.3 | AS11: 665210 | AT11: 489820.15 | AU11: =ROUND(AVERAGE(AS11:AT11),1) -> 577515.1 | AV11: 665210 | AW11: 716036.44 | AX11: =ROUND(AVERAGE(AV11:AW11),1) -> 690623.2 | AY11: 665210 | AZ11: 737517.53 | BA11: =ROUND(AVERAGE(AY11:AZ11),1) -> 701363.8 | BB11: 525980 | BC11: 614801.36 | BD11: =ROUND(AVERAGE(BB11:BC11),1) -> 570390.7 | BE11: 665210 | BF11: 737517.53 | BG11: =ROUND(AVERAGE(BE11:BF11),1) -> 701363.8 | BH11: 525980 | BI11: 624023.38 | BJ11: =ROUND(AVERAGE(BH11:BI11),1) -> 575001.7 | BK11: 433755 | BL11: 624023.38 | BM11: =ROUND(AVERAGE(BK11:BL11),1) -> 528889.2 | BN11: 433755 | BO11: 595951.32 | BP11: =ROUND(AVERAGE(BN11:BO11),1) -> 514853.2 | BQ11: 433755 | BR11: 557857.9 | BS11: =ROUND(AVERAGE(BQ11:BR11),1) -> 495806.5 | BT11: 518245 | BU11: 567620.42 | BV11: =ROUND(AVERAGE(BT11:BU11),1) -> 542932.7 | BW11: 518245 | BX11: 559106.11 | BY11: =ROUND(AVERAGE(BW11:BX11),1) -> 538675.6 | BZ11: 750295 | CA11: 1410579 | CB11: =ROUND(AVERAGE(BZ11:CA11),1) -> 1080437 | CC11: 665210 | CD11: 1389420.3 | CE11: =ROUND(AVERAGE(CC11:CD11),1) -> 1027315.2 | CF11: 750295 | CG11: 1399999.7 | CH11: =ROUND(AVERAGE(CF11:CG11),1) -> 1075147.3 | CI11: 665210 | CJ11: 1389420.3 | CK11: =ROUND(AVERAGE(CI11:CJ11),1) -> 1027315.2 | CL11: 665210 | CM11: 1481108 | CN11: =ROUND(AVERAGE(CL11:CM11),1) -> 1073159 | CO11: 665210 | CP11: 1455188.6 | CQ11: =ROUND(AVERAGE(CO11:CP11),1) -> 1060199.3 | CR11: 665210 | CS11: 1525541.2 | CT11: =ROUND(AVERAGE(CR11:CS11),1) -> 1095375.6
A12: 1.6 | B12: CAMPANA FRENO | C12: 329332.5 | D12: 463499.45 | E12: =ROUND(AVERAGE(C12:D12),1) -> 396416 | F12: 305235 | G12: 439215.66 | H12: =ROUND(AVERAGE(F12:G12),1) -> 372225.3 | I12: 430185 | J12: 451357.56 | K12: =ROUND(AVERAGE(I12:J12),1) -> 440771.3 | L12: 385560 | M12: 462641.5 | N12: =ROUND(AVERAGE(L12:M12),1) -> 424100.7 | O12: 401625 | P12: 485773.57 | Q12: =ROUND(AVERAGE(O12:P12),1) -> 443699.3 | R12: 479570 | S12: 534350.93 | T12: =ROUND(AVERAGE(R12:S12),1) -> 506960.5 | U12: 401625 | V12: 479721.94 | W12: =ROUND(AVERAGE(U12:V12),1) -> 440673.5 | X12: 502775 | Y12: 657614.2 | Z12: =ROUND(AVERAGE(X12:Y12),1) -> 580194.6 | AA12: 502775 | AB12: 674054.55 | AC12: =ROUND(AVERAGE(AA12:AB12),1) -> 588414.8 | AD12: 611065 | AE12: 762888.56 | AF12: =ROUND(AVERAGE(AD12:AE12),1) -> 686976.8 | AG12: 329332.5 | AH12: 547709.7 | AI12: =ROUND(AVERAGE(AG12:AH12),1) -> 438521.1 | AJ12: 487305 | AK12: 743816.35 | AL12: =ROUND(AVERAGE(AJ12:AK12),1) -> 615560.7 | AM12: 481950 | AN12: 430052.78 | AO12: =ROUND(AVERAGE(AM12:AN12),1) -> 456001.4 | AP12: 441787.5 | AQ12: 674054.55 | AR12: =ROUND(AVERAGE(AP12:AQ12),1) -> 557921 | AS12: 502775 | AT12: 436503.57 | AU12: =ROUND(AVERAGE(AS12:AT12),1) -> 469639.3 | AV12: 502775 | AW12: 697646.46 | AX12: =ROUND(AVERAGE(AV12:AW12),1) -> 600210.7 | AY12: 502775 | AZ12: 718575.86 | BA12: =ROUND(AVERAGE(AY12:AZ12),1) -> 610675.4 | BB12: 409657.5 | BC12: 491309.42 | BD12: =ROUND(AVERAGE(BB12:BC12),1) -> 450483.5 | BE12: 502775 | BF12: 718575.86 | BG12: =ROUND(AVERAGE(BE12:BF12),1) -> 610675.4 | BH12: 409657.5 | BI12: 498679.06 | BJ12: =ROUND(AVERAGE(BH12:BI12),1) -> 454168.3 | BK12: 329332.5 | BL12: 498679.06 | BM12: =ROUND(AVERAGE(BK12:BL12),1) -> 414005.8 | BN12: 329332.5 | BO12: 476245.69 | BP12: =ROUND(AVERAGE(BN12:BO12),1) -> 402789.1 | BQ12: 447737.5 | BR12: 445803.9 | BS12: =ROUND(AVERAGE(BQ12:BR12),1) -> 446770.7 | BT12: 401625 | BU12: 453605.47 | BV12: =ROUND(AVERAGE(BT12:BU12),1) -> 427615.2 | BW12: 401625 | BX12: 446801.38 | BY12: =ROUND(AVERAGE(BW12:BX12),1) -> 424213.2 | BZ12: 564655 | CA12: 805610.32 | CB12: =ROUND(AVERAGE(BZ12:CA12),1) -> 685132.7 | CC12: 502775 | CD12: 793526.17 | CE12: =ROUND(AVERAGE(CC12:CD12),1) -> 648150.6 | CF12: 564655 | CG12: 799568.24 | CH12: =ROUND(AVERAGE(CF12:CG12),1) -> 682111.6 | CI12: 502775 | CJ12: 793526.17 | CK12: =ROUND(AVERAGE(CI12:CJ12),1) -> 648150.6 | CL12: 502775 | CM12: 845890.84 | CN12: =ROUND(AVERAGE(CL12:CM12),1) -> 674332.9 | CO12: 502775 | CP12: 831087.75 | CQ12: =ROUND(AVERAGE(CO12:CP12),1) -> 666931.4 | CR12: 502775 | CS12: 871267.56 | CT12: =ROUND(AVERAGE(CR12:CS12),1) -> 687021.3
A13: 1.7 | B13: CILINDRO FRENO TRASERO | C13: 124950 | D13: 241302.42 | E13: =ROUND(AVERAGE(C13:D13),1) -> 183126.2 | F13: 116620 | G13: 228660.04 | H13: =ROUND(AVERAGE(F13:G13),1) -> 172640 | I13: 122570 | J13: 234981.23 | K13: =ROUND(AVERAGE(I13:J13),1) -> 178775.6 | L13: 149940 | M13: 240855.76 | N13: =ROUND(AVERAGE(L13:M13),1) -> 195397.9 | O13: 158270 | P13: 252898.55 | Q13: =ROUND(AVERAGE(O13:P13),1) -> 205584.3 | R13: 184747.5 | S13: 278188.4 | T13: =ROUND(AVERAGE(R13:S13),1) -> 231468 | U13: 158270 | V13: 249748.01 | W13: =ROUND(AVERAGE(U13:V13),1) -> 204009 | X13: 192780 | Y13: 280210.35 | Z13: =ROUND(AVERAGE(X13:Y13),1) -> 236495.2 | AA13: 192780 | AB13: 287215.61 | AC13: =ROUND(AVERAGE(AA13:AB13),1) -> 239997.8 | AD13: 240975 | AE13: 416302.68 | AF13: =ROUND(AVERAGE(AD13:AE13),1) -> 328638.8 | AG13: 124950 | AH13: 285143.11 | AI13: =ROUND(AVERAGE(AG13:AH13),1) -> 205046.6 | AJ13: 192780 | AK13: 405895.11 | AL13: =ROUND(AVERAGE(AJ13:AK13),1) -> 299337.6 | AM13: 176715 | AN13: 230084.41 | AO13: =ROUND(AVERAGE(AM13:AN13),1) -> 203399.7 | AP13: 168682.5 | AQ13: 287215.61 | AR13: =ROUND(AVERAGE(AP13:AQ13),1) -> 227949.1 | AS13: 192780 | AT13: 233535.68 | AU13: =ROUND(AVERAGE(AS13:AT13),1) -> 213157.8 | AV13: 192780 | AW13: 297268.16 | AX13: =ROUND(AVERAGE(AV13:AW13),1) -> 245024.1 | AY13: 192780 | AZ13: 306186.2 | BA13: =ROUND(AVERAGE(AY13:AZ13),1) -> 249483.1 | BB13: 158270 | BC13: 255780.57 | BD13: =ROUND(AVERAGE(BB13:BC13),1) -> 207025.3 | BE13: 192780 | BF13: 306186.2 | BG13: =ROUND(AVERAGE(BE13:BF13),1) -> 249483.1 | BH13: 158270 | BI13: 259617.28 | BJ13: =ROUND(AVERAGE(BH13:BI13),1) -> 208943.6 | BK13: 124950 | BL13: 259617.28 | BM13: =ROUND(AVERAGE(BK13:BL13),1) -> 192283.6 | BN13: 124950 | BO13: 247938.24 | BP13: =ROUND(AVERAGE(BN13:BO13),1) -> 186444.1 | BQ13: 124950 | BR13: 232089.94 | BS13: =ROUND(AVERAGE(BQ13:BR13),1) -> 178520 | BT13: 158270 | BU13: 236151.51 | BV13: =ROUND(AVERAGE(BT13:BU13),1) -> 197210.8 | BW13: 158270 | BX13: 232609.24 | BY13: =ROUND(AVERAGE(BW13:BX13),1) -> 195439.6 | BZ13: 216877.5 | CA13: 439615.63 | CB13: =ROUND(AVERAGE(BZ13:CA13),1) -> 328246.6 | CC13: 192780 | CD13: 433021.4 | CE13: =ROUND(AVERAGE(CC13:CD13),1) -> 312900.7 | CF13: 216877.5 | CG13: 436318.51 | CH13: =ROUND(AVERAGE(CF13:CG13),1) -> 326598 | CI13: 192780 | CJ13: 433021.4 | CK13: =ROUND(AVERAGE(CI13:CJ13),1) -> 312900.7 | CL13: 192780 | CM13: 461596.41 | CN13: =ROUND(AVERAGE(CL13:CM13),1) -> 327188.2 | CO13: 192780 | CP13: 453518.48 | CQ13: =ROUND(AVERAGE(CO13:CP13),1) -> 323149.2 | CR13: 192780 | CS13: 475444.31 | CT13: =ROUND(AVERAGE(CR13:CS13),1) -> 334112.2
A14: 1.8 | B14: DISCO FRENO DELANTERO | C14: 257040 | D14: 397610.94 | E14: =ROUND(AVERAGE(C14:D14),1) -> 327325.5 | F14: 240975 | G14: 376779.2 | H14: =ROUND(AVERAGE(F14:G14),1) -> 308877.1 | I14: 246925 | J14: 387195.07 | K14: =ROUND(AVERAGE(I14:J14),1) -> 317060 | L14: 305235 | M14: 396874.95 | N14: =ROUND(AVERAGE(L14:M14),1) -> 351055 | O14: 321300 | P14: 416718.7 | Q14: =ROUND(AVERAGE(O14:P14),1) -> 369009.3 | R14: 393592.5 | S14: 458390.57 | T14: =ROUND(AVERAGE(R14:S14),1) -> 425991.5 | U14: 321300 | V14: 411527.33 | W14: =ROUND(AVERAGE(U14:V14),1) -> 366413.7 | X14: 409657.5 | Y14: 690890.43 | Z14: =ROUND(AVERAGE(X14:Y14),1) -> 550274 | AA14: 409657.5 | AB14: 708162.69 | AC14: =ROUND(AVERAGE(AA14:AB14),1) -> 558910.1 | AD14: 487305 | AE14: 893191.62 | AF14: =ROUND(AVERAGE(AD14:AE14),1) -> 690248.3 | AG14: 257040 | AH14: 469850.33 | AI14: =ROUND(AVERAGE(AG14:AH14),1) -> 363445.2 | AJ14: 401625 | AK14: 870861.83 | AL14: =ROUND(AVERAGE(AJ14:AK14),1) -> 636243.4 | AM14: 377527.5 | AN14: 467028.49 | AO14: =ROUND(AVERAGE(AM14:AN14),1) -> 422278 | AP14: 353430 | AQ14: 708162.69 | AR14: =ROUND(AVERAGE(AP14:AQ14),1) -> 530796.3 | AS14: 409657.5 | AT14: 474033.92 | AU14: =ROUND(AVERAGE(AS14:AT14),1) -> 441845.7 | AV14: 409657.5 | AW14: 732948.39 | AX14: =ROUND(AVERAGE(AV14:AW14),1) -> 571302.9 | AY14: 409657.5 | AZ14: 754936.84 | BA14: =ROUND(AVERAGE(AY14:AZ14),1) -> 582297.2 | BB14: 321300 | BC14: 421467.6 | BD14: =ROUND(AVERAGE(BB14:BC14),1) -> 371383.8 | BE14: 409657.5 | BF14: 754936.84 | BG14: =ROUND(AVERAGE(BE14:BF14),1) -> 582297.2 | BH14: 321300 | BI14: 427789.61 | BJ14: =ROUND(AVERAGE(BH14:BI14),1) -> 374544.8 | BK14: 257040 | BL14: 427789.61 | BM14: =ROUND(AVERAGE(BK14:BL14),1) -> 342414.8 | BN14: 257040 | BO14: 408545.24 | BP14: =ROUND(AVERAGE(BN14:BO14),1) -> 332792.6 | BQ14: 257040 | BR14: 382430.89 | BS14: =ROUND(AVERAGE(BQ14:BR14),1) -> 319735.4 | BT14: 321300 | BU14: 389123.43 | BV14: =ROUND(AVERAGE(BT14:BU14),1) -> 355211.7 | BW14: 321300 | BX14: 383286.58 | BY14: =ROUND(AVERAGE(BW14:BX14),1) -> 352293.3 | BZ14: 457852.5 | CA14: 943210.35 | CB14: =ROUND(AVERAGE(BZ14:CA14),1) -> 700531.4 | CC14: 409657.5 | CD14: 929062.19 | CE14: =ROUND(AVERAGE(CC14:CD14),1) -> 669359.8 | CF14: 457852.5 | CG14: 936136.27 | CH14: =ROUND(AVERAGE(CF14:CG14),1) -> 696994.4 | CI14: 409657.5 | CJ14: 929062.19 | CK14: =ROUND(AVERAGE(CI14:CJ14),1) -> 669359.8 | CL14: 409657.5 | CM14: 990370.86 | CN14: =ROUND(AVERAGE(CL14:CM14),1) -> 700014.2 | CO14: 409657.5 | CP14: 973039.37 | CQ14: =ROUND(AVERAGE(CO14:CP14),1) -> 691348.4 | CR14: 409657.5 | CS14: 1020082 | CT14: =ROUND(AVERAGE(CR14:CS14),1) -> 714869.7
A15: 1.9 | B15: DISCO FRENO TRASERO | C15: 257040 | D15: 351101.41 | E15: =ROUND(AVERAGE(C15:D15),1) -> 304070.7 | F15: 240975 | G15: 332706.4 | H15: =ROUND(AVERAGE(F15:G15),1) -> 286840.7 | I15: 246925 | J15: 341903.91 | K15: =ROUND(AVERAGE(I15:J15),1) -> 294414.5 | L15: 305235 | M15: 350451.5 | N15: =ROUND(AVERAGE(L15:M15),1) -> 327843.3 | O15: 321300 | P15: 367974.08 | Q15: =ROUND(AVERAGE(O15:P15),1) -> 344637 | R15: 393592.5 | S15: 404771.49 | T15: =ROUND(AVERAGE(R15:S15),1) -> 399182 | U15: 321300 | V15: 363389.96 | W15: =ROUND(AVERAGE(U15:V15),1) -> 342345 | X15: 409657.5 | Y15: 586921.02 | Z15: =ROUND(AVERAGE(X15:Y15),1) -> 498289.3 | AA15: 409657.5 | AB15: 601594.05 | AC15: =ROUND(AVERAGE(AA15:AB15),1) -> 505625.8 | AD15: 487305 | AE15: 758778.69 | AF15: =ROUND(AVERAGE(AD15:AE15),1) -> 623041.8 | AG15: 257040 | AH15: 414890.77 | AI15: =ROUND(AVERAGE(AG15:AH15),1) -> 335965.4 | AJ15: 401625 | AK15: 739809.22 | AL15: =ROUND(AVERAGE(AJ15:AK15),1) -> 570717.1 | AM15: 377527.5 | AN15: 402010.76 | AO15: =ROUND(AVERAGE(AM15:AN15),1) -> 389769.1 | AP15: 353430 | AQ15: 601594.05 | AR15: =ROUND(AVERAGE(AP15:AQ15),1) -> 477512 | AS15: 409657.5 | AT15: 408040.92 | AU15: =ROUND(AVERAGE(AS15:AT15),1) -> 408849.2 | AV15: 409657.5 | AW15: 622649.84 | AX15: =ROUND(AVERAGE(AV15:AW15),1) -> 516153.7 | AY15: 409657.5 | AZ15: 641329.34 | BA15: =ROUND(AVERAGE(AY15:AZ15),1) -> 525493.4 | BB15: 321300 | BC15: 372167.49 | BD15: =ROUND(AVERAGE(BB15:BC15),1) -> 346733.7 | BE15: 409657.5 | BF15: 641329.34 | BG15: =ROUND(AVERAGE(BE15:BF15),1) -> 525493.4 | BH15: 321300 | BI15: 377750 | BJ15: =ROUND(AVERAGE(BH15:BI15),1) -> 349525 | BK15: 257040 | BL15: 377750 | BM15: =ROUND(AVERAGE(BK15:BL15),1) -> 317395 | BN15: 257040 | BO15: 360756.7 | BP15: =ROUND(AVERAGE(BN15:BO15),1) -> 308898.3 | BQ15: 257040 | BR15: 337697 | BS15: =ROUND(AVERAGE(BQ15:BR15),1) -> 297368.5 | BT15: 321300 | BU15: 343606.7 | BV15: =ROUND(AVERAGE(BT15:BU15),1) -> 332453.3 | BW15: 321300 | BX15: 338452.6 | BY15: =ROUND(AVERAGE(BW15:BX15),1) -> 329876.3 | BZ15: 457852.5 | CA15: 801270.3 | CB15: =ROUND(AVERAGE(BZ15:CA15),1) -> 629561.4 | CC15: 409657.5 | CD15: 789251.24 | CE15: =ROUND(AVERAGE(CC15:CD15),1) -> 599454.4 | CF15: 457852.5 | CG15: 795260.77 | CH15: =ROUND(AVERAGE(CF15:CG15),1) -> 626556.6 | CI15: 409657.5 | CJ15: 789251.24 | CK15: =ROUND(AVERAGE(CI15:CJ15),1) -> 599454.4 | CL15: 409657.5 | CM15: 841333.81 | CN15: =ROUND(AVERAGE(CL15:CM15),1) -> 625495.7 | CO15: 409657.5 | CP15: 826610.47 | CQ15: =ROUND(AVERAGE(CO15:CP15),1) -> 618134 | CR15: 409657.5 | CS15: 866573.83 | CT15: =ROUND(AVERAGE(CR15:CS15),1) -> 638115.7
A16: 1.10 | B16: GUAYA FRENO PRINCIPAL | C16: 91630 | D16: 214200 | E16: =ROUND(AVERAGE(C16:D16),1) -> 152915 | F16: 91630 | G16: 281776.16 | H16: =ROUND(AVERAGE(F16:G16),1) -> 186703.1 | I16: 97580 | J16: 247988.08 | K16: =ROUND(AVERAGE(I16:J16),1) -> 172784 | L16: 108290 | M16: 254187.78 | N16: =ROUND(AVERAGE(L16:M16),1) -> 181238.9 | O16: 116620 | P16: 266897.17 | Q16: =ROUND(AVERAGE(O16:P16),1) -> 191758.6 | R16: 141610 | S16: 293586.89 | T16: =ROUND(AVERAGE(R16:S16),1) -> 217598.4 | U16: 116620 | V16: 221697 | W16: =ROUND(AVERAGE(U16:V16),1) -> 169158.5 | X16: 149940 | Y16: 253988.76 | Z16: =ROUND(AVERAGE(X16:Y16),1) -> 201964.4 | AA16: 149940 | AB16: 260338.48 | AC16: =ROUND(AVERAGE(AA16:AB16),1) -> 205139.2 | AD16: 168682.5 | AE16: 396978.35 | AF16: =ROUND(AVERAGE(AD16:AE16),1) -> 282830.4 | AG16: 91630 | AH16: 300926.56 | AI16: =ROUND(AVERAGE(AG16:AH16),1) -> 196278.3 | AJ16: 141610 | AK16: 387053.89 | AL16: =ROUND(AVERAGE(AJ16:AK16),1) -> 264331.9 | AM16: 133280 | AN16: 183519.26 | AO16: =ROUND(AVERAGE(AM16:AN16),1) -> 158399.6 | AP16: 124950 | AQ16: 260338.48 | AR16: =ROUND(AVERAGE(AP16:AQ16),1) -> 192644.2 | AS16: 149940 | AT16: 186272.05 | AU16: =ROUND(AVERAGE(AS16:AT16),1) -> 168106 | AV16: 149940 | AW16: 269450.33 | AX16: =ROUND(AVERAGE(AV16:AW16),1) -> 209695.2 | AY16: 149940 | AZ16: 277533.84 | BA16: =ROUND(AVERAGE(AY16:AZ16),1) -> 213736.9 | BB16: 116620 | BC16: 227052 | BD16: =ROUND(AVERAGE(BB16:BC16),1) -> 171836 | BE16: 149940 | BF16: 277533.84 | BG16: =ROUND(AVERAGE(BE16:BF16),1) -> 213736.9 | BH16: 116620 | BI16: 230457.78 | BJ16: =ROUND(AVERAGE(BH16:BI16),1) -> 173538.9 | BK16: 91630 | BL16: 230457.78 | BM16: =ROUND(AVERAGE(BK16:BL16),1) -> 161043.9 | BN16: 91630 | BO16: 220090.5 | BP16: =ROUND(AVERAGE(BN16:BO16),1) -> 155860.3 | BQ16: 91630 | BR16: 286002.8 | BS16: =ROUND(AVERAGE(BQ16:BR16),1) -> 188816.4 | BT16: 116620 | BU16: 291007.85 | BV16: =ROUND(AVERAGE(BT16:BU16),1) -> 203813.9 | BW16: 116620 | BX16: 286642.74 | BY16: =ROUND(AVERAGE(BW16:BX16),1) -> 201631.4 | BZ16: 166600 | CA16: 419209.14 | CB16: =ROUND(AVERAGE(BZ16:CA16),1) -> 292904.6 | CC16: 149940 | CD16: 412921 | CE16: =ROUND(AVERAGE(CC16:CD16),1) -> 281430.5 | CF16: 166600 | CG16: 416065.07 | CH16: =ROUND(AVERAGE(CF16:CG16),1) -> 291332.5 | CI16: 149940 | CJ16: 412921 | CK16: =ROUND(AVERAGE(CI16:CJ16),1) -> 281430.5 | CL16: 149940 | CM16: 440169.6 | CN16: =ROUND(AVERAGE(CL16:CM16),1) -> 295054.8 | CO16: 149940 | CP16: 432466.63 | CQ16: =ROUND(AVERAGE(CO16:CP16),1) -> 291203.3 | CR16: 149940 | CS16: 453374.68 | CT16: =ROUND(AVERAGE(CR16:CS16),1) -> 301657.3
A17: 1.11 | B17: GUAYA FRENO TRASERA LH - RH | C17: 91630 | D17: 208250 | E17: =ROUND(AVERAGE(C17:D17),1) -> 149940 | F17: 91630 | G17: 281776.16 | H17: =ROUND(AVERAGE(F17:G17),1) -> 186703.1 | I17: 97580 | J17: 245013.08 | K17: =ROUND(AVERAGE(I17:J17),1) -> 171296.5 | L17: 108290 | M17: 251138.41 | N17: =ROUND(AVERAGE(L17:M17),1) -> 179714.2 | O17: 116620 | P17: 263695.33 | Q17: =ROUND(AVERAGE(O17:P17),1) -> 190157.7 | R17: 141610 | S17: 290064.86 | T17: =ROUND(AVERAGE(R17:S17),1) -> 215837.4 | U17: 116620 | V17: 215538.75 | W17: =ROUND(AVERAGE(U17:V17),1) -> 166079.4 | X17: 149940 | Y17: 207826.52 | Z17: =ROUND(AVERAGE(X17:Y17),1) -> 178883.3 | AA17: 149940 | AB17: 213022.18 | AC17: =ROUND(AVERAGE(AA17:AB17),1) -> 181481.1 | AD17: 168682.5 | AE17: 290776.11 | AF17: =ROUND(AVERAGE(AD17:AE17),1) -> 229729.3 | AG17: 91630 | AH17: 297316.48 | AI17: =ROUND(AVERAGE(AG17:AH17),1) -> 194473.2 | AJ17: 141610 | AK17: 283506.71 | AL17: =ROUND(AVERAGE(AJ17:AK17),1) -> 212558.4 | AM17: 133280 | AN17: 144171.99 | AO17: =ROUND(AVERAGE(AM17:AN17),1) -> 138726 | AP17: 124950 | AQ17: 213022.18 | AR17: =ROUND(AVERAGE(AP17:AQ17),1) -> 168986.1 | AS17: 149940 | AT17: 146334.57 | AU17: =ROUND(AVERAGE(AS17:AT17),1) -> 148137.3 | AV17: 149940 | AW17: 220477.96 | AX17: =ROUND(AVERAGE(AV17:AW17),1) -> 185209 | AY17: 149940 | AZ17: 227092.3 | BA17: =ROUND(AVERAGE(AY17:AZ17),1) -> 188516.1 | BB17: 116620 | BC17: 220745 | BD17: =ROUND(AVERAGE(BB17:BC17),1) -> 168682.5 | BE17: 149940 | BF17: 227092.3 | BG17: =ROUND(AVERAGE(BE17:BF17),1) -> 188516.1 | BH17: 116620 | BI17: 224056.17 | BJ17: =ROUND(AVERAGE(BH17:BI17),1) -> 170338.1 | BK17: 91630 | BL17: 224056.17 | BM17: =ROUND(AVERAGE(BK17:BL17),1) -> 157843.1 | BN17: 91630 | BO17: 213976.88 | BP17: =ROUND(AVERAGE(BN17:BO17),1) -> 152803.4 | BQ17: 91630 | BR17: 286002.8 | BS17: =ROUND(AVERAGE(BQ17:BR17),1) -> 188816.4 | BT17: 116620 | BU17: 291007.85 | BV17: =ROUND(AVERAGE(BT17:BU17),1) -> 203813.9 | BW17: 116620 | BX17: 286642.74 | BY17: =ROUND(AVERAGE(BW17:BX17),1) -> 201631.4 | BZ17: 166600 | CA17: 307059.58 | CB17: =ROUND(AVERAGE(BZ17:CA17),1) -> 236829.8 | CC17: 149940 | CD17: 302453.68 | CE17: =ROUND(AVERAGE(CC17:CD17),1) -> 226196.8 | CF17: 166600 | CG17: 304756.63 | CH17: =ROUND(AVERAGE(CF17:CG17),1) -> 235678.3 | CI17: 149940 | CJ17: 302453.68 | CK17: =ROUND(AVERAGE(CI17:CJ17),1) -> 226196.8 | CL17: 149940 | CM17: 322412.55 | CN17: =ROUND(AVERAGE(CL17:CM17),1) -> 236176.3 | CO17: 149940 | CP17: 316770.33 | CQ17: =ROUND(AVERAGE(CO17:CP17),1) -> 233355.2 | CR17: 149940 | CS17: 332084.93 | CT17: =ROUND(AVERAGE(CR17:CS17),1) -> 241012.5
A18: 1.12 | B18: LIMITADOR DE LIQUIDO DE FRENOS | C18: 192780 | D18: 316841.23 | E18: =ROUND(AVERAGE(C18:D18),1) -> 254810.6 | F18: 192780 | G18: 457461.41 | H18: =ROUND(AVERAGE(F18:G18),1) -> 325120.7 | I18: 198730 | J18: 387151.32 | K18: =ROUND(AVERAGE(I18:J18),1) -> 292940.7 | L18: 224910 | M18: 396830.11 | N18: =ROUND(AVERAGE(L18:M18),1) -> 310870.1 | O18: 232942.5 | P18: 416671.61 | Q18: =ROUND(AVERAGE(O18:P18),1) -> 324807.1 | R18: 289170 | S18: 458338.77 | T18: =ROUND(AVERAGE(R18:S18),1) -> 373754.4 | U18: 232942.5 | V18: 327930.68 | W18: =ROUND(AVERAGE(U18:V18),1) -> 280436.6 | X18: 305235 | Y18: 316841.23 | Z18: =ROUND(AVERAGE(X18:Y18),1) -> 311038.1 | AA18: 305235 | AB18: 324762.26 | AC18: =ROUND(AVERAGE(AA18:AB18),1) -> 314998.6 | AD18: 369495 | AE18: 798428.7 | AF18: =ROUND(AVERAGE(AD18:AE18),1) -> 583961.8 | AG18: 192780 | AH18: 469797.24 | AI18: =ROUND(AVERAGE(AG18:AH18),1) -> 331288.6 | AJ18: 297202.5 | AK18: 778467.98 | AL18: =ROUND(AVERAGE(AJ18:AK18),1) -> 537835.2 | AM18: 281137.5 | AN18: 461972.94 | AO18: =ROUND(AVERAGE(AM18:AN18),1) -> 371555.2 | AP18: 257040 | AQ18: 324762.26 | AR18: =ROUND(AVERAGE(AP18:AQ18),1) -> 290901.1 | AS18: 305235 | AT18: 468902.53 | AU18: =ROUND(AVERAGE(AS18:AT18),1) -> 387068.8 | AV18: 305235 | AW18: 336128.94 | AX18: =ROUND(AVERAGE(AV18:AW18),1) -> 320682 | AY18: 305235 | AZ18: 346212.81 | BA18: =ROUND(AVERAGE(AY18:AZ18),1) -> 325723.9 | BB18: 240975 | BC18: 335851.71 | BD18: =ROUND(AVERAGE(BB18:BC18),1) -> 288413.4 | BE18: 305235 | BF18: 346212.81 | BG18: =ROUND(AVERAGE(BE18:BF18),1) -> 325723.9 | BH18: 240975 | BI18: 340889.48 | BJ18: =ROUND(AVERAGE(BH18:BI18),1) -> 290932.2 | BK18: 192780 | BL18: 340889.48 | BM18: =ROUND(AVERAGE(BK18:BL18),1) -> 266834.7 | BN18: 192780 | BO18: 325554.37 | BP18: =ROUND(AVERAGE(BN18:BO18),1) -> 259167.2 | BQ18: 192780 | BR18: 464323.33 | BS18: =ROUND(AVERAGE(BQ18:BR18),1) -> 328551.7 | BT18: 232942.5 | BU18: 472448.99 | BV18: =ROUND(AVERAGE(BT18:BU18),1) -> 352695.7 | BW18: 232942.5 | BX18: 465362.26 | BY18: =ROUND(AVERAGE(BW18:BX18),1) -> 349152.4 | BZ18: 337365 | CA18: 843140.71 | CB18: =ROUND(AVERAGE(BZ18:CA18),1) -> 590252.9 | CC18: 305235 | CD18: 830493.6 | CE18: =ROUND(AVERAGE(CC18:CD18),1) -> 567864.3 | CF18: 337365 | CG18: 836817.15 | CH18: =ROUND(AVERAGE(CF18:CG18),1) -> 587091.1 | CI18: 305235 | CJ18: 830493.6 | CK18: =ROUND(AVERAGE(CI18:CJ18),1) -> 567864.3 | CL18: 305235 | CM18: 885297.74 | CN18: =ROUND(AVERAGE(CL18:CM18),1) -> 595266.4 | CO18: 305235 | CP18: 869805.03 | CQ18: =ROUND(AVERAGE(CO18:CP18),1) -> 587520 | CR18: 305235 | CS18: 911856.67 | CT18: =ROUND(AVERAGE(CR18:CS18),1) -> 608545.8
... A25: 1.19 | B25: SENSOR DE STOP | C25: 74970 | D25: 229583.84 | E25: =ROUND(AVERAGE(C25:D25),1) -> 152276.9 | F25: 74970 | G25: 192311.97 | H25: =ROUND(AVERAGE(F25:G25),1) -> 133641 | I25: 80920 | J25: 210947.91 | K25: =ROUND(AVERAGE(I25:J25),1) -> 145934 | L25: 91630 | M25: 216221.6 | N25: =ROUND(AVERAGE(L25:M25),1) -> 153925.8 | O25: 99960 | P25: 227032.68 | Q25: =ROUND(AVERAGE(O25:P25),1) -> 163496.3 | R25: 133280 | S25: 249735.95 | T25: =ROUND(AVERAGE(R25:S25),1) -> 191508 | U25: 99960 | V25: 237619.28 | W25: =ROUND(AVERAGE(U25:V25),1) -> 168789.6 | X25: 124950 | Y25: 253474.16 | Z25: =ROUND(AVERAGE(X25:Y25),1) -> 189212.1 | AA25: 124950 | AB25: 259811.01 | AC25: =ROUND(AVERAGE(AA25:AB25),1) -> 192380.5 | AD25: 149940 | AE25: 438881.04 | AF25: =ROUND(AVERAGE(AD25:AE25),1) -> 294410.5 | AG25: 74970 | AH25: 255979.35 | AI25: =ROUND(AVERAGE(AG25:AH25),1) -> 165474.7 | AJ25: 116620 | AK25: 427909.01 | AL25: =ROUND(AVERAGE(AJ25:AK25),1) -> 272264.5 | AM25: 116620 | AN25: 211262.15 | AO25: =ROUND(AVERAGE(AM25:AN25),1) -> 163941.1 | AP25: 108290 | AQ25: 259811.01 | AR25: =ROUND(AVERAGE(AP25:AQ25),1) -> 184050.5 | AS25: 124950 | AT25: 214431.08 | AU25: =ROUND(AVERAGE(AS25:AT25),1) -> 169690.5 | AV25: 124950 | AW25: 268904.4 | AX25: =ROUND(AVERAGE(AV25:AW25),1) -> 196927.2 | AY25: 124950 | AZ25: 276971.53 | BA25: =ROUND(AVERAGE(AY25:AZ25),1) -> 200960.8 | BB25: 108290 | BC25: 243358.87 | BD25: =ROUND(AVERAGE(BB25:BC25),1) -> 175824.4 | BE25: 124950 | BF25: 276971.53 | BG25: =ROUND(AVERAGE(BE25:BF25),1) -> 200960.8 | BH25: 108290 | BI25: 247009.26 | BJ25: =ROUND(AVERAGE(BH25:BI25),1) -> 177649.6 | BK25: 74970 | BL25: 247009.26 | BM25: =ROUND(AVERAGE(BK25:BL25),1) -> 160989.6 | BN25: 74970 | BO25: 235897.4 | BP25: =ROUND(AVERAGE(BN25:BO25),1) -> 155433.7 | BQ25: 74970 | BR25: 195196.65 | BS25: =ROUND(AVERAGE(BQ25:BR25),1) -> 135083.3 | BT25: 99960 | BU25: 198612.59 | BV25: =ROUND(AVERAGE(BT25:BU25),1) -> 149286.3 | BW25: 99960 | BX25: 195633.4 | BY25: =ROUND(AVERAGE(BW25:BX25),1) -> 147796.7 | BZ25: 149940 | CA25: 463458.38 | CB25: =ROUND(AVERAGE(BZ25:CA25),1) -> 306699.2 | CC25: 124950 | CD25: 456506.5 | CE25: =ROUND(AVERAGE(CC25:CD25),1) -> 290728.3 | CF25: 149940 | CG25: 459982.44 | CH25: =ROUND(AVERAGE(CF25:CG25),1) -> 304961.2 | CI25: 124950 | CJ25: 456506.5 | CK25: =ROUND(AVERAGE(CI25:CJ25),1) -> 290728.3 | CL25: 124950 | CM25: 486631.29 | CN25: =ROUND(AVERAGE(CL25:CM25),1) -> 305790.6 | CO25: 124950 | CP25: 478115.25 | CQ25: =ROUND(AVERAGE(CO25:CP25),1) -> 301532.6 | CR25: 124950 | CS25: 501230.23 | CT25: =ROUND(AVERAGE(CR25:CS25),1) -> 313090.1
A26: 2 | B26: MOTOR | C26: 0 | D26: 0 | E26: 0 | F26: 0 | G26: 0 | H26: 0 | I26: 0 | J26: 0 | K26: 0 | L26: 0 | M26: 0 | N26: 0 | O26: 0 | P26: 0 | Q26: 0 | R26: 0 | S26: 0 | T26: 0 | U26: 0 | V26: 0 | W26: 0 | X26: 0 | Y26: 0 | Z26: 0 | AA26: 0 | AB26: 0 | AC26: 0 | AD26: 0 | AE26: 0 | AF26: 0 | AG26: 0 | AH26: 0 | AI26: 0 | AJ26: 0 | AK26: 0 | AL26: 0 | AM26: 0 | AN26: 0 | AO26: 0 | AP26: 0 | AQ26: 0 | AR26: 0 | AS26: 0 | AT26: 0 | AU26: 0 | AV26: 0 | AW26: 0 | AX26: 0 | AY26: 0 | AZ26: 0 | BA26: 0 | BB26: 0 | BC26: 0 | BD26: 0 | BE26: 0 | BF26: 0 | BG26: 0 | BH26: 0 | BI26: 0 | BJ26: 0 | BK26: 0 | BL26: 0 | BM26: 0 | BN26: 0 | BO26: 0 | BP26: 0 | BQ26: 0 | BR26: 0 | BS26: 0 | BT26: 0 | BU26: 0 | BV26: 0 | BW26: 0 | BX26: 0 | BY26: 0 | BZ26: 0 | CA26: 0 | CB26: 0 | CC26: 0 | CD26: 0 | CE26: 0 | CF26: 0 | CG26: 0 | CH26: 0 | CI26: 0 | CJ26: 0 | CK26: 0 | CL26: 0 | CM26: 0 | CN26: 0 | CO26: 0 | CP26: 0 | CQ26: 0 | CR26: 0 | CS26: 0 | CT26: 0
A27: 2.1 | B27: PISTONES (JUEGO) | C27: 634270 | D27: 1119341.3 | E27: =ROUND(AVERAGE(C27:D27),1) -> 876805.6 | F27: 580125 | G27: 1090121.5 | H27: =ROUND(AVERAGE(F27:G27),1) -> 835123.3 | I27: 603330 | J27: 1104731.4 | K27: =ROUND(AVERAGE(I27:J27),1) -> 854030.7 | L27: 743750 | M27: 1132349.7 | N27: =ROUND(AVERAGE(L27:M27),1) -> 938049.9 | O27: 781235 | P27: 1188967.2 | Q27: =ROUND(AVERAGE(O27:P27),1) -> 985101.1 | R27: 959140 | S27: 1307863.9 | T27: =ROUND(AVERAGE(R27:S27),1) -> 1133502 | U27: 781235 | V27: 1158518.2 | W27: =ROUND(AVERAGE(U27:V27),1) -> 969876.6 | X27: 1183455 | Y27: 2697207.9 | Z27: =ROUND(AVERAGE(X27:Y27),1) -> 1940331.5 | AA27: 1183455 | AB27: 2764638.1 | AC27: =ROUND(AVERAGE(AA27:AB27),1) -> 1974046.6 | AD27: 1413065.5 | AE27: 4469806.1 | AF27: =ROUND(AVERAGE(AD27:AE27),1) -> 2941435.8 | AG27: 634270 | AH27: 1340560.5 | AI27: =ROUND(AVERAGE(AG27:AH27),1) -> 987415.3 | AJ27: 1152515 | AK27: 4358060.9 | AL27: =ROUND(AVERAGE(AJ27:AK27),1) -> 2755288 | AM27: 920465 | AN27: 1089558.8 | AO27: =ROUND(AVERAGE(AM27:AN27),1) -> 1005011.9 | AP27: 850850 | AQ27: 2764638.1 | AR27: =ROUND(AVERAGE(AP27:AQ27),1) -> 1807744.1 | AS27: 982345 | AT27: 1105902.2 | AU27: =ROUND(AVERAGE(AS27:AT27),1) -> 1044123.6 | AV27: 1156144.5 | AW27: 2861400.5 | AX27: =ROUND(AVERAGE(AV27:AW27),1) -> 2008772.5 | AY27: 1156144.5 | AZ27: 2947242.5 | BA27: =ROUND(AVERAGE(AY27:AZ27),1) -> 2051693.5 | BB27: 788970 | BC27: 1186501.8 | BD27: =ROUND(AVERAGE(BB27:BC27),1) -> 987735.9 | BE27: 1156144.5 | BF27: 2947242.5 | BG27: =ROUND(AVERAGE(BE27:BF27),1) -> 2051693.5 | BH27: 788970 | BI27: 1204299.3 | BJ27: =ROUND(AVERAGE(BH27:BI27),1) -> 996634.6 | BK27: 634270 | BL27: 1204299.3 | BM27: =ROUND(AVERAGE(BK27:BL27),1) -> 919284.6 | BN27: 634270 | BO27: 1150123.2 | BP27: =ROUND(AVERAGE(BN27:BO27),1) -> 892196.6 | BQ27: 634270 | BR27: 1106473.4 | BS27: =ROUND(AVERAGE(BQ27:BR27),1) -> 870371.7 | BT27: 781235 | BU27: 1125836.6 | BV27: =ROUND(AVERAGE(BT27:BU27),1) -> 953535.8 | BW27: 781235 | BX27: 1108949.1 | BY27: =ROUND(AVERAGE(BW27:BX27),1) -> 945092 | BZ27: 1292161.5 | CA27: 4720115.2 | CB27: =ROUND(AVERAGE(BZ27:CA27),1) -> 3006138.4 | CC27: 1156144.5 | CD27: 4649313.5 | CE27: =ROUND(AVERAGE(CC27:CD27),1) -> 2902729 | CF27: 1292161.5 | CG27: 4684714.4 | CH27: =ROUND(AVERAGE(CF27:CG27),1) -> 2988437.9 | CI27: 1156144.5 | CJ27: 4649313.5 | CK27: =ROUND(AVERAGE(CI27:CJ27),1) -> 2902729 | CL27: 1156144.5 | CM27: 4956121 | CN27: =ROUND(AVERAGE(CL27:CM27),1) -> 3056132.7 | CO27: 1156144.5 | CP27: 4869388.9 | CQ27: =ROUND(AVERAGE(CO27:CP27),1) -> 3012766.7 | CR27: 1155787.5 | CS27: 5104804.6 | CT27: =ROUND(AVERAGE(CR27:CS27),1) -> 3130296.1
A28: 2.2 | B28: VALVULAS DE ADMISION( JUEGO) | C28: 257040 | D28: 1094390.1 | E28: =ROUND(AVERAGE(C28:D28),1) -> 675715 | F28: 240975 | G28: 682260.99 | H28: =ROUND(AVERAGE(F28:G28),1) -> 461618 | I28: 249007.5 | J28: 888325.52 | K28: =ROUND(AVERAGE(I28:J28),1) -> 568666.5 | L28: 305235 | M28: 910533.66 | N28: =ROUND(AVERAGE(L28:M28),1) -> 607884.3 | O28: 321300 | P28: 956060.34 | Q28: =ROUND(AVERAGE(O28:P28),1) -> 638680.2 | R28: 393592.5 | S28: 1051666.4 | T28: =ROUND(AVERAGE(R28:S28),1) -> 722629.4 | U28: 321300 | V28: 1132693.7 | W28: =ROUND(AVERAGE(U28:V28),1) -> 726996.9 | X28: 471835 | Y28: 838444 | Z28: =ROUND(AVERAGE(X28:Y28),1) -> 655139.5 | AA28: 471835 | AB28: 859405.1 | AC28: =ROUND(AVERAGE(AA28:AB28),1) -> 665620 | AD28: 572390 | AE28: 2153601.6 | AF28: =ROUND(AVERAGE(AD28:AE28),1) -> 1362995.8 | AG28: 257040 | AH28: 1077958 | AI28: =ROUND(AVERAGE(AG28:AH28),1) -> 667499 | AJ28: 473917.5 | AK28: 2099761.6 | AL28: =ROUND(AVERAGE(AJ28:AK28),1) -> 1286839.5 | AM28: 377527.5 | AN28: 710192.43 | AO28: =ROUND(AVERAGE(AM28:AN28),1) -> 543860 | AP28: 353430 | AQ28: 859405.1 | AR28: =ROUND(AVERAGE(AP28:AQ28),1) -> 606417.5 | AS28: 409657.5 | AT28: 720845.31 | AU28: =ROUND(AVERAGE(AS28:AT28),1) -> 565251.4 | AV28: 471835 | AW28: 889484.27 | AX28: =ROUND(AVERAGE(AV28:AW28),1) -> 680659.6 | AY28: 471835 | AZ28: 916168.8 | BA28: =ROUND(AVERAGE(AY28:AZ28),1) -> 694001.9 | BB28: 321300 | BC28: 1160053.5 | BD28: =ROUND(AVERAGE(BB28:BC28),1) -> 740676.7 | BE28: 471835 | BF28: 916168.8 | BG28: =ROUND(AVERAGE(BE28:BF28),1) -> 694001.9 | BH28: 321300 | BI28: 1177454.3 | BJ28: =ROUND(AVERAGE(BH28:BI28),1) -> 749377.1 | BK28: 257040 | BL28: 1177454.3 | BM28: =ROUND(AVERAGE(BK28:BL28),1) -> 717247.1 | BN28: 257040 | BO28: 1124485.8 | BP28: =ROUND(AVERAGE(BN28:BO28),1) -> 690762.9 | BQ28: 257040 | BR28: 692494.9 | BS28: =ROUND(AVERAGE(BQ28:BR28),1) -> 474767.5 | BT28: 321300 | BU28: 704613.56 | BV28: =ROUND(AVERAGE(BT28:BU28),1) -> 512956.8 | BW28: 321300 | BX28: 694044.36 | BY28: =ROUND(AVERAGE(BW28:BX28),1) -> 507672.2 | BZ28: 525980 | CA28: 2274203.3 | CB28: =ROUND(AVERAGE(BZ28:CA28),1) -> 1400091.6 | CC28: 471835 | CD28: 2240090.2 | CE28: =ROUND(AVERAGE(CC28:CD28),1) -> 1355962.6 | CF28: 502180 | CG28: 2257146.8 | CH28: =ROUND(AVERAGE(CF28:CG28),1) -> 1379663.4 | CI28: 471835 | CJ28: 2240090.2 | CK28: =ROUND(AVERAGE(CI28:CJ28),1) -> 1355962.6 | CL28: 471835 | CM28: 2387913.5 | CN28: =ROUND(AVERAGE(CL28:CM28),1) -> 1429874.2 | CO28: 471835 | CP28: 2346125 | CQ28: =ROUND(AVERAGE(CO28:CP28),1) -> 1408980 | CR28: 471835 | CS28: 2459550.9 | CT28: =ROUND(AVERAGE(CR28:CS28),1) -> 1465692.9
A29: 2.3 | B29: VALVULAS DE ESCAPE (JUEGO) | C29: 297202.5 | D29: 881912.76 | E29: =ROUND(AVERAGE(C29:D29),1) -> 589557.6 | F29: 273105 | G29: 514738.96 | H29: =ROUND(AVERAGE(F29:G29),1) -> 393922 | I29: 289170 | J29: 698325.86 | K29: =ROUND(AVERAGE(I29:J29),1) -> 493747.9 | L29: 353430 | M29: 715784.01 | N29: =ROUND(AVERAGE(L29:M29),1) -> 534607 | O29: 369495 | P29: 751573.21 | Q29: =ROUND(AVERAGE(O29:P29),1) -> 560534.1 | R29: 457852.5 | S29: 826730.53 | T29: =ROUND(AVERAGE(R29:S29),1) -> 642291.5 | U29: 369495 | V29: 912779.71 | W29: =ROUND(AVERAGE(U29:V29),1) -> 641137.4 | X29: 541450 | Y29: 779468.35 | Z29: =ROUND(AVERAGE(X29:Y29),1) -> 660459.2 | AA29: 541450 | AB29: 798955.06 | AC29: =ROUND(AVERAGE(AA29:AB29),1) -> 670202.5 | AD29: 665210 | AE29: 2173728.7 | AF29: =ROUND(AVERAGE(AD29:AE29),1) -> 1419469.4 | AG29: 297202.5 | AH29: 847398.79 | AI29: =ROUND(AVERAGE(AG29:AH29),1) -> 572300.6 | AJ29: 525980 | AK29: 2119385.5 | AL29: =ROUND(AVERAGE(AJ29:AK29),1) -> 1322682.8 | AM29: 441787.5 | AN29: 687465.63 | AO29: =ROUND(AVERAGE(AM29:AN29),1) -> 564626.6 | AP29: 409657.5 | AQ29: 798955.06 | AR29: =ROUND(AVERAGE(AP29:AQ29),1) -> 604306.3 | AS29: 473917.5 | AT29: 697777.61 | AU29: =ROUND(AVERAGE(AS29:AT29),1) -> 585847.6 | AV29: 541450 | AW29: 826918.48 | AX29: =ROUND(AVERAGE(AV29:AW29),1) -> 684184.2 | AY29: 541450 | AZ29: 851726.04 | BA29: =ROUND(AVERAGE(AY29:AZ29),1) -> 696588 | BB29: 377527.5 | BC29: 934827.53 | BD29: =ROUND(AVERAGE(BB29:BC29),1) -> 656177.5 | BE29: 541450 | BF29: 851726.04 | BG29: =ROUND(AVERAGE(BE29:BF29),1) -> 696588 | BH29: 377527.5 | BI29: 948849.94 | BJ29: =ROUND(AVERAGE(BH29:BI29),1) -> 663188.7 | BK29: 297202.5 | BL29: 948849.94 | BM29: =ROUND(AVERAGE(BK29:BL29),1) -> 623026.2 | BN29: 297202.5 | BO29: 906165.36 | BP29: =ROUND(AVERAGE(BN29:BO29),1) -> 601683.9 | BQ29: 297202.5 | BR29: 522460.05 | BS29: =ROUND(AVERAGE(BQ29:BR29),1) -> 409831.3 | BT29: 369495 | BU29: 531603.1 | BV29: =ROUND(AVERAGE(BT29:BU29),1) -> 450549 | BW29: 369495 | BX29: 523629.05 | BY29: =ROUND(AVERAGE(BW29:BX29),1) -> 446562 | BZ29: 611065 | CA29: 2295457.5 | CB29: =ROUND(AVERAGE(BZ29:CA29),1) -> 1453261.3 | CC29: 541450 | CD29: 2261025.7 | CE29: =ROUND(AVERAGE(CC29:CD29),1) -> 1401237.8 | CF29: 611065 | CG29: 2278241.6 | CH29: =ROUND(AVERAGE(CF29:CG29),1) -> 1444653.3 | CI29: 541450 | CJ29: 2261025.7 | CK29: =ROUND(AVERAGE(CI29:CJ29),1) -> 1401237.8 | CL29: 541450 | CM29: 2410230.4 | CN29: =ROUND(AVERAGE(CL29:CM29),1) -> 1475840.2 | CO29: 541450 | CP29: 2368051.4 | CQ29: =ROUND(AVERAGE(CO29:CP29),1) -> 1454750.7 | CR29: 541450 | CS29: 2482537.3 | CT29: =ROUND(AVERAGE(CR29:CS29),1) -> 1511993.7
A30: 2.4 | B30: ANILLOS (JUEGO) | C30: 353430 | D30: 788773.22 | E30: =ROUND(AVERAGE(C30:D30),1) -> 571101.6 | F30: 329332.5 | G30: 629981.74 | H30: =ROUND(AVERAGE(F30:G30),1) -> 479657.1 | I30: 337365 | J30: 709377.48 | K30: =ROUND(AVERAGE(I30:J30),1) -> 523371.2 | L30: 417690 | M30: 727111.91 | N30: =ROUND(AVERAGE(L30:M30),1) -> 572401 | O30: 441787.5 | P30: 763467.51 | Q30: =ROUND(AVERAGE(O30:P30),1) -> 602627.5 | R30: 518245 | S30: 839814.26 | T30: =ROUND(AVERAGE(R30:S30),1) -> 679029.6 | U30: 441787.5 | V30: 816380.28 | W30: =ROUND(AVERAGE(U30:V30),1) -> 629083.9 | X30: 642005 | Y30: 1344511 | Z30: =ROUND(AVERAGE(X30:Y30),1) -> 993258 | AA30: 642005 | AB30: 1378123.7 | AC30: =ROUND(AVERAGE(AA30:AB30),1) -> 1010064.4 | AD30: 781235 | AE30: 2073799.4 | AF30: =ROUND(AVERAGE(AD30:AE30),1) -> 1427517.2 | AG30: 353430 | AH30: 860809.62 | AI30: =ROUND(AVERAGE(AG30:AH30),1) -> 607119.8 | AJ30: 626535 | AK30: 2021954.4 | AL30: =ROUND(AVERAGE(AJ30:AK30),1) -> 1324244.7 | AM30: 502775 | AN30: 564229.38 | AO30: =ROUND(AVERAGE(AM30:AN30),1) -> 533502.2 | AP30: 481950 | AQ30: 1378123.7 | AR30: =ROUND(AVERAGE(AP30:AQ30),1) -> 930036.9 | AS30: 541450 | AT30: 572692.82 | AU30: =ROUND(AVERAGE(AS30:AT30),1) -> 557071.4 | AV30: 642005 | AW30: 1426358.1 | AX30: =ROUND(AVERAGE(AV30:AW30),1) -> 1034181.5 | AY30: 642005 | AZ30: 1469148.8 | BA30: =ROUND(AVERAGE(AY30:AZ30),1) -> 1055576.9 | BB30: 441787.5 | BC30: 836099.61 | BD30: =ROUND(AVERAGE(BB30:BC30),1) -> 638943.6 | BE30: 642005 | BF30: 1469148.8 | BG30: =ROUND(AVERAGE(BE30:BF30),1) -> 1055576.9 | BH30: 441787.5 | BI30: 848641.1 | BJ30: =ROUND(AVERAGE(BH30:BI30),1) -> 645214.3 | BK30: 353430 | BL30: 848641.1 | BM30: =ROUND(AVERAGE(BK30:BL30),1) -> 601035.6 | BN30: 353430 | BO30: 810464.48 | BP30: =ROUND(AVERAGE(BN30:BO30),1) -> 581947.2 | BQ30: 353430 | BR30: 639431.46 | BS30: =ROUND(AVERAGE(BQ30:BR30),1) -> 496430.7 | BT30: 441787.5 | BU30: 650621.51 | BV30: =ROUND(AVERAGE(BT30:BU30),1) -> 546204.5 | BW30: 441787.5 | BX30: 640862.19 | BY30: =ROUND(AVERAGE(BW30:BX30),1) -> 541324.8 | BZ30: 719355 | CA30: 2189932.2 | CB30: =ROUND(AVERAGE(BZ30:CA30),1) -> 1454643.6 | CC30: 642005 | CD30: 2157083.2 | CE30: =ROUND(AVERAGE(CC30:CD30),1) -> 1399544.1 | CF30: 719355 | CG30: 2173507.7 | CH30: =ROUND(AVERAGE(CF30:CG30),1) -> 1446431.3 | CI30: 642005 | CJ30: 2157083.2 | CK30: =ROUND(AVERAGE(CI30:CJ30),1) -> 1399544.1 | CL30: 642005 | CM30: 2299428.8 | CN30: =ROUND(AVERAGE(CL30:CM30),1) -> 1470716.9 | CO30: 642005 | CP30: 2259188.8 | CQ30: =ROUND(AVERAGE(CO30:CP30),1) -> 1450596.9 | CR30: 642005 | CS30: 2368411.6 | CT30: =ROUND(AVERAGE(CR30:CS30),1) -> 1505208.3
A31: 2.5 | B31: ASPAS FAN CLUTHS | C31: 549185 | D31: 307020 | E31: =ROUND(AVERAGE(C31:D31),1) -> 428102.5 | F31: 510510 | G31: 497420 | H31: =ROUND(AVERAGE(F31:G31),1) -> 503965 | I31: 525980 | J31: 521220 | K31: =ROUND(AVERAGE(I31:J31),1) -> 523600 | L31: 649740 | M31: 534250.5 | N31: =ROUND(AVERAGE(L31:M31),1) -> 591995.3 | O31: 680680 | P31: 560963.03 | Q31: =ROUND(AVERAGE(O31:P31),1) -> 620821.5 | R31: 835380 | S31: 617059.33 | T31: =ROUND(AVERAGE(R31:S31),1) -> 726219.7 | U31: 680680 | V31: 564095.7 | W31: =ROUND(AVERAGE(U31:V31),1) -> 622387.9 | X31: 874055 | Y31: 439337.29 | Z31: =ROUND(AVERAGE(X31:Y31),1) -> 656696.1 | AA31: 874055 | AB31: 450320.72 | AC31: =ROUND(AVERAGE(AA31:AB31),1) -> 662187.9 | AD31: 1075165 | AE31: 796337.29 | AF31: =ROUND(AVERAGE(AD31:AE31),1) -> 935751.1 | AG31: 549185 | AH31: 632485.81 | AI31: =ROUND(AVERAGE(AG31:AH31),1) -> 590835.4 | AJ31: 850850 | AK31: 776428.86 | AL31: =ROUND(AVERAGE(AJ31:AK31),1) -> 813639.4 | AM31: 804440 | AN31: 460530 | AO31: =ROUND(AVERAGE(AM31:AN31),1) -> 632485 | AP31: 750295 | AQ31: 450320.72 | AR31: =ROUND(AVERAGE(AP31:AQ31),1) -> 600307.9 | AS31: 874055 | AT31: 467437.95 | AU31: =ROUND(AVERAGE(AS31:AT31),1) -> 670746.5 | AV31: 874055 | AW31: 466081.95 | AX31: =ROUND(AVERAGE(AV31:AW31),1) -> 670068.5 | AY31: 874055 | AZ31: 480064.41 | BA31: =ROUND(AVERAGE(AY31:AZ31),1) -> 677059.7 | BB31: 688415 | BC31: 325441.2 | BD31: =ROUND(AVERAGE(BB31:BC31),1) -> 506928.1 | BE31: 874055 | BF31: 480064.41 | BG31: =ROUND(AVERAGE(BE31:BF31),1) -> 677059.7 | BH31: 688415 | BI31: 330322.82 | BJ31: =ROUND(AVERAGE(BH31:BI31),1) -> 509368.9 | BK31: 549185 | BL31: 330322.82 | BM31: =ROUND(AVERAGE(BK31:BL31),1) -> 439753.9 | BN31: 549185 | BO31: 315463.05 | BP31: =ROUND(AVERAGE(BN31:BO31),1) -> 432324 | BQ31: 549185 | BR31: 504881.3 | BS31: =ROUND(AVERAGE(BQ31:BR31),1) -> 527033.2 | BT31: 680680 | BU31: 513716.72 | BV31: =ROUND(AVERAGE(BT31:BU31),1) -> 597198.4 | BW31: 680680 | BX31: 506010.97 | BY31: =ROUND(AVERAGE(BW31:BX31),1) -> 593345.5 | BZ31: 959675.5 | CA31: 840932.18 | CB31: =ROUND(AVERAGE(BZ31:CA31),1) -> 900303.8 | CC31: 874055 | CD31: 828318.2 | CE31: =ROUND(AVERAGE(CC31:CD31),1) -> 851186.6 | CF31: 959675.5 | CG31: 834625.19 | CH31: =ROUND(AVERAGE(CF31:CG31),1) -> 897150.3 | CI31: 874055 | CJ31: 828318.2 | CK31: =ROUND(AVERAGE(CI31:CJ31),1) -> 851186.6 | CL31: 874055 | CM31: 882978.79 | CN31: =ROUND(AVERAGE(CL31:CM31),1) -> 878516.9 | CO31: 874055 | CP31: 867526.66 | CQ31: =ROUND(AVERAGE(CO31:CP31),1) -> 870790.8 | CR31: 874055 | CS31: 909468.15 | CT31: =ROUND(AVERAGE(CR31:CS31),1) -> 891761.6
A32: 2.6 | B32: BASE PATIN TENSOR MONOCORREA | C32: 208845 | D32: 235620 | E32: =ROUND(AVERAGE(C32:D32),1) -> 222232.5 | F32: 184747.5 | G32: 509320 | H32: =ROUND(AVERAGE(F32:G32),1) -> 347033.8 | I32: 192780 | J32: 491470 | K32: =ROUND(AVERAGE(I32:J32),1) -> 342125 | L32: 240975 | M32: 503756.75 | N32: =ROUND(AVERAGE(L32:M32),1) -> 372365.9 | O32: 257040 | P32: 528944.59 | Q32: =ROUND(AVERAGE(O32:P32),1) -> 392992.3 | R32: 313267.5 | S32: 581839.05 | T32: =ROUND(AVERAGE(R32:S32),1) -> 447553.3 | U32: 257040 | V32: 490196.7 | W32: =ROUND(AVERAGE(U32:V32),1) -> 373618.4 | X32: 321300 | Y32: 260778.98 | Z32: =ROUND(AVERAGE(X32:Y32),1) -> 291039.5 | AA32: 321300 | AB32: 267298.45 | AC32: =ROUND(AVERAGE(AA32:AB32),1) -> 294299.2 | AD32: 401625 | AE32: 379778.98 | AF32: =ROUND(AVERAGE(AD32:AE32),1) -> 390702 | AG32: 208845 | AH32: 596385.02 | AI32: =ROUND(AVERAGE(AG32:AH32),1) -> 402615 | AJ32: 313267.5 | AK32: 370284.51 | AL32: =ROUND(AVERAGE(AJ32:AK32),1) -> 341776 | AM32: 297202.5 | AN32: 220439.17 | AO32: =ROUND(AVERAGE(AM32:AN32),1) -> 258820.8 | AP32: 273105 | AQ32: 267298.45 | AR32: =ROUND(AVERAGE(AP32:AQ32),1) -> 270201.7 | AS32: 321300 | AT32: 223745.76 | AU32: =ROUND(AVERAGE(AS32:AT32),1) -> 272522.9 | AV32: 321300 | AW32: 276653.9 | AX32: =ROUND(AVERAGE(AV32:AW32),1) -> 298977 | AY32: 321300 | AZ32: 284953.52 | BA32: =ROUND(AVERAGE(AY32:AZ32),1) -> 303126.8 | BB32: 257040 | BC32: 249757.2 | BD32: =ROUND(AVERAGE(BB32:BC32),1) -> 253398.6 | BE32: 321300 | BF32: 284953.52 | BG32: =ROUND(AVERAGE(BE32:BF32),1) -> 303126.8 | BH32: 257040 | BI32: 253503.56 | BJ32: =ROUND(AVERAGE(BH32:BI32),1) -> 255271.8 | BK32: 208845 | BL32: 253503.56 | BM32: =ROUND(AVERAGE(BK32:BL32),1) -> 231174.3 | BN32: 208845 | BO32: 242099.55 | BP32: =ROUND(AVERAGE(BN32:BO32),1) -> 225472.3 | BQ32: 208845 | BR32: 516959.8 | BS32: =ROUND(AVERAGE(BQ32:BR32),1) -> 362902.4 | BT32: 257040 | BU32: 526006.6 | BV32: =ROUND(AVERAGE(BT32:BU32),1) -> 391523.3 | BW32: 257040 | BX32: 518116.5 | BY32: =ROUND(AVERAGE(BW32:BX32),1) -> 387578.2 | BZ32: 361462.5 | CA32: 401046.6 | CB32: =ROUND(AVERAGE(BZ32:CA32),1) -> 381254.6 | CC32: 321300 | CD32: 395030.9 | CE32: =ROUND(AVERAGE(CC32:CD32),1) -> 358165.5 | CF32: 361462.5 | CG32: 398038.75 | CH32: =ROUND(AVERAGE(CF32:CG32),1) -> 379750.6 | CI32: 321300 | CJ32: 395030.9 | CK32: =ROUND(AVERAGE(CI32:CJ32),1) -> 358165.5 | CL32: 321300 | CM32: 421098.93 | CN32: =ROUND(AVERAGE(CL32:CM32),1) -> 371199.5 | CO32: 321300 | CP32: 413729.7 | CQ32: =ROUND(AVERAGE(CO32:CP32),1) -> 367514.9 | CR32: 321300 | CS32: 433731.9 | CT32: =ROUND(AVERAGE(CR32:CS32),1) -> 377516
A33: 2.7 | B33: BOMBA DE ACEITE | C33: 481950 | D33: 1300478.7 | E33: =ROUND(AVERAGE(C33:D33),1) -> 891214.4 | F33: 441787.5 | G33: 887221.07 | H33: =ROUND(AVERAGE(F33:G33),1) -> 664504.3 | I33: 457852.5 | J33: 1093849.9 | K33: =ROUND(AVERAGE(I33:J33),1) -> 775851.2 | L33: 541450 | M33: 1121196.1 | N33: =ROUND(AVERAGE(L33:M33),1) -> 831323.1 | O33: 572390 | P33: 1177256 | Q33: =ROUND(AVERAGE(O33:P33),1) -> 874823 | R33: 696150 | S33: 1294981.6 | T33: =ROUND(AVERAGE(R33:S33),1) -> 995565.8 | U33: 572390 | V33: 1345995.5 | W33: =ROUND(AVERAGE(U33:V33),1) -> 959192.7 | X33: 866320 | Y33: 1719367 | Z33: =ROUND(AVERAGE(X33:Y33),1) -> 1292843.5 | AA33: 866320 | AB33: 1762351.1 | AC33: =ROUND(AVERAGE(AA33:AB33),1) -> 1314335.6 | AD33: 1051960 | AE33: 3325053.6 | AF33: =ROUND(AVERAGE(AD33:AE33),1) -> 2188506.8 | AG33: 481950 | AH33: 1327356.1 | AI33: =ROUND(AVERAGE(AG33:AH33),1) -> 904653 | AJ33: 835380 | AK33: 3241927.3 | AL33: =ROUND(AVERAGE(AJ33:AK33),1) -> 2038653.6 | AM33: 672945 | AN33: 1333540 | AO33: =ROUND(AVERAGE(AM33:AN33),1) -> 1003242.5 | AP33: 618800 | AQ33: 1762351.1 | AR33: =ROUND(AVERAGE(AP33:AQ33),1) -> 1190575.6 | AS33: 734825 | AT33: 1353543.1 | AU33: =ROUND(AVERAGE(AS33:AT33),1) -> 1044184.1 | AV33: 866320 | AW33: 1824033.4 | AX33: =ROUND(AVERAGE(AV33:AW33),1) -> 1345176.7 | AY33: 866320 | AZ33: 1878754.4 | BA33: =ROUND(AVERAGE(AY33:AZ33),1) -> 1372537.2 | BB33: 572390 | BC33: 1378507.5 | BD33: =ROUND(AVERAGE(BB33:BC33),1) -> 975448.7 | BE33: 866320 | BF33: 1878754.4 | BG33: =ROUND(AVERAGE(BE33:BF33),1) -> 1372537.2 | BH33: 572390 | BI33: 1399185.1 | BJ33: =ROUND(AVERAGE(BH33:BI33),1) -> 985787.5 | BK33: 481950 | BL33: 1399185.1 | BM33: =ROUND(AVERAGE(BK33:BL33),1) -> 940567.5 | BN33: 481950 | BO33: 1336241.9 | BP33: =ROUND(AVERAGE(BN33:BO33),1) -> 909095.9 | BQ33: 481950 | BR33: 900529.39 | BS33: =ROUND(AVERAGE(BQ33:BR33),1) -> 691239.7 | BT33: 572390 | BU33: 916288.65 | BV33: =ROUND(AVERAGE(BT33:BU33),1) -> 744339.3 | BW33: 572390 | BX33: 902544.32 | BY33: =ROUND(AVERAGE(BW33:BX33),1) -> 737467.2 | BZ33: 944562.5 | CA33: 3511256.6 | CB33: =ROUND(AVERAGE(BZ33:CA33),1) -> 2227909.6 | CC33: 866320 | CD33: 3458587.8 | CE33: =ROUND(AVERAGE(CC33:CD33),1) -> 2162453.9 | CF33: 944562.5 | CG33: 3484922.2 | CH33: =ROUND(AVERAGE(CF33:CG33),1) -> 2214742.3 | CI33: 866320 | CJ33: 3458587.8 | CK33: =ROUND(AVERAGE(CI33:CJ33),1) -> 2162453.9 | CL33: 866320 | CM33: 3686819.4 | CN33: =ROUND(AVERAGE(CL33:CM33),1) -> 2276569.7 | CO33: 866320 | CP33: 3622300.1 | CQ33: =ROUND(AVERAGE(CO33:CP33),1) -> 2244310.1 | CR33: 866320 | CS33: 3797424 | CT33: =ROUND(AVERAGE(CR33:CS33),1) -> 2331872
