Workbook
Name AA: #REF!
Name Adm: #REF!
Name BuscHSeguim: #REF!
Name BuscHSeguim2: #REF!
Name CDCT: #REF!
Name CDSeguim: #REF!
Name CLASIFTODOS: #REF!
Name CronogFechaFin: #REF!
Name CronogFechaInic: #REF!
Name Imprev: #REF!
Name inf: #REF!
Name IvaSUtl: #REF!
Name LISTADO: #REF!
Name NVOCD: #REF!
Name PALACIO_NACIONAL_BUGA: #REF!
Name PALACIO_NACIONAL_CALI: #REF!
Name PreciosBase: #REF!
Name SbtPpto: #REF!
Name TodosInsumos: #REF!
Name TtlCD: #REF!
Name TtlCDCronog: #REF!
Name Utilidad: #REF!

Sheet Buenaventura
C1: Consejo Superior de la Judicatura Dirección Ejecutiva Seccional de Administración Judicial Cali – Valle del Cauca
A3: CONTRATISTA: | D3: CONTRATANTE: | H3: OBJETO:
H4: CONTRATAR EN NOMBRE DE LA NACIÓN – CONSEJO SUPERIOR DE LA JUDICATURA – DIRECCIÓN SECCIONAL DE ADMINISTRACIÓN JUDICIAL DE CALI – VALLE DEL CAUCA, EL MANTENIMIENTO Y REPARACIONES LOCATIVAS DE LOS INMUEBLES PALACIO NACIONAL DE BUENAVENTURA Y SEDE JUDICIAL TRANSFERENCIAS DE BUENAVENTURA, INCLUYENDO MATERIALES A TODO COSTO.
A6: FECHA PRESENTE:
D7: CONTRATO No.
A8: FECHA ACTA DE INICIO: | D8: VALOR CONTRATO:
D9: VALOR ADICIÓN AL CONTRATO: | G9: TIEMPO (DIAS) ADICIÓN 1: | J9: =CONCATENATE("VR.ACTA ACTUAL (",F11,")") -> VR.ACTA ACTUAL () | L9: =+Q250 -> 0
A10: FECHA TERMINACIÓN CONTRATO: | D10: VALOR TOTAL CONTRATO: | F10: =F8+F9 -> 0 | G10: VR. ACTA No. 1 | J10: TOTAL PAGADO | L10: =I10+L9 -> 0
D11: ACTA No. | J11: SALDO ACTUAL CONTRATO | L11: =F10-L10 -> 0
A13: INTERVENTOR / SUPERVISOR | D13: CONTRATO INTERVENTORIA | G13: =+D8 -> VALOR CONTRATO: | J13: =+G9 -> TIEMPO (DIAS) ADICIÓN 1: | M13: =+G10 -> VR. ACTA No. 1
D14: N/A | G14: =+D14 -> N/A | J14: =+G14 -> N/A | M14: =+J14 -> N/A
D16: CANTIDADES CONTRACTUALES | H16: MODIFICACION | J16: TOTAL A EJECUTAR | M16: 1 | P16: 2 | S16: 3 | V16: ACUMULADO | Z16: PENDIENTE POR EJECUTAR
A18: ITEM | B18: ID | C18: DESCRIPCION | D18: UND | E18: CANT | F18: V/UNITARIO ANTES DE AIU E IVA | G18: VALOR | H18: CANT. | I18: VALOR | J18: CANT. | K18: VALOR | M18: CANT. | N18: VALOR | P18: CANT. | Q18: VALOR | S18: CANT. | T18: VALOR | V18: CANT. | W18: VALOR | X18: % | Z18: CANT. | AA18: VALOR | AB18: %
A19: PALACIO NACIONAL DE BUENAVENTURA | F19: OFERTA ECONOMICA
A20: ITEM | B20: ID | C20: DESCRIPCIÓN | D20: UNIDAD | E20: CANTIDAD | F20: V/UNITARIO PROMEDIO DEFINITIVO | G20: V/TOTAL | H20: =+H18 -> CANT. | I20: =+I18 -> VALOR | J20: =+J18 -> CANT. | K20: =+K18 -> VALOR | M20: =+M18 -> CANT. | N20: =+N18 -> VALOR | P20: =+P18 -> CANT. | Q20: =+Q18 -> VALOR | S20: =+S18 -> CANT. | T20: =+T18 -> VALOR | V20: =+V18 -> CANT. | W20: =+W18 -> VALOR
A21: Mantenimiento de pasamanos existentes
A22: 1 | B22: PR-36 | C22: Desmonte de acabado superior en madera del Pasamanos, incluye disposición final en centro de acopio certificado | D22: ML | E22: =Memorias!D9 -> 55.1 | G22: =ROUND(F22*E22,0) -> 0 | I22: =ROUND(H22*F22,0) -> 0 | J22: =+H22+E22 -> 55.1 | K22: =G22+I22 -> 0 | N22: =ROUND(M22*F22,0) -> 0 | Q22: =ROUND(P22*F22,0) -> 0 | T22: =ROUND(S22*F22,0) -> 0 | V22: =+M22+P22+S22 -> 0 | W22: =+T22+Q22+N22 -> 0 | X22: =IFERROR(V22/J22,"") -> 0 | Z22: =J22-V22 -> 55.1 | AA22: =ROUND(Z22*F22,0) -> 0 | AB22: =IFERROR(Z22/#REF!,"")
A23: 2 | B23: CA-41 | C23: Suministro e Instalación acabado superior para Pasamanos en Madera Chanul o choibá maciza inmunizada, con sección semitubular 0,08 x 0,10 con barniz y pintura poliuretano diseño y color similar al existente , incluye tornillería y todo lo necesario para su correcta instalación | D23: ML | E23: =Memorias!D44 -> 55.1 | G23: =ROUND(F23*E23,0) -> 0 | I23: =ROUND(H23*F23,0) -> 0 | J23: =+H23+E23 -> 55.1 | K23: =G23+I23 -> 0 | N23: =ROUND(M23*F23,0) -> 0 | Q23: =ROUND(P23*F23,0) -> 0 | T23: =ROUND(S23*F23,0) -> 0 | V23: =+M23+P23+S23 -> 0 | W23: =+T23+Q23+N23 -> 0 | X23: =IFERROR(V23/J23,"") -> 0 | Z23: =J23-V23 -> 55.1 | AA23: =ROUND(Z23*F23,0) -> 0 | AB23: =IFERROR(Z23/#REF!,"")
A24: 3 | B24: CA-19 | C24: Mantenimiento de reja metalica (cuerpo baranda), incluye desmonte si es necesario, cepillado, limpieza del elemento,eliminación total del óxido superficial, cambio de partes afectadas, Reforzar o rehacer soldaduras defectuosas, Aplicación de Imprimante anticorrosivo, Aplicación de Acabado (esmalte o pintura industrial mate ) y todo lo necesario para su correcta instalación | D24: M2 | E24: =Memorias!D74 -> 39.8106 | G24: =ROUND(F24*E24,0) -> 0 | I24: =ROUND(H24*F24,0) -> 0 | J24: =+H24+E24 -> 39.8106 | K24: =G24+I24 -> 0 | N24: =ROUND(M24*F24,0) -> 0 | Q24: =ROUND(P24*F24,0) -> 0 | T24: =ROUND(S24*F24,0) -> 0 | V24: =+M24+P24+S24 -> 0 | W24: =+T24+Q24+N24 -> 0 | X24: =IFERROR(V24/J24,"") -> 0 | Z24: =J24-V24 -> 39.8106 | AA24: =ROUND(Z24*F24,0) -> 0 | AB24: =IFERROR(Z24/#REF!,"")
A25: 4 | B25: PR-48 | C25: Desmonte de reja metálica incluye retiro y disposicion final en centro de acopio certificado | D25: M2 | E25: =Memorias!D105 -> 12.8928 | G25: =ROUND(F25*E25,0) -> 0 | I25: =ROUND(H25*F25,0) -> 0 | J25: =+H25+E25 -> 12.8928 | K25: =G25+I25 -> 0 | N25: =ROUND(M25*F25,0) -> 0 | Q25: =ROUND(P25*F25,0) -> 0 | T25: =ROUND(S25*F25,0) -> 0 | V25: =+M25+P25+S25 -> 0 | W25: =+T25+Q25+N25 -> 0 | X25: =IFERROR(V25/J25,"") -> 0
A26: 5 | B26: CA-43 | C26: Suministro, fabricación e instalación de reja metálica elaborada en varilla lisa de 3/8” (≈ 1 cm de diámetro), diseño similar al existente, incluye cortes, armado, soldadura, esmerilado, aplicación de anticorrosivo y pintura de acabado, asi como anclajes, fijaciones, herrajes y todos los elementos necesarios para su correcta instalación y funcionamiento. | D26: M2 | E26: =Memorias!$D$135 -> 12.8928 | G26: =ROUND(F26*E26,0) -> 0 | I26: =ROUND(H26*F26,0) -> 0 | J26: =+H26+E26 -> 12.8928 | K26: =G26+I26 -> 0 | N26: =ROUND(M26*F26,0) -> 0 | Q26: =ROUND(P26*F26,0) -> 0 | T26: =ROUND(S26*F26,0) -> 0 | V26: =+M26+P26+S26 -> 0 | W26: =+T26+Q26+N26 -> 0 | X26: =IFERROR(V26/J26,"") -> 0
A27: 6 | B27: CA-44 | C27: Suministro, fabricación e instalación de pasamanos en madera Chanul o choibá maciza inmunizada, sección semitubular 0,10 x 0,10 con barniz y pintura poliuretano diseño y color similiar al existente , incluye soporte de fijación en muro, tornilleria y todo lo necesario para su correcta instalación | D27: ML | E27: =Memorias!$D$159 -> 55.1 | I27: =ROUND(H27*F27,0) -> 0 | J27: =+H27+E27 -> 55.1 | K27: =G27+I27 -> 0 | N27: =ROUND(M27*F27,0) -> 0 | Q27: =ROUND(P27*F27,0) -> 0 | T27: =ROUND(S27*F27,0) -> 0 | V27: =+M27+P27+S27 -> 0 | W27: =+T27+Q27+N27 -> 0 | X27: =IFERROR(V27/J27,"") -> 0
A28: Carpintería metálica (ventanillas de atención - Puerta principal ,Pasamanos sotano, Cerramiento exterior) | Z28: =J28-V28 -> 0 | AA28: =ROUND(Z28*#REF!,0) -> #REF! | AB28: =IFERROR(Z28/#REF!,"")
A29: 7 | B29: PR-48 | C29: Desmonte de reja metalica incluye retiro y disposicion final en centro de acopio certificado | D29: M2 | E29: =Memorias!D190 -> 47.64 | G29: =ROUND(F29*E29,0) -> 0 | I29: =ROUND(H29*F29,0) -> 0 | J29: =+H29+E29 -> 47.64 | K29: =G29+I29 -> 0 | N29: =ROUND(M29*F29,0) -> 0 | Q29: =ROUND(P29*F29,0) -> 0 | T29: =ROUND(S29*F29,0) -> 0 | V29: =+M29+P29+S29 -> 0 | W29: =+T29+Q29+N29 -> 0 | X29: =IFERROR(V29/J29,"") -> 0 | Z29: =J29-V29 -> 47.64 | AA29: =ROUND(Z29*F70,0) -> 0 | AB29: =IFERROR(Z29/#REF!,"")
A30: 8 | B30: CA-45 | C30: Suministro, fabricación e instalación de reja metálica elaborada en varilla lisa de 3/4” (≈ 1,9 cm de diámetro), diseño similar al existente, incluye cortes, armado, soldadura, esmerilado, aplicación de anticorrosivo y pintura de acabado, asi como anclajes, fijaciones, herrajes y todos los elementos necesarios para su correcta instalación y funcionamiento. | D30: M2 | E30: =Memorias!D221 -> 27.6 | G30: =ROUND(F30*E30,0) -> 0 | I30: =ROUND(H30*F30,0) -> 0 | J30: =+H30+E30 -> 27.6 | K30: =G30+I30 -> 0 | N30: =ROUND(M30*F30,0) -> 0 | Q30: =ROUND(P30*F30,0) -> 0 | T30: =ROUND(S30*F30,0) -> 0 | V30: =+M30+P30+S30 -> 0 | W30: =+T30+Q30+N30 -> 0 | X30: =IFERROR(V30/J30,"") -> 0
A31: 9 | B31: CA-46 | C31: Suministro, fabricación e instalación de puerta en reja metálica elaborada en varilla lisa de 3/4” (≈ 1,9 cm de diámetro), diseño similar al existente, incluye cortes, armado, soldadura, esmerilado, aplicación de anticorrosivo y pintura de acabado, asi como anclajes, fijaciones, herrajes y todos los elementos necesarios para su correcta instalación y funcionamiento. | D31: M2 | E31: =Memorias!D281 -> 20.04 | I31: =ROUND(H31*F31,0) -> 0 | J31: =+H31+E31 -> 20.04 | K31: =G31+I31 -> 0 | N31: =ROUND(M31*F31,0) -> 0 | Q31: =ROUND(P31*F31,0) -> 0 | T31: =ROUND(S31*F31,0) -> 0 | V31: =+M31+P31+S31 -> 0 | W31: =+T31+Q31+N31 -> 0 | X31: =IFERROR(V31/J31,"") -> 0
A32: 10 | B32: PR-47 | C32: Desmonte de pasamanos metálico existente, incluyendo corte, desanclaje, retiro de fijaciones, cargue, transporte y disposición final de los materiales resultantes en sitio autorizado | D32: ML | E32: =Memorias!D392 -> 3.168 | G32: =ROUND(F32*E32,0) -> 0 | I32: =ROUND(H32*F32,0) -> 0 | J32: =+H32+E32 -> 3.168 | K32: =G32+I32 -> 0 | N32: =ROUND(M32*F32,0) -> 0 | Q32: =ROUND(P32*F32,0) -> 0 | T32: =ROUND(S32*F32,0) -> 0 | V32: =+M32+P32+S32 -> 0 | W32: =+T32+Q32+N32 -> 0 | X32: =IFERROR(V32/J32,"") -> 0
A33: 11 | B33: CA-16 | C33: Suministro e instalación de pasamanos metálico tubular de 2", incluye elementos de fijación (platinas, anclajes, otros), pintura anticorrosiva y pintura de esmalte color a definir | D33: ML | E33: =Memorias!D421 -> 13.634 | G33: =ROUND(F33*E33,0) -> 0 | I33: =ROUND(H33*F33,0) -> 0 | J33: =+H33+E33 -> 13.634 | K33: =G33+I33 -> 0 | N33: =ROUND(M33*F33,0) -> 0 | Q33: =ROUND(P33*F33,0) -> 0 | T33: =ROUND(S33*F33,0) -> 0 | V33: =+M33+P33+S33 -> 0 | W33: =+T33+Q33+N33 -> 0 | X33: =IFERROR(V33/J33,"") -> 0
A34: 12 | B34: CA-19 | C34: Mantenimiento de reja metalica, incluye desmonte si es necesario, cepillado, limpieza del elemento,eliminación total del óxido superficial, cambio de partes afectadas, Reforzar o rehacer soldaduras defectuosas, Aplicación de Imprimante anticorrosivo, Aplicación de Acabado (esmalte o pintura industrial mate ) y todo lo necesario para su correcta instalación | D34: M2 | E34: =Memorias!D587 -> 24.15 | G34: =ROUND(F34*E34,0) -> 0 | I34: =ROUND(H34*F34,0) -> 0 | J34: =+H34+E34 -> 24.15 | K34: =G34+I34 -> 0 | N34: =ROUND(M34*F34,0) -> 0 | Q34: =ROUND(P34*F34,0) -> 0 | T34: =ROUND(S34*F34,0) -> 0 | V34: =+M34+P34+S34 -> 0 | W34: =+T34+Q34+N34 -> 0 | X34: =IFERROR(V34/J34,"") -> 0
A35: 13 | B35: PR-67 | C35: Desmonte de cerramiento malla eslabonada existente, incluye retiro y disposición final en centro de acopio autorizado | D35: M2 | E35: =Memorias!D615 -> 105 | G35: =ROUND(F35*E35,0) -> 0 | I35: =ROUND(H35*F35,0) -> 0 | J35: =+H35+E35 -> 105 | K35: =G35+I35 -> 0 | N35: =ROUND(M35*F35,0) -> 0 | Q35: =ROUND(P35*F35,0) -> 0 | T35: =ROUND(S35*F35,0) -> 0 | V35: =+M35+P35+S35 -> 0 | W35: =+T35+Q35+N35 -> 0 | X35: =IFERROR(V35/J35,"") -> 0
A36: 14 | B36: AC-45 | C36: Suministro e instalacion de cerramiento en malla eslabonada con tuberia galvanizada de 2" angulos de 3/4 po 1/8, concertina y pintura ( incluye retiro malla eslabonada existente ) | D36: M2 | E36: =Memorias!D649 -> 105 | G36: =ROUND(F36*E36,0) -> 0 | I36: =ROUND(H36*F36,0) -> 0 | J36: =+H36+E36 -> 105 | K36: =G36+I36 -> 0 | N36: =ROUND(M36*F36,0) -> 0 | Q36: =ROUND(P36*F36,0) -> 0 | T36: =ROUND(S36*F36,0) -> 0 | V36: =+M36+P36+S36 -> 0 | W36: =+T36+Q36+N36 -> 0 | X36: =IFERROR(V36/J36,"") -> 0
A37: Carpintería en madera | Z37: =J37-V37 -> 0
A38: 15 | B38: PR-40 | C38: Desmonte de marcos en madera (puertas y/o ventanas), incluye retiro y disposición final en centro autorizado | D38: UND | E38: =Memorias!D1357 -> 32 | G38: =ROUND(F38*E38,0) -> 0 | I38: =ROUND(H38*F38,0) -> 0 | J38: =+H38+E38 -> 32 | K38: =G38+I38 -> 0 | N38: =ROUND(M38*F38,0) -> 0 | Q38: =ROUND(P38*F38,0) -> 0 | T38: =ROUND(S38*F38,0) -> 0 | V38: =+M38+P38+S38 -> 0 | W38: =+T38+Q38+N38 -> 0 | X38: =IFERROR(V38/J38,"") -> 0 | Z38: =J38-V38 -> 32 | AA38: =ROUND(Z38*F38,0) -> 0 | AB38: =IFERROR(Z38/#REF!,"")
A39: 16 | B39: PR-71 | C39: Desmonte de celosia en madera incluye retiro y dispoción final en centro de acopio autorizado, cuyas dimensiones oscilan entre 0.40m y 0.50m de alto x 0,80m y 1.00 de largo | D39: UND | E39: =Memorias!D1393 -> 26 | G39: =ROUND(F39*E39,0) -> 0 | I39: =ROUND(H39*F39,0) -> 0 | J39: =+H39+E39 -> 26 | K39: =G39+I39 -> 0 | N39: =ROUND(M39*F39,0) -> 0 | Q39: =ROUND(P39*F39,0) -> 0 | T39: =ROUND(S39*F39,0) -> 0 | V39: =+M39+P39+S39 -> 0 | W39: =+T39+Q39+N39 -> 0 | X39: =IFERROR(V39/J39,"") -> 0 | Z39: =J39-V39 -> 26 | AA39: =ROUND(Z39*F39,0) -> 0 | AB39: =IFERROR(Z39/#REF!,"")
A40: 17 | B40: PR-68 | C40: Desmonte de puerta de madera, incluye retiroy disposición final en centro de acopio autorizado | D40: UND | E40: =Memorias!D1421 -> 19 | G40: =ROUND(F40*E40,0) -> 0 | I40: =ROUND(H40*F40,0) -> 0 | J40: =+H40+E40 -> 19 | K40: =G40+I40 -> 0 | N40: =ROUND(M40*F40,0) -> 0 | Q40: =ROUND(P40*F40,0) -> 0 | T40: =ROUND(S40*F40,0) -> 0 | V40: =+M40+P40+S40 -> 0 | W40: =+T40+Q40+N40 -> 0 | X40: =IFERROR(V40/J40,"") -> 0 | Z40: =J40-V40 -> 19 | AA40: =ROUND(Z40*F40,0) -> 0 | AB40: =IFERROR(Z40/#REF!,"")
A41: 18 | B41: PR-70 | C41: Demonte de vidrio, incluye retiro y disposición final en centro de acopio autorizado | D41: M2 | E41: =Memorias!D1450 -> 30.108 | G41: =ROUND(F41*E41,0) -> 0 | I41: =ROUND(H41*F41,0) -> 0 | J41: =+H41+E41 -> 30.108 | K41: =G41+I41 -> 0 | N41: =ROUND(M41*F41,0) -> 0 | Q41: =ROUND(P41*F41,0) -> 0 | T41: =ROUND(S41*F41,0) -> 0 | V41: =+M41+P41+S41 -> 0 | W41: =+T41+Q41+N41 -> 0 | X41: =IFERROR(V41/J41,"") -> 0 | Z41: =J41-V41 -> 30.108 | AA41: =ROUND(Z41*F41,0) -> 0 | AB41: =IFERROR(Z41/#REF!,"")
A42: 19 | B42: CA-47 | C42: Mantenimiento de ventana en madera tipo celosia, incluye marco, cambio de piezas en mal estado, limpieza, masillado, barniz y pintura en poliuretano color similiar al existente, cuyas dimensiones oscilan entre 0.40m y 0.50m de alto x 0,80m y 1.00 de largo | D42: UND | E42: =Memorias!D1485 -> 4 | G42: =ROUND(F42*E42,0) -> 0 | I42: =ROUND(H42*F42,0) -> 0 | J42: =+H42+E42 -> 4 | K42: =G42+I42 -> 0 | N42: =ROUND(M42*F42,0) -> 0 | Q42: =ROUND(P42*F42,0) -> 0 | T42: =ROUND(S42*F42,0) -> 0 | V42: =+M42+P42+S42 -> 0 | W42: =+T42+Q42+N42 -> 0 | X42: =IFERROR(V42/J42,"") -> 0 | Z42: =J42-V42 -> 4 | AA42: =ROUND(Z42*F42,0) -> 0 | AB42: =IFERROR(Z42/#REF!,"")
A43: 20 | B43: CA-08 | C43: Suministro e instalación de ventana tipo celosia en madera Chanul o choibá maciza inmunizada con acabado en pintura poliuretano díseño y color similiar al existente , incluye tornilleria y todo lo necesario para su correcta instalación, cuyas medidas oscilan entre 0.40m y 0.50m de alto x 0,80m y 1.00 de largo | D43: UND | E43: =Memorias!D1511 -> 26 | G43: =ROUND(F43*E43,0) -> 0 | I43: =ROUND(H43*F43,0) -> 0 | J43: =+H43+E43 -> 26 | K43: =G43+I43 -> 0 | N43: =ROUND(M43*F43,0) -> 0 | Q43: =ROUND(P43*F43,0) -> 0 | T43: =ROUND(S43*F43,0) -> 0 | V43: =+M43+P43+S43 -> 0 | W43: =+T43+Q43+N43 -> 0 | X43: =IFERROR(V43/J43,"") -> 0
A44: 21 | B44: CA-25 | C44: Suministro e instalación de marco de madera Chanul o choibá maciza inmunizada con acabado en pintura poliuretano color similiar al existente , incluye tornilleria y todo lo necesario para su correcta instalación, cuyas medidas oscilan entre 0.80m y 1.00m de ancho x 1,90m y 2,20m de alto | D44: UND | E44: =Memorias!D1544 -> 19 | G44: =ROUND(F44*E44,0) -> 0 | I44: =ROUND(H44*F44,0) -> 0 | J44: =+H44+E44 -> 19 | K44: =G44+I44 -> 0 | N44: =ROUND(M44*F44,0) -> 0 | Q44: =ROUND(P44*F44,0) -> 0 | T44: =ROUND(S44*F44,0) -> 0 | V44: =+M44+P44+S44 -> 0 | W44: =+T44+Q44+N44 -> 0 | X44: =IFERROR(V44/J44,"") -> 0 | Z44: =J44-V44 -> 19 | AA44: =ROUND(Z44*F44,0) -> 0 | AB44: =IFERROR(Z44/#REF!,"")
A45: 22 | B45: CA-22 | C45: Suministro e instalación de puerta de madera Chanul o choibá maciza inmunizada con acabado en pintura poliuretano color similiar al existente, conformada por una nave, cuyas dimensiones oscilan entre 0.80m y 1.00m de ancho x 1.90m y 2.20 m de alto, diseño igual al existente, incluye bisagras, chapa, tragaluz, burlete, vidrio (si es necesario), tornilleria y todo lo necesario para su correcta instalación | D45: UND | E45: =Memorias!D1609 -> 19 | G45: =ROUND(F45*E45,0) -> 0 | I45: =ROUND(H45*F45,0) -> 0 | J45: =+H45+E45 -> 19 | K45: =G45+I45 -> 0 | N45: =ROUND(M45*F45,0) -> 0 | Q45: =ROUND(P45*F45,0) -> 0 | T45: =ROUND(S45*F45,0) -> 0 | V45: =+M45+P45+S45 -> 0 | W45: =+T45+Q45+N45 -> 0 | X45: =IFERROR(V45/J45,"") -> 0 | Z45: =J45-V45 -> 19 | AA45: =ROUND(Z45*F45,0) -> 0 | AB45: =IFERROR(Z45/#REF!,"")
...

Sheet Memorias
D5: Consejo Superior de la Judicatura Dirección Seccional de Administración Judicial de Cali – Valle del Cauca
B6: MEMORIA DE CÁLCULO DE EJECUCIÓN
B7: DESCRIPCIÓN | D7: =VLOOKUP(B9,Buenaventura!A22:G242,3,FALSE) -> Desmonte de acabado superior en madera del Pasamanos, incluye disposición final en centro de acopio certificado
B8: ITEM | D8: CANTIDAD TOTAL | E8: UNIDAD | I8: PLANO DE CANTIDADES | L8: REGISTRO FOTOGRAFICO
B9: 1 | C9: =VLOOKUP(B9,Buenaventura!A22:G242,2,FALSE) -> PR-36 | D9: =SUM(H12:H28) -> 55.1 | E9: =VLOOKUP(B9,Buenaventura!A22:G241,4,FALSE) -> ML
B11: elemento | C11: Ubicación | D11: Cantidad | E11: Ancho | F11: Largo | G11: Alto | H11: total
B12: pasamanos escalera | C12: piso 1 | D12: 2 | F12: =1.36*1.6 -> 2.176 | H12: =D12*F12 -> 4.352
D13: 1 | F13: 4 | H13: =D13*F13 -> 4
D14: 2 | F14: =3*1.6 -> 4.8 | H14: =D14*F14 -> 9.6
C15: piso 2 | D15: 1 | F15: =1.53*1.6 -> 2.448 | H15: =D15*F15 -> 2.448
D16: 1 | F16: =1.58*1.6 -> 2.528 | H16: =D16*F16 -> 2.528
D17: 1 | F17: =1.2*1.6 -> 1.92 | H17: =D17*F17 -> 1.92
C18: piso 3 | D18: 1 | F18: =1.53*1.6 -> 2.448 | H18: =D18*F18 -> 2.448
D19: 1 | F19: =1.58*1.6 -> 2.528 | H19: =D19*F19 -> 2.528
D20: 1 | F20: =1.2*1.6 -> 1.92 | H20: =D20*F20 -> 1.92
C21: mezanine | D21: 1 | F21: 1.14 | H21: =D21*F21 -> 1.14
D22: 1 | F22: =2.2*1.6 -> 3.52 | H22: =D22*F22 -> 3.52
C23: piso 4 | D23: 1 | F23: =1.53*1.6 -> 2.448 | H23: =D23*F23 -> 2.448
D24: 1 | F24: =1.58*1.6 -> 2.528 | H24: =D24*F24 -> 2.528
D25: 1 | F25: =1.2*1.6 -> 1.92 | H25: =D25*F25 -> 1.92
C26: A terraza | D26: 2 | F26: =3*1.6 -> 4.8 | H26: =D26*F26 -> 9.6
D27: 1 | F27: 2.2 | H27: =D27*F27 -> 2.2
B36: Realizó
D40: Consejo Superior de la Judicatura Dirección Seccional de Administración Judicial de Cali – Valle del Cauca
B41: MEMORIA DE CÁLCULO DE EJECUCIÓN
B42: DESCRIPCIÓN | D42: =VLOOKUP(B44,Buenaventura!A9:G264,3,FALSE) -> Suministro e Instalación acabado superior para Pasamanos en Madera Chanul o choibá maciza inmunizada, con sección semitubular 0,08 x 0,10 con barniz y pintura poliuretano diseño y color similar al existente , incluye tornillería y todo lo necesario para su correcta instalación
B43: ITEM | D43: CANTIDAD TOTAL | E43: UNIDAD | I43: PLANO DE CANTIDADES | L43: REGISTRO FOTOGRAFICO
B44: 2 | C44: =VLOOKUP(B44,Buenaventura!A9:G264,2,FALSE) -> CA-41 | D44: =SUM(H47:H62) -> 55.1 | E44: =VLOOKUP(B44,Buenaventura!A9:G263,4,FALSE) -> ML
B47: pasamanos escalera | C47: piso 1 | D47: 2 | F47: =1.36*1.6 -> 2.176 | H47: =D47*F47 -> 4.352
D48: 1 | F48: 4 | H48: =D48*F48 -> 4
D49: 2 | F49: =3*1.6 -> 4.8 | H49: =D49*F49 -> 9.6
C50: piso 2 | D50: 1 | F50: =1.53*1.6 -> 2.448 | H50: =D50*F50 -> 2.448
D51: 1 | F51: =1.58*1.6 -> 2.528 | H51: =D51*F51 -> 2.528
D52: 1 | F52: =1.2*1.6 -> 1.92 | H52: =D52*F52 -> 1.92
C53: piso 3 | D53: 1 | F53: =1.53*1.6 -> 2.448 | H53: =D53*F53 -> 2.448
D54: 1 | F54: =1.58*1.6 -> 2.528 | H54: =D54*F54 -> 2.528
D55: 1 | F55: =1.2*1.6 -> 1.92 | H55: =D55*F55 -> 1.92
C56: mezanine | D56: 1 | F56: 1.14 | H56: =D56*F56 -> 1.14
D57: 1 | F57: =2.2*1.6 -> 3.52 | H57: =D57*F57 -> 3.52
C58: piso 4 | D58: 1 | F58: =1.53*1.6 -> 2.448 | H58: =D58*F58 -> 2.448
...

Sheet ACTA DE AJUSTE
B2: =+#REF! -> #REF!
A5: CONTRATO No. | B5: =+Buenaventura!F7 -> 0
A7: FECHA | B7: =+Buenaventura!G8 -> 0
A8: PERÍODO | B8: 1 al 30 de octubre del 2023
A10: ACTA DE OBRA | B10: 2 | C10: acta de ajuste icociv y 3 insumos
A11: ETAPA | B11: CONSTRUCCIÓN
A12: CONSTRUCTOR | B12: =+Buenaventura!A4 -> 0
A13: INTERVENTOR / SUPERVISOR | B13: =+Buenaventura!A14:C14 -> 0
A15: OBJETO DEL CONTRATO | B15: =+Buenaventura!H4 -> CONTRATAR EN NOMBRE DE LA NACIÓN – CONSEJO SUPERIOR DE LA JUDICATURA – DIRECCIÓN SECCIONAL DE ADMINISTRACIÓN JUDICIAL DE CALI – VALLE DEL CAUCA, EL MANTENIMIENTO Y REPARACIONES LOCATIVAS DE LOS INMUEBLES PALACIO NACIONAL DE BUENAVENTURA Y SEDE JUDICIAL TRANSFERENCIAS DE BUENAVENTURA, INCLUYENDO MATERIALES A TODO COSTO.
A18: RESUMEN DE LA OBRA
E19: precios
A20: =+Buenaventura!A20 -> ITEM | B20: =VLOOKUP(A20,Buenaventura!$A$20:$C$243,2,FALSE) -> ID | E20: =+Buenaventura!G20 -> V/TOTAL
A21: =+Buenaventura!A21 -> Mantenimiento de pasamanos existentes | B21: =VLOOKUP(A21,Buenaventura!$A$20:$C$243,2,FALSE) -> 0 | E21: =+Buenaventura!G21 -> 0
A22: =+Buenaventura!A22 -> 1 | B22: =VLOOKUP(A22,Buenaventura!$A$20:$C$243,2,FALSE) -> PR-36 | E22: =+Buenaventura!G22 -> 0
A23: =+Buenaventura!A23 -> 2 | B23: =VLOOKUP(A23,Buenaventura!$A$20:$C$243,2,FALSE) -> CA-41 | E23: =+Buenaventura!G23 -> 0
A24: =+Buenaventura!A24 -> 3 | B24: =VLOOKUP(A24,Buenaventura!$A$20:$C$243,2,FALSE) -> CA-19 | E24: =+Buenaventura!G24 -> 0
A25: =+Buenaventura!#REF! -> #REF! | B25: =VLOOKUP(A25,Buenaventura!$A$20:$C$243,2,FALSE) -> #REF! | E25: =+Buenaventura!#REF! -> #REF!
A26: =+Buenaventura!#REF! -> #REF! | B26: =VLOOKUP(A26,Buenaventura!$A$20:$C$243,2,FALSE) -> #REF! | E26: =+Buenaventura!#REF! -> #REF!
A27: =+Buenaventura!#REF! -> #REF! | B27: =VLOOKUP(A27,Buenaventura!$A$20:$C$243,2,FALSE) -> #REF! | E27: =+Buenaventura!#REF! -> #REF!
A28: =+Buenaventura!#REF! -> #REF! | B28: =VLOOKUP(A28,Buenaventura!$A$20:$C$243,2,FALSE) -> #REF! | E28: =+Buenaventura!#REF! -> #REF!
A29: =+Buenaventura!A70 -> 44 | B29: =VLOOKUP(A29,Buenaventura!$A$20:$C$243,2,FALSE) -> DI-29 | E29: =+Buenaventura!G70 -> 0
A30: =+Buenaventura!A37 -> Carpintería en madera | B30: =VLOOKUP(A30,Buenaventura!$A$20:$C$243,2,FALSE) -> 0 | E30: =+Buenaventura!G37 -> 0
A31: =+Buenaventura!A38 -> 15 | B31: =VLOOKUP(A31,Buenaventura!$A$20:$C$243,2,FALSE) -> PR-40 | E31: =+Buenaventura!G38 -> 0
A32: =+Buenaventura!A39 -> 16 | B32: =VLOOKUP(A32,Buenaventura!$A$20:$C$243,2,FALSE) -> PR-71 | E32: =+Buenaventura!G39 -> 0
A33: =+Buenaventura!A40 -> 17 | B33: =VLOOKUP(A33,Buenaventura!$A$20:$C$243,2,FALSE) -> PR-68 | E33: =+Buenaventura!G40 -> 0
A34: =+Buenaventura!A41 -> 18 | B34: =VLOOKUP(A34,Buenaventura!$A$20:$C$243,2,FALSE) -> PR-70 | E34: =+Buenaventura!G41 -> 0
A35: =+Buenaventura!A42 -> 19 | B35: =VLOOKUP(A35,Buenaventura!$A$20:$C$243,2,FALSE) -> CA-47 | E35: =+Buenaventura!G42 -> 0
A36: =+Buenaventura!A44 -> 21 | B36: =VLOOKUP(A36,Buenaventura!$A$20:$C$243,2,FALSE) -> CA-25 | E36: =+Buenaventura!G44 -> 0
A37: =+Buenaventura!A50 -> MantenimientoTerrazas | B37: =VLOOKUP(A37,Buenaventura!$A$20:$C$243,2,FALSE) -> 0 | E37: =+Buenaventura!G50 -> 0
A38: =+Buenaventura!A51 -> 27 | B38: =VLOOKUP(A38,Buenaventura!$A$20:$C$243,2,FALSE) -> RI-08 | E38: =+Buenaventura!G51 -> 0
A39: =+Buenaventura!A52 -> 28 | B39: =VLOOKUP(A39,Buenaventura!$A$20:$C$243,2,FALSE) -> PR-29 | E39: =+Buenaventura!G52 -> 0
A40: =+Buenaventura!A53 -> 29 | B40: =VLOOKUP(A40,Buenaventura!$A$20:$C$243,2,FALSE) -> IH-01 | E40: =+Buenaventura!G53 -> 0
A41: =+Buenaventura!#REF! -> #REF! | B41: =VLOOKUP(A41,Buenaventura!$A$20:$C$243,2,FALSE) -> #REF! | E41: =+Buenaventura!#REF! -> #REF!
A42: =+Buenaventura!#REF! -> #REF! | B42: =VLOOKUP(A42,Buenaventura!$A$20:$C$243,2,FALSE) -> #REF! | E42: =+Buenaventura!#REF! -> #REF!
A43: =+Buenaventura!#REF! -> #REF! | B43: =VLOOKUP(A43,Buenaventura!$A$20:$C$243,2,FALSE) -> #REF! | E43: =+Buenaventura!#REF! -> #REF!
A44: =+Buenaventura!#REF! -> #REF! | B44: =VLOOKUP(A44,Buenaventura!$A$20:$C$243,2,FALSE) -> #REF! | E44: =+Buenaventura!#REF! -> #REF!
A45: =+Buenaventura!#REF! -> #REF! | B45: =VLOOKUP(A45,Buenaventura!$A$20:$C$243,2,FALSE) -> #REF! | E45: =+Buenaventura!#REF! -> #REF!
A46: =+Buenaventura!#REF! -> #REF! | B46: =VLOOKUP(A46,Buenaventura!$A$20:$C$243,2,FALSE) -> #REF! | E46: =+Buenaventura!#REF! -> #REF!
A47: =+Buenaventura!#REF! -> #REF! | B47: =VLOOKUP(A47,Buenaventura!$A$20:$C$243,2,FALSE) -> #REF! | E47: =+Buenaventura!#REF! -> #REF!
A48: =+Buenaventura!A57 -> Tratamiento de humedades internas | B48: =VLOOKUP(A48,Buenaventura!$A$20:$C$243,2,FALSE) -> 0 | E48: =+Buenaventura!G57 -> 0
...
