Workbook
Name _Hlk127257397: 'CÓDIGOS UNSPSC'!#REF!
Name _Hlk92525671: 'CÓDIGOS UNSPSC'!$A$3

Sheet CÓDIGOS UNSPSC
A3: CLASIFICACIÓN UNSPSC | B3: DESCRIPCIÓN
A4: 50161800 | B4: Productos de confitería
A5: 50161500 | B5: Chocolates, azucares, edulcorantes productos
A6: 82151600 | B6: Artistas de circo
A7: 50192300 | B7: Postres y decoraciones de postres
A8: 49101600 | B8: Recuerdos (souvenirs)

Sheet Cotización 1
A3: ITEM | B3: ARTICULO | C3: CANT | D3: V/UND | E3: V/TOTAL
A4: 1 | B4: Show recreativo de Nueve (09) personajes, Show de magia cómica (malabares y payaso profesional), Animación dirigid (con participación activa del público), Concursos y dinámica (para los niños y niñas asistentes al evento), Show de espumas (10 espumas), Bombas mil figuras (1000 bombas) y Cámara de humo y luces (para ambientar la presentación). Duración del show 2horas y 30 minutos. | C4: 1 | D4: 14100000 | E4: =+D4*C4 -> 14100000
A5: 2 | B5: Decoracion de Stand o tarima con temática alusiva a Halloween (incluye bombas y telas). | C5: 1 | D5: 1200000 | E5: =D5*C5 -> 1200000
A6: 2 | B6: Paleta con Cubierta de Chocolate, Rellena de helado 45g. | C6: 1500 | D6: 3000 | E6: =+D6*C6 -> 4500000
A7: 3 | B7: Gomitas en aro cubiertas de azucar. Bolsa * 100 unidades | C7: 30 | D7: 31000 | E7: =+D7*C7 -> 930000
A8: 4 | B8: Galletas con relleno de crema sabor a vainilla o fresa, paquete * 18 unidades | C8: 80 | D8: 22000 | E8: =D8*C8 -> 1760000
A9: 5 | B9: Pasabocas amarillos horneados. Bolsa * 12 unidades de 10gr cada uno | C9: 125 | D9: 13000 | E9: =D9*C9 -> 1625000
A10: 7 | B10: Barrilete caramelo blando masticable, sabor frutal, por 50 unidades, 400 g. | C10: 30 | D10: 19000 | E10: =+D10*C10 -> 570000
A11: 8 | B11: Caramelo Masticable Max Combi, viene por 100 unidades | C11: 25 | D11: 14800 | E11: =+D11*C11 -> 370000
A12: 9 | B12: Confite relleno de chocolate en figura de corazón, viene por 100 unidades | C12: 25 | D12: 20500 | E12: =+D12*C12 -> 512500
E13: =SUM(E4:E12) -> 25567500

Sheet Cotización 2
A3: ITEM | B3: ARTICULO | C3: CANT | D3: V/UND | E3: V/TOTAL
A4: 1 | B4: Show recreativo de Nueve (09) personajes, Show de magia cómica (malabares y payaso profesional), Animación dirigid (con participación activa del público), Concursos y dinámica (para los niños y niñas asistentes al evento), Show de espumas (10 espumas), Bombas mil figuras (1000 bombas) y Cámara de humo y luces (para ambientar la presentación). Duración del show 2horas y 30 minutos. | C4: 1 | D4: 13900000 | E4: =+D4*C4 -> 13900000
A5: 2 | B5: Decoracion de Stand o tarima con temática alusiva a Halloween (incluye bombas y telas). | C5: 1 | D5: 1000000 | E5: =+D5*C5 -> 1000000
A6: 2 | B6: Paleta con Cubierta de Chocolate, Rellena de helado 45g. | C6: 1500 | D6: 2800 | E6: =+D6*C6 -> 4200000
A7: 3 | B7: Gomitas en aro cubiertas de azucar. Bolsa * 100 unidades | C7: 30 | D7: 29000 | E7: =+D7*C7 -> 870000
A8: 4 | B8: Galletas con relleno de crema sabor a vainilla o fresa, paquete * 18 unidades | C8: 80 | D8: 21000 | E8: =+D8*C8 -> 1680000
A9: 5 | B9: Pasabocas amarillos horneados. Bolsa * 12 unidades de 10gr cada uno | C9: 125 | D9: 11000 | E9: =+D9*C9 -> 1375000
A10: 7 | B10: Barrilete caramelo blando masticable, sabor frutal, por 50 unidades, 400 g. | C10: 30 | D10: 18000 | E10: =+D10*C10 -> 540000
A11: 8 | B11: Caramelo Masticable Max Combi, viene por 100 unidades | C11: 25 | D11: 15200 | E11: =+D11*C11 -> 380000
A12: 9 | B12: Confite relleno de chocolate en figura de corazón, viene por 100 unidades | C12: 25 | D12: 19500 | E12: =+D12*C12 -> 487500
E13: =SUM(E4:E12) -> 24432500

Sheet Consolidado
A2: CONSOLIDADO
A3: ITEM | B3: ARTICULO | C3: CANT | D3: V/UND | E3: V/TOTAL
A4: 1 | B4: Show recreativo de Nueve (09) personajes, Show de magia cómica (malabares y payaso profesional), Animación dirigid (con participación activa del público), Concursos y dinámica (para los niños y niñas asistentes al evento), Show de espumas (10 espumas), Bombas mil figuras (1000 bombas) y Cámara de humo y luces (para ambientar la presentación). Duración del show 2horas y 30 minutos. | C4: 1 | D4: =(('Cotización 1'!D4+'Cotización 2'!D4))/2 -> 14000000 | E4: =(('Cotización 1'!E4+'Cotización 2'!E4))/2 -> 14000000
A5: 2 | B5: Decoracion de Stand o tarima con temática alusiva a Halloween (incluye bombas y telas). | C5: 1 | D5: =(('Cotización 1'!D5+'Cotización 2'!D5))/2 -> 1100000 | E5: =(('Cotización 1'!E5+'Cotización 2'!E5))/2 -> 1100000
A6: 3 | B6: Paleta con Cubierta de Chocolate, Rellena de helado 45g. | C6: 1500 | D6: =(('Cotización 1'!D6+'Cotización 2'!D6))/2 -> 2900 | E6: =(('Cotización 1'!E6+'Cotización 2'!E6))/2 -> 4350000
A7: 4 | B7: Gomitas en aro cubiertas de azucar. Bolsa * 100 unidades | C7: 30 | D7: =(('Cotización 1'!D7+'Cotización 2'!D7))/2 -> 30000 | E7: =(('Cotización 1'!E7+'Cotización 2'!E7))/2 -> 900000
A8: 5 | B8: Galletas con relleno de crema sabor a vainilla o fresa, paquete * 18 unidades | C8: 80 | D8: =(('Cotización 1'!D8+'Cotización 2'!D8))/2 -> 21500 | E8: =(('Cotización 1'!E8+'Cotización 2'!E8))/2 -> 1720000
A9: 6 | B9: Pasabocas amarillos horneados. Bolsa * 12 unidades de 10gr cada uno | C9: 125 | D9: =(('Cotización 1'!D9+'Cotización 2'!D9))/2 -> 12000 | E9: =(('Cotización 1'!E9+'Cotización 2'!E9))/2 -> 1500000
A10: 7 | B10: Barrilete caramelo blando masticable, sabor frutal, por 50 unidades, 400 g. | C10: 30 | D10: =(('Cotización 1'!D10+'Cotización 2'!D10))/2 -> 18500 | E10: =(('Cotización 1'!E10+'Cotización 2'!E10))/2 -> 555000
A11: 8 | B11: Caramelo Masticable Max Combi, viene por 100 unidades | C11: 25 | D11: =(('Cotización 1'!D11+'Cotización 2'!D11))/2 -> 15000 | E11: =(('Cotización 1'!E11+'Cotización 2'!E11))/2 -> 375000
A12: 9 | B12: Confite relleno de chocolate en figura de corazón, viene por 100 unidades | C12: 25 | D12: =(('Cotización 1'!D12+'Cotización 2'!D12))/2 -> 20000 | E12: =(('Cotización 1'!E12+'Cotización 2'!E12))/2 -> 500000
A13: TOTAL | D13: =SUM(D4:D12) -> 15219900 | E13: =SUM(E4:E12) -> 25000000
