Workbook

Sheet REPUESTOS
B2: PRECIOTECHO LOTE 1 | D2: Mantenimiento preventivo y correctivo integral a todo costo (incluidos repuestos, mano de obra y accesorios originales u homologados) de las motocicletas que se encuentran al servicio de la Fiscalía General de la Nación en las Seccionales Cali, Cauca, Nariño y Valle del Cauca. | AH2: RESPUESTOS MOTOCICLETAS MULTIMARCAS | BL2: RESPUESTOS MOTOCICLETAS MULTIMARCAS
AH3: MANTENIMIENTO MOTOCICLETAS | BL3: MANTENIMIENTO MOTOCICLETAS
AH4: *** Incluye Costos Directos e Indirectos | BL4: *** Incluye Costos Directos e Indirectos
B6: DESCRIPCION | D6: AKT 125 NKD | J6: AKT AK125 BR - TTR | P6: BAJAJ DISCOVER 125 | V6: BAJAJ PULSAR NS 200 | AB6: HONDA BIZ C100 | AH6: HONDA CB 250 TWISTER | AN6: HONDA CB 110 | AT6: HONDA CB 125 | AZ6: HONDA ECO DELUXE | BF6: HONDA ELITE | BL6: HONDA INVICTA | BR6: HONDA NXR125 | BX6: HONDA XR 150 | CD6: HONDA XR 250 TORNADO | CJ6: HONDA XR 190 | CP6: KYMCO AGILITY FUSION | CV6: SUZUKI AX4 | DB6: SUZUKI BEST 125 | DH6: SUZUKI DR 150 | DN6: SUZUKI DR 200 | DT6: SUZUKI DR 650 | DZ6: SUZUKI FREEWIND XF 650 | EF6: YAMAHA FZ16 | EL6: YAMAHA FZN250 | ER6: YAMAHA SZ15RR | EX6: YAMAHA T115FI | FD6: YAMAHA XT 660 2012 | FJ6: YAMAHA XT-225D 2007 | FP6: YAMAHA XTZ 125 | FV6: YAMAHA XTZ 150 | GB6: YAMAHA XTZ 250 | GH6: YAMAHA YBR-125ED | GN6: YAMAHA YW-125
D7: COTIZACION 1 ARAAUTOS | E7: COTIZACION 2 AUTO CAMPERO | F7: COTIZACION 3 VALLE S.A.S. SERAUTOVALLE S.A.S. | G7: COTIZACION 4 GLOBOLLANTAS S.A.S | H7: COTIZACION 5 SUPERITAJE S.A.S | I7: PRECIO TECHO | J7: COTIZACION 1 ARAAUTOS | K7: COTIZACION 2 AUTO CAMPERO | L7: COTIZACION 3 VALLE S.A.S. SERAUTOVALLE S.A.S. | M7: COTIZACION 4 GLOBOLLANTAS S.A.S | N7: COTIZACION 5 SUPERITAJE S.A.S | O7: PRECIO TECHO | P7: COTIZACION 1 ARAAUTOS | Q7: COTIZACION 2 AUTO CAMPERO | R7: COTIZACION 3 VALLE S.A.S. SERAUTOVALLE S.A.S. | S7: COTIZACION 4 GLOBOLLANTAS S.A.S | T7: COTIZACION 5 SUPERITAJE S.A.S | U7: PRECIO TECHO | V7: COTIZACION 1 ARAAUTOS | W7: COTIZACION 2 AUTO CAMPERO | X7: COTIZACION 3 VALLE S.A.S. SERAUTOVALLE S.A.S. | Y7: COTIZACION 4 GLOBOLLANTAS S.A.S | Z7: COTIZACION 5 SUPERITAJE S.A.S | AA7: PRECIO TECHO | AB7: COTIZACION 1 ARAAUTOS | AC7: COTIZACION 2 AUTO CAMPERO | AD7: COTIZACION 3 VALLE S.A.S. SERAUTOVALLE S.A.S. | AE7: COTIZACION 4 GLOBOLLANTAS S.A.S | AF7: COTIZACION 5 SUPERITAJE S.A.S | AG7: PRECIO TECHO | AH7: COTIZACION 1 ARAAUTOS | AI7: COTIZACION 2 AUTO CAMPERO | AJ7: COTIZACION 3 VALLE S.A.S. SERAUTOVALLE S.A.S. | AK7: COTIZACION 4 GLOBOLLANTAS S.A.S | AL7: COTIZACION 5 SUPERITAJE S.A.S | AM7: PRECIO TECHO | AN7: COTIZACION 1 ARAAUTOS | AO7: COTIZACION 2 AUTO CAMPERO | AP7: COTIZACION 3 VALLE S.A.S. SERAUTOVALLE S.A.S. | AQ7: COTIZACION 4 GLOBOLLANTAS S.A.S | AR7: COTIZACION 5 SUPERITAJE S.A.S | AS7: PRECIO TECHO | AT7: COTIZACION 1 ARAAUTOS | AU7: COTIZACION 2 AUTO CAMPERO | AV7: COTIZACION 3 VALLE S.A.S. SERAUTOVALLE S.A.S. | AW7: COTIZACION 4 GLOBOLLANTAS S.A.S | AX7: COTIZACION 5 SUPERITAJE S.A.S | AY7: PRECIO TECHO | AZ7: COTIZACION 1 ARAAUTOS | BA7: COTIZACION 2 AUTO CAMPERO | BB7: COTIZACION 3 VALLE S.A.S. SERAUTOVALLE S.A.S. | BC7: COTIZACION 4 GLOBOLLANTAS S.A.S | BD7: COTIZACION 5 SUPERITAJE S.A.S | BE7: PRECIO TECHO | BF7: COTIZACION 1 ARAAUTOS | BG7: COTIZACION 2 AUTO CAMPERO | BH7: COTIZACION 3 VALLE S.A.S. SERAUTOVALLE S.A.S. | BI7: COTIZACION 4 GLOBOLLANTAS S.A.S | BJ7: COTIZACION 5 SUPERITAJE S.A.S | BK7: PRECIO TECHO | BL7: COTIZACION 1 ARAAUTOS | BM7: COTIZACION 2 AUTO CAMPERO | BN7: COTIZACION 3 VALLE S.A.S. SERAUTOVALLE S.A.S. | BO7: COTIZACION 4 GLOBOLLANTAS S.A.S | BP7: COTIZACION 5 SUPERITAJE S.A.S | BQ7: PRECIO TECHO | BR7: COTIZACION 1 ARAAUTOS | BS7: COTIZACION 2 AUTO CAMPERO | BT7: COTIZACION 3 VALLE S.A.S. SERAUTOVALLE S.A.S. | BU7: COTIZACION 4 GLOBOLLANTAS S.A.S | BV7: COTIZACION 5 SUPERITAJE S.A.S | BW7: PRECIO TECHO | BX7: COTIZACION 1 ARAAUTOS | BY7: COTIZACION 2 AUTO CAMPERO | BZ7: COTIZACION 3 VALLE S.A.S. SERAUTOVALLE S.A.S. | CA7: COTIZACION 4 GLOBOLLANTAS S.A.S | CB7: COTIZACION 5 SUPERITAJE S.A.S | CC7: PRECIO TECHO | CD7: COTIZACION 1 ARAAUTOS | CE7: COTIZACION 2 AUTO CAMPERO | CF7: COTIZACION 3 VALLE S.A.S. SERAUTOVALLE S.A.S. | CG7: COTIZACION 4 GLOBOLLANTAS S.A.S | CH7: COTIZACION 5 SUPERITAJE S.A.S | CI7: PRECIO TECHO | CJ7: COTIZACION 1 ARAAUTOS | CK7: COTIZACION 2 AUTO CAMPERO | CL7: COTIZACION 3 VALLE S.A.S. SERAUTOVALLE S.A.S. | CM7: COTIZACION 4 GLOBOLLANTAS S.A.S | CN7: COTIZACION 5 SUPERITAJE S.A.S | CO7: PRECIO TECHO | CP7: COTIZACION 1 ARAAUTOS | CQ7: COTIZACION 2 AUTO CAMPERO | CR7: COTIZACION 3 VALLE S.A.S. SERAUTOVALLE S.A.S. | CS7: COTIZACION 4 GLOBOLLANTAS S.A.S | CT7: COTIZACION 5 SUPERITAJE S.A.S | CU7: PRECIO TECHO | CV7: COTIZACION 1 ARAAUTOS | CW7: COTIZACION 2 AUTO CAMPERO | CX7: COTIZACION 3 VALLE S.A.S. SERAUTOVALLE S.A.S. | CY7: COTIZACION 4 GLOBOLLANTAS S.A.S | CZ7: COTIZACION 5 SUPERITAJE S.A.S | DA7: PRECIO TECHO | DB7: COTIZACION 1 ARAAUTOS | DC7: COTIZACION 2 AUTO CAMPERO | DD7: COTIZACION 3 VALLE S.A.S. SERAUTOVALLE S.A.S. | DE7: COTIZACION 4 GLOBOLLANTAS S.A.S | DF7: COTIZACION 5 SUPERITAJE S.A.S | DG7: PRECIO TECHO | DH7: COTIZACION 1 ARAAUTOS | DI7: COTIZACION 2 AUTO CAMPERO | DJ7: COTIZACION 3 VALLE S.A.S. SERAUTOVALLE S.A.S. | DK7: COTIZACION 4 GLOBOLLANTAS S.A.S | DL7: COTIZACION 5 SUPERITAJE S.A.S | DM7: PRECIO TECHO | DN7: COTIZACION 1 ARAAUTOS | DO7: COTIZACION 2 AUTO CAMPERO | DP7: COTIZACION 3 VALLE S.A.S. SERAUTOVALLE S.A.S. | DQ7: COTIZACION 4 GLOBOLLANTAS S.A.S | DR7: COTIZACION 5 SUPERITAJE S.A.S | DS7: PRECIO TECHO | DT7: COTIZACION 1 ARAAUTOS | DU7: COTIZACION 2 AUTO CAMPERO | DV7: COTIZACION 3 VALLE S.A.S. SERAUTOVALLE S.A.S. | DW7: COTIZACION 4 GLOBOLLANTAS S.A.S | DX7: COTIZACION 5 SUPERITAJE S.A.S | DY7: PRECIO TECHO | DZ7: COTIZACION 1 ARAAUTOS | EA7: COTIZACION 2 AUTO CAMPERO | EB7: COTIZACION 3 VALLE S.A.S. SERAUTOVALLE S.A.S. | EC7: COTIZACION 4 GLOBOLLANTAS S.A.S | ED7: COTIZACION 5 SUPERITAJE S.A.S | EE7: PRECIO TECHO | EF7: COTIZACION 1 ARAAUTOS | EG7: COTIZACION 2 AUTO CAMPERO | EH7: COTIZACION 3 VALLE S.A.S. SERAUTOVALLE S.A.S. | EI7: COTIZACION 4 GLOBOLLANTAS S.A.S | EJ7: COTIZACION 5 SUPERITAJE S.A.S | EK7: PRECIO TECHO | EL7: COTIZACION 1 ARAAUTOS | EM7: COTIZACION 2 AUTO CAMPERO | EN7: COTIZACION 3 VALLE S.A.S. SERAUTOVALLE S.A.S. | EO7: COTIZACION 4 GLOBOLLANTAS S.A.S | EP7: COTIZACION 5 SUPERITAJE S.A.S | EQ7: PRECIO TECHO | ER7: COTIZACION 1 ARAAUTOS | ES7: COTIZACION 2 AUTO CAMPERO | ET7: COTIZACION 3 VALLE S.A.S. SERAUTOVALLE S.A.S. | EU7: COTIZACION 4 GLOBOLLANTAS S.A.S | EV7: COTIZACION 5 SUPERITAJE S.A.S | EW7: PRECIO TECHO | EX7: COTIZACION 1 ARAAUTOS | EY7: COTIZACION 2 AUTO CAMPERO | EZ7: COTIZACION 3 VALLE S.A.S. SERAUTOVALLE S.A.S. | FA7: COTIZACION 4 GLOBOLLANTAS S.A.S | FB7: COTIZACION 5 SUPERITAJE S.A.S | FC7: PRECIO TECHO | FD7: COTIZACION 1 ARAAUTOS | FE7: COTIZACION 2 AUTO CAMPERO | FF7: COTIZACION 3 VALLE S.A.S. SERAUTOVALLE S.A.S. | FG7: COTIZACION 4 GLOBOLLANTAS S.A.S | FH7: COTIZACION 5 SUPERITAJE S.A.S | FI7: PRECIO TECHO | FJ7: COTIZACION 1 ARAAUTOS | FK7: COTIZACION 2 AUTO CAMPERO | FL7: COTIZACION 3 VALLE S.A.S. SERAUTOVALLE S.A.S. | FM7: COTIZACION 4 GLOBOLLANTAS S.A.S | FN7: COTIZACION 5 SUPERITAJE S.A.S | FO7: PRECIO TECHO | FP7: COTIZACION 1 ARAAUTOS | FQ7: COTIZACION 2 AUTO CAMPERO | FR7: COTIZACION 3 VALLE S.A.S. SERAUTOVALLE S.A.S. | FS7: COTIZACION 4 GLOBOLLANTAS S.A.S | FT7: COTIZACION 5 SUPERITAJE S.A.S | FU7: PRECIO TECHO | FV7: COTIZACION 1 ARAAUTOS | FW7: COTIZACION 2 AUTO CAMPERO | FX7: COTIZACION 3 VALLE S.A.S. SERAUTOVALLE S.A.S. | FY7: COTIZACION 4 GLOBOLLANTAS S.A.S | FZ7: COTIZACION 5 SUPERITAJE S.A.S | GA7: PRECIO TECHO | GB7: COTIZACION 1 ARAAUTOS | GC7: COTIZACION 2 AUTO CAMPERO | GD7: COTIZACION 3 VALLE S.A.S. SERAUTOVALLE S.A.S. | GE7: COTIZACION 4 GLOBOLLANTAS S.A.S | GF7: COTIZACION 5 SUPERITAJE S.A.S | GG7: PRECIO TECHO | GH7: COTIZACION 1 ARAAUTOS | GI7: COTIZACION 2 AUTO CAMPERO | GJ7: COTIZACION 3 VALLE S.A.S. SERAUTOVALLE S.A.S. | GK7: COTIZACION 4 GLOBOLLANTAS S.A.S | GL7: COTIZACION 5 SUPERITAJE S.A.S | GM7: PRECIO TECHO | GN7: COTIZACION 1 ARAAUTOS | GO7: COTIZACION 2 AUTO CAMPERO | GP7: COTIZACION 3 VALLE S.A.S. SERAUTOVALLE S.A.S. | GQ7: COTIZACION 4 GLOBOLLANTAS S.A.S | GR7: COTIZACION 5 SUPERITAJE S.A.S | GS7: PRECIO TECHO
B8: 1 | C8: SINCRONIZACION
B9: 1.1 | C9: AGUJA BASE Y PUNSON | D9: 53550 | E9: 47481 | F9: 52479 | G9: 66937.5 | H9: 49980 | I9: 56227.5 | J9: 53550 | K9: 50872.5 | L9: 56227.5 | M9: 66937.5 | N9: 53550 | O9: 59976 | P9: 63000 | Q9: 54264 | R9: 59976 | S9: 78750 | T9: 57120 | U9: =AVERAGE(P9:T9) -> 62622 | V9: 74117.647 | W9: 81396 | X9: 89964 | Y9: 92647.059 | Z9: 85680 | AA9: =AVERAGE(V9:Z9) -> 84760.941 | AB9: 58206.522 | AC9: 50872.5 | AD9: 56227.5 | AE9: 72758.152 | AF9: 53550 | AG9: =AVERAGE(AB9:AF9) -> 58322.935 | AH9: 119000 | AI9: 108528 | AJ9: 119952 | AK9: 148750 | AL9: 114240 | AM9: =AVERAGE(AH9:AL9) -> 122094 | AN9: 68478.261 | AO9: 54264 | AP9: 59976 | AQ9: 85597.826 | AR9: 57120 | AS9: =AVERAGE(AN9:AR9) -> 65087.217 | AT9: 80562.66 | AU9: 57655.5 | AV9: 63724.5 | AW9: 100703.32 | AX9: 60690 | AY9: =AVERAGE(AT9:AX9) -> 72667.197 | AZ9: 70128.339 | BA9: 47481 | BB9: 52479 | BC9: 87660.424 | BD9: 49980 | BE9: =AVERAGE(AZ9:BD9) -> 61545.753 | BF9: 70596.145 | BG9: 61047 | BH9: 67473 | BI9: 88245.182 | BJ9: 64260 | BK9: =AVERAGE(BF9:BJ9) -> 70324.265 | BL9: 82206.796 | BM9: 67830 | BN9: 74970 | BO9: 102758.49 | BP9: 71400 | BQ9: =AVERAGE(BL9:BP9) -> 79833.058 | BR9: 61551.724 | BS9: 57655.5 | BT9: 63724.5 | BU9: 76939.655 | BV9: 60690 | BW9: =AVERAGE(BR9:BV9) -> 64112.276 | BX9: 65480.558 | BY9: 67830 | BZ9: 74970 | CA9: 81850.697 | CB9: 71400 | CC9: =AVERAGE(BX9:CB9) -> 72306.251 | CD9: 120202.02 | CE9: 108528 | CF9: 119952 | CG9: 150252.53 | CH9: 114240 | CI9: =AVERAGE(CD9:CH9) -> 122634.91 | CJ9: 119055.56 | CK9: 81396 | CL9: 89964 | CM9: 148819.45 | CN9: 85680 | CO9: =AVERAGE(CJ9:CN9) -> 104983 | CP9: 72036.883 | CQ9: 20349 | CR9: 22491 | CS9: 90046.104 | CT9: 21420 | CU9: =AVERAGE(CP9:CT9) -> 45268.597 | CV9: 60852.273 | CW9: 16957.5 | CX9: 18742.5 | CY9: 76065.341 | CZ9: 17850 | DA9: =AVERAGE(CV9:CZ9) -> 38093.523 | DB9: 60006.723 | DC9: 18088 | DD9: 19992 | DE9: 75008.404 | DF9: 19040 | DG9: =AVERAGE(DB9:DF9) -> 38427.026 | DH9: 66816.896 | DI9: 22610 | DJ9: 24990 | DK9: 83521.119 | DL9: 23800 | DM9: =AVERAGE(DH9:DL9) -> 44347.603 | DN9: 70749.108 | DO9: 27132 | DP9: 29988 | DQ9: 88436.385 | DR9: 28560 | DS9: =AVERAGE(DN9:DR9) -> 48973.099 | DT9: 160269.36 | DU9: 54264 | DV9: 59976 | DW9: 200336.7 | DX9: 57120 | DY9: =AVERAGE(DT9:DX9) -> 106393.21 | DZ9: 160269.36 | EA9: 54264 | EB9: 59976 | EC9: 200336.7 | ED9: 57120 | EE9: =AVERAGE(DZ9:ED9) -> 106393.21 | EF9: 86533.469 | EG9: 24871 | EH9: 27489 | EI9: 108166.84 | EJ9: 26180 | EK9: =AVERAGE(EF9:EJ9) -> 54648.061 | EL9: 94058.119 | EM9: 38437 | EN9: 42483 | EO9: 117572.65 | EP9: 40460 | EQ9: =AVERAGE(EL9:EP9) -> 66602.153 | ER9: 83072.13 | ES9: 22610 | ET9: 24990 | EU9: 103840.16 | EV9: 23800 | EW9: =AVERAGE(ER9:EV9) -> 51662.459 | EX9: 84767.48 | EY9: 18088 | EZ9: 19992 | FA9: 105959.35 | FB9: 19040 | FC9: =AVERAGE(EX9:FB9) -> 49569.366 | FD9: 168704.59 | FE9: 58786 | FF9: 64974 | FG9: 210880.74 | FH9: 61880 | FI9: =AVERAGE(FD9:FH9) -> 113045.07 | FJ9: 122655.12 | FK9: 29393 | FL9: 32487 | FM9: 153318.9 | FN9: 30940 | FO9: =AVERAGE(FJ9:FN9) -> 73758.805 | FP9: 112842.71 | FQ9: 20349 | FR9: 22491 | FS9: 141053.39 | FT9: 21420 | FU9: =AVERAGE(FP9:FT9) -> 63631.221 | FV9: 133320.79 | FW9: 24871 | FX9: 27489 | FY9: 166650.98 | FZ9: 26180 | GA9: =AVERAGE(FV9:FZ9) -> 75702.353 | GB9: 143355.68 | GC9: 38437 | GD9: 42483 | GE9: 179194.6 | GF9: 40460 | GG9: =AVERAGE(GB9:GF9) -> 88786.057 | GH9: 115145.63 | GI9: 19218.5 | GJ9: 21241.5 | GK9: 143932.03 | GL9: 20230 | GM9: =AVERAGE(GH9:GL9) -> 63953.531 | GN9: 117495.54 | GO9: 21479.5 | GP9: 23740.5 | GQ9: 146869.42 | GR9: 22610 | GS9: =AVERAGE(GN9:GR9) -> 66438.991
B10: 1.2 | C10: BUJIA | D10: 45815 | E10: 40698 | F10: 44982 | G10: 57268.75 | H10: 42840 | I10: 44982 | J10: 45815 | K10: 40698 | L10: 44982 | M10: 57268.75 | N10: 42840 | O10: 52479 | P10: 53900 | Q10: 47481 | R10: 52479 | S10: 67375 | T10: 49980 | U10: =AVERAGE(P10:T10) -> 54243 | V10: 63411.765 | W10: 81396 | X10: 89964 | Y10: 79264.706 | Z10: 85680 | AA10: =AVERAGE(V10:Z10) -> 79943.294 | AB10: 49798.913 | AC10: 44089.5 | AD10: 48730.5 | AE10: 62248.641 | AF10: 46410 | AG10: =AVERAGE(AB10:AF10) -> 50255.511 | AH10: 101811.11 | AI10: 94962 | AJ10: 104958 | AK10: 127263.89 | AL10: 99960 | AM10: =AVERAGE(AH10:AL10) -> 105791 | AN10: 58586.957 | AO10: 44089.5 | AP10: 48730.5 | AQ10: 73233.696 | AR10: 46410 | AS10: =AVERAGE(AN10:AR10) -> 54210.13 | AT10: 68925.831 | AU10: 47481 | AV10: 52479 | AW10: 86157.289 | AX10: 49980 | AY10: =AVERAGE(AT10:AX10) -> 61004.624 | AZ10: 59998.69 | BA10: 40698 | BB10: 44982 | BC10: 74998.363 | BD10: 42840 | BE10: =AVERAGE(AZ10:BD10) -> 52703.411 | BF10: 60398.924 | BG10: 47481 | BH10: 52479 | BI10: 75498.655 | BJ10: 49980 | BK10: =AVERAGE(BF10:BJ10) -> 57167.516 | BL10: 70332.481 | BM10: 61047 | BN10: 67473 | BO10: 87915.601 | BP10: 64260 | BQ10: =AVERAGE(BL10:BP10) -> 70205.616 | BR10: 52660.92 | BS10: 47481 | BT10: 52479 | BU10: 65826.149 | BV10: 49980 | BW10: =AVERAGE(BR10:BV10) -> 53685.414 | BX10: 56022.255 | BY10: 61047 | BZ10: 67473 | CA10: 70027.819 | CB10: 64260 | CC10: =AVERAGE(BX10:CB10) -> 63766.015 | CD10: 102839.51 | CE10: 94962 | CF10: 104958 | CG10: 128549.38 | CH10: 99960 | CI10: =AVERAGE(CD10:CH10) -> 106253.78 | CJ10: 101858.65 | CK10: 74613 | CL10: 82467 | CM10: 127323.31 | CN10: 78540 | CO10: =AVERAGE(CJ10:CN10) -> 92960.39 | CP10: 61631.555 | CQ10: 15827 | CR10: 17493 | CS10: 77039.444 | CT10: 16660 | CU10: =AVERAGE(CP10:CT10) -> 37730.2 | CV10: 52062.5 | CW10: 14696.5 | CX10: 16243.5 | CY10: 65078.125 | CZ10: 15470 | DA10: =AVERAGE(CV10:CZ10) -> 32710.125 | DB10: 51339.086 | DC10: 14696.5 | DD10: 16243.5 | DE10: 64173.857 | DF10: 15470 | DG10: =AVERAGE(DB10:DF10) -> 32384.589 | DH10: 57165.566 | DI10: 20349 | DJ10: 22491 | DK10: 71456.958 | DL10: 21420 | DM10: =AVERAGE(DH10:DL10) -> 38576.505 | DN10: 60529.793 | DO10: 24871 | DP10: 27489 | DQ10: 75662.241 | DR10: 26180 | DS10: =AVERAGE(DN10:DR10) -> 42946.407 | DT10: 137119.34 | DU10: 42959 | DV10: 47481 | DW10: 171399.18 | DX10: 45220 | DY10: =AVERAGE(DT10:DX10) -> 88835.704 | DZ10: 137119.34 | EA10: 42959 | EB10: 47481 | EC10: 171399.18 | ED10: 45220 | EE10: =AVERAGE(DZ10:ED10) -> 88835.704 | EF10: 74034.19 | EG10: 20349 | EH10: 22491 | EI10: 92542.738 | EJ10: 21420 | EK10: =AVERAGE(EF10:EJ10) -> 46167.386 | EL10: 80471.946 | EM10: 31654 | EN10: 34986 | EO10: 100589.93 | EP10: 33320 | EQ10: =AVERAGE(EL10:EP10) -> 56204.376 | ER10: 71072.823 | ES10: 20349 | ET10: 22491 | EU10: 88841.028 | EV10: 21420 | EW10: =AVERAGE(ER10:EV10) -> 44834.77 | EX10: 72523.288 | EY10: 14696.5 | EZ10: 16243.5 | FA10: 90654.111 | FB10: 15470 | FC10: =AVERAGE(EX10:FB10) -> 41917.48 | FD10: 144336.15 | FE10: 47481 | FF10: 52479 | FG10: 180420.19 | FH10: 49980 | FI10: =AVERAGE(FD10:FH10) -> 94939.267 | FJ10: 104938.27 | FK10: 27132 | FL10: 29988 | FM10: 131172.84 | FN10: 28560 | FO10: =AVERAGE(FJ10:FN10) -> 64358.222 | FP10: 96543.21 | FQ10: 15827 | FR10: 17493 | FS10: 120679.01 | FT10: 16660 | FU10: =AVERAGE(FP10:FT10) -> 53440.444 | FV10: 114063.34 | FW10: 20349 | FX10: 22491 | FY10: 142579.17 | FZ10: 21420 | GA10: =AVERAGE(FV10:FZ10) -> 64180.502 | GB10: 122648.75 | GC10: 31654 | GD10: 34986 | GE10: 153310.94 | GF10: 33320 | GG10: =AVERAGE(GB10:GF10) -> 75183.938 | GH10: 98513.479 | GI10: 15827 | GJ10: 17493 | GK10: 123141.85 | GL10: 16660 | GM10: =AVERAGE(GH10:GL10) -> 54327.066 | GN10: 100523.96 | GO10: 15827 | GP10: 17493 | GQ10: 125654.95 | GR10: 16660 | GS10: =AVERAGE(GN10:GR10) -> 55231.781
B11: 1.3 | C11: CARBURADOR | D11: 291550 | E11: 390022.5 | F11: 431077.5 | G11: 364437.5 | H11: 410550 | I11: 449820 | J11: 291550 | K11: 406980 | L11: 449820 | M11: 364437.5 | N11: 428400 | O11: 506047.5 | P11: 343000 | Q11: 457852.5 | R11: 506047.5 | S11: 428750 | T11: 481950 | U11: =AVERAGE(P11:T11) -> 443520 | V11: 403529.41 | W11: 746130 | X11: 824670 | Y11: 504411.76 | Z11: 785400 | AA11: =AVERAGE(V11:Z11) -> 652828.24 | AB11: 316902.17 | AC11: 423937.5 | AD11: 468562.5 | AE11: 396127.72 | AF11: 446250 | AG11: =AVERAGE(AB11:AF11) -> 410355.98 | AH11: 647888.89 | AI11: 983535 | AJ11: 1087065 | AK11: 809861.11 | AL11: 1035300 | AM11: =AVERAGE(AH11:AL11) -> 912730 | AN11: 372826.09 | AO11: 440895 | AP11: 487305 | AQ11: 466032.61 | AR11: 464100 | AS11: =AVERAGE(AN11:AR11) -> 446231.74 | AT11: 438618.93 | AU11: 474810 | AV11: 524790 | AW11: 548273.66 | AX11: 499800 | AY11: =AVERAGE(AT11:AX11) -> 497258.52 | AZ11: 381809.85 | BA11: 390022.5 | BB11: 431077.5 | BC11: 477262.31 | BD11: 410550 | BE11: =AVERAGE(AZ11:BD11) -> 418144.43 | BF11: 384356.79 | BG11: 491767.5 | BH11: 543532.5 | BI11: 480445.99 | BJ11: 517650 | BK11: =AVERAGE(BF11:BJ11) -> 483550.56 | BL11: 447570.33 | BM11: 610470 | BN11: 674730 | BO11: 559462.92 | BP11: 642600 | BQ11: =AVERAGE(BL11:BP11) -> 586966.65 | BR11: 335114.94 | BS11: 474810 | BT11: 524790 | BU11: 418893.68 | BV11: 499800 | BW11: =AVERAGE(BR11:BV11) -> 450681.72 | BX11: 356505.26 | BY11: 627427.5 | BZ11: 693472.5 | CA11: 445631.57 | CB11: 660450 | CC11: =AVERAGE(BX11:CB11) -> 556697.37 | CD11: 654433.22 | CE11: 1051365 | CF11: 1162035 | CG11: 818041.53 | CH11: 1106700 | CI11: =AVERAGE(CD11:CH11) -> 958514.95 | CJ11: 648191.38 | CK11: 780045 | CL11: 862155 | CM11: 810239.22 | CN11: 821100 | CO11: =AVERAGE(CJ11:CN11) -> 784346.12 | CP11: 392200.81 | CQ11: 169575 | CR11: 187425 | CS11: 490251.01 | CT11: 178500 | CU11: =AVERAGE(CP11:CT11) -> 283590.36 | CV11: 331306.82 | CW11: 141312.5 | CX11: 156187.5 | CY11: 414133.52 | CZ11: 148750 | DA11: =AVERAGE(CV11:CZ11) -> 238338.07 | DB11: 326703.27 | DC11: 152617.5 | DD11: 168682.5 | DE11: 408379.09 | DF11: 160650 | DG11: =AVERAGE(DB11:DF11) -> 243406.47 | DH11: 363780.88 | DI11: 209142.5 | DJ11: 231157.5 | DK11: 454726.09 | DL11: 220150 | DM11: =AVERAGE(DH11:DL11) -> 295791.39 | DN11: 385189.59 | DO11: 265667.5 | DP11: 293632.5 | DQ11: 481486.99 | DR11: 279650 | DS11: =AVERAGE(DN11:DR11) -> 341125.32 | DT11: 872577.63 | DU11: 542640 | DV11: 599760 | DW11: 1090722 | DX11: 571200 | DY11: =AVERAGE(DT11:DX11) -> 735379.93 | DZ11: 872577.63 | EA11: 553945 | EB11: 612255 | EC11: 1090722 | ED11: 583100 | EE11: =AVERAGE(DZ11:ED11) -> 742519.93 | EF11: 471126.67 | EG11: 220447.5 | EH11: 243652.5 | EI11: 588908.33 | EJ11: 232050 | EK11: =AVERAGE(EF11:EJ11) -> 351237 | EL11: 512094.2 | EM11: 339150 | EN11: 374850 | EO11: 640117.75 | EP11: 357000 | EQ11: =AVERAGE(EL11:EP11) -> 444642.39 | ER11: 452281.6 | ES11: 209142.5 | ET11: 231157.5 | EU11: 565352 | EV11: 220150 | EW11: =AVERAGE(ER11:EV11) -> 335616.72 | EX11: 461511.84 | EY11: 152617.5 | EZ11: 168682.5 | FA11: 576889.79 | FB11: 160650 | FC11: =AVERAGE(EX11:FB11) -> 304070.33 | FD11: 918502.77 | FE11: 587860 | FF11: 649740 | FG11: 1148128.5 | FH11: 618800 | FI11: =AVERAGE(FD11:FH11) -> 784606.24 | FJ11: 667789 | FK11: 282625 | FL11: 312375 | FM11: 834736.25 | FN11: 297500 | FO11: =AVERAGE(FJ11:FN11) -> 479005.05 | FP11: 614365.88 | FQ11: 163922.5 | FR11: 181177.5 | FS11: 767957.35 | FT11: 172550 | FU11: =AVERAGE(FP11:FT11) -> 379994.65 | FV11: 725857.61 | FW11: 214795 | FX11: 237405 | FY11: 907322.01 | FZ11: 226100 | GA11: =AVERAGE(FV11:FZ11) -> 462295.92 | GB11: 780492.05 | GC11: 350455 | GD11: 387345 | GE11: 975615.07 | GF11: 368900 | GG11: =AVERAGE(GB11:GF11) -> 572561.42 | GH11: 626903.96 | GI11: 158270 | GJ11: 174930 | GK11: 783629.95 | GL11: 166600 | GM11: =AVERAGE(GH11:GL11) -> 382066.78 | GN11: 639697.92 | GO11: 175227.5 | GP11: 193672.5 | GQ11: 799622.4 | GR11: 184450 | GS11: =AVERAGE(GN11:GR11) -> 398534.06
B12: 1.4 | C12: EMPAQUES CARBURADOR | D12: 90202 | E12: 27132 | F12: 29988 | G12: 112752.5 | H12: 28560 | I12: 33736.5 | J12: 90202 | K12: 30523.5 | L12: 33736.5 | M12: 112752.5 | N12: 32130 | O12: 33736.5 | P12: 106120 | Q12: 30523.5 | R12: 33736.5 | S12: 132650 | T12: 32130 | U12: =AVERAGE(P12:T12) -> 67032 | V12: 124847.06 | W12: 47481 | X12: 52479 | Y12: 156058.82 | Z12: 49980 | AA12: =AVERAGE(V12:Z12) -> 86169.176 | AB12: 98045.652 | AC12: 30523.5 | AD12: 33736.5 | AE12: 122557.07 | AF12: 32130 | AG12: =AVERAGE(AB12:AF12) -> 63398.543 | AH12: 200448.89 | AI12: 61047 | AJ12: 67473 | AK12: 250561.11 | AL12: 64260 | AM12: =AVERAGE(AH12:AL12) -> 128758 | AN12: 115347.83 | AO12: 30523.5 | AP12: 33736.5 | AQ12: 144184.78 | AR12: 32130 | AS12: =AVERAGE(AN12:AR12) -> 71184.522 | AT12: 135703.32 | AU12: 33915 | AV12: 37485 | AW12: 169629.16 | AX12: 35700 | AY12: =AVERAGE(AT12:AX12) -> 82486.496 | AZ12: 118127.29 | BA12: 27132 | BB12: 29988 | BC12: 147659.11 | BD12: 28560 | BE12: =AVERAGE(AZ12:BD12) -> 70293.281 | BF12: 118915.28 | BG12: 33915 | BH12: 37485 | BI12: 148644.11 | BJ12: 35700 | BK12: =AVERAGE(BF12:BJ12) -> 74931.878 | BL12: 138472.78 | BM12: 40698 | BN12: 44982 | BO12: 173090.98 | BP12: 42840 | BQ12: =AVERAGE(BL12:BP12) -> 88016.751 | BR12: 103680.46 | BS12: 33915 | BT12: 37485 | BU12: 129600.57 | BV12: 35700 | BW12: =AVERAGE(BR12:BV12) -> 68076.207 | BX12: 110298.36 | BY12: 40698 | BZ12: 44982 | CA12: 137872.95 | CB12: 42840 | CC12: =AVERAGE(BX12:CB12) -> 75338.263 | CD12: 202473.63 | CE12: 61047 | CF12: 67473 | CG12: 253092.03 | CH12: 64260 | CI12: =AVERAGE(CD12:CH12) -> 129669.13 | CJ12: 200542.48 | CK12: 47481 | CL12: 52479 | CM12: 250678.09 | CN12: 49980 | CO12: =AVERAGE(CJ12:CN12) -> 120232.11 | CP12: 121342.13 | CQ12: 11305 | CR12: 12495 | CS12: 151677.66 | CT12: 11900 | CU12: =AVERAGE(CP12:CT12) -> 61743.957 | CV12: 102502.27 | CW12: 10174.5 | CX12: 11245.5 | CY12: 128127.84 | CZ12: 10710 | DA12: =AVERAGE(CV12:CZ12) -> 52552.023 | DB12: 101077.99 | DC12: 10174.5 | DD12: 11245.5 | DE12: 126347.49 | DF12: 10710 | DG12: =AVERAGE(DB12:DF12) -> 51911.096 | DH12: 112549.35 | DI12: 13566 | DJ12: 14994 | DK12: 140686.69 | DL12: 14280 | DM12: =AVERAGE(DH12:DL12) -> 59215.207 | DN12: 119172.94 | DO12: 15827 | DP12: 17493 | DQ12: 148966.18 | DR12: 16660 | DS12: =AVERAGE(DN12:DR12) -> 63623.824 | DT12: 269964.83 | DU12: 27132 | DV12: 29988 | DW12: 337456.04 | DX12: 28560 | DY12: =AVERAGE(DT12:DX12) -> 138620.18 | DZ12: 269964.83 | EA12: 27132 | EB12: 29988 | EC12: 337456.04 | ED12: 28560 | EE12: =AVERAGE(DZ12:ED12) -> 138620.18 | EF12: 145760.82 | EG12: 13566 | EH12: 14994 | EI12: 182201.03 | EJ12: 14280 | EK12: =AVERAGE(EF12:EJ12) -> 74160.37 | EL12: 158435.68 | EM12: 20349 | EN12: 22491 | EO12: 198044.59 | EP12: 21420 | EQ12: =AVERAGE(EL12:EP12) -> 84148.054 | ER12: 139930.39 | ES12: 13566 | ET12: 14994 | EU12: 174912.99 | EV12: 14280 | EW12: =AVERAGE(ER12:EV12) -> 71536.675 | EX12: 142786.11 | EY12: 10174.5 | EZ12: 11245.5 | FA12: 178482.64 | FB12: 10710 | FC12: =AVERAGE(EX12:FB12) -> 70679.75 | FD12: 284173.51 | FE12: 29393 | FF12: 32487 | FG12: 355216.89 | FH12: 30940 | FI12: =AVERAGE(FD12:FH12) -> 146442.08 | FJ12: 206605.74 | FK12: 16957.5 | FL12: 18742.5 | FM12: 258257.17 | FN12: 17850 | FO12: =AVERAGE(FJ12:FN12) -> 103682.58 | FP12: 190077.28 | FQ12: 11305 | FR12: 12495 | FS12: 237596.6 | FT12: 11900 | FU12: =AVERAGE(FP12:FT12) -> 92674.776 | FV12: 224571.46 | FW12: 13566 | FX12: 14994 | FY12: 280714.32 | FZ12: 14280 | GA12: =AVERAGE(FV12:FZ12) -> 109625.16 | GB12: 241474.68 | GC12: 20349 | GD12: 22491 | GE12: 301843.36 | GF12: 21420 | GG12: =AVERAGE(GB12:GF12) -> 121515.61 | GH12: 193956.41 | GI12: 11305 | GJ12: 12495 | GK12: 242445.51 | GL12: 11900 | GM12: =AVERAGE(GH12:GL12) -> 94420.384 | GN12: 197914.7 | GO12: 11305 | GP12: 12495 | GQ12: 247393.38 | GR12: 11900 | GS12: =AVERAGE(GN12:GR12) -> 96201.616
B13: 1.5 | C13: FILTRO COMBUSTIBLE | D13: 14875 | E13: 23740.5 | F13: 26239.5 | G13: 18593.75 | H13: 24990 | I13: 26239.5 | J13: 14875 | K13: 23740.5 | L13: 26239.5 | M13: 18593.75 | N13: 24990 | O13: 29988 | P13: 17500 | Q13: 27132 | R13: 29988 | S13: 21875 | T13: 28560 | U13: =AVERAGE(P13:T13) -> 25011 | V13: 20588.235 | W13: 40698 | X13: 44982 | Y13: 25735.294 | Z13: 42840 | AA13: =AVERAGE(V13:Z13) -> 34968.706 | AB13: 16168.478 | AC13: 27132 | AD13: 29988 | AE13: 20210.598 | AF13: 28560 | AG13: =AVERAGE(AB13:AF13) -> 24411.815 | AH13: 33055.556 | AI13: 54264 | AJ13: 59976 | AK13: 41319.444 | AL13: 57120 | AM13: =AVERAGE(AH13:AL13) -> 49147 | AN13: 19021.739 | AO13: 27132 | AP13: 29988 | AQ13: 23777.174 | AR13: 28560 | AS13: =AVERAGE(AN13:AR13) -> 25695.783 | AT13: 22378.517 | AU13: 27132 | AV13: 29988 | AW13: 27973.146 | AX13: 28560 | AY13: =AVERAGE(AT13:AX13) -> 27206.332 | AZ13: 19480.094 | BA13: 23740.5 | BB13: 26239.5 | BC13: 24350.118 | BD13: 24990 | BE13: =AVERAGE(AZ13:BD13) -> 23760.042 | BF13: 19610.04 | BG13: 30523.5 | BH13: 33736.5 | BI13: 24512.55 | BJ13: 32130 | BK13: =AVERAGE(BF13:BJ13) -> 28102.518 | BL13: 22835.221 | BM13: 33915 | BN13: 37485 | BO13: 28544.026 | BP13: 35700 | BQ13: =AVERAGE(BL13:BP13) -> 31695.849 | BR13: 17097.701 | BS13: 27132 | BT13: 29988 | BU13: 21372.126 | BV13: 28560 | BW13: =AVERAGE(BR13:BV13) -> 24829.966 | BX13: 18189.044 | BY13: 33915 | BZ13: 37485 | CA13: 22736.305 | CB13: 35700 | CC13: =AVERAGE(BX13:CB13) -> 29605.07 | CD13: 33389.45 | CE13: 54264 | CF13: 59976 | CG13: 41736.813 | CH13: 57120 | CI13: =AVERAGE(CD13:CH13) -> 49297.253 | CJ13: 33070.989 | CK13: 40698 | CL13: 44982 | CM13: 41338.736 | CN13: 42840 | CO13: =AVERAGE(CJ13:CN13) -> 40585.945 | CP13: 20010.245 | CQ13: 10174.5 | CR13: 11245.5 | CS13: 25012.807 | CT13: 10710 | CU13: =AVERAGE(CP13:CT13) -> 15430.61 | CV13: 16903.409 | CW13: 9044 | CX13: 9996 | CY13: 21129.261 | CZ13: 9520 | DA13: =AVERAGE(CV13:CZ13) -> 13318.534 | DB13: 16668.534 | DC13: 9044 | DD13: 9996 | DE13: 20835.668 | DF13: 9520 | DG13: =AVERAGE(DB13:DF13) -> 13212.84 | DH13: 18560.249 | DI13: 11305 | DJ13: 12495 | DK13: 23200.311 | DL13: 11900 | DM13: =AVERAGE(DH13:DL13) -> 15492.112 | DN13: 19652.53 | DO13: 13566 | DP13: 14994 | DQ13: 24565.663 | DR13: 14280 | DS13: =AVERAGE(DN13:DR13) -> 17411.639 | DT13: 44519.267 | DU13: 24871 | DV13: 27489 | DW13: 55649.083 | DX13: 26180 | DY13: =AVERAGE(DT13:DX13) -> 35741.67 | DZ13: 44519.267 | EA13: 24871 | EB13: 27489 | EC13: 55649.083 | ED13: 26180 | EE13: =AVERAGE(DZ13:ED13) -> 35741.67 | EF13: 24037.075 | EG13: 11305 | EH13: 12495 | EI13: 30046.343 | EJ13: 11900 | EK13: =AVERAGE(EF13:EJ13) -> 17956.684 | EL13: 26127.255 | EM13: 18088 | EN13: 19992 | EO13: 32659.069 | EP13: 19040 | EQ13: =AVERAGE(EL13:EP13) -> 23181.265 | ER13: 23075.592 | ES13: 11305 | ET13: 12495 | EU13: 28844.49 | EV13: 11900 | EW13: =AVERAGE(ER13:EV13) -> 17524.016 | EX13: 23546.522 | EY13: 9044 | EZ13: 9996 | FA13: 29433.153 | FB13: 9520 | FC13: =AVERAGE(EX13:FB13) -> 16307.935 | FD13: 46862.386 | FE13: 27132 | FF13: 29988 | FG13: 58577.983 | FH13: 28560 | FI13: =AVERAGE(FD13:FH13) -> 38224.074 | FJ13: 34070.867 | FK13: 14696.5 | FL13: 16243.5 | FM13: 42588.584 | FN13: 15470 | FO13: =AVERAGE(FJ13:FN13) -> 24613.89 | FP13: 31345.198 | FQ13: 10174.5 | FR13: 11245.5 | FS13: 39181.498 | FT13: 10710 | FU13: =AVERAGE(FP13:FT13) -> 20531.339 | FV13: 37033.552 | FW13: 11305 | FX13: 12495 | FY13: 46291.939 | FZ13: 11900 | GA13: =AVERAGE(FV13:FZ13) -> 23805.098 | GB13: 39821.023 | GC13: 18088 | GD13: 19992 | GE13: 49776.279 | GF13: 19040 | GG13: =AVERAGE(GB13:GF13) -> 29343.46 | GH13: 31984.896 | GI13: 9044 | GJ13: 9996 | GK13: 39981.12 | GL13: 9520 | GM13: =AVERAGE(GH13:GL13) -> 20105.203 | GN13: 32637.649 | GO13: 10174.5 | GP13: 11245.5 | GQ13: 40797.061 | GR13: 10710 | GS13: =AVERAGE(GN13:GR13) -> 21112.942
B14: 1.6 | C14: FILTRO DE AIRE | D14: 75922 | E14: 54264 | F14: 59976 | G14: 94902.5 | H14: 57120 | I14: 67473 | J14: 75922 | K14: 61047 | L14: 67473 | M14: 94902.5 | N14: 64260 | O14: 82467 | P14: 89320 | Q14: 74613 | R14: 82467 | S14: 111650 | T14: 78540 | U14: =AVERAGE(P14:T14) -> 87318 | V14: 105082.35 | W14: 122094 | X14: 134946 | Y14: 131352.94 | Z14: 128520 | AA14: =AVERAGE(V14:Z14) -> 124399.06 | AB14: 82523.913 | AC14: 61047 | AD14: 67473 | AE14: 103154.89 | AF14: 64260 | AG14: =AVERAGE(AB14:AF14) -> 75691.761 | AH14: 168715.56 | AI14: 162792 | AJ14: 179928 | AK14: 210894.44 | AL14: 171360 | AM14: =AVERAGE(AH14:AL14) -> 178738 | AN14: 97086.957 | AO14: 67830 | AP14: 74970 | AQ14: 121358.7 | AR14: 71400 | AS14: =AVERAGE(AN14:AR14) -> 86529.13 | AT14: 114219.95 | AU14: 74613 | AV14: 82467 | AW14: 142774.94 | AX14: 78540 | AY14: =AVERAGE(AT14:AX14) -> 98522.977 | AZ14: 99426.401 | BA14: 57655.5 | BB14: 63724.5 | BC14: 124283 | BD14: 60690 | BE14: =AVERAGE(AZ14:BD14) -> 81155.881 | BF14: 100089.65 | BG14: 81396 | BH14: 89964 | BI14: 125112.06 | BJ14: 85680 | BK14: =AVERAGE(BF14:BJ14) -> 96448.341 | BL14: 116550.97 | BM14: 94962 | BN14: 104958 | BO14: 145688.71 | BP14: 99960 | BQ14: =AVERAGE(BL14:BP14) -> 112423.94 | BR14: 87266.667 | BS14: 74613 | BT14: 82467 | BU14: 109083.33 | BV14: 78540 | BW14: =AVERAGE(BR14:BV14) -> 86394 | BX14: 92836.879 | BY14: 94962 | BZ14: 104958 | CA14: 116046.1 | CB14: 99960 | CC14: =AVERAGE(BX14:CB14) -> 101752.6 | CD14: 170419.75 | CE14: 176358 | CF14: 194922 | CG14: 213024.69 | CH14: 185640 | CI14: =AVERAGE(CD14:CH14) -> 188072.89 | CJ14: 168794.33 | CK14: 115311 | CL14: 127449 | CM14: 210992.91 | CN14: 121380 | CO14: =AVERAGE(CJ14:CN14) -> 148785.45 | CP14: 102132.29 | CQ14: 27132 | CR14: 29988 | CS14: 127665.36 | CT14: 28560 | CU14: =AVERAGE(CP14:CT14) -> 63095.531 | CV14: 86275 | CW14: 20349 | CX14: 22491 | CY14: 107843.75 | CZ14: 21420 | DA14: =AVERAGE(CV14:CZ14) -> 51675.75 | DB14: 85076.199 | DC14: 22610 | DD14: 24990 | DE14: 106345.25 | DF14: 23800 | DG14: =AVERAGE(DB14:DF14) -> 52564.29 | DH14: 94731.51 | DI14: 31654 | DJ14: 34986 | DK14: 118414.39 | DL14: 33320 | DM14: =AVERAGE(DH14:DL14) -> 62621.179 | DN14: 100306.51 | DO14: 39567.5 | DP14: 43732.5 | DQ14: 125383.14 | DR14: 41650 | DS14: =AVERAGE(DN14:DR14) -> 70127.931 | DT14: 227226.34 | DU14: 84787.5 | DV14: 93712.5 | DW14: 284032.92 | DX14: 89250 | DY14: =AVERAGE(DT14:DX14) -> 155801.85 | DZ14: 227226.34 | EA14: 88179 | EB14: 97461 | EC14: 284032.92 | ED14: 92820 | EE14: =AVERAGE(DZ14:ED14) -> 157943.85 | EF14: 122685.23 | EG14: 33915 | EH14: 37485 | EI14: 153356.54 | EJ14: 35700 | EK14: =AVERAGE(EF14:EJ14) -> 76628.353 | EL14: 133353.51 | EM14: 56525 | EN14: 62475 | EO14: 166691.89 | EP14: 59500 | EQ14: =AVERAGE(EL14:EP14) -> 95709.08 | ER14: 117777.82 | ES14: 31654 | ET14: 34986 | EU14: 147222.28 | EV14: 33320 | EW14: =AVERAGE(ER14:EV14) -> 72992.019 | EX14: 120181.45 | EY14: 22610 | EZ14: 24990 | FA14: 150226.81 | FB14: 23800 | FC14: =AVERAGE(EX14:FB14) -> 68361.652 | FD14: 239185.62 | FE14: 96092.5 | FF14: 106207.5 | FG14: 298982.02 | FH14: 101150 | FI14: =AVERAGE(FD14:FH14) -> 168323.53 | FJ14: 173897.71 | FK14: 42959 | FL14: 47481 | FM14: 217372.13 | FN14: 45220 | FO14: =AVERAGE(FJ14:FN14) -> 105385.97 | FP14: 159985.89 | FQ14: 27132 | FR14: 29988 | FS14: 199982.36 | FT14: 28560 | FU14: =AVERAGE(FP14:FT14) -> 89129.651 | FV14: 189019.25 | FW14: 31654 | FX14: 34986 | FY14: 236274.06 | FZ14: 33320 | GA14: =AVERAGE(FV14:FZ14) -> 105050.66 | GB14: 203246.5 | GC14: 58786 | GD14: 64974 | GE14: 254058.13 | GF14: 61880 | GG14: =AVERAGE(GB14:GF14) -> 128588.93 | GH14: 163250.91 | GI14: 24871 | GJ14: 27489 | GK14: 204063.64 | GL14: 26180 | GM14: =AVERAGE(GH14:GL14) -> 89170.909 | GN14: 166582.56 | GO14: 28262.5 | GP14: 31237.5 | GQ14: 208228.2 | GR14: 29750 | GS14: =AVERAGE(GN14:GR14) -> 92812.152
B15: 1.7 | C15: GUAYA ACELERADOR | D15: 90202 | E15: 40698 | F15: 44982 | G15: 112752.5 | H15: 42840 | I15: 52479 | J15: 90202 | K15: 47481 | L15: 52479 | M15: 112752.5 | N15: 49980 | O15: 56227.5 | P15: 106120 | Q15: 50872.5 | R15: 56227.5 | S15: 132650 | T15: 53550 | U15: =AVERAGE(P15:T15) -> 79884 | V15: 124847.06 | W15: 74613 | X15: 82467 | Y15: 156058.82 | Z15: 78540 | AA15: =AVERAGE(V15:Z15) -> 103305.18 | AB15: 98045.652 | AC15: 47481 | AD15: 52479 | AE15: 122557.07 | AF15: 49980 | AG15: =AVERAGE(AB15:AF15) -> 74108.543 | AH15: 200448.89 | AI15: 94962 | AJ15: 104958 | AK15: 250561.11 | AL15: 99960 | AM15: =AVERAGE(AH15:AL15) -> 150178 | AN15: 115347.83 | AO15: 50872.5 | AP15: 56227.5 | AQ15: 144184.78 | AR15: 53550 | AS15: =AVERAGE(AN15:AR15) -> 84036.522 | AT15: 135703.32 | AU15: 54264 | AV15: 59976 | AW15: 169629.16 | AX15: 57120 | AY15: =AVERAGE(AT15:AX15) -> 95338.496 | AZ15: 118127.29 | BA15: 44089.5 | BB15: 48730.5 | BC15: 147659.11 | BD15: 46410 | BE15: =AVERAGE(AZ15:BD15) -> 81003.281 | BF15: 118915.28 | BG15: 57655.5 | BH15: 63724.5 | BI15: 148644.11 | BJ15: 60690 | BK15: =AVERAGE(BF15:BJ15) -> 89925.878 | BL15: 138472.78 | BM15: 61047 | BN15: 67473 | BO15: 173090.98 | BP15: 64260 | BQ15: =AVERAGE(BL15:BP15) -> 100868.75 | BR15: 103680.46 | BS15: 54264 | BT15: 59976 | BU15: 129600.57 | BV15: 57120 | BW15: =AVERAGE(BR15:BV15) -> 80928.207 | BX15: 110298.36 | BY15: 61047 | BZ15: 67473 | CA15: 137872.95 | CB15: 64260 | CC15: =AVERAGE(BX15:CB15) -> 88190.263 | CD15: 202473.63 | CE15: 94962 | CF15: 104958 | CG15: 253092.03 | CH15: 99960 | CI15: =AVERAGE(CD15:CH15) -> 151089.13 | CJ15: 200542.48 | CK15: 74613 | CL15: 82467 | CM15: 250678.09 | CN15: 78540 | CO15: =AVERAGE(CJ15:CN15) -> 137368.11 | CP15: 121342.13 | CQ15: 19218.5 | CR15: 21241.5 | CS15: 151677.66 | CT15: 20230 | CU15: =AVERAGE(CP15:CT15) -> 66741.957 | CV15: 102502.27 | CW15: 15827 | CX15: 17493 | CY15: 128127.84 | CZ15: 16660 | DA15: =AVERAGE(CV15:CZ15) -> 56122.023 | DB15: 101077.99 | DC15: 16957.5 | DD15: 18742.5 | DE15: 126347.49 | DF15: 17850 | DG15: =AVERAGE(DB15:DF15) -> 56195.096 | DH15: 112549.35 | DI15: 20349 | DJ15: 22491 | DK15: 140686.69 | DL15: 21420 | DM15: =AVERAGE(DH15:DL15) -> 63499.207 | DN15: 119172.94 | DO15: 24871 | DP15: 27489 | DQ15: 148966.18 | DR15: 26180 | DS15: =AVERAGE(DN15:DR15) -> 69335.824 | DT15: 269964.83 | DU15: 42959 | DV15: 47481 | DW15: 337456.04 | DX15: 45220 | DY15: =AVERAGE(DT15:DX15) -> 148616.18 | DZ15: 269964.83 | EA15: 42959 | EB15: 47481 | EC15: 337456.04 | ED15: 45220 | EE15: =AVERAGE(DZ15:ED15) -> 148616.18 | EF15: 145760.82 | EG15: 21479.5 | EH15: 23740.5 | EI15: 182201.03 | EJ15: 22610 | EK15: =AVERAGE(EF15:EJ15) -> 79158.37 | EL15: 158435.68 | EM15: 31654 | EN15: 34986 | EO15: 198044.59 | EP15: 33320 | EQ15: =AVERAGE(EL15:EP15) -> 91288.054 | ER15: 139930.39 | ES15: 20349 | ET15: 22491 | EU15: 174912.99 | EV15: 21420 | EW15: =AVERAGE(ER15:EV15) -> 75820.675 | EX15: 142786.11 | EY15: 16957.5 | EZ15: 18742.5 | FA15: 178482.64 | FB15: 17850 | FC15: =AVERAGE(EX15:FB15) -> 74963.75 | FD15: 284173.51 | FE15: 47481 | FF15: 52479 | FG15: 355216.89 | FH15: 49980 | FI15: =AVERAGE(FD15:FH15) -> 157866.08 | FJ15: 206605.74 | FK15: 27132 | FL15: 29988 | FM15: 258257.17 | FN15: 28560 | FO15: =AVERAGE(FJ15:FN15) -> 110108.58 | FP15: 190077.28 | FQ15: 19218.5 | FR15: 21241.5 | FS15: 237596.6 | FT15: 20230 | FU15: =AVERAGE(FP15:FT15) -> 97672.776 | FV15: 224571.46 | FW15: 21479.5 | FX15: 23740.5 | FY15: 280714.32 | FZ15: 22610 | GA15: =AVERAGE(FV15:FZ15) -> 114623.16 | GB15: 241474.68 | GC15: 31654 | GD15: 34986 | GE15: 301843.36 | GF15: 33320 | GG15: =AVERAGE(GB15:GF15) -> 128655.61 | GH15: 193956.41 | GI15: 18088 | GJ15: 19992 | GK15: 242445.51 | GL15: 19040 | GM15: =AVERAGE(GH15:GL15) -> 98704.384 | GN15: 197914.7 | GO15: 20349 | GP15: 22491 | GQ15: 247393.38 | GR15: 21420 | GS15: =AVERAGE(GN15:GR15) -> 101913.62
B16: 1.8 | C16: GUAYA CHOQUE | D16: 75565 | E16: 37306.5 | F16: 41233.5 | G16: 94456.25 | H16: 39270 | I16: 44982 | J16: 75565 | K16: 40698 | L16: 44982 | M16: 94456.25 | N16: 42840 | O16: 48730.5 | P16: 88900 | Q16: 44089.5 | R16: 48730.5 | S16: 111125 | T16: 46410 | U16: =AVERAGE(P16:T16) -> 67851 | V16: 104588.24 | W16: 61047 | X16: 67473 | Y16: 130735.29 | Z16: 64260 | AA16: =AVERAGE(V16:Z16) -> 85620.706 | AB16: 82135.87 | AC16: 40698 | AD16: 44982 | AE16: 102669.84 | AF16: 42840 | AG16: =AVERAGE(AB16:AF16) -> 62665.141 | AH16: 167922.22 | AI16: 74613 | AJ16: 82467 | AK16: 209902.78 | AL16: 78540 | AM16: =AVERAGE(AH16:AL16) -> 122689 | AN16: 96630.435 | AO16: 44089.5 | AP16: 48730.5 | AQ16: 120788.04 | AR16: 46410 | AS16: =AVERAGE(AN16:AR16) -> 71329.696 | AT16: 113682.86 | AU16: 47481 | AV16: 52479 | AW16: 142103.58 | AX16: 49980 | AY16: =AVERAGE(AT16:AX16) -> 81145.289 | AZ16: 98958.879 | BA16: 37306.5 | BB16: 41233.5 | BC16: 123698.6 | BD16: 39270 | BE16: =AVERAGE(AZ16:BD16) -> 68093.496 | BF16: 99619.005 | BG16: 47481 | BH16: 52479 | BI16: 124523.76 | BJ16: 49980 | BK16: =AVERAGE(BF16:BJ16) -> 74816.552 | BL16: 116002.92 | BM16: 50872.5 | BN16: 56227.5 | BO16: 145003.65 | BP16: 53550 | BQ16: =AVERAGE(BL16:BP16) -> 84331.315 | BR16: 86856.322 | BS16: 47481 | BT16: 52479 | BU16: 108570.4 | BV16: 49980 | BW16: =AVERAGE(BR16:BV16) -> 69073.345 | BX16: 92400.342 | BY16: 50872.5 | BZ16: 56227.5 | CA16: 115500.43 | CB16: 53550 | CC16: =AVERAGE(BX16:CB16) -> 73710.154 | CD16: 169618.41 | CE16: 74613 | CF16: 82467 | CG16: 212023.01 | CH16: 78540 | CI16: =AVERAGE(CD16:CH16) -> 123452.28 | CJ16: 168000.62 | CK16: 61047 | CL16: 67473 | CM16: 210000.78 | CN16: 64260 | CO16: =AVERAGE(CJ16:CN16) -> 114156.28 | CP16: 101652.05 | CQ16: 15827 | CR16: 17493 | CS16: 127065.06 | CT16: 16660 | CU16: =AVERAGE(CP16:CT16) -> 55739.421 | CV16: 85869.318 | CW16: 13566 | CX16: 14994 | CY16: 107336.65 | CZ16: 14280 | DA16: =AVERAGE(CV16:CZ16) -> 47209.193 | DB16: 84676.154 | DC16: 14696.5 | DD16: 16243.5 | DE16: 105845.19 | DF16: 15470 | DG16: =AVERAGE(DB16:DF16) -> 47386.269 | DH16: 94286.064 | DI16: 16957.5 | DJ16: 18742.5 | DK16: 117857.58 | DL16: 17850 | DM16: =AVERAGE(DH16:DL16) -> 53138.729 | DN16: 99834.853 | DO16: 20349 | DP16: 22491 | DQ16: 124793.57 | DR16: 21420 | DS16: =AVERAGE(DN16:DR16) -> 57777.684 | DT16: 226157.88 | DU16: 33915 | DV16: 37485 | DW16: 282697.34 | DX16: 35700 | DY16: =AVERAGE(DT16:DX16) -> 123191.04 | DZ16: 226157.88 | EA16: 33915 | EB16: 37485 | EC16: 282697.34 | ED16: 35700 | EE16: =AVERAGE(DZ16:ED16) -> 123191.04 | EF16: 122108.34 | EG16: 18088 | EH16: 19992 | EI16: 152635.42 | EJ16: 19040 | EK16: =AVERAGE(EF16:EJ16) -> 66372.753 | EL16: 132726.46 | EM16: 24871 | EN16: 27489 | EO16: 165908.07 | EP16: 26180 | EQ16: =AVERAGE(EL16:EP16) -> 75434.905 | ER16: 117224.01 | ES16: 16957.5 | ET16: 18742.5 | EU16: 146530.01 | EV16: 17850 | EW16: =AVERAGE(ER16:EV16) -> 63460.803 | EX16: 119616.33 | EY16: 14696.5 | EZ16: 16243.5 | FA16: 149520.42 | FB16: 15470 | FC16: =AVERAGE(EX16:FB16) -> 63109.35 | FD16: 238060.92 | FE16: 36176 | FF16: 39984 | FG16: 297576.15 | FH16: 38080 | FI16: =AVERAGE(FD16:FH16) -> 129975.41 | FJ16: 173080.01 | FK16: 22610 | FL16: 24990 | FM16: 216350.01 | FN16: 23800 | FO16: =AVERAGE(FJ16:FN16) -> 92166.003 | FP16: 159233.61 | FQ16: 15827 | FR16: 17493 | FS16: 199042.01 | FT16: 16660 | FU16: =AVERAGE(FP16:FT16) -> 81651.123 | FV16: 188130.44 | FW16: 18088 | FX16: 19992 | FY16: 235163.05 | FZ16: 19040 | GA16: =AVERAGE(FV16:FZ16) -> 96082.699 | GB16: 202290.8 | GC16: 24871 | GD16: 27489 | GE16: 252863.5 | GF16: 26180 | GG16: =AVERAGE(GB16:GF16) -> 106738.86 | GH16: 162483.27 | GI16: 15827 | GJ16: 17493 | GK16: 203104.09 | GL16: 16660 | GM16: =AVERAGE(GH16:GL16) -> 83113.472 | GN16: 165799.26 | GO16: 15827 | GP16: 17493 | GQ16: 207249.07 | GR16: 16660 | GS16: =AVERAGE(GN16:GR16) -> 84605.665
B17: 1.9 | C17: KIT CARBURADOR | D17: 148750 | E17: 81396 | F17: 89964 | G17: 185937.5 | H17: 85680 | I17: 97461 | J17: 148750 | K17: 88179 | L17: 97461 | M17: 185937.5 | N17: 92820 | O17: 104958 | P17: 175000 | Q17: 94962 | R17: 104958 | S17: 218750 | T17: 99960 | U17: =AVERAGE(P17:T17) -> 138726 | V17: 205882.35 | W17: 142443 | X17: 157437 | Y17: 257352.94 | Z17: 149940 | AA17: =AVERAGE(V17:Z17) -> 182611.06 | AB17: 161684.78 | AC17: 88179 | AD17: 97461 | AE17: 202105.98 | AF17: 92820 | AG17: =AVERAGE(AB17:AF17) -> 128450.15 | AH17: 330555.56 | AI17: 176358 | AJ17: 194922 | AK17: 413194.44 | AL17: 185640 | AM17: =AVERAGE(AH17:AL17) -> 260134 | AN17: 190217.39 | AO17: 94962 | AP17: 104958 | AQ17: 237771.74 | AR17: 99960 | AS17: =AVERAGE(AN17:AR17) -> 145573.83 | AT17: 223785.17 | AU17: 101745 | AV17: 112455 | AW17: 279731.46 | AX17: 107100 | AY17: =AVERAGE(AT17:AX17) -> 164963.32 | AZ17: 194800.94 | BA17: 84787.5 | BB17: 93712.5 | BC17: 243501.18 | BD17: 89250 | BE17: =AVERAGE(AZ17:BD17) -> 141210.42 | BF17: 196100.4 | BG17: 108528 | BH17: 119952 | BI17: 245125.5 | BJ17: 114240 | BK17: =AVERAGE(BF17:BJ17) -> 156789.18 | BL17: 228352.21 | BM17: 122094 | BN17: 134946 | BO17: 285440.26 | BP17: 128520 | BQ17: =AVERAGE(BL17:BP17) -> 179870.49 | BR17: 170977.01 | BS17: 101745 | BT17: 112455 | BU17: 213721.26 | BV17: 107100 | BW17: =AVERAGE(BR17:BV17) -> 141199.66 | BX17: 181890.44 | BY17: 122094 | BZ17: 134946 | CA17: 227363.05 | CB17: 128520 | CC17: =AVERAGE(BX17:CB17) -> 158962.7 | CD17: 333894.5 | CE17: 183141 | CF17: 202419 | CG17: 417368.13 | CH17: 192780 | CI17: =AVERAGE(CD17:CH17) -> 265920.53 | CJ17: 330709.89 | CK17: 142443 | CL17: 157437 | CM17: 413387.36 | CN17: 149940 | CO17: =AVERAGE(CJ17:CN17) -> 238783.45 | CP17: 200102.45 | CQ17: 36176 | CR17: 39984 | CS17: 250128.07 | CT17: 38080 | CU17: =AVERAGE(CP17:CT17) -> 112894.1 | CV17: 169034.09 | CW17: 29393 | CX17: 32487 | CY17: 211292.61 | CZ17: 30940 | DA17: =AVERAGE(CV17:CZ17) -> 94629.341 | DB17: 166685.34 | DC17: 31654 | DD17: 34986 | DE17: 208356.68 | DF17: 33320 | DG17: =AVERAGE(DB17:DF17) -> 95000.404 | DH17: 185602.49 | DI17: 40698 | DJ17: 44982 | DK17: 232003.11 | DL17: 42840 | DM17: =AVERAGE(DH17:DL17) -> 109225.12 | DN17: 196525.3 | DO17: 47481 | DP17: 52479 | DQ17: 245656.63 | DR17: 49980 | DS17: =AVERAGE(DN17:DR17) -> 118424.39 | DT17: 445192.67 | DU17: 84787.5 | DV17: 93712.5 | DW17: 556490.83 | DX17: 89250 | DY17: =AVERAGE(DT17:DX17) -> 253886.7 | DZ17: 445192.67 | EA17: 84787.5 | EB17: 93712.5 | EC17: 556490.83 | ED17: 89250 | EE17: =AVERAGE(DZ17:ED17) -> 253886.7 | EF17: 240370.75 | EG17: 42959 | EH17: 47481 | EI17: 300463.43 | EJ17: 45220 | EK17: =AVERAGE(EF17:EJ17) -> 135298.84 | EL17: 261272.55 | EM17: 61047 | EN17: 67473 | EO17: 326590.69 | EP17: 64260 | EQ17: =AVERAGE(EL17:EP17) -> 156128.65 | ER17: 230755.92 | ES17: 40698 | ET17: 44982 | EU17: 288444.9 | EV17: 42840 | EW17: =AVERAGE(ER17:EV17) -> 129544.16 | EX17: 235465.22 | EY17: 31654 | EZ17: 34986 | FA17: 294331.53 | FB17: 33320 | FC17: =AVERAGE(EX17:FB17) -> 125951.35 | FD17: 468623.86 | FE17: 92701 | FF17: 102459 | FG17: 585779.83 | FH17: 97580 | FI17: =AVERAGE(FD17:FH17) -> 269428.74 | FJ17: 340708.67 | FK17: 50872.5 | FL17: 56227.5 | FM17: 425885.84 | FN17: 53550 | FO17: =AVERAGE(FJ17:FN17) -> 185448.9 | FP17: 313451.98 | FQ17: 36176 | FR17: 39984 | FS17: 391814.98 | FT17: 38080 | FU17: =AVERAGE(FP17:FT17) -> 163901.39 | FV17: 370335.52 | FW17: 42959 | FX17: 47481 | FY17: 462919.39 | FZ17: 45220 | GA17: =AVERAGE(FV17:FZ17) -> 193782.98 | GB17: 398210.23 | GC17: 61047 | GD17: 67473 | GE17: 497762.79 | GF17: 64260 | GG17: =AVERAGE(GB17:GF17) -> 217750.6 | GH17: 319848.96 | GI17: 33915 | GJ17: 37485 | GK17: 399811.2 | GL17: 35700 | GM17: =AVERAGE(GH17:GL17) -> 165352.03 | GN17: 326376.49 | GO17: 38437 | GP17: 42483 | GQ17: 407970.61 | GR17: 40460 | GS17: =AVERAGE(GN17:GR17) -> 171145.42
B18: 1.10 | C18: LLAVE PASO COMBUSTIBLE | D18: 74375 | E18: 54264 | F18: 59976 | G18: 92968.75 | H18: 57120 | I18: 67473 | J18: 74375 | K18: 61047 | L18: 67473 | M18: 92968.75 | N18: 64260 | O18: 74970 | P18: 87500 | Q18: 67830 | R18: 74970 | S18: 109375 | T18: 71400 | U18: =AVERAGE(P18:T18) -> 82215 | V18: 102941.18 | W18: 94962 | X18: 104958 | Y18: 128676.47 | Z18: 99960 | AA18: =AVERAGE(V18:Z18) -> 106299.53 | AB18: 80842.391 | AC18: 61047 | AD18: 67473 | AE18: 101052.99 | AF18: 64260 | AG18: =AVERAGE(AB18:AF18) -> 74935.076 | AH18: 165277.78 | AI18: 122094 | AJ18: 134946 | AK18: 206597.22 | AL18: 128520 | AM18: =AVERAGE(AH18:AL18) -> 151487 | AN18: 95108.696 | AO18: 64438.5 | AP18: 71221.5 | AQ18: 118885.87 | AR18: 67830 | AS18: =AVERAGE(AN18:AR18) -> 83496.913 | AT18: 111892.58 | AU18: 67830 | AV18: 74970 | AW18: 139865.73 | AX18: 71400 | AY18: =AVERAGE(AT18:AX18) -> 93191.662 | AZ18: 97400.471 | BA18: 57655.5 | BB18: 63724.5 | BC18: 121750.59 | BD18: 60690 | BE18: =AVERAGE(AZ18:BD18) -> 80244.212 | BF18: 98050.202 | BG18: 74613 | BH18: 82467 | BI18: 122562.75 | BJ18: 78540 | BK18: =AVERAGE(BF18:BJ18) -> 91246.591 | BL18: 114176.11 | BM18: 81396 | BN18: 89964 | BO18: 142720.13 | BP18: 85680 | BQ18: =AVERAGE(BL18:BP18) -> 102787.25 | BR18: 85488.506 | BS18: 67830 | BT18: 74970 | BU18: 106860.63 | BV18: 71400 | BW18: =AVERAGE(BR18:BV18) -> 81309.828 | BX18: 90945.219 | BY18: 81396 | BZ18: 89964 | CA18: 113681.52 | CB18: 85680 | CC18: =AVERAGE(BX18:CB18) -> 92333.348 | CD18: 166947.25 | CE18: 128877 | CF18: 142443 | CG18: 208684.06 | CH18: 135660 | CI18: =AVERAGE(CD18:CH18) -> 156522.26 | CJ18: 165354.94 | CK18: 94962 | CL18: 104958 | CM18: 206693.68 | CN18: 99960 | CO18: =AVERAGE(CJ18:CN18) -> 134385.72 | CP18: 100051.23 | CQ18: 24871 | CR18: 27489 | CS18: 125064.03 | CT18: 26180 | CU18: =AVERAGE(CP18:CT18) -> 60731.052 | CV18: 84517.045 | CW18: 20349 | CX18: 22491 | CY18: 105646.31 | CZ18: 21420 | DA18: =AVERAGE(CV18:CZ18) -> 50884.67 | DB18: 83342.671 | DC18: 21479.5 | DD18: 23740.5 | DE18: 104178.34 | DF18: 22610 | DG18: =AVERAGE(DB18:DF18) -> 51070.202 | DH18: 92801.244 | DI18: 27132 | DJ18: 29988 | DK18: 116001.55 | DL18: 28560 | DM18: =AVERAGE(DH18:DL18) -> 58896.56 | DN18: 98262.65 | DO18: 31654 | DP18: 34986 | DQ18: 122828.31 | DR18: 33320 | DS18: =AVERAGE(DN18:DR18) -> 64210.193 | DT18: 222596.33 | DU18: 54264 | DV18: 59976 | DW18: 278245.42 | DX18: 57120 | DY18: =AVERAGE(DT18:DX18) -> 134440.35 | DZ18: 222596.33 | EA18: 54264 | EB18: 59976 | EC18: 278245.42 | ED18: 57120 | EE18: =AVERAGE(DZ18:ED18) -> 134440.35 | EF18: 120185.37 | EG18: 28262.5 | EH18: 31237.5 | EI18: 150231.72 | EJ18: 29750 | EK18: =AVERAGE(EF18:EJ18) -> 71933.418 | EL18: 130636.28 | EM18: 42959 | EN18: 47481 | EO18: 163295.35 | EP18: 45220 | EQ18: =AVERAGE(EL18:EP18) -> 85918.324 | ER18: 115377.96 | ES18: 27132 | ET18: 29988 | EU18: 144222.45 | EV18: 28560 | EW18: =AVERAGE(ER18:EV18) -> 69056.082 | EX18: 117732.61 | EY18: 21479.5 | EZ18: 23740.5 | FA18: 147165.76 | FB18: 22610 | FC18: =AVERAGE(EX18:FB18) -> 66545.675 | FD18: 234311.93 | FE18: 58786 | FF18: 64974 | FG18: 292889.91 | FH18: 61880 | FI18: =AVERAGE(FD18:FH18) -> 142568.37 | FJ18: 170354.34 | FK18: 33915 | FL18: 37485 | FM18: 212942.92 | FN18: 35700 | FO18: =AVERAGE(FJ18:FN18) -> 98079.452 | FP18: 156725.99 | FQ18: 24871 | FR18: 27489 | FS18: 195907.49 | FT18: 26180 | FU18: =AVERAGE(FP18:FT18) -> 86234.696 | FV18: 185167.76 | FW18: 28262.5 | FX18: 31237.5 | FY18: 231459.7 | FZ18: 29750 | GA18: =AVERAGE(FV18:FZ18) -> 101175.49 | GB18: 199105.12 | GC18: 42959 | GD18: 47481 | GE18: 248881.39 | GF18: 45220 | GG18: =AVERAGE(GB18:GF18) -> 116729.3 | GH18: 159924.48 | GI18: 22610 | GJ18: 24990 | GK18: 199905.6 | GL18: 23800 | GM18: =AVERAGE(GH18:GL18) -> 86246.016 | GN18: 163188.24 | GO18: 24871 | GP18: 27489 | GQ18: 203985.31 | GR18: 26180 | GS18: =AVERAGE(GN18:GR18) -> 89142.71
B19: 2 | C19: MOTOR | D19: 0 | E19: 0 | F19: 0 | G19: 0 | H19: 0 | I19: 0 | J19: 0 | K19: 0 | L19: 0 | M19: 0 | N19: 0 | O19: 0 | P19: 0 | Q19: 0 | R19: 0 | S19: 0 | T19: 0 | V19: 0 | W19: 0 | X19: 0 | Y19: 0 | Z19: 0 | AB19: 0 | AC19: 0 | AD19: 0 | AE19: 0 | AF19: 0 | AH19: 0 | AI19: 0 | AJ19: 0 | AK19: 0 | AL19: 0 | AN19: 0 | AO19: 0 | AP19: 0 | AQ19: 0 | AR19: 0 | AT19: 0 | AU19: 0 | AV19: 0 | AW19: 0 | AX19: 0 | AZ19: 0 | BA19: 0 | BB19: 0 | BC19: 0 | BD19: 0 | BE19: 0 | BF19: 0 | BG19: 0 | BH19: 0 | BI19: 0 | BJ19: 0 | BL19: 0 | BM19: 0 | BN19: 0 | BO19: 0 | BP19: 0 | BR19: 0 | BS19: 0 | BT19: 0 | BU19: 0 | BV19: 0 | BX19: 0 | BY19: 0 | BZ19: 0 | CA19: 0 | CB19: 0 | CD19: 0 | CE19: 0 | CF19: 0 | CG19: 0 | CH19: 0 | CJ19: 0 | CK19: 0 | CL19: 0 | CM19: 0 | CN19: 0 | CP19: 0 | CQ19: 0 | CR19: 0 | CS19: 0 | CT19: 0 | CV19: 0 | CW19: 0 | CX19: 0 | CY19: 0 | CZ19: 0 | DB19: 0 | DC19: 0 | DD19: 0 | DE19: 0 | DF19: 0 | DH19: 0 | DI19: 0 | DJ19: 0 | DK19: 0 | DL19: 0 | DN19: 0 | DO19: 0 | DP19: 0 | DQ19: 0 | DR19: 0 | DT19: 0 | DU19: 0 | DV19: 0 | DW19: 0 | DX19: 0 | DZ19: 0 | EA19: 0 | EB19: 0 | EC19: 0 | ED19: 0 | EF19: 0 | EG19: 0 | EH19: 0 | EI19: 0 | EJ19: 0 | EL19: 0 | EM19: 0 | EN19: 0 | EO19: 0 | EP19: 0 | ER19: 0 | ES19: 0 | ET19: 0 | EU19: 0 | EV19: 0 | EX19: 0 | EY19: 0 | EZ19: 0 | FA19: 0 | FB19: 0 | FD19: 0 | FE19: 0 | FF19: 0 | FG19: 0 | FH19: 0 | FJ19: 0 | FK19: 0 | FL19: 0 | FM19: 0 | FN19: 0 | FP19: 0 | FQ19: 0 | FR19: 0 | FS19: 0 | FT19: 0 | FV19: 0 | FW19: 0 | FX19: 0 | FY19: 0 | FZ19: 0 | GB19: 0 | GC19: 0 | GD19: 0 | GE19: 0 | GF19: 0 | GH19: 0 | GI19: 0 | GJ19: 0 | GK19: 0 | GL19: 0 | GN19: 0 | GO19: 0 | GP19: 0 | GQ19: 0 | GR19: 0
B20: 2.1 | C20: BALANCIN | D20: 41650 | E20: 94962 | F20: 104958 | G20: 52062.5 | H20: 99960 | I20: 112455 | J20: 41650 | K20: 101745 | L20: 112455 | M20: 52062.5 | N20: 107100 | O20: 127449 | P20: 49000 | Q20: 115311 | R20: 127449 | S20: 61250 | T20: 121380 | U20: =AVERAGE(P20:T20) -> 94878 | V20: 57647.059 | W20: 176358 | X20: 194922 | Y20: 72058.824 | Z20: 185640 | AA20: =AVERAGE(V20:Z20) -> 137325.18 | AB20: 45271.739 | AC20: 108528 | AD20: 119952 | AE20: 56589.674 | AF20: 114240 | AG20: =AVERAGE(AB20:AF20) -> 88916.283 | AH20: 92555.556 | AI20: 230622 | AJ20: 254898 | AK20: 115694.44 | AL20: 242760 | AM20: =AVERAGE(AH20:AL20) -> 187306 | AN20: 53260.87 | AO20: 115311 | AP20: 127449 | AQ20: 66576.087 | AR20: 121380 | AS20: =AVERAGE(AN20:AR20) -> 96795.391 | AT20: 62659.847 | AU20: 122094 | AV20: 134946 | AW20: 78324.808 | AX20: 128520 | AY20: =AVERAGE(AT20:AX20) -> 105308.93 | AZ20: 54544.264 | BA20: 101745 | BB20: 112455 | BC20: 68180.33 | BD20: 107100 | BE20: =AVERAGE(AZ20:BD20) -> 88804.919 | BF20: 54908.113 | BG20: 128877 | BH20: 142443 | BI20: 68635.141 | BJ20: 135660 | BK20: =AVERAGE(BF20:BJ20) -> 106104.65 | BL20: 63938.619 | BM20: 149226 | BN20: 164934 | BO20: 79923.274 | BP20: 157080 | BQ20: =AVERAGE(BL20:BP20) -> 123020.38 | BR20: 47873.563 | BS20: 122094 | BT20: 134946 | BU20: 59841.954 | BV20: 128520 | BW20: =AVERAGE(BR20:BV20) -> 98655.103 | BX20: 50929.323 | BY20: 152617.5 | BZ20: 168682.5 | CA20: 63661.653 | CB20: 160650 | CC20: =AVERAGE(BX20:CB20) -> 119308.2 | CD20: 93490.46 | CE20: 244188 | CF20: 269892 | CG20: 116863.08 | CH20: 257040 | CI20: =AVERAGE(CD20:CH20) -> 196294.71 | CJ20: 92598.768 | CK20: 176358 | CL20: 194922 | CM20: 115748.46 | CN20: 185640 | CO20: =AVERAGE(CJ20:CN20) -> 153053.45 | CP20: 56028.687 | CQ20: 42959 | CR20: 47481 | CS20: 70035.858 | CT20: 45220 | CU20: =AVERAGE(CP20:CT20) -> 52344.909 | CV20: 47329.545 | CW20: 36176 | CX20: 39984 | CY20: 59161.932 | CZ20: 38080 | DA20: =AVERAGE(CV20:CZ20) -> 44146.295 | DB20: 46671.896 | DC20: 38437 | DD20: 42483 | DE20: 58339.87 | DF20: 40460 | DG20: =AVERAGE(DB20:DF20) -> 45278.353 | DH20: 51968.697 | DI20: 50872.5 | DJ20: 56227.5 | DK20: 64960.871 | DL20: 53550 | DM20: =AVERAGE(DH20:DL20) -> 55515.913 | DN20: 55027.084 | DO20: 61047 | DP20: 67473 | DQ20: 68783.855 | DR20: 64260 | DS20: =AVERAGE(DN20:DR20) -> 63318.188 | DT20: 124653.95 | DU20: 130007.5 | DV20: 143692.5 | DW20: 155817.43 | DX20: 136850 | DY20: =AVERAGE(DT20:DX20) -> 138204.28 | DZ20: 124653.95 | EA20: 130007.5 | EB20: 143692.5 | EC20: 155817.43 | ED20: 136850 | EE20: =AVERAGE(DZ20:ED20) -> 138204.28 | EF20: 67303.809 | EG20: 52003 | EH20: 57477 | EI20: 84129.762 | EJ20: 54740 | EK20: =AVERAGE(EF20:EJ20) -> 63130.714 | EL20: 73156.315 | EM20: 79135 | EN20: 87465 | EO20: 91445.393 | EP20: 83300 | EQ20: =AVERAGE(EL20:EP20) -> 82900.342 | ER20: 64611.657 | ES20: 49742 | ET20: 54978 | EU20: 80764.571 | EV20: 52360 | EW20: =AVERAGE(ER20:EV20) -> 60491.246 | EX20: 65930.262 | EY20: 38437 | EZ20: 42483 | FA20: 82412.828 | FB20: 40460 | FC20: =AVERAGE(EX20:FB20) -> 53944.618 | FD20: 131214.68 | FE20: 141312.5 | FF20: 156187.5 | FG20: 164018.35 | FH20: 148750 | FI20: =AVERAGE(FD20:FH20) -> 148296.61 | FJ20: 95398.429 | FK20: 65569 | FL20: 72471 | FM20: 119248.04 | FN20: 69020 | FO20: =AVERAGE(FJ20:FN20) -> 84341.293 | FP20: 87766.554 | FQ20: 42959 | FR20: 47481 | FS20: 109708.19 | FT20: 45220 | FU20: =AVERAGE(FP20:FT20) -> 66626.949 | FV20: 103693.94 | FW20: 52003 | FX20: 57477 | FY20: 129617.43 | FZ20: 54740 | GA20: =AVERAGE(FV20:FZ20) -> 79506.275 | GB20: 111498.86 | GC20: 81396 | GD20: 89964 | GE20: 139373.58 | GF20: 85680 | GG20: =AVERAGE(GB20:GF20) -> 101582.49 | GH20: 89557.709 | GI20: 40698 | GJ20: 44982 | GK20: 111947.14 | GL20: 42840 | GM20: =AVERAGE(GH20:GL20) -> 66004.969 | GN20: 91385.417 | GO20: 45220 | GP20: 49980 | GQ20: 114231.77 | GR20: 47600 | GS20: =AVERAGE(GN20:GR20) -> 69683.438
B21: 2.2 | C21: BIELA MOTOR | D21: 148750 | E21: 244188 | F21: 269892 | G21: 185937.5 | H21: 257040 | I21: 284886 | J21: 148750 | K21: 257754 | L21: 284886 | M21: 185937.5 | N21: 271320 | O21: 318622.5 | P21: 175000 | Q21: 288277.5 | R21: 318622.5 | S21: 218750 | T21: 303450 | U21: =AVERAGE(P21:T21) -> 260820 | V21: 205882.35 | W21: 457852.5 | X21: 506047.5 | Y21: 257352.94 | Z21: 481950 | AA21: =AVERAGE(V21:Z21) -> 381817.06 | AB21: 161684.78 | AC21: 264537 | AD21: 292383 | AE21: 202105.98 | AF21: 278460 | AG21: =AVERAGE(AB21:AF21) -> 239834.15 | AH21: 330555.56 | AI21: 593512.5 | AJ21: 655987.5 | AK21: 413194.44 | AL21: 624750 | AM21: =AVERAGE(AH21:AL21) -> 523600 | AN21: 190217.39 | AO21: 278103 | AP21: 307377 | AQ21: 237771.74 | AR21: 292740 | AS21: =AVERAGE(AN21:AR21) -> 261241.83 | AT21: 223785.17 | AU21: 291669 | AV21: 322371 | AW21: 279731.46 | AX21: 307020 | AY21: =AVERAGE(AT21:AX21) -> 284915.32 | AZ21: 194800.94 | BA21: 254362.5 | BB21: 281137.5 | BC21: 243501.18 | BD21: 267750 | BE21: =AVERAGE(AZ21:BD21) -> 248310.42 | BF21: 196100.4 | BG21: 305235 | BH21: 337365 | BI21: 245125.5 | BJ21: 321300 | BK21: =AVERAGE(BF21:BJ21) -> 281025.18 | BL21: 228352.21 | BM21: 373065 | BN21: 412335 | BO21: 285440.26 | BP21: 392700 | BQ21: =AVERAGE(BL21:BP21) -> 338378.49 | BR21: 170977.01 | BS21: 291669 | BT21: 322371 | BU21: 213721.26 | BV21: 307020 | BW21: =AVERAGE(BR21:BV21) -> 261151.66 | BX21: 181890.44 | BY21: 379848 | BZ21: 419832 | CA21: 227363.05 | CB21: 399840 | CC21: =AVERAGE(BX21:CB21) -> 321754.7 | CD21: 333894.5 | CE21: 627427.5 | CF21: 693472.5 | CG21: 417368.13 | CH21: 660450 | CI21: =AVERAGE(CD21:CH21) -> 546522.53 | CJ21: 330709.89 | CK21: 457852.5 | CL21: 506047.5 | CM21: 413387.36 | CN21: 481950 | CO21: =AVERAGE(CJ21:CN21) -> 437989.45 | CP21: 200102.45 | CQ21: 104006 | CR21: 114954 | CS21: 250128.07 | CT21: 109480 | CU21: =AVERAGE(CP21:CT21) -> 155734.1 | CV21: 169034.09 | CW21: 88179 | CX21: 97461 | CY21: 211292.61 | CZ21: 92820 | DA21: =AVERAGE(CV21:CZ21) -> 131757.34 | DB21: 166685.34 | DC21: 94962 | DD21: 104958 | DE21: 208356.68 | DF21: 99960 | DG21: =AVERAGE(DB21:DF21) -> 134984.4 | DH21: 185602.49 | DI21: 126616 | DJ21: 139944 | DK21: 232003.11 | DL21: 133280 | DM21: =AVERAGE(DH21:DL21) -> 163489.12 | DN21: 196525.3 | DO21: 156009 | DP21: 172431 | DQ21: 245656.63 | DR21: 164220 | DS21: =AVERAGE(DN21:DR21) -> 186968.39 | DT21: 445192.67 | DU21: 327845 | DV21: 362355 | DW21: 556490.83 | DX21: 345100 | DY21: =AVERAGE(DT21:DX21) -> 407396.7 | DZ21: 445192.67 | EA21: 333497.5 | EB21: 368602.5 | EC21: 556490.83 | ED21: 351050 | EE21: =AVERAGE(DZ21:ED21) -> 410966.7 | EF21: 240370.75 | EG21: 130007.5 | EH21: 143692.5 | EI21: 300463.43 | EJ21: 136850 | EK21: =AVERAGE(EF21:EJ21) -> 190276.84 | EL21: 261272.55 | EM21: 203490 | EN21: 224910 | EO21: 326590.69 | EP21: 214200 | EQ21: =AVERAGE(EL21:EP21) -> 246092.65 | ER21: 230755.92 | ES21: 124355 | ET21: 137445 | EU21: 288444.9 | EV21: 130900 | EW21: =AVERAGE(ER21:EV21) -> 182380.16 | EX21: 235465.22 | EY21: 92701 | EZ21: 102459 | FA21: 294331.53 | FB21: 97580 | FC21: =AVERAGE(EX21:FB21) -> 164507.35 | FD21: 468623.86 | FE21: 361760 | FF21: 399840 | FG21: 585779.83 | FH21: 380800 | FI21: =AVERAGE(FD21:FH21) -> 439360.74 | FJ21: 340708.67 | FK21: 167314 | FL21: 184926 | FM21: 425885.84 | FN21: 176120 | FO21: =AVERAGE(FJ21:FN21) -> 258990.9 | FP21: 313451.98 | FQ21: 101745 | FR21: 112455 | FS21: 391814.98 | FT21: 107100 | FU21: =AVERAGE(FP21:FT21) -> 205313.39 | FV21: 370335.52 | FW21: 130007.5 | FX21: 143692.5 | FY21: 462919.39 | FZ21: 136850 | GA21: =AVERAGE(FV21:FZ21) -> 248760.98 | GB21: 398210.23 | GC21: 209142.5 | GD21: 231157.5 | GE21: 497762.79 | GF21: 220150 | GG21: =AVERAGE(GB21:GF21) -> 311284.6 | GH21: 319848.96 | GI21: 97223 | GJ21: 107457 | GK21: 399811.2 | GL21: 102340 | GM21: =AVERAGE(GH21:GL21) -> 205336.03 | GN21: 326376.49 | GO21: 106267 | GP21: 117453 | GQ21: 407970.61 | GR21: 111860 | GS21: =AVERAGE(GN21:GR21) -> 213985.42
B22: 2.3 | C22: BOMBA DE ACEITE | D22: 80920 | E22: 156009 | F22: 172431 | G22: 101150 | H22: 164220 | I22: 179928 | J22: 80920 | K22: 162792 | L22: 179928 | M22: 101150 | N22: 171360 | O22: 202419 | P22: 95200 | Q22: 183141 | R22: 202419 | S22: 119000 | T22: 192780 | U22: =AVERAGE(P22:T22) -> 158508 | V22: 112000 | W22: 264537 | X22: 292383 | Y22: 140000 | Z22: 278460 | AA22: =AVERAGE(V22:Z22) -> 217476 | AB22: 87956.522 | AC22: 162792 | AD22: 179928 | AE22: 109945.65 | AF22: 171360 | AG22: =AVERAGE(AB22:AF22) -> 142396.43 | AH22: 179822.22 | AI22: 332367 | AJ22: 367353 | AK22: 224777.78 | AL22: 349860 | AM22: =AVERAGE(AH22:AL22) -> 290836 | AN22: 103478.26 | AO22: 169575 | AP22: 187425 | AQ22: 129347.83 | AR22: 178500 | AS22: =AVERAGE(AN22:AR22) -> 153665.22 | AT22: 121739.13 | AU22: 183141 | AV22: 202419 | AW22: 152173.91 | AX22: 192780 | AY22: =AVERAGE(AT22:AX22) -> 170450.61 | AZ22: 105971.71 | BA22: 152617.5 | BB22: 168682.5 | BC22: 132464.64 | BD22: 160650 | BE22: =AVERAGE(AZ22:BD22) -> 144077.27 | BF22: 106678.62 | BG22: 189924 | BH22: 209916 | BI22: 133348.27 | BJ22: 199920 | BK22: =AVERAGE(BF22:BJ22) -> 167957.38 | BL22: 124223.6 | BM22: 230622 | BN22: 254898 | BO22: 155279.5 | BP22: 242760 | BQ22: =AVERAGE(BL22:BP22) -> 201556.62 | BR22: 93011.494 | BS22: 183141 | BT22: 202419 | BU22: 116264.37 | BV22: 192780 | BW22: =AVERAGE(BR22:BV22) -> 157523.17 | BX22: 98948.398 | BY22: 230622 | BZ22: 254898 | CA22: 123685.5 | CB22: 242760 | CC22: =AVERAGE(BX22:CB22) -> 190182.78 | CD22: 181638.61 | CE22: 356107.5 | CF22: 393592.5 | CG22: 227048.26 | CH22: 374850 | CI22: =AVERAGE(CD22:CH22) -> 306647.37 | CJ22: 179906.18 | CK22: 264537 | CL22: 292383 | CM22: 224882.72 | CN22: 278460 | CO22: =AVERAGE(CJ22:CN22) -> 248033.78 | CP22: 108855.73 | CQ22: 65569 | CR22: 72471 | CS22: 136069.67 | CT22: 69020 | CU22: =AVERAGE(CP22:CT22) -> 90397.08 | CV22: 91954.545 | CW22: 54264 | CX22: 59976 | CY22: 114943.18 | CZ22: 57120 | DA22: =AVERAGE(CV22:CZ22) -> 75651.545 | DB22: 90676.827 | DC22: 58786 | DD22: 64974 | DE22: 113346.03 | DF22: 61880 | DG22: =AVERAGE(DB22:DF22) -> 77932.572 | DH22: 100967.75 | DI22: 76874 | DJ22: 84966 | DK22: 126209.69 | DL22: 80920 | DM22: =AVERAGE(DH22:DL22) -> 93987.489 | DN22: 106909.76 | DO22: 90440 | DP22: 99960 | DQ22: 133637.2 | DR22: 95200 | DS22: =AVERAGE(DN22:DR22) -> 105229.39 | DT22: 242184.81 | DU22: 186532.5 | DV22: 206167.5 | DW22: 302731.01 | DX22: 196350 | DY22: =AVERAGE(DT22:DX22) -> 226793.16 | DZ22: 242184.81 | EA22: 189924 | EB22: 209916 | EC22: 302731.01 | ED22: 199920 | EE22: =AVERAGE(DZ22:ED22) -> 228935.16 | EF22: 130761.69 | EG22: 79135 | EH22: 87465 | EI22: 163452.11 | EJ22: 83300 | EK22: =AVERAGE(EF22:EJ22) -> 108822.76 | EL22: 142132.27 | EM22: 115311 | EN22: 127449 | EO22: 177665.34 | EP22: 121380 | EQ22: =AVERAGE(EL22:EP22) -> 136787.52 | ER22: 125531.22 | ES22: 76874 | ET22: 84966 | EU22: 156914.02 | EV22: 80920 | EW22: =AVERAGE(ER22:EV22) -> 105041.05 | EX22: 128093.08 | EY22: 56525 | EZ22: 62475 | FA22: 160116.35 | FB22: 59500 | FC22: =AVERAGE(EX22:FB22) -> 93341.886 | FD22: 254931.38 | FE22: 203490 | FF22: 224910 | FG22: 318664.23 | FH22: 214200 | FI22: =AVERAGE(FD22:FH22) -> 243239.12 | FJ22: 185345.52 | FK22: 96092.5 | FL22: 106207.5 | FM22: 231681.9 | FN22: 101150 | FO22: =AVERAGE(FJ22:FN22) -> 144095.48 | FP22: 170517.88 | FQ22: 63308 | FR22: 69972 | FS22: 213147.35 | FT22: 66640 | FU22: =AVERAGE(FP22:FT22) -> 116717.04 | FV22: 201462.52 | FW22: 79135 | FX22: 87465 | FY22: 251828.15 | FZ22: 83300 | GA22: =AVERAGE(FV22:FZ22) -> 140638.13 | GB22: 216626.37 | GC22: 118702.5 | GD22: 131197.5 | GE22: 270782.96 | GF22: 124950 | GG22: =AVERAGE(GB22:GF22) -> 172451.86 | GH22: 173997.83 | GI22: 61047 | GJ22: 67473 | GK22: 217497.29 | GL22: 64260 | GM22: =AVERAGE(GH22:GL22) -> 116855.03 | GN22: 177548.81 | GO22: 67830 | GP22: 74970 | GQ22: 221936.01 | GR22: 71400 | GS22: =AVERAGE(GN22:GR22) -> 122736.96
B23: 2.4 | C23: CADENILLA MOTOR | D23: 53550 | E23: 88179 | F23: 97461 | G23: 66937.5 | H23: 92820 | I23: 104958 | J23: 53550 | K23: 94962 | L23: 104958 | M23: 66937.5 | N23: 99960 | O23: 119952 | P23: 63000 | Q23: 108528 | R23: 119952 | S23: 78750 | T23: 114240 | U23: =AVERAGE(P23:T23) -> 96894 | V23: 74117.647 | W23: 162792 | X23: 179928 | Y23: 92647.059 | Z23: 171360 | AA23: =AVERAGE(V23:Z23) -> 136168.94 | AB23: 58206.522 | AC23: 94962 | AD23: 104958 | AE23: 72758.152 | AF23: 99960 | AG23: =AVERAGE(AB23:AF23) -> 86168.935 | AH23: 119000 | AI23: 210273 | AJ23: 232407 | AK23: 148750 | AL23: 221340 | AM23: =AVERAGE(AH23:AL23) -> 186354 | AN23: 68478.261 | AO23: 101745 | AP23: 112455 | AQ23: 85597.826 | AR23: 107100 | AS23: =AVERAGE(AN23:AR23) -> 95075.217 | AT23: 80562.66 | AU23: 108528 | AV23: 119952 | AW23: 100703.32 | AX23: 114240 | AY23: =AVERAGE(AT23:AX23) -> 104797.2 | AZ23: 70128.339 | BA23: 88179 | BB23: 97461 | BC23: 87660.424 | BD23: 92820 | BE23: =AVERAGE(AZ23:BD23) -> 87249.753 | BF23: 70596.145 | BG23: 115311 | BH23: 127449 | BI23: 88245.182 | BJ23: 121380 | BK23: =AVERAGE(BF23:BJ23) -> 104596.27 | BL23: 82206.796 | BM23: 135660 | BN23: 149940 | BO23: 102758.49 | BP23: 142800 | BQ23: =AVERAGE(BL23:BP23) -> 122673.06 | BR23: 61551.724 | BS23: 108528 | BT23: 119952 | BU23: 76939.655 | BV23: 114240 | BW23: =AVERAGE(BR23:BV23) -> 96242.276 | BX23: 65480.558 | BY23: 135660 | BZ23: 149940 | CA23: 81850.697 | CB23: 142800 | CC23: =AVERAGE(BX23:CB23) -> 115146.25 | CD23: 120202.02 | CE23: 220447.5 | CF23: 243652.5 | CG23: 150252.53 | CH23: 232050 | CI23: =AVERAGE(CD23:CH23) -> 193320.91 | CJ23: 119055.56 | CK23: 162792 | CL23: 179928 | CM23: 148819.45 | CN23: 171360 | CO23: =AVERAGE(CJ23:CN23) -> 156391 | CP23: 72036.883 | CQ23: 38437 | CR23: 42483 | CS23: 90046.104 | CT23: 40460 | CU23: =AVERAGE(CP23:CT23) -> 56692.597 | CV23: 60852.273 | CW23: 31654 | CX23: 34986 | CY23: 76065.341 | CZ23: 33320 | DA23: =AVERAGE(CV23:CZ23) -> 47375.523 | DB23: 60006.723 | DC23: 33915 | DD23: 37485 | DE23: 75008.404 | DF23: 35700 | DG23: =AVERAGE(DB23:DF23) -> 48423.026 | DH23: 66816.896 | DI23: 45220 | DJ23: 49980 | DK23: 83521.119 | DL23: 47600 | DM23: =AVERAGE(DH23:DL23) -> 58627.603 | DN23: 70749.108 | DO23: 54264 | DP23: 59976 | DQ23: 88436.385 | DR23: 57120 | DS23: =AVERAGE(DN23:DR23) -> 66109.099 | DT23: 160269.36 | DU23: 107397.5 | DV23: 118702.5 | DW23: 200336.7 | DX23: 113050 | DY23: =AVERAGE(DT23:DX23) -> 139951.21 | DZ23: 160269.36 | EA23: 107397.5 | EB23: 118702.5 | EC23: 200336.7 | ED23: 113050 | EE23: =AVERAGE(DZ23:ED23) -> 139951.21 | EF23: 86533.469 | EG23: 47481 | EH23: 52479 | EI23: 108166.84 | EJ23: 49980 | EK23: =AVERAGE(EF23:EJ23) -> 68928.061 | EL23: 94058.119 | EM23: 72352 | EN23: 79968 | EO23: 117572.65 | EP23: 76160 | EQ23: =AVERAGE(EL23:EP23) -> 88022.153 | ER23: 83072.13 | ES23: 45220 | ET23: 49980 | EU23: 103840.16 | EV23: 47600 | EW23: =AVERAGE(ER23:EV23) -> 65942.459 | EX23: 84767.48 | EY23: 33915 | EZ23: 37485 | FA23: 105959.35 | FB23: 35700 | FC23: =AVERAGE(EX23:FB23) -> 59565.366 | FD23: 168704.59 | FE23: 118702.5 | FF23: 131197.5 | FG23: 210880.74 | FH23: 124950 | FI23: =AVERAGE(FD23:FH23) -> 150887.07 | FJ23: 122655.12 | FK23: 58786 | FL23: 64974 | FM23: 153318.9 | FN23: 61880 | FO23: =AVERAGE(FJ23:FN23) -> 92322.805 | FP23: 112842.71 | FQ23: 38437 | FR23: 42483 | FS23: 141053.39 | FT23: 40460 | FU23: =AVERAGE(FP23:FT23) -> 75055.221 | FV23: 133320.79 | FW23: 47481 | FX23: 52479 | FY23: 166650.98 | FZ23: 49980 | GA23: =AVERAGE(FV23:FZ23) -> 89982.353 | GB23: 143355.68 | GC23: 73482.5 | GD23: 81217.5 | GE23: 179194.6 | GF23: 77350 | GG23: =AVERAGE(GB23:GF23) -> 110920.06 | GH23: 115145.63 | GI23: 36176 | GJ23: 39984 | GK23: 143932.03 | GL23: 38080 | GM23: =AVERAGE(GH23:GL23) -> 74663.531 | GN23: 117495.54 | GO23: 39567.5 | GP23: 43732.5 | GQ23: 146869.42 | GR23: 41650 | GS23: =AVERAGE(GN23:GR23) -> 77862.991
B24: 2.5 | C24: CIGÜEÑAL | D24: 279650 | E24: 661342.5 | F24: 730957.5 | G24: 349562.5 | H24: 696150 | I24: 768442.5 | J24: 279650 | K24: 695257.5 | L24: 768442.5 | M24: 349562.5 | N24: 731850 | O24: 862155 | P24: 329000 | Q24: 780045 | R24: 862155 | S24: 411250 | T24: 821100 | U24: =AVERAGE(P24:T24) -> 640710 | V24: 387058.82 | W24: 1153110 | X24: 1274490 | Y24: 483823.53 | Z24: 1213800 | AA24: =AVERAGE(V24:Z24) -> 902456.47 | AB24: 303967.39 | AC24: 712215 | AD24: 787185 | AE24: 379959.24 | AF24: 749700 | AG24: =AVERAGE(AB24:AF24) -> 586605.33 | AH24: 621444.44 | AI24: 1492260 | AJ24: 1649340 | AK24: 776805.56 | AL24: 1570800 | AM24: =AVERAGE(AH24:AL24) -> 1222130 | AN24: 357608.7 | AO24: 746130 | AP24: 824670 | AQ24: 447010.87 | AR24: 785400 | AS24: =AVERAGE(AN24:AR24) -> 632163.91 | AT24: 420716.11 | AU24: 797002.5 | AV24: 880897.5 | AW24: 525895.14 | AX24: 838950 | AY24: =AVERAGE(AT24:AX24) -> 692692.25 | AZ24: 366225.77 | BA24: 678300 | BB24: 749700 | BC24: 457782.22 | BD24: 714000 | BE24: =AVERAGE(AZ24:BD24) -> 593201.6 | BF24: 368668.76 | BG24: 830917.5 | BH24: 918382.5 | BI24: 460835.95 | BJ24: 874650 | BK24: =AVERAGE(BF24:BJ24) -> 690690.94 | BL24: 429302.16 | BM24: 983535 | BN24: 1087065 | BO24: 536627.69 | BP24: 1035300 | BQ24: =AVERAGE(BL24:BP24) -> 814365.97 | BR24: 321436.78 | BS24: 797002.5 | BT24: 880897.5 | BU24: 401795.98 | BV24: 838950 | BW24: =AVERAGE(BR24:BV24) -> 648016.55 | BX24: 341954.02 | BY24: 1000492.5 | BZ24: 1105807.5 | CA24: 427442.53 | CB24: 1053150 | CC24: =AVERAGE(BX24:CB24) -> 785769.31 | CD24: 627721.66 | CE24: 1560090 | CF24: 1724310 | CG24: 784652.08 | CH24: 1642200 | CI24: =AVERAGE(CD24:CH24) -> 1267794.7 | CJ24: 621734.59 | CK24: 1187025 | CL24: 1311975 | CM24: 777168.23 | CN24: 1249500 | CO24: =AVERAGE(CJ24:CN24) -> 1029480.6 | CP24: 376192.61 | CQ24: 276972.5 | CR24: 306127.5 | CS24: 470240.76 | CT24: 291550 | CU24: =AVERAGE(CP24:CT24) -> 344216.67 | CV24: 317784.09 | CW24: 243057.5 | CX24: 268642.5 | CY24: 397230.11 | CZ24: 255850 | DA24: =AVERAGE(CV24:CZ24) -> 296512.84 | DB24: 313368.44 | DC24: 254362.5 | DD24: 281137.5 | DE24: 391710.56 | DF24: 267750 | DG24: =AVERAGE(DB24:DF24) -> 301665.8 | DH24: 348932.68 | DI24: 333497.5 | DJ24: 368602.5 | DK24: 436165.85 | DL24: 351050 | DM24: =AVERAGE(DH24:DL24) -> 367649.7 | DN24: 369467.57 | DO24: 401327.5 | DP24: 443572.5 | DQ24: 461834.46 | DR24: 422450 | DS24: =AVERAGE(DN24:DR24) -> 419730.4 | DT24: 836962.21 | DU24: 813960 | DV24: 899640 | DW24: 1046202.8 | DX24: 856800 | DY24: =AVERAGE(DT24:DX24) -> 890713 | DZ24: 836962.21 | EA24: 825265 | EB24: 912135 | EC24: 1046202.8 | ED24: 868700 | EE24: =AVERAGE(DZ24:ED24) -> 897853 | EF24: 451897.01 | EG24: 350455 | EH24: 387345 | EI24: 564871.26 | EJ24: 368900 | EK24: =AVERAGE(EF24:EJ24) -> 424693.65 | EL24: 491192.4 | EM24: 508725 | EN24: 562275 | EO24: 613990.5 | EP24: 535500 | EQ24: =AVERAGE(EL24:EP24) -> 542336.58 | ER24: 433821.13 | ES24: 327845 | ET24: 362355 | EU24: 542276.41 | EV24: 345100 | EW24: =AVERAGE(ER24:EV24) -> 402279.51 | EX24: 442674.62 | EY24: 248710 | EZ24: 274890 | FA24: 553343.27 | FB24: 261800 | FC24: =AVERAGE(EX24:FB24) -> 356283.58 | FD24: 881012.86 | FE24: 881790 | FF24: 974610 | FG24: 1101266.1 | FH24: 928200 | FI24: =AVERAGE(FD24:FH24) -> 953375.79 | FJ24: 640532.31 | FK24: 429590 | FL24: 474810 | FM24: 800665.38 | FN24: 452200 | FO24: =AVERAGE(FJ24:FN24) -> 559559.54 | FP24: 589289.72 | FQ24: 276972.5 | FR24: 306127.5 | FS24: 736612.15 | FT24: 291550 | FU24: =AVERAGE(FP24:FT24) -> 440110.38 | FV24: 696230.77 | FW24: 344802.5 | FX24: 381097.5 | FY24: 870288.46 | FZ24: 362950 | GA24: =AVERAGE(FV24:FZ24) -> 531073.85 | GB24: 748635.24 | GC24: 520030 | GD24: 574770 | GE24: 935794.04 | GF24: 547400 | GG24: =AVERAGE(GB24:GF24) -> 665325.86 | GH24: 601316.04 | GI24: 265667.5 | GJ24: 293632.5 | GK24: 751645.05 | GL24: 279650 | GM24: =AVERAGE(GH24:GL24) -> 438382.22 | GN24: 613587.8 | GO24: 288277.5 | GP24: 318622.5 | GQ24: 766984.75 | GR24: 303450 | GS24: =AVERAGE(GN24:GR24) -> 458184.51
B25: 2.6 | C25: CILINDRO MOTOR | D25: 297500 | E25: 525682.5 | F25: 581017.5 | G25: 371875 | H25: 553350 | I25: 618502.5 | J25: 297500 | K25: 559597.5 | L25: 618502.5 | M25: 371875 | N25: 589050 | O25: 693472.5 | P25: 350000 | Q25: 627427.5 | R25: 693472.5 | S25: 437500 | T25: 660450 | U25: =AVERAGE(P25:T25) -> 553770 | V25: 411764.71 | W25: 932662.5 | X25: 1030837.5 | Y25: 514705.88 | Z25: 981750 | AA25: =AVERAGE(V25:Z25) -> 774344.12 | AB25: 323369.57 | AC25: 542640 | AD25: 599760 | AE25: 404211.96 | AF25: 571200 | AG25: =AVERAGE(AB25:AF25) -> 488236.3 | AH25: 661111.11 | AI25: 1187025 | AJ25: 1311975 | AK25: 826388.89 | AL25: 1249500 | AM25: =AVERAGE(AH25:AL25) -> 1047200 | AN25: 380434.78 | AO25: 576555 | AP25: 637245 | AQ25: 475543.48 | AR25: 606900 | AS25: =AVERAGE(AN25:AR25) -> 535335.65 | AT25: 447570.33 | AU25: 610470 | AV25: 674730 | AW25: 559462.92 | AX25: 642600 | AY25: =AVERAGE(AT25:AX25) -> 586966.65 | AZ25: 389601.89 | BA25: 508725 | BB25: 562275 | BC25: 487002.36 | BD25: 535500 | BE25: =AVERAGE(AZ25:BD25) -> 496620.85 | BF25: 392200.81 | BG25: 644385 | BH25: 712215 | BI25: 490251.01 | BJ25: 678300 | BK25: =AVERAGE(BF25:BJ25) -> 583470.36 | BL25: 456704.42 | BM25: 780045 | BN25: 862155 | BO25: 570880.53 | BP25: 821100 | BQ25: =AVERAGE(BL25:BP25) -> 698176.99 | BR25: 341954.02 | BS25: 610470 | BT25: 674730 | BU25: 427442.53 | BV25: 642600 | BW25: =AVERAGE(BR25:BV25) -> 539439.31 | BX25: 363780.88 | BY25: 797002.5 | BZ25: 880897.5 | CA25: 454726.09 | CB25: 838950 | CC25: =AVERAGE(BX25:CB25) -> 667071.39 | CD25: 667789 | CE25: 1254855 | CF25: 1386945 | CG25: 834736.25 | CH25: 1320900 | CI25: =AVERAGE(CD25:CH25) -> 1093045.1 | CJ25: 661419.77 | CK25: 949620 | CL25: 1049580 | CM25: 826774.72 | CN25: 999600 | CO25: =AVERAGE(CJ25:CN25) -> 897398.9 | CP25: 400204.9 | CQ25: 220447.5 | CR25: 243652.5 | CS25: 500256.13 | CT25: 232050 | CU25: =AVERAGE(CP25:CT25) -> 319322.21 | CV25: 338068.18 | CW25: 186532.5 | CX25: 206167.5 | CY25: 422585.23 | CZ25: 196350 | DA25: =AVERAGE(CV25:CZ25) -> 269940.68 | DB25: 333370.69 | DC25: 197837.5 | DD25: 218662.5 | DE25: 416713.36 | DF25: 208250 | DG25: =AVERAGE(DB25:DF25) -> 274966.81 | DH25: 371204.98 | DI25: 265667.5 | DJ25: 293632.5 | DK25: 464006.22 | DL25: 279650 | DM25: =AVERAGE(DH25:DL25) -> 334832.24 | DN25: 393050.6 | DO25: 322192.5 | DP25: 356107.5 | DQ25: 491313.25 | DR25: 339150 | DS25: =AVERAGE(DN25:DR25) -> 380362.77 | DT25: 890385.33 | DU25: 655690 | DV25: 724710 | DW25: 1112981.7 | DX25: 690200 | DY25: =AVERAGE(DT25:DX25) -> 814793.4 | DZ25: 890385.33 | EA25: 666995 | EB25: 737205 | EC25: 1112981.7 | ED25: 702100 | EE25: =AVERAGE(DZ25:ED25) -> 821933.4 | EF25: 480741.5 | EG25: 276972.5 | EH25: 306127.5 | EI25: 600926.87 | EJ25: 291550 | EK25: =AVERAGE(EF25:EJ25) -> 391263.67 | EL25: 522545.1 | EM25: 406980 | EN25: 449820 | EO25: 653181.38 | EP25: 428400 | EQ25: =AVERAGE(EL25:EP25) -> 492185.3 | ER25: 461511.84 | ES25: 265667.5 | ET25: 293632.5 | EU25: 576889.79 | EV25: 279650 | EW25: =AVERAGE(ER25:EV25) -> 375470.33 | EX25: 470930.44 | EY25: 192185 | EZ25: 212415 | FA25: 588663.06 | FB25: 202300 | FC25: =AVERAGE(EX25:FB25) -> 333298.7 | FD25: 937247.72 | FE25: 700910 | FF25: 774690 | FG25: 1171559.7 | FH25: 737800 | FI25: =AVERAGE(FD25:FH25) -> 864441.47 | FJ25: 681417.35 | FK25: 344802.5 | FL25: 381097.5 | FM25: 851771.69 | FN25: 362950 | FO25: =AVERAGE(FJ25:FN25) -> 524407.81 | FP25: 626903.96 | FQ25: 214795 | FR25: 237405 | FS25: 783629.95 | FT25: 226100 | FU25: =AVERAGE(FP25:FT25) -> 417766.78 | FV25: 740671.03 | FW25: 276972.5 | FX25: 306127.5 | FY25: 925838.79 | FZ25: 291550 | GA25: =AVERAGE(FV25:FZ25) -> 508231.96 | GB25: 796420.46 | GC25: 418285 | GD25: 462315 | GE25: 995525.58 | GF25: 440300 | GG25: =AVERAGE(GB25:GF25) -> 622569.21 | GH25: 639697.92 | GI25: 203490 | GJ25: 224910 | GK25: 799622.4 | GL25: 214200 | GM25: =AVERAGE(GH25:GL25) -> 416384.06 | GN25: 652752.98 | GO25: 226100 | GP25: 249900 | GQ25: 815941.22 | GR25: 238000 | GS25: =AVERAGE(GN25:GR25) -> 436538.84
B26: 2.7 | C26: CULATA | D26: 340042.5 | E26: 712215 | F26: 787185 | G26: 425053.12 | H26: 749700 | I26: 843412.5 | J26: 340042.5 | K26: 763087.5 | L26: 843412.5 | M26: 425053.12 | N26: 803250 | O26: 918382.5 | P26: 400050 | Q26: 830917.5 | R26: 918382.5 | S26: 500062.5 | T26: 874650 | U26: =AVERAGE(P26:T26) -> 704812.5 | V26: 470647.06 | W26: 1288770 | X26: 1424430 | Y26: 588308.82 | Z26: 1356600 | AA26: =AVERAGE(V26:Z26) -> 1025751.2 | AB26: 369611.41 | AC26: 746130 | AD26: 824670 | AE26: 462014.27 | AF26: 785400 | AG26: =AVERAGE(AB26:AF26) -> 637565.14 | AH26: 755650 | AI26: 1627920 | AJ26: 1799280 | AK26: 944562.5 | AL26: 1713600 | AM26: =AVERAGE(AH26:AL26) -> 1368202.5 | AN26: 434836.96 | AO26: 780045 | AP26: 862155 | AQ26: 543546.2 | AR26: 821100 | AS26: =AVERAGE(AN26:AR26) -> 688336.63 | AT26: 511572.89 | AU26: 830917.5 | AV26: 918382.5 | AW26: 639466.11 | AX26: 874650 | AY26: =AVERAGE(AT26:AX26) -> 754997.8 | AZ26: 445314.96 | BA26: 729172.5 | BB26: 805927.5 | BC26: 556643.69 | BD26: 767550 | BE26: =AVERAGE(AZ26:BD26) -> 660921.73 | BF26: 448285.52 | BG26: 864832.5 | BH26: 955867.5 | BI26: 560356.9 | BJ26: 910350 | BK26: =AVERAGE(BF26:BJ26) -> 747938.48 | BL26: 522013.15 | BM26: 1051365 | BN26: 1162035 | BO26: 652516.44 | BP26: 1106700 | BQ26: =AVERAGE(BL26:BP26) -> 898925.92 | BR26: 390853.45 | BS26: 830917.5 | BT26: 918382.5 | BU26: 488566.81 | BV26: 874650 | BW26: =AVERAGE(BR26:BV26) -> 700674.05 | BX26: 415801.54 | BY26: 1068322.5 | BZ26: 1180777.5 | CA26: 519751.93 | CB26: 1124550 | CC26: =AVERAGE(BX26:CB26) -> 861840.69 | CD26: 763282.83 | CE26: 1729665 | CF26: 1911735 | CG26: 954103.54 | CH26: 1820700 | CI26: =AVERAGE(CD26:CH26) -> 1435897.3 | CJ26: 756002.8 | CK26: 1305727.5 | CL26: 1443172.5 | CM26: 945003.5 | CN26: 1374450 | CO26: =AVERAGE(CJ26:CN26) -> 1164871.3 | CP26: 457434.21 | CQ26: 293930 | CR26: 324870 | CS26: 571792.76 | CT26: 309400 | CU26: =AVERAGE(CP26:CT26) -> 391485.39 | CV26: 386411.93 | CW26: 254362.5 | CX26: 281137.5 | CY26: 483014.91 | CZ26: 267750 | DA26: =AVERAGE(CV26:CZ26) -> 334535.37 | DB26: 381042.69 | DC26: 265667.5 | DD26: 293632.5 | DE26: 476303.37 | DF26: 279650 | DG26: =AVERAGE(DB26:DF26) -> 339259.21 | DH26: 424287.29 | DI26: 356107.5 | DJ26: 393592.5 | DK26: 530359.11 | DL26: 374850 | DM26: =AVERAGE(DH26:DL26) -> 415839.28 | DN26: 449256.84 | DO26: 440895 | DP26: 487305 | DQ26: 561571.05 | DR26: 464100 | DS26: =AVERAGE(DN26:DR26) -> 480625.58 | DT26: 1017710.4 | DU26: 881790 | DV26: 974610 | DW26: 1272138 | DX26: 928200 | DY26: =AVERAGE(DT26:DX26) -> 1014889.7 | DZ26: 1017710.4 | EA26: 893095 | EB26: 987105 | EC26: 1272138 | ED26: 940100 | EE26: =AVERAGE(DZ26:ED26) -> 1022029.7 | EF26: 549487.53 | EG26: 367412.5 | EH26: 406087.5 | EI26: 686859.41 | EJ26: 386750 | EK26: =AVERAGE(EF26:EJ26) -> 479319.39 | EL26: 597269.05 | EM26: 559597.5 | EN26: 618502.5 | EO26: 746586.32 | EP26: 589050 | EQ26: =AVERAGE(EL26:EP26) -> 622201.07 | ER26: 527508.03 | ES26: 350455 | ET26: 387345 | EU26: 659385.04 | EV26: 368900 | EW26: =AVERAGE(ER26:EV26) -> 458718.61 | EX26: 538273.5 | EY26: 260015 | EZ26: 287385 | FA26: 672841.87 | FB26: 273700 | FC26: =AVERAGE(EX26:FB26) -> 406443.07 | FD26: 1071274.1 | FE26: 960925 | FF26: 1062075 | FG26: 1339092.7 | FH26: 1011500 | FI26: =AVERAGE(FD26:FH26) -> 1088973.4 | FJ26: 778860.03 | FK26: 474810 | FL26: 524790 | FM26: 973575.04 | FN26: 499800 | FO26: =AVERAGE(FJ26:FN26) -> 650367.01 | FP26: 716551.23 | FQ26: 288277.5 | FR26: 318622.5 | FS26: 895689.03 | FT26: 303450 | FU26: =AVERAGE(FP26:FT26) -> 504518.05 | FV26: 846586.99 | FW26: 367412.5 | FX26: 406087.5 | FY26: 1058233.7 | FZ26: 386750 | GA26: =AVERAGE(FV26:FZ26) -> 613014.14 | GB26: 910308.59 | GC26: 576555 | GD26: 637245 | GE26: 1137885.7 | GF26: 606900 | GG26: =AVERAGE(GB26:GF26) -> 773778.87 | GH26: 731174.72 | GI26: 276972.5 | GJ26: 306127.5 | GK26: 913968.4 | GL26: 291550 | GM26: =AVERAGE(GH26:GL26) -> 503958.62 | GN26: 746096.65 | GO26: 299582.5 | GP26: 331117.5 | GQ26: 932620.82 | GR26: 315350 | GS26: =AVERAGE(GN26:GR26) -> 524953.49
B27: 2.8 | C27: CULATIN | D27: 220150 | E27: 128877 | F27: 142443 | G27: 275187.5 | H27: 135660 | I27: 149940 | J27: 220150 | K27: 135660 | L27: 149940 | M27: 275187.5 | N27: 142800 | O27: 164934 | P27: 259000 | Q27: 149226 | R27: 164934 | S27: 323750 | T27: 157080 | U27: =AVERAGE(P27:T27) -> 210798 | V27: 304705.88 | W27: 220447.5 | X27: 243652.5 | Y27: 380882.35 | Z27: 232050 | AA27: =AVERAGE(V27:Z27) -> 276347.65 | AB27: 239293.48 | AC27: 128877 | AD27: 142443 | AE27: 299116.85 | AF27: 135660 | AG27: =AVERAGE(AB27:AF27) -> 189078.07 | AH27: 489222.22 | AI27: 278103 | AJ27: 307377 | AK27: 611527.78 | AL27: 292740 | AM27: =AVERAGE(AH27:AL27) -> 395794 | AN27: 281521.74 | AO27: 142443 | AP27: 157437 | AQ27: 351902.17 | AR27: 149940 | AS27: =AVERAGE(AN27:AR27) -> 216648.78 | AT27: 331202.05 | AU27: 152617.5 | AV27: 168682.5 | AW27: 414002.56 | AX27: 160650 | AY27: =AVERAGE(AT27:AX27) -> 245430.92 | AZ27: 288305.4 | BA27: 122094 | BB27: 134946 | BC27: 360381.74 | BD27: 128520 | BE27: =AVERAGE(AZ27:BD27) -> 206849.43 | BF27: 290228.6 | BG27: 162792 | BH27: 179928 | BI27: 362785.75 | BJ27: 171360 | BK27: =AVERAGE(BF27:BJ27) -> 233418.87 | BL27: 337961.27 | BM27: 186532.5 | BN27: 206167.5 | BO27: 422451.59 | BP27: 196350 | BQ27: =AVERAGE(BL27:BP27) -> 269892.57 | BR27: 253045.98 | BS27: 152617.5 | BT27: 168682.5 | BU27: 316307.47 | BV27: 160650 | BW27: =AVERAGE(BR27:BV27) -> 210260.69 | BX27: 269197.85 | BY27: 189924 | BZ27: 209916 | CA27: 336497.31 | CB27: 199920 | CC27: =AVERAGE(BX27:CB27) -> 241091.03 | CD27: 494163.86 | CE27: 291669 | CF27: 322371 | CG27: 617704.83 | CH27: 307020 | CI27: =AVERAGE(CD27:CH27) -> 406585.74 | CJ27: 489450.63 | CK27: 223839 | CL27: 247401 | CM27: 611813.29 | CN27: 235620 | CO27: =AVERAGE(CJ27:CN27) -> 361624.78 | CP27: 296151.63 | CQ27: 54264 | CR27: 59976 | CS27: 370189.54 | CT27: 57120 | CU27: =AVERAGE(CP27:CT27) -> 167540.23 | CV27: 250170.45 | CW27: 42959 | CX27: 47481 | CY27: 312713.07 | CZ27: 45220 | DA27: =AVERAGE(CV27:CZ27) -> 139708.7 | DB27: 246694.31 | DC27: 47481 | DD27: 52479 | DE27: 308367.88 | DF27: 49980 | DG27: =AVERAGE(DB27:DF27) -> 141000.44 | DH27: 274691.68 | DI27: 63308 | DJ27: 69972 | DK27: 343364.6 | DL27: 66640 | DM27: =AVERAGE(DH27:DL27) -> 163595.26 | DN27: 290857.44 | DO27: 76874 | DP27: 84966 | DQ27: 363571.81 | DR27: 80920 | DS27: =AVERAGE(DN27:DR27) -> 179437.85 | DT27: 658885.15 | DU27: 152617.5 | DV27: 168682.5 | DW27: 823606.43 | DX27: 160650 | DY27: =AVERAGE(DT27:DX27) -> 392888.32 | DZ27: 658885.15 | EA27: 156009 | EB27: 172431 | EC27: 823606.43 | ED27: 164220 | EE27: =AVERAGE(DZ27:ED27) -> 395030.32 | EF27: 355748.71 | EG27: 65569 | EH27: 72471 | EI27: 444685.88 | EJ27: 69020 | EK27: =AVERAGE(EF27:EJ27) -> 201498.92 | EL27: 386683.38 | EM27: 94962 | EN27: 104958 | EO27: 483354.22 | EP27: 99960 | EQ27: =AVERAGE(EL27:EP27) -> 233983.52 | ER27: 341518.76 | ES27: 62177.5 | ET27: 68722.5 | EU27: 426898.45 | EV27: 65450 | EW27: =AVERAGE(ER27:EV27) -> 192953.44 | EX27: 348488.53 | EY27: 45220 | EZ27: 49980 | FA27: 435610.66 | FB27: 47600 | FC27: =AVERAGE(EX27:FB27) -> 185379.84 | FD27: 693563.31 | FE27: 163922.5 | FF27: 181177.5 | FG27: 866954.14 | FH27: 172550 | FI27: =AVERAGE(FD27:FH27) -> 415633.49 | FJ27: 504248.84 | FK27: 81396 | FL27: 89964 | FM27: 630311.05 | FN27: 85680 | FO27: =AVERAGE(FJ27:FN27) -> 278319.98 | FP27: 463908.93 | FQ27: 54264 | FR27: 59976 | FS27: 579886.16 | FT27: 57120 | FU27: =AVERAGE(FP27:FT27) -> 243031.02 | FV27: 548096.56 | FW27: 65569 | FX27: 72471 | FY27: 685120.7 | FZ27: 69020 | GA27: =AVERAGE(FV27:FZ27) -> 288055.45 | GB27: 589351.14 | GC27: 97223 | GD27: 107457 | GE27: 736688.93 | GF27: 102340 | GG27: =AVERAGE(GB27:GF27) -> 326612.01 | GH27: 473376.46 | GI27: 50872.5 | GJ27: 56227.5 | GK27: 591720.57 | GL27: 53550 | GM27: =AVERAGE(GH27:GL27) -> 245149.41 | GN27: 483037.2 | GO27: 56525 | GP27: 62475 | GQ27: 603796.5 | GR27: 59500 | GS27: =AVERAGE(GN27:GR27) -> 253066.74
B28: 2.9 | C28: EJE DE LEVAS | D28: 106688.26 | E28: 196707 | F28: 217413 | G28: 133360.33 | H28: 207060 | I28: a | J28: 106688.26 | K28: 210273 | L28: 232407 | M28: 133360.33 | N28: 221340 | O28: 254898 | P28: 125515.6 | Q28: 230622 | R28: 254898 | S28: 156894.5 | T28: 242760 | U28: =AVERAGE(P28:T28) -> 202138.02 | V28: 147665.41 | W28: 390022.5 | X28: 431077.5 | Y28: 184581.76 | Z28: 410550 | AA28: =AVERAGE(V28:Z28) -> 312779.44 | AB28: 115965.5 | AC28: 210273 | AD28: 232407 | AE28: 144956.88 | AF28: 221340 | AG28: =AVERAGE(AB28:AF28) -> 184988.48 | AH28: 237085.02 | AI28: 491767.5 | AJ28: 543532.5 | AK28: 296356.28 | AL28: 517650 | AM28: =AVERAGE(AH28:AL28) -> 417278.26 | AN28: 136430 | AO28: 220447.5 | AP28: 243652.5 | AQ28: 170537.5 | AR28: 232050 | AS28: =AVERAGE(AN28:AR28) -> 200623.5 | AT28: 160505.88 | AU28: 237405 | AV28: 262395 | AW28: 200632.35 | AX28: 249900 | AY28: =AVERAGE(AT28:AX28) -> 222167.65 | AZ28: 139717.47 | BA28: 203490 | BB28: 224910 | BC28: 174646.84 | BD28: 214200 | BE28: =AVERAGE(AZ28:BD28) -> 191392.86 | BF28: 140649.48 | BG28: 244188 | BH28: 269892 | BI28: 175811.86 | BJ28: 257040 | BK28: =AVERAGE(BF28:BJ28) -> 217516.27 | BL28: 163781.51 | BM28: 312018 | BN28: 344862 | BO28: 204726.89 | BP28: 328440 | BQ28: =AVERAGE(BL28:BP28) -> 270765.68 | BR28: 122630.18 | BS28: 237405 | BT28: 262395 | BU28: 153287.73 | BV28: 249900 | BW28: =AVERAGE(BR28:BV28) -> 205123.58 | BX28: 130457.64 | BY28: 318801 | BZ28: 352359 | CA28: 163072.05 | CB28: 335580 | CC28: =AVERAGE(BX28:CB28) -> 260053.94 | CD28: 239479.82 | CE28: 525682.5 | CF28: 581017.5 | CG28: 299349.78 | CH28: 553350 | CI28: =AVERAGE(CD28:CH28) -> 439775.92 | CJ28: 237195.71 | CK28: 400197 | CL28: 442323 | CM28: 296494.64 | CN28: 421260 | CO28: =AVERAGE(CJ28:CN28) -> 359494.07 | CP28: 143519.88 | CQ28: 83657 | CR28: 92463 | CS28: 179399.85 | CT28: 88060 | CU28: =AVERAGE(CP28:CT28) -> 117419.95 | CV28: 121236.66 | CW28: 72352 | CX28: 79968 | CY28: 151545.82 | CZ28: 76160 | DA28: =AVERAGE(CV28:CZ28) -> 100252.5 | DB28: 119552.06 | DC28: 74613 | DD28: 82467 | DE28: 149440.08 | DF28: 78540 | DG28: =AVERAGE(DB28:DF28) -> 100922.43 | DH28: 133120.04 | DI28: 106267 | DJ28: 117453 | DK28: 166400.05 | DL28: 111860 | DM28: =AVERAGE(DH28:DL28) -> 127020.02 | DN28: 140954.23 | DO28: 135660 | DP28: 149940 | DQ28: 176192.79 | DR28: 142800 | DS28: =AVERAGE(DN28:DR28) -> 149109.41 | DT28: 319306.43 | DU28: 260015 | DV28: 287385 | DW28: 399133.03 | DX28: 273700 | DY28: =AVERAGE(DT28:DX28) -> 307907.89 | DZ28: 319306.43 | EA28: 265667.5 | EB28: 293632.5 | EC28: 399133.03 | ED28: 279650 | EE28: =AVERAGE(DZ28:ED28) -> 311477.89 | EF28: 172401.59 | EG28: 108528 | EH28: 119952 | EI28: 215501.99 | EJ28: 114240 | EK28: =AVERAGE(EF28:EJ28) -> 146124.72 | EL28: 187393.04 | EM28: 169575 | EN28: 187425 | EO28: 234241.29 | EP28: 178500 | EQ28: =AVERAGE(EL28:EP28) -> 191426.87 | ER28: 165505.53 | ES28: 104006 | ET28: 114954 | EU28: 206881.91 | EV28: 109480 | EW28: =AVERAGE(ER28:EV28) -> 140165.49 | EX28: 168883.19 | EY28: 73482.5 | EZ28: 81217.5 | FA28: 211103.99 | FB28: 77350 | FC28: =AVERAGE(EX28:FB28) -> 122407.44 | FD28: 336112.03 | FE28: 282625 | FF28: 312375 | FG28: 420140.04 | FH28: 297500 | FI28: =AVERAGE(FD28:FH28) -> 329750.41 | FJ28: 244367.16 | FK28: 144704 | FL28: 159936 | FM28: 305458.95 | FN28: 152320 | FO28: =AVERAGE(FJ28:FN28) -> 201357.22 | FP28: 224817.79 | FQ28: 81396 | FR28: 89964 | FS28: 281022.24 | FT28: 85680 | FU28: =AVERAGE(FP28:FT28) -> 152576.01 | FV28: 265616.48 | FW28: 108528 | FX28: 119952 | FY28: 332020.6 | FZ28: 114240 | GA28: =AVERAGE(FV28:FZ28) -> 188071.42 | GB28: 285609.12 | GC28: 175227.5 | GD28: 193672.5 | GE28: 357011.4 | GF28: 184450 | GG28: =AVERAGE(GB28:GF28) -> 239194.1 | GH28: 229405.91 | GI28: 79135 | GJ28: 87465 | GK28: 286757.39 | GL28: 83300 | GM28: =AVERAGE(GH28:GL28) -> 153212.66 | GN28: 234087.66 | GO28: 85918 | GP28: 94962 | GQ28: 292609.58 | GR28: 90440 | GS28: =AVERAGE(GN28:GR28) -> 159603.45
B29: 2.10 | C29: EMPAQUE DE CULATA | D29: 41650 | E29: 40698 | F29: 44982 | G29: 52062.5 | H29: 42840 | I29: 52479 | J29: 41650 | K29: 47481 | L29: 52479 | M29: 52062.5 | N29: 49980 | O29: 56227.5 | P29: 49000 | Q29: 50872.5 | R29: 56227.5 | S29: 61250 | T29: 53550 | U29: =AVERAGE(P29:T29) -> 54180 | V29: 57647.059 | W29: 81396 | X29: 89964 | Y29: 72058.824 | Z29: 85680 | AA29: =AVERAGE(V29:Z29) -> 77349.176 | AB29: 45271.739 | AC29: 47481 | AD29: 52479 | AE29: 56589.674 | AF29: 49980 | AG29: =AVERAGE(AB29:AF29) -> 50360.283 | AH29: 92555.556 | AI29: 101745 | AJ29: 112455 | AK29: 115694.44 | AL29: 107100 | AM29: =AVERAGE(AH29:AL29) -> 105910 | AN29: 53260.87 | AO29: 50872.5 | AP29: 56227.5 | AQ29: 66576.087 | AR29: 53550 | AS29: =AVERAGE(AN29:AR29) -> 56097.391 | AT29: 62659.847 | AU29: 54264 | AV29: 59976 | AW29: 78324.808 | AX29: 57120 | AY29: =AVERAGE(AT29:AX29) -> 62468.931 | AZ29: 54544.264 | BA29: 44089.5 | BB29: 48730.5 | BC29: 68180.33 | BD29: 46410 | BE29: =AVERAGE(AZ29:BD29) -> 52390.919 | BF29: 54908.113 | BG29: 57655.5 | BH29: 63724.5 | BI29: 68635.141 | BJ29: 60690 | BK29: =AVERAGE(BF29:BJ29) -> 61122.651 | BL29: 63938.619 | BM29: 67830 | BN29: 74970 | BO29: 79923.274 | BP29: 71400 | BQ29: =AVERAGE(BL29:BP29) -> 71612.379 | BR29: 47873.563 | BS29: 54264 | BT29: 59976 | BU29: 59841.954 | BV29: 57120 | BW29: =AVERAGE(BR29:BV29) -> 55815.103 | BX29: 50929.323 | BY29: 67830 | BZ29: 74970 | CA29: 63661.653 | CB29: 71400 | CC29: =AVERAGE(BX29:CB29) -> 65758.195 | CD29: 93490.46 | CE29: 108528 | CF29: 119952 | CG29: 116863.08 | CH29: 114240 | CI29: =AVERAGE(CD29:CH29) -> 110614.71 | CJ29: 92598.768 | CK29: 81396 | CL29: 89964 | CM29: 115748.46 | CN29: 85680 | CO29: =AVERAGE(CJ29:CN29) -> 93077.446 | CP29: 56028.687 | CQ29: 19218.5 | CR29: 21241.5 | CS29: 70035.858 | CT29: 20230 | CU29: =AVERAGE(CP29:CT29) -> 37350.909 | CV29: 47329.545 | CW29: 15827 | CX29: 17493 | CY29: 59161.932 | CZ29: 16660 | DA29: =AVERAGE(CV29:CZ29) -> 31294.295 | DB29: 46671.896 | DC29: 16957.5 | DD29: 18742.5 | DE29: 58339.87 | DF29: 17850 | DG29: =AVERAGE(DB29:DF29) -> 31712.353 | DH29: 51968.697 | DI29: 22610 | DJ29: 24990 | DK29: 64960.871 | DL29: 23800 | DM29: =AVERAGE(DH29:DL29) -> 37665.913 | DN29: 55027.084 | DO29: 27132 | DP29: 29988 | DQ29: 68783.855 | DR29: 28560 | DS29: =AVERAGE(DN29:DR29) -> 41898.188 | DT29: 124653.95 | DU29: 54264 | DV29: 59976 | DW29: 155817.43 | DX29: 57120 | DY29: =AVERAGE(DT29:DX29) -> 90366.276 | DZ29: 124653.95 | EA29: 54264 | EB29: 59976 | EC29: 155817.43 | ED29: 57120 | EE29: =AVERAGE(DZ29:ED29) -> 90366.276 | EF29: 67303.809 | EG29: 24871 | EH29: 27489 | EI29: 84129.762 | EJ29: 26180 | EK29: =AVERAGE(EF29:EJ29) -> 45994.714 | EL29: 73156.315 | EM29: 36176 | EN29: 39984 | EO29: 91445.393 | EP29: 38080 | EQ29: =AVERAGE(EL29:EP29) -> 55768.342 | ER29: 64611.657 | ES29: 22610 | ET29: 24990 | EU29: 80764.571 | EV29: 23800 | EW29: =AVERAGE(ER29:EV29) -> 43355.246 | EX29: 65930.262 | EY29: 16957.5 | EZ29: 18742.5 | FA29: 82412.828 | FB29: 17850 | FC29: =AVERAGE(EX29:FB29) -> 40378.618 | FD29: 131214.68 | FE29: 58786 | FF29: 64974 | FG29: 164018.35 | FH29: 61880 | FI29: =AVERAGE(FD29:FH29) -> 96174.606 | FJ29: 95398.429 | FK29: 29393 | FL29: 32487 | FM29: 119248.04 | FN29: 30940 | FO29: =AVERAGE(FJ29:FN29) -> 61493.293 | FP29: 87766.554 | FQ29: 19218.5 | FR29: 21241.5 | FS29: 109708.19 | FT29: 20230 | FU29: =AVERAGE(FP29:FT29) -> 51632.949 | FV29: 103693.94 | FW29: 24871 | FX29: 27489 | FY29: 129617.43 | FZ29: 26180 | GA29: =AVERAGE(FV29:FZ29) -> 62370.275 | GB29: 111498.86 | GC29: 36176 | GD29: 39984 | GE29: 139373.58 | GF29: 38080 | GG29: =AVERAGE(GB29:GF29) -> 73022.489 | GH29: 89557.709 | GI29: 18088 | GJ29: 19992 | GK29: 111947.14 | GL29: 19040 | GM29: =AVERAGE(GH29:GL29) -> 51724.969 | GN29: 91385.417 | GO29: 20349 | GP29: 22491 | GQ29: 114231.77 | GR29: 21420 | GS29: =AVERAGE(GN29:GR29) -> 53975.438
B30: 2.11 | C30: EMPAQUETADURA MOTOR | D30: 101983 | E30: 74613 | F30: 82467 | G30: 127478.75 | H30: 78540 | I30: 89964 | J30: 101983 | K30: 81396 | L30: 89964 | M30: 127478.75 | N30: 85680 | O30: 97461 | P30: 119980 | Q30: 88179 | R30: 97461 | S30: 149975 | T30: 92820 | U30: =AVERAGE(P30:T30) -> 109683 | V30: 141152.94 | W30: 128877 | X30: 142443 | Y30: 176441.18 | Z30: 135660 | AA30: =AVERAGE(V30:Z30) -> 144914.82 | AB30: 110851.09 | AC30: 81396 | AD30: 89964 | AE30: 138563.86 | AF30: 85680 | AG30: =AVERAGE(AB30:AF30) -> 101290.99 | AH30: 226628.89 | AI30: 162792 | AJ30: 179928 | AK30: 283286.11 | AL30: 171360 | AM30: =AVERAGE(AH30:AL30) -> 204799 | AN30: 130413.04 | AO30: 84787.5 | AP30: 93712.5 | AQ30: 163016.3 | AR30: 89250 | AS30: =AVERAGE(AN30:AR30) -> 112235.87 | AT30: 153427.11 | AU30: 91570.5 | AV30: 101209.5 | AW30: 191783.89 | AX30: 96390 | AY30: =AVERAGE(AT30:AX30) -> 126876.2 | AZ30: 133555.53 | BA30: 78004.5 | BB30: 86215.5 | BC30: 166944.41 | BD30: 82110 | BE30: =AVERAGE(AZ30:BD30) -> 109365.99 | BF30: 134446.44 | BG30: 94962 | BH30: 104958 | BI30: 168058.05 | BJ30: 99960 | BK30: =AVERAGE(BF30:BJ30) -> 120476.9 | BL30: 156558.28 | BM30: 115311 | BN30: 127449 | BO30: 195697.84 | BP30: 121380 | BQ30: =AVERAGE(BL30:BP30) -> 143279.22 | BR30: 117221.84 | BS30: 91570.5 | BT30: 101209.5 | BU30: 146527.3 | BV30: 96390 | BW30: =AVERAGE(BR30:BV30) -> 110583.83 | BX30: 124704.08 | BY30: 115311 | BZ30: 127449 | CA30: 155880.11 | CB30: 121380 | CC30: =AVERAGE(BX30:CB30) -> 128944.84 | CD30: 228918.07 | CE30: 176358 | CF30: 194922 | CG30: 286147.59 | CH30: 185640 | CI30: =AVERAGE(CD30:CH30) -> 214397.13 | CJ30: 226734.7 | CK30: 135660 | CL30: 149940 | CM30: 283418.37 | CN30: 142800 | CO30: =AVERAGE(CJ30:CN30) -> 187710.61 | CP30: 137190.24 | CQ30: 31654 | CR30: 34986 | CS30: 171487.8 | CT30: 33320 | CU30: =AVERAGE(CP30:CT30) -> 81727.609 | CV30: 115889.77 | CW30: 27132 | CX30: 29988 | CY30: 144862.22 | CZ30: 28560 | DA30: =AVERAGE(CV30:CZ30) -> 69286.398 | DB30: 114279.47 | DC30: 28262.5 | DD30: 31237.5 | DE30: 142849.34 | DF30: 29750 | DG30: =AVERAGE(DB30:DF30) -> 69275.762 | DH30: 127249.07 | DI30: 39567.5 | DJ30: 43732.5 | DK30: 159061.33 | DL30: 41650 | DM30: =AVERAGE(DH30:DL30) -> 82252.079 | DN30: 134737.75 | DO30: 45220 | DP30: 49980 | DQ30: 168422.18 | DR30: 47600 | DS30: =AVERAGE(DN30:DR30) -> 89191.986 | DT30: 305224.09 | DU30: 88179 | DV30: 97461 | DW30: 381530.12 | DX30: 92820 | DY30: =AVERAGE(DT30:DX30) -> 193042.84 | DZ30: 305224.09 | EA30: 90440 | EB30: 99960 | EC30: 381530.12 | ED30: 95200 | EE30: =AVERAGE(DZ30:ED30) -> 194470.84 | EF30: 164798.18 | EG30: 40698 | EH30: 44982 | EI30: 205997.73 | EJ30: 42840 | EK30: =AVERAGE(EF30:EJ30) -> 99863.183 | EL30: 179128.46 | EM30: 56525 | EN30: 62475 | EO30: 223910.58 | EP30: 59500 | EQ30: =AVERAGE(EL30:EP30) -> 116307.81 | ER30: 158206.26 | ES30: 38437 | ET30: 42483 | EU30: 197757.82 | EV30: 40460 | EW30: =AVERAGE(ER30:EV30) -> 95468.816 | EX30: 161434.96 | EY30: 28262.5 | EZ30: 31237.5 | FA30: 201793.7 | FB30: 29750 | FC30: =AVERAGE(EX30:FB30) -> 90495.73 | FD30: 321288.52 | FE30: 96092.5 | FF30: 106207.5 | FG30: 401610.65 | FH30: 101150 | FI30: =AVERAGE(FD30:FH30) -> 205269.83 | FJ30: 233589.87 | FK30: 49742 | FL30: 54978 | FM30: 291987.33 | FN30: 52360 | FO30: =AVERAGE(FJ30:FN30) -> 136531.44 | FP30: 214902.68 | FQ30: 31654 | FR30: 34986 | FS30: 268628.35 | FT30: 33320 | FU30: =AVERAGE(FP30:FT30) -> 116698.2 | FV30: 253902.03 | FW30: 40698 | FX30: 44982 | FY30: 317377.54 | FZ30: 42840 | GA30: =AVERAGE(FV30:FZ30) -> 139959.91 | GB30: 273012.93 | GC30: 58786 | GD30: 64974 | GE30: 341266.17 | GF30: 61880 | GG30: =AVERAGE(GB30:GF30) -> 159983.82 | GH30: 219288.45 | GI30: 30523.5 | GJ30: 33736.5 | GK30: 274110.56 | GL30: 32130 | GM30: =AVERAGE(GH30:GL30) -> 117957.8 | GN30: 223763.72 | GO30: 33915 | GP30: 37485 | GQ30: 279704.65 | GR30: 35700 | GS30: =AVERAGE(GN30:GR30) -> 122113.67
B31: 2.12 | C31: FILTRO DE ACEITE | D31: 38675 | E31: 33915 | F31: 37485 | G31: 48343.75 | H31: 35700 | I31: 41233.5 | J31: 38675 | K31: 37306.5 | L31: 41233.5 | M31: 48343.75 | N31: 39270 | O31: 44982 | P31: 45500 | Q31: 40698 | R31: 44982 | S31: 56875 | T31: 42840 | U31: =AVERAGE(P31:T31) -> 46179 | V31: 53529.412 | W31: 61047 | X31: 67473 | Y31: 66911.765 | Z31: 64260 | AA31: =AVERAGE(V31:Z31) -> 62644.235 | AB31: 42038.043 | AC31: 40698 | AD31: 44982 | AE31: 52547.554 | AF31: 42840 | AG31: =AVERAGE(AB31:AF31) -> 44621.12 | AH31: 85944.444 | AI31: 81396 | AJ31: 89964 | AK31: 107430.56 | AL31: 85680 | AM31: =AVERAGE(AH31:AL31) -> 90083 | AN31: 49456.522 | AO31: 40698 | AP31: 44982 | AQ31: 61820.652 | AR31: 42840 | AS31: =AVERAGE(AN31:AR31) -> 47959.435 | AT31: 58184.143 | AU31: 44089.5 | AV31: 48730.5 | AW31: 72730.179 | AX31: 46410 | AY31: =AVERAGE(AT31:AX31) -> 54028.864 | AZ31: 50648.245 | BA31: 37306.5 | BB31: 41233.5 | BC31: 63310.306 | BD31: 39270 | BE31: =AVERAGE(AZ31:BD31) -> 46353.71 | BF31: 50986.105 | BG31: 47481 | BH31: 52479 | BI31: 63732.631 | BJ31: 49980 | BK31: =AVERAGE(BF31:BJ31) -> 52931.747 | BL31: 59371.575 | BM31: 54264 | BN31: 59976 | BO31: 74214.468 | BP31: 57120 | BQ31: =AVERAGE(BL31:BP31) -> 60989.209 | BR31: 44454.023 | BS31: 44089.5 | BT31: 48730.5 | BU31: 55567.529 | BV31: 46410 | BW31: =AVERAGE(BR31:BV31) -> 47850.31 | BX31: 47291.514 | BY31: 54264 | BZ31: 59976 | CA31: 59114.392 | CB31: 57120 | CC31: =AVERAGE(BX31:CB31) -> 55553.181 | CD31: 86812.57 | CE31: 88179 | CF31: 97461 | CG31: 108515.71 | CH31: 92820 | CI31: =AVERAGE(CD31:CH31) -> 94757.657 | CJ31: 85984.571 | CK31: 61047 | CL31: 67473 | CM31: 107480.71 | CN31: 64260 | CO31: =AVERAGE(CJ31:CN31) -> 77249.057 | CP31: 52026.638 | CQ31: 15827 | CR31: 17493 | CS31: 65033.297 | CT31: 16660 | CU31: =AVERAGE(CP31:CT31) -> 33407.987 | CV31: 43948.864 | CW31: 13566 | CX31: 14994 | CY31: 54936.08 | CZ31: 14280 | DA31: =AVERAGE(CV31:CZ31) -> 28344.989 | DB31: 43338.189 | DC31: 13566 | DD31: 14994 | DE31: 54172.736 | DF31: 14280 | DG31: =AVERAGE(DB31:DF31) -> 28070.185 | DH31: 48256.647 | DI31: 18088 | DJ31: 19992 | DK31: 60320.808 | DL31: 19040 | DM31: =AVERAGE(DH31:DL31) -> 33139.491 | DN31: 51096.578 | DO31: 20349 | DP31: 22491 | DQ31: 63870.723 | DR31: 21420 | DS31: =AVERAGE(DN31:DR31) -> 35845.46 | DT31: 115750.09 | DU31: 39567.5 | DV31: 43732.5 | DW31: 144687.62 | DX31: 41650 | DY31: =AVERAGE(DT31:DX31) -> 77077.542 | DZ31: 115750.09 | EA31: 39567.5 | EB31: 43732.5 | EC31: 144687.62 | ED31: 41650 | EE31: =AVERAGE(DZ31:ED31) -> 77077.542 | EF31: 62496.394 | EG31: 18088 | EH31: 19992 | EI31: 78120.493 | EJ31: 19040 | EK31: =AVERAGE(EF31:EJ31) -> 39547.377 | EL31: 67930.864 | EM31: 28262.5 | EN31: 31237.5 | EO31: 84913.579 | EP31: 29750 | EQ31: =AVERAGE(EL31:EP31) -> 48418.889 | ER31: 59996.539 | ES31: 16957.5 | ET31: 18742.5 | EU31: 74995.673 | EV31: 17850 | EW31: =AVERAGE(ER31:EV31) -> 37708.442 | EX31: 61220.958 | EY31: 13566 | EZ31: 14994 | FA31: 76526.197 | FB31: 14280 | FC31: =AVERAGE(EX31:FB31) -> 36117.431 | FD31: 121842.2 | FE31: 42959 | FF31: 47481 | FG31: 152302.75 | FH31: 45220 | FI31: =AVERAGE(FD31:FH31) -> 81960.992 | FJ31: 88584.255 | FK31: 22610 | FL31: 24990 | FM31: 110730.32 | FN31: 23800 | FO31: =AVERAGE(FJ31:FN31) -> 54142.915 | FP31: 81497.515 | FQ31: 15827 | FR31: 17493 | FS31: 101871.89 | FT31: 16660 | FU31: =AVERAGE(FP31:FT31) -> 46669.882 | FV31: 96287.234 | FW31: 18088 | FX31: 19992 | FY31: 120359.04 | FZ31: 19040 | GA31: =AVERAGE(FV31:FZ31) -> 54753.255 | GB31: 103534.66 | GC31: 29393 | GD31: 32487 | GE31: 129418.33 | GF31: 30940 | GG31: =AVERAGE(GB31:GF31) -> 65154.597 | GH31: 83160.729 | GI31: 14696.5 | GJ31: 16243.5 | GK31: 103950.91 | GL31: 15470 | GM31: =AVERAGE(GH31:GL31) -> 46704.328 | GN31: 84857.887 | GO31: 15827 | GP31: 17493 | GQ31: 106072.36 | GR31: 16660 | GS31: =AVERAGE(GN31:GR31) -> 48182.049
B32: 2.13 | C32: GUIAS Y ASIENTOS (JUEGO) | D32: 54502 | E32: 94962 | F32: 104958 | G32: 68127.5 | H32: 99960 | I32: 112455 | J32: 54502 | K32: 101745 | L32: 112455 | M32: 68127.5 | N32: 107100 | O32: 127449 | P32: 64120 | Q32: 115311 | R32: 127449 | S32: 80150 | T32: 121380 | U32: =AVERAGE(P32:T32) -> 101682 | V32: 75435.294 | W32: 176358 | X32: 194922 | Y32: 94294.118 | Z32: 185640 | AA32: =AVERAGE(V32:Z32) -> 145329.88 | AB32: 59241.304 | AC32: 108528 | AD32: 119952 | AE32: 74051.63 | AF32: 114240 | AG32: =AVERAGE(AB32:AF32) -> 95202.587 | AH32: 121115.56 | AI32: 230622 | AJ32: 254898 | AK32: 151394.44 | AL32: 242760 | AM32: =AVERAGE(AH32:AL32) -> 200158 | AN32: 69695.652 | AO32: 115311 | AP32: 127449 | AQ32: 87119.565 | AR32: 121380 | AS32: =AVERAGE(AN32:AR32) -> 104191.04 | AT32: 81994.885 | AU32: 122094 | AV32: 134946 | AW32: 102493.61 | AX32: 128520 | AY32: =AVERAGE(AT32:AX32) -> 114009.7 | AZ32: 71375.065 | BA32: 101745 | BB32: 112455 | BC32: 89218.832 | BD32: 107100 | BE32: =AVERAGE(AZ32:BD32) -> 96378.779 | BF32: 71851.188 | BG32: 128877 | BH32: 142443 | BI32: 89813.985 | BJ32: 135660 | BK32: =AVERAGE(BF32:BJ32) -> 113729.03 | BL32: 83668.25 | BM32: 152617.5 | BN32: 168682.5 | BO32: 104585.31 | BP32: 160650 | BQ32: =AVERAGE(BL32:BP32) -> 134040.71 | BR32: 62645.977 | BS32: 122094 | BT32: 134946 | BU32: 78307.471 | BV32: 128520 | BW32: =AVERAGE(BR32:BV32) -> 105302.69 | BX32: 66644.656 | BY32: 156009 | BZ32: 172431 | CA32: 83305.82 | CB32: 164220 | CC32: =AVERAGE(BX32:CB32) -> 128522.1 | CD32: 122338.95 | CE32: 244188 | CF32: 269892 | CG32: 152923.68 | CH32: 257040 | CI32: =AVERAGE(CD32:CH32) -> 209276.53 | CJ32: 121172.1 | CK32: 176358 | CL32: 194922 | CM32: 151465.13 | CN32: 185640 | CO32: =AVERAGE(CJ32:CN32) -> 165911.45 | CP32: 73317.539 | CQ32: 42959 | CR32: 47481 | CS32: 91646.923 | CT32: 45220 | CU32: =AVERAGE(CP32:CT32) -> 60124.892 | CV32: 61934.091 | CW32: 36176 | CX32: 39984 | CY32: 77417.614 | CZ32: 38080 | DA32: =AVERAGE(CV32:CZ32) -> 50718.341 | DB32: 61073.51 | DC32: 38437 | DD32: 42483 | DE32: 76341.887 | DF32: 40460 | DG32: =AVERAGE(DB32:DF32) -> 51759.079 | DH32: 68004.751 | DI32: 52003 | DJ32: 57477 | DK32: 85005.939 | DL32: 54740 | DM32: =AVERAGE(DH32:DL32) -> 63446.138 | DN32: 72006.87 | DO32: 62177.5 | DP32: 68722.5 | DQ32: 90008.588 | DR32: 65450 | DS32: =AVERAGE(DN32:DR32) -> 71673.092 | DT32: 163118.59 | DU32: 124355 | DV32: 137445 | DW32: 203898.24 | DX32: 130900 | DY32: =AVERAGE(DT32:DX32) -> 151943.37 | DZ32: 163118.59 | EA32: 126616 | EB32: 139944 | EC32: 203898.24 | ED32: 133280 | EE32: =AVERAGE(DZ32:ED32) -> 153371.37 | EF32: 88071.842 | EG32: 54264 | EH32: 59976 | EI32: 110089.8 | EJ32: 57120 | EK32: =AVERAGE(EF32:EJ32) -> 73904.329 | EL32: 95730.263 | EM32: 79135 | EN32: 87465 | EO32: 119662.83 | EP32: 83300 | EQ32: =AVERAGE(EL32:EP32) -> 93058.618 | ER32: 84548.968 | ES32: 50872.5 | ET32: 56227.5 | EU32: 105686.21 | EV32: 53550 | EW32: =AVERAGE(ER32:EV32) -> 70177.036 | EX32: 86274.457 | EY32: 38437 | EZ32: 42483 | FA32: 107843.07 | FB32: 40460 | FC32: =AVERAGE(EX32:FB32) -> 63099.506 | FD32: 171703.78 | FE32: 135660 | FF32: 149940 | FG32: 214629.73 | FH32: 142800 | FI32: =AVERAGE(FD32:FH32) -> 162946.7 | FJ32: 124835.66 | FK32: 65569 | FL32: 72471 | FM32: 156044.57 | FN32: 69020 | FO32: =AVERAGE(FJ32:FN32) -> 97588.046 | FP32: 114848.81 | FQ32: 42959 | FR32: 47481 | FS32: 143561.01 | FT32: 45220 | FU32: =AVERAGE(FP32:FT32) -> 78813.962 | FV32: 135690.93 | FW32: 54264 | FX32: 59976 | FY32: 169613.67 | FZ32: 57120 | GA32: =AVERAGE(FV32:FZ32) -> 95332.92 | GB32: 145904.23 | GC32: 81396 | GD32: 89964 | GE32: 182380.29 | GF32: 85680 | GG32: =AVERAGE(GB32:GF32) -> 117064.9 | GH32: 117192.66 | GI32: 40698 | GJ32: 44982 | GK32: 146490.82 | GL32: 42840 | GM32: =AVERAGE(GH32:GL32) -> 78440.696 | GN32: 119584.35 | GO32: 45220 | GP32: 49980 | GQ32: 149480.43 | GR32: 47600 | GS32: =AVERAGE(GN32:GR32) -> 82372.956
B33: 2.14 | C33: JUEGO DE ANILLOS | D33: 78302 | E33: 88179 | F33: 97461 | G33: 97877.5 | H33: 92820 | I33: 104958 | J33: 78302 | K33: 94962 | L33: 104958 | M33: 97877.5 | N33: 99960 | O33: 119952 | P33: 92120 | Q33: 108528 | R33: 119952 | S33: 115150 | T33: 114240 | U33: =AVERAGE(P33:T33) -> 109998 | V33: 108376.47 | W33: 162792 | X33: 179928 | Y33: 135470.59 | Z33: 171360 | AA33: =AVERAGE(V33:Z33) -> 151585.41 | AB33: 85110.87 | AC33: 94962 | AD33: 104958 | AE33: 106388.59 | AF33: 99960 | AG33: =AVERAGE(AB33:AF33) -> 98275.891 | AH33: 174004.44 | AI33: 210273 | AJ33: 232407 | AK33: 217505.56 | AL33: 221340 | AM33: =AVERAGE(AH33:AL33) -> 211106 | AN33: 100130.43 | AO33: 101745 | AP33: 112455 | AQ33: 125163.04 | AR33: 107100 | AS33: =AVERAGE(AN33:AR33) -> 109318.7 | AT33: 117800.51 | AU33: 108528 | AV33: 119952 | AW33: 147250.64 | AX33: 114240 | AY33: =AVERAGE(AT33:AX33) -> 121554.23 | AZ33: 102543.22 | BA33: 91570.5 | BB33: 101209.5 | BC33: 128179.02 | BD33: 96390 | BE33: =AVERAGE(AZ33:BD33) -> 103978.45 | BF33: 103227.25 | BG33: 115311 | BH33: 127449 | BI33: 129034.07 | BJ33: 121380 | BK33: =AVERAGE(BF33:BJ33) -> 119280.26 | BL33: 120204.6 | BM33: 135660 | BN33: 149940 | BO33: 150255.75 | BP33: 142800 | BQ33: =AVERAGE(BL33:BP33) -> 139772.07 | BR33: 90002.299 | BS33: 108528 | BT33: 119952 | BU33: 112502.87 | BV33: 114240 | BW33: =AVERAGE(BR33:BV33) -> 109045.03 | BX33: 95747.126 | BY33: 135660 | BZ33: 149940 | CA33: 119683.91 | CB33: 142800 | CC33: =AVERAGE(BX33:CB33) -> 128766.21 | CD33: 175762.07 | CE33: 223839 | CF33: 247401 | CG33: 219702.58 | CH33: 235620 | CI33: =AVERAGE(CD33:CH33) -> 220464.93 | CJ33: 174085.68 | CK33: 162792 | CL33: 179928 | CM33: 217607.11 | CN33: 171360 | CO33: =AVERAGE(CJ33:CN33) -> 181154.56 | CP33: 105333.93 | CQ33: 38437 | CR33: 42483 | CS33: 131667.41 | CT33: 40460 | CU33: =AVERAGE(CP33:CT33) -> 71676.269 | CV33: 88979.545 | CW33: 31654 | CX33: 34986 | CY33: 111224.43 | CZ33: 33320 | DA33: =AVERAGE(CV33:CZ33) -> 60032.795 | DB33: 87743.165 | DC33: 33915 | DD33: 37485 | DE33: 109678.96 | DF33: 35700 | DG33: =AVERAGE(DB33:DF33) -> 60904.424 | DH33: 97701.149 | DI33: 47481 | DJ33: 52479 | DK33: 122126.44 | DL33: 49980 | DM33: =AVERAGE(DH33:DL33) -> 73953.517 | DN33: 103450.92 | DO33: 55394.5 | DP33: 61225.5 | DQ33: 129313.65 | DR33: 58310 | DS33: =AVERAGE(DN33:DR33) -> 81538.913 | DT33: 234349.42 | DU33: 110789 | DV33: 122451 | DW33: 292936.78 | DX33: 116620 | DY33: =AVERAGE(DT33:DX33) -> 175429.24 | DZ33: 234349.42 | EA33: 110789 | EB33: 122451 | EC33: 292936.78 | ED33: 116620 | EE33: =AVERAGE(DZ33:ED33) -> 175429.24 | EF33: 126531.16 | EG33: 49742 | EH33: 54978 | EI33: 158163.95 | EJ33: 52360 | EK33: =AVERAGE(EF33:EJ33) -> 88355.023 | EL33: 137533.87 | EM33: 72352 | EN33: 79968 | EO33: 171917.34 | EP33: 76160 | EQ33: =AVERAGE(EL33:EP33) -> 107586.24 | ER33: 121469.92 | ES33: 45220 | ET33: 49980 | EU33: 151837.39 | EV33: 47600 | EW33: =AVERAGE(ER33:EV33) -> 83221.462 | EX33: 123948.89 | EY33: 33915 | EZ33: 37485 | FA33: 154936.12 | FB33: 35700 | FC33: =AVERAGE(EX33:FB33) -> 77197.002 | FD33: 246683.6 | FE33: 118702.5 | FF33: 131197.5 | FG33: 308354.5 | FH33: 124950 | FI33: =AVERAGE(FD33:FH33) -> 185977.62 | FJ33: 179349.05 | FK33: 58786 | FL33: 64974 | FM33: 224186.31 | FN33: 61880 | FO33: =AVERAGE(FJ33:FN33) -> 117835.07 | FP33: 165001.12 | FQ33: 38437 | FR33: 42483 | FS33: 206251.4 | FT33: 40460 | FU33: =AVERAGE(FP33:FT33) -> 98526.505 | FV33: 194944.62 | FW33: 49742 | FX33: 54978 | FY33: 243680.77 | FZ33: 52360 | GA33: =AVERAGE(FV33:FZ33) -> 119141.08 | GB33: 209617.87 | GC33: 74613 | GD33: 82467 | GE33: 262022.33 | GF33: 78540 | GG33: =AVERAGE(GB33:GF33) -> 141452.04 | GH33: 168368.49 | GI33: 36176 | GJ33: 39984 | GK33: 210460.62 | GL33: 38080 | GM33: =AVERAGE(GH33:GL33) -> 98613.821 | GN33: 171804.58 | GO33: 39567.5 | GP33: 43732.5 | GQ33: 214755.73 | GR33: 41650 | GS33: =AVERAGE(GN33:GR33) -> 102302.06
B34: 2.15 | C34: KIT PISTON(piston, anillos, pasador pines) | D34: 172550 | E34: 210273 | F34: 232407 | G34: 215687.5 | H34: 221340 | I34: 247401 | J34: 172550 | K34: 223839 | L34: 247401 | M34: 215687.5 | N34: 235620 | O34: 277389 | P34: 203000 | Q34: 250971 | R34: 277389 | S34: 253750 | T34: 264180 | U34: =AVERAGE(P34:T34) -> 249858 | V34: 238823.53 | W34: 390022.5 | X34: 431077.5 | Y34: 298529.41 | Z34: 410550 | AA34: =AVERAGE(V34:Z34) -> 353800.59 | AB34: 187554.35 | AC34: 230622 | AD34: 254898 | AE34: 234442.93 | AF34: 242760 | AG34: =AVERAGE(AB34:AF34) -> 230055.46 | AH34: 383444.44 | AI34: 491767.5 | AJ34: 543532.5 | AK34: 479305.56 | AL34: 517650 | AM34: =AVERAGE(AH34:AL34) -> 483140 | AN34: 220652.17 | AO34: 237405 | AP34: 262395 | AQ34: 275815.22 | AR34: 249900 | AS34: =AVERAGE(AN34:AR34) -> 249233.48 | AT34: 259590.79 | AU34: 254362.5 | AV34: 281137.5 | AW34: 324488.49 | AX34: 267750 | AY34: =AVERAGE(AT34:AX34) -> 277465.86 | AZ34: 225969.09 | BA34: 220447.5 | BB34: 243652.5 | BC34: 282461.37 | BD34: 232050 | BE34: =AVERAGE(AZ34:BD34) -> 240916.09 | BF34: 227476.47 | BG34: 264537 | BH34: 292383 | BI34: 284345.58 | BJ34: 278460 | BK34: =AVERAGE(BF34:BJ34) -> 269440.41 | BL34: 264888.56 | BM34: 322192.5 | BN34: 356107.5 | BO34: 331110.71 | BP34: 339150 | BQ34: =AVERAGE(BL34:BP34) -> 322689.85 | BR34: 198333.33 | BS34: 254362.5 | BT34: 281137.5 | BU34: 247916.67 | BV34: 267750 | BW34: =AVERAGE(BR34:BV34) -> 249900 | BX34: 210992.91 | BY34: 325584 | BZ34: 359856 | CA34: 263741.13 | CB34: 342720 | CC34: =AVERAGE(BX34:CB34) -> 300578.81 | CD34: 387317.62 | CE34: 525682.5 | CF34: 581017.5 | CG34: 484147.03 | CH34: 553350 | CI34: =AVERAGE(CD34:CH34) -> 506302.93 | CJ34: 383623.47 | CK34: 400197 | CL34: 442323 | CM34: 479529.34 | CN34: 421260 | CO34: =AVERAGE(CJ34:CN34) -> 425386.56 | CP34: 232118.84 | CQ34: 88179 | CR34: 97461 | CS34: 290148.56 | CT34: 92820 | CU34: =AVERAGE(CP34:CT34) -> 160145.48 | CV34: 196079.55 | CW34: 76874 | CX34: 84966 | CY34: 245099.43 | CZ34: 80920 | DA34: =AVERAGE(CV34:CZ34) -> 136787.8 | DB34: 193355 | DC34: 81396 | DD34: 89964 | DE34: 241693.75 | DF34: 85680 | DG34: =AVERAGE(DB34:DF34) -> 138417.75 | DH34: 215298.89 | DI34: 108528 | DJ34: 119952 | DK34: 269123.61 | DL34: 114240 | DM34: =AVERAGE(DH34:DL34) -> 165428.5 | DN34: 227969.35 | DO34: 135660 | DP34: 149940 | DQ34: 284961.69 | DR34: 142800 | DS34: =AVERAGE(DN34:DR34) -> 188266.21 | DT34: 516423.49 | DU34: 260015 | DV34: 287385 | DW34: 645529.37 | DX34: 273700 | DY34: =AVERAGE(DT34:DX34) -> 396610.57 | DZ34: 516423.49 | EA34: 265667.5 | EB34: 293632.5 | EC34: 645529.37 | ED34: 279650 | EE34: =AVERAGE(DZ34:ED34) -> 400180.57 | EF34: 278830.07 | EG34: 115311 | EH34: 127449 | EI34: 348537.58 | EJ34: 121380 | EK34: =AVERAGE(EF34:EJ34) -> 198301.53 | EL34: 303076.16 | EM34: 169575 | EN34: 187425 | EO34: 378845.2 | EP34: 178500 | EQ34: =AVERAGE(EL34:EP34) -> 243484.27 | ER34: 267676.86 | ES34: 107397.5 | ET34: 118702.5 | EU34: 334596.08 | EV34: 113050 | EW34: =AVERAGE(ER34:EV34) -> 188284.59 | EX34: 273139.66 | EY34: 79135 | EZ34: 87465 | FA34: 341424.57 | FB34: 83300 | FC34: =AVERAGE(EX34:FB34) -> 172892.85 | FD34: 543603.68 | FE34: 282625 | FF34: 312375 | FG34: 679504.6 | FH34: 297500 | FI34: =AVERAGE(FD34:FH34) -> 423121.66 | FJ34: 395222.06 | FK34: 144704 | FL34: 159936 | FM34: 494027.58 | FN34: 152320 | FO34: =AVERAGE(FJ34:FN34) -> 269241.93 | FP34: 363604.3 | FQ34: 88179 | FR34: 97461 | FS34: 454505.37 | FT34: 92820 | FU34: =AVERAGE(FP34:FT34) -> 219313.93 | FV34: 429589.2 | FW34: 113050 | FX34: 124950 | FY34: 536986.5 | FZ34: 119000 | GA34: =AVERAGE(FV34:FZ34) -> 264715.14 | GB34: 461923.87 | GC34: 175227.5 | GD34: 193672.5 | GE34: 577404.84 | GF34: 184450 | GG34: =AVERAGE(GB34:GF34) -> 318535.74 | GH34: 371024.79 | GI34: 84787.5 | GJ34: 93712.5 | GK34: 463780.99 | GL34: 89250 | GM34: =AVERAGE(GH34:GL34) -> 220511.16 | GN34: 378596.73 | GO34: 90440 | GP34: 99960 | GQ34: 473245.91 | GR34: 95200 | GS34: =AVERAGE(GN34:GR34) -> 227488.53
B35: 2.16 | C35: RODAMIENTOS MOTOR | D35: 74375 | E35: 108528 | F35: 119952 | G35: 92968.75 | H35: 114240 | I35: 127449 | J35: 74375 | K35: 115311 | L35: 127449 | M35: 92968.75 | N35: 121380 | O35: 134946 | P35: 87500 | Q35: 122094 | R35: 134946 | S35: 109375 | T35: 128520 | U35: =AVERAGE(P35:T35) -> 116487 | V35: 102941.18 | W35: 183141 | X35: 202419 | Y35: 128676.47 | Z35: 192780 | AA35: =AVERAGE(V35:Z35) -> 161991.53 | AB35: 80842.391 | AC35: 115311 | AD35: 127449 | AE35: 101052.99 | AF35: 121380 | AG35: =AVERAGE(AB35:AF35) -> 109207.08 | AH35: 165277.78 | AI35: 230622 | AJ35: 254898 | AK35: 206597.22 | AL35: 242760 | AM35: =AVERAGE(AH35:AL35) -> 220031 | AN35: 95108.696 | AO35: 118702.5 | AP35: 131197.5 | AQ35: 118885.87 | AR35: 124950 | AS35: =AVERAGE(AN35:AR35) -> 117768.91 | AT35: 111892.58 | AU35: 128877 | AV35: 142443 | AW35: 139865.73 | AX35: 135660 | AY35: =AVERAGE(AT35:AX35) -> 131747.66 | AZ35: 97400.471 | BA35: 108528 | BB35: 119952 | BC35: 121750.59 | BD35: 114240 | BE35: =AVERAGE(AZ35:BD35) -> 112374.21 | BF35: 98050.202 | BG35: 135660 | BH35: 149940 | BI35: 122562.75 | BJ35: 142800 | BK35: =AVERAGE(BF35:BJ35) -> 129802.59 | BL35: 114176.11 | BM35: 156009 | BN35: 172431 | BO35: 142720.13 | BP35: 164220 | BQ35: =AVERAGE(BL35:BP35) -> 149911.25 | BR35: 85488.506 | BS35: 128877 | BT35: 142443 | BU35: 106860.63 | BV35: 135660 | BW35: =AVERAGE(BR35:BV35) -> 119865.83 | BX35: 90945.219 | BY35: 159400.5 | BZ35: 176179.5 | CA35: 113681.52 | CB35: 167790 | CC35: =AVERAGE(BX35:CB35) -> 141599.35 | CD35: 166947.25 | CE35: 244188 | CF35: 269892 | CG35: 208684.06 | CH35: 257040 | CI35: =AVERAGE(CD35:CH35) -> 229350.26 | CJ35: 165354.94 | CK35: 186532.5 | CL35: 206167.5 | CM35: 206693.68 | CN35: 196350 | CO35: =AVERAGE(CJ35:CN35) -> 192219.72 | CP35: 100051.23 | CQ35: 47481 | CR35: 52479 | CS35: 125064.03 | CT35: 49980 | CU35: =AVERAGE(CP35:CT35) -> 75011.052 | CV35: 84517.045 | CW35: 38437 | CX35: 42483 | CY35: 105646.31 | CZ35: 40460 | DA35: =AVERAGE(CV35:CZ35) -> 62308.67 | DB35: 83342.671 | DC35: 40698 | DD35: 44982 | DE35: 104178.34 | DF35: 42840 | DG35: =AVERAGE(DB35:DF35) -> 63208.202 | DH35: 92801.244 | DI35: 53133.5 | DJ35: 58726.5 | DK35: 116001.55 | DL35: 55930 | DM35: =AVERAGE(DH35:DL35) -> 75318.56 | DN35: 98262.65 | DO35: 63308 | DP35: 69972 | DQ35: 122828.31 | DR35: 66640 | DS35: =AVERAGE(DN35:DR35) -> 84202.193 | DT35: 222596.33 | DU35: 130007.5 | DV35: 143692.5 | DW35: 278245.42 | DX35: 136850 | DY35: =AVERAGE(DT35:DX35) -> 182278.35 | DZ35: 222596.33 | EA35: 133399 | EB35: 147441 | EC35: 278245.42 | ED35: 140420 | EE35: =AVERAGE(DZ35:ED35) -> 184420.35 | EF35: 120185.37 | EG35: 54264 | EH35: 59976 | EI35: 150231.72 | EJ35: 57120 | EK35: =AVERAGE(EF35:EJ35) -> 88355.418 | EL35: 130636.28 | EM35: 79135 | EN35: 87465 | EO35: 163295.35 | EP35: 83300 | EQ35: =AVERAGE(EL35:EP35) -> 108766.32 | ER35: 115377.96 | ES35: 52003 | ET35: 57477 | EU35: 144222.45 | EV35: 54740 | EW35: =AVERAGE(ER35:EV35) -> 84764.082 | EX35: 117732.61 | EY35: 39567.5 | EZ35: 43732.5 | FA35: 147165.76 | FB35: 41650 | FC35: =AVERAGE(EX35:FB35) -> 77969.675 | FD35: 234311.93 | FE35: 141312.5 | FF35: 156187.5 | FG35: 292889.91 | FH35: 148750 | FI35: =AVERAGE(FD35:FH35) -> 194690.37 | FJ35: 170354.34 | FK35: 67830 | FL35: 74970 | FM35: 212942.92 | FN35: 71400 | FO35: =AVERAGE(FJ35:FN35) -> 119499.45 | FP35: 156725.99 | FQ35: 45220 | FR35: 49980 | FS35: 195907.49 | FT35: 47600 | FU35: =AVERAGE(FP35:FT35) -> 99086.696 | FV35: 185167.76 | FW35: 54264 | FX35: 59976 | FY35: 231459.7 | FZ35: 57120 | GA35: =AVERAGE(FV35:FZ35) -> 117597.49 | GB35: 199105.12 | GC35: 81396 | GD35: 89964 | GE35: 248881.39 | GF35: 85680 | GG35: =AVERAGE(GB35:GF35) -> 141005.3 | GH35: 159924.48 | GI35: 42959 | GJ35: 47481 | GK35: 199905.6 | GL35: 45220 | GM35: =AVERAGE(GH35:GL35) -> 99098.016 | GN35: 163188.24 | GO35: 47481 | GP35: 52479 | GQ35: 203985.31 | GR35: 49980 | GS35: =AVERAGE(GN35:GR35) -> 103422.71
B36: 2.17 | C36: RETEN CIGÜEÑAL | D36: 47421.5 | E36: 30523.5 | F36: 33736.5 | G36: 59276.875 | H36: 32130 | I36: 37485 | J36: 47421.5 | K36: 33915 | L36: 37485 | M36: 59276.875 | N36: 35700 | O36: 41233.5 | P36: 55790 | Q36: 37306.5 | R36: 41233.5 | S36: 69737.5 | T36: 39270 | U36: =AVERAGE(P36:T36) -> 48667.5 | V36: 65635.294 | W36: 54264 | X36: 59976 | Y36: 82044.118 | Z36: 57120 | AA36: =AVERAGE(V36:Z36) -> 63807.882 | AB36: 51545.109 | AC36: 33915 | AD36: 37485 | AE36: 64431.386 | AF36: 35700 | AG36: =AVERAGE(AB36:AF36) -> 44615.299 | AH36: 105381.11 | AI36: 67830 | AJ36: 74970 | AK36: 131726.39 | AL36: 71400 | AM36: =AVERAGE(AH36:AL36) -> 90261.5 | AN36: 60641.304 | AO36: 37306.5 | AP36: 41233.5 | AQ36: 75801.63 | AR36: 39270 | AS36: =AVERAGE(AN36:AR36) -> 50850.587 | AT36: 71342.711 | AU36: 40698 | AV36: 44982 | AW36: 89178.389 | AX36: 42840 | AY36: =AVERAGE(AT36:AX36) -> 57808.22 | AZ36: 62102.541 | BA36: 33915 | BB36: 37485 | BC36: 77628.176 | BD36: 35700 | BE36: =AVERAGE(AZ36:BD36) -> 49366.143 | BF36: 62516.809 | BG36: 44089.5 | BH36: 48730.5 | BI36: 78146.011 | BJ36: 46410 | BK36: =AVERAGE(BF36:BJ36) -> 55978.564 | BL36: 72798.685 | BM36: 47481 | BN36: 52479 | BO36: 90998.356 | BP36: 49980 | BQ36: =AVERAGE(BL36:BP36) -> 62747.408 | BR36: 54507.471 | BS36: 40698 | BT36: 44982 | BU36: 68134.339 | BV36: 42840 | BW36: =AVERAGE(BR36:BV36) -> 50232.362 | BX36: 57986.672 | BY36: 47481 | BZ36: 52479 | CA36: 72483.339 | CB36: 49980 | CC36: =AVERAGE(BX36:CB36) -> 56082.002 | CD36: 106445.57 | CE36: 67830 | CF36: 74970 | CG36: 133056.96 | CH36: 71400 | CI36: =AVERAGE(CD36:CH36) -> 90740.505 | CJ36: 105430.31 | CK36: 54264 | CL36: 59976 | CM36: 131787.89 | CN36: 57120 | CO36: =AVERAGE(CJ36:CN36) -> 81715.64 | CP36: 63792.662 | CQ36: 14696.5 | CR36: 16243.5 | CS36: 79740.827 | CT36: 15470 | CU36: =AVERAGE(CP36:CT36) -> 37988.698 | CV36: 53888.068 | CW36: 11305 | CX36: 12495 | CY36: 67360.085 | CZ36: 11900 | DA36: =AVERAGE(CV36:CZ36) -> 31389.631 | DB36: 53139.287 | DC36: 12435.5 | DD36: 13744.5 | DE36: 66424.109 | DF36: 13090 | DG36: =AVERAGE(DB36:DF36) -> 31766.679 | DH36: 59170.073 | DI36: 15827 | DJ36: 17493 | DK36: 73962.591 | DL36: 16660 | DM36: =AVERAGE(DH36:DL36) -> 36622.533 | DN36: 62652.266 | DO36: 18088 | DP36: 19992 | DQ36: 78315.332 | DR36: 19040 | DS36: =AVERAGE(DN36:DR36) -> 39617.52 | DT36: 141927.42 | DU36: 36176 | DV36: 39984 | DW36: 177409.28 | DX36: 38080 | DY36: =AVERAGE(DT36:DX36) -> 86715.34 | DZ36: 141927.42 | EA36: 36176 | EB36: 39984 | EC36: 177409.28 | ED36: 38080 | EE36: =AVERAGE(DZ36:ED36) -> 86715.34 | EF36: 76630.194 | EG36: 16957.5 | EH36: 18742.5 | EI36: 95787.743 | EJ36: 17850 | EK36: =AVERAGE(EF36:EJ36) -> 45193.587 | EL36: 83293.69 | EM36: 24871 | EN36: 27489 | EO36: 104117.11 | EP36: 26180 | EQ36: =AVERAGE(EL36:EP36) -> 53190.16 | ER36: 73564.987 | ES36: 15827 | ET36: 17493 | EU36: 91956.233 | EV36: 16660 | EW36: =AVERAGE(ER36:EV36) -> 43100.244 | EX36: 75066.313 | EY36: 12435.5 | EZ36: 13744.5 | FA36: 93832.891 | FB36: 13090 | FC36: =AVERAGE(EX36:FB36) -> 41633.841 | FD36: 149397.29 | FE36: 39567.5 | FF36: 43732.5 | FG36: 186746.61 | FH36: 41650 | FI36: =AVERAGE(FD36:FH36) -> 92218.779 | FJ36: 108617.93 | FK36: 20349 | FL36: 22491 | FM36: 135772.41 | FN36: 21420 | FO36: =AVERAGE(FJ36:FN36) -> 61730.066 | FP36: 99928.491 | FQ36: 14696.5 | FR36: 16243.5 | FS36: 124910.61 | FT36: 15470 | FU36: =AVERAGE(FP36:FT36) -> 54249.821 | FV36: 118062.96 | FW36: 16957.5 | FX36: 18742.5 | FY36: 147578.7 | FZ36: 17850 | GA36: =AVERAGE(FV36:FZ36) -> 63838.333 | GB36: 126949.42 | GC36: 24871 | GD36: 27489 | GE36: 158686.78 | GF36: 26180 | GG36: =AVERAGE(GB36:GF36) -> 72835.24 | GH36: 101967.85 | GI36: 13566 | GJ36: 14994 | GK36: 127459.81 | GL36: 14280 | GM36: =AVERAGE(GH36:GL36) -> 54453.532 | GN36: 104048.82 | GO36: 14696.5 | GP36: 16243.5 | GQ36: 130061.03 | GR36: 15470 | GS36: =AVERAGE(GN36:GR36) -> 56103.971
B37: 2.18 | C37: VALVULAS (JUEGO) | D37: 147148.26 | E37: 108528 | F37: 119952 | G37: 183935.33 | H37: 114240 | I37: 127449 | J37: 147148.26 | K37: 115311 | L37: 127449 | M37: 183935.33 | N37: 121380 | O37: 142443 | P37: 173115.6 | Q37: 128877 | R37: 142443 | S37: 216394.5 | T37: 135660 | U37: =AVERAGE(P37:T37) -> 159298.02 | V37: 203665.41 | W37: 196707 | X37: 217413 | Y37: 254581.76 | Z37: 207060 | AA37: =AVERAGE(V37:Z37) -> 215885.44 | AB37: 159943.76 | AC37: 115311 | AD37: 127449 | AE37: 199929.7 | AF37: 121380 | AG37: =AVERAGE(AB37:AF37) -> 144802.69 | AH37: 326996.13 | AI37: 254362.5 | AJ37: 281137.5 | AK37: 408745.17 | AL37: 267750 | AM37: =AVERAGE(AH37:AL37) -> 307798.26 | AN37: 188169.13 | AO37: 122094 | AP37: 134946 | AQ37: 235211.41 | AR37: 128520 | AS37: =AVERAGE(AN37:AR37) -> 161788.11 | AT37: 221375.45 | AU37: 128877 | AV37: 142443 | AW37: 276719.31 | AX37: 135660 | AY37: =AVERAGE(AT37:AX37) -> 181014.95 | AZ37: 192703.33 | BA37: 108528 | BB37: 119952 | BC37: 240879.16 | BD37: 114240 | BE37: =AVERAGE(AZ37:BD37) -> 155260.5 | BF37: 193988.79 | BG37: 135660 | BH37: 149940 | BI37: 242485.99 | BJ37: 142800 | BK37: =AVERAGE(BF37:BJ37) -> 172974.96 | BL37: 225893.31 | BM37: 162792 | BN37: 179928 | BO37: 282366.64 | BP37: 171360 | BQ37: =AVERAGE(BL37:BP37) -> 204467.99 | BR37: 169135.93 | BS37: 128877 | BT37: 142443 | BU37: 211419.91 | BV37: 135660 | BW37: =AVERAGE(BR37:BV37) -> 157507.17 | BX37: 179931.84 | BY37: 162792 | BZ37: 179928 | CA37: 224914.8 | CB37: 171360 | CC37: =AVERAGE(BX37:CB37) -> 183785.33 | CD37: 330299.12 | CE37: 271320 | CF37: 299880 | CG37: 412873.91 | CH37: 285600 | CI37: =AVERAGE(CD37:CH37) -> 319994.61 | CJ37: 327148.8 | CK37: 189924 | CL37: 209916 | CM37: 408936 | CN37: 199920 | CO37: =AVERAGE(CJ37:CN37) -> 267168.96 | CP37: 197947.75 | CQ37: 45220 | CR37: 49980 | CS37: 247434.69 | CT37: 47600 | CU37: =AVERAGE(CP37:CT37) -> 117636.49 | CV37: 167213.93 | CW37: 38437 | CX37: 42483 | CY37: 209017.41 | CZ37: 40460 | DA37: =AVERAGE(CV37:CZ37) -> 99522.269 | DB37: 164890.48 | DC37: 40698 | DD37: 44982 | DE37: 206113.09 | DF37: 42840 | DG37: =AVERAGE(DB37:DF37) -> 99904.714 | DH37: 183603.92 | DI37: 55394.5 | DJ37: 61225.5 | DK37: 229504.9 | DL37: 58310 | DM37: =AVERAGE(DH37:DL37) -> 117607.76 | DN37: 194409.12 | DO37: 67830 | DP37: 74970 | DQ37: 243011.4 | DR37: 71400 | DS37: =AVERAGE(DN37:DR37) -> 130324.1 | DT37: 440398.83 | DU37: 141312.5 | DV37: 156187.5 | DW37: 550498.54 | DX37: 148750 | DY37: =AVERAGE(DT37:DX37) -> 287429.47 | DZ37: 440398.83 | EA37: 144704 | EB37: 159936 | EC37: 550498.54 | ED37: 152320 | EE37: =AVERAGE(DZ37:ED37) -> 289571.47 | EF37: 237782.44 | EG37: 58786 | EH37: 64974 | EI37: 297228.04 | EJ37: 61880 | EK37: =AVERAGE(EF37:EJ37) -> 144130.1 | EL37: 258459.17 | EM37: 88179 | EN37: 97461 | EO37: 323073.96 | EP37: 92820 | EQ37: =AVERAGE(EL37:EP37) -> 171998.63 | ER37: 228271.14 | ES37: 54264 | ET37: 59976 | EU37: 285338.92 | EV37: 57120 | EW37: =AVERAGE(ER37:EV37) -> 136994.01 | EX37: 232929.73 | EY37: 40698 | EZ37: 44982 | FA37: 291162.17 | FB37: 42840 | FC37: =AVERAGE(EX37:FB37) -> 130522.38 | FD37: 463577.72 | FE37: 152617.5 | FF37: 168682.5 | FG37: 579472.15 | FH37: 160650 | FI37: =AVERAGE(FD37:FH37) -> 304999.97 | FJ37: 337039.92 | FK37: 73482.5 | FL37: 81217.5 | FM37: 421299.9 | FN37: 77350 | FO37: =AVERAGE(FJ37:FN37) -> 198077.97 | FP37: 310076.73 | FQ37: 45220 | FR37: 49980 | FS37: 387595.91 | FT37: 47600 | FU37: =AVERAGE(FP37:FT37) -> 168094.53 | FV37: 366347.74 | FW37: 56525 | FX37: 62475 | FY37: 457934.68 | FZ37: 59500 | GA37: =AVERAGE(FV37:FZ37) -> 200556.48 | GB37: 393922.3 | GC37: 90440 | GD37: 99960 | GE37: 492402.88 | GF37: 95200 | GG37: =AVERAGE(GB37:GF37) -> 234385.04 | GH37: 316404.83 | GI37: 42959 | GJ37: 47481 | GK37: 395506.03 | GL37: 45220 | GM37: =AVERAGE(GH37:GL37) -> 169514.17 | GN37: 322862.07 | GO37: 47481 | GP37: 52479 | GQ37: 403577.58 | GR37: 49980 | GS37: =AVERAGE(GN37:GR37) -> 175275.93
B38: 3 | C38: SISTEMA DE TRANSFERENCIA | D38: 0 | E38: 0 | F38: 0 | G38: 0 | H38: 0 | I38: 0 | J38: 0 | K38: 0 | L38: 0 | M38: 0 | N38: 0 | O38: 0 | P38: 0 | Q38: 0 | R38: 0 | S38: 0 | T38: 0 | V38: 0 | W38: 0 | X38: 0 | Y38: 0 | Z38: 0 | AB38: 0 | AC38: 0 | AD38: 0 | AE38: 0 | AF38: 0 | AH38: 0 | AI38: 0 | AJ38: 0 | AK38: 0 | AL38: 0 | AN38: 0 | AO38: 0 | AP38: 0 | AQ38: 0 | AR38: 0 | AT38: 0 | AU38: 0 | AV38: 0 | AW38: 0 | AX38: 0 | AZ38: 0 | BA38: 0 | BB38: 0 | BC38: 0 | BD38: 0 | BE38: 0 | BF38: 0 | BG38: 0 | BH38: 0 | BI38: 0 | BJ38: 0 | BL38: 0 | BM38: 0 | BN38: 0 | BO38: 0 | BP38: 0 | BR38: 0 | BS38: 0 | BT38: 0 | BU38: 0 | BV38: 0 | BX38: 0 | BY38: 0 | BZ38: 0 | CA38: 0 | CB38: 0 | CD38: 0 | CE38: 0 | CF38: 0 | CG38: 0 | CH38: 0 | CJ38: 0 | CK38: 0 | CL38: 0 | CM38: 0 | CN38: 0 | CP38: 0 | CQ38: 0 | CR38: 0 | CS38: 0 | CT38: 0 | CV38: 0 | CW38: 0 | CX38: 0 | CY38: 0 | CZ38: 0 | DB38: 0 | DC38: 0 | DD38: 0 | DE38: 0 | DF38: 0 | DH38: 0 | DI38: 0 | DJ38: 0 | DK38: 0 | DL38: 0 | DN38: 0 | DO38: 0 | DP38: 0 | DQ38: 0 | DR38: 0 | DT38: 0 | DU38: 0 | DV38: 0 | DW38: 0 | DX38: 0 | DZ38: 0 | EA38: 0 | EB38: 0 | EC38: 0 | ED38: 0 | EF38: 0 | EG38: 0 | EH38: 0 | EI38: 0 | EJ38: 0 | EL38: 0 | EM38: 0 | EN38: 0 | EO38: 0 | EP38: 0 | ER38: 0 | ES38: 0 | ET38: 0 | EU38: 0 | EV38: 0 | EX38: 0 | EY38: 0 | EZ38: 0 | FA38: 0 | FB38: 0 | FD38: 0 | FE38: 0 | FF38: 0 | FG38: 0 | FH38: 0 | FJ38: 0 | FK38: 0 | FL38: 0 | FM38: 0 | FN38: 0 | FP38: 0 | FQ38: 0 | FR38: 0 | FS38: 0 | FT38: 0 | FV38: 0 | FW38: 0 | FX38: 0 | FY38: 0 | FZ38: 0 | GB38: 0 | GC38: 0 | GD38: 0 | GE38: 0 | GF38: 0 | GH38: 0 | GI38: 0 | GJ38: 0 | GK38: 0 | GL38: 0 | GN38: 0 | GO38: 0 | GP38: 0 | GQ38: 0 | GR38: 0
B39: 3.1 | C39: EMPAQUE TAPA EMBRAGUE | D39: 14875 | E39: 33915 | F39: 37485 | G39: 18593.75 | H39: 35700 | I39: 41233.5 | J39: 14875 | K39: 37306.5 | L39: 41233.5 | M39: 18593.75 | N39: 39270 | O39: 44982 | P39: 17500 | Q39: 40698 | R39: 44982 | S39: 21875 | T39: 42840 | U39: =AVERAGE(P39:T39) -> 33579 | V39: 20588.235 | W39: 61047 | X39: 67473 | Y39: 25735.294 | Z39: 64260 | AA39: =AVERAGE(V39:Z39) -> 47820.706 | AB39: 16168.478 | AC39: 37306.5 | AD39: 41233.5 | AE39: 20210.598 | AF39: 39270 | AG39: =AVERAGE(AB39:AF39) -> 30837.815 | AH39: 33055.556 | AI39: 74613 | AJ39: 82467 | AK39: 41319.444 | AL39: 78540 | AM39: =AVERAGE(AH39:AL39) -> 61999 | AN39: 19021.739 | AO39: 40698 | AP39: 44982 | AQ39: 23777.174 | AR39: 42840 | AS39: =AVERAGE(AN39:AR39) -> 34263.783 | AT39: 22378.517 | AU39: 44089.5 | AV39: 48730.5 | AW39: 27973.146 | AX39: 46410 | AY39: =AVERAGE(AT39:AX39) -> 37916.332 | AZ39: 19480.094 | BA39: 37306.5 | BB39: 41233.5 | BC39: 24350.118 | BD39: 39270 | BE39: =AVERAGE(AZ39:BD39) -> 32328.042 | BF39: 19610.04 | BG39: 47481 | BH39: 52479 | BI39: 24512.55 | BJ39: 49980 | BK39: =AVERAGE(BF39:BJ39) -> 38812.518 | BL39: 22835.221 | BM39: 54264 | BN39: 59976 | BO39: 28544.026 | BP39: 57120 | BQ39: =AVERAGE(BL39:BP39) -> 44547.849 | BR39: 17097.701 | BS39: 44089.5 | BT39: 48730.5 | BU39: 21372.126 | BV39: 46410 | BW39: =AVERAGE(BR39:BV39) -> 35539.966 | BX39: 18189.044 | BY39: 54264 | BZ39: 59976 | CA39: 22736.305 | CB39: 57120 | CC39: =AVERAGE(BX39:CB39) -> 42457.07 | CD39: 33389.45 | CE39: 81396 | CF39: 89964 | CG39: 41736.813 | CH39: 85680 | CI39: =AVERAGE(CD39:CH39) -> 66433.253 | CJ39: 33070.989 | CK39: 61047 | CL39: 67473 | CM39: 41338.736 | CN39: 64260 | CO39: =AVERAGE(CJ39:CN39) -> 53437.945 | CP39: 20010.245 | CQ39: 15827 | CR39: 17493 | CS39: 25012.807 | CT39: 16660 | CU39: =AVERAGE(CP39:CT39) -> 19000.61 | CV39: 16903.409 | CW39: 12435.5 | CX39: 13744.5 | CY39: 21129.261 | CZ39: 13090 | DA39: =AVERAGE(CV39:CZ39) -> 15460.534 | DB39: 16668.534 | DC39: 13566 | DD39: 14994 | DE39: 20835.668 | DF39: 14280 | DG39: =AVERAGE(DB39:DF39) -> 16068.84 | DH39: 18560.249 | DI39: 18088 | DJ39: 19992 | DK39: 23200.311 | DL39: 19040 | DM39: =AVERAGE(DH39:DL39) -> 19776.112 | DN39: 19652.53 | DO39: 20349 | DP39: 22491 | DQ39: 24565.663 | DR39: 21420 | DS39: =AVERAGE(DN39:DR39) -> 21695.639 | DT39: 44519.267 | DU39: 38437 | DV39: 42483 | DW39: 55649.083 | DX39: 40460 | DY39: =AVERAGE(DT39:DX39) -> 44309.67 | DZ39: 44519.267 | EA39: 39567.5 | EB39: 43732.5 | EC39: 55649.083 | ED39: 41650 | EE39: =AVERAGE(DZ39:ED39) -> 45023.67 | EF39: 24037.075 | EG39: 18088 | EH39: 19992 | EI39: 30046.343 | EJ39: 19040 | EK39: =AVERAGE(EF39:EJ39) -> 22240.684 | EL39: 26127.255 | EM39: 27132 | EN39: 29988 | EO39: 32659.069 | EP39: 28560 | EQ39: =AVERAGE(EL39:EP39) -> 28893.265 | ER39: 23075.592 | ES39: 16957.5 | ET39: 18742.5 | EU39: 28844.49 | EV39: 17850 | EW39: =AVERAGE(ER39:EV39) -> 21094.016 | EX39: 23546.522 | EY39: 13566 | EZ39: 14994 | FA39: 29433.153 | FB39: 14280 | FC39: =AVERAGE(EX39:FB39) -> 19163.935 | FD39: 46862.386 | FE39: 42959 | FF39: 47481 | FG39: 58577.983 | FH39: 45220 | FI39: =AVERAGE(FD39:FH39) -> 48220.074 | FJ39: 34070.867 | FK39: 22610 | FL39: 24990 | FM39: 42588.584 | FN39: 23800 | FO39: =AVERAGE(FJ39:FN39) -> 29611.89 | FP39: 31345.198 | FQ39: 15827 | FR39: 17493 | FS39: 39181.498 | FT39: 16660 | FU39: =AVERAGE(FP39:FT39) -> 24101.339 | FV39: 37033.552 | FW39: 18088 | FX39: 19992 | FY39: 46291.939 | FZ39: 19040 | GA39: =AVERAGE(FV39:FZ39) -> 28089.098 | GB39: 39821.023 | GC39: 27132 | GD39: 29988 | GE39: 49776.279 | GF39: 28560 | GG39: =AVERAGE(GB39:GF39) -> 35055.46 | GH39: 31984.896 | GI39: 14696.5 | GJ39: 16243.5 | GK39: 39981.12 | GL39: 15470 | GM39: =AVERAGE(GH39:GL39) -> 23675.203 | GN39: 32637.649 | GO39: 16957.5 | GP39: 18742.5 | GQ39: 40797.061 | GR39: 17850 | GS39: =AVERAGE(GN39:GR39) -> 25396.942
B40: 3.2 | C40: GUAYA EMBREAGUE | D40: 90202 | E40: 44089.5 | F40: 48730.5 | G40: 112752.5 | H40: 46410 | I40: 52479 | J40: 90202 | K40: 47481 | L40: 52479 | M40: 112752.5 | N40: 49980 | O40: 59976 | P40: 106120 | Q40: 54264 | R40: 59976 | S40: 132650 | T40: 57120 | U40: =AVERAGE(P40:T40) -> 82026 | V40: 124847.06 | W40: 74613 | X40: 82467 | Y40: 156058.82 | Z40: 78540 | AA40: =AVERAGE(V40:Z40) -> 103305.18 | AB40: 98045.652 | AC40: 47481 | AD40: 52479 | AE40: 122557.07 | AF40: 49980 | AG40: =AVERAGE(AB40:AF40) -> 74108.543 | AH40: 200448.89 | AI40: 94962 | AJ40: 104958 | AK40: 250561.11 | AL40: 99960 | AM40: =AVERAGE(AH40:AL40) -> 150178 | AN40: 115347.83 | AO40: 50872.5 | AP40: 56227.5 | AQ40: 144184.78 | AR40: 53550 | AS40: =AVERAGE(AN40:AR40) -> 84036.522 | AT40: 135703.32 | AU40: 54264 | AV40: 59976 | AW40: 169629.16 | AX40: 57120 | AY40: =AVERAGE(AT40:AX40) -> 95338.496 | AZ40: 118127.29 | BA40: 47481 | BB40: 52479 | BC40: 147659.11 | BD40: 49980 | BE40: =AVERAGE(AZ40:BD40) -> 83145.281 | BF40: 118915.28 | BG40: 61047 | BH40: 67473 | BI40: 148644.11 | BJ40: 64260 | BK40: =AVERAGE(BF40:BJ40) -> 92067.878 | BL40: 138472.78 | BM40: 64438.5 | BN40: 71221.5 | BO40: 173090.98 | BP40: 67830 | BQ40: =AVERAGE(BL40:BP40) -> 103010.75 | BR40: 103680.46 | BS40: 54264 | BT40: 59976 | BU40: 129600.57 | BV40: 57120 | BW40: =AVERAGE(BR40:BV40) -> 80928.207 | BX40: 110298.36 | BY40: 64438.5 | BZ40: 71221.5 | CA40: 137872.95 | CB40: 67830 | CC40: =AVERAGE(BX40:CB40) -> 90332.263 | CD40: 202473.63 | CE40: 101745 | CF40: 112455 | CG40: 253092.03 | CH40: 107100 | CI40: =AVERAGE(CD40:CH40) -> 155373.13 | CJ40: 200542.48 | CK40: 74613 | CL40: 82467 | CM40: 250678.09 | CN40: 78540 | CO40: =AVERAGE(CJ40:CN40) -> 137368.11 | CP40: 121342.13 | CQ40: 20349 | CR40: 22491 | CS40: 151677.66 | CT40: 21420 | CU40: =AVERAGE(CP40:CT40) -> 67455.957 | CV40: 102502.27 | CW40: 15827 | CX40: 17493 | CY40: 128127.84 | CZ40: 16660 | DA40: =AVERAGE(CV40:CZ40) -> 56122.023 | DB40: 101077.99 | DC40: 16957.5 | DD40: 18742.5 | DE40: 126347.49 | DF40: 17850 | DG40: =AVERAGE(DB40:DF40) -> 56195.096 | DH40: 112549.35 | DI40: 21479.5 | DJ40: 23740.5 | DK40: 140686.69 | DL40: 22610 | DM40: =AVERAGE(DH40:DL40) -> 64213.207 | DN40: 119172.94 | DO40: 24871 | DP40: 27489 | DQ40: 148966.18 | DR40: 26180 | DS40: =AVERAGE(DN40:DR40) -> 69335.824 | DT40: 269964.83 | DU40: 47481 | DV40: 52479 | DW40: 337456.04 | DX40: 49980 | DY40: =AVERAGE(DT40:DX40) -> 151472.18 | DZ40: 269964.83 | EA40: 49742 | EB40: 54978 | EC40: 337456.04 | ED40: 52360 | EE40: =AVERAGE(DZ40:ED40) -> 152900.18 | EF40: 145760.82 | EG40: 22610 | EH40: 24990 | EI40: 182201.03 | EJ40: 23800 | EK40: =AVERAGE(EF40:EJ40) -> 79872.37 | EL40: 158435.68 | EM40: 32784.5 | EN40: 36235.5 | EO40: 198044.59 | EP40: 34510 | EQ40: =AVERAGE(EL40:EP40) -> 92002.054 | ER40: 139930.39 | ES40: 21479.5 | ET40: 23740.5 | EU40: 174912.99 | EV40: 22610 | EW40: =AVERAGE(ER40:EV40) -> 76534.675 | EX40: 142786.11 | EY40: 16957.5 | EZ40: 18742.5 | FA40: 178482.64 | FB40: 17850 | FC40: =AVERAGE(EX40:FB40) -> 74963.75 | FD40: 284173.51 | FE40: 52003 | FF40: 57477 | FG40: 355216.89 | FH40: 54740 | FI40: =AVERAGE(FD40:FH40) -> 160722.08 | FJ40: 206605.74 | FK40: 27132 | FL40: 29988 | FM40: 258257.17 | FN40: 28560 | FO40: =AVERAGE(FJ40:FN40) -> 110108.58 | FP40: 190077.28 | FQ40: 19218.5 | FR40: 21241.5 | FS40: 237596.6 | FT40: 20230 | FU40: =AVERAGE(FP40:FT40) -> 97672.776 | FV40: 224571.46 | FW40: 22610 | FX40: 24990 | FY40: 280714.32 | FZ40: 23800 | GA40: =AVERAGE(FV40:FZ40) -> 115337.16 | GB40: 241474.68 | GC40: 33915 | GD40: 37485 | GE40: 301843.36 | GF40: 35700 | GG40: =AVERAGE(GB40:GF40) -> 130083.61 | GH40: 193956.41 | GI40: 18088 | GJ40: 19992 | GK40: 242445.51 | GL40: 19040 | GM40: =AVERAGE(GH40:GL40) -> 98704.384 | GN40: 197914.7 | GO40: 20349 | GP40: 22491 | GQ40: 247393.38 | GR40: 21420 | GS40: =AVERAGE(GN40:GR40) -> 101913.62
B41: 3.3 | C41: GUAYA VELOCIMETRO | D41: 77350 | E41: 40698 | F41: 44982 | G41: 96687.5 | H41: 42840 | I41: 48730.5 | J41: 77350 | K41: 44089.5 | L41: 48730.5 | M41: 96687.5 | N41: 46410 | O41: 52479 | P41: 91000 | Q41: 47481 | R41: 52479 | S41: 113750 | T41: 49980 | U41: =AVERAGE(P41:T41) -> 70938 | V41: 107058.82 | W41: 61047 | X41: 67473 | Y41: 133823.53 | Z41: 64260 | AA41: =AVERAGE(V41:Z41) -> 86732.471 | AB41: 84076.087 | AC41: 44089.5 | AD41: 48730.5 | AE41: 105095.11 | AF41: 46410 | AG41: =AVERAGE(AB41:AF41) -> 65680.239 | AH41: 171888.89 | AI41: 74613 | AJ41: 82467 | AK41: 214861.11 | AL41: 78540 | AM41: =AVERAGE(AH41:AL41) -> 124474 | AN41: 98913.043 | AO41: 47481 | AP41: 52479 | AQ41: 123641.3 | AR41: 49980 | AS41: =AVERAGE(AN41:AR41) -> 74498.87 | AT41: 116368.29 | AU41: 50872.5 | AV41: 56227.5 | AW41: 145460.36 | AX41: 53550 | AY41: =AVERAGE(AT41:AX41) -> 84495.729 | AZ41: 101296.49 | BA41: 40698 | BB41: 44982 | BC41: 126620.61 | BD41: 42840 | BE41: =AVERAGE(AZ41:BD41) -> 71287.421 | BF41: 101972.21 | BG41: 54264 | BH41: 59976 | BI41: 127465.26 | BJ41: 57120 | BK41: =AVERAGE(BF41:BJ41) -> 80159.494 | BL41: 118743.15 | BM41: 57655.5 | BN41: 63724.5 | BO41: 148428.94 | BP41: 60690 | BQ41: =AVERAGE(BL41:BP41) -> 89848.417 | BR41: 88908.046 | BS41: 50872.5 | BT41: 56227.5 | BU41: 111135.06 | BV41: 53550 | BW41: =AVERAGE(BR41:BV41) -> 72138.621 | BX41: 94583.028 | BY41: 57655.5 | BZ41: 63724.5 | CA41: 118228.78 | CB41: 60690 | CC41: =AVERAGE(BX41:CB41) -> 78976.362 | CD41: 173625.14 | CE41: 81396 | CF41: 89964 | CG41: 217031.43 | CH41: 85680 | CI41: =AVERAGE(CD41:CH41) -> 129539.31 | CJ41: 171969.14 | CK41: 57655.5 | CL41: 63724.5 | CM41: 214961.43 | CN41: 60690 | CO41: =AVERAGE(CJ41:CN41) -> 113800.11 | CP41: 104053.28 | CQ41: 18088 | CR41: 19992 | CS41: 130066.59 | CT41: 19040 | CU41: =AVERAGE(CP41:CT41) -> 58247.974 | CV41: 87897.727 | CW41: 14696.5 | CX41: 16243.5 | CY41: 109872.16 | CZ41: 15470 | DA41: =AVERAGE(CV41:CZ41) -> 48835.977 | DB41: 86676.378 | DC41: 15827 | DD41: 17493 | DE41: 108345.47 | DF41: 16660 | DG41: =AVERAGE(DB41:DF41) -> 49000.37 | DH41: 96513.294 | DI41: 19218.5 | DJ41: 21241.5 | DK41: 120641.62 | DL41: 20230 | DM41: =AVERAGE(DH41:DL41) -> 55568.982 | DN41: 102193.16 | DO41: 21479.5 | DP41: 23740.5 | DQ41: 127741.45 | DR41: 22610 | DS41: =AVERAGE(DN41:DR41) -> 59552.92 | DT41: 231500.19 | DU41: 36176 | DV41: 39984 | DW41: 289375.23 | DX41: 38080 | DY41: =AVERAGE(DT41:DX41) -> 127023.08 | DZ41: 231500.19 | EA41: 38437 | EB41: 42483 | EC41: 289375.23 | ED41: 40460 | EE41: =AVERAGE(DZ41:ED41) -> 128451.08 | EF41: 124992.79 | EG41: 20349 | EH41: 22491 | EI41: 156240.99 | EJ41: 21420 | EK41: =AVERAGE(EF41:EJ41) -> 69098.755 | EL41: 135861.73 | EM41: 26001.5 | EN41: 28738.5 | EO41: 169827.16 | EP41: 27370 | EQ41: =AVERAGE(EL41:EP41) -> 77559.777 | ER41: 119993.08 | ES41: 19218.5 | ET41: 21241.5 | EU41: 149991.35 | EV41: 20230 | EW41: =AVERAGE(ER41:EV41) -> 66134.885 | EX41: 122441.92 | EY41: 15827 | EZ41: 17493 | FA41: 153052.39 | FB41: 16660 | FC41: =AVERAGE(EX41:FB41) -> 65094.862 | FD41: 243684.41 | FE41: 39567.5 | FF41: 43732.5 | FG41: 304605.51 | FH41: 41650 | FI41: =AVERAGE(FD41:FH41) -> 134647.98 | FJ41: 177168.51 | FK41: 22610 | FL41: 24990 | FM41: 221460.64 | FN41: 23800 | FO41: =AVERAGE(FJ41:FN41) -> 94005.83 | FP41: 162995.03 | FQ41: 18088 | FR41: 19992 | FS41: 203743.79 | FT41: 19040 | FU41: =AVERAGE(FP41:FT41) -> 84771.763 | FV41: 192574.47 | FW41: 20349 | FX41: 22491 | FY41: 240718.08 | FZ41: 21420 | GA41: =AVERAGE(FV41:FZ41) -> 99510.511 | GB41: 207069.32 | GC41: 27132 | GD41: 29988 | GE41: 258836.65 | GF41: 28560 | GG41: =AVERAGE(GB41:GF41) -> 110317.19 | GH41: 166321.46 | GI41: 16957.5 | GJ41: 18742.5 | GK41: 207901.82 | GL41: 17850 | GM41: =AVERAGE(GH41:GL41) -> 85554.656 | GN41: 169715.77 | GO41: 19218.5 | GP41: 21241.5 | GQ41: 212144.72 | GR41: 20230 | GS41: =AVERAGE(GN41:GR41) -> 88510.098
B42: 3.4 | C42: JUEGO CAUCHOS DE CAMPANA | D42: 66402 | E42: 40698 | F42: 44982 | G42: 83002.5 | H42: 42840 | I42: 48730.5 | J42: 66402 | K42: 44089.5 | L42: 48730.5 | M42: 83002.5 | N42: 46410 | O42: 52479 | P42: 78120 | Q42: 47481 | R42: 52479 | S42: 97650 | T42: 49980 | U42: =AVERAGE(P42:T42) -> 65142 | V42: 91905.882 | W42: 61047 | X42: 67473 | Y42: 114882.35 | Z42: 64260 | AA42: =AVERAGE(V42:Z42) -> 79913.647 | AB42: 72176.087 | AC42: 44089.5 | AD42: 48730.5 | AE42: 90220.109 | AF42: 46410 | AG42: =AVERAGE(AB42:AF42) -> 60325.239 | AH42: 147560 | AI42: 74613 | AJ42: 82467 | AK42: 184450 | AL42: 78540 | AM42: =AVERAGE(AH42:AL42) -> 113526 | AN42: 84913.043 | AO42: 47481 | AP42: 52479 | AQ42: 106141.3 | AR42: 49980 | AS42: =AVERAGE(AN42:AR42) -> 68198.87 | AT42: 99897.698 | AU42: 50872.5 | AV42: 56227.5 | AW42: 124872.12 | AX42: 53550 | AY42: =AVERAGE(AT42:AX42) -> 77083.964 | AZ42: 86959.141 | BA42: 40698 | BB42: 44982 | BC42: 108698.93 | BD42: 42840 | BE42: =AVERAGE(AZ42:BD42) -> 64835.613 | BF42: 87539.22 | BG42: 54264 | BH42: 59976 | BI42: 109424.03 | BJ42: 57120 | BK42: =AVERAGE(BF42:BJ42) -> 73664.649 | BL42: 101936.43 | BM42: 57655.5 | BN42: 63724.5 | BO42: 127420.53 | BP42: 60690 | BQ42: =AVERAGE(BL42:BP42) -> 82285.392 | BR42: 76324.138 | BS42: 50872.5 | BT42: 56227.5 | BU42: 95405.172 | BV42: 53550 | BW42: =AVERAGE(BR42:BV42) -> 66475.862 | BX42: 81195.891 | BY42: 57655.5 | BZ42: 63724.5 | CA42: 101494.86 | CB42: 60690 | CC42: =AVERAGE(BX42:CB42) -> 72952.151 | CD42: 149050.51 | CE42: 81396 | CF42: 89964 | CG42: 186313.13 | CH42: 85680 | CI42: =AVERAGE(CD42:CH42) -> 118480.73 | CJ42: 147628.89 | CK42: 57655.5 | CL42: 63724.5 | CM42: 184536.12 | CN42: 60690 | CO42: =AVERAGE(CJ42:CN42) -> 102847 | CP42: 89325.735 | CQ42: 18088 | CR42: 19992 | CS42: 111657.17 | CT42: 19040 | CU42: =AVERAGE(CP42:CT42) -> 51620.581 | CV42: 75456.818 | CW42: 14696.5 | CX42: 16243.5 | CY42: 94321.023 | CZ42: 15470 | DA42: =AVERAGE(CV42:CZ42) -> 43237.568 | DB42: 74408.337 | DC42: 15827 | DD42: 17493 | DE42: 93010.421 | DF42: 16660 | DG42: =AVERAGE(DB42:DF42) -> 43479.752 | DH42: 82852.95 | DI42: 19218.5 | DJ42: 21241.5 | DK42: 103566.19 | DL42: 20230 | DM42: =AVERAGE(DH42:DL42) -> 49421.828 | DN42: 87728.894 | DO42: 21479.5 | DP42: 23740.5 | DQ42: 109661.12 | DR42: 22610 | DS42: =AVERAGE(DN42:DR42) -> 53044.002 | DT42: 198734.01 | DU42: 38437 | DV42: 42483 | DW42: 248417.51 | DX42: 40460 | DY42: =AVERAGE(DT42:DX42) -> 113706.3 | DZ42: 198734.01 | EA42: 39567.5 | EB42: 43732.5 | EC42: 248417.51 | ED42: 41650 | EE42: =AVERAGE(DZ42:ED42) -> 114420.3 | EF42: 107301.5 | EG42: 20349 | EH42: 22491 | EI42: 134126.88 | EJ42: 21420 | EK42: =AVERAGE(EF42:EJ42) -> 61137.676 | EL42: 116632.07 | EM42: 26001.5 | EN42: 28738.5 | EO42: 145790.08 | EP42: 27370 | EQ42: =AVERAGE(EL42:EP42) -> 68906.43 | ER42: 103009.44 | ES42: 19218.5 | ET42: 21241.5 | EU42: 128761.8 | EV42: 20230 | EW42: =AVERAGE(ER42:EV42) -> 58492.249 | EX42: 105111.68 | EY42: 15827 | EZ42: 17493 | FA42: 131389.59 | FB42: 16660 | FC42: =AVERAGE(EX42:FB42) -> 57296.254 | FD42: 209193.69 | FE42: 40698 | FF42: 44982 | FG42: 261492.11 | FH42: 42840 | FI42: =AVERAGE(FD42:FH42) -> 119841.16 | FJ42: 152092.35 | FK42: 22610 | FL42: 24990 | FM42: 190115.44 | FN42: 23800 | FO42: =AVERAGE(FJ42:FN42) -> 82721.558 | FP42: 139924.96 | FQ42: 18088 | FR42: 19992 | FS42: 174906.2 | FT42: 19040 | FU42: =AVERAGE(FP42:FT42) -> 74390.234 | FV42: 165317.77 | FW42: 20349 | FX42: 22491 | FY42: 206647.22 | FZ42: 21420 | GA42: =AVERAGE(FV42:FZ42) -> 87244.998 | GB42: 177761.05 | GC42: 27132 | GD42: 29988 | GE42: 222201.31 | GF42: 28560 | GG42: =AVERAGE(GB42:GF42) -> 97128.471 | GH42: 142780.58 | GI42: 16957.5 | GJ42: 18742.5 | GK42: 178475.72 | GL42: 17850 | GM42: =AVERAGE(GH42:GL42) -> 74961.259 | GN42: 145694.46 | GO42: 19218.5 | GP42: 21241.5 | GQ42: 182118.08 | GR42: 20230 | GS42: =AVERAGE(GN42:GR42) -> 77700.509
B43: 3.5 | C43: KIT DE ARRASTRE | D43: 220983 | E43: 278103 | F43: 307377 | G43: 276228.75 | H43: 292740 | I43: 329868 | J43: 220983 | K43: 298452 | L43: 329868 | M43: 276228.75 | N43: 314160 | O43: 356107.5 | P43: 259980 | Q43: 322192.5 | R43: 356107.5 | S43: 324975 | T43: 339150 | U43: =AVERAGE(P43:T43) -> 320481 | V43: 305858.82 | W43: 525682.5 | X43: 581017.5 | Y43: 382323.53 | Z43: 553350 | AA43: =AVERAGE(V43:Z43) -> 469646.47 | AB43: 240198.91 | AC43: 288277.5 | AD43: 318622.5 | AE43: 300248.64 | AF43: 303450 | AG43: =AVERAGE(AB43:AF43) -> 290159.51 | AH43: 491073.33 | AI43: 661342.5 | AJ43: 730957.5 | AK43: 613841.67 | AL43: 696150 | AM43: =AVERAGE(AH43:AL43) -> 638673 | AN43: 282586.96 | AO43: 305235 | AP43: 337365 | AQ43: 353233.7 | AR43: 321300 | AS43: =AVERAGE(AN43:AR43) -> 319944.13 | AT43: 332455.24 | AU43: 322192.5 | AV43: 356107.5 | AW43: 415569.05 | AX43: 339150 | AY43: =AVERAGE(AT43:AX43) -> 353094.86 | AZ43: 289396.28 | BA43: 284886 | BB43: 314874 | BC43: 361745.35 | BD43: 299880 | BE43: =AVERAGE(AZ43:BD43) -> 310156.33 | BF43: 291326.76 | BG43: 356107.5 | BH43: 393592.5 | BI43: 364158.45 | BJ43: 374850 | BK43: =AVERAGE(BF43:BJ43) -> 356007.04 | BL43: 339240.04 | BM43: 423937.5 | BN43: 468562.5 | BO43: 424050.05 | BP43: 446250 | BQ43: =AVERAGE(BL43:BP43) -> 420408.02 | BR43: 254003.45 | BS43: 332367 | BT43: 367353 | BU43: 317504.31 | BV43: 349860 | BW43: =AVERAGE(BR43:BV43) -> 324217.55 | BX43: 270216.43 | BY43: 440895 | BZ43: 487305 | CA43: 337770.54 | CB43: 464100 | CC43: =AVERAGE(BX43:CB43) -> 400057.4 | CD43: 496033.67 | CE43: 729172.5 | CF43: 805927.5 | CG43: 620042.09 | CH43: 767550 | CI43: =AVERAGE(CD43:CH43) -> 683745.15 | CJ43: 491302.61 | CK43: 542640 | CL43: 599760 | CM43: 614128.26 | CN43: 571200 | CO43: =AVERAGE(CJ43:CN43) -> 563806.17 | CP43: 297272.2 | CQ43: 122094 | CR43: 134946 | CS43: 371590.25 | CT43: 128520 | CU43: =AVERAGE(CP43:CT43) -> 210884.49 | CV43: 251117.05 | CW43: 97223 | CX43: 107457 | CY43: 313896.31 | CZ43: 102340 | DA43: =AVERAGE(CV43:CZ43) -> 174406.67 | DB43: 247627.75 | DC43: 104006 | DD43: 114954 | DE43: 309534.68 | DF43: 109480 | DG43: =AVERAGE(DB43:DF43) -> 177120.49 | DH43: 275731.06 | DI43: 146965 | DJ43: 162435 | DK43: 344663.82 | DL43: 154700 | DM43: =AVERAGE(DH43:DL43) -> 216898.97 | DN43: 291957.99 | DO43: 186532.5 | DP43: 206167.5 | DQ43: 364947.48 | DR43: 196350 | DS43: =AVERAGE(DN43:DR43) -> 249191.09 | DT43: 661378.23 | DU43: 361760 | DV43: 399840 | DW43: 826722.78 | DX43: 380800 | DY43: =AVERAGE(DT43:DX43) -> 526100.2 | DZ43: 661378.23 | EA43: 373065 | EB43: 412335 | EC43: 826722.78 | ED43: 392700 | EE43: =AVERAGE(DZ43:ED43) -> 533240.2 | EF43: 357094.78 | EG43: 152617.5 | EH43: 168682.5 | EI43: 446368.48 | EJ43: 160650 | EK43: =AVERAGE(EF43:EJ43) -> 257082.65 | EL43: 388146.5 | EM43: 231752.5 | EN43: 256147.5 | EO43: 485183.13 | EP43: 243950 | EQ43: =AVERAGE(EL43:EP43) -> 321035.93 | ER43: 342810.99 | ES43: 141312.5 | ET43: 156187.5 | EU43: 428513.74 | EV43: 148750 | EW43: =AVERAGE(ER43:EV43) -> 243514.95 | EX43: 349807.13 | EY43: 101745 | EZ43: 112455 | FA43: 437258.92 | FB43: 107100 | FC43: =AVERAGE(EX43:FB43) -> 221673.21 | FD43: 696187.61 | FE43: 395675 | FF43: 437325 | FG43: 870234.51 | FH43: 416500 | FI43: =AVERAGE(FD43:FH43) -> 563184.42 | FJ43: 506156.81 | FK43: 197837.5 | FL43: 218662.5 | FM43: 632696.01 | FN43: 208250 | FO43: =AVERAGE(FJ43:FN43) -> 352720.56 | FP43: 465664.26 | FQ43: 115311 | FR43: 127449 | FS43: 582080.33 | FT43: 121380 | FU43: =AVERAGE(FP43:FT43) -> 282376.92 | FV43: 550170.44 | FW43: 152617.5 | FX43: 168682.5 | FY43: 687713.05 | FZ43: 160650 | GA43: =AVERAGE(FV43:FZ43) -> 343966.7 | GB43: 591581.12 | GC43: 243057.5 | GD43: 268642.5 | GE43: 739476.4 | GF43: 255850 | GG43: =AVERAGE(GB43:GF43) -> 419721.5 | GH43: 475167.61 | GI43: 107397.5 | GJ43: 118702.5 | GK43: 593959.52 | GL43: 113050 | GM43: =AVERAGE(GH43:GL43) -> 281655.43 | GN43: 484864.91 | GO43: 124355 | GP43: 137445 | GQ43: 606081.14 | GR43: 130900 | GS43: =AVERAGE(GN43:GR43) -> 296729.21
B44: 3.6 | C44: KIT DE EMBRAGUE | D44: 197302 | E44: 176358 | F44: 194922 | G44: 246627.5 | H44: 185640 | I44: 209916 | J44: 197302 | K44: 189924 | L44: 209916 | M44: 246627.5 | N44: 199920 | O44: 232407 | P44: 232120 | Q44: 210273 | R44: 232407 | S44: 290150 | T44: 221340 | U44: =AVERAGE(P44:T44) -> 237258 | V44: 273082.35 | W44: 322192.5 | X44: 356107.5 | Y44: 341352.94 | Z44: 339150 | AA44: =AVERAGE(V44:Z44) -> 326377.06 | AB44: 214458.7 | AC44: 196707 | AD44: 217413 | AE44: 268073.37 | AF44: 207060 | AG44: =AVERAGE(AB44:AF44) -> 220742.41 | AH44: 438448.89 | AI44: 423937.5 | AJ44: 468562.5 | AK44: 548061.11 | AL44: 446250 | AM44: =AVERAGE(AH44:AL44) -> 465052 | AN44: 252304.35 | AO44: 203490 | AP44: 224910 | AQ44: 315380.43 | AR44: 214200 | AS44: =AVERAGE(AN44:AR44) -> 242056.96 | AT44: 296828.64 | AU44: 217056 | AV44: 239904 | AW44: 371035.81 | AX44: 228480 | AY44: =AVERAGE(AT44:AX44) -> 270660.89 | AZ44: 258383.97 | BA44: 183141 | BB44: 202419 | BC44: 322979.96 | BD44: 192780 | BE44: =AVERAGE(AZ44:BD44) -> 231940.79 | BF44: 260107.58 | BG44: 254362.5 | BH44: 281137.5 | BI44: 325134.47 | BJ44: 267750 | BK44: =AVERAGE(BF44:BJ44) -> 277698.41 | BL44: 302886.37 | BM44: 278103 | BN44: 307377 | BO44: 378607.96 | BP44: 292740 | BQ44: =AVERAGE(BL44:BP44) -> 311942.87 | BR44: 226783.91 | BS44: 223839 | BT44: 247401 | BU44: 283479.89 | BV44: 235620 | BW44: =AVERAGE(BR44:BV44) -> 243424.76 | BX44: 241259.48 | BY44: 284886 | BZ44: 314874 | CA44: 301574.35 | CB44: 299880 | CC44: =AVERAGE(BX44:CB44) -> 288494.76 | CD44: 442877.67 | CE44: 457852.5 | CF44: 506047.5 | CG44: 553597.08 | CH44: 481950 | CI44: =AVERAGE(CD44:CH44) -> 488464.95 | CJ44: 438653.59 | CK44: 332367 | CL44: 367353 | CM44: 548316.99 | CN44: 349860 | CO44: =AVERAGE(CJ44:CN44) -> 407310.12 | CP44: 265415.89 | CQ44: 88179 | CR44: 97461 | CS44: 331769.87 | CT44: 92820 | CU44: =AVERAGE(CP44:CT44) -> 175129.15 | CV44: 224206.82 | CW44: 65569 | CX44: 72471 | CY44: 280258.52 | CZ44: 69020 | DA44: =AVERAGE(CV44:CZ44) -> 142305.07 | DB44: 221091.44 | DC44: 70091 | DD44: 77469 | DE44: 276364.3 | DF44: 73780 | DG44: =AVERAGE(DB44:DF44) -> 143759.15 | DH44: 246183.14 | DI44: 94962 | DJ44: 104958 | DK44: 307728.92 | DL44: 99960 | DM44: =AVERAGE(DH44:DL44) -> 170758.41 | DN44: 260671.16 | DO44: 111919.5 | DP44: 123700.5 | DQ44: 325838.95 | DR44: 117810 | DS44: =AVERAGE(DN44:DR44) -> 187988.02 | DT44: 590503.55 | DU44: 220447.5 | DV44: 243652.5 | DW44: 738129.44 | DX44: 232050 | DY44: =AVERAGE(DT44:DX44) -> 404956.6 | DZ44: 590503.55 | EA44: 231752.5 | EB44: 256147.5 | EC44: 738129.44 | ED44: 243950 | EE44: =AVERAGE(DZ44:ED44) -> 412096.6 | EF44: 318827.76 | EG44: 99484 | EH44: 109956 | EI44: 398534.7 | EJ44: 104720 | EK44: =AVERAGE(EF44:EJ44) -> 206304.49 | EL44: 346551.91 | EM44: 146965 | EN44: 162435 | EO44: 433189.89 | EP44: 154700 | EQ44: =AVERAGE(EL44:EP44) -> 248768.36 | ER44: 306074.65 | ES44: 92701 | ET44: 102459 | EU44: 382593.31 | EV44: 97580 | EW44: =AVERAGE(ER44:EV44) -> 196281.59 | EX44: 312321.07 | EY44: 67830 | EZ44: 74970 | FA44: 390401.34 | FB44: 71400 | FC44: =AVERAGE(EX44:FB44) -> 183384.48 | FD44: 621582.69 | FE44: 248710 | FF44: 274890 | FG44: 776978.36 | FH44: 261800 | FI44: =AVERAGE(FD44:FH44) -> 436792.21 | FJ44: 451915.99 | FK44: 122094 | FL44: 134946 | FM44: 564894.98 | FN44: 128520 | FO44: =AVERAGE(FJ44:FN44) -> 280474.19 | FP44: 415762.71 | FQ44: 79135 | FR44: 87465 | FS44: 519703.38 | FT44: 83300 | FU44: =AVERAGE(FP44:FT44) -> 237073.22 | FV44: 491213.03 | FW44: 99484 | FX44: 109956 | FY44: 614016.28 | FZ44: 104720 | GA44: =AVERAGE(FV44:FZ44) -> 283877.86 | GB44: 528186.05 | GC44: 152617.5 | GD44: 168682.5 | GE44: 660232.56 | GF44: 160650 | GG44: =AVERAGE(GB44:GF44) -> 334073.72 | GH44: 424247.66 | GI44: 72352 | GJ44: 79968 | GK44: 530309.57 | GL44: 76160 | GM44: =AVERAGE(GH44:GL44) -> 236607.45 | GN44: 432905.78 | GO44: 90440 | GP44: 99960 | GQ44: 541132.22 | GR44: 95200 | GS44: =AVERAGE(GN44:GR44) -> 251927.6
B45: 3.7 | C45: MANIJA DE EMBRAGUE | D45: 41650 | E45: 40698 | F45: 44982 | G45: 52062.5 | H45: 42840 | I45: 52479 | J45: 41650 | K45: 47481 | L45: 52479 | M45: 52062.5 | N45: 49980 | O45: 56227.5 | P45: 49000 | Q45: 50872.5 | R45: 56227.5 | S45: 61250 | T45: 53550 | U45: =AVERAGE(P45:T45) -> 54180 | V45: 57647.059 | W45: 74613 | X45: 82467 | Y45: 72058.824 | Z45: 78540 | AA45: =AVERAGE(V45:Z45) -> 73065.176 | AB45: 45271.739 | AC45: 47481 | AD45: 52479 | AE45: 56589.674 | AF45: 49980 | AG45: =AVERAGE(AB45:AF45) -> 50360.283 | AH45: 92555.556 | AI45: 94962 | AJ45: 104958 | AK45: 115694.44 | AL45: 99960 | AM45: =AVERAGE(AH45:AL45) -> 101626 | AN45: 53260.87 | AO45: 47481 | AP45: 52479 | AQ45: 66576.087 | AR45: 49980 | AS45: =AVERAGE(AN45:AR45) -> 53955.391 | AT45: 62659.847 | AU45: 50872.5 | AV45: 56227.5 | AW45: 78324.808 | AX45: 53550 | AY45: =AVERAGE(AT45:AX45) -> 60326.931 | AZ45: 54544.264 | BA45: 44089.5 | BB45: 48730.5 | BC45: 68180.33 | BD45: 46410 | BE45: =AVERAGE(AZ45:BD45) -> 52390.919 | BF45: 54908.113 | BG45: 54264 | BH45: 59976 | BI45: 68635.141 | BJ45: 57120 | BK45: =AVERAGE(BF45:BJ45) -> 58980.651 | BL45: 63938.619 | BM45: 61047 | BN45: 67473 | BO45: 79923.274 | BP45: 64260 | BQ45: =AVERAGE(BL45:BP45) -> 67328.379 | BR45: 47873.563 | BS45: 50872.5 | BT45: 56227.5 | BU45: 59841.954 | BV45: 53550 | BW45: =AVERAGE(BR45:BV45) -> 53673.103 | BX45: 50929.323 | BY45: 61047 | BZ45: 67473 | CA45: 63661.653 | CB45: 64260 | CC45: =AVERAGE(BX45:CB45) -> 61474.195 | CD45: 93490.46 | CE45: 101745 | CF45: 112455 | CG45: 116863.08 | CH45: 107100 | CI45: =AVERAGE(CD45:CH45) -> 106330.71 | CJ45: 92598.768 | CK45: 74613 | CL45: 82467 | CM45: 115748.46 | CN45: 78540 | CO45: =AVERAGE(CJ45:CN45) -> 88793.446 | CP45: 56028.687 | CQ45: 18088 | CR45: 19992 | CS45: 70035.858 | CT45: 19040 | CU45: =AVERAGE(CP45:CT45) -> 36636.909 | CV45: 47329.545 | CW45: 15827 | CX45: 17493 | CY45: 59161.932 | CZ45: 16660 | DA45: =AVERAGE(CV45:CZ45) -> 31294.295 | DB45: 46671.896 | DC45: 15827 | DD45: 17493 | DE45: 58339.87 | DF45: 16660 | DG45: =AVERAGE(DB45:DF45) -> 30998.353 | DH45: 51968.697 | DI45: 20349 | DJ45: 22491 | DK45: 64960.871 | DL45: 21420 | DM45: =AVERAGE(DH45:DL45) -> 36237.913 | DN45: 55027.084 | DO45: 24871 | DP45: 27489 | DQ45: 68783.855 | DR45: 26180 | DS45: =AVERAGE(DN45:DR45) -> 40470.188 | DT45: 124653.95 | DU45: 47481 | DV45: 52479 | DW45: 155817.43 | DX45: 49980 | DY45: =AVERAGE(DT45:DX45) -> 86082.276 | DZ45: 124653.95 | EA45: 49742 | EB45: 54978 | EC45: 155817.43 | ED45: 52360 | EE45: =AVERAGE(DZ45:ED45) -> 87510.276 | EF45: 67303.809 | EG45: 20349 | EH45: 22491 | EI45: 84129.762 | EJ45: 21420 | EK45: =AVERAGE(EF45:EJ45) -> 43138.714 | EL45: 73156.315 | EM45: 32784.5 | EN45: 36235.5 | EO45: 91445.393 | EP45: 34510 | EQ45: =AVERAGE(EL45:EP45) -> 53626.342 | ER45: 64611.657 | ES45: 19218.5 | ET45: 21241.5 | EU45: 80764.571 | EV45: 20230 | EW45: =AVERAGE(ER45:EV45) -> 41213.246 | EX45: 65930.262 | EY45: 15827 | EZ45: 17493 | FA45: 82412.828 | FB45: 16660 | FC45: =AVERAGE(EX45:FB45) -> 39664.618 | FD45: 131214.68 | FE45: 52003 | FF45: 57477 | FG45: 164018.35 | FH45: 54740 | FI45: =AVERAGE(FD45:FH45) -> 91890.606 | FJ45: 95398.429 | FK45: 27132 | FL45: 29988 | FM45: 119248.04 | FN45: 28560 | FO45: =AVERAGE(FJ45:FN45) -> 60065.293 | FP45: 87766.554 | FQ45: 18088 | FR45: 19992 | FS45: 109708.19 | FT45: 19040 | FU45: =AVERAGE(FP45:FT45) -> 50918.949 | FV45: 103693.94 | FW45: 20349 | FX45: 22491 | FY45: 129617.43 | FZ45: 21420 | GA45: =AVERAGE(FV45:FZ45) -> 59514.275 | GB45: 111498.86 | GC45: 33915 | GD45: 37485 | GE45: 139373.58 | GF45: 35700 | GG45: =AVERAGE(GB45:GF45) -> 71594.489 | GH45: 89557.709 | GI45: 16957.5 | GJ45: 18742.5 | GK45: 111947.14 | GL45: 17850 | GM45: =AVERAGE(GH45:GL45) -> 51010.969 | GN45: 91385.417 | GO45: 19218.5 | GP45: 21241.5 | GQ45: 114231.77 | GR45: 20230 | GS45: =AVERAGE(GN45:GR45) -> 53261.438
B46: 3.8 | C46: PIÑON VELOCIMETRO | D46: 77588 | E46: 47481 | F46: 52479 | G46: 96985 | H46: 49980 | I46: 56227.5 | J46: 77588 | K46: 50872.5 | L46: 56227.5 | M46: 96985 | N46: 53550 | O46: 59976 | P46: 91280 | Q46: 54264 | R46: 59976 | S46: 114100 | T46: 57120 | U46: =AVERAGE(P46:T46) -> 75348 | V46: 107388.24 | W46: 74613 | X46: 82467 | Y46: 134235.29 | Z46: 78540 | AA46: =AVERAGE(V46:Z46) -> 95448.706 | AB46: 84334.783 | AC46: 50872.5 | AD46: 56227.5 | AE46: 105418.48 | AF46: 53550 | AG46: =AVERAGE(AB46:AF46) -> 70080.652 | AH46: 172417.78 | AI46: 88179 | AJ46: 97461 | AK46: 215522.22 | AL46: 92820 | AM46: =AVERAGE(AH46:AL46) -> 133280 | AN46: 99217.391 | AO46: 54264 | AP46: 59976 | AQ46: 124021.74 | AR46: 57120 | AS46: =AVERAGE(AN46:AR46) -> 78919.826 | AT46: 116726.34 | AU46: 57655.5 | AV46: 63724.5 | AW46: 145907.93 | AX46: 60690 | AY46: =AVERAGE(AT46:AX46) -> 88940.854 | AZ46: 101608.17 | BA46: 47481 | BB46: 52479 | BC46: 127010.21 | BD46: 49980 | BE46: =AVERAGE(AZ46:BD46) -> 75711.677 | BF46: 102285.97 | BG46: 61047 | BH46: 67473 | BI46: 127857.46 | BJ46: 64260 | BK46: =AVERAGE(BF46:BJ46) -> 84584.687 | BL46: 119108.51 | BM46: 64438.5 | BN46: 71221.5 | BO46: 148885.64 | BP46: 67830 | BQ46: =AVERAGE(BL46:BP46) -> 94296.831 | BR46: 89181.609 | BS46: 57655.5 | BT46: 63724.5 | BU46: 111477.01 | BV46: 60690 | BW46: =AVERAGE(BR46:BV46) -> 76545.724 | BX46: 94874.052 | BY46: 64438.5 | BZ46: 71221.5 | CA46: 118592.57 | CB46: 67830 | CC46: =AVERAGE(BX46:CB46) -> 83391.324 | CD46: 174159.37 | CE46: 94962 | CF46: 104958 | CG46: 217699.21 | CH46: 99960 | CI46: =AVERAGE(CD46:CH46) -> 138347.72 | CJ46: 172498.28 | CK46: 74613 | CL46: 82467 | CM46: 215622.85 | CN46: 78540 | CO46: =AVERAGE(CJ46:CN46) -> 124748.22 | CP46: 104373.44 | CQ46: 20349 | CR46: 22491 | CS46: 130466.8 | CT46: 21420 | CU46: =AVERAGE(CP46:CT46) -> 59820.048 | CV46: 88168.182 | CW46: 16957.5 | CX46: 18742.5 | CY46: 110210.23 | CZ46: 17850 | DA46: =AVERAGE(CV46:CZ46) -> 50385.682 | DB46: 86943.075 | DC46: 18088 | DD46: 19992 | DE46: 108678.84 | DF46: 19040 | DG46: =AVERAGE(DB46:DF46) -> 50548.384 | DH46: 96810.257 | DI46: 21479.5 | DJ46: 23740.5 | DK46: 121012.82 | DL46: 22610 | DM46: =AVERAGE(DH46:DL46) -> 57130.616 | DN46: 102507.6 | DO46: 24871 | DP46: 27489 | DQ46: 128134.5 | DR46: 26180 | DS46: =AVERAGE(DN46:DR46) -> 61836.419 | DT46: 232212.5 | DU46: 42959 | DV46: 47481 | DW46: 290265.62 | DX46: 45220 | DY46: =AVERAGE(DT46:DX46) -> 131627.62 | DZ46: 232212.5 | EA46: 45220 | EB46: 49980 | EC46: 290265.62 | ED46: 47600 | EE46: =AVERAGE(DZ46:ED46) -> 133055.62 | EF46: 125377.38 | EG46: 22610 | EH46: 24990 | EI46: 156721.73 | EJ46: 23800 | EK46: =AVERAGE(EF46:EJ46) -> 70699.822 | EL46: 136279.76 | EM46: 30523.5 | EN46: 33736.5 | EO46: 170349.7 | EP46: 32130 | EQ46: =AVERAGE(EL46:EP46) -> 80603.893 | ER46: 120362.29 | ES46: 21479.5 | ET46: 23740.5 | EU46: 150452.86 | EV46: 22610 | EW46: =AVERAGE(ER46:EV46) -> 67729.029 | EX46: 122818.66 | EY46: 18088 | EZ46: 19992 | FA46: 153523.32 | FB46: 19040 | FC46: =AVERAGE(EX46:FB46) -> 66692.397 | FD46: 244434.21 | FE46: 47481 | FF46: 52479 | FG46: 305542.76 | FH46: 49980 | FI46: =AVERAGE(FD46:FH46) -> 139983.39 | FJ46: 177713.64 | FK46: 27132 | FL46: 29988 | FM46: 222142.06 | FN46: 28560 | FO46: =AVERAGE(FJ46:FN46) -> 97107.14 | FP46: 163496.55 | FQ46: 20349 | FR46: 22491 | FS46: 204370.69 | FT46: 21420 | FU46: =AVERAGE(FP46:FT46) -> 86425.449 | FV46: 193167 | FW46: 22610 | FX46: 24990 | FY46: 241458.76 | FZ46: 23800 | GA46: =AVERAGE(FV46:FZ46) -> 101205.15 | GB46: 207706.46 | GC46: 31654 | GD46: 34986 | GE46: 259633.07 | GF46: 33320 | GG46: =AVERAGE(GB46:GF46) -> 113459.91 | GH46: 166833.22 | GI46: 19218.5 | GJ46: 21241.5 | GK46: 208541.52 | GL46: 20230 | GM46: =AVERAGE(GH46:GL46) -> 87212.948 | GN46: 170237.98 | GO46: 21479.5 | GP46: 23740.5 | GQ46: 212797.47 | GR46: 22610 | GS46: =AVERAGE(GN46:GR46) -> 90173.09
B47: 3.9 | C47: RETEN CONTROL DE CAMBIO | D47: 30702 | E47: 20349 | F47: 22491 | G47: 38377.5 | H47: 21420 | I47: 26239.5 | J47: 30702 | K47: 23740.5 | L47: 26239.5 | M47: 38377.5 | N47: 24990 | O47: 29988 | P47: 36120 | Q47: 27132 | R47: 29988 | S47: 45150 | T47: 28560 | U47: =AVERAGE(P47:T47) -> 33390 | V47: 42494.118 | W47: 37306.5 | X47: 41233.5 | Y47: 53117.647 | Z47: 39270 | AA47: =AVERAGE(V47:Z47) -> 42684.353 | AB47: 33371.739 | AC47: 23740.5 | AD47: 26239.5 | AE47: 41714.674 | AF47: 24990 | AG47: =AVERAGE(AB47:AF47) -> 30011.283 | AH47: 68226.667 | AI47: 47481 | AJ47: 52479 | AK47: 85283.333 | AL47: 49980 | AM47: =AVERAGE(AH47:AL47) -> 60690 | AN47: 39260.87 | AO47: 27132 | AP47: 29988 | AQ47: 49076.087 | AR47: 28560 | AS47: =AVERAGE(AN47:AR47) -> 34803.391 | AT47: 46189.258 | AU47: 27132 | AV47: 29988 | AW47: 57736.573 | AX47: 28560 | AY47: =AVERAGE(AT47:AX47) -> 37921.166 | AZ47: 40206.915 | BA47: 23740.5 | BB47: 26239.5 | BC47: 50258.643 | BD47: 24990 | BE47: =AVERAGE(AZ47:BD47) -> 33087.112 | BF47: 40475.123 | BG47: 30523.5 | BH47: 33736.5 | BI47: 50593.904 | BJ47: 32130 | BK47: =AVERAGE(BF47:BJ47) -> 37491.805 | BL47: 47131.896 | BM47: 33915 | BN47: 37485 | BO47: 58914.87 | BP47: 35700 | BQ47: =AVERAGE(BL47:BP47) -> 42629.353 | BR47: 35289.655 | BS47: 27132 | BT47: 29988 | BU47: 44112.069 | BV47: 28560 | BW47: =AVERAGE(BR47:BV47) -> 33016.345 | BX47: 37542.186 | BY47: 33915 | BZ47: 37485 | CA47: 46927.733 | CB47: 35700 | CC47: =AVERAGE(BX47:CB47) -> 38313.984 | CD47: 68915.825 | CE47: 50872.5 | CF47: 56227.5 | CG47: 86144.781 | CH47: 53550 | CI47: =AVERAGE(CD47:CH47) -> 63142.121 | CJ47: 68258.521 | CK47: 37306.5 | CL47: 41233.5 | CM47: 85323.151 | CN47: 39270 | CO47: =AVERAGE(CJ47:CN47) -> 54278.334 | CP47: 41301.146 | CQ47: 10174.5 | CR47: 11245.5 | CS47: 51626.433 | CT47: 10710 | CU47: =AVERAGE(CP47:CT47) -> 25011.516 | CV47: 34888.636 | CW47: 7913.5 | CX47: 8746.5 | CY47: 43610.795 | CZ47: 8330 | DA47: =AVERAGE(CV47:CZ47) -> 20697.886 | DB47: 34403.855 | DC47: 9044 | DD47: 9996 | DE47: 43004.818 | DF47: 9520 | DG47: =AVERAGE(DB47:DF47) -> 21193.735 | DH47: 38308.353 | DI47: 11305 | DJ47: 12495 | DK47: 47885.442 | DL47: 11900 | DM47: =AVERAGE(DH47:DL47) -> 24378.759 | DN47: 40562.822 | DO47: 12435.5 | DP47: 13744.5 | DQ47: 50703.528 | DR47: 13090 | DS47: =AVERAGE(DN47:DR47) -> 26107.27 | DT47: 91887.767 | DU47: 24871 | DV47: 27489 | DW47: 114859.71 | DX47: 26180 | DY47: =AVERAGE(DT47:DX47) -> 57057.495 | DZ47: 91887.767 | EA47: 24871 | EB47: 27489 | EC47: 114859.71 | ED47: 26180 | EE47: =AVERAGE(DZ47:ED47) -> 57057.495 | EF47: 49612.522 | EG47: 11305 | EH47: 12495 | EI47: 62015.653 | EJ47: 11900 | EK47: =AVERAGE(EF47:EJ47) -> 29465.635 | EL47: 53926.655 | EM47: 15827 | EN47: 17493 | EO47: 67408.318 | EP47: 16660 | EQ47: =AVERAGE(EL47:EP47) -> 34262.995 | ER47: 47628.021 | ES47: 11305 | ET47: 12495 | EU47: 59535.027 | EV47: 11900 | EW47: =AVERAGE(ER47:EV47) -> 28572.61 | EX47: 48600.022 | EY47: 9044 | EZ47: 9996 | FA47: 60750.027 | FB47: 9520 | FC47: =AVERAGE(EX47:FB47) -> 27582.01 | FD47: 96723.965 | FE47: 27132 | FF47: 29988 | FG47: 120904.96 | FH47: 28560 | FI47: =AVERAGE(FD47:FH47) -> 60661.784 | FJ47: 70322.27 | FK47: 13566 | FL47: 14994 | FM47: 87902.838 | FN47: 14280 | FO47: =AVERAGE(FJ47:FN47) -> 40213.022 | FP47: 64696.489 | FQ47: 10174.5 | FR47: 11245.5 | FS47: 80870.611 | FT47: 10710 | FU47: =AVERAGE(FP47:FT47) -> 35539.42 | FV47: 76437.25 | FW47: 11305 | FX47: 12495 | FY47: 95546.563 | FZ47: 11900 | GA47: =AVERAGE(FV47:FZ47) -> 41536.763 | GB47: 82190.592 | GC47: 16957.5 | GD47: 18742.5 | GE47: 102738.24 | GF47: 17850 | GG47: =AVERAGE(GB47:GF47) -> 47695.766 | GH47: 66016.825 | GI47: 9044 | GJ47: 9996 | GK47: 82521.032 | GL47: 9520 | GM47: =AVERAGE(GH47:GL47) -> 35419.571 | GN47: 67364.107 | GO47: 10174.5 | GP47: 11245.5 | GQ47: 84205.134 | GR47: 10710 | GS47: =AVERAGE(GN47:GR47) -> 36739.848
B48: 3.10 | C48: RETEN SALIDA | D48: 26180 | E48: 23740.5 | F48: 26239.5 | G48: 32725 | H48: 24990 | I48: 29988 | J48: 26180 | K48: 27132 | L48: 29988 | M48: 32725 | N48: 28560 | O48: 33736.5 | P48: 30800 | Q48: 30523.5 | R48: 33736.5 | S48: 38500 | T48: 32130 | U48: =AVERAGE(P48:T48) -> 33138 | V48: 36235.294 | W48: 40698 | X48: 44982 | Y48: 45294.118 | Z48: 42840 | AA48: =AVERAGE(V48:Z48) -> 42009.882 | AB48: 28456.522 | AC48: 27132 | AD48: 29988 | AE48: 35570.652 | AF48: 28560 | AG48: =AVERAGE(AB48:AF48) -> 29941.435 | AH48: 58177.778 | AI48: 50872.5 | AJ48: 56227.5 | AK48: 72722.222 | AL48: 53550 | AM48: =AVERAGE(AH48:AL48) -> 58310 | AN48: 33478.261 | AO48: 30523.5 | AP48: 33736.5 | AQ48: 41847.826 | AR48: 32130 | AS48: =AVERAGE(AN48:AR48) -> 34343.217 | AT48: 39386.189 | AU48: 30523.5 | AV48: 33736.5 | AW48: 49232.737 | AX48: 32130 | AY48: =AVERAGE(AT48:AX48) -> 37001.785 | AZ48: 34284.966 | BA48: 27132 | BB48: 29988 | BC48: 42856.207 | BD48: 28560 | BE48: =AVERAGE(AZ48:BD48) -> 32564.235 | BF48: 34513.671 | BG48: 33915 | BH48: 37485 | BI48: 43142.089 | BJ48: 35700 | BK48: =AVERAGE(BF48:BJ48) -> 36951.152 | BL48: 40189.989 | BM48: 37306.5 | BN48: 41233.5 | BO48: 50237.486 | BP48: 39270 | BQ48: =AVERAGE(BL48:BP48) -> 41647.495 | BR48: 30091.954 | BS48: 30523.5 | BT48: 33736.5 | BU48: 37614.943 | BV48: 32130 | BW48: =AVERAGE(BR48:BV48) -> 32819.379 | BX48: 32012.717 | BY48: 37306.5 | BZ48: 41233.5 | CA48: 40015.896 | CB48: 39270 | CC48: =AVERAGE(BX48:CB48) -> 37967.723 | CD48: 58765.432 | CE48: 54264 | CF48: 59976 | CG48: 73456.79 | CH48: 57120 | CI48: =AVERAGE(CD48:CH48) -> 60716.444 | CJ48: 58204.94 | CK48: 40698 | CL48: 44982 | CM48: 72756.175 | CN48: 42840 | CO48: =AVERAGE(CJ48:CN48) -> 51896.223 | CP48: 35218.032 | CQ48: 11305 | CR48: 12495 | CS48: 44022.54 | CT48: 11900 | CU48: =AVERAGE(CP48:CT48) -> 22988.114 | CV48: 29750 | CW48: 9044 | CX48: 9996 | CY48: 37187.5 | CZ48: 9520 | DA48: =AVERAGE(CV48:CZ48) -> 19099.5 | DB48: 29336.62 | DC48: 10174.5 | DD48: 11245.5 | DE48: 36670.775 | DF48: 10710 | DG48: =AVERAGE(DB48:DF48) -> 19627.479 | DH48: 32666.038 | DI48: 12435.5 | DJ48: 13744.5 | DK48: 40832.547 | DL48: 13090 | DM48: =AVERAGE(DH48:DL48) -> 22553.717 | DN48: 34588.453 | DO48: 13566 | DP48: 14994 | DQ48: 43235.566 | DR48: 14280 | DS48: =AVERAGE(DN48:DR48) -> 24132.804 | DT48: 78353.909 | DU48: 27132 | DV48: 29988 | DW48: 97942.387 | DX48: 28560 | DY48: =AVERAGE(DT48:DX48) -> 52395.259 | DZ48: 78353.909 | EA48: 27132 | EB48: 29988 | EC48: 97942.387 | ED48: 28560 | EE48: =AVERAGE(DZ48:ED48) -> 52395.259 | EF48: 42305.252 | EG48: 12435.5 | EH48: 13744.5 | EI48: 52881.565 | EJ48: 13090 | EK48: =AVERAGE(EF48:EJ48) -> 26891.363 | EL48: 45983.969 | EM48: 16957.5 | EN48: 18742.5 | EO48: 57479.961 | EP48: 17850 | EQ48: =AVERAGE(EL48:EP48) -> 31402.786 | ER48: 40613.042 | ES48: 12435.5 | ET48: 13744.5 | EU48: 50766.302 | EV48: 13090 | EW48: =AVERAGE(ER48:EV48) -> 26129.869 | EX48: 41441.879 | EY48: 10174.5 | EZ48: 11245.5 | FA48: 51802.349 | FB48: 10710 | FC48: =AVERAGE(EX48:FB48) -> 25074.846 | FD48: 82477.799 | FE48: 29393 | FF48: 32487 | FG48: 103097.25 | FH48: 30940 | FI48: =AVERAGE(FD48:FH48) -> 55679.01 | FJ48: 59964.727 | FK48: 14696.5 | FL48: 16243.5 | FM48: 74955.908 | FN48: 15470 | FO48: =AVERAGE(FJ48:FN48) -> 36266.127 | FP48: 55167.549 | FQ48: 11305 | FR48: 12495 | FS48: 68959.436 | FT48: 11900 | FU48: =AVERAGE(FP48:FT48) -> 31965.397 | FV48: 65179.051 | FW48: 12435.5 | FX48: 13744.5 | FY48: 81473.813 | FZ48: 13090 | GA48: =AVERAGE(FV48:FZ48) -> 37184.573 | GB48: 70085.001 | GC48: 18088 | GD48: 19992 | GE48: 87606.251 | GF48: 19040 | GG48: =AVERAGE(GB48:GF48) -> 42962.25 | GH48: 56293.417 | GI48: 10174.5 | GJ48: 11245.5 | GK48: 70366.771 | GL48: 10710 | GM48: =AVERAGE(GH48:GL48) -> 31758.038 | GN48: 57442.262 | GO48: 11305 | GP48: 12495 | GQ48: 71802.828 | GR48: 11900 | GS48: =AVERAGE(GN48:GR48) -> 32989.018
B49: 4 | C49: SISTEMA DE SUSPENSION | D49: 0 | E49: 0 | F49: 0 | G49: 0 | H49: 0 | I49: 0 | J49: 0 | K49: 0 | L49: 0 | M49: 0 | N49: 0 | O49: 0 | P49: 0 | Q49: 0 | R49: 0 | S49: 0 | T49: 0 | V49: 0 | W49: 0 | X49: 0 | Y49: 0 | Z49: 0 | AB49: 0 | AC49: 0 | AD49: 0 | AE49: 0 | AF49: 0 | AH49: 0 | AI49: 0 | AJ49: 0 | AK49: 0 | AL49: 0 | AN49: 0 | AO49: 0 | AP49: 0 | AQ49: 0 | AR49: 0 | AT49: 0 | AU49: 0 | AV49: 0 | AW49: 0 | AX49: 0 | AZ49: 0 | BA49: 0 | BB49: 0 | BC49: 0 | BD49: 0 | BE49: 0 | BF49: 0 | BG49: 0 | BH49: 0 | BI49: 0 | BJ49: 0 | BL49: 0 | BM49: 0 | BN49: 0 | BO49: 0 | BP49: 0 | BR49: 0 | BS49: 0 | BT49: 0 | BU49: 0 | BV49: 0 | BX49: 0 | BY49: 0 | BZ49: 0 | CA49: 0 | CB49: 0 | CD49: 0 | CE49: 0 | CF49: 0 | CG49: 0 | CH49: 0 | CJ49: 0 | CK49: 0 | CL49: 0 | CM49: 0 | CN49: 0 | CP49: 0 | CQ49: 0 | CR49: 0 | CS49: 0 | CT49: 0 | CV49: 0 | CW49: 0 | CX49: 0 | CY49: 0 | CZ49: 0 | DB49: 0 | DC49: 0 | DD49: 0 | DE49: 0 | DF49: 0 | DH49: 0 | DI49: 0 | DJ49: 0 | DK49: 0 | DL49: 0 | DN49: 0 | DO49: 0 | DP49: 0 | DQ49: 0 | DR49: 0 | DT49: 0 | DU49: 0 | DV49: 0 | DW49: 0 | DX49: 0 | DZ49: 0 | EA49: 0 | EB49: 0 | EC49: 0 | ED49: 0 | EF49: 0 | EG49: 0 | EH49: 0 | EI49: 0 | EJ49: 0 | EL49: 0 | EM49: 0 | EN49: 0 | EO49: 0 | EP49: 0 | ER49: 0 | ES49: 0 | ET49: 0 | EU49: 0 | EV49: 0 | EX49: 0 | EY49: 0 | EZ49: 0 | FA49: 0 | FB49: 0 | FD49: 0 | FE49: 0 | FF49: 0 | FG49: 0 | FH49: 0 | FJ49: 0 | FK49: 0 | FL49: 0 | FM49: 0 | FN49: 0 | FP49: 0 | FQ49: 0 | FR49: 0 | FS49: 0 | FT49: 0 | FV49: 0 | FW49: 0 | FX49: 0 | FY49: 0 | FZ49: 0 | GB49: 0 | GC49: 0 | GD49: 0 | GE49: 0 | GF49: 0 | GH49: 0 | GI49: 0 | GJ49: 0 | GK49: 0 | GL49: 0 | GN49: 0 | GO49: 0 | GP49: 0 | GQ49: 0 | GR49: 0
B50: 4.1 | C50: AMORTIGUADOR DELANTERO | D50: 208250 | E50: 457852.5 | F50: 506047.5 | G50: 260312.5 | H50: 481950 | I50: 581017.5 | J50: 208250 | K50: 525682.5 | L50: 581017.5 | M50: 260312.5 | N50: 553350 | O50: 618502.5 | P50: 245000 | Q50: 559597.5 | R50: 618502.5 | S50: 306250 | T50: 589050 | U50: =AVERAGE(P50:T50) -> 463680 | V50: 288235.29 | W50: 780045 | X50: 862155 | Y50: 360294.12 | Z50: 821100 | AA50: =AVERAGE(V50:Z50) -> 622365.88 | AB50: 226358.7 | AC50: 491767.5 | AD50: 543532.5 | AE50: 282948.37 | AF50: 517650 | AG50: =AVERAGE(AB50:AF50) -> 412451.41 | AH50: 462777.78 | AI50: 983535 | AJ50: 1087065 | AK50: 578472.22 | AL50: 1035300 | AM50: =AVERAGE(AH50:AL50) -> 829430 | AN50: 266304.35 | AO50: 525682.5 | AP50: 581017.5 | AQ50: 332880.43 | AR50: 553350 | AS50: =AVERAGE(AN50:AR50) -> 451846.96 | AT50: 313299.23 | AU50: 559597.5 | AV50: 618502.5 | AW50: 391624.04 | AX50: 589050 | AY50: =AVERAGE(AT50:AX50) -> 494414.65 | AZ50: 272721.32 | BA50: 474810 | BB50: 524790 | BC50: 340901.65 | BD50: 499800 | BE50: =AVERAGE(AZ50:BD50) -> 422604.59 | BF50: 274540.56 | BG50: 593512.5 | BH50: 655987.5 | BI50: 343175.71 | BJ50: 624750 | BK50: =AVERAGE(BF50:BJ50) -> 498393.25 | BL50: 319693.09 | BM50: 695257.5 | BN50: 768442.5 | BO50: 399616.37 | BP50: 731850 | BQ50: =AVERAGE(BL50:BP50) -> 582971.89 | BR50: 239367.82 | BS50: 593512.5 | BT50: 655987.5 | BU50: 299209.77 | BV50: 624750 | BW50: =AVERAGE(BR50:BV50) -> 482565.52 | BX50: 254646.61 | BY50: 729172.5 | BZ50: 805927.5 | CA50: 318308.27 | CB50: 767550 | CC50: =AVERAGE(BX50:CB50) -> 575120.98 | CD50: 467452.3 | CE50: 1085280 | CF50: 1199520 | CG50: 584315.38 | CH50: 1142400 | CI50: =AVERAGE(CD50:CH50) -> 895793.54 | CJ50: 462993.84 | CK50: 830917.5 | CL50: 918382.5 | CM50: 578742.3 | CN50: 874650 | CO50: =AVERAGE(CJ50:CN50) -> 733137.23 | CP50: 280143.43 | CQ50: 203490 | CR50: 224910 | CS50: 350179.29 | CT50: 214200 | CU50: =AVERAGE(CP50:CT50) -> 254584.55 | CV50: 236647.73 | CW50: 163922.5 | CX50: 181177.5 | CY50: 295809.66 | CZ50: 172550 | DA50: =AVERAGE(CV50:CZ50) -> 210021.48 | DB50: 233359.48 | DC50: 175227.5 | DD50: 193672.5 | DE50: 291699.35 | DF50: 184450 | DG50: =AVERAGE(DB50:DF50) -> 215681.77 | DH50: 259843.48 | DI50: 243057.5 | DJ50: 268642.5 | DK50: 324804.35 | DL50: 255850 | DM50: =AVERAGE(DH50:DL50) -> 270439.57 | DN50: 275135.42 | DO50: 282625 | DP50: 312375 | DQ50: 343919.28 | DR50: 297500 | DS50: =AVERAGE(DN50:DR50) -> 302310.94 | DT50: 623269.73 | DU50: 542640 | DV50: 599760 | DW50: 779087.17 | DX50: 571200 | DY50: =AVERAGE(DT50:DX50) -> 623191.38 | DZ50: 623269.73 | EA50: 553945 | EB50: 612255 | EC50: 779087.17 | ED50: 583100 | EE50: =AVERAGE(DZ50:ED50) -> 630331.38 | EF50: 336519.05 | EG50: 248710 | EH50: 274890 | EI50: 420648.81 | EJ50: 261800 | EK50: =AVERAGE(EF50:EJ50) -> 308513.57 | EL50: 365781.57 | EM50: 350455 | EN50: 387345 | EO50: 457226.97 | EP50: 368900 | EQ50: =AVERAGE(EL50:EP50) -> 385941.71 | ER50: 323058.29 | ES50: 231752.5 | ET50: 256147.5 | EU50: 403822.86 | EV50: 243950 | EW50: =AVERAGE(ER50:EV50) -> 291746.23 | EX50: 329651.31 | EY50: 175227.5 | EZ50: 193672.5 | FA50: 412064.14 | FB50: 184450 | FC50: =AVERAGE(EX50:FB50) -> 259013.09 | FD50: 656073.4 | FE50: 587860 | FF50: 649740 | FG50: 820091.76 | FH50: 618800 | FI50: =AVERAGE(FD50:FH50) -> 666513.03 | FJ50: 476992.14 | FK50: 299582.5 | FL50: 331117.5 | FM50: 596240.18 | FN50: 315350 | FO50: =AVERAGE(FJ50:FN50) -> 403856.46 | FP50: 438832.77 | FQ50: 209142.5 | FR50: 231157.5 | FS50: 548540.97 | FT50: 220150 | FU50: =AVERAGE(FP50:FT50) -> 329564.75 | FV50: 518469.72 | FW50: 254362.5 | FX50: 281137.5 | FY50: 648087.15 | FZ50: 267750 | GA50: =AVERAGE(FV50:FZ50) -> 393961.37 | GB50: 557494.32 | GC50: 373065 | GD50: 412335 | GE50: 696867.91 | GF50: 392700 | GG50: =AVERAGE(GB50:GF50) -> 486492.45 | GH50: 447788.54 | GI50: 186532.5 | GJ50: 206167.5 | GK50: 559735.68 | GL50: 196350 | GM50: =AVERAGE(GH50:GL50) -> 319314.84 | GN50: 456927.08 | GO50: 209142.5 | GP50: 231157.5 | GQ50: 571158.86 | GR50: 220150 | GS50: =AVERAGE(GN50:GR50) -> 337707.19
B51: 4.2 | C51: AMORTIGUADOR TRASERO | D51: 380800 | E51: 312018 | F51: 344862 | G51: 476000 | H51: 328440 | I51: 468562.5 | J51: 380800 | K51: 423937.5 | L51: 468562.5 | M51: 476000 | N51: 446250 | O51: 431077.5 | P51: 448000 | Q51: 390022.5 | R51: 431077.5 | S51: 560000 | T51: 410550 | U51: =AVERAGE(P51:T51) -> 447930 | V51: 527058.82 | W51: 661342.5 | X51: 730957.5 | Y51: 658823.53 | Z51: 696150 | AA51: =AVERAGE(V51:Z51) -> 654866.47 | AB51: 413913.04 | AC51: 373065 | AD51: 412335 | AE51: 517391.3 | AF51: 392700 | AG51: =AVERAGE(AB51:AF51) -> 421880.87 | AH51: 846222.22 | AI51: 881790 | AJ51: 974610 | AK51: 1057777.8 | AL51: 928200 | AM51: =AVERAGE(AH51:AL51) -> 937720 | AN51: 486956.52 | AO51: 390022.5 | AP51: 431077.5 | AQ51: 608695.65 | AR51: 410550 | AS51: =AVERAGE(AN51:AR51) -> 465460.43 | AT51: 572890.03 | AU51: 406980 | AV51: 449820 | AW51: 716112.53 | AX51: 428400 | AY51: =AVERAGE(AT51:AX51) -> 514840.51 | AZ51: 498690.41 | BA51: 356107.5 | BB51: 393592.5 | BC51: 623363.02 | BD51: 374850 | BE51: =AVERAGE(AZ51:BD51) -> 449320.69 | BF51: 502017.03 | BG51: 440895 | BH51: 487305 | BI51: 627521.29 | BJ51: 464100 | BK51: =AVERAGE(BF51:BJ51) -> 504367.66 | BL51: 584581.66 | BM51: 559597.5 | BN51: 618502.5 | BO51: 730727.07 | BP51: 589050 | BQ51: =AVERAGE(BL51:BP51) -> 616491.75 | BR51: 437701.15 | BS51: 474810 | BT51: 524790 | BU51: 547126.44 | BV51: 499800 | BW51: =AVERAGE(BR51:BV51) -> 496845.52 | BX51: 465639.52 | BY51: 593512.5 | BZ51: 655987.5 | CA51: 582049.4 | CB51: 624750 | CC51: =AVERAGE(BX51:CB51) -> 584387.78 | CD51: 854769.92 | CE51: 983535 | CF51: 1087065 | CG51: 1068462.4 | CH51: 1035300 | CI51: =AVERAGE(CD51:CH51) -> 1005826.5 | CJ51: 846617.31 | CK51: 695257.5 | CL51: 768442.5 | CM51: 1058271.6 | CN51: 731850 | CO51: =AVERAGE(CJ51:CN51) -> 820087.79 | CP51: 512262.28 | CQ51: 152617.5 | CR51: 168682.5 | CS51: 640327.85 | CT51: 160650 | CU51: =AVERAGE(CP51:CT51) -> 326908.03 | CV51: 432727.27 | CW51: 124355 | CX51: 137445 | CY51: 540909.09 | CZ51: 130900 | DA51: =AVERAGE(CV51:CZ51) -> 273267.27 | DB51: 426714.48 | DC51: 130007.5 | DD51: 143692.5 | DE51: 533393.1 | DF51: 136850 | DG51: =AVERAGE(DB51:DF51) -> 274131.52 | DH51: 475142.37 | DI51: 197837.5 | DJ51: 218662.5 | DK51: 593927.96 | DL51: 208250 | DM51: =AVERAGE(DH51:DL51) -> 338764.07 | DN51: 503104.77 | DO51: 237405 | DP51: 262395 | DQ51: 628880.96 | DR51: 249900 | DS51: =AVERAGE(DN51:DR51) -> 376337.15 | DT51: 1139693.2 | DU51: 474810 | DV51: 524790 | DW51: 1424616.5 | DX51: 499800 | DY51: =AVERAGE(DT51:DX51) -> 812741.95 | DZ51: 1139693.2 | EA51: 497420 | EB51: 549780 | EC51: 1424616.5 | ED51: 523600 | EE51: =AVERAGE(DZ51:ED51) -> 827021.95 | EF51: 615349.11 | EG51: 203490 | EH51: 224910 | EI51: 769186.39 | EJ51: 214200 | EK51: =AVERAGE(EF51:EJ51) -> 405427.1 | EL51: 668857.73 | EM51: 316540 | EN51: 349860 | EO51: 836072.17 | EP51: 333200 | EQ51: =AVERAGE(EL51:EP51) -> 500905.98 | ER51: 590735.15 | ES51: 186532.5 | ET51: 206167.5 | EU51: 738418.94 | EV51: 196350 | EW51: =AVERAGE(ER51:EV51) -> 383640.82 | EX51: 602790.97 | EY51: 130007.5 | EZ51: 143692.5 | FA51: 753488.71 | FB51: 136850 | FC51: =AVERAGE(EX51:FB51) -> 353365.94 | FD51: 1199677.1 | FE51: 520030 | FF51: 574770 | FG51: 1499596.4 | FH51: 547400 | FI51: =AVERAGE(FD51:FH51) -> 868294.69 | FJ51: 872214.21 | FK51: 254362.5 | FL51: 281137.5 | FM51: 1090267.8 | FN51: 267750 | FO51: =AVERAGE(FJ51:FN51) -> 553146.39 | FP51: 802437.07 | FQ51: 163922.5 | FR51: 181177.5 | FS51: 1003046.3 | FT51: 172550 | FU51: =AVERAGE(FP51:FT51) -> 464626.68 | FV51: 948058.92 | FW51: 209142.5 | FX51: 231157.5 | FY51: 1185073.6 | FZ51: 220150 | GA51: =AVERAGE(FV51:FZ51) -> 558716.51 | GB51: 1019418.2 | GC51: 339150 | GD51: 374850 | GE51: 1274272.7 | GF51: 357000 | GG51: =AVERAGE(GB51:GF51) -> 672938.19 | GH51: 818813.34 | GI51: 135660 | GJ51: 149940 | GK51: 1023516.7 | GL51: 142800 | GM51: =AVERAGE(GH51:GL51) -> 454146 | GN51: 835523.81 | GO51: 158270 | GP51: 174930 | GQ51: 1044404.8 | GR51: 166600 | GS51: =AVERAGE(GN51:GR51) -> 475945.72
B52: 4.3 | C52: BUJES TIJERA (JUEGO) | D52: 148750 | E52: 50872.5 | F52: 56227.5 | G52: 185937.5 | H52: 53550 | I52: 59976 | J52: 148750 | K52: 54264 | L52: 59976 | M52: 185937.5 | N52: 57120 | O52: 67473 | P52: 175000 | Q52: 61047 | R52: 67473 | S52: 218750 | T52: 64260 | U52: =AVERAGE(P52:T52) -> 117306 | V52: 205882.35 | W52: 84787.5 | X52: 93712.5 | Y52: 257352.94 | Z52: 89250 | AA52: =AVERAGE(V52:Z52) -> 146197.06 | AB52: 161684.78 | AC52: 54264 | AD52: 59976 | AE52: 202105.98 | AF52: 57120 | AG52: =AVERAGE(AB52:AF52) -> 107030.15 | AH52: 330555.56 | AI52: 108528 | AJ52: 119952 | AK52: 413194.44 | AL52: 114240 | AM52: =AVERAGE(AH52:AL52) -> 217294 | AN52: 190217.39 | AO52: 61047 | AP52: 67473 | AQ52: 237771.74 | AR52: 64260 | AS52: =AVERAGE(AN52:AR52) -> 124153.83 | AT52: 223785.17 | AU52: 64438.5 | AV52: 71221.5 | AW52: 279731.46 | AX52: 67830 | AY52: =AVERAGE(AT52:AX52) -> 141401.32 | AZ52: 194800.94 | BA52: 54264 | BB52: 59976 | BC52: 243501.18 | BD52: 57120 | BE52: =AVERAGE(AZ52:BD52) -> 121932.42 | BF52: 196100.4 | BG52: 67830 | BH52: 74970 | BI52: 245125.5 | BJ52: 71400 | BK52: =AVERAGE(BF52:BJ52) -> 131085.18 | BL52: 228352.21 | BM52: 74613 | BN52: 82467 | BO52: 285440.26 | BP52: 78540 | BQ52: =AVERAGE(BL52:BP52) -> 149882.49 | BR52: 170977.01 | BS52: 64438.5 | BT52: 71221.5 | BU52: 213721.26 | BV52: 67830 | BW52: =AVERAGE(BR52:BV52) -> 117637.66 | BX52: 181890.44 | BY52: 78004.5 | BZ52: 86215.5 | CA52: 227363.05 | CB52: 82110 | CC52: =AVERAGE(BX52:CB52) -> 131116.7 | CD52: 333894.5 | CE52: 115311 | CF52: 127449 | CG52: 417368.13 | CH52: 121380 | CI52: =AVERAGE(CD52:CH52) -> 223080.53 | CJ52: 330709.89 | CK52: 88179 | CL52: 97461 | CM52: 413387.36 | CN52: 92820 | CO52: =AVERAGE(CJ52:CN52) -> 204511.45 | CP52: 200102.45 | CQ52: 22610 | CR52: 24990 | CS52: 250128.07 | CT52: 23800 | CU52: =AVERAGE(CP52:CT52) -> 104326.1 | CV52: 169034.09 | CW52: 18088 | CX52: 19992 | CY52: 211292.61 | CZ52: 19040 | DA52: =AVERAGE(CV52:CZ52) -> 87489.341 | DB52: 166685.34 | DC52: 20349 | DD52: 22491 | DE52: 208356.68 | DF52: 21420 | DG52: =AVERAGE(DB52:DF52) -> 87860.404 | DH52: 185602.49 | DI52: 26001.5 | DJ52: 28738.5 | DK52: 232003.11 | DL52: 27370 | DM52: =AVERAGE(DH52:DL52) -> 99943.119 | DN52: 196525.3 | DO52: 29393 | DP52: 32487 | DQ52: 245656.63 | DR52: 30940 | DS52: =AVERAGE(DN52:DR52) -> 107000.39 | DT52: 445192.67 | DU52: 54264 | DV52: 59976 | DW52: 556490.83 | DX52: 57120 | DY52: =AVERAGE(DT52:DX52) -> 234608.7 | DZ52: 445192.67 | EA52: 54264 | EB52: 59976 | EC52: 556490.83 | ED52: 57120 | EE52: =AVERAGE(DZ52:ED52) -> 234608.7 | EF52: 240370.75 | EG52: 27132 | EH52: 29988 | EI52: 300463.43 | EJ52: 28560 | EK52: =AVERAGE(EF52:EJ52) -> 125302.84 | EL52: 261272.55 | EM52: 38437 | EN52: 42483 | EO52: 326590.69 | EP52: 40460 | EQ52: =AVERAGE(EL52:EP52) -> 141848.65 | ER52: 230755.92 | ES52: 24871 | ET52: 27489 | EU52: 288444.9 | EV52: 26180 | EW52: =AVERAGE(ER52:EV52) -> 119548.16 | EX52: 235465.22 | EY52: 20349 | EZ52: 22491 | FA52: 294331.53 | FB52: 21420 | FC52: =AVERAGE(EX52:FB52) -> 118811.35 | FD52: 468623.86 | FE52: 58786 | FF52: 64974 | FG52: 585779.83 | FH52: 61880 | FI52: =AVERAGE(FD52:FH52) -> 248008.74 | FJ52: 340708.67 | FK52: 31654 | FL52: 34986 | FM52: 425885.84 | FN52: 33320 | FO52: =AVERAGE(FJ52:FN52) -> 173310.9 | FP52: 313451.98 | FQ52: 22610 | FR52: 24990 | FS52: 391814.98 | FT52: 23800 | FU52: =AVERAGE(FP52:FT52) -> 155333.39 | FV52: 370335.52 | FW52: 27132 | FX52: 29988 | FY52: 462919.39 | FZ52: 28560 | GA52: =AVERAGE(FV52:FZ52) -> 183786.98 | GB52: 398210.23 | GC52: 39567.5 | GD52: 43732.5 | GE52: 497762.79 | GF52: 41650 | GG52: =AVERAGE(GB52:GF52) -> 204184.6 | GH52: 319848.96 | GI52: 21479.5 | GJ52: 23740.5 | GK52: 399811.2 | GL52: 22610 | GM52: =AVERAGE(GH52:GL52) -> 157498.03 | GN52: 326376.49 | GO52: 23740.5 | GP52: 26239.5 | GQ52: 407970.61 | GR52: 24990 | GS52: =AVERAGE(GN52:GR52) -> 161863.42
B53: 4.4 | C53: RETEN BARRAS (JUEGO) | D53: 74375 | E53: 54264 | F53: 59976 | G53: 92968.75 | H53: 57120 | I53: 67473 | J53: 74375 | K53: 61047 | L53: 67473 | M53: 92968.75 | N53: 64260 | O53: 74970 | P53: 87500 | Q53: 67830 | R53: 74970 | S53: 109375 | T53: 71400 | U53: =AVERAGE(P53:T53) -> 82215 | V53: 102941.18 | W53: 94962 | X53: 104958 | Y53: 128676.47 | Z53: 99960 | AA53: =AVERAGE(V53:Z53) -> 106299.53 | AB53: 80842.391 | AC53: 61047 | AD53: 67473 | AE53: 101052.99 | AF53: 64260 | AG53: =AVERAGE(AB53:AF53) -> 74935.076 | AH53: 165277.78 | AI53: 122094 | AJ53: 134946 | AK53: 206597.22 | AL53: 128520 | AM53: =AVERAGE(AH53:AL53) -> 151487 | AN53: 95108.696 | AO53: 64438.5 | AP53: 71221.5 | AQ53: 118885.87 | AR53: 67830 | AS53: =AVERAGE(AN53:AR53) -> 83496.913 | AT53: 111892.58 | AU53: 67830 | AV53: 74970 | AW53: 139865.73 | AX53: 71400 | AY53: =AVERAGE(AT53:AX53) -> 93191.662 | AZ53: 97400.471 | BA53: 57655.5 | BB53: 63724.5 | BC53: 121750.59 | BD53: 60690 | BE53: =AVERAGE(AZ53:BD53) -> 80244.212 | BF53: 98050.202 | BG53: 74613 | BH53: 82467 | BI53: 122562.75 | BJ53: 78540 | BK53: =AVERAGE(BF53:BJ53) -> 91246.591 | BL53: 114176.11 | BM53: 84787.5 | BN53: 93712.5 | BO53: 142720.13 | BP53: 89250 | BQ53: =AVERAGE(BL53:BP53) -> 104929.25 | BR53: 85488.506 | BS53: 71221.5 | BT53: 78718.5 | BU53: 106860.63 | BV53: 74970 | BW53: =AVERAGE(BR53:BV53) -> 83451.828 | BX53: 90945.219 | BY53: 88179 | BZ53: 97461 | CA53: 113681.52 | CB53: 92820 | CC53: =AVERAGE(BX53:CB53) -> 96617.348 | CD53: 166947.25 | CE53: 128877 | CF53: 142443 | CG53: 208684.06 | CH53: 135660 | CI53: =AVERAGE(CD53:CH53) -> 156522.26 | CJ53: 165354.94 | CK53: 98353.5 | CL53: 108706.5 | CM53: 206693.68 | CN53: 103530 | CO53: =AVERAGE(CJ53:CN53) -> 136527.72 | CP53: 100051.23 | CQ53: 24871 | CR53: 27489 | CS53: 125064.03 | CT53: 26180 | CU53: =AVERAGE(CP53:CT53) -> 60731.052 | CV53: 84517.045 | CW53: 20349 | CX53: 22491 | CY53: 105646.31 | CZ53: 21420 | DA53: =AVERAGE(CV53:CZ53) -> 50884.67 | DB53: 83342.671 | DC53: 21479.5 | DD53: 23740.5 | DE53: 104178.34 | DF53: 22610 | DG53: =AVERAGE(DB53:DF53) -> 51070.202 | DH53: 92801.244 | DI53: 29393 | DJ53: 32487 | DK53: 116001.55 | DL53: 30940 | DM53: =AVERAGE(DH53:DL53) -> 60324.56 | DN53: 98262.65 | DO53: 33915 | DP53: 37485 | DQ53: 122828.31 | DR53: 35700 | DS53: =AVERAGE(DN53:DR53) -> 65638.193 | DT53: 222596.33 | DU53: 58786 | DV53: 64974 | DW53: 278245.42 | DX53: 61880 | DY53: =AVERAGE(DT53:DX53) -> 137296.35 | DZ53: 222596.33 | EA53: 61047 | EB53: 67473 | EC53: 278245.42 | ED53: 64260 | EE53: =AVERAGE(DZ53:ED53) -> 138724.35 | EF53: 120185.37 | EG53: 29393 | EH53: 32487 | EI53: 150231.72 | EJ53: 30940 | EK53: =AVERAGE(EF53:EJ53) -> 72647.418 | EL53: 130636.28 | EM53: 42959 | EN53: 47481 | EO53: 163295.35 | EP53: 45220 | EQ53: =AVERAGE(EL53:EP53) -> 85918.324 | ER53: 115377.96 | ES53: 28262.5 | ET53: 31237.5 | EU53: 144222.45 | EV53: 29750 | EW53: =AVERAGE(ER53:EV53) -> 69770.082 | EX53: 117732.61 | EY53: 21479.5 | EZ53: 23740.5 | FA53: 147165.76 | FB53: 22610 | FC53: =AVERAGE(EX53:FB53) -> 66545.675 | FD53: 234311.93 | FE53: 65569 | FF53: 72471 | FG53: 292889.91 | FH53: 69020 | FI53: =AVERAGE(FD53:FH53) -> 146852.37 | FJ53: 170354.34 | FK53: 36176 | FL53: 39984 | FM53: 212942.92 | FN53: 38080 | FO53: =AVERAGE(FJ53:FN53) -> 99507.452 | FP53: 156725.99 | FQ53: 24871 | FR53: 27489 | FS53: 195907.49 | FT53: 26180 | FU53: =AVERAGE(FP53:FT53) -> 86234.696 | FV53: 185167.76 | FW53: 30523.5 | FX53: 33736.5 | FY53: 231459.7 | FZ53: 32130 | GA53: =AVERAGE(FV53:FZ53) -> 102603.49 | GB53: 199105.12 | GC53: 44089.5 | GD53: 48730.5 | GE53: 248881.39 | GF53: 46410 | GG53: =AVERAGE(GB53:GF53) -> 117443.3 | GH53: 159924.48 | GI53: 22610 | GJ53: 24990 | GK53: 199905.6 | GL53: 23800 | GM53: =AVERAGE(GH53:GL53) -> 86246.016 | GN53: 163188.24 | GO53: 26001.5 | GP53: 28738.5 | GQ53: 203985.31 | GR53: 27370 | GS53: =AVERAGE(GN53:GR53) -> 89856.71
B54: 4.5 | C54: RODAMIENTOS DELANTEROS (JUEGO) | D54: 39865 | E54: 61047 | F54: 67473 | G54: 49831.25 | H54: 64260 | I54: 74970 | J54: 39865 | K54: 67830 | L54: 74970 | M54: 49831.25 | N54: 71400 | O54: 82467 | P54: 46900 | Q54: 74613 | R54: 82467 | S54: 58625 | T54: 78540 | U54: =AVERAGE(P54:T54) -> 68229 | V54: 55176.471 | W54: 94962 | X54: 104958 | Y54: 68970.588 | Z54: 99960 | AA54: =AVERAGE(V54:Z54) -> 84805.412 | AB54: 43331.522 | AC54: 67830 | AD54: 74970 | AE54: 54164.402 | AF54: 71400 | AG54: =AVERAGE(AB54:AF54) -> 62339.185 | AH54: 88588.889 | AI54: 122094 | AJ54: 134946 | AK54: 110736.11 | AL54: 128520 | AM54: =AVERAGE(AH54:AL54) -> 116977 | AN54: 50978.261 | AO54: 74613 | AP54: 82467 | AQ54: 63722.826 | AR54: 78540 | AS54: =AVERAGE(AN54:AR54) -> 70064.217 | AT54: 59974.425 | AU54: 78004.5 | AV54: 86215.5 | AW54: 74968.031 | AX54: 82110 | AY54: =AVERAGE(AT54:AX54) -> 76254.491 | AZ54: 52206.653 | BA54: 64438.5 | BB54: 71221.5 | BC54: 65258.316 | BD54: 67830 | BE54: =AVERAGE(AZ54:BD54) -> 64190.994 | BF54: 52554.908 | BG54: 81396 | BH54: 89964 | BI54: 65693.635 | BJ54: 85680 | BK54: =AVERAGE(BF54:BJ54) -> 75057.709 | BL54: 61198.392 | BM54: 88179 | BN54: 97461 | BO54: 76497.991 | BP54: 92820 | BQ54: =AVERAGE(BL54:BP54) -> 83231.277 | BR54: 45821.839 | BS54: 78004.5 | BT54: 86215.5 | BU54: 57277.299 | BV54: 82110 | BW54: =AVERAGE(BR54:BV54) -> 69885.828 | BX54: 48746.637 | BY54: 91570.5 | BZ54: 101209.5 | CA54: 60933.297 | CB54: 96390 | CC54: =AVERAGE(BX54:CB54) -> 79769.987 | CD54: 89483.726 | CE54: 128877 | CF54: 142443 | CG54: 111854.66 | CH54: 135660 | CI54: =AVERAGE(CD54:CH54) -> 121663.68 | CJ54: 88630.25 | CK54: 98353.5 | CL54: 108706.5 | CM54: 110787.81 | CN54: 103530 | CO54: =AVERAGE(CJ54:CN54) -> 102001.61 | CP54: 53627.457 | CQ54: 27132 | CR54: 29988 | CS54: 67034.322 | CT54: 28560 | CU54: =AVERAGE(CP54:CT54) -> 41268.356 | CV54: 45301.136 | CW54: 22610 | CX54: 24990 | CY54: 56626.42 | CZ54: 23800 | DA54: =AVERAGE(CV54:CZ54) -> 34665.511 | DB54: 44671.672 | DC54: 24871 | DD54: 27489 | DE54: 55839.59 | DF54: 26180 | DG54: =AVERAGE(DB54:DF54) -> 35810.252 | DH54: 49741.467 | DI54: 30523.5 | DJ54: 33736.5 | DK54: 62176.833 | DL54: 32130 | DM54: =AVERAGE(DH54:DL54) -> 41661.66 | DN54: 52668.781 | DO54: 33915 | DP54: 37485 | DQ54: 65835.976 | DR54: 35700 | DS54: =AVERAGE(DN54:DR54) -> 45120.951 | DT54: 119311.63 | DU54: 61047 | DV54: 67473 | DW54: 149139.54 | DX54: 64260 | DY54: =AVERAGE(DT54:DX54) -> 92246.236 | DZ54: 119311.63 | EA54: 62177.5 | EB54: 68722.5 | EC54: 149139.54 | ED54: 65450 | EE54: =AVERAGE(DZ54:ED54) -> 92960.236 | EF54: 64419.36 | EG54: 31654 | EH54: 34986 | EI54: 80524.201 | EJ54: 33320 | EK54: =AVERAGE(EF54:EJ54) -> 48980.712 | EL54: 70021.044 | EM54: 42959 | EN54: 47481 | EO54: 87526.305 | EP54: 45220 | EQ54: =AVERAGE(EL54:EP54) -> 58641.47 | ER54: 61842.586 | ES54: 29393 | ET54: 32487 | EU54: 77303.233 | EV54: 30940 | EW54: =AVERAGE(ER54:EV54) -> 46393.164 | EX54: 63104.68 | EY54: 24871 | EZ54: 27489 | FA54: 78880.849 | FB54: 26180 | FC54: =AVERAGE(EX54:FB54) -> 44105.106 | FD54: 125591.19 | FE54: 67830 | FF54: 74970 | FG54: 156988.99 | FH54: 71400 | FI54: =AVERAGE(FD54:FH54) -> 99356.038 | FJ54: 91309.925 | FK54: 36176 | FL54: 39984 | FM54: 114137.41 | FN54: 38080 | FO54: =AVERAGE(FJ54:FN54) -> 63937.466 | FP54: 84005.131 | FQ54: 27132 | FR54: 29988 | FS54: 105006.41 | FT54: 28560 | FU54: =AVERAGE(FP54:FT54) -> 54938.309 | FV54: 99249.918 | FW54: 31654 | FX54: 34986 | FY54: 124062.4 | FZ54: 33320 | GA54: =AVERAGE(FV54:FZ54) -> 64654.463 | GB54: 106720.34 | GC54: 44089.5 | GD54: 48730.5 | GE54: 133400.43 | GF54: 46410 | GG54: =AVERAGE(GB54:GF54) -> 75870.154 | GH54: 85719.521 | GI54: 26001.5 | GJ54: 28738.5 | GK54: 107149.4 | GL54: 27370 | GM54: =AVERAGE(GH54:GL54) -> 54995.784 | GN54: 87468.899 | GO54: 28262.5 | GP54: 31237.5 | GQ54: 109336.12 | GR54: 29750 | GS54: =AVERAGE(GN54:GR54) -> 57211.005
B55: 4.6 | C55: RODAMIENTOS TRASEROS (JUEGO) | D55: 45815 | E55: 67830 | F55: 74970 | G55: 57268.75 | H55: 71400 | I55: 82467 | J55: 45815 | K55: 74613 | L55: 82467 | M55: 57268.75 | N55: 78540 | O55: 89964 | P55: 53900 | Q55: 81396 | R55: 89964 | S55: 67375 | T55: 85680 | U55: =AVERAGE(P55:T55) -> 75663 | V55: 63411.765 | W55: 108528 | X55: 119952 | Y55: 79264.706 | Z55: 114240 | AA55: =AVERAGE(V55:Z55) -> 97079.294 | AB55: 49798.913 | AC55: 74613 | AD55: 82467 | AE55: 62248.641 | AF55: 78540 | AG55: =AVERAGE(AB55:AF55) -> 69533.511 | AH55: 101811.11 | AI55: 135660 | AJ55: 149940 | AK55: 127263.89 | AL55: 142800 | AM55: =AVERAGE(AH55:AL55) -> 131495 | AN55: 58586.957 | AO55: 81396 | AP55: 89964 | AQ55: 73233.696 | AR55: 85680 | AS55: =AVERAGE(AN55:AR55) -> 77772.13 | AT55: 68925.831 | AU55: 84787.5 | AV55: 93712.5 | AW55: 86157.289 | AX55: 89250 | AY55: =AVERAGE(AT55:AX55) -> 84566.624 | AZ55: 59998.69 | BA55: 71221.5 | BB55: 78718.5 | BC55: 74998.363 | BD55: 74970 | BE55: =AVERAGE(AZ55:BD55) -> 71981.411 | BF55: 60398.924 | BG55: 88179 | BH55: 97461 | BI55: 75498.655 | BJ55: 92820 | BK55: =AVERAGE(BF55:BJ55) -> 82871.516 | BL55: 70332.481 | BM55: 98353.5 | BN55: 108706.5 | BO55: 87915.601 | BP55: 103530 | BQ55: =AVERAGE(BL55:BP55) -> 93767.616 | BR55: 52660.92 | BS55: 84787.5 | BT55: 93712.5 | BU55: 65826.149 | BV55: 89250 | BW55: =AVERAGE(BR55:BV55) -> 77247.414 | BX55: 56022.255 | BY55: 101745 | BZ55: 112455 | CA55: 70027.819 | CB55: 107100 | CC55: =AVERAGE(BX55:CB55) -> 89470.015 | CD55: 102839.51 | CE55: 142443 | CF55: 157437 | CG55: 128549.38 | CH55: 149940 | CI55: =AVERAGE(CD55:CH55) -> 136241.78 | CJ55: 101858.65 | CK55: 111919.5 | CL55: 123700.5 | CM55: 127323.31 | CN55: 117810 | CO55: =AVERAGE(CJ55:CN55) -> 116522.39 | CP55: 61631.555 | CQ55: 29393 | CR55: 32487 | CS55: 77039.444 | CT55: 30940 | CU55: =AVERAGE(CP55:CT55) -> 46298.2 | CV55: 52062.5 | CW55: 24871 | CX55: 27489 | CY55: 65078.125 | CZ55: 26180 | DA55: =AVERAGE(CV55:CZ55) -> 39136.125 | DB55: 51339.086 | DC55: 27132 | DD55: 29988 | DE55: 64173.857 | DF55: 28560 | DG55: =AVERAGE(DB55:DF55) -> 40238.589 | DH55: 57165.566 | DI55: 33915 | DJ55: 37485 | DK55: 71456.958 | DL55: 35700 | DM55: =AVERAGE(DH55:DL55) -> 47144.505 | DN55: 60529.793 | DO55: 38437 | DP55: 42483 | DQ55: 75662.241 | DR55: 40460 | DS55: =AVERAGE(DN55:DR55) -> 51514.407 | DT55: 137119.34 | DU55: 65569 | DV55: 72471 | DW55: 171399.18 | DX55: 69020 | DY55: =AVERAGE(DT55:DX55) -> 103115.7 | DZ55: 137119.34 | EA55: 67830 | EB55: 74970 | EC55: 171399.18 | ED55: 71400 | EE55: =AVERAGE(DZ55:ED55) -> 104543.7 | EF55: 74034.19 | EG55: 33915 | EH55: 37485 | EI55: 92542.738 | EJ55: 35700 | EK55: =AVERAGE(EF55:EJ55) -> 54735.386 | EL55: 80471.946 | EM55: 47481 | EN55: 52479 | EO55: 100589.93 | EP55: 49980 | EQ55: =AVERAGE(EL55:EP55) -> 66200.376 | ER55: 71072.823 | ES55: 32784.5 | ET55: 36235.5 | EU55: 88841.028 | EV55: 34510 | EW55: =AVERAGE(ER55:EV55) -> 52688.77 | EX55: 72523.288 | EY55: 27132 | EZ55: 29988 | FA55: 90654.111 | FB55: 28560 | FC55: =AVERAGE(EX55:FB55) -> 49771.48 | FD55: 144336.15 | FE55: 73482.5 | FF55: 81217.5 | FG55: 180420.19 | FH55: 77350 | FI55: =AVERAGE(FD55:FH55) -> 111361.27 | FJ55: 104938.27 | FK55: 40698 | FL55: 44982 | FM55: 131172.84 | FN55: 42840 | FO55: =AVERAGE(FJ55:FN55) -> 72926.222 | FP55: 96543.21 | FQ55: 29393 | FR55: 32487 | FS55: 120679.01 | FT55: 30940 | FU55: =AVERAGE(FP55:FT55) -> 62008.444 | FV55: 114063.34 | FW55: 35045.5 | FX55: 38734.5 | FY55: 142579.17 | FZ55: 36890 | GA55: =AVERAGE(FV55:FZ55) -> 73462.502 | GB55: 122648.75 | GC55: 49742 | GD55: 54978 | GE55: 153310.94 | GF55: 52360 | GG55: =AVERAGE(GB55:GF55) -> 86607.938 | GH55: 98513.479 | GI55: 28262.5 | GJ55: 31237.5 | GK55: 123141.85 | GL55: 29750 | GM55: =AVERAGE(GH55:GL55) -> 62181.066 | GN55: 100523.96 | GO55: 30523.5 | GP55: 33736.5 | GQ55: 125654.95 | GR55: 32130 | GS55: =AVERAGE(GN55:GR55) -> 64513.781
B56: 4.7 | C56: SOPORTE O PATA LATERAL | D56: 77350 | E56: 61047 | F56: 67473 | G56: 96687.5 | H56: 64260 | I56: 74970 | J56: 77350 | K56: 67830 | L56: 74970 | M56: 96687.5 | N56: 71400 | O56: 82467 | P56: 91000 | Q56: 74613 | R56: 82467 | S56: 113750 | T56: 78540 | U56: =AVERAGE(P56:T56) -> 88074 | V56: 107058.82 | W56: 94962 | X56: 104958 | Y56: 133823.53 | Z56: 99960 | AA56: =AVERAGE(V56:Z56) -> 108152.47 | AB56: 84076.087 | AC56: 67830 | AD56: 74970 | AE56: 105095.11 | AF56: 71400 | AG56: =AVERAGE(AB56:AF56) -> 80674.239 | AH56: 171888.89 | AI56: 118702.5 | AJ56: 131197.5 | AK56: 214861.11 | AL56: 124950 | AM56: =AVERAGE(AH56:AL56) -> 152320 | AN56: 98913.043 | AO56: 74613 | AP56: 82467 | AQ56: 123641.3 | AR56: 78540 | AS56: =AVERAGE(AN56:AR56) -> 91634.87 | AT56: 116368.29 | AU56: 78004.5 | AV56: 86215.5 | AW56: 145460.36 | AX56: 82110 | AY56: =AVERAGE(AT56:AX56) -> 101631.73 | AZ56: 101296.49 | BA56: 64438.5 | BB56: 71221.5 | BC56: 126620.61 | BD56: 67830 | BE56: =AVERAGE(AZ56:BD56) -> 86281.421 | BF56: 101972.21 | BG56: 81396 | BH56: 89964 | BI56: 127465.26 | BJ56: 85680 | BK56: =AVERAGE(BF56:BJ56) -> 97295.494 | BL56: 118743.15 | BM56: 88179 | BN56: 97461 | BO56: 148428.94 | BP56: 92820 | BQ56: =AVERAGE(BL56:BP56) -> 109126.42 | BR56: 88908.046 | BS56: 78004.5 | BT56: 86215.5 | BU56: 111135.06 | BV56: 82110 | BW56: =AVERAGE(BR56:BV56) -> 89274.621 | BX56: 94583.028 | BY56: 91570.5 | BZ56: 101209.5 | CA56: 118228.78 | CB56: 96390 | CC56: =AVERAGE(BX56:CB56) -> 100396.36 | CD56: 173625.14 | CE56: 128877 | CF56: 142443 | CG56: 217031.43 | CH56: 135660 | CI56: =AVERAGE(CD56:CH56) -> 159527.31 | CJ56: 171969.14 | CK56: 98353.5 | CL56: 108706.5 | CM56: 214961.43 | CN56: 103530 | CO56: =AVERAGE(CJ56:CN56) -> 139504.11 | CP56: 104053.28 | CQ56: 27132 | CR56: 29988 | CS56: 130066.59 | CT56: 28560 | CU56: =AVERAGE(CP56:CT56) -> 63959.974 | CV56: 87897.727 | CW56: 22610 | CX56: 24990 | CY56: 109872.16 | CZ56: 23800 | DA56: =AVERAGE(CV56:CZ56) -> 53833.977 | DB56: 86676.378 | DC56: 24871 | DD56: 27489 | DE56: 108345.47 | DF56: 26180 | DG56: =AVERAGE(DB56:DF56) -> 54712.37 | DH56: 96513.294 | DI56: 30523.5 | DJ56: 33736.5 | DK56: 120641.62 | DL56: 32130 | DM56: =AVERAGE(DH56:DL56) -> 62708.982 | DN56: 102193.16 | DO56: 33915 | DP56: 37485 | DQ56: 127741.45 | DR56: 35700 | DS56: =AVERAGE(DN56:DR56) -> 67406.92 | DT56: 231500.19 | DU56: 58786 | DV56: 64974 | DW56: 289375.23 | DX56: 61880 | DY56: =AVERAGE(DT56:DX56) -> 141303.08 | DZ56: 231500.19 | EA56: 61047 | EB56: 67473 | EC56: 289375.23 | ED56: 64260 | EE56: =AVERAGE(DZ56:ED56) -> 142731.08 | EF56: 124992.79 | EG56: 31654 | EH56: 34986 | EI56: 156240.99 | EJ56: 33320 | EK56: =AVERAGE(EF56:EJ56) -> 76238.755 | EL56: 135861.73 | EM56: 40698 | EN56: 44982 | EO56: 169827.16 | EP56: 42840 | EQ56: =AVERAGE(EL56:EP56) -> 86841.777 | ER56: 119993.08 | ES56: 29393 | ET56: 32487 | EU56: 149991.35 | EV56: 30940 | EW56: =AVERAGE(ER56:EV56) -> 72560.885 | EX56: 122441.92 | EY56: 24871 | EZ56: 27489 | FA56: 153052.39 | FB56: 26180 | FC56: =AVERAGE(EX56:FB56) -> 70806.862 | FD56: 243684.41 | FE56: 65569 | FF56: 72471 | FG56: 304605.51 | FH56: 69020 | FI56: =AVERAGE(FD56:FH56) -> 151069.98 | FJ56: 177168.51 | FK56: 36176 | FL56: 39984 | FM56: 221460.64 | FN56: 38080 | FO56: =AVERAGE(FJ56:FN56) -> 102573.83 | FP56: 162995.03 | FQ56: 27132 | FR56: 29988 | FS56: 203743.79 | FT56: 28560 | FU56: =AVERAGE(FP56:FT56) -> 90483.763 | FV56: 192574.47 | FW56: 31654 | FX56: 34986 | FY56: 240718.08 | FZ56: 33320 | GA56: =AVERAGE(FV56:FZ56) -> 106650.51 | GB56: 207069.32 | GC56: 42959 | GD56: 47481 | GE56: 258836.65 | GF56: 45220 | GG56: =AVERAGE(GB56:GF56) -> 120313.19 | GH56: 166321.46 | GI56: 26001.5 | GJ56: 28738.5 | GK56: 207901.82 | GL56: 27370 | GM56: =AVERAGE(GH56:GL56) -> 91266.656 | GN56: 169715.77 | GO56: 28262.5 | GP56: 31237.5 | GQ56: 212144.72 | GR56: 29750 | GS56: =AVERAGE(GN56:GR56) -> 94222.098
B57: 4.8 | C57: TIJERA | D57: 292502 | E57: 356107.5 | F57: 393592.5 | G57: 365627.5 | H57: 374850 | I57: 449820 | J57: 292502 | K57: 406980 | L57: 449820 | M57: 365627.5 | N57: 428400 | O57: 468562.5 | P57: 344120 | Q57: 423937.5 | R57: 468562.5 | S57: 430150 | T57: 446250 | U57: =AVERAGE(P57:T57) -> 422604 | V57: 404847.06 | W57: 627427.5 | X57: 693472.5 | Y57: 506058.82 | Z57: 660450 | AA57: =AVERAGE(V57:Z57) -> 578451.18 | AB57: 317936.96 | AC57: 390022.5 | AD57: 431077.5 | AE57: 397421.2 | AF57: 410550 | AG57: =AVERAGE(AB57:AF57) -> 389401.63 | AH57: 650004.44 | AI57: 780045 | AJ57: 862155 | AK57: 812505.56 | AL57: 821100 | AM57: =AVERAGE(AH57:AL57) -> 785162 | AN57: 374043.48 | AO57: 406980 | AP57: 449820 | AQ57: 467554.35 | AR57: 428400 | AS57: =AVERAGE(AN57:AR57) -> 425359.57 | AT57: 440051.15 | AU57: 423937.5 | AV57: 468562.5 | AW57: 550063.94 | AX57: 446250 | AY57: =AVERAGE(AT57:AX57) -> 465773.02 | AZ57: 383056.57 | BA57: 373065 | BB57: 412335 | BC57: 478820.72 | BD57: 392700 | BE57: =AVERAGE(AZ57:BD57) -> 407995.46 | BF57: 385611.83 | BG57: 457852.5 | BH57: 506047.5 | BI57: 482014.79 | BJ57: 481950 | BK57: =AVERAGE(BF57:BJ57) -> 462695.32 | BL57: 449031.79 | BM57: 542640 | BN57: 599760 | BO57: 561289.73 | BP57: 571200 | BQ57: =AVERAGE(BL57:BP57) -> 544784.3 | BR57: 336209.2 | BS57: 457852.5 | BT57: 506047.5 | BU57: 420261.49 | BV57: 481950 | BW57: =AVERAGE(BR57:BV57) -> 440464.14 | BX57: 357669.36 | BY57: 559597.5 | BZ57: 618502.5 | CA57: 447086.7 | CB57: 589050 | CC57: =AVERAGE(BX57:CB57) -> 514381.21 | CD57: 656570.15 | CE57: 847875 | CF57: 937125 | CG57: 820712.68 | CH57: 892500 | CI57: =AVERAGE(CD57:CH57) -> 830956.57 | CJ57: 650307.92 | CK57: 644385 | CL57: 712215 | CM57: 812884.9 | CN57: 678300 | CO57: =AVERAGE(CJ57:CN57) -> 699618.56 | CP57: 393481.46 | CQ57: 158270 | CR57: 174930 | CS57: 491851.83 | CT57: 166600 | CU57: =AVERAGE(CP57:CT57) -> 277026.66 | CV57: 332388.64 | CW57: 130007.5 | CX57: 143692.5 | CY57: 415485.8 | CZ57: 136850 | DA57: =AVERAGE(CV57:CZ57) -> 231684.89 | DB57: 327770.06 | DC57: 135660 | DD57: 149940 | DE57: 409712.57 | DF57: 142800 | DG57: =AVERAGE(DB57:DF57) -> 233176.53 | DH57: 364968.73 | DI57: 186532.5 | DJ57: 206167.5 | DK57: 456210.91 | DL57: 196350 | DM57: =AVERAGE(DH57:DL57) -> 282045.93 | DN57: 386447.35 | DO57: 220447.5 | DP57: 243652.5 | DQ57: 483059.19 | DR57: 232050 | DS57: =AVERAGE(DN57:DR57) -> 313131.31 | DT57: 875426.86 | DU57: 406980 | DV57: 449820 | DW57: 1094283.6 | DX57: 428400 | DY57: =AVERAGE(DT57:DX57) -> 650982.09 | DZ57: 875426.86 | EA57: 418285 | EB57: 462315 | EC57: 1094283.6 | ED57: 440300 | EE57: =AVERAGE(DZ57:ED57) -> 658122.09 | EF57: 472665.04 | EG57: 192185 | EH57: 212415 | EI57: 590831.3 | EJ57: 202300 | EK57: =AVERAGE(EF57:EJ57) -> 334079.27 | EL57: 513766.35 | EM57: 271320 | EN57: 299880 | EO57: 642207.93 | EP57: 285600 | EQ57: =AVERAGE(EL57:EP57) -> 402554.86 | ER57: 453758.44 | ES57: 180880 | ET57: 199920 | EU57: 567198.05 | EV57: 190400 | EW57: =AVERAGE(ER57:EV57) -> 318431.3 | EX57: 463018.81 | EY57: 135660 | EZ57: 149940 | FA57: 578773.52 | FB57: 142800 | FC57: =AVERAGE(EX57:FB57) -> 294038.47 | FD57: 921501.96 | FE57: 440895 | FF57: 487305 | FG57: 1151877.4 | FH57: 464100 | FI57: =AVERAGE(FD57:FH57) -> 693135.88 | FJ57: 669969.54 | FK57: 237405 | FL57: 262395 | FM57: 837461.92 | FN57: 249900 | FO57: =AVERAGE(FJ57:FN57) -> 451426.29 | FP57: 616371.97 | FQ57: 163922.5 | FR57: 181177.5 | FS57: 770464.97 | FT57: 172550 | FU57: =AVERAGE(FP57:FT57) -> 380897.39 | FV57: 728227.76 | FW57: 197837.5 | FX57: 218662.5 | FY57: 910284.7 | FZ57: 208250 | GA57: =AVERAGE(FV57:FZ57) -> 452652.49 | GB57: 783040.6 | GC57: 288277.5 | GD57: 318622.5 | GE57: 978800.75 | GF57: 303450 | GG57: =AVERAGE(GB57:GF57) -> 534438.27 | GH57: 628950.99 | GI57: 141312.5 | GJ57: 156187.5 | GK57: 786188.74 | GL57: 148750 | GM57: =AVERAGE(GH57:GL57) -> 372277.95 | GN57: 641786.73 | GO57: 163922.5 | GP57: 181177.5 | GQ57: 802233.41 | GR57: 172550 | GS57: =AVERAGE(GN57:GR57) -> 392334.03
B58: 5 | C58: SISTEMA DE DIRECCION | D58: 0 | E58: 0 | F58: 0 | G58: 0 | H58: 0 | I58: 0 | J58: 0 | K58: 0 | L58: 0 | M58: 0 | N58: 0 | O58: 0 | P58: 0 | Q58: 0 | R58: 0 | S58: 0 | T58: 0 | V58: 0 | W58: 0 | X58: 0 | Y58: 0 | Z58: 0 | AB58: 0 | AC58: 0 | AD58: 0 | AE58: 0 | AF58: 0 | AH58: 0 | AI58: 0 | AJ58: 0 | AK58: 0 | AL58: 0 | AN58: 0 | AO58: 0 | AP58: 0 | AQ58: 0 | AR58: 0 | AT58: 0 | AU58: 0 | AV58: 0 | AW58: 0 | AX58: 0 | AZ58: 0 | BA58: 0 | BB58: 0 | BC58: 0 | BD58: 0 | BE58: 0 | BF58: 0 | BG58: 0 | BH58: 0 | BI58: 0 | BJ58: 0 | BL58: 0 | BM58: 0 | BN58: 0 | BO58: 0 | BP58: 0 | BR58: 0 | BS58: 0 | BT58: 0 | BU58: 0 | BV58: 0 | BX58: 0 | BY58: 0 | BZ58: 0 | CA58: 0 | CB58: 0 | CD58: 0 | CE58: 0 | CF58: 0 | CG58: 0 | CH58: 0 | CJ58: 0 | CK58: 0 | CL58: 0 | CM58: 0 | CN58: 0 | CP58: 0 | CQ58: 0 | CR58: 0 | CS58: 0 | CT58: 0 | CV58: 0 | CW58: 0 | CX58: 0 | CY58: 0 | CZ58: 0 | DB58: 0 | DC58: 0 | DD58: 0 | DE58: 0 | DF58: 0 | DH58: 0 | DI58: 0 | DJ58: 0 | DK58: 0 | DL58: 0 | DN58: 0 | DO58: 0 | DP58: 0 | DQ58: 0 | DR58: 0 | DT58: 0 | DU58: 0 | DV58: 0 | DW58: 0 | DX58: 0 | DZ58: 0 | EA58: 0 | EB58: 0 | EC58: 0 | ED58: 0 | EF58: 0 | EG58: 0 | EH58: 0 | EI58: 0 | EJ58: 0 | EL58: 0 | EM58: 0 | EN58: 0 | EO58: 0 | EP58: 0 | ER58: 0 | ES58: 0 | ET58: 0 | EU58: 0 | EV58: 0 | EX58: 0 | EY58: 0 | EZ58: 0 | FA58: 0 | FB58: 0 | FD58: 0 | FE58: 0 | FF58: 0 | FG58: 0 | FH58: 0 | FJ58: 0 | FK58: 0 | FL58: 0 | FM58: 0 | FN58: 0 | FP58: 0 | FQ58: 0 | FR58: 0 | FS58: 0 | FT58: 0 | FV58: 0 | FW58: 0 | FX58: 0 | FY58: 0 | FZ58: 0 | GB58: 0 | GC58: 0 | GD58: 0 | GE58: 0 | GF58: 0 | GH58: 0 | GI58: 0 | GJ58: 0 | GK58: 0 | GL58: 0 | GN58: 0 | GO58: 0 | GP58: 0 | GQ58: 0 | GR58: 0
B59: 5.1 | C59: CUNAS DIRECCION | D59: 149816.24 | E59: 81396 | F59: 89964 | G59: 187270.3 | H59: 85680 | I59: 97461 | J59: 149816.24 | K59: 88179 | L59: 97461 | M59: 187270.3 | N59: 92820 | O59: 104958 | P59: 176254.4 | Q59: 94962 | R59: 104958 | S59: 220318 | T59: 99960 | U59: =AVERAGE(P59:T59) -> 139290.48 | V59: 207358.12 | W59: 142443 | X59: 157437 | Y59: 259197.65 | Z59: 149940 | AA59: =AVERAGE(V59:Z59) -> 183275.15 | AB59: 162843.74 | AC59: 84787.5 | AD59: 93712.5 | AE59: 203554.67 | AF59: 89250 | AG59: =AVERAGE(AB59:AF59) -> 126829.68 | AH59: 332924.98 | AI59: 176358 | AJ59: 194922 | AK59: 416156.22 | AL59: 185640 | AM59: =AVERAGE(AH59:AL59) -> 261200.24 | AN59: 191580.87 | AO59: 94962 | AP59: 104958 | AQ59: 239476.09 | AR59: 99960 | AS59: =AVERAGE(AN59:AR59) -> 146187.39 | AT59: 225389.26 | AU59: 101745 | AV59: 112455 | AW59: 281736.57 | AX59: 107100 | AY59: =AVERAGE(AT59:AX59) -> 165685.17 | AZ59: 196197.28 | BA59: 81396 | BB59: 89964 | BC59: 245246.6 | BD59: 85680 | BE59: =AVERAGE(AZ59:BD59) -> 139696.77 | BF59: 197506.05 | BG59: 108528 | BH59: 119952 | BI59: 246882.56 | BJ59: 114240 | BK59: =AVERAGE(BF59:BJ59) -> 157421.72 | BL59: 229989.04 | BM59: 122094 | BN59: 134946 | BO59: 287486.3 | BP59: 128520 | BQ59: =AVERAGE(BL59:BP59) -> 180607.07 | BR59: 172202.57 | BS59: 101745 | BT59: 112455 | BU59: 215253.22 | BV59: 107100 | BW59: =AVERAGE(BR59:BV59) -> 141751.16 | BX59: 183194.23 | BY59: 122094 | BZ59: 134946 | CA59: 228992.79 | CB59: 128520 | CC59: =AVERAGE(BX59:CB59) -> 159549.4 | CD59: 336287.86 | CE59: 186532.5 | CF59: 206167.5 | CG59: 420359.82 | CH59: 196350 | CI59: =AVERAGE(CD59:CH59) -> 269139.54 | CJ59: 333080.42 | CK59: 142443 | CL59: 157437 | CM59: 416350.52 | CN59: 149940 | CO59: =AVERAGE(CJ59:CN59) -> 239850.19 | CP59: 201536.79 | CQ59: 36176 | CR59: 39984 | CS59: 251920.98 | CT59: 38080 | CU59: =AVERAGE(CP59:CT59) -> 113539.55 | CV59: 170245.73 | CW59: 28262.5 | CX59: 31237.5 | CY59: 212807.16 | CZ59: 29750 | DA59: =AVERAGE(CV59:CZ59) -> 94460.577 | DB59: 167880.14 | DC59: 31654 | DD59: 34986 | DE59: 209850.18 | DF59: 33320 | DG59: =AVERAGE(DB59:DF59) -> 95538.065 | DH59: 186932.89 | DI59: 40698 | DJ59: 44982 | DK59: 233666.11 | DL59: 42840 | DM59: =AVERAGE(DH59:DL59) -> 109823.8 | DN59: 197933.99 | DO59: 49742 | DP59: 54978 | DQ59: 247417.49 | DR59: 52360 | DS59: =AVERAGE(DN59:DR59) -> 120486.3 | DT59: 448383.81 | DU59: 88179 | DV59: 97461 | DW59: 560479.76 | DX59: 92820 | DY59: =AVERAGE(DT59:DX59) -> 257464.71 | DZ59: 448383.81 | EA59: 90440 | EB59: 99960 | EC59: 560479.76 | ED59: 95200 | EE59: =AVERAGE(DZ59:ED59) -> 258892.71 | EF59: 242093.73 | EG59: 42959 | EH59: 47481 | EI59: 302617.16 | EJ59: 45220 | EK59: =AVERAGE(EF59:EJ59) -> 136074.18 | EL59: 263145.35 | EM59: 61047 | EN59: 67473 | EO59: 328931.69 | EP59: 64260 | EQ59: =AVERAGE(EL59:EP59) -> 156971.41 | ER59: 232409.98 | ES59: 40698 | ET59: 44982 | EU59: 290512.47 | EV59: 42840 | EW59: =AVERAGE(ER59:EV59) -> 130288.49 | EX59: 237153.04 | EY59: 31654 | EZ59: 34986 | FA59: 296441.3 | FB59: 33320 | FC59: =AVERAGE(EX59:FB59) -> 126710.87 | FD59: 471982.96 | FE59: 96092.5 | FF59: 106207.5 | FG59: 589978.7 | FH59: 101150 | FI59: =AVERAGE(FD59:FH59) -> 273082.33 | FJ59: 343150.87 | FK59: 52003 | FL59: 57477 | FM59: 428938.59 | FN59: 54740 | FO59: =AVERAGE(FJ59:FN59) -> 187261.89 | FP59: 315698.8 | FQ59: 36176 | FR59: 39984 | FS59: 394623.5 | FT59: 38080 | FU59: =AVERAGE(FP59:FT59) -> 164912.46 | FV59: 372990.08 | FW59: 42959 | FX59: 47481 | FY59: 466237.6 | FZ59: 45220 | GA59: =AVERAGE(FV59:FZ59) -> 194977.54 | GB59: 401064.6 | GC59: 63308 | GD59: 69972 | GE59: 501330.75 | GF59: 66640 | GG59: =AVERAGE(GB59:GF59) -> 220463.07 | GH59: 322141.64 | GI59: 33915 | GJ59: 37485 | GK59: 402677.05 | GL59: 35700 | GM59: =AVERAGE(GH59:GL59) -> 166383.74 | GN59: 328715.96 | GO59: 38437 | GP59: 42483 | GQ59: 410894.94 | GR59: 40460 | GS59: =AVERAGE(GN59:GR59) -> 172198.18
