Workbook

Sheet REPUESTOS
B2: PRECIOTECHO LOTE 1 | D2: Mantenimiento preventivo y correctivo integral a todo costo (incluidos repuestos, mano de obra y accesorios originales u homologados) de las motocicletas que se encuentran al servicio de la Fiscalía General de la Nación en las Seccionales Cali, Cauca, Nariño y Valle del Cauca. | AH2: RESPUESTOS MOTOCICLETAS MULTIMARCAS | BL2: RESPUESTOS MOTOCICLETAS MULTIMARCAS
AH3: MANTENIMIENTO MOTOCICLETAS | BL3: MANTENIMIENTO MOTOCICLETAS
AH4: *** Incluye Costos Directos e Indirectos | BL4: *** Incluye Costos Directos e Indirectos
B6: DESCRIPCION | D6: AKT 125 NKD | J6: AKT AK125 BR - TTR | P6: BAJAJ DISCOVER 125 | V6: BAJAJ PULSAR NS 200 | AB6: HONDA BIZ C100 | AH6: HONDA CB 250 TWISTER | AN6: HONDA CB 110 | AT6: HONDA CB 125 | AZ6: HONDA ECO DELUXE | BF6: HONDA ELITE | BL6: HONDA INVICTA | BR6: HONDA NXR125 | BX6: HONDA XR 150 | CD6: HONDA XR 250 TORNADO | CJ6: HONDA XR 190 | CP6: KYMCO AGILITY FUSION | CV6: SUZUKI AX4 | DB6: SUZUKI BEST 125 | DH6: SUZUKI DR 150 | DN6: SUZUKI DR 200 | DT6: SUZUKI DR 650 | DZ6: SUZUKI FREEWIND XF 650 | EF6: YAMAHA FZ16 | EL6: YAMAHA FZN250 | ER6: YAMAHA SZ15RR | EX6: YAMAHA T115FI | FD6: YAMAHA XT 660 2012 | FJ6: YAMAHA XT-225D 2007 | FP6: YAMAHA XTZ 125 | FV6: YAMAHA XTZ 150 | GB6: YAMAHA XTZ 250 | GH6: YAMAHA YBR-125ED | GN6: YAMAHA YW-125
D7: COTIZACION 1 ARAAUTOS | E7: COTIZACION 2 AUTO CAMPERO | F7: COTIZACION 3 VALLE S.A.S. SERAUTOVALLE S.A.S. | G7: COTIZACION 4 GLOBOLLANTAS S.A.S | H7: COTIZACION 5 SUPERITAJE S.A.S | I7: PRECIO TECHO | J7: COTIZACION 1 ARAAUTOS | K7: COTIZACION 2 AUTO CAMPERO | L7: COTIZACION 3 VALLE S.A.S. SERAUTOVALLE S.A.S. | M7: COTIZACION 4 GLOBOLLANTAS S.A.S | N7: COTIZACION 5 SUPERITAJE S.A.S | O7: PRECIO TECHO | P7: COTIZACION 1 ARAAUTOS | Q7: COTIZACION 2 AUTO CAMPERO | R7: COTIZACION 3 VALLE S.A.S. SERAUTOVALLE S.A.S. | S7: COTIZACION 4 GLOBOLLANTAS S.A.S | T7: COTIZACION 5 SUPERITAJE S.A.S | U7: PRECIO TECHO | V7: COTIZACION 1 ARAAUTOS | W7: COTIZACION 2 AUTO CAMPERO | X7: COTIZACION 3 VALLE S.A.S. SERAUTOVALLE S.A.S. | Y7: COTIZACION 4 GLOBOLLANTAS S.A.S | Z7: COTIZACION 5 SUPERITAJE S.A.S | AA7: PRECIO TECHO | AB7: COTIZACION 1 ARAAUTOS | AC7: COTIZACION 2 AUTO CAMPERO | AD7: COTIZACION 3 VALLE S.A.S. SERAUTOVALLE S.A.S. | AE7: COTIZACION 4 GLOBOLLANTAS S.A.S | AF7: COTIZACION 5 SUPERITAJE S.A.S | AG7: PRECIO TECHO | AH7: COTIZACION 1 ARAAUTOS | AI7: COTIZACION 2 AUTO CAMPERO | AJ7: COTIZACION 3 VALLE S.A.S. SERAUTOVALLE S.A.S. | AK7: COTIZACION 4 GLOBOLLANTAS S.A.S | AL7: COTIZACION 5 SUPERITAJE S.A.S | AM7: PRECIO TECHO | AN7: COTIZACION 1 ARAAUTOS | AO7: COTIZACION 2 AUTO CAMPERO | AP7: COTIZACION 3 VALLE S.A.S. SERAUTOVALLE S.A.S. | AQ7: COTIZACION 4 GLOBOLLANTAS S.A.S | AR7: COTIZACION 5 SUPERITAJE S.A.S | AS7: PRECIO TECHO | AT7: COTIZACION 1 ARAAUTOS | AU7: COTIZACION 2 AUTO CAMPERO | AV7: COTIZACION 3 VALLE S.A.S. SERAUTOVALLE S.A.S. | AW7: COTIZACION 4 GLOBOLLANTAS S.A.S | AX7: COTIZACION 5 SUPERITAJE S.A.S | AY7: PRECIO TECHO | AZ7: COTIZACION 1 ARAAUTOS | BA7: COTIZACION 2 AUTO CAMPERO | BB7: COTIZACION 3 VALLE S.A.S. SERAUTOVALLE S.A.S. | BC7: COTIZACION 4 GLOBOLLANTAS S.A.S | BD7: COTIZACION 5 SUPERITAJE S.A.S | BE7: PRECIO TECHO | BF7: COTIZACION 1 ARAAUTOS | BG7: COTIZACION 2 AUTO CAMPERO | BH7: COTIZACION 3 VALLE S.A.S. SERAUTOVALLE S.A.S. | BI7: COTIZACION 4 GLOBOLLANTAS S.A.S | BJ7: COTIZACION 5 SUPERITAJE S.A.S | BK7: PRECIO TECHO | BL7: COTIZACION 1 ARAAUTOS | BM7: COTIZACION 2 AUTO CAMPERO | BN7: COTIZACION 3 VALLE S.A.S. SERAUTOVALLE S.A.S. | BO7: COTIZACION 4 GLOBOLLANTAS S.A.S | BP7: COTIZACION 5 SUPERITAJE S.A.S | BQ7: PRECIO TECHO | BR7: COTIZACION 1 ARAAUTOS | BS7: COTIZACION 2 AUTO CAMPERO | BT7: COTIZACION 3 VALLE S.A.S. SERAUTOVALLE S.A.S. | BU7: COTIZACION 4 GLOBOLLANTAS S.A.S | BV7: COTIZACION 5 SUPERITAJE S.A.S | BW7: PRECIO TECHO | BX7: COTIZACION 1 ARAAUTOS | BY7: COTIZACION 2 AUTO CAMPERO | BZ7: COTIZACION 3 VALLE S.A.S. SERAUTOVALLE S.A.S. | CA7: COTIZACION 4 GLOBOLLANTAS S.A.S | CB7: COTIZACION 5 SUPERITAJE S.A.S | CC7: PRECIO TECHO | CD7: COTIZACION 1 ARAAUTOS | CE7: COTIZACION 2 AUTO CAMPERO | CF7: COTIZACION 3 VALLE S.A.S. SERAUTOVALLE S.A.S. | CG7: COTIZACION 4 GLOBOLLANTAS S.A.S | CH7: COTIZACION 5 SUPERITAJE S.A.S | CI7: PRECIO TECHO | CJ7: COTIZACION 1 ARAAUTOS | CK7: COTIZACION 2 AUTO CAMPERO | CL7: COTIZACION 3 VALLE S.A.S. SERAUTOVALLE S.A.S. | CM7: COTIZACION 4 GLOBOLLANTAS S.A.S | CN7: COTIZACION 5 SUPERITAJE S.A.S | CO7: PRECIO TECHO | CP7: COTIZACION 1 ARAAUTOS | CQ7: COTIZACION 2 AUTO CAMPERO | CR7: COTIZACION 3 VALLE S.A.S. SERAUTOVALLE S.A.S. | CS7: COTIZACION 4 GLOBOLLANTAS S.A.S | CT7: COTIZACION 5 SUPERITAJE S.A.S | CU7: PRECIO TECHO | CV7: COTIZACION 1 ARAAUTOS | CW7: COTIZACION 2 AUTO CAMPERO | CX7: COTIZACION 3 VALLE S.A.S. SERAUTOVALLE S.A.S. | CY7: COTIZACION 4 GLOBOLLANTAS S.A.S | CZ7: COTIZACION 5 SUPERITAJE S.A.S | DA7: PRECIO TECHO | DB7: COTIZACION 1 ARAAUTOS | DC7: COTIZACION 2 AUTO CAMPERO | DD7: COTIZACION 3 VALLE S.A.S. SERAUTOVALLE S.A.S. | DE7: COTIZACION 4 GLOBOLLANTAS S.A.S | DF7: COTIZACION 5 SUPERITAJE S.A.S | DG7: PRECIO TECHO | DH7: COTIZACION 1 ARAAUTOS | DI7: COTIZACION 2 AUTO CAMPERO | DJ7: COTIZACION 3 VALLE S.A.S. SERAUTOVALLE S.A.S. | DK7: COTIZACION 4 GLOBOLLANTAS S.A.S | DL7: COTIZACION 5 SUPERITAJE S.A.S | DM7: PRECIO TECHO | DN7: COTIZACION 1 ARAAUTOS | DO7: COTIZACION 2 AUTO CAMPERO | DP7: COTIZACION 3 VALLE S.A.S. SERAUTOVALLE S.A.S. | DQ7: COTIZACION 4 GLOBOLLANTAS S.A.S | DR7: COTIZACION 5 SUPERITAJE S.A.S | DS7: PRECIO TECHO | DT7: COTIZACION 1 ARAAUTOS | DU7: COTIZACION 2 AUTO CAMPERO | DV7: COTIZACION 3 VALLE S.A.S. SERAUTOVALLE S.A.S. | DW7: COTIZACION 4 GLOBOLLANTAS S.A.S | DX7: COTIZACION 5 SUPERITAJE S.A.S | DY7: PRECIO TECHO | DZ7: COTIZACION 1 ARAAUTOS | EA7: COTIZACION 2 AUTO CAMPERO | EB7: COTIZACION 3 VALLE S.A.S. SERAUTOVALLE S.A.S. | EC7: COTIZACION 4 GLOBOLLANTAS S.A.S | ED7: COTIZACION 5 SUPERITAJE S.A.S | EE7: PRECIO TECHO | EF7: COTIZACION 1 ARAAUTOS | EG7: COTIZACION 2 AUTO CAMPERO | EH7: COTIZACION 3 VALLE S.A.S. SERAUTOVALLE S.A.S. | EI7: COTIZACION 4 GLOBOLLANTAS S.A.S | EJ7: COTIZACION 5 SUPERITAJE S.A.S | EK7: PRECIO TECHO | EL7: COTIZACION 1 ARAAUTOS | EM7: COTIZACION 2 AUTO CAMPERO | EN7: COTIZACION 3 VALLE S.A.S. SERAUTOVALLE S.A.S. | EO7: COTIZACION 4 GLOBOLLANTAS S.A.S | EP7: COTIZACION 5 SUPERITAJE S.A.S | EQ7: PRECIO TECHO | ER7: COTIZACION 1 ARAAUTOS | ES7: COTIZACION 2 AUTO CAMPERO | ET7: COTIZACION 3 VALLE S.A.S. SERAUTOVALLE S.A.S. | EU7: COTIZACION 4 GLOBOLLANTAS S.A.S | EV7: COTIZACION 5 SUPERITAJE S.A.S | EW7: PRECIO TECHO | EX7: COTIZACION 1 ARAAUTOS | EY7: COTIZACION 2 AUTO CAMPERO | EZ7: COTIZACION 3 VALLE S.A.S. SERAUTOVALLE S.A.S. | FA7: COTIZACION 4 GLOBOLLANTAS S.A.S | FB7: COTIZACION 5 SUPERITAJE S.A.S | FC7: PRECIO TECHO | FD7: COTIZACION 1 ARAAUTOS | FE7: COTIZACION 2 AUTO CAMPERO | FF7: COTIZACION 3 VALLE S.A.S. SERAUTOVALLE S.A.S. | FG7: COTIZACION 4 GLOBOLLANTAS S.A.S | FH7: COTIZACION 5 SUPERITAJE S.A.S | FI7: PRECIO TECHO | FJ7: COTIZACION 1 ARAAUTOS | FK7: COTIZACION 2 AUTO CAMPERO | FL7: COTIZACION 3 VALLE S.A.S. SERAUTOVALLE S.A.S. | FM7: COTIZACION 4 GLOBOLLANTAS S.A.S | FN7: COTIZACION 5 SUPERITAJE S.A.S | FO7: PRECIO TECHO | FP7: COTIZACION 1 ARAAUTOS | FQ7: COTIZACION 2 AUTO CAMPERO | FR7: COTIZACION 3 VALLE S.A.S. SERAUTOVALLE S.A.S. | FS7: COTIZACION 4 GLOBOLLANTAS S.A.S | FT7: COTIZACION 5 SUPERITAJE S.A.S | FU7: PRECIO TECHO | FV7: COTIZACION 1 ARAAUTOS | FW7: COTIZACION 2 AUTO CAMPERO | FX7: COTIZACION 3 VALLE S.A.S. SERAUTOVALLE S.A.S. | FY7: COTIZACION 4 GLOBOLLANTAS S.A.S | FZ7: COTIZACION 5 SUPERITAJE S.A.S | GA7: PRECIO TECHO | GB7: COTIZACION 1 ARAAUTOS | GC7: COTIZACION 2 AUTO CAMPERO | GD7: COTIZACION 3 VALLE S.A.S. SERAUTOVALLE S.A.S. | GE7: COTIZACION 4 GLOBOLLANTAS S.A.S | GF7: COTIZACION 5 SUPERITAJE S.A.S | GG7: PRECIO TECHO | GH7: COTIZACION 1 ARAAUTOS | GI7: COTIZACION 2 AUTO CAMPERO | GJ7: COTIZACION 3 VALLE S.A.S. SERAUTOVALLE S.A.S. | GK7: COTIZACION 4 GLOBOLLANTAS S.A.S | GL7: COTIZACION 5 SUPERITAJE S.A.S | GM7: PRECIO TECHO | GN7: COTIZACION 1 ARAAUTOS | GO7: COTIZACION 2 AUTO CAMPERO | GP7: COTIZACION 3 VALLE S.A.S. SERAUTOVALLE S.A.S. | GQ7: COTIZACION 4 GLOBOLLANTAS S.A.S | GR7: COTIZACION 5 SUPERITAJE S.A.S | GS7: PRECIO TECHO
B8: 1 | C8: SINCRONIZACION
B9: 1.1 | C9: AGUJA BASE Y PUNSON | D9: 53550 | E9: 47481 | F9: 52479 | G9: 66937.5 | H9: 49980 | I9: 56227.5 | J9: 53550 | K9: 50872.5 | L9: 56227.5 | M9: 66937.5 | N9: 53550 | O9: 59976 | P9: 63000 | Q9: 54264 | R9: 59976 | S9: 78750 | T9: 57120 | U9: =AVERAGE(P9:T9) -> 62622 | V9: 74117.647 | W9: 81396 | X9: 89964 | Y9: 92647.059 | Z9: 85680 | AA9: =AVERAGE(V9:Z9) -> 84760.941 | AB9: 58206.522 | AC9: 50872.5 | AD9: 56227.5 | AE9: 72758.152 | AF9: 53550 | AG9: =AVERAGE(AB9:AF9) -> 58322.935 | AH9: 119000 | AI9: 108528 | AJ9: 119952 | AK9: 148750 | AL9: 114240 | AM9: =AVERAGE(AH9:AL9) -> 122094 | AN9: 68478.261 | AO9: 54264 | AP9: 59976 | AQ9: 85597.826 | AR9: 57120 | AS9: =AVERAGE(AN9:AR9) -> 65087.217 | AT9: 80562.66 | AU9: 57655.5 | AV9: 63724.5 | AW9: 100703.32 | AX9: 60690 | AY9: =AVERAGE(AT9:AX9) -> 72667.197 | AZ9: 70128.339 | BA9: 47481 | BB9: 52479 | BC9: 87660.424 | BD9: 49980 | BE9: =AVERAGE(AZ9:BD9) -> 61545.753 | BF9: 70596.145 | BG9: 61047 | BH9: 67473 | BI9: 88245.182 | BJ9: 64260 | BK9: =AVERAGE(BF9:BJ9) -> 70324.265 | BL9: 82206.796 | BM9: 67830 | BN9: 74970 | BO9: 102758.49 | BP9: 71400 | BQ9: =AVERAGE(BL9:BP9) -> 79833.058 | BR9: 61551.724 | BS9: 57655.5 | BT9: 63724.5 | BU9: 76939.655 | BV9: 60690 | BW9: =AVERAGE(BR9:BV9) -> 64112.276 | BX9: 65480.558 | BY9: 67830 | BZ9: 74970 | CA9: 81850.697 | CB9: 71400 | CC9: =AVERAGE(BX9:CB9) -> 72306.251 | CD9: 120202.02 | CE9: 108528 | CF9: 119952 | CG9: 150252.53 | CH9: 114240 | CI9: =AVERAGE(CD9:CH9) -> 122634.91 | CJ9: 119055.56 | CK9: 81396 | CL9: 89964 | CM9: 148819.45 | CN9: 85680 | CO9: =AVERAGE(CJ9:CN9) -> 104983 | CP9: 72036.883 | CQ9: 20349 | CR9: 22491 | CS9: 90046.104 | CT9: 21420 | CU9: =AVERAGE(CP9:CT9) -> 45268.597 | CV9: 60852.273 | CW9: 16957.5 | CX9: 18742.5 | CY9: 76065.341 | CZ9: 17850 | DA9: =AVERAGE(CV9:CZ9) -> 38093.523 | DB9: 60006.723 | DC9: 18088 | DD9: 19992 | DE9: 75008.404 | DF9: 19040 | DG9: =AVERAGE(DB9:DF9) -> 38427.026 | DH9: 66816.896 | DI9: 22610 | DJ9: 24990 | DK9: 83521.119 | DL9: 23800 | DM9: =AVERAGE(DH9:DL9) -> 44347.603 | DN9: 70749.108 | DO9: 27132 | DP9: 29988 | DQ9: 88436.385 | DR9: 28560 | DS9: =AVERAGE(DN9:DR9) -> 48973.099 | DT9: 160269.36 | DU9: 54264 | DV9: 59976 | DW9: 200336.7 | DX9: 57120 | DY9: =AVERAGE(DT9:DX9) -> 106393.21 | DZ9: 160269.36 | EA9: 54264 | EB9: 59976 | EC9: 200336.7 | ED9: 57120 | EE9: =AVERAGE(DZ9:ED9) -> 106393.21 | EF9: 86533.469 | EG9: 24871 | EH9: 27489 | EI9: 108166.84 | EJ9: 26180 | EK9: =AVERAGE(EF9:EJ9) -> 54648.061 | EL9: 94058.119 | EM9: 38437 | EN9: 42483 | EO9: 117572.65 | EP9: 40460 | EQ9: =AVERAGE(EL9:EP9) -> 66602.153 | ER9: 83072.13 | ES9: 22610 | ET9: 24990 | EU9: 103840.16 | EV9: 23800 | EW9: =AVERAGE(ER9:EV9) -> 51662.459 | EX9: 84767.48 | EY9: 18088 | EZ9: 19992 | FA9: 105959.35 | FB9: 19040 | FC9: =AVERAGE(EX9:FB9) -> 49569.366 | FD9: 168704.59 | FE9: 58786 | FF9: 64974 | FG9: 210880.74 | FH9: 61880 | FI9: =AVERAGE(FD9:FH9) -> 113045.07 | FJ9: 122655.12 | FK9: 29393 | FL9: 32487 | FM9: 153318.9 | FN9: 30940 | FO9: =AVERAGE(FJ9:FN9) -> 73758.805 | FP9: 112842.71 | FQ9: 20349 | FR9: 22491 | FS9: 141053.39 | FT9: 21420 | FU9: =AVERAGE(FP9:FT9) -> 63631.221 | FV9: 133320.79 | FW9: 24871 | FX9: 27489 | FY9: 166650.98 | FZ9: 26180 | GA9: =AVERAGE(FV9:FZ9) -> 75702.353 | GB9: 143355.68 | GC9: 38437 | GD9: 42483 | GE9: 179194.6 | GF9: 40460 | GG9: =AVERAGE(GB9:GF9) -> 88786.057 | GH9: 115145.63 | GI9: 19218.5 | GJ9: 21241.5 | GK9: 143932.03 | GL9: 20230 | GM9: =AVERAGE(GH9:GL9) -> 63953.531 | GN9: 117495.54 | GO9: 21479.5 | GP9: 23740.5 | GQ9: 146869.42 | GR9: 22610 | GS9: =AVERAGE(GN9:GR9) -> 66438.991
B10: 1.2 | C10: BUJIA | D10: 45815 | E10: 40698 | F10: 44982 | G10: 57268.75 | H10: 42840 | I10: 44982 | J10: 45815 | K10: 40698 | L10: 44982 | M10: 57268.75 | N10: 42840 | O10: 52479 | P10: 53900 | Q10: 47481 | R10: 52479 | S10: 67375 | T10: 49980 | U10: =AVERAGE(P10:T10) -> 54243 | V10: 63411.765 | W10: 81396 | X10: 89964 | Y10: 79264.706 | Z10: 85680 | AA10: =AVERAGE(V10:Z10) -> 79943.294 | AB10: 49798.913 | AC10: 44089.5 | AD10: 48730.5 | AE10: 62248.641 | AF10: 46410 | AG10: =AVERAGE(AB10:AF10) -> 50255.511 | AH10: 101811.11 | AI10: 94962 | AJ10: 104958 | AK10: 127263.89 | AL10: 99960 | AM10: =AVERAGE(AH10:AL10) -> 105791 | AN10: 58586.957 | AO10: 44089.5 | AP10: 48730.5 | AQ10: 73233.696 | AR10: 46410 | AS10: =AVERAGE(AN10:AR10) -> 54210.13 | AT10: 68925.831 | AU10: 47481 | AV10: 52479 | AW10: 86157.289 | AX10: 49980 | AY10: =AVERAGE(AT10:AX10) -> 61004.624 | AZ10: 59998.69 | BA10: 40698 | BB10: 44982 | BC10: 74998.363 | BD10: 42840 | BE10: =AVERAGE(AZ10:BD10) -> 52703.411 | BF10: 60398.924 | BG10: 47481 | BH10: 52479 | BI10: 75498.655 | BJ10: 49980 | BK10: =AVERAGE(BF10:BJ10) -> 57167.516 | BL10: 70332.481 | BM10: 61047 | BN10: 67473 | BO10: 87915.601 | BP10: 64260 | BQ10: =AVERAGE(BL10:BP10) -> 70205.616 | BR10: 52660.92 | BS10: 47481 | BT10: 52479 | BU10: 65826.149 | BV10: 49980 | BW10: =AVERAGE(BR10:BV10) -> 53685.414 | BX10: 56022.255 | BY10: 61047 | BZ10: 67473 | CA10: 70027.819 | CB10: 64260 | CC10: =AVERAGE(BX10:CB10) -> 63766.015 | CD10: 102839.51 | CE10: 94962 | CF10: 104958 | CG10: 128549.38 | CH10: 99960 | CI10: =AVERAGE(CD10:CH10) -> 106253.78 | CJ10: 101858.65 | CK10: 74613 | CL10: 82467 | CM10: 127323.31 | CN10: 78540 | CO10: =AVERAGE(CJ10:CN10) -> 92960.39 | CP10: 61631.555 | CQ10: 15827 | CR10: 17493 | CS10: 77039.444 | CT10: 16660 | CU10: =AVERAGE(CP10:CT10) -> 37730.2 | CV10: 52062.5 | CW10: 14696.5 | CX10: 16243.5 | CY10: 65078.125 | CZ10: 15470 | DA10: =AVERAGE(CV10:CZ10) -> 32710.125 | DB10: 51339.086 | DC10: 14696.5 | DD10: 16243.5 | DE10: 64173.857 | DF10: 15470 | DG10: =AVERAGE(DB10:DF10) -> 32384.589 | DH10: 57165.566 | DI10: 20349 | DJ10: 22491 | DK10: 71456.958 | DL10: 21420 | DM10: =AVERAGE(DH10:DL10) -> 38576.505 | DN10: 60529.793 | DO10: 24871 | DP10: 27489 | DQ10: 75662.241 | DR10: 26180 | DS10: =AVERAGE(DN10:DR10) -> 42946.407 | DT10: 137119.34 | DU10: 42959 | DV10: 47481 | DW10: 171399.18 | DX10: 45220 | DY10: =AVERAGE(DT10:DX10) -> 88835.704 | DZ10: 137119.34 | EA10: 42959 | EB10: 47481 | EC10: 171399.18 | ED10: 45220 | EE10: =AVERAGE(DZ10:ED10) -> 88835.704 | EF10: 74034.19 | EG10: 20349 | EH10: 22491 | EI10: 92542.738 | EJ10: 21420 | EK10: =AVERAGE(EF10:EJ10) -> 46167.386 | EL10: 80471.946 | EM10: 31654 | EN10: 34986 | EO10: 100589.93 | EP10: 33320 | EQ10: =AVERAGE(EL10:EP10) -> 56204.376 | ER10: 71072.823 | ES10: 20349 | ET10: 22491 | EU10: 88841.028 | EV10: 21420 | EW10: =AVERAGE(ER10:EV10) -> 44834.77 | EX10: 72523.288 | EY10: 14696.5 | EZ10: 16243.5 | FA10: 90654.111 | FB10: 15470 | FC10: =AVERAGE(EX10:FB10) -> 41917.48 | FD10: 144336.15 | FE10: 47481 | FF10: 52479 | FG10: 180420.19 | FH10: 49980 | FI10: =AVERAGE(FD10:FH10) -> 94939.267 | FJ10: 104938.27 | FK10: 27132 | FL10: 29988 | FM10: 131172.84 | FN10: 28560 | FO10: =AVERAGE(FJ10:FN10) -> 64358.222 | FP10: 96543.21 | FQ10: 15827 | FR10: 17493 | FS10: 120679.01 | FT10: 16660 | FU10: =AVERAGE(FP10:FT10) -> 53440.444 | FV10: 114063.34 | FW10: 20349 | FX10: 22491 | FY10: 142579.17 | FZ10: 21420 | GA10: =AVERAGE(FV10:FZ10) -> 64180.502 | GB10: 122648.75 | GC10: 31654 | GD10: 34986 | GE10: 153310.94 | GF10: 33320 | GG10: =AVERAGE(GB10:GF10) -> 75183.938 | GH10: 98513.479 | GI10: 15827 | GJ10: 17493 | GK10: 123141.85 | GL10: 16660 | GM10: =AVERAGE(GH10:GL10) -> 54327.066 | GN10: 100523.96 | GO10: 15827 | GP10: 17493 | GQ10: 125654.95 | GR10: 16660 | GS10: =AVERAGE(GN10:GR10) -> 55231.781
B11: 1.3 | C11: CARBURADOR | D11: 291550 | E11: 390022.5 | F11: 431077.5 | G11: 364437.5 | H11: 410550 | I11: 449820 | J11: 291550 | K11: 406980 | L11: 449820 | M11: 364437.5 | N11: 428400 | O11: 506047.5 | P11: 343000 | Q11: 457852.5 | R11: 506047.5 | S11: 428750 | T11: 481950 | U11: =AVERAGE(P11:T11) -> 443520 | V11: 403529.41 | W11: 746130 | X11: 824670 | Y11: 504411.76 | Z11: 785400 | AA11: =AVERAGE(V11:Z11) -> 652828.24 | AB11: 316902.17 | AC11: 423937.5 | AD11: 468562.5 | AE11: 396127.72 | AF11: 446250 | AG11: =AVERAGE(AB11:AF11) -> 410355.98 | AH11: 647888.89 | AI11: 983535 | AJ11: 1087065 | AK11: 809861.11 | AL11: 1035300 | AM11: =AVERAGE(AH11:AL11) -> 912730 | AN11: 372826.09 | AO11: 440895 | AP11: 487305 | AQ11: 466032.61 | AR11: 464100 | AS11: =AVERAGE(AN11:AR11) -> 446231.74 | AT11: 438618.93 | AU11: 474810 | AV11: 524790 | AW11: 548273.66 | AX11: 499800 | AY11: =AVERAGE(AT11:AX11) -> 497258.52 | AZ11: 381809.85 | BA11: 390022.5 | BB11: 431077.5 | BC11: 477262.31 | BD11: 410550 | BE11: =AVERAGE(AZ11:BD11) -> 418144.43 | BF11: 384356.79 | BG11: 491767.5 | BH11: 543532.5 | BI11: 480445.99 | BJ11: 517650 | BK11: =AVERAGE(BF11:BJ11) -> 483550.56 | BL11: 447570.33 | BM11: 610470 | BN11: 674730 | BO11: 559462.92 | BP11: 642600 | BQ11: =AVERAGE(BL11:BP11) -> 586966.65 | BR11: 335114.94 | BS11: 474810 | BT11: 524790 | BU11: 418893.68 | BV11: 499800 | BW11: =AVERAGE(BR11:BV11) -> 450681.72 | BX11: 356505.26 | BY11: 627427.5 | BZ11: 693472.5 | CA11: 445631.57 | CB11: 660450 | CC11: =AVERAGE(BX11:CB11) -> 556697.37 | CD11: 654433.22 | CE11: 1051365 | CF11: 1162035 | CG11: 818041.53 | CH11: 1106700 | CI11: =AVERAGE(CD11:CH11) -> 958514.95 | CJ11: 648191.38 | CK11: 780045 | CL11: 862155 | CM11: 810239.22 | CN11: 821100 | CO11: =AVERAGE(CJ11:CN11) -> 784346.12 | CP11: 392200.81 | CQ11: 169575 | CR11: 187425 | CS11: 490251.01 | CT11: 178500 | CU11: =AVERAGE(CP11:CT11) -> 283590.36 | CV11: 331306.82 | CW11: 141312.5 | CX11: 156187.5 | CY11: 414133.52 | CZ11: 148750 | DA11: =AVERAGE(CV11:CZ11) -> 238338.07 | DB11: 326703.27 | DC11: 152617.5 | DD11: 168682.5 | DE11: 408379.09 | DF11: 160650 | DG11: =AVERAGE(DB11:DF11) -> 243406.47 | DH11: 363780.88 | DI11: 209142.5 | DJ11: 231157.5 | DK11: 454726.09 | DL11: 220150 | DM11: =AVERAGE(DH11:DL11) -> 295791.39 | DN11: 385189.59 | DO11: 265667.5 | DP11: 293632.5 | DQ11: 481486.99 | DR11: 279650 | DS11: =AVERAGE(DN11:DR11) -> 341125.32 | DT11: 872577.63 | DU11: 542640 | DV11: 599760 | DW11: 1090722 | DX11: 571200 | DY11: =AVERAGE(DT11:DX11) -> 735379.93 | DZ11: 872577.63 | EA11: 553945 | EB11: 612255 | EC11: 1090722 | ED11: 583100 | EE11: =AVERAGE(DZ11:ED11) -> 742519.93 | EF11: 471126.67 | EG11: 220447.5 | EH11: 243652.5 | EI11: 588908.33 | EJ11: 232050 | EK11: =AVERAGE(EF11:EJ11) -> 351237 | EL11: 512094.2 | EM11: 339150 | EN11: 374850 | EO11: 640117.75 | EP11: 357000 | EQ11: =AVERAGE(EL11:EP11) -> 444642.39 | ER11: 452281.6 | ES11: 209142.5 | ET11: 231157.5 | EU11: 565352 | EV11: 220150 | EW11: =AVERAGE(ER11:EV11) -> 335616.72 | EX11: 461511.84 | EY11: 152617.5 | EZ11: 168682.5 | FA11: 576889.79 | FB11: 160650 | FC11: =AVERAGE(EX11:FB11) -> 304070.33 | FD11: 918502.77 | FE11: 587860 | FF11: 649740 | FG11: 1148128.5 | FH11: 618800 | FI11: =AVERAGE(FD11:FH11) -> 784606.24 | FJ11: 667789 | FK11: 282625 | FL11: 312375 | FM11: 834736.25 | FN11: 297500 | FO11: =AVERAGE(FJ11:FN11) -> 479005.05 | FP11: 614365.88 | FQ11: 163922.5 | FR11: 181177.5 | FS11: 767957.35 | FT11: 172550 | FU11: =AVERAGE(FP11:FT11) -> 379994.65 | FV11: 725857.61 | FW11: 214795 | FX11: 237405 | FY11: 907322.01 | FZ11: 226100 | GA11: =AVERAGE(FV11:FZ11) -> 462295.92 | GB11: 780492.05 | GC11: 350455 | GD11: 387345 | GE11: 975615.07 | GF11: 368900 | GG11: =AVERAGE(GB11:GF11) -> 572561.42 | GH11: 626903.96 | GI11: 158270 | GJ11: 174930 | GK11: 783629.95 | GL11: 166600 | GM11: =AVERAGE(GH11:GL11) -> 382066.78 | GN11: 639697.92 | GO11: 175227.5 | GP11: 193672.5 | GQ11: 799622.4 | GR11: 184450 | GS11: =AVERAGE(GN11:GR11) -> 398534.06
B12: 1.4 | C12: EMPAQUES CARBURADOR | D12: 90202 | E12: 27132 | F12: 29988 | G12: 112752.5 | H12: 28560 | I12: 33736.5 | J12: 90202 | K12: 30523.5 | L12: 33736.5 | M12: 112752.5 | N12: 32130 | O12: 33736.5 | P12: 106120 | Q12: 30523.5 | R12: 33736.5 | S12: 132650 | T12: 32130 | U12: =AVERAGE(P12:T12) -> 67032 | V12: 124847.06 | W12: 47481 | X12: 52479 | Y12: 156058.82 | Z12: 49980 | AA12: =AVERAGE(V12:Z12) -> 86169.176 | AB12: 98045.652 | AC12: 30523.5 | AD12: 33736.5 | AE12: 122557.07 | AF12: 32130 | AG12: =AVERAGE(AB12:AF12) -> 63398.543 | AH12: 200448.89 | AI12: 61047 | AJ12: 67473 | AK12: 250561.11 | AL12: 64260 | AM12: =AVERAGE(AH12:AL12) -> 128758 | AN12: 115347.83 | AO12: 30523.5 | AP12: 33736.5 | AQ12: 144184.78 | AR12: 32130 | AS12: =AVERAGE(AN12:AR12) -> 71184.522 | AT12: 135703.32 | AU12: 33915 | AV12: 37485 | AW12: 169629.16 | AX12: 35700 | AY12: =AVERAGE(AT12:AX12) -> 82486.496 | AZ12: 118127.29 | BA12: 27132 | BB12: 29988 | BC12: 147659.11 | BD12: 28560 | BE12: =AVERAGE(AZ12:BD12) -> 70293.281 | BF12: 118915.28 | BG12: 33915 | BH12: 37485 | BI12: 148644.11 | BJ12: 35700 | BK12: =AVERAGE(BF12:BJ12) -> 74931.878 | BL12: 138472.78 | BM12: 40698 | BN12: 44982 | BO12: 173090.98 | BP12: 42840 | BQ12: =AVERAGE(BL12:BP12) -> 88016.751 | BR12: 103680.46 | BS12: 33915 | BT12: 37485 | BU12: 129600.57 | BV12: 35700 | BW12: =AVERAGE(BR12:BV12) -> 68076.207 | BX12: 110298.36 | BY12: 40698 | BZ12: 44982 | CA12: 137872.95 | CB12: 42840 | CC12: =AVERAGE(BX12:CB12) -> 75338.263 | CD12: 202473.63 | CE12: 61047 | CF12: 67473 | CG12: 253092.03 | CH12: 64260 | CI12: =AVERAGE(CD12:CH12) -> 129669.13 | CJ12: 200542.48 | CK12: 47481 | CL12: 52479 | CM12: 250678.09 | CN12: 49980 | CO12: =AVERAGE(CJ12:CN12) -> 120232.11 | CP12: 121342.13 | CQ12: 11305 | CR12: 12495 | CS12: 151677.66 | CT12: 11900 | CU12: =AVERAGE(CP12:CT12) -> 61743.957 | CV12: 102502.27 | CW12: 10174.5 | CX12: 11245.5 | CY12: 128127.84 | CZ12: 10710 | DA12: =AVERAGE(CV12:CZ12) -> 52552.023 | DB12: 101077.99 | DC12: 10174.5 | DD12: 11245.5 | DE12: 126347.49 | DF12: 10710 | DG12: =AVERAGE(DB12:DF12) -> 51911.096 | DH12: 112549.35 | DI12: 13566 | DJ12: 14994 | DK12: 140686.69 | DL12: 14280 | DM12: =AVERAGE(DH12:DL12) -> 59215.207 | DN12: 119172.94 | DO12: 15827 | DP12: 17493 | DQ12: 148966.18 | DR12: 16660 | DS12: =AVERAGE(DN12:DR12) -> 63623.824 | DT12: 269964.83 | DU12: 27132 | DV12: 29988 | DW12: 337456.04 | DX12: 28560 | DY12: =AVERAGE(DT12:DX12) -> 138620.18 | DZ12: 269964.83 | EA12: 27132 | EB12: 29988 | EC12: 337456.04 | ED12: 28560 | EE12: =AVERAGE(DZ12:ED12) -> 138620.18 | EF12: 145760.82 | EG12: 13566 | EH12: 14994 | EI12: 182201.03 | EJ12: 14280 | EK12: =AVERAGE(EF12:EJ12) -> 74160.37 | EL12: 158435.68 | EM12: 20349 | EN12: 22491 | EO12: 198044.59 | EP12: 21420 | EQ12: =AVERAGE(EL12:EP12) -> 84148.054 | ER12: 139930.39 | ES12: 13566 | ET12: 14994 | EU12: 174912.99 | EV12: 14280 | EW12: =AVERAGE(ER12:EV12) -> 71536.675 | EX12: 142786.11 | EY12: 10174.5 | EZ12: 11245.5 | FA12: 178482.64 | FB12: 10710 | FC12: =AVERAGE(EX12:FB12) -> 70679.75 | FD12: 284173.51 | FE12: 29393 | FF12: 32487 | FG12: 355216.89 | FH12: 30940 | FI12: =AVERAGE(FD12:FH12) -> 146442.08 | FJ12: 206605.74 | FK12: 16957.5 | FL12: 18742.5 | FM12: 258257.17 | FN12: 17850 | FO12: =AVERAGE(FJ12:FN12) -> 103682.58 | FP12: 190077.28 | FQ12: 11305 | FR12: 12495 | FS12: 237596.6 | FT12: 11900 | FU12: =AVERAGE(FP12:FT12) -> 92674.776 | FV12: 224571.46 | FW12: 13566 | FX12: 14994 | FY12: 280714.32 | FZ12: 14280 | GA12: =AVERAGE(FV12:FZ12) -> 109625.16 | GB12: 241474.68 | GC12: 20349 | GD12: 22491 | GE12: 301843.36 | GF12: 21420 | GG12: =AVERAGE(GB12:GF12) -> 121515.61 | GH12: 193956.41 | GI12: 11305 | GJ12: 12495 | GK12: 242445.51 | GL12: 11900 | GM12: =AVERAGE(GH12:GL12) -> 94420.384 | GN12: 197914.7 | GO12: 11305 | GP12: 12495 | GQ12: 247393.38 | GR12: 11900 | GS12: =AVERAGE(GN12:GR12) -> 96201.616
B13: 1.5 | C13: FILTRO COMBUSTIBLE | D13: 14875 | E13: 23740.5 | F13: 26239.5 | G13: 18593.75 | H13: 24990 | I13: 26239.5 | J13: 14875 | K13: 23740.5 | L13: 26239.5 | M13: 18593.75 | N13: 24990 | O13: 29988 | P13: 17500 | Q13: 27132 | R13: 29988 | S13: 21875 | T13: 28560 | U13: =AVERAGE(P13:T13) -> 25011 | V13: 20588.235 | W13: 40698 | X13: 44982 | Y13: 25735.294 | Z13: 42840 | AA13: =AVERAGE(V13:Z13) -> 34968.706 | AB13: 16168.478 | AC13: 27132 | AD13: 29988 | AE13: 20210.598 | AF13: 28560 | AG13: =AVERAGE(AB13:AF13) -> 24411.815 | AH13: 33055.556 | AI13: 54264 | AJ13: 59976 | AK13: 41319.444 | AL13: 57120 | AM13: =AVERAGE(AH13:AL13) -> 49147 | AN13: 19021.739 | AO13: 27132 | AP13: 29988 | AQ13: 23777.174 | AR13: 28560 | AS13: =AVERAGE(AN13:AR13) -> 25695.783 | AT13: 22378.517 | AU13: 27132 | AV13: 29988 | AW13: 27973.146 | AX13: 28560 | AY13: =AVERAGE(AT13:AX13) -> 27206.332 | AZ13: 19480.094 | BA13: 23740.5 | BB13: 26239.5 | BC13: 24350.118 | BD13: 24990 | BE13: =AVERAGE(AZ13:BD13) -> 23760.042 | BF13: 19610.04 | BG13: 30523.5 | BH13: 33736.5 | BI13: 24512.55 | BJ13: 32130 | BK13: =AVERAGE(BF13:BJ13) -> 28102.518 | BL13: 22835.221 | BM13: 33915 | BN13: 37485 | BO13: 28544.026 | BP13: 35700 | BQ13: =AVERAGE(BL13:BP13) -> 31695.849 | BR13: 17097.701 | BS13: 27132 | BT13: 29988 | BU13: 21372.126 | BV13: 28560 | BW13: =AVERAGE(BR13:BV13) -> 24829.966 | BX13: 18189.044 | BY13: 33915 | BZ13: 37485 | CA13: 22736.305 | CB13: 35700 | CC13: =AVERAGE(BX13:CB13) -> 29605.07 | CD13: 33389.45 | CE13: 54264 | CF13: 59976 | CG13: 41736.813 | CH13: 57120 | CI13: =AVERAGE(CD13:CH13) -> 49297.253 | CJ13: 33070.989 | CK13: 40698 | CL13: 44982 | CM13: 41338.736 | CN13: 42840 | CO13: =AVERAGE(CJ13:CN13) -> 40585.945 | CP13: 20010.245 | CQ13: 10174.5 | CR13: 11245.5 | CS13: 25012.807 | CT13: 10710 | CU13: =AVERAGE(CP13:CT13) -> 15430.61 | CV13: 16903.409 | CW13: 9044 | CX13: 9996 | CY13: 21129.261 | CZ13: 9520 | DA13: =AVERAGE(CV13:CZ13) -> 13318.534 | DB13: 16668.534 | DC13: 9044 | DD13: 9996 | DE13: 20835.668 | DF13: 9520 | DG13: =AVERAGE(DB13:DF13) -> 13212.84 | DH13: 18560.249 | DI13: 11305 | DJ13: 12495 | DK13: 23200.311 | DL13: 11900 | DM13: =AVERAGE(DH13:DL13) -> 15492.112 | DN13: 19652.53 | DO13: 13566 | DP13: 14994 | DQ13: 24565.663 | DR13: 14280 | DS13: =AVERAGE(DN13:DR13) -> 17411.639 | DT13: 44519.267 | DU13: 24871 | DV13: 27489 | DW13: 55649.083 | DX13: 26180 | DY13: =AVERAGE(DT13:DX13) -> 35741.67 | DZ13: 44519.267 | EA13: 24871 | EB13: 27489 | EC13: 55649.083 | ED13: 26180 | EE13: =AVERAGE(DZ13:ED13) -> 35741.67 | EF13: 24037.075 | EG13: 11305 | EH13: 12495 | EI13: 30046.343 | EJ13: 11900 | EK13: =AVERAGE(EF13:EJ13) -> 17956.684 | EL13: 26127.255 | EM13: 18088 | EN13: 19992 | EO13: 32659.069 | EP13: 19040 | EQ13: =AVERAGE(EL13:EP13) -> 23181.265 | ER13: 23075.592 | ES13: 11305 | ET13: 12495 | EU13: 28844.49 | EV13: 11900 | EW13: =AVERAGE(ER13:EV13) -> 17524.016 | EX13: 23546.522 | EY13: 9044 | EZ13: 9996 | FA13: 29433.153 | FB13: 9520 | FC13: =AVERAGE(EX13:FB13) -> 16307.935 | FD13: 46862.386 | FE13: 27132 | FF13: 29988 | FG13: 58577.983 | FH13: 28560 | FI13: =AVERAGE(FD13:FH13) -> 38224.074 | FJ13: 34070.867 | FK13: 14696.5 | FL13: 16243.5 | FM13: 42588.584 | FN13: 15470 | FO13: =AVERAGE(FJ13:FN13) -> 24613.89 | FP13: 31345.198 | FQ13: 10174.5 | FR13: 11245.5 | FS13: 39181.498 | FT13: 10710 | FU13: =AVERAGE(FP13:FT13) -> 20531.339 | FV13: 37033.552 | FW13: 11305 | FX13: 12495 | FY13: 46291.939 | FZ13: 11900 | GA13: =AVERAGE(FV13:FZ13) -> 23805.098 | GB13: 39821.023 | GC13: 18088 | GD13: 19992 | GE13: 49776.279 | GF13: 19040 | GG13: =AVERAGE(GB13:GF13) -> 29343.46 | GH13: 31984.896 | GI13: 9044 | GJ13: 9996 | GK13: 39981.12 | GL13: 9520 | GM13: =AVERAGE(GH13:GL13) -> 20105.203 | GN13: 32637.649 | GO13: 10174.5 | GP13: 11245.5 | GQ13: 40797.061 | GR13: 10710 | GS13: =AVERAGE(GN13:GR13) -> 21112.942
B14: 1.6 | C14: FILTRO DE AIRE | D14: 75922 | E14: 54264 | F14: 59976 | G14: 94902.5 | H14: 57120 | I14: 67473 | J14: 75922 | K14: 61047 | L14: 67473 | M14: 94902.5 | N14: 64260 | O14: 82467 | P14: 89320 | Q14: 74613 | R14: 82467 | S14: 111650 | T14: 78540 | U14: =AVERAGE(P14:T14) -> 87318 | V14: 105082.35 | W14: 122094 | X14: 134946 | Y14: 131352.94 | Z14: 128520 | AA14: =AVERAGE(V14:Z14) -> 124399.06 | AB14: 82523.913 | AC14: 61047 | AD14: 67473 | AE14: 103154.89 | AF14: 64260 | AG14: =AVERAGE(AB14:AF14) -> 75691.761 | AH14: 168715.56 | AI14: 162792 | AJ14: 179928 | AK14: 210894.44 | AL14: 171360 | AM14: =AVERAGE(AH14:AL14) -> 178738 | AN14: 97086.957 | AO14: 67830 | AP14: 74970 | AQ14: 121358.7 | AR14: 71400 | AS14: =AVERAGE(AN14:AR14) -> 86529.13 | AT14: 114219.95 | AU14: 74613 | AV14: 82467 | AW14: 142774.94 | AX14: 78540 | AY14: =AVERAGE(AT14:AX14) -> 98522.977 | AZ14: 99426.401 | BA14: 57655.5 | BB14: 63724.5 | BC14: 124283 | BD14: 60690 | BE14: =AVERAGE(AZ14:BD14) -> 81155.881 | BF14: 100089.65 | BG14: 81396 | BH14: 89964 | BI14: 125112.06 | BJ14: 85680 | BK14: =AVERAGE(BF14:BJ14) -> 96448.341 | BL14: 116550.97 | BM14: 94962 | BN14: 104958 | BO14: 145688.71 | BP14: 99960 | BQ14: =AVERAGE(BL14:BP14) -> 112423.94 | BR14: 87266.667 | BS14: 74613 | BT14: 82467 | BU14: 109083.33 | BV14: 78540 | BW14: =AVERAGE(BR14:BV14) -> 86394 | BX14: 92836.879 | BY14: 94962 | BZ14: 104958 | CA14: 116046.1 | CB14: 99960 | CC14: =AVERAGE(BX14:CB14) -> 101752.6 | CD14: 170419.75 | CE14: 176358 | CF14: 194922 | CG14: 213024.69 | CH14: 185640 | CI14: =AVERAGE(CD14:CH14) -> 188072.89 | CJ14: 168794.33 | CK14: 115311 | CL14: 127449 | CM14: 210992.91 | CN14: 121380 | CO14: =AVERAGE(CJ14:CN14) -> 148785.45 | CP14: 102132.29 | CQ14: 27132 | CR14: 29988 | CS14: 127665.36 | CT14: 28560 | CU14: =AVERAGE(CP14:CT14) -> 63095.531 | CV14: 86275 | CW14: 20349 | CX14: 22491 | CY14: 107843.75 | CZ14: 21420 | DA14: =AVERAGE(CV14:CZ14) -> 51675.75 | DB14: 85076.199 | DC14: 22610 | DD14: 24990 | DE14: 106345.25 | DF14: 23800 | DG14: =AVERAGE(DB14:DF14) -> 52564.29 | DH14: 94731.51 | DI14: 31654 | DJ14: 34986 | DK14: 118414.39 | DL14: 33320 | DM14: =AVERAGE(DH14:DL14) -> 62621.179 | DN14: 100306.51 | DO14: 39567.5 | DP14: 43732.5 | DQ14: 125383.14 | DR14: 41650 | DS14: =AVERAGE(DN14:DR14) -> 70127.931 | DT14: 227226.34 | DU14: 84787.5 | DV14: 93712.5 | DW14: 284032.92 | DX14: 89250 | DY14: =AVERAGE(DT14:DX14) -> 155801.85 | DZ14: 227226.34 | EA14: 88179 | EB14: 97461 | EC14: 284032.92 | ED14: 92820 | EE14: =AVERAGE(DZ14:ED14) -> 157943.85 | EF14: 122685.23 | EG14: 33915 | EH14: 37485 | EI14: 153356.54 | EJ14: 35700 | EK14: =AVERAGE(EF14:EJ14) -> 76628.353 | EL14: 133353.51 | EM14: 56525 | EN14: 62475 | EO14: 166691.89 | EP14: 59500 | EQ14: =AVERAGE(EL14:EP14) -> 95709.08 | ER14: 117777.82 | ES14: 31654 | ET14: 34986 | EU14: 147222.28 | EV14: 33320 | EW14: =AVERAGE(ER14:EV14) -> 72992.019 | EX14: 120181.45 | EY14: 22610 | EZ14: 24990 | FA14: 150226.81 | FB14: 23800 | FC14: =AVERAGE(EX14:FB14) -> 68361.652 | FD14: 239185.62 | FE14: 96092.5 | FF14: 106207.5 | FG14: 298982.02 | FH14: 101150 | FI14: =AVERAGE(FD14:FH14) -> 168323.53 | FJ14: 173897.71 | FK14: 42959 | FL14: 47481 | FM14: 217372.13 | FN14: 45220 | FO14: =AVERAGE(FJ14:FN14) -> 105385.97 | FP14: 159985.89 | FQ14: 27132 | FR14: 29988 | FS14: 199982.36 | FT14: 28560 | FU14: =AVERAGE(FP14:FT14) -> 89129.651 | FV14: 189019.25 | FW14: 31654 | FX14: 34986 | FY14: 236274.06 | FZ14: 33320 | GA14: =AVERAGE(FV14:FZ14) -> 105050.66 | GB14: 203246.5 | GC14: 58786 | GD14: 64974 | GE14: 254058.13 | GF14: 61880 | GG14: =AVERAGE(GB14:GF14) -> 128588.93 | GH14: 163250.91 | GI14: 24871 | GJ14: 27489 | GK14: 204063.64 | GL14: 26180 | GM14: =AVERAGE(GH14:GL14) -> 89170.909 | GN14: 166582.56 | GO14: 28262.5 | GP14: 31237.5 | GQ14: 208228.2 | GR14: 29750 | GS14: =AVERAGE(GN14:GR14) -> 92812.152
B15: 1.7 | C15: GUAYA ACELERADOR | D15: 90202 | E15: 40698 | F15: 44982 | G15: 112752.5 | H15: 42840 | I15: 52479 | J15: 90202 | K15: 47481 | L15: 52479 | M15: 112752.5 | N15: 49980 | O15: 56227.5 | P15: 106120 | Q15: 50872.5 | R15: 56227.5 | S15: 132650 | T15: 53550 | U15: =AVERAGE(P15:T15) -> 79884 | V15: 124847.06 | W15: 74613 | X15: 82467 | Y15: 156058.82 | Z15: 78540 | AA15: =AVERAGE(V15:Z15) -> 103305.18 | AB15: 98045.652 | AC15: 47481 | AD15: 52479 | AE15: 122557.07 | AF15: 49980 | AG15: =AVERAGE(AB15:AF15) -> 74108.543 | AH15: 200448.89 | AI15: 94962 | AJ15: 104958 | AK15: 250561.11 | AL15: 99960 | AM15: =AVERAGE(AH15:AL15) -> 150178 | AN15: 115347.83 | AO15: 50872.5 | AP15: 56227.5 | AQ15: 144184.78 | AR15: 53550 | AS15: =AVERAGE(AN15:AR15) -> 84036.522 | AT15: 135703.32 | AU15: 54264 | AV15: 59976 | AW15: 169629.16 | AX15: 57120 | AY15: =AVERAGE(AT15:AX15) -> 95338.496 | AZ15: 118127.29 | BA15: 44089.5 | BB15: 48730.5 | BC15: 147659.11 | BD15: 46410 | BE15: =AVERAGE(AZ15:BD15) -> 81003.281 | BF15: 118915.28 | BG15: 57655.5 | BH15: 63724.5 | BI15: 148644.11 | BJ15: 60690 | BK15: =AVERAGE(BF15:BJ15) -> 89925.878 | BL15: 138472.78 | BM15: 61047 | BN15: 67473 | BO15: 173090.98 | BP15: 64260 | BQ15: =AVERAGE(BL15:BP15) -> 100868.75 | BR15: 103680.46 | BS15: 54264 | BT15: 59976 | BU15: 129600.57 | BV15: 57120 | BW15: =AVERAGE(BR15:BV15) -> 80928.207 | BX15: 110298.36 | BY15: 61047 | BZ15: 67473 | CA15: 137872.95 | CB15: 64260 | CC15: =AVERAGE(BX15:CB15) -> 88190.263 | CD15: 202473.63 | CE15: 94962 | CF15: 104958 | CG15: 253092.03 | CH15: 99960 | CI15: =AVERAGE(CD15:CH15) -> 151089.13 | CJ15: 200542.48 | CK15: 74613 | CL15: 82467 | CM15: 250678.09 | CN15: 78540 | CO15: =AVERAGE(CJ15:CN15) -> 137368.11 | CP15: 121342.13 | CQ15: 19218.5 | CR15: 21241.5 | CS15: 151677.66 | CT15: 20230 | CU15: =AVERAGE(CP15:CT15) -> 66741.957 | CV15: 102502.27 | CW15: 15827 | CX15: 17493 | CY15: 128127.84 | CZ15: 16660 | DA15: =AVERAGE(CV15:CZ15) -> 56122.023 | DB15: 101077.99 | DC15: 16957.5 | DD15: 18742.5 | DE15: 126347.49 | DF15: 17850 | DG15: =AVERAGE(DB15:DF15) -> 56195.096 | DH15: 112549.35 | DI15: 20349 | DJ15: 22491 | DK15: 140686.69 | DL15: 21420 | DM15: =AVERAGE(DH15:DL15) -> 63499.207 | DN15: 119172.94 | DO15: 24871 | DP15: 27489 | DQ15: 148966.18 | DR15: 26180 | DS15: =AVERAGE(DN15:DR15) -> 69335.824 | DT15: 269964.83 | DU15: 42959 | DV15: 47481 | DW15: 337456.04 | DX15: 45220 | DY15: =AVERAGE(DT15:DX15) -> 148616.18 | DZ15: 269964.83 | EA15: 42959 | EB15: 47481 | EC15: 337456.04 | ED15: 45220 | EE15: =AVERAGE(DZ15:ED15) -> 148616.18 | EF15: 145760.82 | EG15: 21479.5 | EH15: 23740.5 | EI15: 182201.03 | EJ15: 22610 | EK15: =AVERAGE(EF15:EJ15) -> 79158.37 | EL15: 158435.68 | EM15: 31654 | EN15: 34986 | EO15: 198044.59 | EP15: 33320 | EQ15: =AVERAGE(EL15:EP15) -> 91288.054 | ER15: 139930.39 | ES15: 20349 | ET15: 22491 | EU15: 174912.99 | EV15: 21420 | EW15: =AVERAGE(ER15:EV15) -> 75820.675 | EX15: 142786.11 | EY15: 16957.5 | EZ15: 18742.5 | FA15: 178482.64 | FB15: 17850 | FC15: =AVERAGE(EX15:FB15) -> 74963.75 | FD15: 284173.51 | FE15: 47481 | FF15: 52479 | FG15: 355216.89 | FH15: 49980 | FI15: =AVERAGE(FD15:FH15) -> 157866.08 | FJ15: 206605.74 | FK15: 27132 | FL15: 29988 | FM15: 258257.17 | FN15: 28560 | FO15: =AVERAGE(FJ15:FN15) -> 110108.58 | FP15: 190077.28 | FQ15: 19218.5 | FR15: 21241.5 | FS15: 237596.6 | FT15: 20230 | FU15: =AVERAGE(FP15:FT15) -> 97672.776 | FV15: 224571.46 | FW15: 21479.5 | FX15: 23740.5 | FY15: 280714.32 | FZ15: 22610 | GA15: =AVERAGE(FV15:FZ15) -> 114623.16 | GB15: 241474.68 | GC15: 31654 | GD15: 34986 | GE15: 301843.36 | GF15: 33320 | GG15: =AVERAGE(GB15:GF15) -> 128655.61 | GH15: 193956.41 | GI15: 18088 | GJ15: 19992 | GK15: 242445.51 | GL15: 19040 | GM15: =AVERAGE(GH15:GL15) -> 98704.384 | GN15: 197914.7 | GO15: 20349 | GP15: 22491 | GQ15: 247393.38 | GR15: 21420 | GS15: =AVERAGE(GN15:GR15) -> 101913.62
B16: 1.8 | C16: GUAYA CHOQUE | D16: 75565 | E16: 37306.5 | F16: 41233.5 | G16: 94456.25 | H16: 39270 | I16: 44982 | J16: 75565 | K16: 40698 | L16: 44982 | M16: 94456.25 | N16: 42840 | O16: 48730.5 | P16: 88900 | Q16: 44089.5 | R16: 48730.5 | S16: 111125 | T16: 46410 | U16: =AVERAGE(P16:T16) -> 67851 | V16: 104588.24 | W16: 61047 | X16: 67473 | Y16: 130735.29 | Z16: 64260 | AA16: =AVERAGE(V16:Z16) -> 85620.706 | AB16: 82135.87 | AC16: 40698 | AD16: 44982 | AE16: 102669.84 | AF16: 42840 | AG16: =AVERAGE(AB16:AF16) -> 62665.141 | AH16: 167922.22 | AI16: 74613 | AJ16: 82467 | AK16: 209902.78 | AL16: 78540 | AM16: =AVERAGE(AH16:AL16) -> 122689 | AN16: 96630.435 | AO16: 44089.5 | AP16: 48730.5 | AQ16: 120788.04 | AR16: 46410 | AS16: =AVERAGE(AN16:AR16) -> 71329.696 | AT16: 113682.86 | AU16: 47481 | AV16: 52479 | AW16: 142103.58 | AX16: 49980 | AY16: =AVERAGE(AT16:AX16) -> 81145.289 | AZ16: 98958.879 | BA16: 37306.5 | BB16: 41233.5 | BC16: 123698.6 | BD16: 39270 | BE16: =AVERAGE(AZ16:BD16) -> 68093.496 | BF16: 99619.005 | BG16: 47481 | BH16: 52479 | BI16: 124523.76 | BJ16: 49980 | BK16: =AVERAGE(BF16:BJ16) -> 74816.552 | BL16: 116002.92 | BM16: 50872.5 | BN16: 56227.5 | BO16: 145003.65 | BP16: 53550 | BQ16: =AVERAGE(BL16:BP16) -> 84331.315 | BR16: 86856.322 | BS16: 47481 | BT16: 52479 | BU16: 108570.4 | BV16: 49980 | BW16: =AVERAGE(BR16:BV16) -> 69073.345 | BX16: 92400.342 | BY16: 50872.5 | BZ16: 56227.5 | CA16: 115500.43 | CB16: 53550 | CC16: =AVERAGE(BX16:CB16) -> 73710.154 | CD16: 169618.41 | CE16: 74613 | CF16: 82467 | CG16: 212023.01 | CH16: 78540 | CI16: =AVERAGE(CD16:CH16) -> 123452.28 | CJ16: 168000.62 | CK16: 61047 | CL16: 67473 | CM16: 210000.78 | CN16: 64260 | CO16: =AVERAGE(CJ16:CN16) -> 114156.28 | CP16: 101652.05 | CQ16: 15827 | CR16: 17493 | CS16: 127065.06 | CT16: 16660 | CU16: =AVERAGE(CP16:CT16) -> 55739.421 | CV16: 85869.318 | CW16: 13566 | CX16: 14994 | CY16: 107336.65 | CZ16: 14280 | DA16: =AVERAGE(CV16:CZ16) -> 47209.193 | DB16: 84676.154 | DC16: 14696.5 | DD16: 16243.5 | DE16: 105845.19 | DF16: 15470 | DG16: =AVERAGE(DB16:DF16) -> 47386.269 | DH16: 94286.064 | DI16: 16957.5 | DJ16: 18742.5 | DK16: 117857.58 | DL16: 17850 | DM16: =AVERAGE(DH16:DL16) -> 53138.729 | DN16: 99834.853 | DO16: 20349 | DP16: 22491 | DQ16: 124793.57 | DR16: 21420 | DS16: =AVERAGE(DN16:DR16) -> 57777.684 | DT16: 226157.88 | DU16: 33915 | DV16: 37485 | DW16: 282697.34 | DX16: 35700 | DY16: =AVERAGE(DT16:DX16) -> 123191.04 | DZ16: 226157.88 | EA16: 33915 | EB16: 37485 | EC16: 282697.34 | ED16: 35700 | EE16: =AVERAGE(DZ16:ED16) -> 123191.04 | EF16: 122108.34 | EG16: 18088 | EH16: 19992 | EI16: 152635.42 | EJ16: 19040 | EK16: =AVERAGE(EF16:EJ16) -> 66372.753 | EL16: 132726.46 | EM16: 24871 | EN16: 27489 | EO16: 165908.07 | EP16: 26180 | EQ16: =AVERAGE(EL16:EP16) -> 75434.905 | ER16: 117224.01 | ES16: 16957.5 | ET16: 18742.5 | EU16: 146530.01 | EV16: 17850 | EW16: =AVERAGE(ER16:EV16) -> 63460.803 | EX16: 119616.33 | EY16: 14696.5 | EZ16: 16243.5 | FA16: 149520.42 | FB16: 15470 | FC16: =AVERAGE(EX16:FB16) -> 63109.35 | FD16: 238060.92 | FE16: 36176 | FF16: 39984 | FG16: 297576.15 | FH16: 38080 | FI16: =AVERAGE(FD16:FH16) -> 129975.41 | FJ16: 173080.01 | FK16: 22610 | FL16: 24990 | FM16: 216350.01 | FN16: 23800 | FO16: =AVERAGE(FJ16:FN16) -> 92166.003 | FP16: 159233.61 | FQ16: 15827 | FR16: 17493 | FS16: 199042.01 | FT16: 16660 | FU16: =AVERAGE(FP16:FT16) -> 81651.123 | FV16: 188130.44 | FW16: 18088 | FX16: 19992 | FY16: 235163.05 | FZ16: 19040 | GA16: =AVERAGE(FV16:FZ16) -> 96082.699 | GB16: 202290.8 | GC16: 24871 | GD16: 27489 | GE16: 252863.5 | GF16: 26180 | GG16: =AVERAGE(GB16:GF16) -> 106738.86 | GH16: 162483.27 | GI16: 15827 | GJ16: 17493 | GK16: 203104.09 | GL16: 16660 | GM16: =AVERAGE(GH16:GL16) -> 83113.472 | GN16: 165799.26 | GO16: 15827 | GP16: 17493 | GQ16: 207249.07 | GR16: 16660 | GS16: =AVERAGE(GN16:GR16) -> 84605.665
B17: 1.9 | C17: KIT CARBURADOR | D17: 148750 | E17: 81396 | F17: 89964 | G17: 185937.5 | H17: 85680 | I17: 97461 | J17: 148750 | K17: 88179 | L17: 97461 | M17: 185937.5 | N17: 92820 | O17: 104958 | P17: 175000 | Q17: 94962 | R17: 104958 | S17: 218750 | T17: 99960 | U17: =AVERAGE(P17:T17) -> 138726 | V17: 205882.35 | W17: 142443 | X17: 157437 | Y17: 257352.94 | Z17: 149940 | AA17: =AVERAGE(V17:Z17) -> 182611.06 | AB17: 161684.78 | AC17: 88179 | AD17: 97461 | AE17: 202105.98 | AF17: 92820 | AG17: =AVERAGE(AB17:AF17) -> 128450.15 | AH17: 330555.56 | AI17: 176358 | AJ17: 194922 | AK17: 413194.44 | AL17: 185640 | AM17: =AVERAGE(AH17:AL17) -> 260134 | AN17: 190217.39 | AO17: 94962 | AP17: 104958 | AQ17: 237771.74 | AR17: 99960 | AS17: =AVERAGE(AN17:AR17) -> 145573.83 | AT17: 223785.17 | AU17: 101745 | AV17: 112455 | AW17: 279731.46 | AX17: 107100 | AY17: =AVERAGE(AT17:AX17) -> 164963.32 | AZ17: 194800.94 | BA17: 84787.5 | BB17: 93712.5 | BC17: 243501.18 | BD17: 89250 | BE17: =AVERAGE(AZ17:BD17) -> 141210.42 | BF17: 196100.4 | BG17: 108528 | BH17: 119952 | BI17: 245125.5 | BJ17: 114240 | BK17: =AVERAGE(BF17:BJ17) -> 156789.18 | BL17: 228352.21 | BM17: 122094 | BN17: 134946 | BO17: 285440.26 | BP17: 128520 | BQ17: =AVERAGE(BL17:BP17) -> 179870.49 | BR17: 170977.01 | BS17: 101745 | BT17: 112455 | BU17: 213721.26 | BV17: 107100 | BW17: =AVERAGE(BR17:BV17) -> 141199.66 | BX17: 181890.44 | BY17: 122094 | BZ17: 134946 | CA17: 227363.05 | CB17: 128520 | CC17: =AVERAGE(BX17:CB17) -> 158962.7 | CD17: 333894.5 | CE17: 183141 | CF17: 202419 | CG17: 417368.13 | CH17: 192780 | CI17: =AVERAGE(CD17:CH17) -> 265920.53 | CJ17: 330709.89 | CK17: 142443 | CL17: 157437 | CM17: 413387.36 | CN17: 149940 | CO17: =AVERAGE(CJ17:CN17) -> 238783.45 | CP17: 200102.45 | CQ17: 36176 | CR17: 39984 | CS17: 250128.07 | CT17: 38080 | CU17: =AVERAGE(CP17:CT17) -> 112894.1 | CV17: 169034.09 | CW17: 29393 | CX17: 32487 | CY17: 211292.61 | CZ17: 30940 | DA17: =AVERAGE(CV17:CZ17) -> 94629.341 | DB17: 166685.34 | DC17: 31654 | DD17: 34986 | DE17: 208356.68 | DF17: 33320 | DG17: =AVERAGE(DB17:DF17) -> 95000.404 | DH17: 185602.49 | DI17: 40698 | DJ17: 44982 | DK17: 232003.11 | DL17: 42840 | DM17: =AVERAGE(DH17:DL17) -> 109225.12 | DN17: 196525.3 | DO17: 47481 | DP17: 52479 | DQ17: 245656.63 | DR17: 49980 | DS17: =AVERAGE(DN17:DR17) -> 118424.39 | DT17: 445192.67 | DU17: 84787.5 | DV17: 93712.5 | DW17: 556490.83 | DX17: 89250 | DY17: =AVERAGE(DT17:DX17) -> 253886.7 | DZ17: 445192.67 | EA17: 84787.5 | EB17: 93712.5 | EC17: 556490.83 | ED17: 89250 | EE17: =AVERAGE(DZ17:ED17) -> 253886.7 | EF17: 240370.75 | EG17: 42959 | EH17: 47481 | EI17: 300463.43 | EJ17: 45220 | EK17: =AVERAGE(EF17:EJ17) -> 135298.84 | EL17: 261272.55 | EM17: 61047 | EN17: 67473 | EO17: 326590.69 | EP17: 64260 | EQ17: =AVERAGE(EL17:EP17) -> 156128.65 | ER17: 230755.92 | ES17: 40698 | ET17: 44982 | EU17: 288444.9 | EV17: 42840 | EW17: =AVERAGE(ER17:EV17) -> 129544.16 | EX17: 235465.22 | EY17: 31654 | EZ17: 34986 | FA17: 294331.53 | FB17: 33320 | FC17: =AVERAGE(EX17:FB17) -> 125951.35 | FD17: 468623.86 | FE17: 92701 | FF17: 102459 | FG17: 585779.83 | FH17: 97580 | FI17: =AVERAGE(FD17:FH17) -> 269428.74 | FJ17: 340708.67 | FK17: 50872.5 | FL17: 56227.5 | FM17: 425885.84 | FN17: 53550 | FO17: =AVERAGE(FJ17:FN17) -> 185448.9 | FP17: 313451.98 | FQ17: 36176 | FR17: 39984 | FS17: 391814.98 | FT17: 38080 | FU17: =AVERAGE(FP17:FT17) -> 163901.39 | FV17: 370335.52 | FW17: 42959 | FX17: 47481 | FY17: 462919.39 | FZ17: 45220 | GA17: =AVERAGE(FV17:FZ17) -> 193782.98 | GB17: 398210.23 | GC17: 61047 | GD17: 67473 | GE17: 497762.79 | GF17: 64260 | GG17: =AVERAGE(GB17:GF17) -> 217750.6 | GH17: 319848.96 | GI17: 33915 | GJ17: 37485 | GK17: 399811.2 | GL17: 35700 | GM17: =AVERAGE(GH17:GL17) -> 165352.03 | GN17: 326376.49 | GO17: 38437 | GP17: 42483 | GQ17: 407970.61 | GR17: 40460 | GS17: =AVERAGE(GN17:GR17) -> 171145.42
B18: 1.10 | C18: LLAVE PASO COMBUSTIBLE | D18: 74375 | E18: 54264 | F18: 59976 | G18: 92968.75 | H18: 57120 | I18: 67473 | J18: 74375 | K18: 61047 | L18: 67473 | M18: 92968.75 | N18: 64260 | O18: 74970 | P18: 87500 | Q18: 67830 | R18: 74970 | S18: 109375 | T18: 71400 | U18: =AVERAGE(P18:T18) -> 82215 | V18: 102941.18 | W18: 94962 | X18: 104958 | Y18: 128676.47 | Z18: 99960 | AA18: =AVERAGE(V18:Z18) -> 106299.53 | AB18: 80842.391 | AC18: 61047 | AD18: 67473 | AE18: 101052.99 | AF18: 64260 | AG18: =AVERAGE(AB18:AF18) -> 74935.076 | AH18: 165277.78 | AI18: 122094 | AJ18: 134946 | AK18: 206597.22 | AL18: 128520 | AM18: =AVERAGE(AH18:AL18) -> 151487 | AN18: 95108.696 | AO18: 64438.5 | AP18: 71221.5 | AQ18: 118885.87 | AR18: 67830 | AS18: =AVERAGE(AN18:AR18) -> 83496.913 | AT18: 111892.58 | AU18: 67830 | AV18: 74970 | AW18: 139865.73 | AX18: 71400 | AY18: =AVERAGE(AT18:AX18) -> 93191.662 | AZ18: 97400.471 | BA18: 57655.5 | BB18: 63724.5 | BC18: 121750.59 | BD18: 60690 | BE18: =AVERAGE(AZ18:BD18) -> 80244.212 | BF18: 98050.202 | BG18: 74613 | BH18: 82467 | BI18: 122562.75 | BJ18: 78540 | BK18: =AVERAGE(BF18:BJ18) -> 91246.591 | BL18: 114176.11 | BM18: 81396 | BN18: 89964 | BO18: 142720.13 | BP18: 85680 | BQ18: =AVERAGE(BL18:BP18) -> 102787.25 | BR18: 85488.506 | BS18: 67830 | BT18: 74970 | BU18: 106860.63 | BV18: 71400 | BW18: =AVERAGE(BR18:BV18) -> 81309.828 | BX18: 90945.219 | BY18: 81396 | BZ18: 89964 | CA18: 113681.52 | CB18: 85680 | CC18: =AVERAGE(BX18:CB18) -> 92333.348 | CD18: 166947.25 | CE18: 128877 | CF18: 142443 | CG18: 208684.06 | CH18: 135660 | CI18: =AVERAGE(CD18:CH18) -> 156522.26 | CJ18: 165354.94 | CK18: 94962 | CL18: 104958 | CM18: 206693.68 | CN18: 99960 | CO18: =AVERAGE(CJ18:CN18) -> 134385.72 | CP18: 100051.23 | CQ18: 24871 | CR18: 27489 | CS18: 125064.03 | CT18: 26180 | CU18: =AVERAGE(CP18:CT18) -> 60731.052 | CV18: 84517.045 | CW18: 20349 | CX18: 22491 | CY18: 105646.31 | CZ18: 21420 | DA18: =AVERAGE(CV18:CZ18) -> 50884.67 | DB18: 83342.671 | DC18: 21479.5 | DD18: 23740.5 | DE18: 104178.34 | DF18: 22610 | DG18: =AVERAGE(DB18:DF18) -> 51070.202 | DH18: 92801.244 | DI18: 27132 | DJ18: 29988 | DK18: 116001.55 | DL18: 28560 | DM18: =AVERAGE(DH18:DL18) -> 58896.56 | DN18: 98262.65 | DO18: 31654 | DP18: 34986 | DQ18: 122828.31 | DR18: 33320 | DS18: =AVERAGE(DN18:DR18) -> 64210.193 | DT18: 222596.33 | DU18: 54264 | DV18: 59976 | DW18: 278245.42 | DX18: 57120 | DY18: =AVERAGE(DT18:DX18) -> 134440.35 | DZ18: 222596.33 | EA18: 54264 | EB18: 59976 | EC18: 278245.42 | ED18: 57120 | EE18: =AVERAGE(DZ18:ED18) -> 134440.35 | EF18: 120185.37 | EG18: 28262.5 | EH18: 31237.5 | EI18: 150231.72 | EJ18: 29750 | EK18: =AVERAGE(EF18:EJ18) -> 71933.418 | EL18: 130636.28 | EM18: 42959 | EN18: 47481 | EO18: 163295.35 | EP18: 45220 | EQ18: =AVERAGE(EL18:EP18) -> 85918.324 | ER18: 115377.96 | ES18: 27132 | ET18: 29988 | EU18: 144222.45 | EV18: 28560 | EW18: =AVERAGE(ER18:EV18) -> 69056.082 | EX18: 117732.61 | EY18: 21479.5 | EZ18: 23740.5 | FA18: 147165.76 | FB18: 22610 | FC18: =AVERAGE(EX18:FB18) -> 66545.675 | FD18: 234311.93 | FE18: 58786 | FF18: 64974 | FG18: 292889.91 | FH18: 61880 | FI18: =AVERAGE(FD18:FH18) -> 142568.37 | FJ18: 170354.34 | FK18: 33915 | FL18: 37485 | FM18: 212942.92 | FN18: 35700 | FO18: =AVERAGE(FJ18:FN18) -> 98079.452 | FP18: 156725.99 | FQ18: 24871 | FR18: 27489 | FS18: 195907.49 | FT18: 26180 | FU18: =AVERAGE(FP18:FT18) -> 86234.696 | FV18: 185167.76 | FW18: 28262.5 | FX18: 31237.5 | FY18: 231459.7 | FZ18: 29750 | GA18: =AVERAGE(FV18:FZ18) -> 101175.49 | GB18: 199105.12 | GC18: 42959 | GD18: 47481 | GE18: 248881.39 | GF18: 45220 | GG18: =AVERAGE(GB18:GF18) -> 116729.3 | GH18: 159924.48 | GI18: 22610 | GJ18: 24990 | GK18: 199905.6 | GL18: 23800 | GM18: =AVERAGE(GH18:GL18) -> 86246.016 | GN18: 163188.24 | GO18: 24871 | GP18: 27489 | GQ18: 203985.31 | GR18: 26180 | GS18: =AVERAGE(GN18:GR18) -> 89142.71
B19: 2 | C19: MOTOR | D19: 0 | E19: 0 | F19: 0 | G19: 0 | H19: 0 | I19: 0 | J19: 0 | K19: 0 | L19: 0 | M19: 0 | N19: 0 | O19: 0 | P19: 0 | Q19: 0 | R19: 0 | S19: 0 | T19: 0 | V19: 0 | W19: 0 | X19: 0 | Y19: 0 | Z19: 0 | AB19: 0 | AC19: 0 | AD19: 0 | AE19: 0 | AF19: 0 | AH19: 0 | AI19: 0 | AJ19: 0 | AK19: 0 | AL19: 0 | AN19: 0 | AO19: 0 | AP19: 0 | AQ19: 0 | AR19: 0 | AT19: 0 | AU19: 0 | AV19: 0 | AW19: 0 | AX19: 0 | AZ19: 0 | BA19: 0 | BB19: 0 | BC19: 0 | BD19: 0 | BE19: 0 | BF19: 0 | BG19: 0 | BH19: 0 | BI19: 0 | BJ19: 0 | BL19: 0 | BM19: 0 | BN19: 0 | BO19: 0 | BP19: 0 | BR19: 0 | BS19: 0 | BT19: 0 | BU19: 0 | BV19: 0 | BX19: 0 | BY19: 0 | BZ19: 0 | CA19: 0 | CB19: 0 | CD19: 0 | CE19: 0 | CF19: 0 | CG19: 0 | CH19: 0 | CJ19: 0 | CK19: 0 | CL19: 0 | CM19: 0 | CN19: 0 | CP19: 0 | CQ19: 0 | CR19: 0 | CS19: 0 | CT19: 0 | CV19: 0 | CW19: 0 | CX19: 0 | CY19: 0 | CZ19: 0 | DB19: 0 | DC19: 0 | DD19: 0 | DE19: 0 | DF19: 0 | DH19: 0 | DI19: 0 | DJ19: 0 | DK19: 0 | DL19: 0 | DN19: 0 | DO19: 0 | DP19: 0 | DQ19: 0 | DR19: 0 | DT19: 0 | DU19: 0 | DV19: 0 | DW19: 0 | DX19: 0 | DZ19: 0 | EA19: 0 | EB19: 0 | EC19: 0 | ED19: 0 | EF19: 0 | EG19: 0 | EH19: 0 | EI19: 0 | EJ19: 0 | EL19: 0 | EM19: 0 | EN19: 0 | EO19: 0 | EP19: 0 | ER19: 0 | ES19: 0 | ET19: 0 | EU19: 0 | EV19: 0 | EX19: 0 | EY19: 0 | EZ19: 0 | FA19: 0 | FB19: 0 | FD19: 0 | FE19: 0 | FF19: 0 | FG19: 0 | FH19: 0 | FJ19: 0 | FK19: 0 | FL19: 0 | FM19: 0 | FN19: 0 | FP19: 0 | FQ19: 0 | FR19: 0 | FS19: 0 | FT19: 0 | FV19: 0 | FW19: 0 | FX19: 0 | FY19: 0 | FZ19: 0 | GB19: 0 | GC19: 0 | GD19: 0 | GE19: 0 | GF19: 0 | GH19: 0 | GI19: 0 | GJ19: 0 | GK19: 0 | GL19: 0 | GN19: 0 | GO19: 0 | GP19: 0 | GQ19: 0 | GR19: 0
B20: 2.1 | C20: BALANCIN | D20: 41650 | E20: 94962 | F20: 104958 | G20: 52062.5 | H20: 99960 | I20: 112455 | J20: 41650 | K20: 101745 | L20: 112455 | M20: 52062.5 | N20: 107100 | O20: 127449 | P20: 49000 | Q20: 115311 | R20: 127449 | S20: 61250 | T20: 121380 | U20: =AVERAGE(P20:T20) -> 94878 | V20: 57647.059 | W20: 176358 | X20: 194922 | Y20: 72058.824 | Z20: 185640 | AA20: =AVERAGE(V20:Z20) -> 137325.18 | AB20: 45271.739 | AC20: 108528 | AD20: 119952 | AE20: 56589.674 | AF20: 114240 | AG20: =AVERAGE(AB20:AF20) -> 88916.283 | AH20: 92555.556 | AI20: 230622 | AJ20: 254898 | AK20: 115694.44 | AL20: 242760 | AM20: =AVERAGE(AH20:AL20) -> 187306 | AN20: 53260.87 | AO20: 115311 | AP20: 127449 | AQ20: 66576.087 | AR20: 121380 | AS20: =AVERAGE(AN20:AR20) -> 96795.391 | AT20: 62659.847 | AU20: 122094 | AV20: 134946 | AW20: 78324.808 | AX20: 128520 | AY20: =AVERAGE(AT20:AX20) -> 105308.93 | AZ20: 54544.264 | BA20: 101745 | BB20: 112455 | BC20: 68180.33 | BD20: 107100 | BE20: =AVERAGE(AZ20:BD20) -> 88804.919 | BF20: 54908.113 | BG20: 128877 | BH20: 142443 | BI20: 68635.141 | BJ20: 135660 | BK20: =AVERAGE(BF20:BJ20) -> 106104.65 | BL20: 63938.619 | BM20: 149226 | BN20: 164934 | BO20: 79923.274 | BP20: 157080 | BQ20: =AVERAGE(BL20:BP20) -> 123020.38 | BR20: 47873.563 | BS20: 122094 | BT20: 134946 | BU20: 59841.954 | BV20: 128520 | BW20: =AVERAGE(BR20:BV20) -> 98655.103 | BX20: 50929.323 | BY20: 152617.5 | BZ20: 168682.5 | CA20: 63661.653 | CB20: 160650 | CC20: =AVERAGE(BX20:CB20) -> 119308.2 | CD20: 93490.46 | CE20: 244188 | CF20: 269892 | CG20: 116863.08 | CH20: 257040 | CI20: =AVERAGE(CD20:CH20) -> 196294.71 | CJ20: 92598.768 | CK20: 176358 | CL20: 194922 | CM20: 115748.46 | CN20: 185640 | CO20: =AVERAGE(CJ20:CN20) -> 153053.45 | CP20: 56028.687 | CQ20: 42959 | CR20: 47481 | CS20: 70035.858 | CT20: 45220 | CU20: =AVERAGE(CP20:CT20) -> 52344.909 | CV20: 47329.545 | CW20: 36176 | CX20: 39984 | CY20: 59161.932 | CZ20: 38080 | DA20: =AVERAGE(CV20:CZ20) -> 44146.295 | DB20: 46671.896 | DC20: 38437 | DD20: 42483 | DE20: 58339.87 | DF20: 40460 | DG20: =AVERAGE(DB20:DF20) -> 45278.353 | DH20: 51968.697 | DI20: 50872.5 | DJ20: 56227.5 | DK20: 64960.871 | DL20: 53550 | DM20: =AVERAGE(DH20:DL20) -> 55515.913 | DN20: 55027.084 | DO20: 61047 | DP20: 67473 | DQ20: 68783.855 | DR20: 64260 | DS20: =AVERAGE(DN20:DR20) -> 63318.188 | DT20: 124653.95 | DU20: 130007.5 | DV20: 143692.5 | DW20: 155817.43 | DX20: 136850 | DY20: =AVERAGE(DT20:DX20) -> 138204.28 | DZ20: 124653.95 | EA20: 130007.5 | EB20: 143692.5 | EC20: 155817.43 | ED20: 136850 | EE20: =AVERAGE(DZ20:ED20) -> 138204.28 | EF20: 67303.809 | EG20: 52003 | EH20: 57477 | EI20: 84129.762 | EJ20: 54740 | EK20: =AVERAGE(EF20:EJ20) -> 63130.714 | EL20: 73156.315 | EM20: 79135 | EN20: 87465 | EO20: 91445.393 | EP20: 83300 | EQ20: =AVERAGE(EL20:EP20) -> 82900.342 | ER20: 64611.657 | ES20: 49742 | ET20: 54978 | EU20: 80764.571 | EV20: 52360 | EW20: =AVERAGE(ER20:EV20) -> 60491.246 | EX20: 65930.262 | EY20: 38437 | EZ20: 42483 | FA20: 82412.828 | FB20: 40460 | FC20: =AVERAGE(EX20:FB20) -> 53944.618 | FD20: 131214.68 | FE20: 141312.5 | FF20: 156187.5 | FG20: 164018.35 | FH20: 148750 | FI20: =AVERAGE(FD20:FH20) -> 148296.61 | FJ20: 95398.429 | FK20: 65569 | FL20: 72471 | FM20: 119248.04 | FN20: 69020 | FO20: =AVERAGE(FJ20:FN20) -> 84341.293 | FP20: 87766.554 | FQ20: 42959 | FR20: 47481 | FS20: 109708.19 | FT20: 45220 | FU20: =AVERAGE(FP20:FT20) -> 66626.949 | FV20: 103693.94 | FW20: 52003 | FX20: 57477 | FY20: 129617.43 | FZ20: 54740 | GA20: =AVERAGE(FV20:FZ20) -> 79506.275 | GB20: 111498.86 | GC20: 81396 | GD20: 89964 | GE20: 139373.58 | GF20: 85680 | GG20: =AVERAGE(GB20:GF20) -> 101582.49 | GH20: 89557.709 | GI20: 40698 | GJ20: 44982 | GK20: 111947.14 | GL20: 42840 | GM20: =AVERAGE(GH20:GL20) -> 66004.969 | GN20: 91385.417 | GO20: 45220 | GP20: 49980 | GQ20: 114231.77 | GR20: 47600 | GS20: =AVERAGE(GN20:GR20) -> 69683.438
B21: 2.2 | C21: BIELA MOTOR | D21: 148750 | E21: 244188 | F21: 269892 | G21: 185937.5 | H21: 257040 | I21: 284886 | J21: 148750 | K21: 257754 | L21: 284886 | M21: 185937.5 | N21: 271320 | O21: 318622.5 | P21: 175000 | Q21: 288277.5 | R21: 318622.5 | S21: 218750 | T21: 303450 | U21: =AVERAGE(P21:T21) -> 260820 | V21: 205882.35 | W21: 457852.5 | X21: 506047.5 | Y21: 257352.94 | Z21: 481950 | AA21: =AVERAGE(V21:Z21) -> 381817.06 | AB21: 161684.78 | AC21: 264537 | AD21: 292383 | AE21: 202105.98 | AF21: 278460 | AG21: =AVERAGE(AB21:AF21) -> 239834.15 | AH21: 330555.56 | AI21: 593512.5 | AJ21: 655987.5 | AK21: 413194.44 | AL21: 624750 | AM21: =AVERAGE(AH21:AL21) -> 523600 | AN21: 190217.39 | AO21: 278103 | AP21: 307377 | AQ21: 237771.74 | AR21: 292740 | AS21: =AVERAGE(AN21:AR21) -> 261241.83 | AT21: 223785.17 | AU21: 291669 | AV21: 322371 | AW21: 279731.46 | AX21: 307020 | AY21: =AVERAGE(AT21:AX21) -> 284915.32 | AZ21: 194800.94 | BA21: 254362.5 | BB21: 281137.5 | BC21: 243501.18 | BD21: 267750 | BE21: =AVERAGE(AZ21:BD21) -> 248310.42 | BF21: 196100.4 | BG21: 305235 | BH21: 337365 | BI21: 245125.5 | BJ21: 321300 | BK21: =AVERAGE(BF21:BJ21) -> 281025.18 | BL21: 228352.21 | BM21: 373065 | BN21: 412335 | BO21: 285440.26 | BP21: 392700 | BQ21: =AVERAGE(BL21:BP21) -> 338378.49 | BR21: 170977.01 | BS21: 291669 | BT21: 322371 | BU21: 213721.26 | BV21: 307020 | BW21: =AVERAGE(BR21:BV21) -> 261151.66 | BX21: 181890.44 | BY21: 379848 | BZ21: 419832 | CA21: 227363.05 | CB21: 399840 | CC21: =AVERAGE(BX21:CB21) -> 321754.7 | CD21: 333894.5 | CE21: 627427.5 | CF21: 693472.5 | CG21: 417368.13 | CH21: 660450 | CI21: =AVERAGE(CD21:CH21) -> 546522.53 | CJ21: 330709.89 | CK21: 457852.5 | CL21: 506047.5 | CM21: 413387.36 | CN21: 481950 | CO21: =AVERAGE(CJ21:CN21) -> 437989.45 | CP21: 200102.45 | CQ21: 104006 | CR21: 114954 | CS21: 250128.07 | CT21: 109480 | CU21: =AVERAGE(CP21:CT21) -> 155734.1 | CV21: 169034.09 | CW21: 88179 | CX21: 97461 | CY21: 211292.61 | CZ21: 92820 | DA21: =AVERAGE(CV21:CZ21) -> 131757.34 | DB21: 166685.34 | DC21: 94962 | DD21: 104958 | DE21: 208356.68 | DF21: 99960 | DG21: =AVERAGE(DB21:DF21) -> 134984.4 | DH21: 185602.49 | DI21: 126616 | DJ21: 139944 | DK21: 232003.11 | DL21: 133280 | DM21: =AVERAGE(DH21:DL21) -> 163489.12 | DN21: 196525.3 | DO21: 156009 | DP21: 172431 | DQ21: 245656.63 | DR21: 164220 | DS21: =AVERAGE(DN21:DR21) -> 186968.39 | DT21: 445192.67 | DU21: 327845 | DV21: 362355 | DW21: 556490.83 | DX21: 345100 | DY21: =AVERAGE(DT21:DX21) -> 407396.7 | DZ21: 445192.67 | EA21: 333497.5 | EB21: 368602.5 | EC21: 556490.83 | ED21: 351050 | EE21: =AVERAGE(DZ21:ED21) -> 410966.7 | EF21: 240370.75 | EG21: 130007.5 | EH21: 143692.5 | EI21: 300463.43 | EJ21: 136850 | EK21: =AVERAGE(EF21:EJ21) -> 190276.84 | EL21: 261272.55 | EM21: 203490 | EN21: 224910 | EO21: 326590.69 | EP21: 214200 | EQ21: =AVERAGE(EL21:EP21) -> 246092.65 | ER21: 230755.92 | ES21: 124355 | ET21: 137445 | EU21: 288444.9 | EV21: 130900 | EW21: =AVERAGE(ER21:EV21) -> 182380.16 | EX21: 235465.22 | EY21: 92701 | EZ21: 102459 | FA21: 294331.53 | FB21: 97580 | FC21: =AVERAGE(EX21:FB21) -> 164507.35 | FD21: 468623.86 | FE21: 361760 | FF21: 399840 | FG21: 585779.83 | FH21: 380800 | FI21: =AVERAGE(FD21:FH21) -> 439360.74 | FJ21: 340708.67 | FK21: 167314 | FL21: 184926 | FM21: 425885.84 | FN21: 176120 | FO21: =AVERAGE(FJ21:FN21) -> 258990.9 | FP21: 313451.98 | FQ21: 101745 | FR21: 112455 | FS21: 391814.98 | FT21: 107100 | FU21: =AVERAGE(FP21:FT21) -> 205313.39 | FV21: 370335.52 | FW21: 130007.5 | FX21: 143692.5 | FY21: 462919.39 | FZ21: 136850 | GA21: =AVERAGE(FV21:FZ21) -> 248760.98 | GB21: 398210.23 | GC21: 209142.5 | GD21: 231157.5 | GE21: 497762.79 | GF21: 220150 | GG21: =AVERAGE(GB21:GF21) -> 311284.6 | GH21: 319848.96 | GI21: 97223 | GJ21: 107457 | GK21: 399811.2 | GL21: 102340 | GM21: =AVERAGE(GH21:GL21) -> 205336.03 | GN21: 326376.49 | GO21: 106267 | GP21: 117453 | GQ21: 407970.61 | GR21: 111860 | GS21: =AVERAGE(GN21:GR21) -> 213985.42
