Workbook

Sheet REPUESTOS
B2: PRECIOS TECHO LOTE 2 | D2: Mantenimiento preventivo y correctivo integral a todo costo (incluidos repuestos, mano de obra y accesorios originales u homologados) de las motocicletas que se encuentran al servicio de la Fiscalía General de la Nación en las Seccionales Cali, Cauca, Nariño y Valle del Cauca.a | AH2: RESPUESTOS MOTOCICLETAS MULTIMARCAS | BL2: RESPUESTOS MOTOCICLETAS MULTIMARCAS
AH3: MANTENIMIENTO MOTOCICLETAS | BL3: MANTENIMIENTO MOTOCICLETAS
AH4: *** Incluye Costos Directos e Indirectos | BL4: *** Incluye Costos Directos e Indirectos
B6: DESCRIPCION | D6: AKT AK125BR | J6: BAJAJ DISCOVER 125 SPORT | P6: BAJAJ PULSAR 200 NS | V6: BAJAJ PULSAR 200 SS | AB6: HERO ECO DELUXE | AH6: HONDA CB1 PRO | AN6: HONDA CBF 150 | AT6: HONDA XR 125 BRIO | AZ6: HONDA XR 150 L | BF6: HONDA XR 200 TORNADO | BL6: SUZUKI DR 200 | BR6: SUZUKI VIVA R 115 | BX6: YAMAHA XTZ125 | CD6: YAMAHA YBR125 SS
D7: COTIZACION 1 AUTOCAMPERO | E7: COTIZACION 2 DEL VALLE S.A.S | F7: COTIZACION 3 AUTO REPUESTOS MONO | G7: COTIZACION 4 SUPERITAJE SAS | H7: COTIZACION 5 VIDAL ROJAS Y CIA SAS | I7: PRECIO TECHO | J7: COTIZACION 1 AUTOCAMPERO | K7: COTIZACION 2 DEL VALLE S.A.S | L7: COTIZACION 3 AUTO REPUESTOS MONO | M7: COTIZACION 4 SUPERITAJE SAS | N7: COTIZACION 5 VIDAL ROJAS Y CIA SAS | O7: PRECIO TECHO | P7: COTIZACION 1 AUTOCAMPERO | Q7: COTIZACION 2 DEL VALLE S.A.S | R7: COTIZACION 3 AUTO REPUESTOS MONO | S7: COTIZACION 4 SUPERITAJE SAS | T7: COTIZACION 5 VIDAL ROJAS Y CIA SAS | U7: PRECIO TECHO | V7: COTIZACION 1 AUTOCAMPERO | W7: COTIZACION 2 DEL VALLE S.A.S | X7: COTIZACION 3 AUTO REPUESTOS MONO | Y7: COTIZACION 4 SUPERITAJE SAS | Z7: COTIZACION 5 VIDAL ROJAS Y CIA SAS | AA7: PRECIO TECHO | AB7: COTIZACION 1 AUTOCAMPERO | AC7: COTIZACION 2 DEL VALLE S.A.S | AD7: COTIZACION 3 AUTO REPUESTOS MONO | AE7: COTIZACION 4 SUPERITAJE SAS | AF7: COTIZACION 5 VIDAL ROJAS Y CIA SAS | AG7: PRECIO TECHO | AH7: COTIZACION 1 AUTOCAMPERO | AI7: COTIZACION 2 DEL VALLE S.A.S | AJ7: COTIZACION 3 AUTO REPUESTOS MONO | AK7: COTIZACION 4 SUPERITAJE SAS | AL7: COTIZACION 5 VIDAL ROJAS Y CIA SAS | AM7: PRECIO TECHO | AN7: COTIZACION 1 AUTOCAMPERO | AO7: COTIZACION 2 DEL VALLE S.A.S | AP7: COTIZACION 3 AUTO REPUESTOS MONO | AQ7: COTIZACION 4 SUPERITAJE SAS | AR7: COTIZACION 5 VIDAL ROJAS Y CIA SAS | AS7: PRECIO TECHO | AT7: COTIZACION 1 AUTOCAMPERO | AU7: COTIZACION 2 DEL VALLE S.A.S | AV7: COTIZACION 3 AUTO REPUESTOS MONO | AW7: COTIZACION 4 SUPERITAJE SAS | AX7: COTIZACION 5 VIDAL ROJAS Y CIA SAS | AY7: PRECIO TECHO | AZ7: COTIZACION 1 AUTOCAMPERO | BA7: COTIZACION 2 DEL VALLE S.A.S | BB7: COTIZACION 3 AUTO REPUESTOS MONO | BC7: COTIZACION 4 SUPERITAJE SAS | BD7: COTIZACION 5 VIDAL ROJAS Y CIA SAS | BE7: PRECIO TECHO | BF7: COTIZACION 1 AUTOCAMPERO | BG7: COTIZACION 2 DEL VALLE S.A.S | BH7: COTIZACION 3 AUTO REPUESTOS MONO | BI7: COTIZACION 4 SUPERITAJE SAS | BJ7: COTIZACION 5 VIDAL ROJAS Y CIA SAS | BK7: PRECIO TECHO | BL7: COTIZACION 1 AUTOCAMPERO | BM7: COTIZACION 2 DEL VALLE S.A.S | BN7: COTIZACION 3 AUTO REPUESTOS MONO | BO7: COTIZACION 4 SUPERITAJE SAS | BP7: COTIZACION 5 VIDAL ROJAS Y CIA SAS | BQ7: PRECIO TECHO | BR7: COTIZACION 1 AUTOCAMPERO | BS7: COTIZACION 2 DEL VALLE S.A.S | BT7: COTIZACION 3 AUTO REPUESTOS MONO | BU7: COTIZACION 4 SUPERITAJE SAS | BV7: COTIZACION 5 VIDAL ROJAS Y CIA SAS | BW7: PRECIO TECHO | BX7: COTIZACION 1 AUTOCAMPERO | BY7: COTIZACION 2 DEL VALLE S.A.S | BZ7: COTIZACION 3 AUTO REPUESTOS MONO | CA7: COTIZACION 4 SUPERITAJE SAS | CB7: COTIZACION 5 VIDAL ROJAS Y CIA SAS | CC7: PRECIO TECHO | CD7: COTIZACION 1 AUTOCAMPERO | CE7: COTIZACION 2 DEL VALLE S.A.S | CF7: COTIZACION 3 AUTO REPUESTOS MONO | CG7: COTIZACION 4 SUPERITAJE SAS | CH7: COTIZACION 5 VIDAL ROJAS Y CIA SAS | CI7: PRECIO TECHO
B8: 1 | C8: SINCRONIZACION
B9: 1.1 | C9: AGUJA BASE Y PUNSON | D9: 47481 | E9: 52479 | F9: 130005.26 | G9: 49980 | H9: 118186.6 | I9: =AVERAGE(D9:E9) -> 49980 | J9: 50872.5 | K9: 56227.5 | L9: 134527.18 | M9: 53550 | N9: 122297.44 | O9: =AVERAGE(J9:N9) -> 83494.923 | P9: 69525.75 | Q9: 76844.25 | R9: 135657.66 | S9: 73185 | T9: 123325.15 | U9: =AVERAGE(P9:T9) -> 95707.561 | V9: 72917.25 | W9: 80592.75 | X9: 137918.62 | Y9: 76755 | Z9: 125380.57 | AA9: =AVERAGE(V9:Z9) -> 98712.837 | AB9: 44089.5 | AC9: 48730.5 | AD9: 141310.06 | AE9: 46410 | AF9: 128463.69 | AG9: =AVERAGE(AB9:AF9) -> 81800.752 | AH9: 54264 | AI9: 59976 | AJ9: 148748.63 | AK9: 57120 | AL9: 135226.02 | AM9: =AVERAGE(AH9:AL9) -> 91066.93 | AN9: 59351.25 | AO9: 65598.75 | AP9: 145831.99 | AQ9: 62475 | AR9: 132574.53 | AS9: =AVERAGE(AN9:AR9) -> 93166.304 | AT9: 61047 | AU9: 67473 | AV9: 149223.43 | AW9: 64260 | AX9: 135657.66 | AY9: =AVERAGE(AT9:AX9) -> 95532.218 | AZ9: 66134.25 | BA9: 73095.75 | BB9: 152614.87 | BC9: 69615 | BD9: 138740.79 | BE9: =AVERAGE(AZ9:BD9) -> 100040.13 | BF9: 76308.75 | BG9: 84341.25 | BH9: 158267.27 | BI9: 80325 | BJ9: 143879.34 | BK9: =AVERAGE(BF9:BJ9) -> 108624.32 | BL9: 78004.5 | BM9: 86215.5 | BN9: 152614.87 | BO9: 82110 | BP9: 138740.79 | BQ9: =AVERAGE(BL9:BP9) -> 107537.13 | BR9: 49176.75 | BS9: 54353.25 | BT9: 148092.95 | BU9: 51765 | BV9: 134629.95 | BW9: =AVERAGE(BR9:BV9) -> 87603.58 | BX9: 64438.5 | BY9: 71221.5 | BZ9: 160528.23 | CA9: 67830 | CB9: 145934.76 | CC9: =AVERAGE(BX9:CB9) -> 101990.6 | CD9: 57655.5 | CE9: 63724.5 | CF9: 158267.27 | CG9: 60690 | CH9: 143879.34 | CI9: =AVERAGE(CD9:CH9) -> 96843.322
B10: 1.2 | C10: BUJIA | D10: 40698 | E10: 44982 | F10: 59726.077 | G10: 42840 | H10: 54296.434 | I10: =AVERAGE(D10:E10) -> 42840 | J10: 44089.5 | K10: 48730.5 | L10: 61803.506 | M10: 46410 | N10: 56185.005 | O10: =AVERAGE(J10:N10) -> 51443.702 | P10: 59351.25 | Q10: 65598.75 | R10: 62322.863 | S10: 62475 | T10: 56657.148 | U10: =AVERAGE(P10:T10) -> 61281.002 | V10: 61047 | W10: 67473 | X10: 63361.578 | Y10: 64260 | Z10: 57601.434 | AA10: =AVERAGE(V10:Z10) -> 62748.602 | AB10: 37306.5 | AC10: 41233.5 | AD10: 64919.649 | AE10: 39270 | AF10: 59017.863 | AG10: =AVERAGE(AB10:AF10) -> 48349.502 | AH10: 47481 | AI10: 52479 | AJ10: 68337.02 | AK10: 49980 | AL10: 62124.563 | AM10: =AVERAGE(AH10:AL10) -> 56080.317 | AN10: 50872.5 | AO10: 56227.5 | AP10: 66997.078 | AQ10: 53550 | AR10: 60906.435 | AS10: =AVERAGE(AN10:AR10) -> 57710.702 | AT10: 52568.25 | AU10: 58101.75 | AV10: 68555.15 | AW10: 55335 | AX10: 62322.863 | AY10: =AVERAGE(AT10:AX10) -> 59376.603 | AZ10: 55959.75 | BA10: 61850.25 | BB10: 70113.221 | BC10: 58905 | BD10: 63739.292 | BE10: =AVERAGE(AZ10:BD10) -> 62113.503 | BF10: 64438.5 | BG10: 71221.5 | BH10: 72710.007 | BI10: 67830 | BJ10: 66100.006 | BK10: =AVERAGE(BF10:BJ10) -> 68460.003 | BL10: 67830 | BM10: 74970 | BN10: 70113.221 | BO10: 71400 | BP10: 63739.292 | BQ10: =AVERAGE(BL10:BP10) -> 69610.503 | BR10: 42393.75 | BS10: 46856.25 | BT10: 68035.792 | BU10: 44625 | BV10: 61850.72 | BW10: =AVERAGE(BR10:BV10) -> 52752.303 | BX10: 54264 | BY10: 59976 | BZ10: 73748.721 | CA10: 57120 | CB10: 67044.292 | CC10: =AVERAGE(BX10:CB10) -> 62430.603 | CD10: 49176.75 | CE10: 54353.25 | CF10: 72710.007 | CG10: 51765 | CH10: 66100.006 | CI10: =AVERAGE(CD10:CH10) -> 58821.003
B11: 1.3 | C11: CARBURADOR | D11: 457852.5 | E11: 506047.5 | F11: 842357.5 | G11: 481950 | H11: 765779.54 | I11: =AVERAGE(D11:E11) -> 481950 | J11: 495159 | K11: 547281 | L11: 871656.89 | M11: 521220 | N11: 792415.35 | O11: =AVERAGE(J11:N11) -> 645546.45 | P11: 664734 | Q11: 734706 | R11: 878981.74 | S11: 699720 | T11: 799074.3 | U11: =AVERAGE(P11:T11) -> 755443.21 | V11: 695257.5 | W11: 768442.5 | X11: 893631.43 | Y11: 731850 | Z11: 812392.21 | AA11: =AVERAGE(V11:Z11) -> 780314.73 | AB11: 420546 | AC11: 464814 | AD11: 915605.97 | AE11: 442680 | AF11: 832369.07 | AG11: =AVERAGE(AB11:AF11) -> 615203.01 | AH11: 525682.5 | AI11: 581017.5 | AJ11: 963803.47 | AK11: 553350 | AL11: 876184.98 | AM11: =AVERAGE(AH11:AL11) -> 700007.69 | AN11: 573163.5 | AO11: 633496.5 | AP11: 944905.37 | AQ11: 603330 | AR11: 859004.88 | AS11: =AVERAGE(AN11:AR11) -> 722780.05 | AT11: 586729.5 | AU11: 648490.5 | AV11: 966879.91 | AW11: 617610 | AX11: 878981.74 | AY11: =AVERAGE(AT11:AX11) -> 739738.33 | AZ11: 632514.75 | BA11: 699095.25 | BB11: 988854.45 | BC11: 665805 | BD11: 898958.59 | BE11: =AVERAGE(AZ11:BD11) -> 777045.61 | BF11: 732564 | BG11: 809676 | BH11: 1025478.7 | BI11: 771120 | BJ11: 932253.36 | BK11: =AVERAGE(BF11:BJ11) -> 854218.41 | BL11: 756304.5 | BM11: 835915.5 | BN11: 988854.45 | BO11: 796110 | BP11: 898958.59 | BQ11: =AVERAGE(BL11:BP11) -> 855228.61 | BR11: 481593 | BS11: 532287 | BT11: 959555.06 | BU11: 506940 | BV11: 872322.78 | BW11: =AVERAGE(BR11:BV11) -> 670539.57 | BX11: 617253 | BY11: 682227 | BZ11: 1040128.4 | CA11: 649740 | CB11: 945571.26 | CC11: =AVERAGE(BX11:CB11) -> 786983.93 | CD11: 559597.5 | CE11: 618502.5 | CF11: 1025478.7 | CG11: 589050 | CH11: 932253.36 | CI11: =AVERAGE(CD11:CH11) -> 744976.41
B12: 1.4 | C12: EMPAQUES CARBURADOR | D12: 30523.5 | E12: 33736.5 | F12: 34802.789 | G12: 32130 | H12: 31638.899 | I12: =AVERAGE(D12:E12) -> 32130 | J12: 32219.25 | K12: 35610.75 | L12: 36013.321 | M12: 33915 | N12: 32739.383 | O12: =AVERAGE(J12:N12) -> 34099.541 | P12: 44089.5 | Q12: 48730.5 | R12: 36315.954 | S12: 46410 | T12: 33014.504 | U12: =AVERAGE(P12:T12) -> 41712.092 | V12: 45785.25 | W12: 50604.75 | X12: 36921.22 | Y12: 48195 | Z12: 33564.745 | AA12: =AVERAGE(V12:Z12) -> 43014.193 | AB12: 28827.75 | AC12: 31862.25 | AD12: 37829.119 | AE12: 30345 | AF12: 34390.108 | AG12: =AVERAGE(AB12:AF12) -> 32650.845 | AH12: 35610.75 | AI12: 39359.25 | AJ12: 39820.444 | AK12: 37485 | AL12: 36200.403 | AM12: =AVERAGE(AH12:AL12) -> 37695.169 | AN12: 37306.5 | AO12: 41233.5 | AP12: 39039.651 | AQ12: 39270 | AR12: 35490.592 | AS12: =AVERAGE(AN12:AR12) -> 38468.048 | AT12: 39002.25 | AU12: 43107.75 | AV12: 39947.55 | AW12: 41055 | AX12: 36315.954 | AY12: =AVERAGE(AT12:AX12) -> 39885.701 | AZ12: 42393.75 | BA12: 46856.25 | BB12: 40855.448 | BC12: 44625 | BD12: 37141.317 | BE12: =AVERAGE(AZ12:BD12) -> 42374.353 | BF12: 49176.75 | BG12: 54353.25 | BH12: 42368.613 | BI12: 51765 | BJ12: 38516.921 | BK12: =AVERAGE(BF12:BJ12) -> 47236.107 | BL12: 50872.5 | BM12: 56227.5 | BN12: 40855.448 | BO12: 53550 | BP12: 37141.317 | BQ12: =AVERAGE(BL12:BP12) -> 47729.353 | BR12: 32219.25 | BS12: 35610.75 | BT12: 39644.917 | BU12: 33915 | BV12: 36040.833 | BW12: =AVERAGE(BR12:BV12) -> 35486.15 | BX12: 40698 | BY12: 44982 | BZ12: 42973.879 | CA12: 42840 | CB12: 39067.163 | CC12: =AVERAGE(BX12:CB12) -> 42112.208 | CD12: 37306.5 | CE12: 41233.5 | CF12: 42368.613 | CG12: 39270 | CH12: 38516.921 | CI12: =AVERAGE(CD12:CH12) -> 39739.107
B13: 1.5 | C13: FILTRO COMBUSTIBLE | D13: 23740.5 | E13: 26239.5 | F13: 32557.448 | G13: 24990 | H13: 29597.68 | I13: =AVERAGE(D13:E13) -> 24990 | J13: 25436.25 | K13: 28113.75 | L13: 33689.881 | M13: 26775 | N13: 30627.165 | O13: =AVERAGE(J13:N13) -> 28928.409 | P13: 33915 | Q13: 37485 | R13: 33972.989 | S13: 35700 | T13: 30884.536 | U13: =AVERAGE(P13:T13) -> 34391.505 | V13: 35610.75 | W13: 39359.25 | X13: 34539.206 | Y13: 37485 | Z13: 31399.278 | AA13: =AVERAGE(V13:Z13) -> 35678.697 | AB13: 22044.75 | AC13: 24365.25 | AD13: 35388.531 | AE13: 23205 | AF13: 32171.391 | AG13: =AVERAGE(AB13:AF13) -> 27434.984 | AH13: 27132 | AI13: 29988 | AJ13: 37251.383 | AK13: 28560 | AL13: 33864.893 | AM13: =AVERAGE(AH13:AL13) -> 31359.255 | AN13: 30523.5 | AO13: 33736.5 | AP13: 36520.964 | AQ13: 32130 | AR13: 33200.876 | AS13: =AVERAGE(AN13:AR13) -> 33222.368 | AT13: 30523.5 | AU13: 33736.5 | AV13: 37370.288 | AW13: 32130 | AX13: 33972.989 | AY13: =AVERAGE(AT13:AX13) -> 33546.656 | AZ13: 32219.25 | BA13: 35610.75 | BB13: 38219.613 | BC13: 33915 | BD13: 34745.103 | BE13: =AVERAGE(AZ13:BD13) -> 34941.943 | BF13: 37306.5 | BG13: 41233.5 | BH13: 39635.154 | BI13: 39270 | BJ13: 36031.958 | BK13: =AVERAGE(BF13:BJ13) -> 38695.423 | BL13: 39002.25 | BM13: 43107.75 | BN13: 38219.613 | BO13: 41055 | BP13: 34745.103 | BQ13: =AVERAGE(BL13:BP13) -> 39225.943 | BR13: 25436.25 | BS13: 28113.75 | BT13: 37087.18 | BU13: 26775 | BV13: 33715.618 | BW13: =AVERAGE(BR13:BV13) -> 30225.56 | BX13: 32219.25 | BY13: 35610.75 | BZ13: 40201.371 | CA13: 33915 | CB13: 36546.701 | CC13: =AVERAGE(BX13:CB13) -> 35698.614 | CD13: 28827.75 | CE13: 31862.25 | CF13: 39635.154 | CG13: 30345 | CH13: 36031.958 | CI13: =AVERAGE(CD13:CH13) -> 33340.423
B14: 1.6 | C14: FILTRO DE AIRE | D14: 54264 | E14: 59976 | F14: 56133.531 | G14: 57120 | H14: 51030.483 | I14: =AVERAGE(D14:E14) -> 57120 | J14: 59351.25 | K14: 65598.75 | L14: 58086.002 | M14: 62475 | N14: 52805.456 | O14: =AVERAGE(J14:N14) -> 59663.292 | P14: 78004.5 | Q14: 86215.5 | R14: 58574.12 | S14: 82110 | T14: 53249.2 | U14: =AVERAGE(P14:T14) -> 71630.664 | V14: 83091.75 | W14: 91838.25 | X14: 59550.355 | Y14: 87465 | Z14: 54136.686 | AA14: =AVERAGE(V14:Z14) -> 75216.408 | AB14: 50872.5 | AC14: 56227.5 | AD14: 61014.708 | AE14: 53550 | AF14: 55467.916 | AG14: =AVERAGE(AB14:AF14) -> 55426.525 | AH14: 62742.75 | AI14: 69347.25 | AJ14: 64226.522 | AK14: 66045 | AL14: 58387.747 | AM14: =AVERAGE(AH14:AL14) -> 64149.854 | AN14: 67830 | AO14: 74970 | AP14: 62967.179 | AQ14: 71400 | AR14: 57242.89 | AS14: =AVERAGE(AN14:AR14) -> 66882.014 | AT14: 69525.75 | AU14: 76844.25 | AV14: 64431.532 | AW14: 73185 | AX14: 58574.12 | AY14: =AVERAGE(AT14:AX14) -> 68512.13 | AZ14: 74613 | BA14: 82467 | BB14: 65895.885 | BC14: 78540 | BD14: 59905.35 | BE14: =AVERAGE(AZ14:BD14) -> 72284.247 | BF14: 86483.25 | BG14: 95586.75 | BH14: 68336.473 | BI14: 91035 | BJ14: 62124.066 | BK14: =AVERAGE(BF14:BJ14) -> 80713.108 | BL14: 89874.75 | BM14: 99335.25 | BN14: 65895.885 | BO14: 94605 | BP14: 59905.35 | BQ14: =AVERAGE(BL14:BP14) -> 81923.247 | BR14: 57655.5 | BS14: 63724.5 | BT14: 63943.414 | BU14: 60690 | BV14: 58130.376 | BW14: =AVERAGE(BR14:BV14) -> 60828.758 | BX14: 72917.25 | BY14: 80592.75 | BZ14: 69312.708 | CA14: 76755 | CB14: 63011.553 | CC14: =AVERAGE(BX14:CB14) -> 72517.852 | CD14: 66134.25 | CE14: 73095.75 | CF14: 68336.473 | CG14: 69615 | CH14: 62124.066 | CI14: =AVERAGE(CD14:CH14) -> 67861.108
B15: 1.7 | C15: GUAYA ACELERADOR | D15: 50872.5 | E15: 56227.5 | F15: 85322.968 | G15: 53550 | H15: 77566.334 | I15: =AVERAGE(D15:E15) -> 53550 | J15: 54264 | K15: 59976 | L15: 88290.723 | M15: 57120 | N15: 80264.294 | O15: =AVERAGE(J15:N15) -> 67983.003 | P15: 74613 | Q15: 82467 | R15: 89032.662 | S15: 78540 | T15: 80938.783 | U15: =AVERAGE(P15:T15) -> 81118.289 | V15: 78004.5 | W15: 86215.5 | X15: 90516.539 | Y15: 82110 | Z15: 82287.763 | AA15: =AVERAGE(V15:Z15) -> 83826.861 | AB15: 47481 | AC15: 52479 | AD15: 92742.356 | AE15: 49980 | AF15: 84311.233 | AG15: =AVERAGE(AB15:AF15) -> 65398.718 | AH15: 57655.5 | AI15: 63724.5 | AJ15: 97624.314 | AK15: 60690 | AL15: 88749.376 | AM15: =AVERAGE(AH15:AL15) -> 73688.738 | AN15: 64438.5 | AO15: 71221.5 | AP15: 95710.111 | AQ15: 67830 | AR15: 87009.192 | AS15: =AVERAGE(AN15:AR15) -> 77241.861 | AT15: 64438.5 | AU15: 71221.5 | AV15: 97935.928 | AW15: 67830 | AX15: 89032.662 | AY15: =AVERAGE(AT15:AX15) -> 78091.718 | AZ15: 69525.75 | BA15: 76844.25 | BB15: 100161.74 | BC15: 73185 | BD15: 91056.131 | BE15: =AVERAGE(AZ15:BD15) -> 82154.575 | BF15: 81396 | BG15: 89964 | BH15: 103871.44 | BI15: 85680 | BJ15: 94428.581 | BK15: =AVERAGE(BF15:BJ15) -> 91068.004 | BL15: 84787.5 | BM15: 93712.5 | BN15: 100161.74 | BO15: 89250 | BP15: 91056.131 | BQ15: =AVERAGE(BL15:BP15) -> 91793.575 | BR15: 54264 | BS15: 59976 | BT15: 97193.989 | BU15: 57120 | BV15: 88358.172 | BW15: =AVERAGE(BR15:BV15) -> 71382.432 | BX15: 67830 | BY15: 74970 | BZ15: 105355.32 | CA15: 71400 | CB15: 95777.56 | CC15: =AVERAGE(BX15:CB15) -> 83066.575 | CD15: 62742.75 | CE15: 69347.25 | CF15: 103871.44 | CG15: 66045 | CH15: 94428.581 | CI15: =AVERAGE(CD15:CH15) -> 79287.004
B16: 1.8 | C16: GUAYA CHOQUE | D16: 44089.5 | E16: 48730.5 | F16: 78586.944 | G16: 46410 | H16: 71442.676 | I16: =AVERAGE(D16:E16) -> 46410 | J16: 47481 | K16: 52479 | L16: 81320.403 | M16: 49980 | N16: 73927.639 | O16: =AVERAGE(J16:N16) -> 61037.608 | P16: 64438.5 | Q16: 71221.5 | R16: 82003.767 | S16: 67830 | T16: 74548.879 | U16: =AVERAGE(P16:T16) -> 72008.529 | V16: 67830 | W16: 74970 | X16: 83370.497 | Y16: 71400 | Z16: 75791.361 | AA16: =AVERAGE(V16:Z16) -> 74672.372 | AB16: 40698 | AC16: 44982 | AD16: 85420.591 | AE16: 42840 | AF16: 77655.083 | AG16: =AVERAGE(AB16:AF16) -> 58319.135 | AH16: 50872.5 | AI16: 56227.5 | AJ16: 89917.131 | AK16: 53550 | AL16: 81742.846 | AM16: =AVERAGE(AH16:AL16) -> 66461.995 | AN16: 54264 | AO16: 59976 | AP16: 88154.05 | AQ16: 57120 | AR16: 80140.045 | AS16: =AVERAGE(AN16:AR16) -> 67930.819 | AT16: 55959.75 | AU16: 61850.25 | AV16: 90204.144 | AW16: 58905 | AX16: 82003.767 | AY16: =AVERAGE(AT16:AX16) -> 69784.582 | AZ16: 61047 | BA16: 67473 | BB16: 92254.238 | BC16: 64260 | BD16: 83867.489 | BE16: =AVERAGE(AZ16:BD16) -> 73780.346 | BF16: 71221.5 | BG16: 78718.5 | BH16: 95671.062 | BI16: 74970 | BJ16: 86973.693 | BK16: =AVERAGE(BF16:BJ16) -> 81510.951 | BL16: 72917.25 | BM16: 80592.75 | BN16: 92254.238 | BO16: 76755 | BP16: 83867.489 | BQ16: =AVERAGE(BL16:BP16) -> 81277.346 | BR16: 45785.25 | BS16: 50604.75 | BT16: 89520.779 | BU16: 48195 | BV16: 81382.527 | BW16: =AVERAGE(BR16:BV16) -> 63097.661 | BX16: 59351.25 | BY16: 65598.75 | BZ16: 97037.791 | CA16: 62475 | CB16: 88216.174 | CC16: =AVERAGE(BX16:CB16) -> 74535.793 | CD16: 54264 | CE16: 59976 | CF16: 95671.062 | CG16: 57120 | CH16: 86973.693 | CI16: =AVERAGE(CD16:CH16) -> 70800.951
B17: 1.9 | C17: KIT CARBURADOR | D17: 94962 | E17: 104958 | F17: 249232.88 | G17: 99960 | H17: 226575.34 | I17: =AVERAGE(D17:E17) -> 99960 | J17: 101745 | K17: 112455 | L17: 257901.85 | M17: 107100 | N17: 234456.23 | O17: =AVERAGE(J17:N17) -> 162731.61 | P17: 137355.75 | Q17: 151814.25 | R17: 260069.09 | S17: 144585 | T17: 236426.45 | U17: =AVERAGE(P17:T17) -> 186050.11 | V17: 144138.75 | W17: 159311.25 | X17: 264403.58 | Y17: 151725 | Z17: 240366.89 | AA17: =AVERAGE(V17:Z17) -> 191989.09 | AB17: 88179 | AC17: 97461 | AD17: 270905.3 | AE17: 92820 | AF17: 246277.55 | AG17: =AVERAGE(AB17:AF17) -> 159128.57 | AH17: 108528 | AI17: 119952 | AJ17: 285165.76 | AK17: 114240 | AL17: 259241.6 | AM17: =AVERAGE(AH17:AL17) -> 177425.47 | AN17: 118702.5 | AO17: 131197.5 | AP17: 279574.27 | AQ17: 124950 | AR17: 254158.43 | AS17: =AVERAGE(AN17:AR17) -> 181716.54 | AT17: 122094 | AU17: 134946 | AV17: 286076 | AW17: 128520 | AX17: 260069.09 | AY17: =AVERAGE(AT17:AX17) -> 186341.02 | AZ17: 130572.75 | BA17: 144317.25 | BB17: 292577.73 | BC17: 137445 | BD17: 265979.75 | BE17: =AVERAGE(AZ17:BD17) -> 194178.5 | BF17: 152617.5 | BG17: 168682.5 | BH17: 303413.94 | BI17: 160650 | BJ17: 275830.85 | BK17: =AVERAGE(BF17:BJ17) -> 212238.96 | BL17: 156009 | BM17: 172431 | BN17: 292577.73 | BO17: 164220 | BP17: 265979.75 | BQ17: =AVERAGE(BL17:BP17) -> 210243.5 | BR17: 100049.25 | BS17: 110580.75 | BT17: 283908.76 | BU17: 105315 | BV17: 258098.87 | BW17: =AVERAGE(BR17:BV17) -> 171590.53 | BX17: 128877 | BY17: 142443 | BZ17: 307748.42 | CA17: 135660 | CB17: 279771.29 | CC17: =AVERAGE(BX17:CB17) -> 198899.94 | CD17: 115311 | CE17: 127449 | CF17: 303413.94 | CG17: 121380 | CH17: 275830.85 | CI17: =AVERAGE(CD17:CH17) -> 188676.96
B18: 1.10 | C18: LLAVE PASO COMBUSTIBLE | D18: 67830 | E18: 74970 | F18: 184117.98 | G18: 71400 | H18: 167379.98 | I18: =AVERAGE(D18:E18) -> 71400 | J18: 72917.25 | K18: 80592.75 | L18: 190522.09 | M18: 76755 | N18: 173201.9 | O18: =AVERAGE(J18:N18) -> 118797.8 | P18: 98353.5 | Q18: 108706.5 | R18: 192123.11 | S18: 103530 | T18: 174657.37 | U18: =AVERAGE(P18:T18) -> 135474.1 | V18: 103440.75 | W18: 114329.25 | X18: 195325.16 | Y18: 108885 | Z18: 177568.33 | AA18: =AVERAGE(V18:Z18) -> 139909.7 | AB18: 62742.75 | AC18: 69347.25 | AD18: 200128.24 | AE18: 66045 | AF18: 181934.77 | AG18: =AVERAGE(AB18:AF18) -> 116039.6 | AH18: 78004.5 | AI18: 86215.5 | AJ18: 210662.99 | AK18: 82110 | AL18: 191511.81 | AM18: =AVERAGE(AH18:AL18) -> 129700.96 | AN18: 84787.5 | AO18: 93712.5 | AP18: 206532.35 | AQ18: 89250 | AR18: 187756.68 | AS18: =AVERAGE(AN18:AR18) -> 132407.8 | AT18: 86483.25 | AU18: 95586.75 | AV18: 211335.42 | AW18: 91035 | AX18: 192123.11 | AY18: =AVERAGE(AT18:AX18) -> 135312.71 | AZ18: 93266.25 | BA18: 103083.75 | BB18: 216138.5 | BC18: 98175 | BD18: 196489.55 | BE18: =AVERAGE(AZ18:BD18) -> 141430.61 | BF18: 108528 | BG18: 119952 | BH18: 224143.63 | BI18: 114240 | BJ18: 203766.94 | BK18: =AVERAGE(BF18:BJ18) -> 154126.11 | BL18: 111919.5 | BM18: 123700.5 | BN18: 216138.5 | BO18: 117810 | BP18: 196489.55 | BQ18: =AVERAGE(BL18:BP18) -> 153211.61 | BR18: 71221.5 | BS18: 78718.5 | BT18: 209734.4 | BU18: 74970 | BV18: 190667.63 | BW18: =AVERAGE(BR18:BV18) -> 125062.41 | BX18: 91570.5 | BY18: 101209.5 | BZ18: 227345.68 | CA18: 96390 | CB18: 206677.89 | CC18: =AVERAGE(BX18:CB18) -> 144638.72 | CD18: 83091.75 | CE18: 91838.25 | CF18: 224143.63 | CG18: 87465 | CH18: 203766.94 | CI18: =AVERAGE(CD18:CH18) -> 138061.11
B19: 2 | C19: MOTOR
B20: 2.1 | C20: BALANCIN | D20: 108528 | E20: 119952 | F20: 192874.81 | G20: 114240 | H20: 175340.74 | I20: =AVERAGE(D20:E20) -> 114240 | J20: 117006.75 | K20: 129323.25 | L20: 199583.5 | M20: 123165 | N20: 181439.55 | O20: =AVERAGE(J20:N20) -> 150103.61 | P20: 157704.75 | Q20: 174305.25 | R20: 201260.67 | S20: 166005 | T20: 182964.25 | U20: =AVERAGE(P20:T20) -> 176447.98 | V20: 164487.75 | W20: 181802.25 | X20: 204615.02 | Y20: 173145 | Z20: 186013.65 | AA20: =AVERAGE(V20:Z20) -> 182012.73 | AB20: 100049.25 | AC20: 110580.75 | AD20: 209646.54 | AE20: 105315 | AF20: 190587.76 | AG20: =AVERAGE(AB20:AF20) -> 143235.86 | AH20: 125485.5 | AI20: 138694.5 | AJ20: 220682.33 | AK20: 132090 | AL20: 200620.3 | AM20: =AVERAGE(AH20:AL20) -> 163514.53 | AN20: 135660 | AO20: 149940 | AP20: 216355.23 | AQ20: 142800 | AR20: 196686.57 | AS20: =AVERAGE(AN20:AR20) -> 168288.36 | AT20: 139051.5 | AU20: 153688.5 | AV20: 221386.74 | AW20: 146370 | AX20: 201260.67 | AY20: =AVERAGE(AT20:AX20) -> 172351.48 | AZ20: 149226 | BA20: 164934 | BB20: 226418.26 | BC20: 157080 | BD20: 205834.78 | BE20: =AVERAGE(AZ20:BD20) -> 180698.61 | BF20: 172966.5 | BG20: 191173.5 | BH20: 234804.12 | BI20: 182070 | BJ20: 213458.29 | BK20: =AVERAGE(BF20:BJ20) -> 198894.48 | BL20: 179749.5 | BM20: 198670.5 | BN20: 226418.26 | BO20: 189210 | BP20: 205834.78 | BQ20: =AVERAGE(BL20:BP20) -> 199976.61 | BR20: 113615.25 | BS20: 125574.75 | BT20: 219709.57 | BU20: 119595 | BV20: 199735.97 | BW20: =AVERAGE(BR20:BV20) -> 155646.11 | BX20: 145834.5 | BY20: 161185.5 | BZ20: 238158.47 | CA20: 153510 | CB20: 216507.7 | CC20: =AVERAGE(BX20:CB20) -> 183039.23 | CD20: 132268.5 | CE20: 146191.5 | CF20: 234804.12 | CG20: 139230 | CH20: 213458.29 | CI20: =AVERAGE(CD20:CH20) -> 173190.48
B21: 2.2 | C21: BIELA MOTOR | D21: 254362.5 | E21: 281137.5 | F21: 379013.6 | G21: 267750 | H21: 344557.82 | I21: =AVERAGE(D21:E21) -> 267750 | J21: 274711.5 | K21: 303628.5 | L21: 392196.68 | M21: 289170 | N21: 356542.44 | O21: =AVERAGE(J21:N21) -> 323249.83 | P21: 369673.5 | Q21: 408586.5 | R21: 395492.46 | S21: 389130 | T21: 359538.6 | U21: =AVERAGE(P21:T21) -> 384484.21 | V21: 386631 | W21: 427329 | X21: 402084 | Y21: 406980 | Z21: 365530.91 | AA21: =AVERAGE(V21:Z21) -> 397710.98 | AB21: 234013.5 | AC21: 258646.5 | AD21: 411971.31 | AE21: 246330 | AF21: 374519.37 | AG21: =AVERAGE(AB21:AF21) -> 305096.14 | AH21: 291669 | AI21: 322371 | AJ21: 433657.48 | AK21: 307020 | AL21: 394234.07 | AM21: =AVERAGE(AH21:AL21) -> 349790.31 | AN21: 318801 | AO21: 352359 | AP21: 425154.39 | AQ21: 335580 | AR21: 386503.99 | AS21: =AVERAGE(AN21:AR21) -> 363679.68 | AT21: 325584 | AU21: 359856 | AV21: 435041.7 | AW21: 342720 | AX21: 395492.46 | AY21: =AVERAGE(AT21:AX21) -> 371738.83 | AZ21: 351020.25 | BA21: 387969.75 | BB21: 444929.01 | BC21: 369495 | BD21: 404480.92 | BE21: =AVERAGE(AZ21:BD21) -> 391578.99 | BF21: 406980 | BG21: 449820 | BH21: 461407.86 | BI21: 428400 | BJ21: 419461.7 | BK21: =AVERAGE(BF21:BJ21) -> 433213.91 | BL21: 420546 | BM21: 464814 | BN21: 444929.01 | BO21: 442680 | BP21: 404480.92 | BQ21: =AVERAGE(BL21:BP21) -> 435489.99 | BR21: 267928.5 | BS21: 296131.5 | BT21: 431745.93 | BU21: 282030 | BV21: 392496.3 | BW21: =AVERAGE(BR21:BV21) -> 334066.45 | BX21: 342541.5 | BY21: 378598.5 | BZ21: 467999.41 | CA21: 360570 | CB21: 425454 | CC21: =AVERAGE(BX21:CB21) -> 395032.68 | CD21: 310322.25 | CE21: 342987.75 | CF21: 461407.86 | CG21: 326655 | CH21: 419461.7 | CI21: =AVERAGE(CD21:CH21) -> 372166.91
B22: 2.3 | C22: BOMBA DE ACEITE | D22: 156009 | E22: 172431 | F22: 476012.35 | G22: 164220 | H22: 432738.5 | I22: =AVERAGE(D22:E22) -> 164220 | J22: 167879.25 | K22: 185550.75 | L22: 492569.3 | M22: 176715 | N22: 447790.27 | O22: =AVERAGE(J22:N22) -> 294100.91 | P22: 225534.75 | Q22: 249275.25 | R22: 496708.53 | S22: 237405 | T22: 451553.21 | U22: =AVERAGE(P22:T22) -> 332095.35 | V22: 237405 | W22: 262395 | X22: 504987.01 | Y22: 249900 | Z22: 459079.1 | AA22: =AVERAGE(V22:Z22) -> 342753.22 | AB22: 144138.75 | AC22: 159311.25 | AD22: 517404.72 | AE22: 151725 | AF22: 470367.93 | AG22: =AVERAGE(AB22:AF22) -> 288589.53 | AH22: 179749.5 | AI22: 198670.5 | AJ22: 544640.91 | AK22: 189210 | AL22: 495128.1 | AM22: =AVERAGE(AH22:AL22) -> 321479.8 | AN22: 195011.25 | AO22: 215538.75 | AP22: 533961.67 | AQ22: 205275 | AR22: 485419.7 | AS22: =AVERAGE(AN22:AR22) -> 327041.28 | AT22: 200098.5 | AU22: 221161.5 | AV22: 546379.39 | AW22: 210630 | AX22: 496708.53 | AY22: =AVERAGE(AT22:AX22) -> 334995.58 | AZ22: 215360.25 | BA22: 238029.75 | BB22: 558797.1 | BC22: 226695 | BD22: 507997.36 | BE22: =AVERAGE(AZ22:BD22) -> 349375.89 | BF22: 249275.25 | BG22: 275514.75 | BH22: 579493.29 | BI22: 262395 | BJ22: 526812.08 | BK22: =AVERAGE(BF22:BJ22) -> 378698.07 | BL22: 257754 | BM22: 284886 | BN22: 558797.1 | BO22: 271320 | BP22: 507997.36 | BQ22: =AVERAGE(BL22:BP22) -> 376150.89 | BR22: 164487.75 | BS22: 181802.25 | BT22: 542240.15 | BU22: 173145 | BV22: 492945.59 | BW22: =AVERAGE(BR22:BV22) -> 310924.15 | BX22: 210273 | BY22: 232407 | BZ22: 587771.77 | CA22: 221340 | CB22: 534337.97 | CC22: =AVERAGE(BX22:CB22) -> 357225.95 | CD22: 189924 | CE22: 209916 | CF22: 579493.29 | CG22: 199920 | CH22: 526812.08 | CI22: =AVERAGE(CD22:CH22) -> 341213.07
B23: 2.4 | C23: CADENILLA MOTOR | D23: 118702.5 | E23: 131197.5 | F23: 212716.54 | G23: 124950 | H23: 193378.67 | I23: =AVERAGE(D23:E23) -> 124950 | J23: 128877 | K23: 142443 | L23: 220115.38 | M23: 135660 | N23: 200104.89 | O23: =AVERAGE(J23:N23) -> 165440.05 | P23: 172966.5 | Q23: 191173.5 | R23: 221965.08 | S23: 182070 | T23: 201786.44 | U23: =AVERAGE(P23:T23) -> 193992.31 | V23: 179749.5 | W23: 198670.5 | X23: 225664.5 | Y23: 189210 | Z23: 205149.55 | AA23: =AVERAGE(V23:Z23) -> 199688.81 | AB23: 108528 | AC23: 119952 | AD23: 231213.63 | AE23: 114240 | AF23: 210194.21 | AG23: =AVERAGE(AB23:AF23) -> 156825.57 | AH23: 135660 | AI23: 149940 | AJ23: 243384.72 | AK23: 142800 | AL23: 221258.83 | AM23: =AVERAGE(AH23:AL23) -> 178608.71 | AN23: 149226 | AO23: 164934 | AP23: 238612.47 | AQ23: 157080 | AR23: 216920.42 | AS23: =AVERAGE(AN23:AR23) -> 185354.58 | AT23: 152617.5 | AU23: 168682.5 | AV23: 244161.59 | AW23: 160650 | AX23: 221965.08 | AY23: =AVERAGE(AT23:AX23) -> 189615.34 | AZ23: 164487.75 | BA23: 181802.25 | BB23: 249710.72 | BC23: 173145 | BD23: 227009.75 | BE23: =AVERAGE(AZ23:BD23) -> 199231.09 | BF23: 189924 | BG23: 209916 | BH23: 258959.27 | BI23: 199920 | BJ23: 235417.51 | BK23: =AVERAGE(BF23:BJ23) -> 218827.36 | BL23: 196707 | BM23: 217413 | BN23: 249710.72 | BO23: 207060 | BP23: 227009.75 | BQ23: =AVERAGE(BL23:BP23) -> 219580.09 | BR23: 125485.5 | BS23: 138694.5 | BT23: 242311.88 | BU23: 132090 | BV23: 220283.53 | BW23: =AVERAGE(BR23:BV23) -> 171773.08 | BX23: 159400.5 | BY23: 176179.5 | BZ23: 262658.68 | CA23: 167790 | CB23: 238780.62 | CC23: =AVERAGE(BX23:CB23) -> 200961.86 | CD23: 144138.75 | CE23: 159311.25 | CF23: 258959.27 | CG23: 151725 | CH23: 235417.51 | CI23: =AVERAGE(CD23:CH23) -> 189910.36
B24: 2.5 | C24: CIGÜEÑAL | D24: 661342.5 | E24: 730957.5 | F24: 612192.29 | G24: 696150 | H24: 556538.45 | I24: =AVERAGE(D24:E24) -> 696150 | J24: 713910.75 | K24: 789059.25 | L24: 633485.94 | M24: 751485 | N24: 575896.31 | O24: =AVERAGE(J24:N24) -> 692767.45 | P24: 959794.5 | Q24: 1060825.5 | R24: 638809.35 | S24: 1010310 | T24: 580735.77 | U24: =AVERAGE(P24:T24) -> 850095.02 | V24: 1005579.8 | W24: 1111430.2 | X24: 649456.17 | Y24: 1058505 | Z24: 590414.7 | AA24: =AVERAGE(V24:Z24) -> 883077.17 | AB24: 608774.25 | AC24: 672855.75 | AD24: 665426.4 | AE24: 640815 | AF24: 604933.09 | AG24: =AVERAGE(AB24:AF24) -> 638560.9 | AH24: 759696 | AI24: 839664 | AJ24: 700454.45 | AK24: 799680 | AL24: 636776.77 | AM24: =AVERAGE(AH24:AL24) -> 747254.24 | AN24: 827526 | AO24: 914634 | AP24: 686720.05 | AQ24: 871080 | AR24: 624290.95 | AS24: =AVERAGE(AN24:AR24) -> 784850.2 | AT24: 847875 | AU24: 937125 | AV24: 702690.28 | AW24: 892500 | AX24: 638809.35 | AY24: =AVERAGE(AT24:AX24) -> 803799.93 | AZ24: 912313.5 | BA24: 1008346.5 | BB24: 718660.52 | BC24: 960330 | BD24: 653327.74 | BE24: =AVERAGE(AZ24:BD24) -> 850595.65 | BF24: 1058148 | BG24: 1169532 | BH24: 745277.57 | BI24: 1113840 | BJ24: 677525.07 | BK24: =AVERAGE(BF24:BJ24) -> 952864.53 | BL24: 1092063 | BM24: 1207017 | BN24: 718660.52 | BO24: 1149540 | BP24: 653327.74 | BQ24: =AVERAGE(BL24:BP24) -> 964121.65 | BR24: 695257.5 | BS24: 768442.5 | BT24: 697366.87 | BU24: 731850 | BV24: 633969.88 | BW24: =AVERAGE(BR24:BV24) -> 705377.35 | BX24: 891964.5 | BY24: 985855.5 | BZ24: 755924.4 | CA24: 938910 | CB24: 687204 | CC24: =AVERAGE(BX24:CB24) -> 851971.68 | CD24: 807177 | CE24: 892143 | CF24: 745277.57 | CG24: 849660 | CH24: 677525.07 | CI24: =AVERAGE(CD24:CH24) -> 794356.53
B25: 2.6 | C25: CILINDRO MOTOR | D25: 525682.5 | E25: 581017.5 | F25: 664171.94 | G25: 553350 | H25: 603792.67 | I25: =AVERAGE(D25:E25) -> 553350 | J25: 568076.25 | K25: 627873.75 | L25: 687273.57 | M25: 597975 | N25: 624794.16 | O25: =AVERAGE(J25:N25) -> 621198.55 | P25: 763087.5 | Q25: 843412.5 | R25: 693048.98 | S25: 803250 | T25: 630044.53 | U25: =AVERAGE(P25:T25) -> 746568.7 | V25: 798698.25 | W25: 882771.75 | X25: 704599.8 | Y25: 840735 | Z25: 640545.27 | AA25: =AVERAGE(V25:Z25) -> 773470.01 | AB25: 483288.75 | AC25: 534161.25 | AD25: 721926.02 | AE25: 508725 | AF25: 656296.39 | AG25: =AVERAGE(AB25:AF25) -> 580879.48 | AH25: 603687 | AI25: 667233 | AJ25: 759928.21 | AK25: 635460 | AL25: 690843.83 | AM25: =AVERAGE(AH25:AL25) -> 671430.41 | AN25: 657951 | AO25: 727209 | AP25: 745027.66 | AQ25: 692580 | AR25: 677297.87 | AS25: =AVERAGE(AN25:AR25) -> 700013.11 | AT25: 673212.75 | AU25: 744077.25 | AV25: 762353.88 | AW25: 708645 | AX25: 693048.98 | AY25: =AVERAGE(AT25:AX25) -> 716267.57 | AZ25: 725781 | BA25: 802179 | BB25: 779680.11 | BC25: 763980 | BD25: 708800.1 | BE25: =AVERAGE(AZ25:BD25) -> 756084.04 | BF25: 841092 | BG25: 929628 | BH25: 808557.15 | BI25: 885360 | BJ25: 735051.95 | BK25: =AVERAGE(BF25:BJ25) -> 839937.82 | BL25: 868224 | BM25: 959616 | BN25: 779680.11 | BO25: 913920 | BP25: 708800.1 | BQ25: =AVERAGE(BL25:BP25) -> 846048.04 | BR25: 552814.5 | BS25: 611005.5 | BT25: 756578.47 | BU25: 581910 | BV25: 687798.61 | BW25: =AVERAGE(BR25:BV25) -> 638021.42 | BX25: 708823.5 | BY25: 783436.5 | BZ25: 820107.96 | CA25: 746130 | CB25: 745552.69 | CC25: =AVERAGE(BX25:CB25) -> 760810.13 | CD25: 640993.5 | CE25: 708466.5 | CF25: 808557.15 | CG25: 674730 | CH25: 735051.95 | CI25: =AVERAGE(CD25:CH25) -> 713559.82
B26: 2.7 | C26: CULATA | D26: 830917.5 | E26: 918382.5 | F26: 705823.02 | G26: 874650 | H26: 641657.29 | I26: =AVERAGE(D26:E26) -> 874650 | J26: 897051.75 | K26: 991478.25 | L26: 730373.39 | M26: 944265 | N26: 663975.81 | O26: =AVERAGE(J26:N26) -> 845428.84 | P26: 1203982.5 | Q26: 1330717.5 | R26: 736510.98 | S26: 1267350 | T26: 669555.44 | U26: =AVERAGE(P26:T26) -> 1041623.3 | V26: 1263333.8 | W26: 1396316.2 | X26: 748786.16 | Y26: 1329825 | Z26: 680714.69 | AA26: =AVERAGE(V26:Z26) -> 1083795.2 | AB26: 764783.25 | AC26: 845286.75 | AD26: 767198.94 | AE26: 805035 | AF26: 697453.58 | AG26: =AVERAGE(AB26:AF26) -> 775951.5 | AH26: 956403 | AI26: 1057077 | AJ26: 807584.29 | AK26: 1006740 | AL26: 734167.54 | AM26: =AVERAGE(AH26:AL26) -> 912394.36 | AN26: 1037799 | AO26: 1147041 | AP26: 791749.3 | AQ26: 1092420 | AR26: 719772.09 | AS26: =AVERAGE(AN26:AR26) -> 957756.28 | AT26: 1063235.2 | AU26: 1175154.8 | AV26: 810162.08 | AW26: 1119195 | AX26: 736510.98 | AY26: =AVERAGE(AT26:AX26) -> 980851.61 | AZ26: 1146327 | BA26: 1266993 | BB26: 828574.85 | BC26: 1206660 | BD26: 753249.87 | BE26: =AVERAGE(AZ26:BD26) -> 1040360.9 | BF26: 1329468 | BG26: 1469412 | BH26: 859262.81 | BI26: 1399440 | BJ26: 781148.01 | BK26: =AVERAGE(BF26:BJ26) -> 1167746.2 | BL26: 1370166 | BM26: 1514394 | BN26: 828574.85 | BO26: 1442280 | BP26: 753249.87 | BQ26: =AVERAGE(BL26:BP26) -> 1181732.9 | BR26: 871615.5 | BS26: 963364.5 | BT26: 804024.49 | BU26: 917490 | BV26: 730931.35 | BW26: =AVERAGE(BR26:BV26) -> 857485.17 | BX26: 1122586.5 | BY26: 1240753.5 | BZ26: 871537.99 | CA26: 1181670 | CB26: 792307.27 | CC26: =AVERAGE(BX26:CB26) -> 1041771.1 | CD26: 1014058.5 | CE26: 1120801.5 | CF26: 859262.81 | CG26: 1067430 | CH26: 781148.01 | CI26: =AVERAGE(CD26:CH26) -> 968540.16
B27: 2.8 | C27: CULATIN | D27: 162792 | E27: 179928 | F27: 486902.25 | G27: 171360 | H27: 442638.41 | I27: =AVERAGE(D27:E27) -> 171360 | J27: 176358 | K27: 194922 | L27: 503837.98 | M27: 185640 | N27: 458034.53 | O27: =AVERAGE(J27:N27) -> 303758.5 | P27: 235709.25 | Q27: 260520.75 | R27: 508071.91 | S27: 248115 | T27: 461883.56 | U27: =AVERAGE(P27:T27) -> 342860.09 | V27: 247579.5 | W27: 273640.5 | X27: 516539.78 | Y27: 260610 | Z27: 469581.62 | AA27: =AVERAGE(V27:Z27) -> 353590.28 | AB27: 149226 | AC27: 164934 | AD27: 529241.58 | AE27: 157080 | AF27: 481128.71 | AG27: =AVERAGE(AB27:AF27) -> 296322.06 | AH27: 186532.5 | AI27: 206167.5 | AJ27: 557100.85 | AK27: 196350 | AL27: 506455.32 | AM27: =AVERAGE(AH27:AL27) -> 330521.23 | AN27: 203490 | AO27: 224910 | AP27: 546177.31 | AQ27: 214200 | AR27: 496524.82 | AS27: =AVERAGE(AN27:AR27) -> 337060.43 | AT27: 208577.25 | AU27: 230532.75 | AV27: 558879.1 | AW27: 219555 | AX27: 508071.91 | AY27: =AVERAGE(AT27:AX27) -> 345123.2 | AZ27: 223839 | BA27: 247401 | BB27: 571580.9 | BC27: 235620 | BD27: 519619 | BE27: =AVERAGE(AZ27:BD27) -> 359611.98 | BF27: 261145.5 | BG27: 288634.5 | BH27: 592750.57 | BI27: 274890 | BJ27: 538864.15 | BK27: =AVERAGE(BF27:BJ27) -> 391256.94 | BL27: 267928.5 | BM27: 296131.5 | BN27: 571580.9 | BO27: 282030 | BP27: 519619 | BQ27: =AVERAGE(BL27:BP27) -> 387457.98 | BR27: 171270.75 | BS27: 189299.25 | BT27: 554645.17 | BU27: 180285 | BV27: 504222.88 | BW27: =AVERAGE(BR27:BV27) -> 319944.61 | BX27: 220447.5 | BY27: 243652.5 | BZ27: 601218.43 | CA27: 232050 | CB27: 546562.21 | CC27: =AVERAGE(BX27:CB27) -> 368786.13 | CD27: 198402.75 | CE27: 219287.25 | CF27: 592750.57 | CG27: 208845 | CH27: 538864.15 | CI27: =AVERAGE(CD27:CH27) -> 351629.94
B28: 2.9 | C28: EJE DE LEVAS | D28: 244188 | E28: 269892 | F28: 558528.64 | G28: 257040 | H28: 507753.31 | I28: =AVERAGE(D28:E28) -> 257040 | J28: 264537 | K28: 292383 | L28: 577955.72 | M28: 278460 | N28: 525414.29 | O28: =AVERAGE(J28:N28) -> 387750 | P28: 354411.75 | Q28: 391718.25 | R28: 582812.49 | S28: 373065 | T28: 529829.54 | U28: =AVERAGE(P28:T28) -> 446367.41 | V28: 371369.25 | W28: 410460.75 | X28: 592526.03 | Y28: 390915 | Z28: 538660.03 | AA28: =AVERAGE(V28:Z28) -> 460786.21 | AB28: 223839 | AC28: 247401 | AD28: 607096.34 | AE28: 235620 | AF28: 551905.77 | AG28: =AVERAGE(AB28:AF28) -> 373172.42 | AH28: 281494.5 | AI28: 311125.5 | AJ28: 639053.89 | AK28: 296310 | AL28: 580958.09 | AM28: =AVERAGE(AH28:AL28) -> 421788.4 | AN28: 305235 | AO28: 337365 | AP28: 626523.43 | AQ28: 321300 | AR28: 569566.75 | AS28: =AVERAGE(AN28:AR28) -> 431998.04 | AT28: 312018 | AU28: 344862 | AV28: 641093.74 | AW28: 328440 | AX28: 582812.49 | AY28: =AVERAGE(AT28:AX28) -> 441845.25 | AZ28: 337454.25 | BA28: 372975.75 | BB28: 655664.05 | BC28: 355215 | BD28: 596058.23 | BE28: =AVERAGE(AZ28:BD28) -> 463473.46 | BF28: 390022.5 | BG28: 431077.5 | BH28: 679947.9 | BI28: 410550 | BJ28: 618134.46 | BK28: =AVERAGE(BF28:BJ28) -> 505946.47 | BL28: 403588.5 | BM28: 446071.5 | BN28: 655664.05 | BO28: 424830 | BP28: 596058.23 | BQ28: =AVERAGE(BL28:BP28) -> 505242.46 | BR28: 256058.25 | BS28: 283011.75 | BT28: 636236.97 | BU28: 269535 | BV28: 578397.24 | BW28: =AVERAGE(BR28:BV28) -> 404647.84 | BX28: 328975.5 | BY28: 363604.5 | BZ28: 689661.45 | CA28: 346290 | CB28: 626964.95 | CC28: =AVERAGE(BX28:CB28) -> 471099.28 | CD28: 298452 | CE28: 329868 | CF28: 679947.9 | CG28: 314160 | CH28: 618134.46 | CI28: =AVERAGE(CD28:CH28) -> 448112.47
B29: 2.10 | C29: EMPAQUE DE CULATA | D29: 47481 | E29: 52479 | F29: 105306.5 | G29: 49980 | H29: 95733.186 | I29: =AVERAGE(D29:E29) -> 49980 | J29: 50872.5 | K29: 56227.5 | L29: 108969.34 | M29: 53550 | N29: 99063.036 | O29: =AVERAGE(J29:N29) -> 73736.475 | P29: 69525.75 | Q29: 76844.25 | R29: 109885.05 | S29: 73185 | T29: 99895.498 | U29: =AVERAGE(P29:T29) -> 85867.109 | V29: 72917.25 | W29: 80592.75 | X29: 111716.47 | Y29: 76755 | Z29: 101560.42 | AA29: =AVERAGE(V29:Z29) -> 88708.378 | AB29: 44089.5 | AC29: 48730.5 | AD29: 114463.59 | AE29: 46410 | AF29: 104057.81 | AG29: =AVERAGE(AB29:AF29) -> 71550.281 | AH29: 54264 | AI29: 59976 | AJ29: 120488.96 | AK29: 57120 | AL29: 109535.41 | AM29: =AVERAGE(AH29:AL29) -> 80276.874 | AN29: 59351.25 | AO29: 65598.75 | AP29: 118126.43 | AQ29: 62475 | AR29: 107387.66 | AS29: =AVERAGE(AN29:AR29) -> 82587.818 | AT29: 61047 | AU29: 67473 | AV29: 120873.55 | AW29: 64260 | AX29: 109885.05 | AY29: =AVERAGE(AT29:AX29) -> 84707.72 | AZ29: 66134.25 | BA29: 73095.75 | BB29: 123620.68 | BC29: 69615 | BD29: 112382.44 | BE29: =AVERAGE(AZ29:BD29) -> 88969.623 | BF29: 76308.75 | BG29: 84341.25 | BH29: 128199.22 | BI29: 80325 | BJ29: 116544.75 | BK29: =AVERAGE(BF29:BJ29) -> 97143.794 | BL29: 78004.5 | BM29: 86215.5 | BN29: 123620.68 | BO29: 82110 | BP29: 112382.44 | BQ29: =AVERAGE(BL29:BP29) -> 96466.623 | BR29: 49176.75 | BS29: 54353.25 | BT29: 119957.84 | BU29: 51765 | BV29: 109052.59 | BW29: =AVERAGE(BR29:BV29) -> 76861.086 | BX29: 64438.5 | BY29: 71221.5 | BZ29: 130030.64 | CA29: 67830 | CB29: 118209.67 | CC29: =AVERAGE(BX29:CB29) -> 90346.063 | CD29: 57655.5 | CE29: 63724.5 | CF29: 128199.22 | CG29: 60690 | CH29: 116544.75 | CI29: =AVERAGE(CD29:CH29) -> 85362.794
B30: 2.11 | C30: EMPAQUETADURA MOTOR | D30: 94962 | E30: 104958 | F30: 191639.88 | G30: 99960 | H30: 174218.07 | I30: =AVERAGE(D30:E30) -> 99960 | J30: 101745 | K30: 112455 | L30: 198305.61 | M30: 107100 | N30: 180277.83 | O30: =AVERAGE(J30:N30) -> 139976.69 | P30: 137355.75 | Q30: 151814.25 | R30: 199972.04 | S30: 144585 | T30: 181792.77 | U30: =AVERAGE(P30:T30) -> 163103.96 | V30: 144138.75 | W30: 159311.25 | X30: 203304.91 | Y30: 151725 | Z30: 184822.65 | AA30: =AVERAGE(V30:Z30) -> 168660.51 | AB30: 88179 | AC30: 97461 | AD30: 208304.21 | AE30: 92820 | AF30: 189367.47 | AG30: =AVERAGE(AB30:AF30) -> 135226.34 | AH30: 108528 | AI30: 119952 | AJ30: 219269.35 | AK30: 114240 | AL30: 199335.77 | AM30: =AVERAGE(AH30:AL30) -> 152265.02 | AN30: 118702.5 | AO30: 131197.5 | AP30: 214969.95 | AQ30: 124950 | AR30: 195427.23 | AS30: =AVERAGE(AN30:AR30) -> 157049.43 | AT30: 122094 | AU30: 134946 | AV30: 219969.25 | AW30: 128520 | AX30: 199972.04 | AY30: =AVERAGE(AT30:AX30) -> 161100.26 | AZ30: 130572.75 | BA30: 144317.25 | BB30: 224968.55 | BC30: 137445 | BD30: 204516.86 | BE30: =AVERAGE(AZ30:BD30) -> 168364.08 | BF30: 152617.5 | BG30: 168682.5 | BH30: 233300.72 | BI30: 160650 | BJ30: 212091.56 | BK30: =AVERAGE(BF30:BJ30) -> 185468.46 | BL30: 156009 | BM30: 172431 | BN30: 224968.55 | BO30: 164220 | BP30: 204516.86 | BQ30: =AVERAGE(BL30:BP30) -> 184429.08 | BR30: 100049.25 | BS30: 110580.75 | BT30: 218302.81 | BU30: 105315 | BV30: 198457.1 | BW30: =AVERAGE(BR30:BV30) -> 146540.98 | BX30: 128877 | BY30: 142443 | BZ30: 236633.59 | CA30: 135660 | CB30: 215121.44 | CC30: =AVERAGE(BX30:CB30) -> 171747.01 | CD30: 115311 | CE30: 127449 | CF30: 233300.72 | CG30: 121380 | CH30: 212091.56 | CI30: =AVERAGE(CD30:CH30) -> 161906.46
B31: 2.12 | C31: FILTRO DE ACEITE | D31: 37306.5 | E31: 41233.5 | F31: 78586.944 | G31: 39270 | H31: 71442.676 | I31: =AVERAGE(D31:E31) -> 39270 | J31: 40698 | K31: 44982 | L31: 81320.403 | M31: 42840 | N31: 73927.639 | O31: =AVERAGE(J31:N31) -> 56753.608 | P31: 54264 | Q31: 59976 | R31: 82003.767 | S31: 57120 | T31: 74548.879 | U31: =AVERAGE(P31:T31) -> 65582.529 | V31: 55959.75 | W31: 61850.25 | X31: 83370.497 | Y31: 58905 | Z31: 75791.361 | AA31: =AVERAGE(V31:Z31) -> 67175.372 | AB31: 33915 | AC31: 37485 | AD31: 85420.591 | AE31: 35700 | AF31: 77655.083 | AG31: =AVERAGE(AB31:AF31) -> 54035.135 | AH31: 42393.75 | AI31: 46856.25 | AJ31: 89917.131 | AK31: 44625 | AL31: 81742.846 | AM31: =AVERAGE(AH31:AL31) -> 61106.995 | AN31: 47481 | AO31: 52479 | AP31: 88154.05 | AQ31: 49980 | AR31: 80140.045 | AS31: =AVERAGE(AN31:AR31) -> 63646.819 | AT31: 47481 | AU31: 52479 | AV31: 90204.144 | AW31: 49980 | AX31: 82003.767 | AY31: =AVERAGE(AT31:AX31) -> 64429.582 | AZ31: 50872.5 | BA31: 56227.5 | BB31: 92254.238 | BC31: 53550 | BD31: 83867.489 | BE31: =AVERAGE(AZ31:BD31) -> 67354.346 | BF31: 59351.25 | BG31: 65598.75 | BH31: 95671.062 | BI31: 62475 | BJ31: 86973.693 | BK31: =AVERAGE(BF31:BJ31) -> 74013.951 | BL31: 61047 | BM31: 67473 | BN31: 92254.238 | BO31: 64260 | BP31: 83867.489 | BQ31: =AVERAGE(BL31:BP31) -> 73780.346 | BR31: 39002.25 | BS31: 43107.75 | BT31: 89520.779 | BU31: 41055 | BV31: 81382.527 | BW31: =AVERAGE(BR31:BV31) -> 58813.661 | BX31: 50872.5 | BY31: 56227.5 | BZ31: 97037.791 | CA31: 53550 | CB31: 88216.174 | CC31: =AVERAGE(BX31:CB31) -> 69180.793 | CD31: 45785.25 | CE31: 50604.75 | CF31: 95671.062 | CG31: 48195 | CH31: 86973.693 | CI31: =AVERAGE(CD31:CH31) -> 65445.951
... B37: 2.18 | C37: VALVULAS (JUEGO) | D37: 122094 | E37: 134946 | F37: 266982.89 | G37: 128520 | H37: 242711.72 | I37: =AVERAGE(D37:E37) -> 128520 | J37: 132268.5 | K37: 146191.5 | L37: 276269.25 | M37: 139230 | N37: 251153.87 | O37: =AVERAGE(J37:N37) -> 189022.62 | P37: 176358 | Q37: 194922 | R37: 278590.84 | S37: 185640 | T37: 253264.4 | U37: =AVERAGE(P37:T37) -> 217755.05 | V37: 184836.75 | W37: 204293.25 | X37: 283234.02 | Y37: 194565 | Z37: 257485.48 | AA37: =AVERAGE(V37:Z37) -> 224882.9 | AB37: 111919.5 | AC37: 123700.5 | AD37: 290198.8 | AE37: 117810 | AF37: 263817.09 | AG37: =AVERAGE(AB37:AF37) -> 181489.18 | AH37: 140747.25 | AI37: 155562.75 | AJ37: 305474.86 | AK37: 148155 | AL37: 277704.42 | AM37: =AVERAGE(AH37:AL37) -> 205528.86 | AN37: 152617.5 | AO37: 168682.5 | AP37: 299485.16 | AQ37: 160650 | AR37: 272259.23 | AS37: =AVERAGE(AN37:AR37) -> 210738.88 | AT37: 156009 | AU37: 172431 | AV37: 306449.93 | AW37: 164220 | AX37: 278590.84 | AY37: =AVERAGE(AT37:AX37) -> 215540.15 | AZ37: 167879.25 | BA37: 185550.75 | BB37: 313414.7 | BC37: 176715 | BD37: 284922.45 | BE37: =AVERAGE(AZ37:BD37) -> 225696.43 | BF37: 195011.25 | BG37: 215538.75 | BH37: 325022.65 | BI37: 205275 | BJ37: 295475.14 | BK37: =AVERAGE(BF37:BJ37) -> 247264.56 | BL37: 201794.25 | BM37: 223035.75 | BN37: 313414.7 | BO37: 212415 | BP37: 284922.45 | BQ37: =AVERAGE(BL37:BP37) -> 247116.43 | BR37: 128877 | BS37: 142443 | BT37: 304128.34 | BU37: 135660 | BV37: 276480.31 | BW37: =AVERAGE(BR37:BV37) -> 197517.73 | BX37: 164487.75 | BY37: 181802.25 | BZ37: 329665.83 | CA37: 173145 | CB37: 299696.21 | CC37: =AVERAGE(BX37:CB37) -> 229759.41 | CD37: 149226 | CE37: 164934 | CF37: 325022.65 | CG37: 157080 | CH37: 295475.14 | CI37: =AVERAGE(CD37:CH37) -> 218347.56
B38: 3 | C38: SISTEMA DE TRANSFERENCIA | D38: 0 | E38: 873400.5 | F38: 0 | H38: 0 | I38: 0 | J38: 852962.25 | K38: 942747.75 | L38: 0 | N38: 0 | Q38: 1268867.2 | R38: 0 | T38: 0 | W38: 1328843.2 | X38: 0 | Z38: 0 | AB38: 727476.75 | AC38: 804053.25 | AD38: 0 | AF38: 0 | AH38: 907226.25 | AI38: 1002723.8 | AJ38: 0 | AL38: 0 | AN38: 986926.5 | AO38: 1090813.5 | AP38: 0 | AR38: 0 | AT38: 1010667 | AU38: 1117053 | AV38: 0 | AX38: 0 | AZ38: 1090367.2 | BA38: 1205142.8 | BB38: 0 | BD38: 0 | BE38: 0 | BF38: 1266725.2 | BG38: 1400064.8 | BH38: 0 | BJ38: 0 | BL38: 890268.75 | BM38: 983981.25 | BN38: 0 | BP38: 0 | BR38: 829221.75 | BS38: 916508.25 | BT38: 0 | BV38: 0 | BX38: 1066626.8 | BY38: 1178903.2 | BZ38: 0 | CB38: 0 | CD38: 964881.75 | CE38: 1066448.2 | CF38: 0 | CH38: 0
B39: 3.1 | C39: EMPAQUE TAPA EMBRAGUE | D39: 37306.5 | E39: 41233.5 | F39: 73534.926 | G39: 39270 | H39: 66849.933 | I39: =AVERAGE(D39:E39) -> 39270 | J39: 40698 | K39: 44982 | L39: 76092.662 | M39: 42840 | N39: 69175.148 | O39: =AVERAGE(J39:N39) -> 54757.562 | P39: 54264 | Q39: 59976 | R39: 76732.097 | S39: 57120 | T39: 69756.451 | U39: =AVERAGE(P39:T39) -> 63569.71 | V39: 55959.75 | W39: 61850.25 | X39: 78010.965 | Y39: 58905 | Z39: 70919.059 | AA39: =AVERAGE(V39:Z39) -> 65129.005 | AB39: 33915 | AC39: 37485 | AD39: 79929.267 | AE39: 35700 | AF39: 72662.97 | AG39: =AVERAGE(AB39:AF39) -> 51938.448 | AH39: 42393.75 | AI39: 46856.25 | AJ39: 84136.744 | AK39: 44625 | AL39: 76487.949 | AM39: =AVERAGE(AH39:AL39) -> 58899.939 | AN39: 47481 | AO39: 52479 | AP39: 82487.004 | AQ39: 49980 | AR39: 74988.185 | AS39: =AVERAGE(AN39:AR39) -> 61483.038 | AT39: 47481 | AU39: 52479 | AV39: 84405.306 | AW39: 49980 | AX39: 76732.097 | AY39: =AVERAGE(AT39:AX39) -> 62215.481 | AZ39: 50872.5 | BA39: 56227.5 | BB39: 86323.609 | BC39: 53550 | BD39: 78476.008 | BE39: =AVERAGE(AZ39:BD39) -> 65089.923 | BF39: 59351.25 | BG39: 65598.75 | BH39: 89520.779 | BI39: 62475 | BJ39: 81382.527 | BK39: =AVERAGE(BF39:BJ39) -> 71665.661 | BL39: 61047 | BM39: 67473 | BN39: 86323.609 | BO39: 64260 | BP39: 78476.008 | BQ39: =AVERAGE(BL39:BP39) -> 71515.923 | BR39: 39002.25 | BS39: 43107.75 | BT39: 83765.872 | BU39: 41055 | BV39: 76150.793 | BW39: =AVERAGE(BR39:BV39) -> 56616.333 | BX39: 50872.5 | BY39: 56227.5 | BZ39: 90799.648 | CA39: 53550 | CB39: 82545.134 | CC39: =AVERAGE(BX39:CB39) -> 66798.956 | CD39: 45785.25 | CE39: 50604.75 | CF39: 89520.779 | CG39: 48195 | CH39: 81382.527 | CI39: =AVERAGE(CD39:CH39) -> 63097.661
B40: 3.2 | C40: GUAYA EMBREAGUE | D40: 50872.5 | E40: 56227.5 | F40: 106878.24 | G40: 53550 | H40: 97162.04 | I40: =AVERAGE(D40:E40) -> 53550 | J40: 54264 | K40: 59976 | L40: 110595.75 | M40: 57120 | N40: 100541.59 | O40: =AVERAGE(J40:N40) -> 76499.467 | P40: 74613 | Q40: 82467 | R40: 111525.12 | S40: 78540 | T40: 101386.48 | U40: =AVERAGE(P40:T40) -> 89706.32 | V40: 78004.5 | W40: 86215.5 | X40: 113383.88 | Y40: 82110 | Z40: 103076.25 | AA40: =AVERAGE(V40:Z40) -> 92558.025 | AB40: 47481 | AC40: 52479 | AD40: 116172 | AE40: 49980 | AF40: 105610.91 | AG40: =AVERAGE(AB40:AF40) -> 74344.583 | AH40: 57655.5 | AI40: 63724.5 | AJ40: 122287.3 | AK40: 60690 | AL40: 111170.27 | AM40: =AVERAGE(AH40:AL40) -> 83105.514 | AN40: 64438.5 | AO40: 71221.5 | AP40: 119889.51 | AQ40: 67830 | AR40: 108990.46 | AS40: =AVERAGE(AN40:AR40) -> 86473.994 | AT40: 64438.5 | AU40: 71221.5 | AV40: 122677.64 | AW40: 67830 | AX40: 111525.12 | AY40: =AVERAGE(AT40:AX40) -> 87538.552 | AZ40: 69525.75 | BA40: 76844.25 | BB40: 125465.76 | BC40: 73185 | BD40: 114059.79 | BE40: =AVERAGE(AZ40:BD40) -> 91816.11 | BF40: 81396 | BG40: 89964 | BH40: 130112.64 | BI40: 85680 | BJ40: 118284.22 | BK40: =AVERAGE(BF40:BJ40) -> 101087.37 | BL40: 84787.5 | BM40: 93712.5 | BN40: 125465.76 | BO40: 89250 | BP40: 114059.79 | BQ40: =AVERAGE(BL40:BP40) -> 101455.11 | BR40: 54264 | BS40: 59976 | BT40: 121748.26 | BU40: 57120 | BV40: 110680.24 | BW40: =AVERAGE(BR40:BV40) -> 80757.699 | BX40: 67830 | BY40: 74970 | BZ40: 131971.4 | CA40: 71400 | CB40: 119974 | CC40: =AVERAGE(BX40:CB40) -> 93229.079 | CD40: 62742.75 | CE40: 69347.25 | CF40: 130112.64 | CG40: 66045 | CH40: 118284.22 | CI40: =AVERAGE(CD40:CH40) -> 89306.373
B41: 3.3 | C41: GUAYA VELOCIMETRO | D41: 47481 | E41: 52479 | F41: 111817.99 | G41: 49980 | H41: 101652.72 | I41: =AVERAGE(D41:E41) -> 49980 | J41: 50872.5 | K41: 56227.5 | L41: 115707.32 | M41: 53550 | N41: 105188.47 | O41: =AVERAGE(J41:N41) -> 76309.157 | P41: 69525.75 | Q41: 76844.25 | R41: 116679.65 | S41: 73185 | T41: 106072.41 | U41: =AVERAGE(P41:T41) -> 88461.41 | V41: 72917.25 | W41: 80592.75 | X41: 118624.31 | Y41: 76755 | Z41: 107840.28 | AA41: =AVERAGE(V41:Z41) -> 91345.917 | AB41: 44089.5 | AC41: 48730.5 | AD41: 121541.3 | AE41: 46410 | AF41: 110492.09 | AG41: =AVERAGE(AB41:AF41) -> 74252.677 | AH41: 54264 | AI41: 59976 | AJ41: 127939.23 | AK41: 57120 | AL41: 116308.39 | AM41: =AVERAGE(AH41:AL41) -> 83121.525 | AN41: 59351.25 | AO41: 65598.75 | AP41: 125430.62 | AQ41: 62475 | AR41: 114027.84 | AS41: =AVERAGE(AN41:AR41) -> 85376.691 | AT41: 61047 | AU41: 67473 | AV41: 128347.61 | AW41: 64260 | AX41: 116679.65 | AY41: =AVERAGE(AT41:AX41) -> 87561.451 | AZ41: 66134.25 | BA41: 73095.75 | BB41: 131264.6 | BC41: 69615 | BD41: 119331.46 | BE41: =AVERAGE(AZ41:BD41) -> 91888.212 | BF41: 76308.75 | BG41: 84341.25 | BH41: 136126.25 | BI41: 80325 | BJ41: 123751.14 | BK41: =AVERAGE(BF41:BJ41) -> 100170.48 | BL41: 78004.5 | BM41: 86215.5 | BN41: 131264.6 | BO41: 82110 | BP41: 119331.46 | BQ41: =AVERAGE(BL41:BP41) -> 99385.212 | BR41: 49176.75 | BS41: 54353.25 | BT41: 127375.28 | BU41: 51765 | BV41: 115795.71 | BW41: =AVERAGE(BR41:BV41) -> 79693.198 | BX41: 64438.5 | BY41: 71221.5 | BZ41: 138070.91 | CA41: 67830 | CB41: 125519.01 | CC41: =AVERAGE(BX41:CB41) -> 93415.986 | CD41: 57655.5 | CE41: 63724.5 | CF41: 136126.25 | CG41: 60690 | CH41: 123751.14 | CI41: =AVERAGE(CD41:CH41) -> 88389.479
B42: 3.4 | C42: JUEGO CAUCHOS DE CAMPANA | D42: 44089.5 | E42: 48730.5 | F42: 145403.57 | G42: 46410 | H42: 132185.07 | I42: =AVERAGE(D42:E42) -> 46410 | J42: 47481 | K42: 52479 | L42: 150461.09 | M42: 49980 | N42: 136782.81 | O42: =AVERAGE(J42:N42) -> 87436.779 | P42: 64438.5 | Q42: 71221.5 | R42: 151725.47 | S42: 67830 | T42: 137932.24 | U42: =AVERAGE(P42:T42) -> 98629.542 | V42: 67830 | W42: 74970 | X42: 154254.22 | Y42: 71400 | Z42: 140231.11 | AA42: =AVERAGE(V42:Z42) -> 101737.07 | AB42: 40698 | AC42: 44982 | AD42: 158047.36 | AE42: 42840 | AF42: 143679.42 | AG42: =AVERAGE(AB42:AF42) -> 86049.356 | AH42: 50872.5 | AI42: 56227.5 | AJ42: 166366.97 | AK42: 53550 | AL42: 151242.7 | AM42: =AVERAGE(AH42:AL42) -> 95651.936 | AN42: 54264 | AO42: 59976 | AP42: 163104.88 | AQ42: 57120 | AR42: 148277.16 | AS42: =AVERAGE(AN42:AR42) -> 96548.408 | AT42: 55959.75 | AU42: 61850.25 | AV42: 166898.01 | AW42: 58905 | AX42: 151725.47 | AY42: =AVERAGE(AT42:AX42) -> 99067.696 | AZ42: 61047 | BA42: 67473 | BB42: 170691.15 | BC42: 64260 | BD42: 155173.77 | BE42: =AVERAGE(AZ42:BD42) -> 103728.98 | BF42: 71221.5 | BG42: 78718.5 | BH42: 177013.04 | BI42: 74970 | BJ42: 160920.95 | BK42: =AVERAGE(BF42:BJ42) -> 112568.8 | BL42: 72917.25 | BM42: 80592.75 | BN42: 170691.15 | BO42: 76755 | BP42: 155173.77 | BQ42: =AVERAGE(BL42:BP42) -> 111225.98 | BR42: 45785.25 | BS42: 50604.75 | BT42: 165633.63 | BU42: 48195 | BV42: 150576.03 | BW42: =AVERAGE(BR42:BV42) -> 92158.933 | BX42: 59351.25 | BY42: 65598.75 | BZ42: 179541.8 | CA42: 62475 | CB42: 163219.82 | CC42: =AVERAGE(BX42:CB42) -> 106037.32 | CD42: 54264 | CE42: 59976 | CF42: 177013.04 | CG42: 57120 | CH42: 160920.95 | CI42: =AVERAGE(CD42:CH42) -> 101858.8
B43: 3.5 | C43: KIT DE ARRASTRE | D43: 278103 | E43: 307377 | F43: 647668.68 | G43: 292740 | H43: 588789.71 | I43: =AVERAGE(D43:E43) -> 292740 | J43: 300147.75 | K43: 331742.25 | L43: 670196.29 | M43: 315945 | N43: 609269.35 | O43: =AVERAGE(J43:N43) -> 445460.13 | P43: 403588.5 | Q43: 446071.5 | R43: 675828.19 | S43: 424830 | T43: 614389.27 | U43: =AVERAGE(P43:T43) -> 512941.49 | V43: 422241.75 | W43: 466688.25 | X43: 687091.99 | Y43: 444465 | Z43: 624629.09 | AA43: =AVERAGE(V43:Z43) -> 529023.22 | AB43: 256058.25 | AC43: 283011.75 | AD43: 703987.7 | AE43: 269535 | AF43: 639988.82 | AG43: =AVERAGE(AB43:AF43) -> 430516.3 | AH43: 320496.75 | AI43: 354233.25 | AJ43: 741045.61 | AK43: 337365 | AL43: 673677.83 | AM43: =AVERAGE(AH43:AL43) -> 485363.69 | AN43: 347628.75 | AO43: 384221.25 | AP43: 726515.31 | AQ43: 365925 | AR43: 660468.46 | AS43: =AVERAGE(AN43:AR43) -> 496951.75 | AT43: 356107.5 | AU43: 393592.5 | AV43: 743411.01 | AW43: 374850 | AX43: 675828.19 | AY43: =AVERAGE(AT43:AX43) -> 508757.84 | AZ43: 383239.5 | BA43: 423580.5 | BB43: 760306.72 | BC43: 403410 | BD43: 691187.92 | BE43: =AVERAGE(AZ43:BD43) -> 532344.93 | BF43: 444286.5 | BG43: 491053.5 | BH43: 788466.22 | BI43: 467670 | BJ43: 716787.48 | BK43: =AVERAGE(BF43:BJ43) -> 581652.74 | BL43: 45785.25 | BM43: 50604.75 | BN43: 760306.72 | BO43: 48195 | BP43: 691187.92 | BQ43: =AVERAGE(BL43:BP43) -> 319215.93 | BR43: 291669 | BS43: 322371 | BT43: 737779.11 | BU43: 307020 | BV43: 670708.28 | BW43: =AVERAGE(BR43:BV43) -> 465909.48 | BX43: 374760.75 | BY43: 414209.25 | BZ43: 799730.03 | CA43: 394485 | CB43: 727027.3 | CC43: =AVERAGE(BX43:CB43) -> 542042.46 | CD43: 339150 | CE43: 374850 | CF43: 788466.22 | CG43: 357000 | CH43: 716787.48 | CI43: =AVERAGE(CD43:CH43) -> 515250.74
B44: 3.6 | C44: KIT DE EMBRAGUE | D44: 162792 | E44: 179928 | F44: 327370.75 | G44: 171360 | H44: 297609.78 | I44: =AVERAGE(D44:E44) -> 171360 | J44: 176358 | K44: 194922 | L44: 338757.56 | M44: 185640 | N44: 307961.42 | O44: =AVERAGE(J44:N44) -> 240727.8 | P44: 235709.25 | Q44: 260520.75 | R44: 341604.27 | S44: 248115 | T44: 310549.33 | U44: =AVERAGE(P44:T44) -> 279299.72 | V44: 247579.5 | W44: 273640.5 | X44: 347297.67 | Y44: 260610 | Z44: 315725.15 | AA44: =AVERAGE(V44:Z44) -> 288970.56 | AB44: 149226 | AC44: 164934 | AD44: 355837.78 | AE44: 157080 | AF44: 323488.89 | AG44: =AVERAGE(AB44:AF44) -> 230113.33 | AH44: 186532.5 | AI44: 206167.5 | AJ44: 374569.08 | AK44: 196350 | AL44: 340517.34 | AM44: =AVERAGE(AH44:AL44) -> 260827.28 | AN44: 203490 | AO44: 224910 | AP44: 367224.59 | AQ44: 214200 | AR44: 333840.53 | AS44: =AVERAGE(AN44:AR44) -> 268733.02 | AT44: 208577.25 | AU44: 230532.75 | AV44: 375764.69 | AW44: 219555 | AX44: 341604.27 | AY44: =AVERAGE(AT44:AX44) -> 275206.79 | AZ44: 223839 | BA44: 247401 | BB44: 384304.8 | BC44: 235620 | BD44: 349368 | BE44: =AVERAGE(AZ44:BD44) -> 288106.56 | BF44: 261145.5 | BG44: 288634.5 | BH44: 398538.31 | BI44: 274890 | BJ44: 362307.55 | BK44: =AVERAGE(BF44:BJ44) -> 317103.17 | BL44: 267928.5 | BM44: 296131.5 | BN44: 384304.8 | BO44: 282030 | BP44: 349368 | BQ44: =AVERAGE(BL44:BP44) -> 315952.56 | BR44: 171270.75 | BS44: 189299.25 | BT44: 372917.99 | BU44: 180285 | BV44: 339016.35 | BW44: =AVERAGE(BR44:BV44) -> 250557.87 | BX44: 220447.5 | BY44: 243652.5 | BZ44: 404231.71 | CA44: 232050 | CB44: 367483.38 | CC44: =AVERAGE(BX44:CB44) -> 293573.02 | CD44: 198402.75 | CE44: 219287.25 | CF44: 398538.31 | CG44: 208845 | CH44: 362307.55 | CI44: =AVERAGE(CD44:CH44) -> 277476.17
B45: 3.7 | C45: MANIJA DE EMBRAGUE | D45: 44089.5 | E45: 48730.5 | F45: 74769.864 | G45: 46410 | H45: 67972.603 | I45: =AVERAGE(D45:E45) -> 46410 | J45: 47481 | K45: 52479 | L45: 77370.555 | M45: 49980 | N45: 70336.868 | O45: =AVERAGE(J45:N45) -> 59529.484 | P45: 64438.5 | Q45: 71221.5 | R45: 78020.727 | S45: 67830 | T45: 70927.934 | U45: =AVERAGE(P45:T45) -> 70487.732 | V45: 67830 | W45: 74970 | X45: 79321.073 | Y45: 71400 | Z45: 72110.066 | AA45: =AVERAGE(V45:Z45) -> 73126.228 | AB45: 40698 | AC45: 44982 | AD45: 81271.591 | AE45: 42840 | AF45: 73883.264 | AG45: =AVERAGE(AB45:AF45) -> 56734.971 | AH45: 50872.5 | AI45: 56227.5 | AJ45: 85549.727 | AK45: 53550 | AL45: 77772.479 | AM45: =AVERAGE(AH45:AL45) -> 64794.441 | AN45: 54264 | AO45: 59976 | AP45: 83872.282 | AQ45: 57120 | AR45: 76247.529 | AS45: =AVERAGE(AN45:AR45) -> 66295.962 | AT45: 55959.75 | AU45: 61850.25 | AV45: 85822.8 | AW45: 58905 | AX45: 78020.727 | AY45: =AVERAGE(AT45:AX45) -> 68111.705 | AZ45: 61047 | BA45: 67473 | BB45: 87773.318 | BC45: 64260 | BD45: 79793.926 | BE45: =AVERAGE(AZ45:BD45) -> 72069.449 | BF45: 71221.5 | BG45: 78718.5 | BH45: 91024.182 | BI45: 74970 | BJ45: 82749.256 | BK45: =AVERAGE(BF45:BJ45) -> 79736.688 | BL45: 72917.25 | BM45: 80592.75 | BN45: 87773.318 | BO45: 76755 | BP45: 79793.926 | BQ45: =AVERAGE(BL45:BP45) -> 79566.449 | BR45: 45785.25 | BS45: 50604.75 | BT45: 85172.627 | BU45: 48195 | BV45: 77429.661 | BW45: =AVERAGE(BR45:BV45) -> 61437.458 | BX45: 59351.25 | BY45: 65598.75 | BZ45: 92324.527 | CA45: 62475 | CB45: 83931.388 | CC45: =AVERAGE(BX45:CB45) -> 72736.183 | CD45: 54264 | CE45: 59976 | CF45: 91024.182 | CG45: 57120 | CH45: 82749.256 | CI45: =AVERAGE(CD45:CH45) -> 69026.688
B46: 3.8 | C46: PIÑON VELOCIMETRO | D46: 61047 | E46: 67473 | F46: 409062.5 | G46: 64260 | H46: 371875 | I46: =AVERAGE(D46:E46) -> 64260 | J46: 66134.25 | K46: 73095.75 | L46: 409062.5 | M46: 69615 | N46: 371875 | O46: =AVERAGE(J46:N46) -> 197956.5 | P46: 88179 | Q46: 97461 | R46: 409062.5 | S46: 92820 | T46: 371875 | U46: =AVERAGE(P46:T46) -> 211879.5 | V46: 93266.25 | W46: 103083.75 | X46: 409062.5 | Y46: 98175 | Z46: 371875 | AA46: =AVERAGE(V46:Z46) -> 215092.5 | AB46: 55959.75 | AC46: 61850.25 | AD46: 409062.5 | AE46: 58905 | AF46: 371875 | AG46: =AVERAGE(AB46:AF46) -> 191530.5 | AH46: 69525.75 | AI46: 76844.25 | AJ46: 417243.75 | AK46: 73185 | AL46: 379312.5 | AM46: =AVERAGE(AH46:AL46) -> 203222.25 | AN46: 76308.75 | AO46: 84341.25 | AP46: 409062.5 | AQ46: 80325 | AR46: 371875 | AS46: =AVERAGE(AN46:AR46) -> 204382.5 | AT46: 78004.5 | AU46: 86215.5 | AV46: 409062.5 | AW46: 82110 | AX46: 371875 | AY46: =AVERAGE(AT46:AX46) -> 205453.5 | AZ46: 84787.5 | BA46: 93712.5 | BB46: 409062.5 | BC46: 89250 | BD46: 371875 | BE46: =AVERAGE(AZ46:BD46) -> 209737.5 | BF46: 98353.5 | BG46: 108706.5 | BH46: 409062.5 | BI46: 103530 | BJ46: 371875 | BK46: =AVERAGE(BF46:BJ46) -> 218305.5 | BL46: 100049.25 | BM46: 110580.75 | BN46: 409062.5 | BO46: 105315 | BP46: 371875 | BQ46: =AVERAGE(BL46:BP46) -> 219376.5 | BR46: 64438.5 | BS46: 71221.5 | BT46: 409062.5 | BU46: 67830 | BV46: 371875 | BW46: =AVERAGE(BR46:BV46) -> 196885.5 | BX46: 83091.75 | BY46: 91838.25 | BZ46: 409062.5 | CA46: 87465 | CB46: 371875 | CC46: =AVERAGE(BX46:CB46) -> 208666.5 | CD46: 74613 | CE46: 82467 | CF46: 359975 | CG46: 78540 | CH46: 327250 | CI46: =AVERAGE(CD46:CH46) -> 184569
B47: 3.9 | C47: RETEN CONTROL DE CAMBIO | D47: 30523.5 | E47: 33736.5 | F47: 49958.843 | G47: 32130 | H47: 45417.13 | I47: =AVERAGE(D47:E47) -> 32130 | J47: 32219.25 | K47: 35610.75 | L47: 51696.542 | M47: 33915 | N47: 46996.856 | O47: =AVERAGE(J47:N47) -> 40087.68 | P47: 44089.5 | Q47: 48730.5 | R47: 52130.966 | S47: 46410 | T47: 47391.788 | U47: =AVERAGE(P47:T47) -> 47750.551 | V47: 45785.25 | W47: 50604.75 | X47: 52999.816 | Y47: 48195 | Z47: 48181.651 | AA47: =AVERAGE(V47:Z47) -> 49153.293 | AB47: 28827.75 | AC47: 31862.25 | AD47: 54303.09 | AE47: 30345 | AF47: 49366.445 | AG47: =AVERAGE(AB47:AF47) -> 38940.907 | AH47: 35610.75 | AI47: 39359.25 | AJ47: 57161.605 | AK47: 37485 | AL47: 51965.095 | AM47: =AVERAGE(AH47:AL47) -> 44316.34 | AN47: 37306.5 | AO47: 41233.5 | AP47: 56040.789 | AQ47: 39270 | AR47: 50946.172 | AS47: =AVERAGE(AN47:AR47) -> 44959.392 | AT47: 39002.25 | AU47: 43107.75 | AV47: 57344.063 | AW47: 41055 | AX47: 52130.966 | AY47: =AVERAGE(AT47:AX47) -> 46528.006 | AZ47: 42393.75 | BA47: 46856.25 | BB47: 58647.337 | BC47: 44625 | BD47: 53315.761 | BE47: =AVERAGE(AZ47:BD47) -> 49167.62 | BF47: 49176.75 | BG47: 54353.25 | BH47: 60819.461 | BI47: 51765 | BJ47: 55290.419 | BK47: =AVERAGE(BF47:BJ47) -> 54280.976 | BL47: 50872.5 | BM47: 56227.5 | BN47: 58647.337 | BO47: 53550 | BP47: 53315.761 | BQ47: =AVERAGE(BL47:BP47) -> 54522.62 | BR47: 32219.25 | BS47: 35610.75 | BT47: 56909.638 | BU47: 33915 | BV47: 51736.035 | BW47: =AVERAGE(BR47:BV47) -> 42078.135 | BX47: 40698 | BY47: 44982 | BZ47: 61688.31 | CA47: 42840 | CB47: 56080.282 | CC47: =AVERAGE(BX47:CB47) -> 49257.718 | CD47: 37306.5 | CE47: 41233.5 | CF47: 60819.461 | CG47: 39270 | CH47: 55290.419 | CI47: =AVERAGE(CD47:CH47) -> 46783.976
...

Sheet REPUESTOS COMUNES
D2: REPUESTOS COMUNES MOTOCICLETAS MULTIMARCA
B7: ITEM | C7: DESCRIPCION | D7: PRESENTACION | E7: COTIZACION 1 | F7: COTIZACION 2 | G7: COTIZACION 3 | H7: COTIZACION 4 | I7: COTIZACION 5 | J7: PRECIO TECHO
