Workbook

Sheet REPUESTOS
B2: PRECIOS TECHO LOTE 2 | D2: Mantenimiento preventivo y correctivo integral a todo costo (incluidos repuestos, mano de obra y accesorios originales u homologados) de las motocicletas que se encuentran al servicio de la Fiscalía General de la Nación en las Seccionales Cali, Cauca, Nariño y Valle del Cauca.a | AH2: RESPUESTOS MOTOCICLETAS MULTIMARCAS | BL2: RESPUESTOS MOTOCICLETAS MULTIMARCAS
AH3: MANTENIMIENTO MOTOCICLETAS | BL3: MANTENIMIENTO MOTOCICLETAS
AH4: *** Incluye Costos Directos e Indirectos | BL4: *** Incluye Costos Directos e Indirectos
B6: DESCRIPCION | D6: AKT AK125BR | J6: BAJAJ DISCOVER 125 SPORT | P6: BAJAJ PULSAR 200 NS | V6: BAJAJ PULSAR 200 SS | AB6: HERO ECO DELUXE | AH6: HONDA CB1 PRO | AN6: HONDA CBF 150 | AT6: HONDA XR 125 BRIO | AZ6: HONDA XR 150 L | BF6: HONDA XR 200 TORNADO | BL6: SUZUKI DR 200 | BR6: SUZUKI VIVA R 115 | BX6: YAMAHA XTZ125 | CD6: YAMAHA YBR125 SS
D7: COTIZACION 1 AUTOCAMPERO | E7: COTIZACION 2 DEL VALLE S.A.S | F7: COTIZACION 3 AUTO REPUESTOS MONO | G7: COTIZACION 4 SUPERITAJE SAS | H7: COTIZACION 5 VIDAL ROJAS Y CIA SAS | I7: PRECIO TECHO | J7: COTIZACION 1 AUTOCAMPERO | K7: COTIZACION 2 DEL VALLE S.A.S | L7: COTIZACION 3 AUTO REPUESTOS MONO | M7: COTIZACION 4 SUPERITAJE SAS | N7: COTIZACION 5 VIDAL ROJAS Y CIA SAS | O7: PRECIO TECHO | P7: COTIZACION 1 AUTOCAMPERO | Q7: COTIZACION 2 DEL VALLE S.A.S | R7: COTIZACION 3 AUTO REPUESTOS MONO | S7: COTIZACION 4 SUPERITAJE SAS | T7: COTIZACION 5 VIDAL ROJAS Y CIA SAS | U7: PRECIO TECHO | V7: COTIZACION 1 AUTOCAMPERO | W7: COTIZACION 2 DEL VALLE S.A.S | X7: COTIZACION 3 AUTO REPUESTOS MONO | Y7: COTIZACION 4 SUPERITAJE SAS | Z7: COTIZACION 5 VIDAL ROJAS Y CIA SAS | AA7: PRECIO TECHO | AB7: COTIZACION 1 AUTOCAMPERO | AC7: COTIZACION 2 DEL VALLE S.A.S | AD7: COTIZACION 3 AUTO REPUESTOS MONO | AE7: COTIZACION 4 SUPERITAJE SAS | AF7: COTIZACION 5 VIDAL ROJAS Y CIA SAS | AG7: PRECIO TECHO | AH7: COTIZACION 1 AUTOCAMPERO | AI7: COTIZACION 2 DEL VALLE S.A.S | AJ7: COTIZACION 3 AUTO REPUESTOS MONO | AK7: COTIZACION 4 SUPERITAJE SAS | AL7: COTIZACION 5 VIDAL ROJAS Y CIA SAS | AM7: PRECIO TECHO | AN7: COTIZACION 1 AUTOCAMPERO | AO7: COTIZACION 2 DEL VALLE S.A.S | AP7: COTIZACION 3 AUTO REPUESTOS MONO | AQ7: COTIZACION 4 SUPERITAJE SAS | AR7: COTIZACION 5 VIDAL ROJAS Y CIA SAS | AS7: PRECIO TECHO | AT7: COTIZACION 1 AUTOCAMPERO | AU7: COTIZACION 2 DEL VALLE S.A.S | AV7: COTIZACION 3 AUTO REPUESTOS MONO | AW7: COTIZACION 4 SUPERITAJE SAS | AX7: COTIZACION 5 VIDAL ROJAS Y CIA SAS | AY7: PRECIO TECHO | AZ7: COTIZACION 1 AUTOCAMPERO | BA7: COTIZACION 2 DEL VALLE S.A.S | BB7: COTIZACION 3 AUTO REPUESTOS MONO | BC7: COTIZACION 4 SUPERITAJE SAS | BD7: COTIZACION 5 VIDAL ROJAS Y CIA SAS | BE7: PRECIO TECHO | BF7: COTIZACION 1 AUTOCAMPERO | BG7: COTIZACION 2 DEL VALLE S.A.S | BH7: COTIZACION 3 AUTO REPUESTOS MONO | BI7: COTIZACION 4 SUPERITAJE SAS | BJ7: COTIZACION 5 VIDAL ROJAS Y CIA SAS | BK7: PRECIO TECHO | BL7: COTIZACION 1 AUTOCAMPERO | BM7: COTIZACION 2 DEL VALLE S.A.S | BN7: COTIZACION 3 AUTO REPUESTOS MONO | BO7: COTIZACION 4 SUPERITAJE SAS | BP7: COTIZACION 5 VIDAL ROJAS Y CIA SAS | BQ7: PRECIO TECHO | BR7: COTIZACION 1 AUTOCAMPERO | BS7: COTIZACION 2 DEL VALLE S.A.S | BT7: COTIZACION 3 AUTO REPUESTOS MONO | BU7: COTIZACION 4 SUPERITAJE SAS | BV7: COTIZACION 5 VIDAL ROJAS Y CIA SAS | BW7: PRECIO TECHO | BX7: COTIZACION 1 AUTOCAMPERO | BY7: COTIZACION 2 DEL VALLE S.A.S | BZ7: COTIZACION 3 AUTO REPUESTOS MONO | CA7: COTIZACION 4 SUPERITAJE SAS | CB7: COTIZACION 5 VIDAL ROJAS Y CIA SAS | CC7: PRECIO TECHO | CD7: COTIZACION 1 AUTOCAMPERO | CE7: COTIZACION 2 DEL VALLE S.A.S | CF7: COTIZACION 3 AUTO REPUESTOS MONO | CG7: COTIZACION 4 SUPERITAJE SAS | CH7: COTIZACION 5 VIDAL ROJAS Y CIA SAS | CI7: PRECIO TECHO
B8: 1 | C8: SINCRONIZACION
B9: 1.1 | C9: AGUJA BASE Y PUNSON | D9: 47481 | E9: 52479 | F9: 130005.26 | G9: 49980 | H9: 118186.6 | I9: =AVERAGE(D9:E9) -> 49980 | J9: 50872.5 | K9: 56227.5 | L9: 134527.18 | M9: 53550 | N9: 122297.44 | O9: =AVERAGE(J9:N9) -> 83494.923 | P9: 69525.75 | Q9: 76844.25 | R9: 135657.66 | S9: 73185 | T9: 123325.15 | U9: =AVERAGE(P9:T9) -> 95707.561 | V9: 72917.25 | W9: 80592.75 | X9: 137918.62 | Y9: 76755 | Z9: 125380.57 | AA9: =AVERAGE(V9:Z9) -> 98712.837 | AB9: 44089.5 | AC9: 48730.5 | AD9: 141310.06 | AE9: 46410 | AF9: 128463.69 | AG9: =AVERAGE(AB9:AF9) -> 81800.752 | AH9: 54264 | AI9: 59976 | AJ9: 148748.63 | AK9: 57120 | AL9: 135226.02 | AM9: =AVERAGE(AH9:AL9) -> 91066.93 | AN9: 59351.25 | AO9: 65598.75 | AP9: 145831.99 | AQ9: 62475 | AR9: 132574.53 | AS9: =AVERAGE(AN9:AR9) -> 93166.304 | AT9: 61047 | AU9: 67473 | AV9: 149223.43 | AW9: 64260 | AX9: 135657.66 | AY9: =AVERAGE(AT9:AX9) -> 95532.218 | AZ9: 66134.25 | BA9: 73095.75 | BB9: 152614.87 | BC9: 69615 | BD9: 138740.79 | BE9: =AVERAGE(AZ9:BD9) -> 100040.13 | BF9: 76308.75 | BG9: 84341.25 | BH9: 158267.27 | BI9: 80325 | BJ9: 143879.34 | BK9: =AVERAGE(BF9:BJ9) -> 108624.32 | BL9: 78004.5 | BM9: 86215.5 | BN9: 152614.87 | BO9: 82110 | BP9: 138740.79 | BQ9: =AVERAGE(BL9:BP9) -> 107537.13 | BR9: 49176.75 | BS9: 54353.25 | BT9: 148092.95 | BU9: 51765 | BV9: 134629.95 | BW9: =AVERAGE(BR9:BV9) -> 87603.58 | BX9: 64438.5 | BY9: 71221.5 | BZ9: 160528.23 | CA9: 67830 | CB9: 145934.76 | CC9: =AVERAGE(BX9:CB9) -> 101990.6 | CD9: 57655.5 | CE9: 63724.5 | CF9: 158267.27 | CG9: 60690 | CH9: 143879.34 | CI9: =AVERAGE(CD9:CH9) -> 96843.322
B10: 1.2 | C10: BUJIA | D10: 40698 | E10: 44982 | F10: 59726.077 | G10: 42840 | H10: 54296.434 | I10: =AVERAGE(D10:E10) -> 42840 | J10: 44089.5 | K10: 48730.5 | L10: 61803.506 | M10: 46410 | N10: 56185.005 | O10: =AVERAGE(J10:N10) -> 51443.702 | P10: 59351.25 | Q10: 65598.75 | R10: 62322.863 | S10: 62475 | T10: 56657.148 | U10: =AVERAGE(P10:T10) -> 61281.002 | V10: 61047 | W10: 67473 | X10: 63361.578 | Y10: 64260 | Z10: 57601.434 | AA10: =AVERAGE(V10:Z10) -> 62748.602 | AB10: 37306.5 | AC10: 41233.5 | AD10: 64919.649 | AE10: 39270 | AF10: 59017.863 | AG10: =AVERAGE(AB10:AF10) -> 48349.502 | AH10: 47481 | AI10: 52479 | AJ10: 68337.02 | AK10: 49980 | AL10: 62124.563 | AM10: =AVERAGE(AH10:AL10) -> 56080.317 | AN10: 50872.5 | AO10: 56227.5 | AP10: 66997.078 | AQ10: 53550 | AR10: 60906.435 | AS10: =AVERAGE(AN10:AR10) -> 57710.702 | AT10: 52568.25 | AU10: 58101.75 | AV10: 68555.15 | AW10: 55335 | AX10: 62322.863 | AY10: =AVERAGE(AT10:AX10) -> 59376.603 | AZ10: 55959.75 | BA10: 61850.25 | BB10: 70113.221 | BC10: 58905 | BD10: 63739.292 | BE10: =AVERAGE(AZ10:BD10) -> 62113.503 | BF10: 64438.5 | BG10: 71221.5 | BH10: 72710.007 | BI10: 67830 | BJ10: 66100.006 | BK10: =AVERAGE(BF10:BJ10) -> 68460.003 | BL10: 67830 | BM10: 74970 | BN10: 70113.221 | BO10: 71400 | BP10: 63739.292 | BQ10: =AVERAGE(BL10:BP10) -> 69610.503 | BR10: 42393.75 | BS10: 46856.25 | BT10: 68035.792 | BU10: 44625 | BV10: 61850.72 | BW10: =AVERAGE(BR10:BV10) -> 52752.303 | BX10: 54264 | BY10: 59976 | BZ10: 73748.721 | CA10: 57120 | CB10: 67044.292 | CC10: =AVERAGE(BX10:CB10) -> 62430.603 | CD10: 49176.75 | CE10: 54353.25 | CF10: 72710.007 | CG10: 51765 | CH10: 66100.006 | CI10: =AVERAGE(CD10:CH10) -> 58821.003
B11: 1.3 | C11: CARBURADOR | D11: 457852.5 | E11: 506047.5 | F11: 842357.5 | G11: 481950 | H11: 765779.54 | I11: =AVERAGE(D11:E11) -> 481950 | J11: 495159 | K11: 547281 | L11: 871656.89 | M11: 521220 | N11: 792415.35 | O11: =AVERAGE(J11:N11) -> 645546.45 | P11: 664734 | Q11: 734706 | R11: 878981.74 | S11: 699720 | T11: 799074.3 | U11: =AVERAGE(P11:T11) -> 755443.21 | V11: 695257.5 | W11: 768442.5 | X11: 893631.43 | Y11: 731850 | Z11: 812392.21 | AA11: =AVERAGE(V11:Z11) -> 780314.73 | AB11: 420546 | AC11: 464814 | AD11: 915605.97 | AE11: 442680 | AF11: 832369.07 | AG11: =AVERAGE(AB11:AF11) -> 615203.01 | AH11: 525682.5 | AI11: 581017.5 | AJ11: 963803.47 | AK11: 553350 | AL11: 876184.98 | AM11: =AVERAGE(AH11:AL11) -> 700007.69 | AN11: 573163.5 | AO11: 633496.5 | AP11: 944905.37 | AQ11: 603330 | AR11: 859004.88 | AS11: =AVERAGE(AN11:AR11) -> 722780.05 | AT11: 586729.5 | AU11: 648490.5 | AV11: 966879.91 | AW11: 617610 | AX11: 878981.74 | AY11: =AVERAGE(AT11:AX11) -> 739738.33 | AZ11: 632514.75 | BA11: 699095.25 | BB11: 988854.45 | BC11: 665805 | BD11: 898958.59 | BE11: =AVERAGE(AZ11:BD11) -> 777045.61 | BF11: 732564 | BG11: 809676 | BH11: 1025478.7 | BI11: 771120 | BJ11: 932253.36 | BK11: =AVERAGE(BF11:BJ11) -> 854218.41 | BL11: 756304.5 | BM11: 835915.5 | BN11: 988854.45 | BO11: 796110 | BP11: 898958.59 | BQ11: =AVERAGE(BL11:BP11) -> 855228.61 | BR11: 481593 | BS11: 532287 | BT11: 959555.06 | BU11: 506940 | BV11: 872322.78 | BW11: =AVERAGE(BR11:BV11) -> 670539.57 | BX11: 617253 | BY11: 682227 | BZ11: 1040128.4 | CA11: 649740 | CB11: 945571.26 | CC11: =AVERAGE(BX11:CB11) -> 786983.93 | CD11: 559597.5 | CE11: 618502.5 | CF11: 1025478.7 | CG11: 589050 | CH11: 932253.36 | CI11: =AVERAGE(CD11:CH11) -> 744976.41
B12: 1.4 | C12: EMPAQUES CARBURADOR | D12: 30523.5 | E12: 33736.5 | F12: 34802.789 | G12: 32130 | H12: 31638.899 | I12: =AVERAGE(D12:E12) -> 32130 | J12: 32219.25 | K12: 35610.75 | L12: 36013.321 | M12: 33915 | N12: 32739.383 | O12: =AVERAGE(J12:N12) -> 34099.541 | P12: 44089.5 | Q12: 48730.5 | R12: 36315.954 | S12: 46410 | T12: 33014.504 | U12: =AVERAGE(P12:T12) -> 41712.092 | V12: 45785.25 | W12: 50604.75 | X12: 36921.22 | Y12: 48195 | Z12: 33564.745 | AA12: =AVERAGE(V12:Z12) -> 43014.193 | AB12: 28827.75 | AC12: 31862.25 | AD12: 37829.119 | AE12: 30345 | AF12: 34390.108 | AG12: =AVERAGE(AB12:AF12) -> 32650.845 | AH12: 35610.75 | AI12: 39359.25 | AJ12: 39820.444 | AK12: 37485 | AL12: 36200.403 | AM12: =AVERAGE(AH12:AL12) -> 37695.169 | AN12: 37306.5 | AO12: 41233.5 | AP12: 39039.651 | AQ12: 39270 | AR12: 35490.592 | AS12: =AVERAGE(AN12:AR12) -> 38468.048 | AT12: 39002.25 | AU12: 43107.75 | AV12: 39947.55 | AW12: 41055 | AX12: 36315.954 | AY12: =AVERAGE(AT12:AX12) -> 39885.701 | AZ12: 42393.75 | BA12: 46856.25 | BB12: 40855.448 | BC12: 44625 | BD12: 37141.317 | BE12: =AVERAGE(AZ12:BD12) -> 42374.353 | BF12: 49176.75 | BG12: 54353.25 | BH12: 42368.613 | BI12: 51765 | BJ12: 38516.921 | BK12: =AVERAGE(BF12:BJ12) -> 47236.107 | BL12: 50872.5 | BM12: 56227.5 | BN12: 40855.448 | BO12: 53550 | BP12: 37141.317 | BQ12: =AVERAGE(BL12:BP12) -> 47729.353 | BR12: 32219.25 | BS12: 35610.75 | BT12: 39644.917 | BU12: 33915 | BV12: 36040.833 | BW12: =AVERAGE(BR12:BV12) -> 35486.15 | BX12: 40698 | BY12: 44982 | BZ12: 42973.879 | CA12: 42840 | CB12: 39067.163 | CC12: =AVERAGE(BX12:CB12) -> 42112.208 | CD12: 37306.5 | CE12: 41233.5 | CF12: 42368.613 | CG12: 39270 | CH12: 38516.921 | CI12: =AVERAGE(CD12:CH12) -> 39739.107
B13: 1.5 | C13: FILTRO COMBUSTIBLE | D13: 23740.5 | E13: 26239.5 | F13: 32557.448 | G13: 24990 | H13: 29597.68 | I13: =AVERAGE(D13:E13) -> 24990 | J13: 25436.25 | K13: 28113.75 | L13: 33689.881 | M13: 26775 | N13: 30627.165 | O13: =AVERAGE(J13:N13) -> 28928.409 | P13: 33915 | Q13: 37485 | R13: 33972.989 | S13: 35700 | T13: 30884.536 | U13: =AVERAGE(P13:T13) -> 34391.505 | V13: 35610.75 | W13: 39359.25 | X13: 34539.206 | Y13: 37485 | Z13: 31399.278 | AA13: =AVERAGE(V13:Z13) -> 35678.697 | AB13: 22044.75 | AC13: 24365.25 | AD13: 35388.531 | AE13: 23205 | AF13: 32171.391 | AG13: =AVERAGE(AB13:AF13) -> 27434.984 | AH13: 27132 | AI13: 29988 | AJ13: 37251.383 | AK13: 28560 | AL13: 33864.893 | AM13: =AVERAGE(AH13:AL13) -> 31359.255 | AN13: 30523.5 | AO13: 33736.5 | AP13: 36520.964 | AQ13: 32130 | AR13: 33200.876 | AS13: =AVERAGE(AN13:AR13) -> 33222.368 | AT13: 30523.5 | AU13: 33736.5 | AV13: 37370.288 | AW13: 32130 | AX13: 33972.989 | AY13: =AVERAGE(AT13:AX13) -> 33546.656 | AZ13: 32219.25 | BA13: 35610.75 | BB13: 38219.613 | BC13: 33915 | BD13: 34745.103 | BE13: =AVERAGE(AZ13:BD13) -> 34941.943 | BF13: 37306.5 | BG13: 41233.5 | BH13: 39635.154 | BI13: 39270 | BJ13: 36031.958 | BK13: =AVERAGE(BF13:BJ13) -> 38695.423 | BL13: 39002.25 | BM13: 43107.75 | BN13: 38219.613 | BO13: 41055 | BP13: 34745.103 | BQ13: =AVERAGE(BL13:BP13) -> 39225.943 | BR13: 25436.25 | BS13: 28113.75 | BT13: 37087.18 | BU13: 26775 | BV13: 33715.618 | BW13: =AVERAGE(BR13:BV13) -> 30225.56 | BX13: 32219.25 | BY13: 35610.75 | BZ13: 40201.371 | CA13: 33915 | CB13: 36546.701 | CC13: =AVERAGE(BX13:CB13) -> 35698.614 | CD13: 28827.75 | CE13: 31862.25 | CF13: 39635.154 | CG13: 30345 | CH13: 36031.958 | CI13: =AVERAGE(CD13:CH13) -> 33340.423
B14: 1.6 | C14: FILTRO DE AIRE | D14: 54264 | E14: 59976 | F14: 56133.531 | G14: 57120 | H14: 51030.483 | I14: =AVERAGE(D14:E14) -> 57120 | J14: 59351.25 | K14: 65598.75 | L14: 58086.002 | M14: 62475 | N14: 52805.456 | O14: =AVERAGE(J14:N14) -> 59663.292 | P14: 78004.5 | Q14: 86215.5 | R14: 58574.12 | S14: 82110 | T14: 53249.2 | U14: =AVERAGE(P14:T14) -> 71630.664 | V14: 83091.75 | W14: 91838.25 | X14: 59550.355 | Y14: 87465 | Z14: 54136.686 | AA14: =AVERAGE(V14:Z14) -> 75216.408 | AB14: 50872.5 | AC14: 56227.5 | AD14: 61014.708 | AE14: 53550 | AF14: 55467.916 | AG14: =AVERAGE(AB14:AF14) -> 55426.525 | AH14: 62742.75 | AI14: 69347.25 | AJ14: 64226.522 | AK14: 66045 | AL14: 58387.747 | AM14: =AVERAGE(AH14:AL14) -> 64149.854 | AN14: 67830 | AO14: 74970 | AP14: 62967.179 | AQ14: 71400 | AR14: 57242.89 | AS14: =AVERAGE(AN14:AR14) -> 66882.014 | AT14: 69525.75 | AU14: 76844.25 | AV14: 64431.532 | AW14: 73185 | AX14: 58574.12 | AY14: =AVERAGE(AT14:AX14) -> 68512.13 | AZ14: 74613 | BA14: 82467 | BB14: 65895.885 | BC14: 78540 | BD14: 59905.35 | BE14: =AVERAGE(AZ14:BD14) -> 72284.247 | BF14: 86483.25 | BG14: 95586.75 | BH14: 68336.473 | BI14: 91035 | BJ14: 62124.066 | BK14: =AVERAGE(BF14:BJ14) -> 80713.108 | BL14: 89874.75 | BM14: 99335.25 | BN14: 65895.885 | BO14: 94605 | BP14: 59905.35 | BQ14: =AVERAGE(BL14:BP14) -> 81923.247 | BR14: 57655.5 | BS14: 63724.5 | BT14: 63943.414 | BU14: 60690 | BV14: 58130.376 | BW14: =AVERAGE(BR14:BV14) -> 60828.758 | BX14: 72917.25 | BY14: 80592.75 | BZ14: 69312.708 | CA14: 76755 | CB14: 63011.553 | CC14: =AVERAGE(BX14:CB14) -> 72517.852 | CD14: 66134.25 | CE14: 73095.75 | CF14: 68336.473 | CG14: 69615 | CH14: 62124.066 | CI14: =AVERAGE(CD14:CH14) -> 67861.108
B15: 1.7 | C15: GUAYA ACELERADOR | D15: 50872.5 | E15: 56227.5 | F15: 85322.968 | G15: 53550 | H15: 77566.334 | I15: =AVERAGE(D15:E15) -> 53550 | J15: 54264 | K15: 59976 | L15: 88290.723 | M15: 57120 | N15: 80264.294 | O15: =AVERAGE(J15:N15) -> 67983.003 | P15: 74613 | Q15: 82467 | R15: 89032.662 | S15: 78540 | T15: 80938.783 | U15: =AVERAGE(P15:T15) -> 81118.289 | V15: 78004.5 | W15: 86215.5 | X15: 90516.539 | Y15: 82110 | Z15: 82287.763 | AA15: =AVERAGE(V15:Z15) -> 83826.861 | AB15: 47481 | AC15: 52479 | AD15: 92742.356 | AE15: 49980 | AF15: 84311.233 | AG15: =AVERAGE(AB15:AF15) -> 65398.718 | AH15: 57655.5 | AI15: 63724.5 | AJ15: 97624.314 | AK15: 60690 | AL15: 88749.376 | AM15: =AVERAGE(AH15:AL15) -> 73688.738 | AN15: 64438.5 | AO15: 71221.5 | AP15: 95710.111 | AQ15: 67830 | AR15: 87009.192 | AS15: =AVERAGE(AN15:AR15) -> 77241.861 | AT15: 64438.5 | AU15: 71221.5 | AV15: 97935.928 | AW15: 67830 | AX15: 89032.662 | AY15: =AVERAGE(AT15:AX15) -> 78091.718 | AZ15: 69525.75 | BA15: 76844.25 | BB15: 100161.74 | BC15: 73185 | BD15: 91056.131 | BE15: =AVERAGE(AZ15:BD15) -> 82154.575 | BF15: 81396 | BG15: 89964 | BH15: 103871.44 | BI15: 85680 | BJ15: 94428.581 | BK15: =AVERAGE(BF15:BJ15) -> 91068.004 | BL15: 84787.5 | BM15: 93712.5 | BN15: 100161.74 | BO15: 89250 | BP15: 91056.131 | BQ15: =AVERAGE(BL15:BP15) -> 91793.575 | BR15: 54264 | BS15: 59976 | BT15: 97193.989 | BU15: 57120 | BV15: 88358.172 | BW15: =AVERAGE(BR15:BV15) -> 71382.432 | BX15: 67830 | BY15: 74970 | BZ15: 105355.32 | CA15: 71400 | CB15: 95777.56 | CC15: =AVERAGE(BX15:CB15) -> 83066.575 | CD15: 62742.75 | CE15: 69347.25 | CF15: 103871.44 | CG15: 66045 | CH15: 94428.581 | CI15: =AVERAGE(CD15:CH15) -> 79287.004
B16: 1.8 | C16: GUAYA CHOQUE | D16: 44089.5 | E16: 48730.5 | F16: 78586.944 | G16: 46410 | H16: 71442.676 | I16: =AVERAGE(D16:E16) -> 46410 | J16: 47481 | K16: 52479 | L16: 81320.403 | M16: 49980 | N16: 73927.639 | O16: =AVERAGE(J16:N16) -> 61037.608 | P16: 64438.5 | Q16: 71221.5 | R16: 82003.767 | S16: 67830 | T16: 74548.879 | U16: =AVERAGE(P16:T16) -> 72008.529 | V16: 67830 | W16: 74970 | X16: 83370.497 | Y16: 71400 | Z16: 75791.361 | AA16: =AVERAGE(V16:Z16) -> 74672.372 | AB16: 40698 | AC16: 44982 | AD16: 85420.591 | AE16: 42840 | AF16: 77655.083 | AG16: =AVERAGE(AB16:AF16) -> 58319.135 | AH16: 50872.5 | AI16: 56227.5 | AJ16: 89917.131 | AK16: 53550 | AL16: 81742.846 | AM16: =AVERAGE(AH16:AL16) -> 66461.995 | AN16: 54264 | AO16: 59976 | AP16: 88154.05 | AQ16: 57120 | AR16: 80140.045 | AS16: =AVERAGE(AN16:AR16) -> 67930.819 | AT16: 55959.75 | AU16: 61850.25 | AV16: 90204.144 | AW16: 58905 | AX16: 82003.767 | AY16: =AVERAGE(AT16:AX16) -> 69784.582 | AZ16: 61047 | BA16: 67473 | BB16: 92254.238 | BC16: 64260 | BD16: 83867.489 | BE16: =AVERAGE(AZ16:BD16) -> 73780.346 | BF16: 71221.5 | BG16: 78718.5 | BH16: 95671.062 | BI16: 74970 | BJ16: 86973.693 | BK16: =AVERAGE(BF16:BJ16) -> 81510.951 | BL16: 72917.25 | BM16: 80592.75 | BN16: 92254.238 | BO16: 76755 | BP16: 83867.489 | BQ16: =AVERAGE(BL16:BP16) -> 81277.346 | BR16: 45785.25 | BS16: 50604.75 | BT16: 89520.779 | BU16: 48195 | BV16: 81382.527 | BW16: =AVERAGE(BR16:BV16) -> 63097.661 | BX16: 59351.25 | BY16: 65598.75 | BZ16: 97037.791 | CA16: 62475 | CB16: 88216.174 | CC16: =AVERAGE(BX16:CB16) -> 74535.793 | CD16: 54264 | CE16: 59976 | CF16: 95671.062 | CG16: 57120 | CH16: 86973.693 | CI16: =AVERAGE(CD16:CH16) -> 70800.951
B17: 1.9 | C17: KIT CARBURADOR | D17: 94962 | E17: 104958 | F17: 249232.88 | G17: 99960 | H17: 226575.34 | I17: =AVERAGE(D17:E17) -> 99960 | J17: 101745 | K17: 112455 | L17: 257901.85 | M17: 107100 | N17: 234456.23 | O17: =AVERAGE(J17:N17) -> 162731.61 | P17: 137355.75 | Q17: 151814.25 | R17: 260069.09 | S17: 144585 | T17: 236426.45 | U17: =AVERAGE(P17:T17) -> 186050.11 | V17: 144138.75 | W17: 159311.25 | X17: 264403.58 | Y17: 151725 | Z17: 240366.89 | AA17: =AVERAGE(V17:Z17) -> 191989.09 | AB17: 88179 | AC17: 97461 | AD17: 270905.3 | AE17: 92820 | AF17: 246277.55 | AG17: =AVERAGE(AB17:AF17) -> 159128.57 | AH17: 108528 | AI17: 119952 | AJ17: 285165.76 | AK17: 114240 | AL17: 259241.6 | AM17: =AVERAGE(AH17:AL17) -> 177425.47 | AN17: 118702.5 | AO17: 131197.5 | AP17: 279574.27 | AQ17: 124950 | AR17: 254158.43 | AS17: =AVERAGE(AN17:AR17) -> 181716.54 | AT17: 122094 | AU17: 134946 | AV17: 286076 | AW17: 128520 | AX17: 260069.09 | AY17: =AVERAGE(AT17:AX17) -> 186341.02 | AZ17: 130572.75 | BA17: 144317.25 | BB17: 292577.73 | BC17: 137445 | BD17: 265979.75 | BE17: =AVERAGE(AZ17:BD17) -> 194178.5 | BF17: 152617.5 | BG17: 168682.5 | BH17: 303413.94 | BI17: 160650 | BJ17: 275830.85 | BK17: =AVERAGE(BF17:BJ17) -> 212238.96 | BL17: 156009 | BM17: 172431 | BN17: 292577.73 | BO17: 164220 | BP17: 265979.75 | BQ17: =AVERAGE(BL17:BP17) -> 210243.5 | BR17: 100049.25 | BS17: 110580.75 | BT17: 283908.76 | BU17: 105315 | BV17: 258098.87 | BW17: =AVERAGE(BR17:BV17) -> 171590.53 | BX17: 128877 | BY17: 142443 | BZ17: 307748.42 | CA17: 135660 | CB17: 279771.29 | CC17: =AVERAGE(BX17:CB17) -> 198899.94 | CD17: 115311 | CE17: 127449 | CF17: 303413.94 | CG17: 121380 | CH17: 275830.85 | CI17: =AVERAGE(CD17:CH17) -> 188676.96
B18: 1.10 | C18: LLAVE PASO COMBUSTIBLE | D18: 67830 | E18: 74970 | F18: 184117.98 | G18: 71400 | H18: 167379.98 | I18: =AVERAGE(D18:E18) -> 71400 | J18: 72917.25 | K18: 80592.75 | L18: 190522.09 | M18: 76755 | N18: 173201.9 | O18: =AVERAGE(J18:N18) -> 118797.8 | P18: 98353.5 | Q18: 108706.5 | R18: 192123.11 | S18: 103530 | T18: 174657.37 | U18: =AVERAGE(P18:T18) -> 135474.1 | V18: 103440.75 | W18: 114329.25 | X18: 195325.16 | Y18: 108885 | Z18: 177568.33 | AA18: =AVERAGE(V18:Z18) -> 139909.7 | AB18: 62742.75 | AC18: 69347.25 | AD18: 200128.24 | AE18: 66045 | AF18: 181934.77 | AG18: =AVERAGE(AB18:AF18) -> 116039.6 | AH18: 78004.5 | AI18: 86215.5 | AJ18: 210662.99 | AK18: 82110 | AL18: 191511.81 | AM18: =AVERAGE(AH18:AL18) -> 129700.96 | AN18: 84787.5 | AO18: 93712.5 | AP18: 206532.35 | AQ18: 89250 | AR18: 187756.68 | AS18: =AVERAGE(AN18:AR18) -> 132407.8 | AT18: 86483.25 | AU18: 95586.75 | AV18: 211335.42 | AW18: 91035 | AX18: 192123.11 | AY18: =AVERAGE(AT18:AX18) -> 135312.71 | AZ18: 93266.25 | BA18: 103083.75 | BB18: 216138.5 | BC18: 98175 | BD18: 196489.55 | BE18: =AVERAGE(AZ18:BD18) -> 141430.61 | BF18: 108528 | BG18: 119952 | BH18: 224143.63 | BI18: 114240 | BJ18: 203766.94 | BK18: =AVERAGE(BF18:BJ18) -> 154126.11 | BL18: 111919.5 | BM18: 123700.5 | BN18: 216138.5 | BO18: 117810 | BP18: 196489.55 | BQ18: =AVERAGE(BL18:BP18) -> 153211.61 | BR18: 71221.5 | BS18: 78718.5 | BT18: 209734.4 | BU18: 74970 | BV18: 190667.63 | BW18: =AVERAGE(BR18:BV18) -> 125062.41 | BX18: 91570.5 | BY18: 101209.5 | BZ18: 227345.68 | CA18: 96390 | CB18: 206677.89 | CC18: =AVERAGE(BX18:CB18) -> 144638.72 | CD18: 83091.75 | CE18: 91838.25 | CF18: 224143.63 | CG18: 87465 | CH18: 203766.94 | CI18: =AVERAGE(CD18:CH18) -> 138061.11
B19: 2 | C19: MOTOR
B20: 2.1 | C20: BALANCIN | D20: 108528 | E20: 119952 | F20: 192874.81 | G20: 114240 | H20: 175340.74 | I20: =AVERAGE(D20:E20) -> 114240 | J20: 117006.75 | K20: 129323.25 | L20: 199583.5 | M20: 123165 | N20: 181439.55 | O20: =AVERAGE(J20:N20) -> 150103.61 | P20: 157704.75 | Q20: 174305.25 | R20: 201260.67 | S20: 166005 | T20: 182964.25 | U20: =AVERAGE(P20:T20) -> 176447.98 | V20: 164487.75 | W20: 181802.25 | X20: 204615.02 | Y20: 173145 | Z20: 186013.65 | AA20: =AVERAGE(V20:Z20) -> 182012.73 | AB20: 100049.25 | AC20: 110580.75 | AD20: 209646.54 | AE20: 105315 | AF20: 190587.76 | AG20: =AVERAGE(AB20:AF20) -> 143235.86 | AH20: 125485.5 | AI20: 138694.5 | AJ20: 220682.33 | AK20: 132090 | AL20: 200620.3 | AM20: =AVERAGE(AH20:AL20) -> 163514.53 | AN20: 135660 | AO20: 149940 | AP20: 216355.23 | AQ20: 142800 | AR20: 196686.57 | AS20: =AVERAGE(AN20:AR20) -> 168288.36 | AT20: 139051.5 | AU20: 153688.5 | AV20: 221386.74 | AW20: 146370 | AX20: 201260.67 | AY20: =AVERAGE(AT20:AX20) -> 172351.48 | AZ20: 149226 | BA20: 164934 | BB20: 226418.26 | BC20: 157080 | BD20: 205834.78 | BE20: =AVERAGE(AZ20:BD20) -> 180698.61 | BF20: 172966.5 | BG20: 191173.5 | BH20: 234804.12 | BI20: 182070 | BJ20: 213458.29 | BK20: =AVERAGE(BF20:BJ20) -> 198894.48 | BL20: 179749.5 | BM20: 198670.5 | BN20: 226418.26 | BO20: 189210 | BP20: 205834.78 | BQ20: =AVERAGE(BL20:BP20) -> 199976.61 | BR20: 113615.25 | BS20: 125574.75 | BT20: 219709.57 | BU20: 119595 | BV20: 199735.97 | BW20: =AVERAGE(BR20:BV20) -> 155646.11 | BX20: 145834.5 | BY20: 161185.5 | BZ20: 238158.47 | CA20: 153510 | CB20: 216507.7 | CC20: =AVERAGE(BX20:CB20) -> 183039.23 | CD20: 132268.5 | CE20: 146191.5 | CF20: 234804.12 | CG20: 139230 | CH20: 213458.29 | CI20: =AVERAGE(CD20:CH20) -> 173190.48
B21: 2.2 | C21: BIELA MOTOR | D21: 254362.5 | E21: 281137.5 | F21: 379013.6 | G21: 267750 | H21: 344557.82 | I21: =AVERAGE(D21:E21) -> 267750 | J21: 274711.5 | K21: 303628.5 | L21: 392196.68 | M21: 289170 | N21: 356542.44 | O21: =AVERAGE(J21:N21) -> 323249.83 | P21: 369673.5 | Q21: 408586.5 | R21: 395492.46 | S21: 389130 | T21: 359538.6 | U21: =AVERAGE(P21:T21) -> 384484.21 | V21: 386631 | W21: 427329 | X21: 402084 | Y21: 406980 | Z21: 365530.91 | AA21: =AVERAGE(V21:Z21) -> 397710.98 | AB21: 234013.5 | AC21: 258646.5 | AD21: 411971.31 | AE21: 246330 | AF21: 374519.37 | AG21: =AVERAGE(AB21:AF21) -> 305096.14 | AH21: 291669 | AI21: 322371 | AJ21: 433657.48 | AK21: 307020 | AL21: 394234.07 | AM21: =AVERAGE(AH21:AL21) -> 349790.31 | AN21: 318801 | AO21: 352359 | AP21: 425154.39 | AQ21: 335580 | AR21: 386503.99 | AS21: =AVERAGE(AN21:AR21) -> 363679.68 | AT21: 325584 | AU21: 359856 | AV21: 435041.7 | AW21: 342720 | AX21: 395492.46 | AY21: =AVERAGE(AT21:AX21) -> 371738.83 | AZ21: 351020.25 | BA21: 387969.75 | BB21: 444929.01 | BC21: 369495 | BD21: 404480.92 | BE21: =AVERAGE(AZ21:BD21) -> 391578.99 | BF21: 406980 | BG21: 449820 | BH21: 461407.86 | BI21: 428400 | BJ21: 419461.7 | BK21: =AVERAGE(BF21:BJ21) -> 433213.91 | BL21: 420546 | BM21: 464814 | BN21: 444929.01 | BO21: 442680 | BP21: 404480.92 | BQ21: =AVERAGE(BL21:BP21) -> 435489.99 | BR21: 267928.5 | BS21: 296131.5 | BT21: 431745.93 | BU21: 282030 | BV21: 392496.3 | BW21: =AVERAGE(BR21:BV21) -> 334066.45 | BX21: 342541.5 | BY21: 378598.5 | BZ21: 467999.41 | CA21: 360570 | CB21: 425454 | CC21: =AVERAGE(BX21:CB21) -> 395032.68 | CD21: 310322.25 | CE21: 342987.75 | CF21: 461407.86 | CG21: 326655 | CH21: 419461.7 | CI21: =AVERAGE(CD21:CH21) -> 372166.91
B22: 2.3 | C22: BOMBA DE ACEITE | D22: 156009 | E22: 172431 | F22: 476012.35 | G22: 164220 | H22: 432738.5 | I22: =AVERAGE(D22:E22) -> 164220 | J22: 167879.25 | K22: 185550.75 | L22: 492569.3 | M22: 176715 | N22: 447790.27 | O22: =AVERAGE(J22:N22) -> 294100.91 | P22: 225534.75 | Q22: 249275.25 | R22: 496708.53 | S22: 237405 | T22: 451553.21 | U22: =AVERAGE(P22:T22) -> 332095.35 | V22: 237405 | W22: 262395 | X22: 504987.01 | Y22: 249900 | Z22: 459079.1 | AA22: =AVERAGE(V22:Z22) -> 342753.22 | AB22: 144138.75 | AC22: 159311.25 | AD22: 517404.72 | AE22: 151725 | AF22: 470367.93 | AG22: =AVERAGE(AB22:AF22) -> 288589.53 | AH22: 179749.5 | AI22: 198670.5 | AJ22: 544640.91 | AK22: 189210 | AL22: 495128.1 | AM22: =AVERAGE(AH22:AL22) -> 321479.8 | AN22: 195011.25 | AO22: 215538.75 | AP22: 533961.67 | AQ22: 205275 | AR22: 485419.7 | AS22: =AVERAGE(AN22:AR22) -> 327041.28 | AT22: 200098.5 | AU22: 221161.5 | AV22: 546379.39 | AW22: 210630 | AX22: 496708.53 | AY22: =AVERAGE(AT22:AX22) -> 334995.58 | AZ22: 215360.25 | BA22: 238029.75 | BB22: 558797.1 | BC22: 226695 | BD22: 507997.36 | BE22: =AVERAGE(AZ22:BD22) -> 349375.89 | BF22: 249275.25 | BG22: 275514.75 | BH22: 579493.29 | BI22: 262395 | BJ22: 526812.08 | BK22: =AVERAGE(BF22:BJ22) -> 378698.07 | BL22: 257754 | BM22: 284886 | BN22: 558797.1 | BO22: 271320 | BP22: 507997.36 | BQ22: =AVERAGE(BL22:BP22) -> 376150.89 | BR22: 164487.75 | BS22: 181802.25 | BT22: 542240.15 | BU22: 173145 | BV22: 492945.59 | BW22: =AVERAGE(BR22:BV22) -> 310924.15 | BX22: 210273 | BY22: 232407 | BZ22: 587771.77 | CA22: 221340 | CB22: 534337.97 | CC22: =AVERAGE(BX22:CB22) -> 357225.95 | CD22: 189924 | CE22: 209916 | CF22: 579493.29 | CG22: 199920 | CH22: 526812.08 | CI22: =AVERAGE(CD22:CH22) -> 341213.07
B23: 2.4 | C23: CADENILLA MOTOR | D23: 118702.5 | E23: 131197.5 | F23: 212716.54 | G23: 124950 | H23: 193378.67 | I23: =AVERAGE(D23:E23) -> 124950 | J23: 128877 | K23: 142443 | L23: 220115.38 | M23: 135660 | N23: 200104.89 | O23: =AVERAGE(J23:N23) -> 165440.05 | P23: 172966.5 | Q23: 191173.5 | R23: 221965.08 | S23: 182070 | T23: 201786.44 | U23: =AVERAGE(P23:T23) -> 193992.31 | V23: 179749.5 | W23: 198670.5 | X23: 225664.5 | Y23: 189210 | Z23: 205149.55 | AA23: =AVERAGE(V23:Z23) -> 199688.81 | AB23: 108528 | AC23: 119952 | AD23: 231213.63 | AE23: 114240 | AF23: 210194.21 | AG23: =AVERAGE(AB23:AF23) -> 156825.57 | AH23: 135660 | AI23: 149940 | AJ23: 243384.72 | AK23: 142800 | AL23: 221258.83 | AM23: =AVERAGE(AH23:AL23) -> 178608.71 | AN23: 149226 | AO23: 164934 | AP23: 238612.47 | AQ23: 157080 | AR23: 216920.42 | AS23: =AVERAGE(AN23:AR23) -> 185354.58 | AT23: 152617.5 | AU23: 168682.5 | AV23: 244161.59 | AW23: 160650 | AX23: 221965.08 | AY23: =AVERAGE(AT23:AX23) -> 189615.34 | AZ23: 164487.75 | BA23: 181802.25 | BB23: 249710.72 | BC23: 173145 | BD23: 227009.75 | BE23: =AVERAGE(AZ23:BD23) -> 199231.09 | BF23: 189924 | BG23: 209916 | BH23: 258959.27 | BI23: 199920 | BJ23: 235417.51 | BK23: =AVERAGE(BF23:BJ23) -> 218827.36 | BL23: 196707 | BM23: 217413 | BN23: 249710.72 | BO23: 207060 | BP23: 227009.75 | BQ23: =AVERAGE(BL23:BP23) -> 219580.09 | BR23: 125485.5 | BS23: 138694.5 | BT23: 242311.88 | BU23: 132090 | BV23: 220283.53 | BW23: =AVERAGE(BR23:BV23) -> 171773.08 | BX23: 159400.5 | BY23: 176179.5 | BZ23: 262658.68 | CA23: 167790 | CB23: 238780.62 | CC23: =AVERAGE(BX23:CB23) -> 200961.86 | CD23: 144138.75 | CE23: 159311.25 | CF23: 258959.27 | CG23: 151725 | CH23: 235417.51 | CI23: =AVERAGE(CD23:CH23) -> 189910.36
B24: 2.5 | C24: CIGÜEÑAL | D24: 661342.5 | E24: 730957.5 | F24: 612192.29 | G24: 696150 | H24: 556538.45 | I24: =AVERAGE(D24:E24) -> 696150 | J24: 713910.75 | K24: 789059.25 | L24: 633485.94 | M24: 751485 | N24: 575896.31 | O24: =AVERAGE(J24:N24) -> 692767.45 | P24: 959794.5 | Q24: 1060825.5 | R24: 638809.35 | S24: 1010310 | T24: 580735.77 | U24: =AVERAGE(P24:T24) -> 850095.02 | V24: 1005579.8 | W24: 1111430.2 | X24: 649456.17 | Y24: 1058505 | Z24: 590414.7 | AA24: =AVERAGE(V24:Z24) -> 883077.17 | AB24: 608774.25 | AC24: 672855.75 | AD24: 665426.4 | AE24: 640815 | AF24: 604933.09 | AG24: =AVERAGE(AB24:AF24) -> 638560.9 | AH24: 759696 | AI24: 839664 | AJ24: 700454.45 | AK24: 799680 | AL24: 636776.77 | AM24: =AVERAGE(AH24:AL24) -> 747254.24 | AN24: 827526 | AO24: 914634 | AP24: 686720.05 | AQ24: 871080 | AR24: 624290.95 | AS24: =AVERAGE(AN24:AR24) -> 784850.2 | AT24: 847875 | AU24: 937125 | AV24: 702690.28 | AW24: 892500 | AX24: 638809.35 | AY24: =AVERAGE(AT24:AX24) -> 803799.93 | AZ24: 912313.5 | BA24: 1008346.5 | BB24: 718660.52 | BC24: 960330 | BD24: 653327.74 | BE24: =AVERAGE(AZ24:BD24) -> 850595.65 | BF24: 1058148 | BG24: 1169532 | BH24: 745277.57 | BI24: 1113840 | BJ24: 677525.07 | BK24: =AVERAGE(BF24:BJ24) -> 952864.53 | BL24: 1092063 | BM24: 1207017 | BN24: 718660.52 | BO24: 1149540 | BP24: 653327.74 | BQ24: =AVERAGE(BL24:BP24) -> 964121.65 | BR24: 695257.5 | BS24: 768442.5 | BT24: 697366.87 | BU24: 731850 | BV24: 633969.88 | BW24: =AVERAGE(BR24:BV24) -> 705377.35 | BX24: 891964.5 | BY24: 985855.5 | BZ24: 755924.4 | CA24: 938910 | CB24: 687204 | CC24: =AVERAGE(BX24:CB24) -> 851971.68 | CD24: 807177 | CE24: 892143 | CF24: 745277.57 | CG24: 849660 | CH24: 677525.07 | CI24: =AVERAGE(CD24:CH24) -> 794356.53
B25: 2.6 | C25: CILINDRO MOTOR | D25: 525682.5 | E25: 581017.5 | F25: 664171.94 | G25: 553350 | H25: 603792.67 | I25: =AVERAGE(D25:E25) -> 553350 | J25: 568076.25 | K25: 627873.75 | L25: 687273.57 | M25: 597975 | N25: 624794.16 | O25: =AVERAGE(J25:N25) -> 621198.55 | P25: 763087.5 | Q25: 843412.5 | R25: 693048.98 | S25: 803250 | T25: 630044.53 | U25: =AVERAGE(P25:T25) -> 746568.7 | V25: 798698.25 | W25: 882771.75 | X25: 704599.8 | Y25: 840735 | Z25: 640545.27 | AA25: =AVERAGE(V25:Z25) -> 773470.01 | AB25: 483288.75 | AC25: 534161.25 | AD25: 721926.02 | AE25: 508725 | AF25: 656296.39 | AG25: =AVERAGE(AB25:AF25) -> 580879.48 | AH25: 603687 | AI25: 667233 | AJ25: 759928.21 | AK25: 635460 | AL25: 690843.83 | AM25: =AVERAGE(AH25:AL25) -> 671430.41 | AN25: 657951 | AO25: 727209 | AP25: 745027.66 | AQ25: 692580 | AR25: 677297.87 | AS25: =AVERAGE(AN25:AR25) -> 700013.11 | AT25: 673212.75 | AU25: 744077.25 | AV25: 762353.88 | AW25: 708645 | AX25: 693048.98 | AY25: =AVERAGE(AT25:AX25) -> 716267.57 | AZ25: 725781 | BA25: 802179 | BB25: 779680.11 | BC25: 763980 | BD25: 708800.1 | BE25: =AVERAGE(AZ25:BD25) -> 756084.04 | BF25: 841092 | BG25: 929628 | BH25: 808557.15 | BI25: 885360 | BJ25: 735051.95 | BK25: =AVERAGE(BF25:BJ25) -> 839937.82 | BL25: 868224 | BM25: 959616 | BN25: 779680.11 | BO25: 913920 | BP25: 708800.1 | BQ25: =AVERAGE(BL25:BP25) -> 846048.04 | BR25: 552814.5 | BS25: 611005.5 | BT25: 756578.47 | BU25: 581910 | BV25: 687798.61 | BW25: =AVERAGE(BR25:BV25) -> 638021.42 | BX25: 708823.5 | BY25: 783436.5 | BZ25: 820107.96 | CA25: 746130 | CB25: 745552.69 | CC25: =AVERAGE(BX25:CB25) -> 760810.13 | CD25: 640993.5 | CE25: 708466.5 | CF25: 808557.15 | CG25: 674730 | CH25: 735051.95 | CI25: =AVERAGE(CD25:CH25) -> 713559.82
B26: 2.7 | C26: CULATA | D26: 830917.5 | E26: 918382.5 | F26: 705823.02 | G26: 874650 | H26: 641657.29 | I26: =AVERAGE(D26:E26) -> 874650 | J26: 897051.75 | K26: 991478.25 | L26: 730373.39 | M26: 944265 | N26: 663975.81 | O26: =AVERAGE(J26:N26) -> 845428.84 | P26: 1203982.5 | Q26: 1330717.5 | R26: 736510.98 | S26: 1267350 | T26: 669555.44 | U26: =AVERAGE(P26:T26) -> 1041623.3 | V26: 1263333.8 | W26: 1396316.2 | X26: 748786.16 | Y26: 1329825 | Z26: 680714.69 | AA26: =AVERAGE(V26:Z26) -> 1083795.2 | AB26: 764783.25 | AC26: 845286.75 | AD26: 767198.94 | AE26: 805035 | AF26: 697453.58 | AG26: =AVERAGE(AB26:AF26) -> 775951.5 | AH26: 956403 | AI26: 1057077 | AJ26: 807584.29 | AK26: 1006740 | AL26: 734167.54 | AM26: =AVERAGE(AH26:AL26) -> 912394.36 | AN26: 1037799 | AO26: 1147041 | AP26: 791749.3 | AQ26: 1092420 | AR26: 719772.09 | AS26: =AVERAGE(AN26:AR26) -> 957756.28 | AT26: 1063235.2 | AU26: 1175154.8 | AV26: 810162.08 | AW26: 1119195 | AX26: 736510.98 | AY26: =AVERAGE(AT26:AX26) -> 980851.61 | AZ26: 1146327 | BA26: 1266993 | BB26: 828574.85 | BC26: 1206660 | BD26: 753249.87 | BE26: =AVERAGE(AZ26:BD26) -> 1040360.9 | BF26: 1329468 | BG26: 1469412 | BH26: 859262.81 | BI26: 1399440 | BJ26: 781148.01 | BK26: =AVERAGE(BF26:BJ26) -> 1167746.2 | BL26: 1370166 | BM26: 1514394 | BN26: 828574.85 | BO26: 1442280 | BP26: 753249.87 | BQ26: =AVERAGE(BL26:BP26) -> 1181732.9 | BR26: 871615.5 | BS26: 963364.5 | BT26: 804024.49 | BU26: 917490 | BV26: 730931.35 | BW26: =AVERAGE(BR26:BV26) -> 857485.17 | BX26: 1122586.5 | BY26: 1240753.5 | BZ26: 871537.99 | CA26: 1181670 | CB26: 792307.27 | CC26: =AVERAGE(BX26:CB26) -> 1041771.1 | CD26: 1014058.5 | CE26: 1120801.5 | CF26: 859262.81 | CG26: 1067430 | CH26: 781148.01 | CI26: =AVERAGE(CD26:CH26) -> 968540.16
B27: 2.8 | C27: CULATIN | D27: 162792 | E27: 179928 | F27: 486902.25 | G27: 171360 | H27: 442638.41 | I27: =AVERAGE(D27:E27) -> 171360 | J27: 176358 | K27: 194922 | L27: 503837.98 | M27: 185640 | N27: 458034.53 | O27: =AVERAGE(J27:N27) -> 303758.5 | P27: 235709.25 | Q27: 260520.75 | R27: 508071.91 | S27: 248115 | T27: 461883.56 | U27: =AVERAGE(P27:T27) -> 342860.09 | V27: 247579.5 | W27: 273640.5 | X27: 516539.78 | Y27: 260610 | Z27: 469581.62 | AA27: =AVERAGE(V27:Z27) -> 353590.28 | AB27: 149226 | AC27: 164934 | AD27: 529241.58 | AE27: 157080 | AF27: 481128.71 | AG27: =AVERAGE(AB27:AF27) -> 296322.06 | AH27: 186532.5 | AI27: 206167.5 | AJ27: 557100.85 | AK27: 196350 | AL27: 506455.32 | AM27: =AVERAGE(AH27:AL27) -> 330521.23 | AN27: 203490 | AO27: 224910 | AP27: 546177.31 | AQ27: 214200 | AR27: 496524.82 | AS27: =AVERAGE(AN27:AR27) -> 337060.43 | AT27: 208577.25 | AU27: 230532.75 | AV27: 558879.1 | AW27: 219555 | AX27: 508071.91 | AY27: =AVERAGE(AT27:AX27) -> 345123.2 | AZ27: 223839 | BA27: 247401 | BB27: 571580.9 | BC27: 235620 | BD27: 519619 | BE27: =AVERAGE(AZ27:BD27) -> 359611.98 | BF27: 261145.5 | BG27: 288634.5 | BH27: 592750.57 | BI27: 274890 | BJ27: 538864.15 | BK27: =AVERAGE(BF27:BJ27) -> 391256.94 | BL27: 267928.5 | BM27: 296131.5 | BN27: 571580.9 | BO27: 282030 | BP27: 519619 | BQ27: =AVERAGE(BL27:BP27) -> 387457.98 | BR27: 171270.75 | BS27: 189299.25 | BT27: 554645.17 | BU27: 180285 | BV27: 504222.88 | BW27: =AVERAGE(BR27:BV27) -> 319944.61 | BX27: 220447.5 | BY27: 243652.5 | BZ27: 601218.43 | CA27: 232050 | CB27: 546562.21 | CC27: =AVERAGE(BX27:CB27) -> 368786.13 | CD27: 198402.75 | CE27: 219287.25 | CF27: 592750.57 | CG27: 208845 | CH27: 538864.15 | CI27: =AVERAGE(CD27:CH27) -> 351629.94
B28: 2.9 | C28: EJE DE LEVAS | D28: 244188 | E28: 269892 | F28: 558528.64 | G28: 257040 | H28: 507753.31 | I28: =AVERAGE(D28:E28) -> 257040 | J28: 264537 | K28: 292383 | L28: 577955.72 | M28: 278460 | N28: 525414.29 | O28: =AVERAGE(J28:N28) -> 387750 | P28: 354411.75 | Q28: 391718.25 | R28: 582812.49 | S28: 373065 | T28: 529829.54 | U28: =AVERAGE(P28:T28) -> 446367.41 | V28: 371369.25 | W28: 410460.75 | X28: 592526.03 | Y28: 390915 | Z28: 538660.03 | AA28: =AVERAGE(V28:Z28) -> 460786.21 | AB28: 223839 | AC28: 247401 | AD28: 607096.34 | AE28: 235620 | AF28: 551905.77 | AG28: =AVERAGE(AB28:AF28) -> 373172.42 | AH28: 281494.5 | AI28: 311125.5 | AJ28: 639053.89 | AK28: 296310 | AL28: 580958.09 | AM28: =AVERAGE(AH28:AL28) -> 421788.4 | AN28: 305235 | AO28: 337365 | AP28: 626523.43 | AQ28: 321300 | AR28: 569566.75 | AS28: =AVERAGE(AN28:AR28) -> 431998.04 | AT28: 312018 | AU28: 344862 | AV28: 641093.74 | AW28: 328440 | AX28: 582812.49 | AY28: =AVERAGE(AT28:AX28) -> 441845.25 | AZ28: 337454.25 | BA28: 372975.75 | BB28: 655664.05 | BC28: 355215 | BD28: 596058.23 | BE28: =AVERAGE(AZ28:BD28) -> 463473.46 | BF28: 390022.5 | BG28: 431077.5 | BH28: 679947.9 | BI28: 410550 | BJ28: 618134.46 | BK28: =AVERAGE(BF28:BJ28) -> 505946.47 | BL28: 403588.5 | BM28: 446071.5 | BN28: 655664.05 | BO28: 424830 | BP28: 596058.23 | BQ28: =AVERAGE(BL28:BP28) -> 505242.46 | BR28: 256058.25 | BS28: 283011.75 | BT28: 636236.97 | BU28: 269535 | BV28: 578397.24 | BW28: =AVERAGE(BR28:BV28) -> 404647.84 | BX28: 328975.5 | BY28: 363604.5 | BZ28: 689661.45 | CA28: 346290 | CB28: 626964.95 | CC28: =AVERAGE(BX28:CB28) -> 471099.28 | CD28: 298452 | CE28: 329868 | CF28: 679947.9 | CG28: 314160 | CH28: 618134.46 | CI28: =AVERAGE(CD28:CH28) -> 448112.47
B29: 2.10 | C29: EMPAQUE DE CULATA | D29: 47481 | E29: 52479 | F29: 105306.5 | G29: 49980 | H29: 95733.186 | I29: =AVERAGE(D29:E29) -> 49980 | J29: 50872.5 | K29: 56227.5 | L29: 108969.34 | M29: 53550 | N29: 99063.036 | O29: =AVERAGE(J29:N29) -> 73736.475 | P29: 69525.75 | Q29: 76844.25 | R29: 109885.05 | S29: 73185 | T29: 99895.498 | U29: =AVERAGE(P29:T29) -> 85867.109 | V29: 72917.25 | W29: 80592.75 | X29: 111716.47 | Y29: 76755 | Z29: 101560.42 | AA29: =AVERAGE(V29:Z29) -> 88708.378 | AB29: 44089.5 | AC29: 48730.5 | AD29: 114463.59 | AE29: 46410 | AF29: 104057.81 | AG29: =AVERAGE(AB29:AF29) -> 71550.281 | AH29: 54264 | AI29: 59976 | AJ29: 120488.96 | AK29: 57120 | AL29: 109535.41 | AM29: =AVERAGE(AH29:AL29) -> 80276.874 | AN29: 59351.25 | AO29: 65598.75 | AP29: 118126.43 | AQ29: 62475 | AR29: 107387.66 | AS29: =AVERAGE(AN29:AR29) -> 82587.818 | AT29: 61047 | AU29: 67473 | AV29: 120873.55 | AW29: 64260 | AX29: 109885.05 | AY29: =AVERAGE(AT29:AX29) -> 84707.72 | AZ29: 66134.25 | BA29: 73095.75 | BB29: 123620.68 | BC29: 69615 | BD29: 112382.44 | BE29: =AVERAGE(AZ29:BD29) -> 88969.623 | BF29: 76308.75 | BG29: 84341.25 | BH29: 128199.22 | BI29: 80325 | BJ29: 116544.75 | BK29: =AVERAGE(BF29:BJ29) -> 97143.794 | BL29: 78004.5 | BM29: 86215.5 | BN29: 123620.68 | BO29: 82110 | BP29: 112382.44 | BQ29: =AVERAGE(BL29:BP29) -> 96466.623 | BR29: 49176.75 | BS29: 54353.25 | BT29: 119957.84 | BU29: 51765 | BV29: 109052.59 | BW29: =AVERAGE(BR29:BV29) -> 76861.086 | BX29: 64438.5 | BY29: 71221.5 | BZ29: 130030.64 | CA29: 67830 | CB29: 118209.67 | CC29: =AVERAGE(BX29:CB29) -> 90346.063 | CD29: 57655.5 | CE29: 63724.5 | CF29: 128199.22 | CG29: 60690 | CH29: 116544.75 | CI29: =AVERAGE(CD29:CH29) -> 85362.794
B30: 2.11 | C30: EMPAQUETADURA MOTOR | D30: 94962 | E30: 104958 | F30: 191639.88 | G30: 99960 | H30: 174218.07 | I30: =AVERAGE(D30:E30) -> 99960 | J30: 101745 | K30: 112455 | L30: 198305.61 | M30: 107100 | N30: 180277.83 | O30: =AVERAGE(J30:N30) -> 139976.69 | P30: 137355.75 | Q30: 151814.25 | R30: 199972.04 | S30: 144585 | T30: 181792.77 | U30: =AVERAGE(P30:T30) -> 163103.96 | V30: 144138.75 | W30: 159311.25 | X30: 203304.91 | Y30: 151725 | Z30: 184822.65 | AA30: =AVERAGE(V30:Z30) -> 168660.51 | AB30: 88179 | AC30: 97461 | AD30: 208304.21 | AE30: 92820 | AF30: 189367.47 | AG30: =AVERAGE(AB30:AF30) -> 135226.34 | AH30: 108528 | AI30: 119952 | AJ30: 219269.35 | AK30: 114240 | AL30: 199335.77 | AM30: =AVERAGE(AH30:AL30) -> 152265.02 | AN30: 118702.5 | AO30: 131197.5 | AP30: 214969.95 | AQ30: 124950 | AR30: 195427.23 | AS30: =AVERAGE(AN30:AR30) -> 157049.43 | AT30: 122094 | AU30: 134946 | AV30: 219969.25 | AW30: 128520 | AX30: 199972.04 | AY30: =AVERAGE(AT30:AX30) -> 161100.26 | AZ30: 130572.75 | BA30: 144317.25 | BB30: 224968.55 | BC30: 137445 | BD30: 204516.86 | BE30: =AVERAGE(AZ30:BD30) -> 168364.08 | BF30: 152617.5 | BG30: 168682.5 | BH30: 233300.72 | BI30: 160650 | BJ30: 212091.56 | BK30: =AVERAGE(BF30:BJ30) -> 185468.46 | BL30: 156009 | BM30: 172431 | BN30: 224968.55 | BO30: 164220 | BP30: 204516.86 | BQ30: =AVERAGE(BL30:BP30) -> 184429.08 | BR30: 100049.25 | BS30: 110580.75 | BT30: 218302.81 | BU30: 105315 | BV30: 198457.1 | BW30: =AVERAGE(BR30:BV30) -> 146540.98 | BX30: 128877 | BY30: 142443 | BZ30: 236633.59 | CA30: 135660 | CB30: 215121.44 | CC30: =AVERAGE(BX30:CB30) -> 171747.01 | CD30: 115311 | CE30: 127449 | CF30: 233300.72 | CG30: 121380 | CH30: 212091.56 | CI30: =AVERAGE(CD30:CH30) -> 161906.46
B31: 2.12 | C31: FILTRO DE ACEITE | D31: 37306.5 | E31: 41233.5 | F31: 78586.944 | G31: 39270 | H31: 71442.676 | I31: =AVERAGE(D31:E31) -> 39270 | J31: 40698 | K31: 44982 | L31: 81320.403 | M31: 42840 | N31: 73927.639 | O31: =AVERAGE(J31:N31) -> 56753.608 | P31: 54264 | Q31: 59976 | R31: 82003.767 | S31: 57120 | T31: 74548.879 | U31: =AVERAGE(P31:T31) -> 65582.529 | V31: 55959.75 | W31: 61850.25 | X31: 83370.497 | Y31: 58905 | Z31: 75791.361 | AA31: =AVERAGE(V31:Z31) -> 67175.372 | AB31: 33915 | AC31: 37485 | AD31: 85420.591 | AE31: 35700 | AF31: 77655.083 | AG31: =AVERAGE(AB31:AF31) -> 54035.135 | AH31: 42393.75 | AI31: 46856.25 | AJ31: 89917.131 | AK31: 44625 | AL31: 81742.846 | AM31: =AVERAGE(AH31:AL31) -> 61106.995 | AN31: 47481 | AO31: 52479 | AP31: 88154.05 | AQ31: 49980 | AR31: 80140.045 | AS31: =AVERAGE(AN31:AR31) -> 63646.819 | AT31: 47481 | AU31: 52479 | AV31: 90204.144 | AW31: 49980 | AX31: 82003.767 | AY31: =AVERAGE(AT31:AX31) -> 64429.582 | AZ31: 50872.5 | BA31: 56227.5 | BB31: 92254.238 | BC31: 53550 | BD31: 83867.489 | BE31: =AVERAGE(AZ31:BD31) -> 67354.346 | BF31: 59351.25 | BG31: 65598.75 | BH31: 95671.062 | BI31: 62475 | BJ31: 86973.693 | BK31: =AVERAGE(BF31:BJ31) -> 74013.951 | BL31: 61047 | BM31: 67473 | BN31: 92254.238 | BO31: 64260 | BP31: 83867.489 | BQ31: =AVERAGE(BL31:BP31) -> 73780.346 | BR31: 39002.25 | BS31: 43107.75 | BT31: 89520.779 | BU31: 41055 | BV31: 81382.527 | BW31: =AVERAGE(BR31:BV31) -> 58813.661 | BX31: 50872.5 | BY31: 56227.5 | BZ31: 97037.791 | CA31: 53550 | CB31: 88216.174 | CC31: =AVERAGE(BX31:CB31) -> 69180.793 | CD31: 45785.25 | CE31: 50604.75 | CF31: 95671.062 | CG31: 48195 | CH31: 86973.693 | CI31: =AVERAGE(CD31:CH31) -> 65445.951
... B37: 2.18 | C37: VALVULAS (JUEGO) | D37: 122094 | E37: 134946 | F37: 266982.89 | G37: 128520 | H37: 242711.72 | I37: =AVERAGE(D37:E37) -> 128520 | J37: 132268.5 | K37: 146191.5 | L37: 276269.25 | M37: 139230 | N37: 251153.87 | O37: =AVERAGE(J37:N37) -> 189022.62 | P37: 176358 | Q37: 194922 | R37: 278590.84 | S37: 185640 | T37: 253264.4 | U37: =AVERAGE(P37:T37) -> 217755.05 | V37: 184836.75 | W37: 204293.25 | X37: 283234.02 | Y37: 194565 | Z37: 257485.48 | AA37: =AVERAGE(V37:Z37) -> 224882.9 | AB37: 111919.5 | AC37: 123700.5 | AD37: 290198.8 | AE37: 117810 | AF37: 263817.09 | AG37: =AVERAGE(AB37:AF37) -> 181489.18 | AH37: 140747.25 | AI37: 155562.75 | AJ37: 305474.86 | AK37: 148155 | AL37: 277704.42 | AM37: =AVERAGE(AH37:AL37) -> 205528.86 | AN37: 152617.5 | AO37: 168682.5 | AP37: 299485.16 | AQ37: 160650 | AR37: 272259.23 | AS37: =AVERAGE(AN37:AR37) -> 210738.88 | AT37: 156009 | AU37: 172431 | AV37: 306449.93 | AW37: 164220 | AX37: 278590.84 | AY37: =AVERAGE(AT37:AX37) -> 215540.15 | AZ37: 167879.25 | BA37: 185550.75 | BB37: 313414.7 | BC37: 176715 | BD37: 284922.45 | BE37: =AVERAGE(AZ37:BD37) -> 225696.43 | BF37: 195011.25 | BG37: 215538.75 | BH37: 325022.65 | BI37: 205275 | BJ37: 295475.14 | BK37: =AVERAGE(BF37:BJ37) -> 247264.56 | BL37: 201794.25 | BM37: 223035.75 | BN37: 313414.7 | BO37: 212415 | BP37: 284922.45 | BQ37: =AVERAGE(BL37:BP37) -> 247116.43 | BR37: 128877 | BS37: 142443 | BT37: 304128.34 | BU37: 135660 | BV37: 276480.31 | BW37: =AVERAGE(BR37:BV37) -> 197517.73 | BX37: 164487.75 | BY37: 181802.25 | BZ37: 329665.83 | CA37: 173145 | CB37: 299696.21 | CC37: =AVERAGE(BX37:CB37) -> 229759.41 | CD37: 149226 | CE37: 164934 | CF37: 325022.65 | CG37: 157080 | CH37: 295475.14 | CI37: =AVERAGE(CD37:CH37) -> 218347.56
B38: 3 | C38: SISTEMA DE TRANSFERENCIA | D38: 0 | E38: 873400.5 | F38: 0 | H38: 0 | I38: 0 | J38: 852962.25 | K38: 942747.75 | L38: 0 | N38: 0 | Q38: 1268867.2 | R38: 0 | T38: 0 | W38: 1328843.2 | X38: 0 | Z38: 0 | AB38: 727476.75 | AC38: 804053.25 | AD38: 0 | AF38: 0 | AH38: 907226.25 | AI38: 1002723.8 | AJ38: 0 | AL38: 0 | AN38: 986926.5 | AO38: 1090813.5 | AP38: 0 | AR38: 0 | AT38: 1010667 | AU38: 1117053 | AV38: 0 | AX38: 0 | AZ38: 1090367.2 | BA38: 1205142.8 | BB38: 0 | BD38: 0 | BE38: 0 | BF38: 1266725.2 | BG38: 1400064.8 | BH38: 0 | BJ38: 0 | BL38: 890268.75 | BM38: 983981.25 | BN38: 0 | BP38: 0 | BR38: 829221.75 | BS38: 916508.25 | BT38: 0 | BV38: 0 | BX38: 1066626.8 | BY38: 1178903.2 | BZ38: 0 | CB38: 0 | CD38: 964881.75 | CE38: 1066448.2 | CF38: 0 | CH38: 0
B39: 3.1 | C39: EMPAQUE TAPA EMBRAGUE | D39: 37306.5 | E39: 41233.5 | F39: 73534.926 | G39: 39270 | H39: 66849.933 | I39: =AVERAGE(D39:E39) -> 39270 | J39: 40698 | K39: 44982 | L39: 76092.662 | M39: 42840 | N39: 69175.148 | O39: =AVERAGE(J39:N39) -> 54757.562 | P39: 54264 | Q39: 59976 | R39: 76732.097 | S39: 57120 | T39: 69756.451 | U39: =AVERAGE(P39:T39) -> 63569.71 | V39: 55959.75 | W39: 61850.25 | X39: 78010.965 | Y39: 58905 | Z39: 70919.059 | AA39: =AVERAGE(V39:Z39) -> 65129.005 | AB39: 33915 | AC39: 37485 | AD39: 79929.267 | AE39: 35700 | AF39: 72662.97 | AG39: =AVERAGE(AB39:AF39) -> 51938.448 | AH39: 42393.75 | AI39: 46856.25 | AJ39: 84136.744 | AK39: 44625 | AL39: 76487.949 | AM39: =AVERAGE(AH39:AL39) -> 58899.939 | AN39: 47481 | AO39: 52479 | AP39: 82487.004 | AQ39: 49980 | AR39: 74988.185 | AS39: =AVERAGE(AN39:AR39) -> 61483.038 | AT39: 47481 | AU39: 52479 | AV39: 84405.306 | AW39: 49980 | AX39: 76732.097 | AY39: =AVERAGE(AT39:AX39) -> 62215.481 | AZ39: 50872.5 | BA39: 56227.5 | BB39: 86323.609 | BC39: 53550 | BD39: 78476.008 | BE39: =AVERAGE(AZ39:BD39) -> 65089.923 | BF39: 59351.25 | BG39: 65598.75 | BH39: 89520.779 | BI39: 62475 | BJ39: 81382.527 | BK39: =AVERAGE(BF39:BJ39) -> 71665.661 | BL39: 61047 | BM39: 67473 | BN39: 86323.609 | BO39: 64260 | BP39: 78476.008 | BQ39: =AVERAGE(BL39:BP39) -> 71515.923 | BR39: 39002.25 | BS39: 43107.75 | BT39: 83765.872 | BU39: 41055 | BV39: 76150.793 | BW39: =AVERAGE(BR39:BV39) -> 56616.333 | BX39: 50872.5 | BY39: 56227.5 | BZ39: 90799.648 | CA39: 53550 | CB39: 82545.134 | CC39: =AVERAGE(BX39:CB39) -> 66798.956 | CD39: 45785.25 | CE39: 50604.75 | CF39: 89520.779 | CG39: 48195 | CH39: 81382.527 | CI39: =AVERAGE(CD39:CH39) -> 63097.661
B40: 3.2 | C40: GUAYA EMBREAGUE | D40: 50872.5 | E40: 56227.5 | F40: 106878.24 | G40: 53550 | H40: 97162.04 | I40: =AVERAGE(D40:E40) -> 53550 | J40: 54264 | K40: 59976 | L40: 110595.75 | M40: 57120 | N40: 100541.59 | O40: =AVERAGE(J40:N40) -> 76499.467 | P40: 74613 | Q40: 82467 | R40: 111525.12 | S40: 78540 | T40: 101386.48 | U40: =AVERAGE(P40:T40) -> 89706.32 | V40: 78004.5 | W40: 86215.5 | X40: 113383.88 | Y40: 82110 | Z40: 103076.25 | AA40: =AVERAGE(V40:Z40) -> 92558.025 | AB40: 47481 | AC40: 52479 | AD40: 116172 | AE40: 49980 | AF40: 105610.91 | AG40: =AVERAGE(AB40:AF40) -> 74344.583 | AH40: 57655.5 | AI40: 63724.5 | AJ40: 122287.3 | AK40: 60690 | AL40: 111170.27 | AM40: =AVERAGE(AH40:AL40) -> 83105.514 | AN40: 64438.5 | AO40: 71221.5 | AP40: 119889.51 | AQ40: 67830 | AR40: 108990.46 | AS40: =AVERAGE(AN40:AR40) -> 86473.994 | AT40: 64438.5 | AU40: 71221.5 | AV40: 122677.64 | AW40: 67830 | AX40: 111525.12 | AY40: =AVERAGE(AT40:AX40) -> 87538.552 | AZ40: 69525.75 | BA40: 76844.25 | BB40: 125465.76 | BC40: 73185 | BD40: 114059.79 | BE40: =AVERAGE(AZ40:BD40) -> 91816.11 | BF40: 81396 | BG40: 89964 | BH40: 130112.64 | BI40: 85680 | BJ40: 118284.22 | BK40: =AVERAGE(BF40:BJ40) -> 101087.37 | BL40: 84787.5 | BM40: 93712.5 | BN40: 125465.76 | BO40: 89250 | BP40: 114059.79 | BQ40: =AVERAGE(BL40:BP40) -> 101455.11 | BR40: 54264 | BS40: 59976 | BT40: 121748.26 | BU40: 57120 | BV40: 110680.24 | BW40: =AVERAGE(BR40:BV40) -> 80757.699 | BX40: 67830 | BY40: 74970 | BZ40: 131971.4 | CA40: 71400 | CB40: 119974 | CC40: =AVERAGE(BX40:CB40) -> 93229.079 | CD40: 62742.75 | CE40: 69347.25 | CF40: 130112.64 | CG40: 66045 | CH40: 118284.22 | CI40: =AVERAGE(CD40:CH40) -> 89306.373
B41: 3.3 | C41: GUAYA VELOCIMETRO | D41: 47481 | E41: 52479 | F41: 111817.99 | G41: 49980 | H41: 101652.72 | I41: =AVERAGE(D41:E41) -> 49980 | J41: 50872.5 | K41: 56227.5 | L41: 115707.32 | M41: 53550 | N41: 105188.47 | O41: =AVERAGE(J41:N41) -> 76309.157 | P41: 69525.75 | Q41: 76844.25 | R41: 116679.65 | S41: 73185 | T41: 106072.41 | U41: =AVERAGE(P41:T41) -> 88461.41 | V41: 72917.25 | W41: 80592.75 | X41: 118624.31 | Y41: 76755 | Z41: 107840.28 | AA41: =AVERAGE(V41:Z41) -> 91345.917 | AB41: 44089.5 | AC41: 48730.5 | AD41: 121541.3 | AE41: 46410 | AF41: 110492.09 | AG41: =AVERAGE(AB41:AF41) -> 74252.677 | AH41: 54264 | AI41: 59976 | AJ41: 127939.23 | AK41: 57120 | AL41: 116308.39 | AM41: =AVERAGE(AH41:AL41) -> 83121.525 | AN41: 59351.25 | AO41: 65598.75 | AP41: 125430.62 | AQ41: 62475 | AR41: 114027.84 | AS41: =AVERAGE(AN41:AR41) -> 85376.691 | AT41: 61047 | AU41: 67473 | AV41: 128347.61 | AW41: 64260 | AX41: 116679.65 | AY41: =AVERAGE(AT41:AX41) -> 87561.451 | AZ41: 66134.25 | BA41: 73095.75 | BB41: 131264.6 | BC41: 69615 | BD41: 119331.46 | BE41: =AVERAGE(AZ41:BD41) -> 91888.212 | BF41: 76308.75 | BG41: 84341.25 | BH41: 136126.25 | BI41: 80325 | BJ41: 123751.14 | BK41: =AVERAGE(BF41:BJ41) -> 100170.48 | BL41: 78004.5 | BM41: 86215.5 | BN41: 131264.6 | BO41: 82110 | BP41: 119331.46 | BQ41: =AVERAGE(BL41:BP41) -> 99385.212 | BR41: 49176.75 | BS41: 54353.25 | BT41: 127375.28 | BU41: 51765 | BV41: 115795.71 | BW41: =AVERAGE(BR41:BV41) -> 79693.198 | BX41: 64438.5 | BY41: 71221.5 | BZ41: 138070.91 | CA41: 67830 | CB41: 125519.01 | CC41: =AVERAGE(BX41:CB41) -> 93415.986 | CD41: 57655.5 | CE41: 63724.5 | CF41: 136126.25 | CG41: 60690 | CH41: 123751.14 | CI41: =AVERAGE(CD41:CH41) -> 88389.479
B42: 3.4 | C42: JUEGO CAUCHOS DE CAMPANA | D42: 44089.5 | E42: 48730.5 | F42: 145403.57 | G42: 46410 | H42: 132185.07 | I42: =AVERAGE(D42:E42) -> 46410 | J42: 47481 | K42: 52479 | L42: 150461.09 | M42: 49980 | N42: 136782.81 | O42: =AVERAGE(J42:N42) -> 87436.779 | P42: 64438.5 | Q42: 71221.5 | R42: 151725.47 | S42: 67830 | T42: 137932.24 | U42: =AVERAGE(P42:T42) -> 98629.542 | V42: 67830 | W42: 74970 | X42: 154254.22 | Y42: 71400 | Z42: 140231.11 | AA42: =AVERAGE(V42:Z42) -> 101737.07 | AB42: 40698 | AC42: 44982 | AD42: 158047.36 | AE42: 42840 | AF42: 143679.42 | AG42: =AVERAGE(AB42:AF42) -> 86049.356 | AH42: 50872.5 | AI42: 56227.5 | AJ42: 166366.97 | AK42: 53550 | AL42: 151242.7 | AM42: =AVERAGE(AH42:AL42) -> 95651.936 | AN42: 54264 | AO42: 59976 | AP42: 163104.88 | AQ42: 57120 | AR42: 148277.16 | AS42: =AVERAGE(AN42:AR42) -> 96548.408 | AT42: 55959.75 | AU42: 61850.25 | AV42: 166898.01 | AW42: 58905 | AX42: 151725.47 | AY42: =AVERAGE(AT42:AX42) -> 99067.696 | AZ42: 61047 | BA42: 67473 | BB42: 170691.15 | BC42: 64260 | BD42: 155173.77 | BE42: =AVERAGE(AZ42:BD42) -> 103728.98 | BF42: 71221.5 | BG42: 78718.5 | BH42: 177013.04 | BI42: 74970 | BJ42: 160920.95 | BK42: =AVERAGE(BF42:BJ42) -> 112568.8 | BL42: 72917.25 | BM42: 80592.75 | BN42: 170691.15 | BO42: 76755 | BP42: 155173.77 | BQ42: =AVERAGE(BL42:BP42) -> 111225.98 | BR42: 45785.25 | BS42: 50604.75 | BT42: 165633.63 | BU42: 48195 | BV42: 150576.03 | BW42: =AVERAGE(BR42:BV42) -> 92158.933 | BX42: 59351.25 | BY42: 65598.75 | BZ42: 179541.8 | CA42: 62475 | CB42: 163219.82 | CC42: =AVERAGE(BX42:CB42) -> 106037.32 | CD42: 54264 | CE42: 59976 | CF42: 177013.04 | CG42: 57120 | CH42: 160920.95 | CI42: =AVERAGE(CD42:CH42) -> 101858.8
B43: 3.5 | C43: KIT DE ARRASTRE | D43: 278103 | E43: 307377 | F43: 647668.68 | G43: 292740 | H43: 588789.71 | I43: =AVERAGE(D43:E43) -> 292740 | J43: 300147.75 | K43: 331742.25 | L43: 670196.29 | M43: 315945 | N43: 609269.35 | O43: =AVERAGE(J43:N43) -> 445460.13 | P43: 403588.5 | Q43: 446071.5 | R43: 675828.19 | S43: 424830 | T43: 614389.27 | U43: =AVERAGE(P43:T43) -> 512941.49 | V43: 422241.75 | W43: 466688.25 | X43: 687091.99 | Y43: 444465 | Z43: 624629.09 | AA43: =AVERAGE(V43:Z43) -> 529023.22 | AB43: 256058.25 | AC43: 283011.75 | AD43: 703987.7 | AE43: 269535 | AF43: 639988.82 | AG43: =AVERAGE(AB43:AF43) -> 430516.3 | AH43: 320496.75 | AI43: 354233.25 | AJ43: 741045.61 | AK43: 337365 | AL43: 673677.83 | AM43: =AVERAGE(AH43:AL43) -> 485363.69 | AN43: 347628.75 | AO43: 384221.25 | AP43: 726515.31 | AQ43: 365925 | AR43: 660468.46 | AS43: =AVERAGE(AN43:AR43) -> 496951.75 | AT43: 356107.5 | AU43: 393592.5 | AV43: 743411.01 | AW43: 374850 | AX43: 675828.19 | AY43: =AVERAGE(AT43:AX43) -> 508757.84 | AZ43: 383239.5 | BA43: 423580.5 | BB43: 760306.72 | BC43: 403410 | BD43: 691187.92 | BE43: =AVERAGE(AZ43:BD43) -> 532344.93 | BF43: 444286.5 | BG43: 491053.5 | BH43: 788466.22 | BI43: 467670 | BJ43: 716787.48 | BK43: =AVERAGE(BF43:BJ43) -> 581652.74 | BL43: 45785.25 | BM43: 50604.75 | BN43: 760306.72 | BO43: 48195 | BP43: 691187.92 | BQ43: =AVERAGE(BL43:BP43) -> 319215.93 | BR43: 291669 | BS43: 322371 | BT43: 737779.11 | BU43: 307020 | BV43: 670708.28 | BW43: =AVERAGE(BR43:BV43) -> 465909.48 | BX43: 374760.75 | BY43: 414209.25 | BZ43: 799730.03 | CA43: 394485 | CB43: 727027.3 | CC43: =AVERAGE(BX43:CB43) -> 542042.46 | CD43: 339150 | CE43: 374850 | CF43: 788466.22 | CG43: 357000 | CH43: 716787.48 | CI43: =AVERAGE(CD43:CH43) -> 515250.74
B44: 3.6 | C44: KIT DE EMBRAGUE | D44: 162792 | E44: 179928 | F44: 327370.75 | G44: 171360 | H44: 297609.78 | I44: =AVERAGE(D44:E44) -> 171360 | J44: 176358 | K44: 194922 | L44: 338757.56 | M44: 185640 | N44: 307961.42 | O44: =AVERAGE(J44:N44) -> 240727.8 | P44: 235709.25 | Q44: 260520.75 | R44: 341604.27 | S44: 248115 | T44: 310549.33 | U44: =AVERAGE(P44:T44) -> 279299.72 | V44: 247579.5 | W44: 273640.5 | X44: 347297.67 | Y44: 260610 | Z44: 315725.15 | AA44: =AVERAGE(V44:Z44) -> 288970.56 | AB44: 149226 | AC44: 164934 | AD44: 355837.78 | AE44: 157080 | AF44: 323488.89 | AG44: =AVERAGE(AB44:AF44) -> 230113.33 | AH44: 186532.5 | AI44: 206167.5 | AJ44: 374569.08 | AK44: 196350 | AL44: 340517.34 | AM44: =AVERAGE(AH44:AL44) -> 260827.28 | AN44: 203490 | AO44: 224910 | AP44: 367224.59 | AQ44: 214200 | AR44: 333840.53 | AS44: =AVERAGE(AN44:AR44) -> 268733.02 | AT44: 208577.25 | AU44: 230532.75 | AV44: 375764.69 | AW44: 219555 | AX44: 341604.27 | AY44: =AVERAGE(AT44:AX44) -> 275206.79 | AZ44: 223839 | BA44: 247401 | BB44: 384304.8 | BC44: 235620 | BD44: 349368 | BE44: =AVERAGE(AZ44:BD44) -> 288106.56 | BF44: 261145.5 | BG44: 288634.5 | BH44: 398538.31 | BI44: 274890 | BJ44: 362307.55 | BK44: =AVERAGE(BF44:BJ44) -> 317103.17 | BL44: 267928.5 | BM44: 296131.5 | BN44: 384304.8 | BO44: 282030 | BP44: 349368 | BQ44: =AVERAGE(BL44:BP44) -> 315952.56 | BR44: 171270.75 | BS44: 189299.25 | BT44: 372917.99 | BU44: 180285 | BV44: 339016.35 | BW44: =AVERAGE(BR44:BV44) -> 250557.87 | BX44: 220447.5 | BY44: 243652.5 | BZ44: 404231.71 | CA44: 232050 | CB44: 367483.38 | CC44: =AVERAGE(BX44:CB44) -> 293573.02 | CD44: 198402.75 | CE44: 219287.25 | CF44: 398538.31 | CG44: 208845 | CH44: 362307.55 | CI44: =AVERAGE(CD44:CH44) -> 277476.17
B45: 3.7 | C45: MANIJA DE EMBRAGUE | D45: 44089.5 | E45: 48730.5 | F45: 74769.864 | G45: 46410 | H45: 67972.603 | I45: =AVERAGE(D45:E45) -> 46410 | J45: 47481 | K45: 52479 | L45: 77370.555 | M45: 49980 | N45: 70336.868 | O45: =AVERAGE(J45:N45) -> 59529.484 | P45: 64438.5 | Q45: 71221.5 | R45: 78020.727 | S45: 67830 | T45: 70927.934 | U45: =AVERAGE(P45:T45) -> 70487.732 | V45: 67830 | W45: 74970 | X45: 79321.073 | Y45: 71400 | Z45: 72110.066 | AA45: =AVERAGE(V45:Z45) -> 73126.228 | AB45: 40698 | AC45: 44982 | AD45: 81271.591 | AE45: 42840 | AF45: 73883.264 | AG45: =AVERAGE(AB45:AF45) -> 56734.971 | AH45: 50872.5 | AI45: 56227.5 | AJ45: 85549.727 | AK45: 53550 | AL45: 77772.479 | AM45: =AVERAGE(AH45:AL45) -> 64794.441 | AN45: 54264 | AO45: 59976 | AP45: 83872.282 | AQ45: 57120 | AR45: 76247.529 | AS45: =AVERAGE(AN45:AR45) -> 66295.962 | AT45: 55959.75 | AU45: 61850.25 | AV45: 85822.8 | AW45: 58905 | AX45: 78020.727 | AY45: =AVERAGE(AT45:AX45) -> 68111.705 | AZ45: 61047 | BA45: 67473 | BB45: 87773.318 | BC45: 64260 | BD45: 79793.926 | BE45: =AVERAGE(AZ45:BD45) -> 72069.449 | BF45: 71221.5 | BG45: 78718.5 | BH45: 91024.182 | BI45: 74970 | BJ45: 82749.256 | BK45: =AVERAGE(BF45:BJ45) -> 79736.688 | BL45: 72917.25 | BM45: 80592.75 | BN45: 87773.318 | BO45: 76755 | BP45: 79793.926 | BQ45: =AVERAGE(BL45:BP45) -> 79566.449 | BR45: 45785.25 | BS45: 50604.75 | BT45: 85172.627 | BU45: 48195 | BV45: 77429.661 | BW45: =AVERAGE(BR45:BV45) -> 61437.458 | BX45: 59351.25 | BY45: 65598.75 | BZ45: 92324.527 | CA45: 62475 | CB45: 83931.388 | CC45: =AVERAGE(BX45:CB45) -> 72736.183 | CD45: 54264 | CE45: 59976 | CF45: 91024.182 | CG45: 57120 | CH45: 82749.256 | CI45: =AVERAGE(CD45:CH45) -> 69026.688
B46: 3.8 | C46: PIÑON VELOCIMETRO | D46: 61047 | E46: 67473 | F46: 409062.5 | G46: 64260 | H46: 371875 | I46: =AVERAGE(D46:E46) -> 64260 | J46: 66134.25 | K46: 73095.75 | L46: 409062.5 | M46: 69615 | N46: 371875 | O46: =AVERAGE(J46:N46) -> 197956.5 | P46: 88179 | Q46: 97461 | R46: 409062.5 | S46: 92820 | T46: 371875 | U46: =AVERAGE(P46:T46) -> 211879.5 | V46: 93266.25 | W46: 103083.75 | X46: 409062.5 | Y46: 98175 | Z46: 371875 | AA46: =AVERAGE(V46:Z46) -> 215092.5 | AB46: 55959.75 | AC46: 61850.25 | AD46: 409062.5 | AE46: 58905 | AF46: 371875 | AG46: =AVERAGE(AB46:AF46) -> 191530.5 | AH46: 69525.75 | AI46: 76844.25 | AJ46: 417243.75 | AK46: 73185 | AL46: 379312.5 | AM46: =AVERAGE(AH46:AL46) -> 203222.25 | AN46: 76308.75 | AO46: 84341.25 | AP46: 409062.5 | AQ46: 80325 | AR46: 371875 | AS46: =AVERAGE(AN46:AR46) -> 204382.5 | AT46: 78004.5 | AU46: 86215.5 | AV46: 409062.5 | AW46: 82110 | AX46: 371875 | AY46: =AVERAGE(AT46:AX46) -> 205453.5 | AZ46: 84787.5 | BA46: 93712.5 | BB46: 409062.5 | BC46: 89250 | BD46: 371875 | BE46: =AVERAGE(AZ46:BD46) -> 209737.5 | BF46: 98353.5 | BG46: 108706.5 | BH46: 409062.5 | BI46: 103530 | BJ46: 371875 | BK46: =AVERAGE(BF46:BJ46) -> 218305.5 | BL46: 100049.25 | BM46: 110580.75 | BN46: 409062.5 | BO46: 105315 | BP46: 371875 | BQ46: =AVERAGE(BL46:BP46) -> 219376.5 | BR46: 64438.5 | BS46: 71221.5 | BT46: 409062.5 | BU46: 67830 | BV46: 371875 | BW46: =AVERAGE(BR46:BV46) -> 196885.5 | BX46: 83091.75 | BY46: 91838.25 | BZ46: 409062.5 | CA46: 87465 | CB46: 371875 | CC46: =AVERAGE(BX46:CB46) -> 208666.5 | CD46: 74613 | CE46: 82467 | CF46: 359975 | CG46: 78540 | CH46: 327250 | CI46: =AVERAGE(CD46:CH46) -> 184569
B47: 3.9 | C47: RETEN CONTROL DE CAMBIO | D47: 30523.5 | E47: 33736.5 | F47: 49958.843 | G47: 32130 | H47: 45417.13 | I47: =AVERAGE(D47:E47) -> 32130 | J47: 32219.25 | K47: 35610.75 | L47: 51696.542 | M47: 33915 | N47: 46996.856 | O47: =AVERAGE(J47:N47) -> 40087.68 | P47: 44089.5 | Q47: 48730.5 | R47: 52130.966 | S47: 46410 | T47: 47391.788 | U47: =AVERAGE(P47:T47) -> 47750.551 | V47: 45785.25 | W47: 50604.75 | X47: 52999.816 | Y47: 48195 | Z47: 48181.651 | AA47: =AVERAGE(V47:Z47) -> 49153.293 | AB47: 28827.75 | AC47: 31862.25 | AD47: 54303.09 | AE47: 30345 | AF47: 49366.445 | AG47: =AVERAGE(AB47:AF47) -> 38940.907 | AH47: 35610.75 | AI47: 39359.25 | AJ47: 57161.605 | AK47: 37485 | AL47: 51965.095 | AM47: =AVERAGE(AH47:AL47) -> 44316.34 | AN47: 37306.5 | AO47: 41233.5 | AP47: 56040.789 | AQ47: 39270 | AR47: 50946.172 | AS47: =AVERAGE(AN47:AR47) -> 44959.392 | AT47: 39002.25 | AU47: 43107.75 | AV47: 57344.063 | AW47: 41055 | AX47: 52130.966 | AY47: =AVERAGE(AT47:AX47) -> 46528.006 | AZ47: 42393.75 | BA47: 46856.25 | BB47: 58647.337 | BC47: 44625 | BD47: 53315.761 | BE47: =AVERAGE(AZ47:BD47) -> 49167.62 | BF47: 49176.75 | BG47: 54353.25 | BH47: 60819.461 | BI47: 51765 | BJ47: 55290.419 | BK47: =AVERAGE(BF47:BJ47) -> 54280.976 | BL47: 50872.5 | BM47: 56227.5 | BN47: 58647.337 | BO47: 53550 | BP47: 53315.761 | BQ47: =AVERAGE(BL47:BP47) -> 54522.62 | BR47: 32219.25 | BS47: 35610.75 | BT47: 56909.638 | BU47: 33915 | BV47: 51736.035 | BW47: =AVERAGE(BR47:BV47) -> 42078.135 | BX47: 40698 | BY47: 44982 | BZ47: 61688.31 | CA47: 42840 | CB47: 56080.282 | CC47: =AVERAGE(BX47:CB47) -> 49257.718 | CD47: 37306.5 | CE47: 41233.5 | CF47: 60819.461 | CG47: 39270 | CH47: 55290.419 | CI47: =AVERAGE(CD47:CH47) -> 46783.976
B48: 3.10 | C48: RETEN SALIDA | D48: 33915 | E48: 37485 | F48: 33118.783 | G48: 35700 | H48: 30107.985 | I48: =AVERAGE(D48:E48) -> 35700 | J48: 37306.5 | K48: 41233.5 | L48: 34270.741 | M48: 39270 | N48: 31155.219 | O48: =AVERAGE(J48:N48) -> 36647.192 | P48: 49176.75 | Q48: 54353.25 | R48: 34558.731 | S48: 51765 | T48: 31417.028 | U48: =AVERAGE(P48:T48) -> 44254.152 | V48: 50872.5 | W48: 56227.5 | X48: 35134.709 | Y48: 53550 | Z48: 31940.645 | AA48: =AVERAGE(V48:Z48) -> 45545.071 | AB48: 30523.5 | AC48: 33736.5 | AD48: 35998.678 | AE48: 32130 | AF48: 32726.071 | AG48: =AVERAGE(AB48:AF48) -> 33022.95 | AH48: 39002.25 | AI48: 43107.75 | AJ48: 37893.648 | AK48: 41055 | AL48: 34448.771 | AM48: =AVERAGE(AH48:AL48) -> 39101.484 | AN48: 42393.75 | AO48: 46856.25 | AP48: 37150.635 | AQ48: 44625 | AR48: 33773.305 | AS48: =AVERAGE(AN48:AR48) -> 40959.788 | AT48: 44089.5 | AU48: 48730.5 | AV48: 38014.604 | AW48: 46410 | AX48: 34558.731 | AY48: =AVERAGE(AT48:AX48) -> 42360.667 | AZ48: 47481 | BA48: 52479 | BB48: 38878.572 | BC48: 49980 | BD48: 35344.156 | BE48: =AVERAGE(AZ48:BD48) -> 44832.546 | BF48: 54264 | BG48: 59976 | BH48: 40318.519 | BI48: 57120 | BJ48: 36653.199 | BK48: =AVERAGE(BF48:BJ48) -> 49666.344 | BL48: 55959.75 | BM48: 61850.25 | BN48: 38878.572 | BO48: 58905 | BP48: 35344.156 | BQ48: =AVERAGE(BL48:BP48) -> 50187.546 | BR48: 35610.75 | BS48: 39359.25 | BT48: 37726.614 | BU48: 37485 | BV48: 34296.922 | BW48: =AVERAGE(BR48:BV48) -> 36895.707 | BX48: 45785.25 | BY48: 50604.75 | BZ48: 40894.498 | CA48: 48195 | CB48: 37176.816 | CC48: =AVERAGE(BX48:CB48) -> 44531.263 | CD48: 40698 | CE48: 44982 | CF48: 40318.519 | CG48: 42840 | CH48: 36653.199 | CI48: =AVERAGE(CD48:CH48) -> 41098.344
B49: 4 | C49: SISTEMA DE SUSPENSION | D49: 0 | E49: 1799280 | F49: 0 | H49: 0 | I49: 0 | J49: 1758492.8 | K49: 1943597.2 | L49: 0 | N49: 0 | Q49: 2610830.2 | R49: 0 | T49: 0 | W49: 2736405 | X49: 0 | Z49: 0 | AB49: 1497347.2 | AC49: 1654962.8 | AD49: 0 | AF49: 0 | AH49: 1872108 | AI49: 2069172 | AJ49: 0 | AL49: 0 | AN49: 2038291.5 | AO49: 2252848.5 | AP49: 0 | AR49: 0 | AT49: 2084076.8 | AU49: 2303453.2 | AV49: 0 | AX49: 0 | AZ49: 2245173 | BA49: 2481507 | BB49: 0 | BD49: 0 | BE49: 0 | BF49: 2604672 | BG49: 2878848 | BH49: 0 | BJ49: 0 | BL49: 2689459.5 | BM49: 2972560.5 | BN49: 0 | BP49: 0 | BR49: 1711011.8 | BS49: 1891118.2 | BT49: 0 | BV49: 0 | BX49: 2194300.5 | BY49: 2425279.5 | BZ49: 0 | CB49: 0 | CD49: 1984027.5 | CE49: 2192872.5 | CF49: 0 | CH49: 0
B50: 4.1 | C50: AMORTIGUADOR DELANTERO | D50: 525682.5 | E50: 581017.5 | F50: 419205.21 | G50: 553350 | H50: 381095.65 | I50: =AVERAGE(D50:E50) -> 553350 | J50: 568076.25 | K50: 627873.75 | L50: 433786.26 | M50: 597975 | N50: 394351.15 | O50: =AVERAGE(J50:N50) -> 524412.48 | P50: 763087.5 | Q50: 843412.5 | R50: 437431.52 | S50: 803250 | T50: 397665.02 | U50: =AVERAGE(P50:T50) -> 648969.31 | V50: 798698.25 | W50: 882771.75 | X50: 444722.05 | Y50: 840735 | Z50: 404292.77 | AA50: =AVERAGE(V50:Z50) -> 674243.96 | AB50: 483288.75 | AC50: 534161.25 | AD50: 455657.84 | AE50: 508725 | AF50: 414234.4 | AG50: =AVERAGE(AB50:AF50) -> 479213.45 | AH50: 603687 | AI50: 667233 | AJ50: 479643.67 | AK50: 635460 | AL50: 436039.7 | AM50: =AVERAGE(AH50:AL50) -> 564412.67 | AN50: 657951 | AO50: 727209 | AP50: 470238.89 | AQ50: 692580 | AR50: 427489.9 | AS50: =AVERAGE(AN50:AR50) -> 595093.76 | AT50: 673212.75 | AU50: 744077.25 | AV50: 481174.68 | AW50: 708645 | AX50: 437431.52 | AY50: =AVERAGE(AT50:AX50) -> 608908.24 | AZ50: 725781 | BA50: 802179 | BB50: 492110.47 | BC50: 763980 | BD50: 447373.15 | BE50: =AVERAGE(AZ50:BD50) -> 646284.72 | BF50: 841092 | BG50: 929628 | BH50: 510336.78 | BI50: 885360 | BJ50: 463942.53 | BK50: =AVERAGE(BF50:BJ50) -> 726071.86 | BL50: 868224 | BM50: 959616 | BN50: 492110.47 | BO50: 913920 | BP50: 447373.15 | BQ50: =AVERAGE(BL50:BP50) -> 736248.72 | BR50: 552814.5 | BS50: 611005.5 | BT50: 477529.41 | BU50: 581910 | BV50: 434117.65 | BW50: =AVERAGE(BR50:BV50) -> 531475.41 | BX50: 708823.5 | BY50: 783436.5 | BZ50: 517627.3 | CA50: 746130 | CB50: 470570.28 | CC50: =AVERAGE(BX50:CB50) -> 645317.52 | CD50: 640993.5 | CE50: 708466.5 | CF50: 510336.78 | CG50: 674730 | CH50: 463942.53 | CI50: =AVERAGE(CD50:CH50) -> 599693.86
B51: 4.2 | C51: AMORTIGUADOR TRASERO | D51: 373065 | E51: 412335 | F51: 420327.88 | G51: 392700 | H51: 382116.26 | I51: =AVERAGE(D51:E51) -> 392700 | J51: 403588.5 | K51: 446071.5 | L51: 434947.98 | M51: 424830 | N51: 395407.26 | O51: =AVERAGE(J51:N51) -> 420969.05 | P51: 540944.25 | Q51: 597885.75 | R51: 438603.01 | S51: 569415 | T51: 398730.01 | U51: =AVERAGE(P51:T51) -> 509115.6 | V51: 566380.5 | W51: 625999.5 | X51: 445913.06 | Y51: 596190 | Z51: 405375.51 | AA51: =AVERAGE(V51:Z51) -> 527971.71 | AB51: 342541.5 | AC51: 378598.5 | AD51: 456878.13 | AE51: 360570 | AF51: 415343.76 | AG51: =AVERAGE(AB51:AF51) -> 390786.38 | AH51: 429024.75 | AI51: 474185.25 | AJ51: 480928.2 | AK51: 451605 | AL51: 437207.45 | AM51: =AVERAGE(AH51:AL51) -> 454590.13 | AN51: 466331.25 | AO51: 515418.75 | AP51: 471498.23 | AQ51: 490875 | AR51: 428634.76 | AS51: =AVERAGE(AN51:AR51) -> 474551.6 | AT51: 478201.5 | AU51: 528538.5 | AV51: 482463.31 | AW51: 503370 | AX51: 438603.01 | AY51: =AVERAGE(AT51:AX51) -> 486235.26 | AZ51: 515508 | BA51: 569772 | BB51: 493428.38 | BC51: 542640 | BD51: 448571.26 | BE51: =AVERAGE(AZ51:BD51) -> 513983.93 | BF51: 596904 | BG51: 659736 | BH51: 511703.51 | BI51: 628320 | BJ51: 465185.01 | BK51: =AVERAGE(BF51:BJ51) -> 572369.7 | BL51: 615557.25 | BM51: 680352.75 | BN51: 493428.38 | BO51: 647955 | BP51: 448571.26 | BQ51: =AVERAGE(BL51:BP51) -> 577172.93 | BR51: 391718.25 | BS51: 432951.75 | BT51: 478808.28 | BU51: 412335 | BV51: 435280.26 | BW51: =AVERAGE(BR51:BV51) -> 430218.71 | BX51: 503637.75 | BY51: 556652.25 | BZ51: 519013.56 | CA51: 530145 | CB51: 471830.51 | CC51: =AVERAGE(BX51:CB51) -> 516255.81 | CD51: 454461 | CE51: 502299 | CF51: 511703.51 | CG51: 478380 | CH51: 465185.01 | CI51: =AVERAGE(CD51:CH51) -> 482405.7
B52: 4.3 | C52: BUJES TIJERA (JUEGO) | D52: 67830 | E52: 74970 | F52: 144824.51 | G52: 71400 | H52: 131658.65 | I52: =AVERAGE(D52:E52) -> 71400 | J52: 72917.25 | K52: 80592.75 | L52: 149861.88 | M52: 76755 | N52: 136238.08 | O52: =AVERAGE(J52:N52) -> 103272.99 | P52: 98353.5 | Q52: 108706.5 | R52: 151121.23 | S52: 103530 | T52: 137382.93 | U52: =AVERAGE(P52:T52) -> 119818.83 | V52: 103440.75 | W52: 114329.25 | X52: 153639.92 | Y52: 108885 | Z52: 139672.65 | AA52: =AVERAGE(V52:Z52) -> 123993.51 | AB52: 62742.75 | AC52: 69347.25 | AD52: 157417.95 | AE52: 66045 | AF52: 143107.22 | AG52: =AVERAGE(AB52:AF52) -> 99732.034 | AH52: 78004.5 | AI52: 86215.5 | AJ52: 165704.43 | AK52: 82110 | AL52: 150640.39 | AM52: =AVERAGE(AH52:AL52) -> 112534.96 | AN52: 84787.5 | AO52: 93712.5 | AP52: 162455.32 | AQ52: 89250 | AR52: 147686.66 | AS52: =AVERAGE(AN52:AR52) -> 115578.4 | AT52: 86483.25 | AU52: 95586.75 | AV52: 166233.35 | AW52: 91035 | AX52: 151121.23 | AY52: =AVERAGE(AT52:AX52) -> 118091.92 | AZ52: 93266.25 | BA52: 103083.75 | BB52: 170011.38 | BC52: 98175 | BD52: 154555.8 | BE52: =AVERAGE(AZ52:BD52) -> 123818.44 | BF52: 108528 | BG52: 119952 | BH52: 176308.1 | BI52: 114240 | BJ52: 160280.09 | BK52: =AVERAGE(BF52:BJ52) -> 135861.64 | BL52: 111919.5 | BM52: 123700.5 | BN52: 170011.38 | BO52: 117810 | BP52: 154555.8 | BQ52: =AVERAGE(BL52:BP52) -> 135599.44 | BR52: 71221.5 | BS52: 78718.5 | BT52: 164974.01 | BU52: 74970 | BV52: 149976.37 | BW52: =AVERAGE(BR52:BV52) -> 107972.08 | BX52: 91570.5 | BY52: 101209.5 | BZ52: 178826.79 | CA52: 96390 | CB52: 162569.81 | CC52: =AVERAGE(BX52:CB52) -> 126113.32 | CD52: 83091.75 | CE52: 91838.25 | CF52: 176308.1 | CG52: 87465 | CH52: 160280.09 | CI52: =AVERAGE(CD52:CH52) -> 119796.64
B53: 4.4 | C53: RETEN BARRAS (JUEGO) | D53: 67830 | E53: 74970 | F53: 131978.8 | G53: 71400 | H53: 119980.72 | I53: =AVERAGE(D53:E53) -> 71400 | J53: 72917.25 | K53: 80592.75 | L53: 136569.36 | M53: 76755 | N53: 124153.97 | O53: =AVERAGE(J53:N53) -> 98197.665 | P53: 98353.5 | Q53: 108706.5 | R53: 137717 | S53: 103530 | T53: 125197.28 | U53: =AVERAGE(P53:T53) -> 114700.86 | V53: 103440.75 | W53: 114329.25 | X53: 140012.29 | Y53: 108885 | Z53: 127283.9 | AA53: =AVERAGE(V53:Z53) -> 118790.24 | AB53: 62742.75 | AC53: 69347.25 | AD53: 143455.21 | AE53: 66045 | AF53: 130413.83 | AG53: =AVERAGE(AB53:AF53) -> 94400.808 | AH53: 78004.5 | AI53: 86215.5 | AJ53: 151006.69 | AK53: 82110 | AL53: 137278.81 | AM53: =AVERAGE(AH53:AL53) -> 106923.1 | AN53: 84787.5 | AO53: 93712.5 | AP53: 148045.78 | AQ53: 89250 | AR53: 134587.07 | AS53: =AVERAGE(AN53:AR53) -> 110076.57 | AT53: 86483.25 | AU53: 95586.75 | AV53: 151488.7 | AW53: 91035 | AX53: 137717 | AY53: =AVERAGE(AT53:AX53) -> 112462.14 | AZ53: 93266.25 | BA53: 103083.75 | BB53: 154931.63 | BC53: 98175 | BD53: 140846.94 | BE53: =AVERAGE(AZ53:BD53) -> 118060.71 | BF53: 108528 | BG53: 119952 | BH53: 160669.84 | BI53: 114240 | BJ53: 146063.49 | BK53: =AVERAGE(BF53:BJ53) -> 129890.67 | BL53: 111919.5 | BM53: 123700.5 | BN53: 154931.63 | BO53: 117810 | BP53: 140846.94 | BQ53: =AVERAGE(BL53:BP53) -> 129841.71 | BR53: 71221.5 | BS53: 78718.5 | BT53: 150341.06 | BU53: 74970 | BV53: 136673.69 | BW53: =AVERAGE(BR53:BV53) -> 102384.95 | BX53: 91570.5 | BY53: 101209.5 | BZ53: 162965.12 | CA53: 96390 | CB53: 148150.11 | CC53: =AVERAGE(BX53:CB53) -> 120057.05 | CD53: 83091.75 | CE53: 91838.25 | CF53: 160669.84 | CG53: 87465 | CH53: 146063.49 | CI53: =AVERAGE(CD53:CH53) -> 113825.67
B54: 4.5 | C54: RODAMIENTOS DELANTEROS (JUEGO) | D54: 64438.5 | E54: 71221.5 | F54: 87343.775 | G54: 67830 | H54: 79403.431 | I54: =AVERAGE(D54:E54) -> 67830 | J54: 69525.75 | K54: 76844.25 | L54: 90381.819 | M54: 73185 | N54: 82165.29 | O54: =AVERAGE(J54:N54) -> 78420.422 | P54: 93266.25 | Q54: 103083.75 | R54: 91141.33 | S54: 98175 | T54: 82855.755 | U54: =AVERAGE(P54:T54) -> 93704.417 | V54: 98353.5 | W54: 108706.5 | X54: 92660.352 | Y54: 103530 | Z54: 84236.684 | AA54: =AVERAGE(V54:Z54) -> 97497.407 | AB54: 59351.25 | AC54: 65598.75 | AD54: 94938.885 | AE54: 62475 | AF54: 86308.078 | AG54: =AVERAGE(AB54:AF54) -> 73734.393 | AH54: 74613 | AI54: 82467 | AJ54: 99936.468 | AK54: 78540 | AL54: 90851.335 | AM54: =AVERAGE(AH54:AL54) -> 85281.561 | AN54: 81396 | AO54: 89964 | AP54: 97976.93 | AQ54: 85680 | AR54: 89069.936 | AS54: =AVERAGE(AN54:AR54) -> 88817.373 | AT54: 83091.75 | AU54: 91838.25 | AV54: 100255.46 | AW54: 87465 | AX54: 91141.33 | AY54: =AVERAGE(AT54:AX54) -> 90758.359 | AZ54: 88179 | BA54: 97461 | BB54: 102534 | BC54: 92820 | BD54: 93212.724 | BE54: =AVERAGE(AZ54:BD54) -> 94841.344 | BF54: 103440.75 | BG54: 114329.25 | BH54: 106331.55 | BI54: 108885 | BJ54: 96665.047 | BK54: =AVERAGE(BF54:BJ54) -> 105930.32 | BL54: 106832.25 | BM54: 118077.75 | BN54: 102534 | BO54: 112455 | BP54: 93212.724 | BQ54: =AVERAGE(BL54:BP54) -> 106622.34 | BR54: 67830 | BS54: 74970 | BT54: 99495.952 | BU54: 71400 | BV54: 90450.865 | BW54: =AVERAGE(BR54:BV54) -> 80829.363 | BX54: 86483.25 | BY54: 95586.75 | BZ54: 107850.57 | CA54: 91035 | CB54: 98045.976 | CC54: =AVERAGE(BX54:CB54) -> 95800.31 | CD54: 78004.5 | CE54: 86215.5 | CF54: 106331.55 | CG54: 82110 | CH54: 96665.047 | CI54: =AVERAGE(CD54:CH54) -> 89865.32
B55: 4.6 | C55: RODAMIENTOS TRASEROS (JUEGO) | D55: 74613 | E55: 82467 | F55: 113502 | G55: 78540 | H55: 103183.64 | I55: =AVERAGE(D55:E55) -> 78540 | J55: 81396 | K55: 89964 | L55: 117449.9 | M55: 85680 | N55: 106772.63 | O55: =AVERAGE(J55:N55) -> 96252.506 | P55: 108528 | Q55: 119952 | R55: 118436.87 | S55: 114240 | T55: 107669.88 | U55: =AVERAGE(P55:T55) -> 113765.35 | V55: 113615.25 | W55: 125574.75 | X55: 120410.82 | Y55: 119595 | Z55: 109464.38 | AA55: =AVERAGE(V55:Z55) -> 117732.04 | AB55: 67830 | AC55: 74970 | AD55: 123371.74 | AE55: 71400 | AF55: 112156.13 | AG55: =AVERAGE(AB55:AF55) -> 89945.573 | AH55: 86483.25 | AI55: 95586.75 | AJ55: 129866.03 | AK55: 91035 | AL55: 118060.03 | AM55: =AVERAGE(AH55:AL55) -> 104206.21 | AN55: 93266.25 | AO55: 103083.75 | AP55: 127319.64 | AQ55: 98175 | AR55: 115745.12 | AS55: =AVERAGE(AN55:AR55) -> 107517.95 | AT55: 94962 | AU55: 104958 | AV55: 130280.56 | AW55: 99960 | AX55: 118436.87 | AY55: =AVERAGE(AT55:AX55) -> 109719.49 | AZ55: 103440.75 | BA55: 114329.25 | BB55: 133241.48 | BC55: 108885 | BD55: 121128.62 | BE55: =AVERAGE(AZ55:BD55) -> 116205.02 | BF55: 118702.5 | BG55: 131197.5 | BH55: 138176.35 | BI55: 124950 | BJ55: 125614.86 | BK55: =AVERAGE(BF55:BJ55) -> 127728.24 | BL55: 123789.75 | BM55: 136820.25 | BN55: 133241.48 | BO55: 130305 | BP55: 121128.62 | BQ55: =AVERAGE(BL55:BP55) -> 129057.02 | BR55: 78004.5 | BS55: 86215.5 | BT55: 129293.58 | BU55: 82110 | BV55: 117539.62 | BW55: =AVERAGE(BR55:BV55) -> 98632.641 | BX55: 100049.25 | BY55: 110580.75 | BZ55: 140150.3 | CA55: 105315 | CB55: 127409.36 | CC55: =AVERAGE(BX55:CB55) -> 116700.93 | CD55: 91570.5 | CE55: 101209.5 | CF55: 138176.35 | CG55: 96390 | CH55: 125614.86 | CI55: =AVERAGE(CD55:CH55) -> 110592.24
B56: 4.7 | C56: SOPORTE O PATA LATERAL | D56: 64438.5 | E56: 71221.5 | F56: 111144.39 | G56: 67830 | H56: 101040.36 | I56: =AVERAGE(D56:E56) -> 67830 | J56: 69525.75 | K56: 76844.25 | L56: 115010.28 | M56: 73185 | N56: 104554.8 | O56: =AVERAGE(J56:N56) -> 87824.017 | P56: 93266.25 | Q56: 103083.75 | R56: 115976.76 | S56: 98175 | T56: 105433.42 | U56: =AVERAGE(P56:T56) -> 103187.03 | V56: 98353.5 | W56: 108706.5 | X56: 117909.7 | Y56: 103530 | Z56: 107190.64 | AA56: =AVERAGE(V56:Z56) -> 107138.07 | AB56: 59351.25 | AC56: 65598.75 | AD56: 120809.12 | AE56: 62475 | AF56: 109826.47 | AG56: =AVERAGE(AB56:AF56) -> 83612.119 | AH56: 74613 | AI56: 82467 | AJ56: 127168.51 | AK56: 78540 | AL56: 115607.74 | AM56: =AVERAGE(AH56:AL56) -> 95679.251 | AN56: 81396 | AO56: 89964 | AP56: 124675.01 | AQ56: 85680 | AR56: 113340.92 | AS56: =AVERAGE(AN56:AR56) -> 99011.187 | AT56: 83091.75 | AU56: 91838.25 | AV56: 127574.43 | AW56: 87465 | AX56: 115976.76 | AY56: =AVERAGE(AT56:AX56) -> 101189.24 | AZ56: 88179 | BA56: 97461 | BB56: 130473.85 | BC56: 92820 | BD56: 118612.59 | BE56: =AVERAGE(AZ56:BD56) -> 105509.29 | BF56: 103440.75 | BG56: 114329.25 | BH56: 135306.22 | BI56: 108885 | BJ56: 123005.65 | BK56: =AVERAGE(BF56:BJ56) -> 116993.37 | BL56: 106832.25 | BM56: 118077.75 | BN56: 130473.85 | BO56: 112455 | BP56: 118612.59 | BQ56: =AVERAGE(BL56:BP56) -> 117290.29 | BR56: 67830 | BS56: 74970 | BT56: 126607.96 | BU56: 71400 | BV56: 115098.14 | BW56: =AVERAGE(BR56:BV56) -> 91181.221 | BX56: 86483.25 | BY56: 95586.75 | BZ56: 137239.16 | CA56: 91035 | CB56: 124762.87 | CC56: =AVERAGE(BX56:CB56) -> 107021.41 | CD56: 78004.5 | CE56: 86215.5 | CF56: 135306.22 | CG56: 82110 | CH56: 123005.65 | CI56: =AVERAGE(CD56:CH56) -> 100928.37
B57: 4.8 | C57: TIJERA | D57: 390022.5 | E57: 431077.5 | F57: 399670.74 | G57: 410550 | H57: 363337.04 | I57: =AVERAGE(D57:E57) -> 410550 | J57: 420546 | K57: 464814 | L57: 413572.33 | M57: 442680 | N57: 375974.85 | O57: =AVERAGE(J57:N57) -> 423517.44 | P57: 566380.5 | Q57: 625999.5 | R57: 417047.73 | S57: 596190 | T57: 379134.3 | U57: =AVERAGE(P57:T57) -> 516950.41 | V57: 593512.5 | W57: 655987.5 | X57: 423998.53 | Y57: 624750 | Z57: 385453.21 | AA57: =AVERAGE(V57:Z57) -> 536740.35 | AB57: 359499 | AC57: 397341 | AD57: 434424.72 | AE57: 378420 | AF57: 394931.56 | AG57: =AVERAGE(AB57:AF57) -> 392923.26 | AH57: 447678 | AI57: 494802 | AJ57: 457292.84 | AK57: 471240 | AL57: 415720.76 | AM57: =AVERAGE(AH57:AL57) -> 457346.72 | AN57: 488376 | AO57: 539784 | AP57: 448326.31 | AQ57: 514080 | AR57: 407569.37 | AS57: =AVERAGE(AN57:AR57) -> 479627.14 | AT57: 498550.5 | AU57: 551029.5 | AV57: 458752.5 | AW57: 524790 | AX57: 417047.73 | AY57: =AVERAGE(AT57:AX57) -> 490034.05 | AZ57: 537552.75 | BA57: 594137.25 | BB57: 469178.7 | BC57: 565845 | BD57: 426526.09 | BE57: =AVERAGE(AZ57:BD57) -> 518647.96 | BF57: 624036 | BG57: 689724 | BH57: 486555.69 | BI57: 656880 | BJ57: 442323.35 | BK57: =AVERAGE(BF57:BJ57) -> 579903.81 | BL57: 644385 | BM57: 712215 | BN57: 469178.7 | BO57: 678300 | BP57: 426526.09 | BQ57: =AVERAGE(BL57:BP57) -> 586120.96 | BR57: 410371.5 | BS57: 453568.5 | BT57: 455277.11 | BU57: 431970 | BV57: 413888.28 | BW57: =AVERAGE(BR57:BV57) -> 433015.08 | BX57: 525682.5 | BY57: 581017.5 | BZ57: 493506.48 | CA57: 553350 | CB57: 448642.26 | CC57: =AVERAGE(BX57:CB57) -> 520439.75 | CD57: 474810 | CE57: 524790 | CF57: 486555.69 | CG57: 499800 | CH57: 442323.35 | CI57: =AVERAGE(CD57:CH57) -> 485655.81
B58: 5 | C58: SISTEMA DE DIRECCION | D58: 0 | E58: 269892 | F58: 0 | H58: 0 | I58: 0 | J58: 264537 | K58: 292383 | L58: 0 | N58: 0 | Q58: 391718.25 | R58: 0 | T58: 0 | W58: 410460.75 | X58: 0 | Z58: 0 | AB58: 223839 | AC58: 247401 | AD58: 0 | AF58: 0 | AH58: 281494.5 | AI58: 311125.5 | AJ58: 0 | AL58: 0 | AN58: 305235 | AO58: 337365 | AP58: 0 | AR58: 0 | AT58: 313713.75 | AU58: 346736.25 | AV58: 0 | AX58: 0 | AZ58: 337454.25 | BA58: 372975.75 | BB58: 0 | BD58: 0 | BE58: 0 | BF58: 390022.5 | BG58: 431077.5 | BH58: 0 | BJ58: 0 | BL58: 403588.5 | BM58: 446071.5 | BN58: 0 | BP58: 0 | BR58: 256058.25 | BS58: 283011.75 | BT58: 0 | BV58: 0 | BX58: 328975.5 | BY58: 363604.5 | BZ58: 0 | CB58: 0 | CD58: 296756.25 | CE58: 327993.75 | CF58: 0 | CH58: 0
B59: 5.1 | C59: CUNAS DIRECCION | D59: 101745 | E59: 112455 | F59: 189955.87 | G59: 107100 | H59: 172687.15 | I59: =AVERAGE(D59:E59) -> 107100 | J59: 110223.75 | K59: 121826.25 | L59: 196563.03 | M59: 116025 | N59: 178693.66 | O59: =AVERAGE(J59:N59) -> 144666.34 | P59: 147530.25 | Q59: 163059.75 | R59: 198214.82 | S59: 155295 | T59: 180195.29 | U59: =AVERAGE(P59:T59) -> 168859.02 | V59: 154313.25 | W59: 170556.75 | X59: 201518.4 | Y59: 162435 | Z59: 183198.55 | AA59: =AVERAGE(V59:Z59) -> 174404.39 | AB59: 93266.25 | AC59: 103083.75 | AD59: 206473.77 | AE59: 98175 | AF59: 187703.43 | AG59: =AVERAGE(AB59:AF59) -> 137740.44 | AH59: 117006.75 | AI59: 129323.25 | AJ59: 217342.55 | AK59: 123165 | AL59: 197584.14 | AM59: =AVERAGE(AH59:AL59) -> 156884.34 | AN59: 127181.25 | AO59: 140568.75 | AP59: 213080.93 | AQ59: 133875 | AR59: 193709.94 | AS59: =AVERAGE(AN59:AR59) -> 161683.17 | AT59: 130572.75 | AU59: 144317.25 | AV59: 218036.3 | AW59: 137445 | AX59: 198214.82 | AY59: =AVERAGE(AT59:AX59) -> 165717.22 | AZ59: 140747.25 | BA59: 155562.75 | BB59: 222991.67 | BC59: 148155 | BD59: 202719.7 | BE59: =AVERAGE(AZ59:BD59) -> 174035.28 | BF59: 162792 | BG59: 179928 | BH59: 231250.62 | BI59: 171360 | BJ59: 210227.84 | BK59: =AVERAGE(BF59:BJ59) -> 191111.69 | BL59: 167879.25 | BM59: 185550.75 | BN59: 222991.67 | BO59: 176715 | BP59: 202719.7 | BQ59: =AVERAGE(BL59:BP59) -> 191171.28 | BR59: 106832.25 | BS59: 118077.75 | BT59: 216384.51 | BU59: 112455 | BV59: 196713.19 | BW59: =AVERAGE(BR59:BV59) -> 150092.54 | BX59: 137355.75 | BY59: 151814.25 | BZ59: 234554.2 | CA59: 144585 | CB59: 213231.09 | CC59: =AVERAGE(BX59:CB59) -> 176308.06 | CD59: 123789.75 | CE59: 136820.25 | CF59: 231250.62 | CG59: 130305 | CH59: 210227.84 | CI59: =AVERAGE(CD59:CH59) -> 166478.69
B60: 5.2 | C60: MANUBRIO DIRECCON | D60: 142443 | E60: 157437 | F60: 168512.86 | G60: 149940 | H60: 153193.51 | I60: =AVERAGE(D60:E60) -> 149940 | J60: 154313.25 | K60: 170556.75 | L60: 174374.18 | M60: 162435 | N60: 158521.98 | O60: =AVERAGE(J60:N60) -> 164040.23 | P60: 206881.5 | Q60: 228658.5 | R60: 175839.51 | S60: 217770 | T60: 159854.1 | U60: =AVERAGE(P60:T60) -> 197800.72 | V60: 217056 | W60: 239904 | X60: 178770.17 | Y60: 228480 | Z60: 162518.33 | AA60: =AVERAGE(V60:Z60) -> 205345.7 | AB60: 130572.75 | AC60: 144317.25 | AD60: 183166.15 | AE60: 137445 | AF60: 166514.68 | AG60: =AVERAGE(AB60:AF60) -> 152403.17 | AH60: 164487.75 | AI60: 181802.25 | AJ60: 192808.02 | AK60: 173145 | AL60: 175280.02 | AM60: =AVERAGE(AH60:AL60) -> 177504.61 | AN60: 178053.75 | AO60: 196796.25 | AP60: 189027.47 | AQ60: 187425 | AR60: 171843.15 | AS60: =AVERAGE(AN60:AR60) -> 184629.12 | AT60: 183141 | AU60: 202419 | AV60: 193423.46 | AW60: 192780 | AX60: 175839.51 | AY60: =AVERAGE(AT60:AX60) -> 189520.59 | AZ60: 196707 | BA60: 217413 | BB60: 197819.45 | BC60: 207060 | BD60: 179835.86 | BE60: =AVERAGE(AZ60:BD60) -> 199767.06 | BF60: 227230.5 | BG60: 251149.5 | BH60: 205146.09 | BI60: 239190 | BJ60: 186496.45 | BK60: =AVERAGE(BF60:BJ60) -> 221842.51 | BL60: 235709.25 | BM60: 260520.75 | BN60: 197819.45 | BO60: 248115 | BP60: 179835.86 | BQ60: =AVERAGE(BL60:BP60) -> 224400.06 | BR60: 149226 | BS60: 164934 | BT60: 191958.13 | BU60: 157080 | BV60: 174507.39 | BW60: =AVERAGE(BR60:BV60) -> 167541.1 | BX60: 191619.75 | BY60: 211790.25 | BZ60: 208076.75 | CA60: 201705 | CB60: 189160.68 | CC60: =AVERAGE(BX60:CB60) -> 200470.49 | CD60: 172966.5 | CE60: 191173.5 | CF60: 205146.09 | CG60: 182070 | CH60: 186496.45 | CI60: =AVERAGE(CD60:CH60) -> 187570.51
B61: 6 | C61: SISTEMA DE FRENOS | D61: 0 | E61: 1124550 | F61: 0 | H61: 0 | I61: 0 | J61: 1095454.5 | K61: 1210765.5 | L61: 0 | N61: 0 | Q61: 1632471.8 | R61: 0 | T61: 0 | W61: 1713064.5 | X61: 0 | Z61: 0 | AB61: 939445.5 | AC61: 1038334.5 | AD61: 0 | AF61: 0 | AH61: 1171763.2 | AI61: 1295106.8 | AJ61: 0 | AL61: 0 | AN61: 1270116.8 | AO61: 1403813.2 | AP61: 0 | AR61: 0 | AT61: 1300640.2 | AU61: 1437549.8 | AV61: 0 | AX61: 0 | AZ61: 1404081 | BA61: 1551879 | BB61: 0 | BD61: 0 | BE61: 0 | BF61: 1627920 | BG61: 1799280 | BH61: 0 | BJ61: 0 | BL61: 1680488.2 | BM61: 1857381.8 | BN61: 0 | BP61: 0 | BR61: 1068322.5 | BS61: 1180777.5 | BT61: 0 | BV61: 0 | BX61: 1370166 | BY61: 1514394 | BZ61: 0 | CB61: 0 | CD61: 1246376.2 | CE61: 1377573.8 | CF61: 0 | CH61: 0
B62: 6.1 | C62: BANDAS DE FRENO DELANTERO (JUEGO) | D62: 67830 | E62: 74970 | F62: 98233.68 | G62: 71400 | H62: 89303.345 | I62: =AVERAGE(D62:E62) -> 71400 | J62: 72917.25 | K62: 80592.75 | L62: 101650.5 | M62: 76755 | N62: 92409.548 | O62: =AVERAGE(J62:N62) -> 84865.01 | P62: 98353.5 | Q62: 108706.5 | R62: 102504.71 | S62: 103530 | T62: 93186.099 | U62: =AVERAGE(P62:T62) -> 101256.16 | V62: 103440.75 | W62: 114329.25 | X62: 104213.12 | Y62: 108885 | Z62: 94739.201 | AA62: =AVERAGE(V62:Z62) -> 105121.46 | AB62: 62742.75 | AC62: 69347.25 | AD62: 106775.74 | AE62: 66045 | AF62: 97068.853 | AG62: =AVERAGE(AB62:AF62) -> 80395.918 | AH62: 78004.5 | AI62: 86215.5 | AJ62: 112396.41 | AK62: 82110 | AL62: 102178.56 | AM62: =AVERAGE(AH62:AL62) -> 92180.994 | AN62: 84787.5 | AO62: 93712.5 | AP62: 110192.56 | AQ62: 89250 | AR62: 100175.06 | AS62: =AVERAGE(AN62:AR62) -> 95623.524 | AT62: 86483.25 | AU62: 95586.75 | AV62: 112755.18 | AW62: 91035 | AX62: 102504.71 | AY62: =AVERAGE(AT62:AX62) -> 97672.978 | AZ62: 93266.25 | BA62: 103083.75 | BB62: 115317.8 | BC62: 98175 | BD62: 104834.36 | BE62: =AVERAGE(AZ62:BD62) -> 102935.43 | BF62: 108528 | BG62: 119952 | BH62: 119588.83 | BI62: 114240 | BJ62: 108717.12 | BK62: =AVERAGE(BF62:BJ62) -> 114205.19 | BL62: 111919.5 | BM62: 123700.5 | BN62: 115317.8 | BO62: 117810 | BP62: 104834.36 | BQ62: =AVERAGE(BL62:BP62) -> 114716.43 | BR62: 71221.5 | BS62: 78718.5 | BT62: 111900.97 | BU62: 74970 | BV62: 101728.16 | BW62: =AVERAGE(BR62:BV62) -> 87707.827 | BX62: 91570.5 | BY62: 101209.5 | BZ62: 121297.24 | CA62: 96390 | CB62: 110270.22 | CC62: =AVERAGE(BX62:CB62) -> 104147.49 | CD62: 83091.75 | CE62: 91838.25 | CF62: 119588.83 | CG62: 87465 | CH62: 108717.12 | CI62: =AVERAGE(CD62:CH62) -> 98140.189
B63: 6.2 | C63: BANDAS DE FRENO TRASERO (JUEGO) | D63: 67830 | E63: 74970 | F63: 99917.686 | G63: 71400 | H63: 90834.26 | I63: =AVERAGE(D63:E63) -> 71400 | J63: 72917.25 | K63: 80592.75 | L63: 103393.08 | M63: 76755 | N63: 93993.712 | O63: =AVERAGE(J63:N63) -> 85530.359 | P63: 98353.5 | Q63: 108706.5 | R63: 104261.93 | S63: 103530 | T63: 94783.575 | U63: =AVERAGE(P63:T63) -> 101927.1 | V63: 103440.75 | W63: 114329.25 | X63: 105999.63 | Y63: 108885 | Z63: 96363.302 | AA63: =AVERAGE(V63:Z63) -> 105803.59 | AB63: 62742.75 | AC63: 69347.25 | AD63: 108606.18 | AE63: 66045 | AF63: 98732.891 | AG63: =AVERAGE(AB63:AF63) -> 81094.814 | AH63: 78004.5 | AI63: 86215.5 | AJ63: 114323.21 | AK63: 82110 | AL63: 103930.19 | AM63: =AVERAGE(AH63:AL63) -> 92916.68 | AN63: 84787.5 | AO63: 93712.5 | AP63: 112081.58 | AQ63: 89250 | AR63: 101892.34 | AS63: =AVERAGE(AN63:AR63) -> 96344.784 | AT63: 86483.25 | AU63: 95586.75 | AV63: 114688.13 | AW63: 91035 | AX63: 104261.93 | AY63: =AVERAGE(AT63:AX63) -> 98411.012 | AZ63: 93266.25 | BA63: 103083.75 | BB63: 117294.67 | BC63: 98175 | BD63: 106631.52 | BE63: =AVERAGE(AZ63:BD63) -> 103690.24 | BF63: 108528 | BG63: 119952 | BH63: 121638.92 | BI63: 114240 | BJ63: 110580.84 | BK63: =AVERAGE(BF63:BJ63) -> 114987.95 | BL63: 111919.5 | BM63: 123700.5 | BN63: 117294.67 | BO63: 117810 | BP63: 106631.52 | BQ63: =AVERAGE(BL63:BP63) -> 115471.24 | BR63: 71221.5 | BS63: 78718.5 | BT63: 113819.28 | BU63: 74970 | BV63: 103472.07 | BW63: =AVERAGE(BR63:BV63) -> 88440.269 | BX63: 91570.5 | BY63: 101209.5 | BZ63: 123376.62 | CA63: 96390 | CB63: 112160.56 | CC63: =AVERAGE(BX63:CB63) -> 104941.44 | CD63: 83091.75 | CE63: 91838.25 | CF63: 121638.92 | CG63: 87465 | CH63: 110580.84 | CI63: =AVERAGE(CD63:CH63) -> 98922.952
B64: 6.3 | C64: BOMBA DE FRENOS | D64: 176358 | E64: 194922 | F64: 293690.64 | G64: 185640 | H64: 266991.49 | I64: =AVERAGE(D64:E64) -> 185640 | J64: 189924 | K64: 209916 | L64: 303905.96 | M64: 199920 | N64: 276278.15 | O64: =AVERAGE(J64:N64) -> 235988.82 | P64: 256058.25 | Q64: 283011.75 | R64: 306459.79 | S64: 269535 | T64: 278599.81 | U64: =AVERAGE(P64:T64) -> 278732.92 | V64: 267928.5 | W64: 296131.5 | X64: 311567.46 | Y64: 282030 | Z64: 283243.14 | AA64: =AVERAGE(V64:Z64) -> 288180.12 | AB64: 162792 | AC64: 179928 | AD64: 319228.95 | AE64: 171360 | AF64: 290208.14 | AG64: =AVERAGE(AB64:AF64) -> 224703.42 | AH64: 203490 | AI64: 224910 | AJ64: 336033.16 | AK64: 214200 | AL64: 305484.69 | AM64: =AVERAGE(AH64:AL64) -> 256823.57 | AN64: 220447.5 | AO64: 243652.5 | AP64: 329444.28 | AQ64: 232050 | AR64: 299494.8 | AS64: =AVERAGE(AN64:AR64) -> 265017.82 | AT64: 225534.75 | AU64: 249275.25 | AV64: 337105.77 | AW64: 237405 | AX64: 306459.79 | AY64: =AVERAGE(AT64:AX64) -> 271156.11 | AZ64: 244188 | BA64: 269892 | BB64: 344767.27 | BC64: 257040 | BD64: 313424.79 | BE64: =AVERAGE(AZ64:BD64) -> 285862.41 | BF64: 281494.5 | BG64: 311125.5 | BH64: 357536.43 | BI64: 296310 | BJ64: 325033.11 | BK64: =AVERAGE(BF64:BJ64) -> 314299.91 | BL64: 291669 | BM64: 322371 | BN64: 344767.27 | BO64: 307020 | BP64: 313424.79 | BQ64: =AVERAGE(BL64:BP64) -> 315850.41 | BR64: 184836.75 | BS64: 204293.25 | BT64: 334551.94 | BU64: 194565 | BV64: 304138.13 | BW64: =AVERAGE(BR64:BV64) -> 244477.01 | BX64: 237405 | BY64: 262395 | BZ64: 362644.09 | CA64: 249900 | CB64: 329676.44 | CC64: =AVERAGE(BX64:CB64) -> 288404.11 | CD64: 215360.25 | CE64: 238029.75 | CF64: 357536.43 | CG64: 226695 | CH64: 325033.11 | CI64: =AVERAGE(CD64:CH64) -> 272530.91
B65: 6.4 | C65: CAUCHOS CAMPANA (JUEGO) | D65: 44089.5 | E65: 48730.5 | F65: 89993.75 | G65: 46410 | H65: 81812.5 | I65: =AVERAGE(D65:E65) -> 46410 | J65: 47481 | K65: 52479 | L65: 89993.75 | M65: 49980 | N65: 81812.5 | O65: =AVERAGE(J65:N65) -> 64349.25 | P65: 64438.5 | Q65: 71221.5 | R65: 89993.75 | S65: 67830 | T65: 81812.5 | U65: =AVERAGE(P65:T65) -> 75059.25 | V65: 67830 | W65: 74970 | X65: 89993.75 | Y65: 71400 | Z65: 81812.5 | AA65: =AVERAGE(V65:Z65) -> 77201.25 | AB65: 40698 | AC65: 44982 | AD65: 89993.75 | AE65: 42840 | AF65: 81812.5 | AG65: =AVERAGE(AB65:AF65) -> 60065.25 | AH65: 50872.5 | AI65: 56227.5 | AJ65: 91793.625 | AK65: 53550 | AL65: 83448.75 | AM65: =AVERAGE(AH65:AL65) -> 67178.475 | AN65: 54264 | AO65: 59976 | AP65: 89993.75 | AQ65: 57120 | AR65: 81812.5 | AS65: =AVERAGE(AN65:AR65) -> 68633.25 | AT65: 55959.75 | AU65: 61850.25 | AV65: 89993.75 | AW65: 58905 | AX65: 81812.5 | AY65: =AVERAGE(AT65:AX65) -> 69704.25 | AZ65: 61047 | BA65: 67473 | BB65: 89993.75 | BC65: 64260 | BD65: 81812.5 | BE65: =AVERAGE(AZ65:BD65) -> 72917.25 | BF65: 71221.5 | BG65: 78718.5 | BH65: 89993.75 | BI65: 74970 | BJ65: 81812.5 | BK65: =AVERAGE(BF65:BJ65) -> 79343.25 | BL65: 72917.25 | BM65: 80592.75 | BN65: 89993.75 | BO65: 76755 | BP65: 81812.5 | BQ65: =AVERAGE(BL65:BP65) -> 80414.25 | BR65: 45785.25 | BS65: 50604.75 | BT65: 89993.75 | BU65: 48195 | BV65: 81812.5 | BW65: =AVERAGE(BR65:BV65) -> 63278.25 | BX65: 59351.25 | BY65: 65598.75 | BZ65: 89993.75 | CA65: 62475 | CB65: 81812.5 | CC65: =AVERAGE(BX65:CB65) -> 71846.25 | CD65: 54264 | CE65: 59976 | CF65: 89993.75 | CG65: 57120 | CH65: 81812.5 | CI65: =AVERAGE(CD65:CH65) -> 68633.25
B66: 6.5 | C66: DISCO DE FRENO | D66: 210273 | E66: 232407 | F66: 243170.46 | G66: 221340 | H66: 221064.05 | I66: =AVERAGE(D66:E66) -> 221340 | J66: 227230.5 | K66: 251149.5 | L66: 251628.56 | M66: 239190 | N66: 228753.24 | O66: =AVERAGE(J66:N66) -> 239590.36 | P66: 305235 | Q66: 337365 | R66: 253743.09 | S66: 321300 | T66: 230675.53 | U66: =AVERAGE(P66:T66) -> 289663.72 | V66: 318801 | W66: 352359 | X66: 257972.14 | Y66: 335580 | Z66: 234520.12 | AA66: =AVERAGE(V66:Z66) -> 299846.45 | AB66: 193315.5 | AC66: 213664.5 | AD66: 264315.71 | AE66: 203490 | AF66: 240287.01 | AG66: =AVERAGE(AB66:AF66) -> 223014.55 | AH66: 242492.25 | AI66: 268017.75 | AJ66: 278229.29 | AK66: 255255 | AL66: 252935.72 | AM66: =AVERAGE(AH66:AL66) -> 259386 | AN66: 262841.25 | AO66: 290508.75 | AP66: 272773.82 | AQ66: 276675 | AR66: 247976.2 | AS66: =AVERAGE(AN66:AR66) -> 270155 | AT66: 269624.25 | AU66: 298005.75 | AV66: 279117.39 | AW66: 283815 | AX66: 253743.09 | AY66: =AVERAGE(AT66:AX66) -> 276861.1 | AZ66: 289973.25 | BA66: 320496.75 | BB66: 285460.97 | BC66: 305235 | BD66: 259509.97 | BE66: =AVERAGE(AZ66:BD66) -> 292135.19 | BF66: 335758.5 | BG66: 371101.5 | BH66: 296033.6 | BI66: 353430 | BJ66: 269121.45 | BK66: =AVERAGE(BF66:BJ66) -> 325089.01 | BL66: 345933 | BM66: 382347 | BN66: 285460.97 | BO66: 364140 | BP66: 259509.97 | BQ66: =AVERAGE(BL66:BP66) -> 327478.19 | BR66: 220447.5 | BS66: 243652.5 | BT66: 277002.87 | BU66: 232050 | BV66: 251820.79 | BW66: =AVERAGE(BR66:BV66) -> 244994.73 | BX66: 283190.25 | BY66: 312999.75 | BZ66: 300262.65 | CA66: 298095 | CB66: 272966.05 | CC66: =AVERAGE(BX66:CB66) -> 293502.74 | CD66: 256058.25 | CE66: 283011.75 | CF66: 296033.6 | CG66: 269535 | CH66: 269121.45 | CI66: =AVERAGE(CD66:CH66) -> 274752.01
B67: 6.6 | C67: MANGUERA FRENO | D67: 88179 | E67: 97461 | F67: 88466.445 | G67: 92820 | H67: 80424.041 | I67: =AVERAGE(D67:E67) -> 92820 | J67: 94962 | K67: 104958 | L67: 91543.539 | M67: 99960 | N67: 83221.399 | O67: =AVERAGE(J67:N67) -> 94928.988 | P67: 127181.25 | Q67: 140568.75 | R67: 92312.812 | S67: 133875 | T67: 83920.739 | U67: =AVERAGE(P67:T67) -> 115571.71 | V67: 133964.25 | W67: 148065.75 | X67: 93851.359 | Y67: 141015 | Z67: 85319.418 | AA67: =AVERAGE(V67:Z67) -> 120443.16 | AB67: 81396 | AC67: 89964 | AD67: 96159.18 | AE67: 85680 | AF67: 87417.436 | AG67: =AVERAGE(AB67:AF67) -> 88123.323 | AH67: 101745 | AI67: 112455 | AJ67: 101221 | AK67: 107100 | AL67: 92019.09 | AM67: =AVERAGE(AH67:AL67) -> 102908.02 | AN67: 110223.75 | AO67: 121826.25 | AP67: 99236.273 | AQ67: 116025 | AR67: 90214.794 | AS67: =AVERAGE(AN67:AR67) -> 107505.21 | AT67: 113615.25 | AU67: 125574.75 | AV67: 101544.09 | AW67: 119595 | AX67: 92312.812 | AY67: =AVERAGE(AT67:AX67) -> 110528.38 | AZ67: 122094 | BA67: 134946 | BB67: 103851.91 | BC67: 128520 | BD67: 94410.831 | BE67: =AVERAGE(AZ67:BD67) -> 116764.55 | BF67: 140747.25 | BG67: 155562.75 | BH67: 107698.28 | BI67: 148155 | BJ67: 97907.528 | BK67: =AVERAGE(BF67:BJ67) -> 130014.16 | BL67: 145834.5 | BM67: 161185.5 | BN67: 103851.91 | BO67: 153510 | BP67: 94410.831 | BQ67: =AVERAGE(BL67:BP67) -> 131758.55 | BR67: 93266.25 | BS67: 103083.75 | BT67: 100774.82 | BU67: 98175 | BV67: 91613.473 | BW67: =AVERAGE(BR67:BV67) -> 97382.659 | BX67: 118702.5 | BY67: 131197.5 | BZ67: 109236.83 | CA67: 124950 | CB67: 99306.207 | CC67: =AVERAGE(BX67:CB67) -> 116678.61 | CD67: 108528 | CE67: 119952 | CF67: 107698.28 | CG67: 114240 | CH67: 97907.528 | CI67: =AVERAGE(CD67:CH67) -> 109665.16
B68: 6.7 | C68: MANGUERA FRENO DELANTERO | D68: 88179 | E68: 97461 | F68: 70149.188 | G68: 92820 | H68: 63771.989 | I68: =AVERAGE(D68:E68) -> 92820 | J68: 94962 | K68: 104958 | L68: 72589.159 | M68: 99960 | N68: 65990.145 | O68: =AVERAGE(J68:N68) -> 87691.861 | P68: 127181.25 | Q68: 140568.75 | R68: 73199.152 | S68: 133875 | T68: 66544.684 | U68: =AVERAGE(P68:T68) -> 108273.77 | V68: 133964.25 | W68: 148065.75 | X68: 74419.138 | Y68: 141015 | Z68: 67653.762 | AA68: =AVERAGE(V68:Z68) -> 113023.58 | AB68: 81396 | AC68: 89964 | AD68: 76249.117 | AE68: 85680 | AF68: 69317.379 | AG68: =AVERAGE(AB68:AF68) -> 80521.299 | AH68: 101745 | AI68: 112455 | AJ68: 80262.871 | AK68: 107100 | AL68: 72966.246 | AM68: =AVERAGE(AH68:AL68) -> 94905.823 | AN68: 110223.75 | AO68: 121826.25 | AP68: 78689.089 | AQ68: 116025 | AR68: 71535.535 | AS68: =AVERAGE(AN68:AR68) -> 99659.925 | AT68: 113615.25 | AU68: 125574.75 | AV68: 80519.068 | AW68: 119595 | AX68: 73199.152 | AY68: =AVERAGE(AT68:AX68) -> 102500.64 | AZ68: 122094 | BA68: 134946 | BB68: 82349.046 | BC68: 128520 | BD68: 74862.769 | BE68: =AVERAGE(AZ68:BD68) -> 108554.36 | BF68: 140747.25 | BG68: 155562.75 | BH68: 85399.011 | BI68: 148155 | BJ68: 77635.465 | BK68: =AVERAGE(BF68:BJ68) -> 121499.9 | BL68: 145834.5 | BM68: 161185.5 | BN68: 82349.046 | BO68: 153510 | BP68: 74862.769 | BQ68: =AVERAGE(BL68:BP68) -> 123548.36 | BR68: 93266.25 | BS68: 103083.75 | BT68: 79909.075 | BU68: 98175 | BV68: 72644.613 | BW68: =AVERAGE(BR68:BV68) -> 89415.738 | BX68: 118702.5 | BY68: 131197.5 | BZ68: 86618.997 | CA68: 124950 | CB68: 78744.543 | CC68: =AVERAGE(BX68:CB68) -> 108042.71 | CD68: 108528 | CE68: 119952 | CF68: 85399.011 | CG68: 114240 | CH68: 77635.465 | CI68: =AVERAGE(CD68:CH68) -> 101150.9
B69: 6.8 | C69: MANIJA DE FRENO TRASERO | D69: 44089.5 | E69: 48730.5 | F69: 50295.644 | G69: 46410 | H69: 45723.313 | I69: =AVERAGE(D69:E69) -> 46410 | J69: 47481 | K69: 52479 | L69: 52045.058 | M69: 49980 | N69: 47313.689 | O69: =AVERAGE(J69:N69) -> 49859.749 | P69: 64438.5 | Q69: 71221.5 | R69: 52482.411 | S69: 67830 | T69: 47711.283 | U69: =AVERAGE(P69:T69) -> 60736.739 | V69: 67830 | W69: 74970 | X69: 53357.118 | Y69: 71400 | Z69: 48506.471 | AA69: =AVERAGE(V69:Z69) -> 63212.718 | AB69: 40698 | AC69: 44982 | AD69: 54669.178 | AE69: 42840 | AF69: 49699.253 | AG69: =AVERAGE(AB69:AF69) -> 46577.686 | AH69: 50872.5 | AI69: 56227.5 | AJ69: 57546.964 | AK69: 53550 | AL69: 52315.422 | AM69: =AVERAGE(AH69:AL69) -> 54102.477 | AN69: 54264 | AO69: 59976 | AP69: 56418.592 | AQ69: 57120 | AR69: 51289.629 | AS69: =AVERAGE(AN69:AR69) -> 55813.644 | AT69: 55959.75 | AU69: 61850.25 | AV69: 57730.652 | AW69: 58905 | AX69: 52482.411 | AY69: =AVERAGE(AT69:AX69) -> 57385.613 | AZ69: 61047 | BA69: 67473 | BB69: 59042.713 | BC69: 64260 | BD69: 53675.193 | BE69: =AVERAGE(AZ69:BD69) -> 61099.581 | BF69: 71221.5 | BG69: 78718.5 | BH69: 61229.48 | BI69: 74970 | BJ69: 55663.163 | BK69: =AVERAGE(BF69:BJ69) -> 68360.529 | BL69: 72917.25 | BM69: 80592.75 | BN69: 59042.713 | BO69: 76755 | BP69: 53675.193 | BQ69: =AVERAGE(BL69:BP69) -> 68596.581 | BR69: 45785.25 | BS69: 50604.75 | BT69: 57293.299 | BU69: 48195 | BV69: 52084.817 | BW69: =AVERAGE(BR69:BV69) -> 50792.623 | BX69: 59351.25 | BY69: 65598.75 | BZ69: 62104.187 | CA69: 62475 | CB69: 56458.351 | CC69: =AVERAGE(BX69:CB69) -> 61197.508 | CD69: 54264 | CE69: 59976 | CF69: 61229.48 | CG69: 57120 | CH69: 55663.163 | CI69: =AVERAGE(CD69:CH69) -> 57650.529
B70: 6.9 | C70: PASTILLAS DE FRENO DELANTERAS (JUEGO) | D70: 67830 | E70: 74970 | F70: 104296.1 | G70: 71400 | H70: 94814.637 | I70: =AVERAGE(D70:E70) -> 71400 | J70: 72917.25 | K70: 80592.75 | L70: 107923.79 | M70: 76755 | N70: 98112.538 | O70: =AVERAGE(J70:N70) -> 87260.266 | P70: 98353.5 | Q70: 108706.5 | R70: 108830.71 | S70: 103530 | T70: 98937.013 | U70: =AVERAGE(P70:T70) -> 103671.55 | V70: 103440.75 | W70: 114329.25 | X70: 110644.56 | Y70: 108885 | Z70: 100585.96 | AA70: =AVERAGE(V70:Z70) -> 107577.1 | AB70: 62742.75 | AC70: 69347.25 | AD70: 113365.33 | AE70: 66045 | AF70: 103059.39 | AG70: =AVERAGE(AB70:AF70) -> 82911.943 | AH70: 78004.5 | AI70: 86215.5 | AJ70: 119332.88 | AK70: 82110 | AL70: 108484.43 | AM70: =AVERAGE(AH70:AL70) -> 94829.463 | AN70: 84787.5 | AO70: 93712.5 | AP70: 116993.02 | AQ70: 89250 | AR70: 106357.29 | AS70: =AVERAGE(AN70:AR70) -> 98220.061 | AT70: 86483.25 | AU70: 95586.75 | AV70: 119713.79 | AW70: 91035 | AX70: 108830.71 | AY70: =AVERAGE(AT70:AX70) -> 100329.9 | AZ70: 93266.25 | BA70: 103083.75 | BB70: 122434.55 | BC70: 98175 | BD70: 111304.14 | BE70: =AVERAGE(AZ70:BD70) -> 105652.74 | BF70: 108528 | BG70: 119952 | BH70: 126969.17 | BI70: 114240 | BJ70: 115426.52 | BK70: =AVERAGE(BF70:BJ70) -> 117023.14 | BL70: 111919.5 | BM70: 123700.5 | BN70: 122434.55 | BO70: 117810 | BP70: 111304.14 | BQ70: =AVERAGE(BL70:BP70) -> 117433.74 | BR70: 71221.5 | BS70: 78718.5 | BT70: 118806.86 | BU70: 74970 | BV70: 108006.24 | BW70: =AVERAGE(BR70:BV70) -> 90344.62 | BX70: 91570.5 | BY70: 101209.5 | BZ70: 128783.01 | CA70: 96390 | CB70: 117075.47 | CC70: =AVERAGE(BX70:CB70) -> 107005.7 | CD70: 83091.75 | CE70: 91838.25 | CF70: 126969.17 | CG70: 87465 | CH70: 115426.52 | CI70: =AVERAGE(CD70:CH70) -> 100958.14
B71: 6.10 | C71: PASTILLAS DE FRENO TRASERAS (JUEGO) | D71: 67830 | E71: 74970 | F71: 109667.19 | G71: 71400 | H71: 99697.449 | I71: =AVERAGE(D71:E71) -> 71400 | J71: 72917.25 | K71: 80592.75 | L71: 113481.7 | M71: 76755 | N71: 103165.19 | O71: =AVERAGE(J71:N71) -> 89382.378 | P71: 98353.5 | Q71: 108706.5 | R71: 114435.33 | S71: 103530 | T71: 104032.12 | U71: =AVERAGE(P71:T71) -> 105811.49 | V71: 103440.75 | W71: 114329.25 | X71: 116342.59 | Y71: 108885 | Z71: 105765.99 | AA71: =AVERAGE(V71:Z71) -> 109752.72 | AB71: 62742.75 | AC71: 69347.25 | AD71: 119203.47 | AE71: 66045 | AF71: 108366.79 | AG71: =AVERAGE(AB71:AF71) -> 85141.053 | AH71: 78004.5 | AI71: 86215.5 | AJ71: 125478.34 | AK71: 82110 | AL71: 114071.22 | AM71: =AVERAGE(AH71:AL71) -> 97175.912 | AN71: 84787.5 | AO71: 93712.5 | AP71: 123017.98 | AQ71: 89250 | AR71: 111834.53 | AS71: =AVERAGE(AN71:AR71) -> 100520.5 | AT71: 86483.25 | AU71: 95586.75 | AV71: 125878.87 | AW71: 91035 | AX71: 114435.33 | AY71: =AVERAGE(AT71:AX71) -> 102683.84 | AZ71: 93266.25 | BA71: 103083.75 | BB71: 128739.75 | BC71: 98175 | BD71: 117036.14 | BE71: =AVERAGE(AZ71:BD71) -> 108060.18 | BF71: 108528 | BG71: 119952 | BH71: 133507.89 | BI71: 114240 | BJ71: 121370.81 | BK71: =AVERAGE(BF71:BJ71) -> 119519.74 | BL71: 111919.5 | BM71: 123700.5 | BN71: 128739.75 | BO71: 117810 | BP71: 117036.14 | BQ71: =AVERAGE(BL71:BP71) -> 119841.18 | BR71: 71221.5 | BS71: 78718.5 | BT71: 124925.24 | BU71: 74970 | BV71: 113568.4 | BW71: =AVERAGE(BR71:BV71) -> 92680.727 | BX71: 91570.5 | BY71: 101209.5 | BZ71: 135415.14 | CA71: 96390 | CB71: 123104.68 | CC71: =AVERAGE(BX71:CB71) -> 109537.96 | CD71: 83091.75 | CE71: 91838.25 | CF71: 133507.89 | CG71: 87465 | CH71: 121370.81 | CI71: =AVERAGE(CD71:CH71) -> 103454.74
B72: 6.11 | C72: SENSOR FRENO DELANTERO | D72: 44089.5 | E72: 48730.5 | F72: 97944.149 | G72: 46410 | H72: 89040.135 | I72: =AVERAGE(D72:E72) -> 46410 | J72: 47481 | K72: 52479 | L72: 101350.9 | M72: 49980 | N72: 92137.184 | O72: =AVERAGE(J72:N72) -> 68685.617 | P72: 64438.5 | Q72: 71221.5 | R72: 102202.59 | S72: 67830 | T72: 92911.446 | U72: =AVERAGE(P72:T72) -> 79720.807 | V72: 67830 | W72: 74970 | X72: 103905.97 | Y72: 71400 | Z72: 94459.97 | AA72: =AVERAGE(V72:Z72) -> 82513.187 | AB72: 40698 | AC72: 44982 | AD72: 106461.03 | AE72: 42840 | AF72: 96782.756 | AG72: =AVERAGE(AB72:AF72) -> 66352.757 | AH72: 50872.5 | AI72: 56227.5 | AJ72: 112065.14 | AK72: 53550 | AL72: 101877.4 | AM72: =AVERAGE(AH72:AL72) -> 74918.508 | AN72: 54264 | AO72: 59976 | AP72: 109867.78 | AQ72: 57120 | AR72: 99879.804 | AS72: =AVERAGE(AN72:AR72) -> 76221.518 | AT72: 55959.75 | AU72: 61850.25 | AV72: 112422.85 | AW72: 58905 | AX72: 102202.59 | AY72: =AVERAGE(AT72:AX72) -> 78268.088 | AZ72: 61047 | BA72: 67473 | BB72: 114977.91 | BC72: 64260 | BD72: 104525.38 | BE72: =AVERAGE(AZ72:BD72) -> 82456.658 | BF72: 71221.5 | BG72: 78718.5 | BH72: 119236.36 | BI72: 74970 | BJ72: 108396.69 | BK72: =AVERAGE(BF72:BJ72) -> 90508.608 | BL72: 72917.25 | BM72: 80592.75 | BN72: 114977.91 | BO72: 76755 | BP72: 104525.38 | BQ72: =AVERAGE(BL72:BP72) -> 89953.658 | BR72: 45785.25 | BS72: 50604.75 | BT72: 111571.16 | BU72: 48195 | BV72: 101428.33 | BW72: =AVERAGE(BR72:BV72) -> 71516.898 | BX72: 59351.25 | BY72: 65598.75 | BZ72: 120939.73 | CA72: 62475 | CB72: 109945.21 | CC72: =AVERAGE(BX72:CB72) -> 83661.988 | CD72: 54264 | CE72: 59976 | CF72: 119236.36 | CG72: 57120 | CH72: 108396.69 | CI72: =AVERAGE(CD72:CH72) -> 79798.608
B73: 6.12 | C73: SENSOR FRENO TRASERO | D73: 50872.5 | E73: 56227.5 | F73: 109856.28 | G73: 53550 | H73: 99869.341 | I73: =AVERAGE(D73:E73) -> 53550 | J73: 54264 | K73: 59976 | L73: 113677.36 | M73: 57120 | N73: 103343.06 | O73: =AVERAGE(J73:N73) -> 77676.084 | P73: 74613 | Q73: 82467 | R73: 114632.63 | S73: 78540 | T73: 104211.49 | U73: =AVERAGE(P73:T73) -> 90892.824 | V73: 78004.5 | W73: 86215.5 | X73: 116543.18 | Y73: 82110 | Z73: 105948.34 | AA73: =AVERAGE(V73:Z73) -> 93764.305 | AB73: 47481 | AC73: 52479 | AD73: 119408.99 | AE73: 49980 | AF73: 108553.63 | AG73: =AVERAGE(AB73:AF73) -> 75580.525 | AH73: 57655.5 | AI73: 63724.5 | AJ73: 125694.68 | AK73: 60690 | AL73: 114267.89 | AM73: =AVERAGE(AH73:AL73) -> 84406.516 | AN73: 64438.5 | AO73: 71221.5 | AP73: 123230.08 | AQ73: 67830 | AR73: 112027.35 | AS73: =AVERAGE(AN73:AR73) -> 87749.486 | AT73: 64438.5 | AU73: 71221.5 | AV73: 126095.9 | AW73: 67830 | AX73: 114632.63 | AY73: =AVERAGE(AT73:AX73) -> 88843.707 | AZ73: 69525.75 | BA73: 76844.25 | BB73: 128961.71 | BC73: 73185 | BD73: 117237.92 | BE73: =AVERAGE(AZ73:BD73) -> 93150.927 | BF73: 81396 | BG73: 89964 | BH73: 133738.07 | BI73: 85680 | BJ73: 121580.07 | BK73: =AVERAGE(BF73:BJ73) -> 102471.63 | BL73: 84787.5 | BM73: 93712.5 | BN73: 128961.71 | BO73: 89250 | BP73: 117237.92 | BQ73: =AVERAGE(BL73:BP73) -> 102789.93 | BR73: 54264 | BS73: 59976 | BT73: 125140.63 | BU73: 57120 | BV73: 113764.21 | BW73: =AVERAGE(BR73:BV73) -> 82052.966 | BX73: 67830 | BY73: 74970 | BZ73: 135648.62 | CA73: 71400 | CB73: 123316.93 | CC73: =AVERAGE(BX73:CB73) -> 94633.109 | CD73: 62742.75 | CE73: 69347.25 | CF73: 133738.07 | CG73: 66045 | CH73: 121580.07 | CI73: =AVERAGE(CD73:CH73) -> 90690.628
B74: 7 | C74: SISTEMA ELÉCTRICO | D74: 0 | E74: 2860105.5 | F74: 0 | H74: 0 | I74: 0 | J74: 2796291.8 | K74: 3090638.2 | L74: 0 | N74: 0 | Q74: 4149589.5 | R74: 0 | T74: 0 | W74: 4350134.2 | X74: 0 | Z74: 0 | AB74: 2384224.5 | AC74: 2635195.5 | AD74: 0 | AF74: 0 | AH74: 2976041.2 | AI74: 3289308.8 | AJ74: 0 | AL74: 0 | AN74: 3235491 | AO74: 3576069 | AP74: 0 | AR74: 0 | AT74: 3313495.5 | AU74: 3662284.5 | AV74: 0 | AX74: 0 | AZ74: 3567858 | BA74: 3943422 | BB74: 0 | BD74: 0 | BE74: 0 | BF74: 4139325.8 | BG74: 4575044.2 | BH74: 0 | BJ74: 0 | BL74: 4271594.2 | BM74: 4721235.8 | BN74: 0 | BP74: 0 | BR74: 2718287.2 | BS74: 3004422.8 | BT74: 0 | BV74: 0 | BX74: 3489853.5 | BY74: 3857206.5 | BZ74: 0 | CB74: 0 | CD74: 3155790.8 | CE74: 3487979.2 | CF74: 0 | CH74: 0
B75: 7.1 | C75: AUTOMATICO MOTOR DE ARRANQUE | D75: 108528 | E75: 119952 | F75: 437383.02 | G75: 114240 | H75: 397620.93 | I75: =AVERAGE(D75:E75) -> 114240 | J75: 117006.75 | K75: 129323.25 | L75: 452596.34 | M75: 123165 | N75: 411451.22 | O75: =AVERAGE(J75:N75) -> 246708.51 | P75: 157704.75 | Q75: 174305.25 | R75: 456399.67 | S75: 166005 | T75: 414908.8 | U75: =AVERAGE(P75:T75) -> 273864.69 | V75: 164487.75 | W75: 181802.25 | X75: 464006.34 | Y75: 173145 | Z75: 421823.94 | AA75: =AVERAGE(V75:Z75) -> 281053.06 | AB75: 100049.25 | AC75: 110580.75 | AD75: 475416.33 | AE75: 105315 | AF75: 432196.66 | AG75: =AVERAGE(AB75:AF75) -> 244711.6 | AH75: 125485.5 | AI75: 138694.5 | AJ75: 500442.24 | AK75: 132090 | AL75: 454947.49 | AM75: =AVERAGE(AH75:AL75) -> 270331.95 | AN75: 135660 | AO75: 149940 | AP75: 490629.65 | AQ75: 142800 | AR75: 446026.95 | AS75: =AVERAGE(AN75:AR75) -> 273011.32 | AT75: 139051.5 | AU75: 153688.5 | AV75: 502039.64 | AW75: 146370 | AX75: 456399.67 | AY75: =AVERAGE(AT75:AX75) -> 279509.86 | AZ75: 149226 | BA75: 164934 | BB75: 513449.63 | BC75: 157080 | BD75: 466772.39 | BE75: =AVERAGE(AZ75:BD75) -> 290292.41 | BF75: 172966.5 | BG75: 191173.5 | BH75: 532466.29 | BI75: 182070 | BJ75: 484060.26 | BK75: =AVERAGE(BF75:BJ75) -> 312547.31 | BL75: 179749.5 | BM75: 198670.5 | BN75: 513449.63 | BO75: 189210 | BP75: 466772.39 | BQ75: =AVERAGE(BL75:BP75) -> 309570.41 | BR75: 113615.25 | BS75: 125574.75 | BT75: 498236.31 | BU75: 119595 | BV75: 452942.1 | BW75: =AVERAGE(BR75:BV75) -> 261992.68 | BX75: 145834.5 | BY75: 161185.5 | BZ75: 540072.95 | CA75: 153510 | CB75: 490975.41 | CC75: =AVERAGE(BX75:CB75) -> 298315.67 | CD75: 132268.5 | CE75: 146191.5 | CF75: 532466.29 | CG75: 139230 | CH75: 484060.26 | CI75: =AVERAGE(CD75:CH75) -> 286843.31
B76: 7.2 | C76: BATERIA | D76: 322192.5 | E76: 356107.5 | F76: 291894.36 | G76: 339150 | H76: 265358.51 | I76: =AVERAGE(D76:E76) -> 339150 | J76: 347628.75 | K76: 384221.25 | L76: 302047.21 | M76: 365925 | N76: 274588.37 | O76: =AVERAGE(J76:N76) -> 334882.12 | P76: 468027 | Q76: 517293 | R76: 304585.42 | S76: 492660 | T76: 276895.84 | U76: =AVERAGE(P76:T76) -> 411892.25 | V76: 490071.75 | W76: 541658.25 | X76: 309661.85 | Y76: 515865 | Z76: 281510.77 | AA76: =AVERAGE(V76:Z76) -> 427753.52 | AB76: 296756.25 | AC76: 327993.75 | AD76: 317276.48 | AE76: 312375 | AF76: 288433.16 | AG76: =AVERAGE(AB76:AF76) -> 308566.93 | AH76: 369673.5 | AI76: 408586.5 | AJ76: 333977.91 | AK76: 389130 | AL76: 303616.29 | AM76: =AVERAGE(AH76:AL76) -> 360996.84 | AN76: 403588.5 | AO76: 446071.5 | AP76: 327429.33 | AQ76: 424830 | AR76: 297663.03 | AS76: =AVERAGE(AN76:AR76) -> 379916.47 | AT76: 412067.25 | AU76: 455442.75 | AV76: 335043.96 | AW76: 433755 | AX76: 304585.42 | AY76: =AVERAGE(AT76:AX76) -> 388178.88 | AZ76: 444286.5 | BA76: 491053.5 | BB76: 342658.6 | BC76: 467670 | BD76: 311507.82 | BE76: =AVERAGE(AZ76:BD76) -> 411435.28 | BF76: 515508 | BG76: 569772 | BH76: 355349.66 | BI76: 542640 | BJ76: 323045.14 | BK76: =AVERAGE(BF76:BJ76) -> 461262.96 | BL76: 532465.5 | BM76: 588514.5 | BN76: 342658.6 | BO76: 560490 | BP76: 311507.82 | BQ76: =AVERAGE(BL76:BP76) -> 467127.28 | BR76: 339150 | BS76: 374850 | BT76: 332505.75 | BU76: 357000 | BV76: 302277.96 | BW76: =AVERAGE(BR76:BV76) -> 341156.74 | BX76: 434112 | BY76: 479808 | BZ76: 360426.08 | CA76: 456960 | CB76: 327660.07 | CC76: =AVERAGE(BX76:CB76) -> 411793.23 | CD76: 393414 | CE76: 434826 | CF76: 355349.66 | CG76: 414120 | CH76: 323045.14 | CI76: =AVERAGE(CD76:CH76) -> 384150.96
B77: 7.3 | C77: BOBINA CAPTADORA | D77: 81396 | E77: 89964 | F77: 153132.27 | G77: 85680 | H77: 139211.16 | I77: =AVERAGE(D77:E77) -> 85680 | J77: 88179 | K77: 97461 | L77: 158458.61 | M77: 92820 | N77: 144053.28 | O77: =AVERAGE(J77:N77) -> 116194.38 | P77: 118702.5 | Q77: 131197.5 | R77: 159790.2 | S77: 124950 | T77: 145263.82 | U77: =AVERAGE(P77:T77) -> 135980.8 | V77: 123789.75 | W77: 136820.25 | X77: 162453.37 | Y77: 130305 | Z77: 147684.88 | AA77: =AVERAGE(V77:Z77) -> 140210.65 | AB77: 74613 | AC77: 82467 | AD77: 166448.12 | AE77: 78540 | AF77: 151316.48 | AG77: =AVERAGE(AB77:AF77) -> 110676.92 | AH77: 93266.25 | AI77: 103083.75 | AJ77: 175209.95 | AK77: 98175 | AL77: 159281.77 | AM77: =AVERAGE(AH77:AL77) -> 125803.35 | AN77: 101745 | AO77: 112455 | AP77: 171774.46 | AQ77: 107100 | AR77: 156158.6 | AS77: =AVERAGE(AN77:AR77) -> 129846.61 | AT77: 103440.75 | AU77: 114329.25 | AV77: 175769.22 | AW77: 108885 | AX77: 159790.2 | AY77: =AVERAGE(AT77:AX77) -> 132442.88 | AZ77: 111919.5 | BA77: 123700.5 | BB77: 179763.97 | BC77: 117810 | BD77: 163421.79 | BE77: =AVERAGE(AZ77:BD77) -> 139323.15 | BF77: 130572.75 | BG77: 144317.25 | BH77: 186421.9 | BI77: 137445 | BJ77: 169474.45 | BK77: =AVERAGE(BF77:BJ77) -> 153646.27 | BL77: 133964.25 | BM77: 148065.75 | BN77: 179763.97 | BO77: 141015 | BP77: 163421.79 | BQ77: =AVERAGE(BL77:BP77) -> 153246.15 | BR77: 84787.5 | BS77: 93712.5 | BT77: 174437.63 | BU77: 89250 | BV77: 158579.67 | BW77: =AVERAGE(BR77:BV77) -> 120153.46 | BX77: 110223.75 | BY77: 121826.25 | BZ77: 189085.07 | CA77: 116025 | CB77: 171895.52 | CC77: =AVERAGE(BX77:CB77) -> 141811.12 | CD77: 100049.25 | CE77: 110580.75 | CF77: 186421.9 | CG77: 105315 | CH77: 169474.45 | CI77: =AVERAGE(CD77:CH77) -> 134368.27
B78: 7.4 | C78: BOBINA DE IGNICION ALTA | D78: 101745 | E78: 112455 | F78: 167951.53 | G78: 107100 | H78: 152683.21 | I78: =AVERAGE(D78:E78) -> 107100 | J78: 110223.75 | K78: 121826.25 | L78: 173793.32 | M78: 116025 | N78: 157993.93 | O78: =AVERAGE(J78:N78) -> 135972.45 | P78: 147530.25 | Q78: 163059.75 | R78: 175253.77 | S78: 155295 | T78: 159321.61 | U78: =AVERAGE(P78:T78) -> 160092.07 | V78: 154313.25 | W78: 170556.75 | X78: 178174.66 | Y78: 162435 | Z78: 161976.97 | AA78: =AVERAGE(V78:Z78) -> 165491.33 | AB78: 93266.25 | AC78: 103083.75 | AD78: 182556.01 | AE78: 98175 | AF78: 165960.01 | AG78: =AVERAGE(AB78:AF78) -> 128608.2 | AH78: 117006.75 | AI78: 129323.25 | AJ78: 192165.75 | AK78: 123165 | AL78: 174696.14 | AM78: =AVERAGE(AH78:AL78) -> 147271.38 | AN78: 127181.25 | AO78: 140568.75 | AP78: 188397.8 | AQ78: 133875 | AR78: 171270.73 | AS78: =AVERAGE(AN78:AR78) -> 152258.7 | AT78: 130572.75 | AU78: 144317.25 | AV78: 192779.14 | AW78: 137445 | AX78: 175253.77 | AY78: =AVERAGE(AT78:AX78) -> 156073.58 | AZ78: 140747.25 | BA78: 155562.75 | BB78: 197160.49 | BC78: 148155 | BD78: 179236.81 | BE78: =AVERAGE(AZ78:BD78) -> 164172.46 | BF78: 162792 | BG78: 179928 | BH78: 204462.73 | BI78: 171360 | BJ78: 185875.21 | BK78: =AVERAGE(BF78:BJ78) -> 180883.59 | BL78: 167879.25 | BM78: 185550.75 | BN78: 197160.49 | BO78: 176715 | BP78: 179236.81 | BQ78: =AVERAGE(BL78:BP78) -> 181308.46 | BR78: 106832.25 | BS78: 118077.75 | BT78: 191318.69 | BU78: 112455 | BV78: 173926.09 | BW78: =AVERAGE(BR78:BV78) -> 140521.96 | BX78: 137355.75 | BY78: 151814.25 | BZ78: 207383.62 | CA78: 144585 | CB78: 188530.57 | CC78: =AVERAGE(BX78:CB78) -> 165933.84 | CD78: 123789.75 | CE78: 136820.25 | CF78: 204462.73 | CG78: 130305 | CH78: 185875.21 | CI78: =AVERAGE(CD78:CH78) -> 156250.59
B79: 7.5 | C79: BOBINA DE CARGA | D79: 162792 | E79: 179928 | F79: 198712.7 | G79: 171360 | H79: 180647.91 | I79: =AVERAGE(D79:E79) -> 171360 | J79: 176358 | K79: 194922 | L79: 205624.45 | M79: 185640 | N79: 186931.32 | O79: =AVERAGE(J79:N79) -> 189895.15 | P79: 235709.25 | Q79: 260520.75 | R79: 207352.38 | S79: 248115 | T79: 188502.17 | U79: =AVERAGE(P79:T79) -> 228039.91 | V79: 247579.5 | W79: 273640.5 | X79: 210808.26 | Y79: 260610 | Z79: 191643.87 | AA79: =AVERAGE(V79:Z79) -> 236856.43 | AB79: 149226 | AC79: 164934 | AD79: 215992.07 | AE79: 157080 | AF79: 196356.42 | AG79: =AVERAGE(AB79:AF79) -> 176717.7 | AH79: 186532.5 | AI79: 206167.5 | AJ79: 227361.89 | AK79: 196350 | AL79: 206692.63 | AM79: =AVERAGE(AH79:AL79) -> 204620.9 | AN79: 203490 | AO79: 224910 | AP79: 222903.81 | AQ79: 214200 | AR79: 202639.83 | AS79: =AVERAGE(AN79:AR79) -> 213628.73 | AT79: 208577.25 | AU79: 230532.75 | AV79: 228087.62 | AW79: 219555 | AX79: 207352.38 | AY79: =AVERAGE(AT79:AX79) -> 218821 | AZ79: 223839 | BA79: 247401 | BB79: 233271.43 | BC79: 235620 | BD79: 212064.94 | BE79: =AVERAGE(AZ79:BD79) -> 230439.27 | BF79: 261145.5 | BG79: 288634.5 | BH79: 241911.11 | BI79: 274890 | BJ79: 219919.19 | BK79: =AVERAGE(BF79:BJ79) -> 257300.06 | BL79: 267928.5 | BM79: 296131.5 | BN79: 233271.43 | BO79: 282030 | BP79: 212064.94 | BQ79: =AVERAGE(BL79:BP79) -> 258285.27 | BR79: 171270.75 | BS79: 189299.25 | BT79: 226359.69 | BU79: 180285 | BV79: 205781.53 | BW79: =AVERAGE(BR79:BV79) -> 194599.24 | BX79: 220447.5 | BY79: 243652.5 | BZ79: 245366.99 | CA79: 232050 | CB79: 223060.9 | CC79: =AVERAGE(BX79:CB79) -> 232915.58 | CD79: 198402.75 | CE79: 219287.25 | CF79: 241911.11 | CG79: 208845 | CH79: 219919.19 | CI79: =AVERAGE(CD79:CH79) -> 217673.06
B80: 7.6 | C80: BOBINA LUCES | D80: 149226 | E80: 164934 | F80: 214542.36 | G80: 157080 | H80: 195038.51 | I80: =AVERAGE(D80:E80) -> 157080 | J80: 161096.25 | K80: 178053.75 | L80: 222004.7 | M80: 169575 | N80: 201822.45 | O80: =AVERAGE(J80:N80) -> 186510.43 | P80: 217056 | Q80: 239904 | R80: 223870.28 | S80: 228480 | T80: 203518.44 | U80: =AVERAGE(P80:T80) -> 222565.75 | V80: 227230.5 | W80: 251149.5 | X80: 227601.46 | Y80: 239190 | Z80: 206910.41 | AA80: =AVERAGE(V80:Z80) -> 230416.37 | AB80: 137355.75 | AC80: 151814.25 | AD80: 233198.21 | AE80: 144585 | AF80: 211998.38 | AG80: =AVERAGE(AB80:AF80) -> 175790.32 | AH80: 171270.75 | AI80: 189299.25 | AJ80: 245473.77 | AK80: 180285 | AL80: 223157.97 | AM80: =AVERAGE(AH80:AL80) -> 201897.35 | AN80: 186532.5 | AO80: 206167.5 | AP80: 240660.56 | AQ80: 196350 | AR80: 218782.32 | AS80: =AVERAGE(AN80:AR80) -> 209698.58 | AT80: 191619.75 | AU80: 211790.25 | AV80: 246257.31 | AW80: 201705 | AX80: 223870.28 | AY80: =AVERAGE(AT80:AX80) -> 215048.52 | AZ80: 205185.75 | BA80: 226784.25 | BB80: 251854.07 | BC80: 215985 | BD80: 228958.25 | BE80: =AVERAGE(AZ80:BD80) -> 225753.46 | BF80: 239100.75 | BG80: 264269.25 | BH80: 261182 | BI80: 251685 | BJ80: 237438.18 | BK80: =AVERAGE(BF80:BJ80) -> 250735.04 | BL80: 245883.75 | BM80: 271766.25 | BN80: 251854.07 | BO80: 258825 | BP80: 228958.25 | BQ80: =AVERAGE(BL80:BP80) -> 251457.46 | BR80: 156009 | BS80: 172431 | BT80: 244391.73 | BU80: 164220 | BV80: 222174.3 | BW80: =AVERAGE(BR80:BV80) -> 191845.21 | BX80: 201794.25 | BY80: 223035.75 | BZ80: 264913.17 | CA80: 212415 | CB80: 240830.16 | CC80: =AVERAGE(BX80:CB80) -> 228597.67 | CD80: 181445.25 | CE80: 200544.75 | CF80: 261182 | CG80: 190995 | CH80: 237438.18 | CI80: =AVERAGE(CD80:CH80) -> 214321.04
B81: 7.7 | C81: C D I | D81: 176358 | E81: 194922 | F81: 203989.25 | G81: 185640 | H81: 185444.78 | I81: =AVERAGE(D81:E81) -> 185640 | J81: 189924 | K81: 209916 | L81: 211084.53 | M81: 199920 | N81: 191895.03 | O81: =AVERAGE(J81:N81) -> 200547.91 | P81: 256058.25 | Q81: 283011.75 | R81: 212858.35 | S81: 269535 | T81: 193507.59 | U81: =AVERAGE(P81:T81) -> 242994.19 | V81: 267928.5 | W81: 296131.5 | X81: 216405.99 | Y81: 282030 | Z81: 196732.72 | AA81: =AVERAGE(V81:Z81) -> 251845.74 | AB81: 162792 | AC81: 179928 | AD81: 221727.45 | AE81: 171360 | AF81: 201570.41 | AG81: =AVERAGE(AB81:AF81) -> 187475.57 | AH81: 203490 | AI81: 224910 | AJ81: 233399.18 | AK81: 214200 | AL81: 212181.07 | AM81: =AVERAGE(AH81:AL81) -> 217636.05 | AN81: 220447.5 | AO81: 243652.5 | AP81: 228822.73 | AQ81: 232050 | AR81: 208020.66 | AS81: =AVERAGE(AN81:AR81) -> 226598.68 | AT81: 225534.75 | AU81: 249275.25 | AV81: 234144.19 | AW81: 237405 | AX81: 212858.35 | AY81: =AVERAGE(AT81:AX81) -> 231843.51 | AZ81: 244188 | BA81: 269892 | BB81: 239465.64 | BC81: 257040 | BD81: 217696.04 | BE81: =AVERAGE(AZ81:BD81) -> 245656.34 | BF81: 281494.5 | BG81: 311125.5 | BH81: 248334.74 | BI81: 296310 | BJ81: 225758.86 | BK81: =AVERAGE(BF81:BJ81) -> 272604.72 | BL81: 291669 | BM81: 322371 | BN81: 239465.64 | BO81: 307020 | BP81: 217696.04 | BQ81: =AVERAGE(BL81:BP81) -> 275644.34 | BR81: 184836.75 | BS81: 204293.25 | BT81: 232370.37 | BU81: 194565 | BV81: 211245.79 | BW81: =AVERAGE(BR81:BV81) -> 205462.23 | BX81: 237405 | BY81: 262395 | BZ81: 251882.38 | CA81: 249900 | CB81: 228983.98 | CC81: =AVERAGE(BX81:CB81) -> 246113.27 | CD81: 215360.25 | CE81: 238029.75 | CF81: 248334.74 | CG81: 226695 | CH81: 225758.86 | CI81: =AVERAGE(CD81:CH81) -> 230835.72
B82: 7.8 | C82: DIRECCIONAL DELANTERO | D82: 54264 | E82: 59976 | F82: 82965.359 | G82: 57120 | H82: 75423.054 | I82: =AVERAGE(D82:E82) -> 57120 | J82: 59351.25 | K82: 65598.75 | L82: 85851.111 | M82: 62475 | N82: 78046.464 | O82: =AVERAGE(J82:N82) -> 70264.515 | P82: 78004.5 | Q82: 86215.5 | R82: 86572.549 | S82: 82110 | T82: 78702.317 | U82: =AVERAGE(P82:T82) -> 82320.973 | V82: 83091.75 | W82: 91838.25 | X82: 88015.425 | Y82: 87465 | Z82: 80014.022 | AA82: =AVERAGE(V82:Z82) -> 86084.889 | AB82: 50872.5 | AC82: 56227.5 | AD82: 90179.738 | AE82: 53550 | AF82: 81981.58 | AG82: =AVERAGE(AB82:AF82) -> 66562.264 | AH82: 62742.75 | AI82: 69347.25 | AJ82: 94926.8 | AK82: 66045 | AL82: 86297.091 | AM82: =AVERAGE(AH82:AL82) -> 75871.778 | AN82: 67830 | AO82: 74970 | AP82: 93065.49 | AQ82: 71400 | AR82: 84604.991 | AS82: =AVERAGE(AN82:AR82) -> 78374.096 | AT82: 69525.75 | AU82: 76844.25 | AV82: 95229.804 | AW82: 73185 | AX82: 86572.549 | AY82: =AVERAGE(AT82:AX82) -> 80271.47 | AZ82: 74613 | BA82: 82467 | BB82: 97394.117 | BC82: 78540 | BD82: 88540.107 | BE82: =AVERAGE(AZ82:BD82) -> 84310.845 | BF82: 86483.25 | BG82: 95586.75 | BH82: 101001.31 | BI82: 91035 | BJ82: 91819.37 | BK82: =AVERAGE(BF82:BJ82) -> 93185.135 | BL82: 89874.75 | BM82: 99335.25 | BN82: 97394.117 | BO82: 94605 | BP82: 88540.107 | BQ82: =AVERAGE(BL82:BP82) -> 93949.845 | BR82: 57655.5 | BS82: 63724.5 | BT82: 94508.366 | BU82: 60690 | BV82: 85916.696 | BW82: =AVERAGE(BR82:BV82) -> 72499.012 | BX82: 72917.25 | BY82: 80592.75 | BZ82: 102444.18 | CA82: 76755 | CB82: 93131.075 | CC82: =AVERAGE(BX82:CB82) -> 85168.052 | CD82: 66134.25 | CE82: 73095.75 | CF82: 101001.31 | CG82: 69615 | CH82: 91819.37 | CI82: =AVERAGE(CD82:CH82) -> 80333.135
B83: 7.9 | C83: DIRECCIONAL TRASERO | D83: 54264 | E83: 59976 | F83: 77352.006 | G83: 57120 | H83: 70320.006 | I83: =AVERAGE(D83:E83) -> 57120 | J83: 59351.25 | K83: 65598.75 | L83: 80042.511 | M83: 62475 | N83: 72765.919 | O83: =AVERAGE(J83:N83) -> 68046.686 | P83: 78004.5 | Q83: 86215.5 | R83: 80715.137 | S83: 82110 | T83: 73377.397 | U83: =AVERAGE(P83:T83) -> 80084.507 | V83: 83091.75 | W83: 91838.25 | X83: 82060.389 | Y83: 87465 | Z83: 74600.354 | AA83: =AVERAGE(V83:Z83) -> 83811.149 | AB83: 50872.5 | AC83: 56227.5 | AD83: 84078.267 | AE83: 53550 | AF83: 76434.789 | AG83: =AVERAGE(AB83:AF83) -> 64232.611 | AH83: 62742.75 | AI83: 69347.25 | AJ83: 88504.147 | AK83: 66045 | AL83: 80458.316 | AM83: =AVERAGE(AH83:AL83) -> 73419.493 | AN83: 67830 | AO83: 74970 | AP83: 86768.772 | AQ83: 71400 | AR83: 78880.702 | AS83: =AVERAGE(AN83:AR83) -> 75969.895 | AT83: 69525.75 | AU83: 76844.25 | AV83: 88786.65 | AW83: 73185 | AX83: 80715.137 | AY83: =AVERAGE(AT83:AX83) -> 77811.357 | AZ83: 74613 | BA83: 82467 | BB83: 90804.529 | BC83: 78540 | BD83: 82549.572 | BE83: =AVERAGE(AZ83:BD83) -> 81794.82 | BF83: 86483.25 | BG83: 95586.75 | BH83: 94167.66 | BI83: 91035 | BJ83: 85606.963 | BK83: =AVERAGE(BF83:BJ83) -> 90575.925 | BL83: 89874.75 | BM83: 99335.25 | BN83: 90804.529 | BO83: 94605 | BP83: 82549.572 | BQ83: =AVERAGE(BL83:BP83) -> 91433.82 | BR83: 57655.5 | BS83: 63724.5 | BT83: 88114.024 | BU83: 60690 | BV83: 80103.658 | BW83: =AVERAGE(BR83:BV83) -> 70057.537 | BX83: 72917.25 | BY83: 80592.75 | BZ83: 95512.912 | CA83: 76755 | CB83: 86829.92 | CC83: =AVERAGE(BX83:CB83) -> 82521.566 | CD83: 66134.25 | CE83: 73095.75 | CF83: 94167.66 | CG83: 69615 | CH83: 85606.963 | CI83: =AVERAGE(CD83:CH83) -> 77723.925
B84: 7.10 | C84: ESCOBILLAS MOTOR DE ARRANQUE | D84: 44089.5 | E84: 48730.5 | F84: 94162.521 | G84: 46410 | H84: 85602.292 | I84: =AVERAGE(D84:E84) -> 46410 | J84: 47481 | K84: 52479 | L84: 97437.74 | M84: 49980 | N84: 88579.763 | O84: =AVERAGE(J84:N84) -> 67191.501 | P84: 64438.5 | Q84: 71221.5 | R84: 98256.544 | S84: 67830 | T84: 89324.131 | U84: =AVERAGE(P84:T84) -> 78214.135 | V84: 67830 | W84: 74970 | X84: 99894.153 | Y84: 71400 | Z84: 90812.867 | AA84: =AVERAGE(V84:Z84) -> 80981.404 | AB84: 40698 | AC84: 44982 | AD84: 102350.57 | AE84: 42840 | AF84: 93045.97 | AG84: =AVERAGE(AB84:AF84) -> 64783.307 | AH84: 50872.5 | AI84: 56227.5 | AJ84: 107738.3 | AK84: 53550 | AL84: 97943.91 | AM84: =AVERAGE(AH84:AL84) -> 73266.442 | AN84: 54264 | AO84: 59976 | AP84: 105625.78 | AQ84: 57120 | AR84: 96023.441 | AS84: =AVERAGE(AN84:AR84) -> 74601.845 | AT84: 55959.75 | AU84: 61850.25 | AV84: 108082.2 | AW84: 58905 | AX84: 98256.544 | AY84: =AVERAGE(AT84:AX84) -> 76610.749 | AZ84: 61047 | BA84: 67473 | BB84: 110538.61 | BC84: 64260 | BD84: 100489.65 | BE84: =AVERAGE(AZ84:BD84) -> 80761.652 | BF84: 71221.5 | BG84: 78718.5 | BH84: 114632.63 | BI84: 74970 | BJ84: 104211.49 | BK84: =AVERAGE(BF84:BJ84) -> 88750.824 | BL84: 72917.25 | BM84: 80592.75 | BN84: 110538.61 | BO84: 76755 | BP84: 100489.65 | BQ84: =AVERAGE(BL84:BP84) -> 88258.652 | BR84: 45785.25 | BS84: 50604.75 | BT84: 107263.39 | BU84: 48195 | BV84: 97512.176 | BW84: =AVERAGE(BR84:BV84) -> 69872.114 | BX84: 59351.25 | BY84: 65598.75 | BZ84: 116270.24 | CA84: 62475 | CB84: 105700.22 | CC84: =AVERAGE(BX84:CB84) -> 81879.093 | CD84: 54264 | CE84: 59976 | CF84: 114632.63 | CG84: 57120 | CH84: 104211.49 | CI84: =AVERAGE(CD84:CH84) -> 78040.824
B85: 7.11 | C85: FAROLA | D85: 210273 | E85: 232407 | F85: 244742.2 | G85: 221340 | H85: 222492.91 | I85: =AVERAGE(D85:E85) -> 221340 | J85: 227230.5 | K85: 251149.5 | L85: 253254.97 | M85: 239190 | N85: 230231.79 | O85: =AVERAGE(J85:N85) -> 240211.35 | P85: 305235 | Q85: 337365 | R85: 255383.16 | S85: 321300 | T85: 232166.51 | U85: =AVERAGE(P85:T85) -> 290289.93 | V85: 318801 | W85: 352359 | X85: 259639.55 | Y85: 335580 | Z85: 236035.95 | AA85: =AVERAGE(V85:Z85) -> 300483.1 | AB85: 193315.5 | AC85: 213664.5 | AD85: 266024.13 | AE85: 203490 | AF85: 241840.11 | AG85: =AVERAGE(AB85:AF85) -> 223666.85 | AH85: 242492.25 | AI85: 268017.75 | AJ85: 280027.64 | AK85: 255255 | AL85: 254570.58 | AM85: =AVERAGE(AH85:AL85) -> 260072.64 | AN85: 262841.25 | AO85: 290508.75 | AP85: 274536.9 | AQ85: 276675 | AR85: 249579 | AS85: =AVERAGE(AN85:AR85) -> 270828.18 | AT85: 269624.25 | AU85: 298005.75 | AV85: 280921.48 | AW85: 283815 | AX85: 255383.16 | AY85: =AVERAGE(AT85:AX85) -> 277549.93 | AZ85: 289973.25 | BA85: 320496.75 | BB85: 287306.06 | BC85: 305235 | BD85: 261187.32 | BE85: =AVERAGE(AZ85:BD85) -> 292839.68 | BF85: 335758.5 | BG85: 371101.5 | BH85: 297947.02 | BI85: 353430 | BJ85: 270860.93 | BK85: =AVERAGE(BF85:BJ85) -> 325819.59 | BL85: 345933 | BM85: 382347 | BN85: 287306.06 | BO85: 364140 | BP85: 261187.32 | BQ85: =AVERAGE(BL85:BP85) -> 328182.68 | BR85: 220447.5 | BS85: 243652.5 | BT85: 278793.28 | BU85: 232050 | BV85: 253448.44 | BW85: =AVERAGE(BR85:BV85) -> 245678.34 | BX85: 283190.25 | BY85: 312999.75 | BZ85: 302203.41 | CA85: 298095 | CB85: 274730.37 | CC85: =AVERAGE(BX85:CB85) -> 294243.76 | CD85: 256058.25 | CE85: 283011.75 | CF85: 297947.02 | CG85: 269535 | CH85: 270860.93 | CI85: =AVERAGE(CD85:CH85) -> 275482.59
B86: 7.12 | C86: FLASER | D86: 50872.5 | E86: 56227.5 | F86: 116285.04 | G86: 53550 | H86: 105713.67 | I86: =AVERAGE(D86:E86) -> 53550 | J86: 54264 | K86: 59976 | L86: 120329.74 | M86: 57120 | N86: 109390.67 | O86: =AVERAGE(J86:N86) -> 80216.082 | P86: 74613 | Q86: 82467 | R86: 121340.91 | S86: 78540 | T86: 110309.92 | U86: =AVERAGE(P86:T86) -> 93454.167 | V86: 78004.5 | W86: 86215.5 | X86: 123363.26 | Y86: 82110 | Z86: 112148.42 | AA86: =AVERAGE(V86:Z86) -> 96368.336 | AB86: 47481 | AC86: 52479 | AD86: 126396.78 | AE86: 49980 | AF86: 114906.17 | AG86: =AVERAGE(AB86:AF86) -> 78248.59 | AH86: 57655.5 | AI86: 63724.5 | AJ86: 133050.31 | AK86: 60690 | AL86: 120954.83 | AM86: =AVERAGE(AH86:AL86) -> 87215.028 | AN86: 64438.5 | AO86: 71221.5 | AP86: 130441.48 | AQ86: 67830 | AR86: 118583.16 | AS86: =AVERAGE(AN86:AR86) -> 90502.929 | AT86: 64438.5 | AU86: 71221.5 | AV86: 133475 | AW86: 67830 | AX86: 121340.91 | AY86: =AVERAGE(AT86:AX86) -> 91661.183 | AZ86: 69525.75 | BA86: 76844.25 | BB86: 136508.53 | BC86: 73185 | BD86: 124098.66 | BE86: =AVERAGE(AZ86:BD86) -> 96032.438 | BF86: 81396 | BG86: 89964 | BH86: 141564.4 | BI86: 85680 | BJ86: 128694.91 | BK86: =AVERAGE(BF86:BJ86) -> 105459.86 | BL86: 84787.5 | BM86: 93712.5 | BN86: 136508.53 | BO86: 89250 | BP86: 124098.66 | BQ86: =AVERAGE(BL86:BP86) -> 105671.44 | BR86: 54264 | BS86: 59976 | BT86: 132463.83 | BU86: 57120 | BV86: 120421.66 | BW86: =AVERAGE(BR86:BV86) -> 84849.099 | BX86: 67830 | BY86: 74970 | BZ86: 143586.75 | CA86: 71400 | CB86: 130533.41 | CC86: =AVERAGE(BX86:CB86) -> 97664.031 | CD86: 62742.75 | CE86: 69347.25 | CF86: 141564.4 | CG86: 66045 | CH86: 128694.91 | CI86: =AVERAGE(CD86:CH86) -> 93678.861
... B93: 7.19 | C93: SWICHE LUCES | D93: 94962 | E93: 104958 | F93: 464572.92 | G93: 99960 | H93: 422339.02 | I93: =AVERAGE(D93:E93) -> 99960 | J93: 101745 | K93: 112455 | L93: 480731.98 | M93: 107100 | N93: 437029.07 | O93: =AVERAGE(J93:N93) -> 247812.21 | P93: 137355.75 | Q93: 151814.25 | R93: 484771.74 | S93: 144585 | T93: 440701.59 | U93: =AVERAGE(P93:T93) -> 271845.67 | V93: 144138.75 | W93: 159311.25 | X93: 492851.27 | Y93: 151725 | Z93: 448046.61 | AA93: =AVERAGE(V93:Z93) -> 279214.58 | AB93: 88179 | AC93: 97461 | AD93: 504970.57 | AE93: 92820 | AF93: 459064.15 | AG93: =AVERAGE(AB93:AF93) -> 248498.94 | AH93: 108528 | AI93: 119952 | AJ93: 531552.22 | AK93: 114240 | AL93: 483229.29 | AM93: =AVERAGE(AH93:AL93) -> 271500.3 | AN93: 118702.5 | AO93: 131197.5 | AP93: 521129.63 | AQ93: 124950 | AR93: 473754.21 | AS93: =AVERAGE(AN93:AR93) -> 273946.77 | AT93: 122094 | AU93: 134946 | AV93: 533248.92 | AW93: 128520 | AX93: 484771.74 | AY93: =AVERAGE(AT93:AX93) -> 280716.13 | AZ93: 130572.75 | BA93: 144317.25 | BB93: 545368.21 | BC93: 137445 | BD93: 495789.28 | BE93: =AVERAGE(AZ93:BD93) -> 290698.5 | BF93: 152617.5 | BG93: 168682.5 | BH93: 565567.04 | BI93: 160650 | BJ93: 514151.85 | BK93: =AVERAGE(BF93:BJ93) -> 312333.78 | BL93: 156009 | BM93: 172431 | BN93: 545368.21 | BO93: 164220 | BP93: 495789.28 | BQ93: =AVERAGE(BL93:BP93) -> 306763.5 | BR93: 100049.25 | BS93: 110580.75 | BT93: 529209.15 | BU93: 105315 | BV93: 481099.23 | BW93: =AVERAGE(BR93:BV93) -> 265250.68 | BX93: 128877 | BY93: 142443 | BZ93: 573646.56 | CA93: 135660 | CB93: 521496.88 | CC93: =AVERAGE(BX93:CB93) -> 300424.69 | CD93: 115311 | CE93: 127449 | CF93: 565567.04 | CG93: 121380 | CH93: 514151.85 | CI93: =AVERAGE(CD93:CH93) -> 288771.78
B94: 8 | C94: ACCESORIOS | D94: 0 | E94: 2444022 | F94: 0 | H94: 0 | I94: 0 | J94: 2387616 | K94: 2638944 | L94: 0 | N94: 0 | Q94: 3544206.8 | R94: 0 | T94: 0 | W94: 3714763.5 | X94: 0 | Z94: 0 | AB94: 2034900 | AC94: 2249100 | AD94: 0 | AF94: 0 | AH94: 2541929.2 | AI94: 2809500.8 | AJ94: 0 | AL94: 0 | AN94: 2765768.2 | AO94: 3056901.8 | AP94: 0 | AR94: 0 | AT94: 2830206.8 | AU94: 3128123.2 | AV94: 0 | AX94: 0 | AZ94: 3050654.2 | BA94: 3371775.8 | BB94: 0 | BD94: 0 | BE94: 0 | BF94: 3537334.5 | BG94: 3909685.5 | BH94: 0 | BJ94: 0 | BL94: 3649254 | BM94: 4033386 | BN94: 0 | BP94: 0 | BR94: 2323177.5 | BS94: 2567722.5 | BT94: 0 | BV94: 0 | BX94: 2984520 | BY94: 3298680 | BZ94: 0 | CB94: 0 | CD94: 2701329.8 | CE94: 2985680.2 | CF94: 0 | CH94: 0
B95: 8.1 | C95: ANILLO EXOSTO | D95: 23740.5 | E95: 26239.5 | F95: 73631.25 | G95: 24990 | H95: 66937.5 | I95: =AVERAGE(D95:E95) -> 24990 | J95: 25436.25 | K95: 28113.75 | L95: 73631.25 | M95: 26775 | N95: 66937.5 | O95: =AVERAGE(J95:N95) -> 44178.75 | P95: 33915 | Q95: 37485 | R95: 73631.25 | S95: 35700 | T95: 66937.5 | U95: =AVERAGE(P95:T95) -> 49533.75 | V95: 35610.75 | W95: 39359.25 | X95: 73631.25 | Y95: 37485 | Z95: 66937.5 | AA95: =AVERAGE(V95:Z95) -> 50604.75 | AB95: 22044.75 | AC95: 24365.25 | AD95: 73631.25 | AE95: 23205 | AF95: 66937.5 | AG95: =AVERAGE(AB95:AF95) -> 42036.75 | AH95: 27132 | AI95: 29988 | AJ95: 75103.875 | AK95: 28560 | AL95: 68276.25 | AM95: =AVERAGE(AH95:AL95) -> 45812.025 | AN95: 30523.5 | AO95: 33736.5 | AP95: 73631.25 | AQ95: 32130 | AR95: 66937.5 | AS95: =AVERAGE(AN95:AR95) -> 47391.75 | AT95: 30523.5 | AU95: 33736.5 | AV95: 73631.25 | AW95: 32130 | AX95: 66937.5 | AY95: =AVERAGE(AT95:AX95) -> 47391.75 | AZ95: 32219.25 | BA95: 35610.75 | BB95: 73631.25 | BC95: 33915 | BD95: 66937.5 | BE95: =AVERAGE(AZ95:BD95) -> 48462.75 | BF95: 37306.5 | BG95: 41233.5 | BH95: 89993.75 | BI95: 39270 | BJ95: 81812.5 | BK95: =AVERAGE(BF95:BJ95) -> 57923.25 | BL95: 39002.25 | BM95: 43107.75 | BN95: 89993.75 | BO95: 41055 | BP95: 81812.5 | BQ95: =AVERAGE(BL95:BP95) -> 58994.25 | BR95: 25436.25 | BS95: 28113.75 | BT95: 73631.25 | BU95: 26775 | BV95: 66937.5 | BW95: =AVERAGE(BR95:BV95) -> 44178.75 | BX95: 32219.25 | BY95: 35610.75 | BZ95: 73631.25 | CA95: 33915 | CB95: 66937.5 | CC95: =AVERAGE(BX95:CB95) -> 48462.75 | CD95: 28827.75 | CE95: 31862.25 | CF95: 73631.25 | CG95: 30345 | CH95: 66937.5 | CI95: =AVERAGE(CD95:CH95) -> 46320.75
B96: 8.2 | C96: CALAPIE | D96: 50872.5 | E96: 56227.5 | F96: 87568.309 | G96: 53550 | H96: 79607.553 | I96: =AVERAGE(D96:E96) -> 53550 | J96: 54264 | K96: 59976 | L96: 90614.163 | M96: 57120 | N96: 82376.512 | O96: =AVERAGE(J96:N96) -> 68870.135 | P96: 74613 | Q96: 82467 | R96: 91375.627 | S96: 78540 | T96: 83068.751 | U96: =AVERAGE(P96:T96) -> 82012.876 | V96: 78004.5 | W96: 86215.5 | X96: 92898.554 | Y96: 82110 | Z96: 84453.231 | AA96: =AVERAGE(V96:Z96) -> 84736.357 | AB96: 47481 | AC96: 52479 | AD96: 95182.944 | AE96: 49980 | AF96: 86529.949 | AG96: =AVERAGE(AB96:AF96) -> 66330.579 | AH96: 57655.5 | AI96: 63724.5 | AJ96: 100193.37 | AK96: 60690 | AL96: 91084.886 | AM96: =AVERAGE(AH96:AL96) -> 74669.652 | AN96: 64438.5 | AO96: 71221.5 | AP96: 98228.799 | AQ96: 67830 | AR96: 89298.908 | AS96: =AVERAGE(AN96:AR96) -> 78203.541 | AT96: 64438.5 | AU96: 71221.5 | AV96: 100513.19 | AW96: 67830 | AX96: 91375.627 | AY96: =AVERAGE(AT96:AX96) -> 79075.763 | AZ96: 69525.75 | BA96: 76844.25 | BB96: 102797.58 | BC96: 73185 | BD96: 93452.345 | BE96: =AVERAGE(AZ96:BD96) -> 83160.985 | BF96: 81396 | BG96: 89964 | BH96: 106604.9 | BI96: 85680 | BJ96: 96913.543 | BK96: =AVERAGE(BF96:BJ96) -> 92111.688 | BL96: 84787.5 | BM96: 93712.5 | BN96: 102797.58 | BO96: 89250 | BP96: 93452.345 | BQ96: =AVERAGE(BL96:BP96) -> 92799.985 | BR96: 54264 | BS96: 59976 | BT96: 99751.726 | BU96: 57120 | BV96: 90683.387 | BW96: =AVERAGE(BR96:BV96) -> 72359.023 | BX96: 67830 | BY96: 74970 | BZ96: 108127.82 | CA96: 71400 | CB96: 98298.022 | CC96: =AVERAGE(BX96:CB96) -> 84125.169 | CD96: 62742.75 | CE96: 69347.25 | CF96: 106604.9 | CG96: 66045 | CH96: 96913.543 | CI96: =AVERAGE(CD96:CH96) -> 80330.688
B97: 8.3 | C97: ESPEJOS (JUEGO) | D97: 88179 | E97: 97461 | F97: 113070.66 | G97: 92820 | H97: 102791.51 | I97: =AVERAGE(D97:E97) -> 92820 | J97: 94962 | K97: 104958 | L97: 117003.55 | M97: 99960 | N97: 106366.86 | O97: =AVERAGE(J97:N97) -> 104650.08 | P97: 127181.25 | Q97: 140568.75 | R97: 117986.77 | S97: 133875 | T97: 107260.7 | U97: =AVERAGE(P97:T97) -> 125374.5 | V97: 133964.25 | W97: 148065.75 | X97: 119953.22 | Y97: 141015 | Z97: 109048.38 | AA97: =AVERAGE(V97:Z97) -> 130409.32 | AB97: 81396 | AC97: 89964 | AD97: 122902.89 | AE97: 85680 | AF97: 111729.9 | AG97: =AVERAGE(AB97:AF97) -> 98334.558 | AH97: 101745 | AI97: 112455 | AJ97: 129372.5 | AK97: 107100 | AL97: 117611.36 | AM97: =AVERAGE(AH97:AL97) -> 113656.77 | AN97: 110223.75 | AO97: 121826.25 | AP97: 126835.78 | AQ97: 116025 | AR97: 115305.26 | AS97: =AVERAGE(AN97:AR97) -> 118043.21 | AT97: 113615.25 | AU97: 125574.75 | AV97: 129785.45 | AW97: 119595 | AX97: 117986.77 | AY97: =AVERAGE(AT97:AX97) -> 121311.45 | AZ97: 122094 | BA97: 134946 | BB97: 132735.12 | BC97: 128520 | BD97: 120668.29 | BE97: =AVERAGE(AZ97:BD97) -> 127792.68 | BF97: 140747.25 | BG97: 155562.75 | BH97: 137651.24 | BI97: 148155 | BJ97: 125137.49 | BK97: =AVERAGE(BF97:BJ97) -> 141450.74 | BL97: 145834.5 | BM97: 161185.5 | BN97: 132735.12 | BO97: 153510 | BP97: 120668.29 | BQ97: =AVERAGE(BL97:BP97) -> 142786.68 | BR97: 93266.25 | BS97: 103083.75 | BT97: 128802.23 | BU97: 98175 | BV97: 117092.93 | BW97: =AVERAGE(BR97:BV97) -> 108084.03 | BX97: 118702.5 | BY97: 131197.5 | BZ97: 139617.68 | CA97: 124950 | CB97: 126925.17 | CC97: =AVERAGE(BX97:CB97) -> 128278.57 | CD97: 108528 | CE97: 119952 | CF97: 137651.24 | CG97: 114240 | CH97: 125137.49 | CI97: =AVERAGE(CD97:CH97) -> 121101.74
B98: 8.4 | C98: LLANTA DELANTERA | D98: 356107.5 | E98: 393592.5 | F98: 354427.12 | G98: 374850 | H98: 322206.47 | I98: =AVERAGE(D98:E98) -> 374850 | J98: 384935.25 | K98: 425454.75 | L98: 366755.02 | M98: 405195 | N98: 333413.65 | O98: =AVERAGE(J98:N98) -> 383150.73 | P98: 515508 | Q98: 569772 | R98: 369836.99 | S98: 542640 | T98: 336215.45 | U98: =AVERAGE(P98:T98) -> 466794.49 | V98: 540944.25 | W98: 597885.75 | X98: 376000.94 | Y98: 569415 | Z98: 341819.04 | AA98: =AVERAGE(V98:Z98) -> 485213 | AB98: 327279.75 | AC98: 361730.25 | AD98: 385246.87 | AE98: 344505 | AF98: 350224.42 | AG98: =AVERAGE(AB98:AF98) -> 353797.26 | AH98: 410371.5 | AI98: 453568.5 | AJ98: 405526.26 | AK98: 431970 | AL98: 368660.24 | AM98: =AVERAGE(AH98:AL98) -> 414019.3 | AN98: 444286.5 | AO98: 491053.5 | AP98: 397574.77 | AQ98: 467670 | AR98: 361431.6 | AS98: =AVERAGE(AN98:AR98) -> 432403.27 | AT98: 456156.75 | AU98: 504173.25 | AV98: 406820.69 | AW98: 480165 | AX98: 369836.99 | AY98: =AVERAGE(AT98:AX98) -> 443430.54 | AZ98: 491767.5 | BA98: 543532.5 | BB98: 416066.61 | BC98: 517650 | BD98: 378242.38 | BE98: =AVERAGE(AZ98:BD98) -> 469451.8 | BF98: 569772 | BG98: 629748 | BH98: 431476.49 | BI98: 599760 | BJ98: 392251.35 | BK98: =AVERAGE(BF98:BJ98) -> 524601.57 | BL98: 586729.5 | BM98: 648490.5 | BN98: 416066.61 | BO98: 617610 | BP98: 378242.38 | BQ98: =AVERAGE(BL98:BP98) -> 529427.8 | BR98: 373065 | BS98: 412335 | BT98: 403738.72 | BU98: 392700 | BV98: 367035.2 | BW98: =AVERAGE(BR98:BV98) -> 389774.78 | BX98: 481593 | BY98: 532287 | BZ98: 437640.44 | CA98: 506940 | CB98: 397854.94 | CC98: =AVERAGE(BX98:CB98) -> 471263.08 | CD98: 434112 | CE98: 479808 | CF98: 431476.49 | CG98: 456960 | CH98: 392251.35 | CI98: =AVERAGE(CD98:CH98) -> 438921.57
B99: 8.5 | C99: LLANTA TRASERA | D99: 457852.5 | E99: 506047.5 | F99: 413816.39 | G99: 481950 | H99: 376196.72 | I99: =AVERAGE(D99:E99) -> 481950 | J99: 495159 | K99: 547281 | L99: 428210.01 | M99: 521220 | N99: 389281.82 | O99: =AVERAGE(J99:N99) -> 476230.37 | P99: 664734 | Q99: 734706 | R99: 431808.41 | S99: 699720 | T99: 392553.1 | U99: =AVERAGE(P99:T99) -> 584704.3 | V99: 695257.5 | W99: 768442.5 | X99: 439005.22 | Y99: 731850 | Z99: 399095.65 | AA99: =AVERAGE(V99:Z99) -> 606730.17 | AB99: 420546 | AC99: 464814 | AD99: 449800.43 | AE99: 442680 | AF99: 408909.48 | AG99: =AVERAGE(AB99:AF99) -> 437349.98 | AH99: 525682.5 | AI99: 581017.5 | AJ99: 473477.92 | AK99: 553350 | AL99: 430434.47 | AM99: =AVERAGE(AH99:AL99) -> 512792.48 | AN99: 573163.5 | AO99: 633496.5 | AP99: 464194.04 | AQ99: 603330 | AR99: 421994.58 | AS99: =AVERAGE(AN99:AR99) -> 539235.72 | AT99: 586729.5 | AU99: 648490.5 | AV99: 474989.25 | AW99: 617610 | AX99: 431808.41 | AY99: =AVERAGE(AT99:AX99) -> 551925.53 | AZ99: 632514.75 | BA99: 699095.25 | BB99: 485784.46 | BC99: 665805 | BD99: 441622.24 | BE99: =AVERAGE(AZ99:BD99) -> 584964.34 | BF99: 732564 | BG99: 809676 | BH99: 503776.48 | BI99: 771120 | BJ99: 457978.62 | BK99: =AVERAGE(BF99:BJ99) -> 655023.02 | BL99: 756304.5 | BM99: 835915.5 | BN99: 485784.46 | BO99: 796110 | BP99: 441622.24 | BQ99: =AVERAGE(BL99:BP99) -> 663147.34 | BR99: 481593 | BS99: 532287 | BT99: 471390.85 | BU99: 506940 | BV99: 428537.13 | BW99: =AVERAGE(BR99:BV99) -> 484149.6 | BX99: 617253 | BY99: 682227 | BZ99: 510973.28 | CA99: 649740 | CB99: 464521.17 | CC99: =AVERAGE(BX99:CB99) -> 584942.89 | CD99: 559597.5 | CE99: 618502.5 | CF99: 503776.48 | CG99: 589050 | CH99: 457978.62 | CI99: =AVERAGE(CD99:CH99) -> 545781.02
B100: 8.6 | C100: NEUMATICO DELANTERO | D100: 74613 | E100: 82467 | F100: 70728.249 | G100: 78540 | H100: 64298.409 | I100: =AVERAGE(D100:E100) -> 78540 | J100: 81396 | K100: 89964 | L100: 73188.362 | M100: 85680 | N100: 66534.875 | O100: =AVERAGE(J100:N100) -> 79352.647 | P100: 108528 | Q100: 119952 | R100: 73803.391 | S100: 114240 | T100: 67093.992 | U100: =AVERAGE(P100:T100) -> 96723.476 | V100: 113615.25 | W100: 125574.75 | X100: 75033.447 | Y100: 119595 | Z100: 68212.225 | AA100: =AVERAGE(V100:Z100) -> 100406.13 | AB100: 67830 | AC100: 74970 | AD100: 76878.532 | AE100: 71400 | AF100: 69889.574 | AG100: =AVERAGE(AB100:AF100) -> 72193.621 | AH100: 86483.25 | AI100: 95586.75 | AJ100: 80925.418 | AK100: 91035 | AL100: 73568.562 | AM100: =AVERAGE(AH100:AL100) -> 85519.796 | AN100: 93266.25 | AO100: 103083.75 | AP100: 79338.645 | AQ100: 98175 | AR100: 72126.041 | AS100: =AVERAGE(AN100:AR100) -> 89197.937 | AT100: 94962 | AU100: 104958 | AV100: 81183.73 | AW100: 99960 | AX100: 73803.391 | AY100: =AVERAGE(AT100:AX100) -> 90973.424 | AZ100: 103440.75 | BA100: 114329.25 | BB100: 83028.814 | BC100: 108885 | BD100: 75480.74 | BE100: =AVERAGE(AZ100:BD100) -> 97032.911 | BF100: 118702.5 | BG100: 131197.5 | BH100: 86103.956 | BI100: 124950 | BJ100: 78276.323 | BK100: =AVERAGE(BF100:BJ100) -> 107846.06 | BL100: 123789.75 | BM100: 136820.25 | BN100: 83028.814 | BO100: 130305 | BP100: 75480.74 | BQ100: =AVERAGE(BL100:BP100) -> 109884.91 | BR100: 78004.5 | BS100: 86215.5 | BT100: 80568.701 | BU100: 82110 | BV100: 73244.274 | BW100: =AVERAGE(BR100:BV100) -> 80028.595 | BX100: 100049.25 | BY100: 110580.75 | BZ100: 87334.012 | CA100: 105315 | CB100: 79394.557 | CC100: =AVERAGE(BX100:CB100) -> 96534.714 | CD100: 91570.5 | CE100: 101209.5 | CF100: 86103.956 | CG100: 96390 | CH100: 78276.323 | CI100: =AVERAGE(CD100:CH100) -> 90710.056
B101: 8.7 | C101: NEUMATICO TRASERO | D101: 81396 | E101: 89964 | F101: 75218.932 | G101: 85680 | H101: 68380.847 | I101: =AVERAGE(D101:E101) -> 85680 | J101: 88179 | K101: 97461 | L101: 77835.243 | M101: 92820 | N101: 70759.311 | O101: =AVERAGE(J101:N101) -> 85410.911 | P101: 118702.5 | Q101: 131197.5 | R101: 78489.32 | S101: 124950 | T101: 71353.927 | U101: =AVERAGE(P101:T101) -> 104938.65 | V101: 123789.75 | W101: 136820.25 | X101: 79797.476 | Y101: 130305 | Z101: 72543.16 | AA101: =AVERAGE(V101:Z101) -> 108651.13 | AB101: 74613 | AC101: 82467 | AD101: 81759.709 | AE101: 78540 | AF101: 74327.008 | AG101: =AVERAGE(AB101:AF101) -> 78341.343 | AH101: 93266.25 | AI101: 103083.75 | AJ101: 86063.54 | AK101: 98175 | AL101: 78239.581 | AM101: =AVERAGE(AH101:AL101) -> 91765.624 | AN101: 101745 | AO101: 112455 | AP101: 84376.019 | AQ101: 107100 | AR101: 76705.472 | AS101: =AVERAGE(AN101:AR101) -> 96476.298 | AT101: 103440.75 | AU101: 114329.25 | AV101: 86338.252 | AW101: 108885 | AX101: 78489.32 | AY101: =AVERAGE(AT101:AX101) -> 98296.514 | AZ101: 111919.5 | BA101: 123700.5 | BB101: 88300.485 | BC101: 117810 | BD101: 80273.168 | BE101: =AVERAGE(AZ101:BD101) -> 104400.73 | BF101: 130572.75 | BG101: 144317.25 | BH101: 91570.874 | BI101: 137445 | BJ101: 83246.249 | BK101: =AVERAGE(BF101:BJ101) -> 117430.42 | BL101: 133964.25 | BM101: 148065.75 | BN101: 88300.485 | BO101: 141015 | BP101: 80273.168 | BQ101: =AVERAGE(BL101:BP101) -> 118323.73 | BR101: 84787.5 | BS101: 93712.5 | BT101: 85684.175 | BU101: 89250 | BV101: 77894.704 | BW101: =AVERAGE(BR101:BV101) -> 86265.776 | BX101: 110223.75 | BY101: 121826.25 | BZ101: 92879.029 | CA101: 116025 | CB101: 84435.481 | CC101: =AVERAGE(BX101:CB101) -> 105077.9 | CD101: 100049.25 | CE101: 110580.75 | CF101: 91570.874 | CG101: 105315 | CH101: 83246.249 | CI101: =AVERAGE(CD101:CH101) -> 98152.424
B102: 8.8 | C102: RIN DELANTERO | D102: 322192.5 | E102: 356107.5 | F102: 266072.94 | G102: 339150 | H102: 241884.49 | I102: =AVERAGE(D102:E102) -> 339150 | J102: 347628.75 | K102: 384221.25 | L102: 275327.65 | M102: 365925 | N102: 250297.86 | O102: =AVERAGE(J102:N102) -> 324680.1 | P102: 468027 | Q102: 517293 | R102: 277641.33 | S102: 492660 | T102: 252401.21 | U102: =AVERAGE(P102:T102) -> 401604.51 | V102: 490071.75 | W102: 541658.25 | X102: 282268.68 | Y102: 515865 | Z102: 256607.89 | AA102: =AVERAGE(V102:Z102) -> 417294.32 | AB102: 296756.25 | AC102: 327993.75 | AD102: 289209.72 | AE102: 312375 | AF102: 262917.92 | AG102: =AVERAGE(AB102:AF102) -> 297850.53 | AH102: 369673.5 | AI102: 408586.5 | AJ102: 304433.71 | AK102: 389130 | AL102: 276757.92 | AM102: =AVERAGE(AH102:AL102) -> 349716.33 | AN102: 403588.5 | AO102: 446071.5 | AP102: 298464.43 | AQ102: 424830 | AR102: 271331.3 | AS102: =AVERAGE(AN102:AR102) -> 368857.14 | AT102: 412067.25 | AU102: 455442.75 | AV102: 305405.46 | AW102: 433755 | AX102: 277641.33 | AY102: =AVERAGE(AT102:AX102) -> 376862.36 | AZ102: 444286.5 | BA102: 491053.5 | BB102: 312346.49 | BC102: 467670 | BD102: 283951.36 | BE102: =AVERAGE(AZ102:BD102) -> 399861.57 | BF102: 515508 | BG102: 569772 | BH102: 323914.88 | BI102: 542640 | BJ102: 294468.07 | BK102: =AVERAGE(BF102:BJ102) -> 449260.59 | BL102: 532465.5 | BM102: 588514.5 | BN102: 312346.49 | BO102: 560490 | BP102: 283951.36 | BQ102: =AVERAGE(BL102:BP102) -> 455553.57 | BR102: 339150 | BS102: 374850 | BT102: 303091.78 | BU102: 357000 | BV102: 275537.98 | BW102: =AVERAGE(BR102:BV102) -> 329925.95 | BX102: 434112 | BY102: 479808 | BZ102: 328542.24 | CA102: 456960 | CB102: 298674.76 | CC102: =AVERAGE(BX102:CB102) -> 399619.4 | CD102: 393414 | CE102: 434826 | CF102: 323914.88 | CG102: 414120 | CH102: 294468.07 | CI102: =AVERAGE(CD102:CH102) -> 372148.59
B103: 8.9 | C103: RIN TRASERO | D103: 356107.5 | E103: 393592.5 | F103: 288526.35 | G103: 374850 | H103: 262296.68 | I103: =AVERAGE(D103:E103) -> 374850 | J103: 384935.25 | K103: 425454.75 | L103: 298562.05 | M103: 405195 | N103: 271420.05 | O103: =AVERAGE(J103:N103) -> 357113.42 | P103: 515508 | Q103: 569772 | R103: 301070.97 | S103: 542640 | T103: 273700.89 | U103: =AVERAGE(P103:T103) -> 440538.37 | V103: 540944.25 | W103: 597885.75 | X103: 306088.82 | Y103: 569415 | Z103: 278262.57 | AA103: =AVERAGE(V103:Z103) -> 458519.28 | AB103: 327279.75 | AC103: 361730.25 | AD103: 313615.6 | AE103: 344505 | AF103: 285105.09 | AG103: =AVERAGE(AB103:AF103) -> 326447.14 | AH103: 410371.5 | AI103: 453568.5 | AJ103: 330124.32 | AK103: 431970 | AL103: 300113.02 | AM103: =AVERAGE(AH103:AL103) -> 385229.47 | AN103: 444286.5 | AO103: 491053.5 | AP103: 323651.3 | AQ103: 467670 | AR103: 294228.45 | AS103: =AVERAGE(AN103:AR103) -> 404177.95 | AT103: 456156.75 | AU103: 504173.25 | AV103: 331178.07 | AW103: 480165 | AX103: 301070.97 | AY103: =AVERAGE(AT103:AX103) -> 414548.81 | AZ103: 491767.5 | BA103: 543532.5 | BB103: 338704.85 | BC103: 517650 | BD103: 307913.5 | BE103: =AVERAGE(AZ103:BD103) -> 439913.67 | BF103: 569772 | BG103: 629748 | BH103: 351249.47 | BI103: 599760 | BJ103: 319317.7 | BK103: =AVERAGE(BF103:BJ103) -> 493969.43 | BL103: 586729.5 | BM103: 648490.5 | BN103: 338704.85 | BO103: 617610 | BP103: 307913.5 | BQ103: =AVERAGE(BL103:BP103) -> 499889.67 | BR103: 373065 | BS103: 412335 | BT103: 328669.15 | BU103: 392700 | BV103: 298790.13 | BW103: =AVERAGE(BR103:BV103) -> 361111.86 | BX103: 481593 | BY103: 532287 | BZ103: 356267.32 | CA103: 506940 | CB103: 323879.38 | CC103: =AVERAGE(BX103:CB103) -> 440193.34 | CD103: 434112 | CE103: 479808 | CF103: 351249.47 | CG103: 456960 | CH103: 319317.7 | CI103: =AVERAGE(CD103:CH103) -> 408289.43
B104: 8.10 | C104: SOPORTE GATO | D104: 108528 | E104: 119952 | F104: 409062.5 | G104: 114240 | H104: 371875 | I104: =AVERAGE(D104:E104) -> 114240 | J104: 117006.75 | K104: 129323.25 | L104: 409062.5 | M104: 123165 | N104: 371875 | O104: =AVERAGE(J104:N104) -> 230086.5 | P104: 157704.75 | Q104: 174305.25 | R104: 409062.5 | S104: 166005 | T104: 371875 | U104: =AVERAGE(P104:T104) -> 255790.5 | V104: 164487.75 | W104: 181802.25 | X104: 409062.5 | Y104: 173145 | Z104: 371875 | AA104: =AVERAGE(V104:Z104) -> 260074.5 | AB104: 100049.25 | AC104: 110580.75 | AD104: 409062.5 | AE104: 105315 | AF104: 371875 | AG104: =AVERAGE(AB104:AF104) -> 219376.5 | AH104: 125485.5 | AI104: 138694.5 | AJ104: 417243.75 | AK104: 132090 | AL104: 379312.5 | AM104: =AVERAGE(AH104:AL104) -> 238565.25 | AN104: 135660 | AO104: 149940 | AP104: 409062.5 | AQ104: 142800 | AR104: 371875 | AS104: =AVERAGE(AN104:AR104) -> 241867.5 | AT104: 139051.5 | AU104: 153688.5 | AV104: 409062.5 | AW104: 146370 | AX104: 371875 | AY104: =AVERAGE(AT104:AX104) -> 244009.5 | AZ104: 149226 | BA104: 164934 | BB104: 409062.5 | BC104: 157080 | BD104: 371875 | BE104: =AVERAGE(AZ104:BD104) -> 250435.5 | BF104: 172966.5 | BG104: 191173.5 | BH104: 572687.5 | BI104: 182070 | BJ104: 520625 | BK104: =AVERAGE(BF104:BJ104) -> 327904.5 | BL104: 179749.5 | BM104: 198670.5 | BN104: 409062.5 | BO104: 189210 | BP104: 371875 | BQ104: =AVERAGE(BL104:BP104) -> 269713.5 | BR104: 113615.25 | BS104: 125574.75 | BT104: 409062.5 | BU104: 119595 | BV104: 371875 | BW104: =AVERAGE(BR104:BV104) -> 227944.5 | BX104: 145834.5 | BY104: 161185.5 | BZ104: 409062.5 | CA104: 153510 | CB104: 371875 | CC104: =AVERAGE(BX104:CB104) -> 248293.5 | CD104: 132268.5 | CE104: 146191.5 | CF104: 409062.5 | CG104: 139230 | CH104: 371875 | CI104: =AVERAGE(CD104:CH104) -> 239725.5
B105: 8.11 | C105: SOPORTE PATA | D105: 67830 | E105: 74970 | F105: 474512.5 | G105: 71400 | H105: 431375 | I105: =AVERAGE(D105:E105) -> 71400 | J105: 72917.25 | K105: 80592.75 | L105: 474512.5 | M105: 76755 | N105: 431375 | O105: =AVERAGE(J105:N105) -> 227230.5 | P105: 98353.5 | Q105: 108706.5 | R105: 474512.5 | S105: 103530 | T105: 431375 | U105: =AVERAGE(P105:T105) -> 243295.5 | V105: 103440.75 | W105: 114329.25 | X105: 474512.5 | Y105: 108885 | Z105: 431375 | AA105: =AVERAGE(V105:Z105) -> 246508.5 | AB105: 62742.75 | AC105: 69347.25 | AD105: 474512.5 | AE105: 66045 | AF105: 431375 | AG105: =AVERAGE(AB105:AF105) -> 220804.5 | AH105: 78004.5 | AI105: 86215.5 | AJ105: 484002.75 | AK105: 82110 | AL105: 440002.5 | AM105: =AVERAGE(AH105:AL105) -> 234067.05 | AN105: 84787.5 | AO105: 93712.5 | AP105: 474512.5 | AQ105: 89250 | AR105: 431375 | AS105: =AVERAGE(AN105:AR105) -> 234727.5 | AT105: 86483.25 | AU105: 95586.75 | AV105: 474512.5 | AW105: 91035 | AX105: 431375 | AY105: =AVERAGE(AT105:AX105) -> 235798.5 | AZ105: 93266.25 | BA105: 103083.75 | BB105: 474512.5 | BC105: 98175 | BD105: 431375 | BE105: =AVERAGE(AZ105:BD105) -> 240082.5 | BF105: 108528 | BG105: 119952 | BH105: 409062.5 | BI105: 114240 | BJ105: 371875 | BK105: =AVERAGE(BF105:BJ105) -> 224731.5 | BL105: 111919.5 | BM105: 123700.5 | BN105: 474512.5 | BO105: 117810 | BP105: 431375 | BQ105: =AVERAGE(BL105:BP105) -> 251863.5 | BR105: 71221.5 | BS105: 78718.5 | BT105: 474512.5 | BU105: 74970 | BV105: 431375 | BW105: =AVERAGE(BR105:BV105) -> 226159.5 | BX105: 91570.5 | BY105: 101209.5 | BZ105: 474512.5 | CA105: 96390 | CB105: 431375 | CC105: =AVERAGE(BX105:CB105) -> 239011.5 | CD105: 83091.75 | CE105: 91838.25 | CF105: 474512.5 | CG105: 87465 | CH105: 431375 | CI105: =AVERAGE(CD105:CH105) -> 233656.5
B106: 8.12 | C106: TAPA DE COMBUSTIBLE | D106: 94962 | E106: 104958 | F106: 323707.3 | G106: 99960 | H106: 294279.37 | I106: =AVERAGE(D106:E106) -> 99960 | J106: 101745 | K106: 112455 | L106: 334966.69 | M106: 107100 | N106: 304515.17 | O106: =AVERAGE(J106:N106) -> 192156.37 | P106: 137355.75 | Q106: 151814.25 | R106: 337781.53 | S106: 144585 | T106: 307074.12 | U106: =AVERAGE(P106:T106) -> 215722.13 | V106: 144138.75 | W106: 159311.25 | X106: 343411.23 | Y106: 151725 | Z106: 312192.02 | AA106: =AVERAGE(V106:Z106) -> 222155.65 | AB106: 88179 | AC106: 97461 | AD106: 351855.76 | AE106: 92820 | AF106: 319868.88 | AG106: =AVERAGE(AB106:AF106) -> 190036.93 | AH106: 108528 | AI106: 119952 | AJ106: 370377.45 | AK106: 114240 | AL106: 336706.77 | AM106: =AVERAGE(AH106:AL106) -> 209960.85 | AN106: 118702.5 | AO106: 131197.5 | AP106: 363115.15 | AQ106: 124950 | AR106: 330104.68 | AS106: =AVERAGE(AN106:AR106) -> 213613.97 | AT106: 122094 | AU106: 134946 | AV106: 371559.69 | AW106: 128520 | AX106: 337781.53 | AY106: =AVERAGE(AT106:AX106) -> 218980.24 | AZ106: 130572.75 | BA106: 144317.25 | BB106: 380004.22 | BC106: 137445 | BD106: 345458.39 | BE106: =AVERAGE(AZ106:BD106) -> 227559.52 | BF106: 152617.5 | BG106: 168682.5 | BH106: 394078.46 | BI106: 160650 | BJ106: 358253.14 | BK106: =AVERAGE(BF106:BJ106) -> 246856.32 | BL106: 156009 | BM106: 172431 | BN106: 380004.22 | BO106: 164220 | BP106: 345458.39 | BQ106: =AVERAGE(BL106:BP106) -> 243624.52 | BR106: 100049.25 | BS106: 110580.75 | BT106: 368744.84 | BU106: 105315 | BV106: 335222.58 | BW106: =AVERAGE(BR106:BV106) -> 203982.48 | BX106: 128877 | BY106: 142443 | BZ106: 399708.15 | CA106: 135660 | CB106: 363371.04 | CC106: =AVERAGE(BX106:CB106) -> 234011.84 | CD106: 115311 | CE106: 127449 | CF106: 394078.46 | CG106: 121380 | CH106: 358253.14 | CI106: =AVERAGE(CD106:CH106) -> 223294.32
B107: 8.13 | C107: TAPA LATERAL L Y/O R | D107: 128877 | E107: 142443 | F107: 277004.2 | G107: 135660 | H107: 251822 | I107: =AVERAGE(D107:E107) -> 135660 | J107: 139051.5 | K107: 153688.5 | L107: 286639.13 | M107: 146370 | N107: 260581.03 | O107: =AVERAGE(J107:N107) -> 197266.03 | P107: 186532.5 | Q107: 206167.5 | S107: 196350 | T107: 262770.79 | U107: =AVERAGE(P107:T107) -> 212955.2 | V107: 196707 | W107: 217413 | X107: 293865.33 | Y107: 207060 | Z107: 267150.3 | AA107: =AVERAGE(V107:Z107) -> 236439.13 | AB107: 118702.5 | AC107: 131197.5 | AD107: 301091.53 | AE107: 124950 | AF107: 273719.57 | AG107: =AVERAGE(AB107:AF107) -> 189932.22 | AH107: 147530.25 | AI107: 163059.75 | AJ107: 316940.98 | AK107: 155295 | AL107: 288128.17 | AM107: =AVERAGE(AH107:AL107) -> 214190.83 | AN107: 161096.25 | AO107: 178053.75 | AP107: 310726.46 | AQ107: 169575 | AR107: 282478.6 | AS107: =AVERAGE(AN107:AR107) -> 220386.01 | AT107: 164487.75 | AU107: 181802.25 | AV107: 317952.65 | AW107: 173145 | AX107: 289047.87 | AY107: =AVERAGE(AT107:AX107) -> 225287.1 | AZ107: 178053.75 | BA107: 196796.25 | BB107: 325178.85 | BC107: 187425 | BD107: 295617.14 | BE107: =AVERAGE(AZ107:BD107) -> 236614.2 | BF107: 206881.5 | BG107: 228658.5 | BH107: 337222.51 | BI107: 217770 | BJ107: 306565.92 | BK107: =AVERAGE(BF107:BJ107) -> 259419.69 | BL107: 211968.75 | BM107: 234281.25 | BN107: 325178.85 | BO107: 223125 | BP107: 295617.14 | BQ107: =AVERAGE(BL107:BP107) -> 258034.2 | BR107: 135660 | BS107: 149940 | BT107: 315543.92 | BU107: 142800 | BV107: 286858.11 | BW107: =AVERAGE(BR107:BV107) -> 206160.41 | BX107: 174662.25 | BY107: 193047.75 | BZ107: 342039.97 | CA107: 183855 | CB107: 310945.43 | CC107: =AVERAGE(BX107:CB107) -> 240910.08 | CD107: 157704.75 | CE107: 174305.25 | CF107: 337222.51 | CG107: 166005 | CH107: 306565.92 | CI107: =AVERAGE(CD107:CH107) -> 228360.69
C108: VALORES TOTALES | D108: =SUM(D9:D107) -> 13409991 | E108: =SUM(E9:E107) -> 24192819 | I108: =SUM(I9:I107) -> 14115780 | J108: =SUM(J9:J107) -> 23637059 | K108: =SUM(K9:K107) -> 26125171 | O108: =SUM(O9:O107) -> 17545337 | P108: =SUM(P9:P107) -> 19457036 | Q108: =SUM(Q9:Q107) -> 35102828 | U108: =SUM(U9:U107) -> 20733090 | V108: =SUM(V9:V107) -> 20391394 | W108: =SUM(W9:W107) -> 36791528 | AA108: =SUM(AA9:AA107) -> 21474988 | AE108: =SUM(AE9:AE107) -> 12994800 | AG108: =SUM(AG9:AG107) -> 16593807 | AH108: =SUM(AH9:AH107) -> 25168322 | AI108: =SUM(AI9:AI107) -> 27817618 | AM108: =SUM(AM9:AM107) -> 18955376 | AN108: =SUM(AN9:AN107) -> 27372796 | AO108: =SUM(AO9:AO107) -> 30254144 | AS108: =SUM(AS9:AS107) -> 19616502 | AT108: =SUM(AT9:AT107) -> 28020573 | AU108: =SUM(AU9:AU107) -> 30970107 | AY108: =SUM(AY9:AY107) -> 20079076 | AZ108: =SUM(AZ9:AZ107) -> 30194524 | BA108: =SUM(BA9:BA107) -> 33372896 | BE108: =SUM(BE9:BE107) -> 21100534 | BF108: =SUM(BF9:BF107) -> 35020629 | BG108: =SUM(BG9:BG107) -> 38707011 | BK108: =SUM(BK9:BK107) -> 23428010 | BL108: =SUM(BL9:BL107) -> 35310602 | BM108: =SUM(BM9:BM107) -> 39027508 | BQ108: =SUM(BQ9:BQ107) -> 23172383 | BR108: =SUM(BR9:BR107) -> 22994370 | BS108: =SUM(BS9:BS107) -> 25414830 | BW108: =SUM(BW9:BW107) -> 18071234 | BX108: =SUM(BX9:BX107) -> 29521312 | CC108: =SUM(CC9:CC107) -> 21291121 | CI108: =SUM(CI9:CI107) -> 20058002
B110: Nota: La cotizacion de los repuestos descritos previamente debe realizarse por unidad.

Sheet REPUESTOS COMUNES
D2: REPUESTOS COMUNES MOTOCICLETAS MULTIMARCA
B7: ITEM | C7: DESCRIPCION | D7: PRESENTACION | E7: COTIZACION 1 | F7: COTIZACION 2 | G7: COTIZACION 3 | H7: COTIZACION 4 | I7: COTIZACION 5 | J7: PRECIO TECHO
B8: 1 | C8: ACEITE MINERAL | D8: CUARTO | E8: 92820 | F8: 92820 | G8: 71500 | H8: 92820 | I8: 65000 | J8: =AVERAGE(E8:I8) -> 82992
B9: 2 | C9: ACEITE HIDRAULICO | D9: CUARTO | E9: 99960 | F9: 99960 | G9: 121000 | H9: 99960 | I9: 110000 | J9: =E9+I9 -> 209960
B10: 3 | C10: ACEITE SINTETICO | D10: UNIDAD | E10: 207060 | F10: 207060 | G10: 132550 | H10: 207060 | I10: 120500 | J10: =E10+I10 -> 327560
B11: 4 | C11: ABRAZADERA METALICA GRANDE | D11: CUARTO | E11: 16065 | F11: 16065 | G11: 107665.25 | H11: 16065 | I11: 97877.5 | J11: =E11+I11 -> 113942.5
B12: 5 | C12: ABRAZADERA METALICA MEDIANA | D12: CUARTO | E12: 12495 | F12: 12495 | G12: 7741.7023 | H12: 12495 | I12: 7037.9112 | J12: =E12+I12 -> 19532.911
B13: 6 | C13: ABRAZADERA METALICA PEQUEÑA | D13: UNIDAD | E13: 8925 | F13: 8925 | G13: 5806.2768 | H13: 8925 | I13: 5278.4334 | J13: =E13+I13 -> 14203.433
B14: 7 | C14: ABRAZADERA PLASTICA | D14: UNIDAD | E14: 2856 | F14: 2856 | G14: 2709.5958 | H14: 2856 | I14: 2463.2689 | J14: =E14+I14 -> 5319.2689
B15: 8 | C15: BOMBILLO DIRECCIONAL | D15: JUEGO | E15: 35700 | F15: 35700 | G15: 46450.214 | H15: 35700 | I15: 42227.467 | J15: =E15+I15 -> 77927.467
B16: 9 | C16: BOMBILLO FAROLA | D16: UNIDAD | E16: 78540 | F16: 78540 | G16: 46450.214 | H16: 78540 | I16: 42227.467 | J16: =E16+I16 -> 120767.47
B17: 10 | C17: BOMBILLO MUELA | D17: UNIDAD | E17: 14280 | F17: 14280 | G17: 58577.75 | H17: 14280 | I17: 53252.5 | J17: =E17+I17 -> 67532.5
B18: 11 | C18: BOMBILLO STOP | D18: UNIDAD | E18: 28560 | F18: 28560 | G18: 11612.554 | H18: 28560 | I18: 10556.867 | J18: =E18+I18 -> 39116.867
B19: 12 | C19: FLASHER | D19: UNIDAD | E19: 57120 | F19: 57120 | G19: 181930 | H19: 57120 | I19: 165390.91 | J19: =E19+I19 -> 222510.91
B20: 13 | C20: FUSIBLE | D20: UNIDAD | E20: 5355 | F20: 5355 | G20: 5806.2768 | H20: 5355 | I20: 5278.4334 | J20: =E20+I20 -> 10633.433
... B28: 21 | C28: SOKET RELAY | D28: UNIDAD | E28: 32130 | F28: 32130 | G28: 34837.661 | H28: 32130 | I28: 31670.6 | J28: =E28+I28 -> 63800.6
D29: TOTALES | E29: =SUM(E8:E28) -> 1250571 | I29: =SUM(I8:I28) -> 1110305 | J29: =SUM(J8:J28) -> 2286048
B31: NOMBRE DE LA EMPRESA
B32: NIT o CC
B33: NOMBRE REPRESENTANTE LEGAL
B34: CC
B35: Correo Electronico
B36: Celular
B39: Nota: La cotizacion de los repuestos descritos previamente debe realizarse por unidad.

Sheet MANO DE OBRA
D2: MANO DE OBRA
D3: MANTENIMIENTO MOTOCICLETAS
D5: *** Incluye Costos Directos e Indirectos
B7: ITEM | D7: CILINDRAJE HASTA 249cc | J7: CILINDRAJE IGUAL O SUPERIOR A 250cc
B8: DESCRIPCION | D8: COTIZACION 1 | E8: COTIZACION 2 | F8: COTIZACION 3 | G8: COTIZACION 4 | H8: COTIZACION 5 | I8: PECIOS TECHOS | J8: COTIZACION 1 | K8: COTIZACION 2 | L8: COTIZACION 3 | M8: COTIZACION 4 | N8: COTIZACION 5 | O8: TOTAL
B9: 1 | C9: SINCRONIZACION | D9: 0 | H9: =D9*19% -> 0 | I9: 0 | J9: 0 | N9: 0 | O9: 0
B10: 1.1 | C10: CALIBRAR VALVULAS | D10: 84787.5 | E10: 93712.5 | F10: 198408.77 | G10: 89250 | H10: 180371.61 | I10: =AVERAGE(D10:H10) -> 129306.08 | J10: 118702.5 | K10: 131197.5 | L10: 218249.65 | M10: 124950 | N10: 198408.77 | O10: =AVERAGE(J10:N10) -> 158301.68
B11: 1.2 | C11: CAMBIO BOBINA IGNICION | D11: 61047 | E11: 67473 | F11: 110706.34 | G11: 64260 | H11: 100642.13 | I11: =AVERAGE(D11:H11) -> 80825.695 | J11: 84787.5 | K11: 93712.5 | L11: 121776.98 | M11: 89250 | N11: 110706.34 | O11: =AVERAGE(J11:N11) -> 100046.66
B12: 1.3 | C12: CAMBIO BUJIA | D12: 27132 | E12: 29988 | F12: 69730.619 | G12: 28560 | H12: 63391.472 | I12: =AVERAGE(D12:H12) -> 43760.418 | J12: 40698 | K12: 44982 | L12: 76703.681 | M12: 42840 | N12: 69730.619 | O12: =AVERAGE(J12:N12) -> 54990.86
B13: 1.4 | C13: CAMBIO CDI | D13: 50872.5 | E13: 56227.5 | F13: 166778.39 | G13: 53550 | H13: 151616.72 | I13: =AVERAGE(D13:H13) -> 95809.021 | J13: 67830 | K13: 74970 | L13: 183456.23 | M13: 71400 | N13: 166778.39 | O13: =AVERAGE(J13:N13) -> 112886.92
B14: 1.5 | C14: CAMBIO FILTRO AIRE | D14: 33915 | E14: 37485 | F14: 77278.779 | G14: 35700 | H14: 70253.435 | I14: =AVERAGE(D14:H14) -> 50926.443 | J14: 50872.5 | K14: 56227.5 | L14: 85006.657 | M14: 53550 | N14: 77278.779 | O14: =AVERAGE(J14:N14) -> 64587.087
B15: 1.6 | C15: CAMBIO GUAYA ACELERADOR | D15: 61047 | E15: 67473 | F15: 69730.619 | G15: 64260 | H15: 63391.472 | I15: =AVERAGE(D15:H15) -> 65180.418 | J15: 84787.5 | K15: 93712.5 | L15: 76703.681 | M15: 89250 | N15: 69730.619 | O15: =AVERAGE(J15:N15) -> 82836.86
B16: 1.7 | C16: CAMBIO GUAYA CHOQUE | D16: 50872.5 | E16: 56227.5 | F16: 69730.619 | G16: 53550 | H16: 63391.472 | I16: =AVERAGE(D16:H16) -> 58754.418 | J16: 67830 | K16: 74970 | L16: 76703.681 | M16: 71400 | N16: 69730.619 | O16: =AVERAGE(J16:N16) -> 72126.86
B17: 1.8 | C17: CAMBIO LLAVE DE COMBUSTIBLE | D17: 50872.5 | E17: 56227.5 | F17: 83389.194 | G17: 53550 | H17: 75808.358 | I17: =AVERAGE(D17:H17) -> 63969.51 | J17: 74613 | K17: 82467 | L17: 91728.113 | M17: 78540 | N17: 83389.194 | O17: =AVERAGE(J17:N17) -> 82147.461
B18: 1.9 | C18: LIMPIEZA CARBURADOR | D18: 118702.5 | E18: 131197.5 | F18: 184031.32 | G18: 124950 | H18: 167301.2 | I18: =AVERAGE(D18:H18) -> 145236.51 | J18: 162792 | K18: 179928 | L18: 202434.46 | M18: 171360 | N18: 184031.32 | O18: =AVERAGE(J18:N18) -> 180109.16
B19: 1.10 | C19: SINCRONIZAR MOTOR | D19: 169575 | E19: 187425 | F19: 276046.99 | G19: 178500 | H19: 250951.81 | I19: =AVERAGE(D19:H19) -> 212499.76 | J19: 237405 | K19: 262395 | L19: 303651.68 | M19: 249900 | N19: 276046.99 | O19: =AVERAGE(J19:N19) -> 265879.73
B20: 2 | C20: MOTOR | D20: 0 | E20: 0 | F20: 0 | G20: 0 | H20: 0 | I20: 0 | J20: 0 | K20: 0 | L20: 0 | M20: 0 | N20: 0
B21: 2.1 | C21: ANILLAR MOTOR | D21: 406980 | E21: 449820 | F21: 644109.63 | G21: 428400 | H21: 585554.21 | I21: =AVERAGE(D21:H21) -> 502972.77 | J21: 576555 | K21: 637245 | L21: 708520.6 | M21: 606900 | N21: 644109.63 | O21: =AVERAGE(J21:N21) -> 634666.05
B22: 2.2 | C22: ASENTAR BANCADA | D22: 203490 | E22: 224910 | F22: 251557.63 | G22: 214200 | H22: 228688.76 | I22: =AVERAGE(D22:H22) -> 224569.28 | J22: 288277.5 | K22: 318622.5 | L22: 276713.4 | M22: 303450 | N22: 251557.63 | O22: =AVERAGE(J22:N22) -> 287724.21
B23: 2.3 | C23: ASENTAR VALVULAS | D23: 152617.5 | E23: 168682.5 | F23: 251557.63 | G23: 160650 | H23: 228688.76 | I23: =AVERAGE(D23:H23) -> 192439.28 | J23: 220447.5 | K23: 243652.5 | L23: 276713.4 | M23: 232050 | N23: 251557.63 | O23: =AVERAGE(J23:N23) -> 244884.21
B24: 2.4 | C24: CALIBRAR VALVULAS | D24: 84787.5 | E24: 93712.5 | F24: 198408.4 | G24: 89250 | H24: 180371.27 | I24: =AVERAGE(D24:H24) -> 129305.94 | J24: 118702.5 | K24: 131197.5 | L24: 218249.57 | M24: 124950 | N24: 198408.7 | O24: =AVERAGE(J24:N24) -> 158301.65
B25: 2.5 | C25: CAMBIO BALANCINES | D25: 135660 | E25: 149940 | F25: 568628.04 | G25: 142800 | H25: 516934.58 | I25: =AVERAGE(D25:H25) -> 302792.52 | J25: 186532.5 | K25: 206167.5 | L25: 625490.84 | M25: 196350 | N25: 568628.04 | O25: =AVERAGE(J25:N25) -> 356633.78
B26: 2.6 | C26: CAMBIO BOMBA DE ACEITE | D26: 169575 | E26: 187425 | F26: 445952.47 | G26: 178500 | H26: 405411.33 | I26: =AVERAGE(D26:H26) -> 277372.76 | J26: 237405 | K26: 262395 | L26: 490547.72 | M26: 249900 | N26: 445952.47 | O26: =AVERAGE(J26:N26) -> 337240.04
B27: 2.7 | C27: CAMBIO EMPAQUE CULATA | D27: 186532.5 | E27: 206167.5 | F27: 378126.86 | G27: 196350 | H27: 343751.69 | I27: =AVERAGE(D27:H27) -> 262185.71 | J27: 254362.5 | K27: 281137.5 | L27: 415939.55 | M27: 267750 | N27: 378126.86 | O27: =AVERAGE(J27:N27) -> 319463.28
B28: 2.8 | C28: CAMBIO EMPAQUE MULTIPLE | D28: 84787.5 | E28: 93712.5 | F28: 158511.36 | G28: 89250 | H28: 144101.23 | I28: =AVERAGE(D28:H28) -> 114072.52 | J28: 118702.5 | K28: 131197.5 | L28: 174362.49 | M28: 124950 | N28: 158511.36 | O28: =AVERAGE(J28:N28) -> 141544.77
B29: 2.9 | C29: CAMBIO OBTURADORES | D29: 152617.5 | E29: 168682.5 | F29: 214583.4 | G29: 160650 | H29: 195075.82 | I29: =AVERAGE(D29:H29) -> 178321.84 | J29: 203490 | K29: 224910 | L29: 236041.74 | M29: 214200 | N29: 214583.4 | O29: =AVERAGE(J29:N29) -> 218645.03
B30: 2.10 | C30: CAMBIO RETENCIGUEÑAL | D30: 186532.5 | E30: 206167.5 | F30: 194095.54 | G30: 196350 | H30: 176450.49 | I30: =AVERAGE(D30:H30) -> 191919.21 | J30: 254362.5 | K30: 281137.5 | L30: 213505.09 | M30: 267750 | N30: 194095.54 | O30: =AVERAGE(J30:N30) -> 242170.13
B31: 2.11 | C31: CAMBIO RODAMIENTOS MOTOR | D31: 373065 | E31: 412335 | F31: 438512.14 | G31: 392700 | H31: 398647.4 | I31: =AVERAGE(D31:H31) -> 403051.91 | J31: 508725 | K31: 562275 | L31: 482363.35 | M31: 535500 | N31: 438512.14 | O31: =AVERAGE(J31:N31) -> 505475.1
B32: 2.12 | C32: CEPILLAR CULATA | D32: 152617.5 | E32: 168682.5 | F32: 421259.2 | G32: 160650 | H32: 382962.91 | I32: =AVERAGE(D32:H32) -> 257234.42 | J32: 220447.5 | K32: 243652.5 | L32: 463385.12 | M32: 232050 | N32: 421259.2 | O32: =AVERAGE(J32:N32) -> 316158.87
... B38: 2.18 | C38: RECTIFICAR GUIAS VALVULAS | D38: 152617.5 | E38: 168682.5 | F38: 324930.31 | G38: 160650 | H38: 295391.19 | I38: =AVERAGE(D38:H38) -> 220454.3 | J38: 220447.5 | K38: 243652.5 | L38: 357423.34 | M38: 232050 | N38: 324930.31 | O38: =AVERAGE(J38:N38) -> 275700.73
B39: 3 | C39: SISTEMA DE TRANSFERENCIA | D39: 0 | E39: 0 | F39: 0 | G39: 0 | H39: 0 | J39: 0 | K39: 0 | L39: 0 | M39: 0 | N39: 0
B40: 3.1 | C40: CAMBIO KIT DE ARRASTRE | D40: 101745 | E40: 112455 | F40: 527652.31 | G40: 107100 | H40: 479683.92 | I40: =AVERAGE(D40:H40) -> 265727.25 | J40: 142443 | K40: 157437 | L40: 580417.54 | M40: 149940 | N40: 527652.31 | O40: =AVERAGE(J40:N40) -> 311577.97
B41: 3.2 | C41: CAMBIO EMPAQUE TAPA EMBRAGUE | D41: 74613 | E41: 82467 | F41: 95969.46 | G41: 78540 | H41: 87244.964 | I41: =AVERAGE(D41:H41) -> 83766.885 | J41: 101745 | K41: 112455 | L41: 105566.41 | M41: 107100 | N41: 95969.46 | O41: =AVERAGE(J41:N41) -> 104567.17
B42: 3.3 | C42: CAMBIO GUAYA EMBRAGUE | D42: 61047 | E42: 67473 | F42: 87702.428 | G42: 64260 | H42: 79729.48 | I42: =AVERAGE(D42:H42) -> 72042.382 | J42: 84787.5 | K42: 93712.5 | L42: 96472.671 | M42: 89250 | N42: 87702.428 | O42: =AVERAGE(J42:N42) -> 90385.02
B43: 3.4 | C43: CAMBIO GUAYA VELOCIMETRO | D43: 50872.5 | E43: 56227.5 | F43: 87702.428 | G43: 53550 | H43: 79729.48 | I43: =AVERAGE(D43:H43) -> 65616.382 | J43: 74613 | K43: 82467 | L43: 96472.671 | M43: 78540 | N43: 87702.428 | O43: =AVERAGE(J43:N43) -> 83959.02
B44: 3.5 | C44: CAMBIO KIT DISCOS EMBRAGUE | D44: 152617.5 | E44: 168682.5 | F44: 265623.34 | G44: 160650 | H44: 241475.76 | I44: =AVERAGE(D44:H44) -> 197809.82 | J44: 220447.5 | K44: 243652.5 | L44: 292185.67 | M44: 232050 | N44: 265623.34 | O44: =AVERAGE(J44:N44) -> 250791.8
B45: 3.6 | C45: CAMBIO MANIJA EMBRAGUE | D45: 40698 | E45: 44982 | F45: 82670.321 | G45: 42840 | H45: 75154.838 | I45: =AVERAGE(D45:H45) -> 57269.032 | J45: 61047 | K45: 67473 | L45: 90937.353 | M45: 64260 | N45: 82670.321 | O45: =AVERAGE(J45:N45) -> 73277.535
B46: 3.7 | C46: CAMBIO PERA NEUTRO | D46: 61047 | E46: 67473 | F46: 103158.18 | G46: 64260 | H46: 93780.167 | I46: =AVERAGE(D46:H46) -> 77943.67 | J46: 84787.5 | K46: 93712.5 | L46: 113474 | M46: 89250 | N46: 103158.18 | O46: =AVERAGE(J46:N46) -> 96876.437
B47: 3.8 | C47: CAMBIO PIÑON VELOCIMETRO | D47: 67830 | E47: 74970 | F47: 196350 | G47: 71400 | H47: 178500 | I47: =AVERAGE(D47:H47) -> 117810 | J47: 94962 | K47: 104958 | L47: 212712.5 | M47: 99960 | N47: 193375 | O47: =AVERAGE(J47:N47) -> 141193.5
B48: 3.9 | C48: CAMBIO RETEN SELECTOR DE CAMBIO DE CAMBIOS | D48: 101745 | E48: 112455 | F48: 141150.59 | G48: 107100 | H48: 128318.72 | I48: =AVERAGE(D48:H48) -> 118153.86 | J48: 142443 | K48: 157437 | L48: 155265.65 | M48: 149940 | N48: 141150.59 | O48: =AVERAGE(J48:N48) -> 149247.25
B49: 3.10 | C49: CAMBIO RETEN DE SALIDA (PIÑON SALIDA) | D49: 94962 | E49: 104958 | F49: 141150.59 | G49: 99960 | H49: 128318.72 | I49: =AVERAGE(D49:H49) -> 113869.86 | J49: 128877 | K49: 142443 | L49: 155265.65 | M49: 135660 | N49: 141150.59 | O49: =AVERAGE(J49:N49) -> 140679.25
B50: 3.11 | C50: DESMONTAR Y REPARAR CAJA DE VELOCIDADES | D50: 610470 | E50: 674730 | F50: 815920.13 | G50: 642600 | H50: 741745.57 | I50: =AVERAGE(D50:H50) -> 697093.14 | J50: 847875 | K50: 937125 | L50: 897512.14 | M50: 892500 | N50: 815920.13 | O50: =AVERAGE(J50:N50) -> 878186.45
B51: 3.12 | C51: TENSIONAR Y LUBRICAR KIT ARRASTRE | D51: 50872.5 | E51: 56227.5 | F51: 815920.13 | G51: 53550 | H51: 741745.57 | I51: =AVERAGE(D51:H51) -> 343663.14 | J51: 67830 | K51: 74970 | L51: 897512.14 | M51: 71400 | N51: 815920.13 | O51: =AVERAGE(J51:N51) -> 385526.45
B52: 4 | C52: SISTEMA DE SUSPENSION | D52: 0 | E52: 0 | F52: 0 | G52: 0 | H52: 0 | J52: 0 | K52: 0 | L52: 0 | M52: 0 | N52: 0
B53: 4.1 | C53: CAMBIO AMORTIGUADORES DELANTEROS | D53: 152617.5 | E53: 168682.5 | F53: 177920.91 | G53: 160650 | H53: 161746.28 | I53: =AVERAGE(D53:H53) -> 164323.44 | J53: 220447.5 | K53: 243652.5 | L53: 195713 | M53: 232050 | N53: 177920.91 | O53: =AVERAGE(J53:N53) -> 213956.78
B54: 4.2 | C54: CAMBIO AMORTIGUADORES TRASEROS | D54: 101745 | E54: 112455 | F54: 159230.23 | G54: 107100 | H54: 144754.75 | I54: =AVERAGE(D54:H54) -> 125057 | J54: 142443 | K54: 157437 | L54: 175153.25 | M54: 149940 | N54: 159230.23 | O54: =AVERAGE(J54:N54) -> 156840.7
B55: 4.3 | C55: CAMBIO CUNAS DIRECCION | D55: 135660 | E55: 149940 | F55: 165331.1 | G55: 142800 | H55: 150301 | I55: =AVERAGE(D55:H55) -> 148806.42 | J55: 186532.5 | K55: 206167.5 | L55: 181864.21 | M55: 196350 | N55: 165331.1 | O55: =AVERAGE(J55:N55) -> 187249.06
B56: 4.4 | C56: CAMBIO GUAYA VELOCIMETRO | D56: 50872.5 | E56: 56227.5 | F56: 98126.077 | G56: 53550 | H56: 89205.525 | I56: =AVERAGE(D56:H56) -> 69596.32 | J56: 74613 | K56: 82467 | L56: 107938.68 | M56: 78540 | N56: 98126.077 | O56: =AVERAGE(J56:N56) -> 88336.952
B57: 4.5 | C57: CAMBIO RETENEDOR TELESCOPICCOS (BARRAS) | D57: 152617.5 | E57: 168682.5 | F57: 163543.46 | G57: 160650 | H57: 148675.87 | I57: =AVERAGE(D57:H57) -> 158833.87 | J57: 220447.5 | K57: 243652.5 | L57: 179897.81 | M57: 232050 | N57: 163543.46 | O57: =AVERAGE(J57:N57) -> 207918.25
B58: 4.6 | C58: CAMBIO RODAMIENTOS DELANTEROS | D58: 84787.5 | E58: 93712.5 | F58: 118613.94 | G58: 89250 | H58: 107830.85 | I58: =AVERAGE(D58:H58) -> 98838.959 | J58: 118702.5 | K58: 131197.5 | L58: 130475.33 | M58: 124950 | N58: 118613.94 | O58: =AVERAGE(J58:N58) -> 124787.85
B59: 4.7 | C59: CAMBIO RODAMIENTOS TRASEROS | D59: 94962 | E59: 104958 | F59: 118613.94 | G59: 99960 | H59: 107830.85 | I59: =AVERAGE(D59:H59) -> 105264.96 | J59: 128877 | K59: 142443 | L59: 130475.33 | M59: 135660 | N59: 118613.94 | O59: =AVERAGE(J59:N59) -> 131213.85
B60: 4.8 | C60: CAMBIO TIJERA Y/ O BUJES | D60: 152617.5 | E60: 168682.5 | F60: 140898.98 | G60: 160650 | H60: 128089.98 | I60: =AVERAGE(D60:H60) -> 150187.79 | J60: 220447.5 | K60: 243652.5 | L60: 154988.88 | M60: 232050 | N60: 140898.98 | O60: =AVERAGE(J60:N60) -> 198407.57
B61: 4.9 | C61: ENGRASE RODAMIENTOS | D61: 84787.5 | E61: 93712.5 | F61: 225007.05 | G61: 89250 | H61: 204551.86 | I61: =AVERAGE(D61:H61) -> 139461.78 | J61: 118702.5 | K61: 131197.5 | L61: 247507.75 | M61: 124950 | N61: 225007.05 | O61: =AVERAGE(J61:N61) -> 169472.96
B62: 5 | C62: SISTEMA DE DIRECCION | D62: 0 | E62: 0 | F62: 0 | G62: 0 | H62: 0 | J62: 0 | K62: 0 | L62: 0 | M62: 0 | N62: 0
B63: 5.1 | C63: CAMBIAR CUNAS DIRECCION | D63: 135660 | E63: 149940 | F63: 249448.71 | G63: 142800 | H63: 226771.55 | I63: =AVERAGE(D63:H63) -> 180924.05 | J63: 186532.5 | K63: 206167.5 | L63: 274393.58 | M63: 196350 | N63: 249448.71 | O63: =AVERAGE(J63:N63) -> 222578.46
B64: 5.2 | C64: CAMBIO MANUBRIO | D64: 101745 | E64: 112455 | F64: 89859.045 | G64: 107100 | H64: 81690.041 | I64: =AVERAGE(D64:H64) -> 98569.817 | J64: 142443 | K64: 157437 | L64: 98844.949 | M64: 149940 | N64: 89859.045 | O64: =AVERAGE(J64:N64) -> 127704.8
B65: 6 | C65: SISTEMA DE FRENOS | D65: 0 | E65: 0 | F65: 0 | G65: 0 | H65: 0 | J65: 0 | K65: 0 | L65: 0 | M65: 0 | N65: 0
B66: 6.1 | C66: CAMBIO BANDAS DE FRENO | D66: 74613 | E66: 82467 | F66: 116457.32 | G66: 78540 | H66: 105870.29 | I66: =AVERAGE(D66:H66) -> 91589.523 | J66: 101745 | K66: 112455 | L66: 128103.05 | M66: 107100 | N66: 116457.32 | O66: =AVERAGE(J66:N66) -> 113172.08
B67: 6.2 | C67: CAMBIO PASTILLAS | D67: 67830 | E67: 74970 | F67: 112503.52 | G67: 71400 | H67: 102275.93 | I67: =AVERAGE(D67:H67) -> 85795.891 | J67: 94962 | K67: 104958 | L67: 123753.88 | M67: 99960 | N67: 112503.52 | O67: =AVERAGE(J67:N67) -> 107227.48
B68: 6.3 | C68: CAMBIO BOMBA FRENO | D68: 108528 | E68: 119952 | F68: 143055.6 | G68: 114240 | H68: 130050.55 | I68: =AVERAGE(D68:H68) -> 123165.23 | J68: 152617.5 | K68: 168682.5 | L68: 157361.16 | M68: 160650 | N68: 143055.6 | O68: =AVERAGE(J68:N68) -> 156473.35
B69: 6.4 | C69: CAMBIO DISCOS FRENO | D69: 94962 | E69: 104958 | F69: 122567.74 | G69: 99960 | H69: 111425.22 | I69: =AVERAGE(D69:H69) -> 106774.59 | J69: 135660 | K69: 149940 | L69: 134824.51 | M69: 142800 | N69: 122567.74 | O69: =AVERAGE(J69:N69) -> 137158.45
B70: 6.5 | C70: CAMBIO GUAYA FRENO | D70: 61047 | E70: 67473 | F70: 108190.29 | G70: 64260 | H70: 98354.809 | I70: =AVERAGE(D70:H70) -> 79865.02 | J70: 84787.5 | K70: 93712.5 | L70: 119009.32 | M70: 89250 | N70: 108190.29 | O70: =AVERAGE(J70:N70) -> 98989.922
B71: 6.6 | C71: CAMBIO LIQUIDO FRENOS | D71: 74613 | E71: 82467 | F71: 87702.428 | G71: 78540 | H71: 79729.48 | I71: =AVERAGE(D71:H71) -> 80610.382 | J71: 101745 | K71: 112455 | L71: 96472.671 | M71: 107100 | N71: 87702.428 | O71: =AVERAGE(J71:N71) -> 101095.02
B72: 6.7 | C72: CAMBIO MANGUERA FRENOS | D72: 84787.5 | E72: 93712.5 | F72: 108190.29 | G72: 89250 | H72: 98354.809 | I72: =AVERAGE(D72:H72) -> 94859.02 | J72: 118702.5 | K72: 131197.5 | L72: 119009.32 | M72: 124950 | N72: 108190.29 | O72: =AVERAGE(J72:N72) -> 120409.92
B73: 6.8 | C73: CAMBIO MANIJA FRENO | D73: 40698 | E73: 44982 | F73: 83748.63 | G73: 42840 | H73: 76135.118 | I73: =AVERAGE(D73:H73) -> 57680.75 | J73: 61047 | K73: 67473 | L73: 92123.493 | M73: 64260 | N73: 83748.63 | O73: =AVERAGE(J73:N73) -> 73730.425
B74: 6.9 | C74: CAMBIO MORDAZA | D74: 101745 | E74: 112455 | F74: 122567.74 | G74: 107100 | H74: 111425.22 | I74: =AVERAGE(D74:H74) -> 111058.59 | J74: 142443 | K74: 157437 | L74: 134824.51 | M74: 149940 | N74: 122567.74 | O74: =AVERAGE(J74:N74) -> 141442.45
B75: 6.10 | C75: CAMBIO PEDAL DE FRENO | D75: 67830 | E75: 74970 | F75: 173607.67 | G75: 71400 | H75: 157825.16 | I75: =AVERAGE(D75:H75) -> 109126.57 | J75: 94962 | K75: 104958 | L75: 190968.44 | M75: 99960 | N75: 173607.67 | O75: =AVERAGE(J75:N75) -> 132891.22
B76: 6.11 | C76: CAMBIO SENSOR PEDAL FRENO | D76: 61047 | E76: 67473 | F76: 145212.22 | G76: 64260 | H76: 132011.11 | I76: =AVERAGE(D76:H76) -> 94000.665 | J76: 84787.5 | K76: 93712.5 | L76: 159733.44 | M76: 89250 | N76: 145212.22 | O76: =AVERAGE(J76:N76) -> 114539.13
B77: 6.12 | C77: MANTENIMIENTO DE FRENOS | D77: 118702.5 | E77: 131197.5 | F77: 164621.77 | G77: 124950 | H77: 149656.15 | I77: =AVERAGE(D77:H77) -> 137825.59 | J77: 169575 | K77: 187425 | L77: 181083.95 | M77: 178500 | N77: 164621.77 | O77: =AVERAGE(J77:N77) -> 176241.14
B78: 7 | C78: SISTEMA ELÉCTRICO | D78: 0 | E78: 0 | F78: 0 | G78: 0 | H78: 0 | J78: 0 | K78: 0 | L78: 0 | M78: 0 | N78: 0
B79: 7.1 | C79: CAMBIO BOMBILLO STOP/FAROLA/DIRECCIONAL | D79: 33915 | E79: 37485 | F79: 61104.151 | G79: 35700 | H79: 55549.228 | I79: =AVERAGE(D79:H79) -> 44750.676 | J79: 50872.5 | K79: 56227.5 | L79: 67214.566 | M79: 53550 | N79: 61104.151 | O79: =AVERAGE(J79:N79) -> 57793.743
B80: 7.2 | C80: ARREGLO LUCES | D80: 84787.5 | E80: 93712.5 | F80: 122567.74 | G80: 89250 | H80: 111425.22 | I80: =AVERAGE(D80:H80) -> 100348.59 | J80: 118702.5 | K80: 131197.5 | L80: 134824.51 | M80: 124950 | N80: 122567.74 | O80: =AVERAGE(J80:N80) -> 126448.45
B81: 7.3 | C81: ARREGLO MOTOR DE ARRANQUE | D81: 152617.5 | E81: 168682.5 | F81: 306599.06 | G81: 160650 | H81: 278726.42 | I81: =AVERAGE(D81:H81) -> 213455.1 | J81: 220447.5 | K81: 243652.5 | L81: 337258.97 | M81: 232050 | N81: 306599.06 | O81: =AVERAGE(J81:N81) -> 268001.61
B82: 7.4 | C82: ARREGLO PLANTA DE LUCES STROBERT | D82: 135660 | E82: 149940 | F82: 286111.2 | G82: 142800 | H82: 260101.09 | I82: =AVERAGE(D82:H82) -> 194922.46 | J82: 186532.5 | K82: 206167.5 | L82: 314722.32 | M82: 196350 | N82: 286111.2 | O82: =AVERAGE(J82:N82) -> 237976.7
B83: 7.5 | C83: CAMBIO DIRECCIONALES | D83: 61047 | E83: 67473 | F83: 95969.46 | G83: 64260 | H83: 87244.964 | I83: =AVERAGE(D83:H83) -> 75198.885 | J83: 84787.5 | K83: 93712.5 | L83: 105566.41 | M83: 89250 | N83: 95969.46 | O83: =AVERAGE(J83:N83) -> 93857.173
B84: 7.6 | C84: CAMBIO FAROLA | D84: 84787.5 | E84: 93712.5 | F84: 81592.013 | G84: 89250 | H84: 74174.557 | I84: =AVERAGE(D84:H84) -> 84703.314 | J84: 118702.5 | K84: 131197.5 | L84: 89751.214 | M84: 124950 | N84: 81592.013 | O84: =AVERAGE(J84:N84) -> 109238.65
B85: 7.7 | C85: CAMBIO FLASER | D85: 50872.5 | E85: 56227.5 | F85: 165331.1 | G85: 53550 | H85: 150301 | I85: =AVERAGE(D85:H85) -> 95256.422 | J85: 67830 | K85: 74970 | L85: 181864.21 | M85: 71400 | N85: 165331.1 | O85: =AVERAGE(J85:N85) -> 112279.06
B86: 7.8 | C86: CAMBIO MEDIDOR GASOLINA | D86: 94962 | E86: 104958 | F86: 173607.67 | G86: 99960 | H86: 157825.16 | I86: =AVERAGE(D86:H86) -> 126262.57 | J86: 128877 | K86: 142443 | L86: 190968.44 | M86: 135660 | N86: 173607.67 | O86: =AVERAGE(J86:N86) -> 154311.22
B87: 7.9 | C87: CAMBIO MOTOR DE ARRANQUE | D87: 118702.5 | E87: 131197.5 | F87: 163543.46 | G87: 124950 | H87: 148675.87 | I87: =AVERAGE(D87:H87) -> 137413.87 | J87: 169575 | K87: 187425 | L87: 179897.81 | M87: 178500 | N87: 163543.46 | O87: =AVERAGE(J87:N87) -> 175788.25
B88: 7.10 | C88: CAMBIO PITO | D88: 40698 | E88: 44982 | F88: 95969.46 | G88: 42840 | H88: 87244.964 | I88: =AVERAGE(D88:H88) -> 62346.885 | J88: 61047 | K88: 67473 | L88: 105566.41 | M88: 64260 | N88: 95969.46 | O88: =AVERAGE(J88:N88) -> 78863.173
B89: 7.11 | C89: CAMBIO STOP | D89: 74613 | E89: 82467 | F89: 95969.46 | G89: 78540 | H89: 87244.964 | I89: =AVERAGE(D89:H89) -> 83766.885 | J89: 101745 | K89: 112455 | L89: 105566.41 | M89: 107100 | N89: 95969.46 | O89: =AVERAGE(J89:N89) -> 104567.17
B90: 7.12 | C90: CAMBIO SWICHE IGNICION | D90: 94962 | E90: 104958 | F90: 16965.388 | G90: 99960 | H90: 15423.08 | I90: =AVERAGE(D90:H90) -> 66453.693 | J90: 128877 | K90: 142443 | L90: 18661.926 | M90: 135660 | N90: 16965.388 | O90: =AVERAGE(J90:N90) -> 88521.463
... B92: 7.14 | C92: DESMONTAR VOLANTE Y CAMBIO BOBINAS CARGA Y/LUCES | D92: 186532.5 | E92: 206167.5 | F92: 290424.43 | G92: 196350 | H92: 264022.21 | I92: =AVERAGE(D92:H92) -> 228699.33 | J92: 254362.5 | K92: 281137.5 | L92: 319466.88 | M92: 267750 | N92: 290424.43 | O92: =AVERAGE(J92:N92) -> 282628.26
B93: 8 | C93: SISTEMA DE ESCAPE | D93: 0 | E93: 0 | F93: 0 | G93: 0 | H93: 0 | J93: 0 | K93: 0 | L93: 0 | M93: 0 | N93: 0
B94: 8.1 | C94: AJUSTE SISTEMA ESCAPE - EXHOSTO | D94: 67830 | E94: 74970 | F94: 150244.32 | G94: 71400 | H94: 136585.75 | I94: =AVERAGE(D94:H94) -> 100206.01 | J94: 94962 | K94: 104958 | L94: 165268.76 | M94: 99960 | N94: 150244.32 | O94: =AVERAGE(J94:N94) -> 123078.62
B95: 8.2 | C95: ARREGLO SISTEMA ESCAPE - EXHOSTO | D95: 118702.5 | E95: 131197.5 | F95: 357639 | G95: 124950 | H95: 325126.36 | I95: =AVERAGE(D95:H95) -> 211523.07 | J95: 162792 | K95: 179928 | L95: 393402.9 | M95: 171360 | N95: 357639 | O95: =AVERAGE(J95:N95) -> 253024.38
B96: 8.3 | C96: CAMBIO EMPAQUE EXHOSTO | D96: 61047 | E96: 67473 | F96: 109268.6 | G96: 64260 | H96: 99335.09 | I96: =AVERAGE(D96:H96) -> 80276.738 | J96: 84787.5 | K96: 93712.5 | L96: 120195.46 | M96: 89250 | N96: 109268.6 | O96: =AVERAGE(J96:N96) -> 99442.811
B97: 8.4 | C97: CAMBIO SILENCIADOR | D97: 101745 | E97: 112455 | F97: 637999.22 | G97: 107100 | H97: 579999.29 | I97: =AVERAGE(D97:H97) -> 307859.7 | J97: 142443 | K97: 157437 | L97: 701799.14 | M97: 149940 | N97: 637999.22 | O97: =AVERAGE(J97:N97) -> 357923.67
B98: 8.5 | C98: CAMBIO SOPORTES SISTEMA ESCAPE | D98: 67830 | E98: 74970 | F98: 358641.32 | G98: 71400 | H98: 326037.56 | I98: =AVERAGE(D98:H98) -> 179775.78 | J98: 94962 | K98: 104958 | L98: 394505.45 | M98: 99960 | N98: 358641.32 | O98: =AVERAGE(J98:N98) -> 210605.35
B99: 8.6 | C99: CAMBIO TUBO ESCAPE | D99: 101745 | E99: 112455 | F99: 425213 | G99: 107100 | H99: 386557.27 | I99: =AVERAGE(D99:H99) -> 226614.05 | J99: 142443 | K99: 157437 | L99: 467734.3 | M99: 149940 | N99: 425213 | O99: =AVERAGE(J99:N99) -> 268553.46
B100: 8.7 | C100: DESCARBONAR | D100: 135660 | E100: 149940 | F100: 335353.96 | G100: 142800 | H100: 304867.23 | I100: =AVERAGE(D100:H100) -> 213724.24 | J100: 186532.5 | K100: 206167.5 | L100: 368889.35 | M100: 196350 | N100: 335353.96 | O100: =AVERAGE(J100:N100) -> 258658.66
B101: 8.8 | C101: SOLDAR EXOSTO | D101: 118702.5 | E101: 131197.5 | F101: 302645.26 | G101: 124950 | H101: 275132.06 | I101: =AVERAGE(D101:H101) -> 190525.46 | J101: 162792 | K101: 179928 | L101: 332909.79 | M101: 171360 | N101: 302645.26 | O101: =AVERAGE(J101:N101) -> 229927.01
B102: 9 | C102: LATONERIA Y PINTURA | D102: 0 | E102: 0 | F102: 0 | G102: 0 | H102: 0 | I102: 0 | J102: 0 | K102: 0 | L102: 0 | M102: 0 | N102: 0 | O102: 0
B103: 9.1 | C103: ALINEACION CHASIS | D103: 322192.5 | E103: 356107.5 | F103: 801542.68 | G103: 339150 | H103: 728675.16 | I103: =AVERAGE(D103:H103) -> 509533.57 | J103: 457852.5 | K103: 506047.5 | L103: 881696.95 | M103: 481950 | N103: 801542.68 | O103: =AVERAGE(J103:N103) -> 625817.93
B104: 9.2 | C104: ARREGLAR TANQUE COMBUSTIBLE | D104: 254362.5 | E104: 281137.5 | F104: 719950.67 | G104: 267750 | H104: 654500.61 | I104: =AVERAGE(D104:H104) -> 435540.26 | J104: 356107.5 | K104: 393592.5 | L104: 791945.73 | M104: 374850 | N104: 719950.67 | O104: =AVERAGE(J104:N104) -> 527289.28
B105: 9.3 | C105: CROMAR RIN | D105: 288277.5 | E105: 318622.5 | F105: 425213 | G105: 303450 | H105: 386557.27 | I105: =AVERAGE(D105:H105) -> 344424.05 | J105: 406980 | K105: 449820 | L105: 467734.3 | M105: 428400 | N105: 425213 | O105: =AVERAGE(J105:N105) -> 435629.46
B106: 9.4 | C106: LAVAR TANQUE DE COMBUSTIBLE | D106: 118702.5 | E106: 131197.5 | F106: 368815.54 | G106: 124950 | H106: 335286.86 | I106: =AVERAGE(D106:H106) -> 215790.48 | J106: 162792 | K106: 179928 | L106: 405697.09 | M106: 171360 | N106: 368815.54 | O106: =AVERAGE(J106:N106) -> 257718.53
B107: 9.5 | C107: PINTURA CARENAJE | D107: 271320 | E107: 299880 | F107: 564314.8 | G107: 285600 | H107: 513013.46 | I107: =AVERAGE(D107:H107) -> 386825.65 | J107: 390022.5 | K107: 431077.5 | L107: 620746.28 | M107: 410550 | N107: 564314.8 | O107: =AVERAGE(J107:N107) -> 483342.22
B108: 9.6 | C108: PINTURA CHASIS | D108: 474810 | E108: 524790 | F108: 728217.7 | G108: 499800 | H108: 662016.09 | I108: =AVERAGE(D108:H108) -> 577926.76 | J108: 661342.5 | K108: 730957.5 | L108: 801039.47 | M108: 696150 | N108: 728217.7 | O108: =AVERAGE(J108:N108) -> 723541.43
B109: 9.7 | C109: PINTURA GENERAL | D109: 949620 | E109: 1049580 | F109: 1914716.5 | G109: 999600 | H109: 1740651.4 | I109: =AVERAGE(D109:H109) -> 1330833.6 | J109: 1322685 | K109: 1461915 | L109: 2106188.2 | M109: 1392300 | N109: 1914716.5 | O109: =AVERAGE(J109:N109) -> 1639560.9
...

Sheet TOTAL PRECIO TECHO
B2: TOTAL PROMEDIO - PORTAFOLIO DE SERVICIOS Y REPUESTOS
B3: MANTENIMIENTO PARQUE AUTOMOTOR
B4: Lote No. 1
C6: REPUESTOS
B7: ITEM | C7: DESCRIPCIÓN | D7: SUBTOTAL | E7: IVA | F7: PRECIO TECHO
B8: 1 | C8: AKT AK125BR | D8: =F8/1.19 -> 11862000 | E8: =F8-D8 -> 2253780 | F8: =REPUESTOS!I108 -> 14115780
B9: 2 | C9: BAJAJ DISCOVER 125 SPORT | D9: =F9/1.19 -> 14743981 | E9: =F9-D9 -> 2801356.3 | F9: =REPUESTOS!O108 -> 17545337
B10: 3 | C10: BAJAJ PULSAR 200 NS | D10: =F10/1.19 -> 17422764 | E10: =F10-D10 -> 3310325.2 | F10: =REPUESTOS!U108 -> 20733090
B11: 4 | C11: BAJAJ PULSAR 200 SS | D11: =F11/1.19 -> 18046208 | E11: =F11-D11 -> 3428779.6 | F11: =REPUESTOS!AA108 -> 21474988
B12: 5 | C12: HERO ECO DELUXE | D12: =F12/1.19 -> 13944376 | E12: =F12-D12 -> 2649431.4 | F12: =REPUESTOS!AG108 -> 16593807
B13: 6 | C13: HONDA CB1 PRO | D13: =F13/1.19 -> 15928887 | E13: =F13-D13 -> 3026488.5 | F13: =REPUESTOS!AM108 -> 18955376
B14: 7 | C14: HONDA CBF 150 | D14: =F14/1.19 -> 16484456 | E14: =F14-D14 -> 3132046.6 | F14: =REPUESTOS!AS108 -> 19616502
B15: 8 | C15: HONDA XR 125 BRIO | D15: =F15/1.19 -> 16873173 | E15: =F15-D15 -> 3205903 | F15: =REPUESTOS!AY108 -> 20079076
B16: 9 | C16: HONDA XR 150 L | D16: =F16/1.19 -> 17731541 | E16: =F16-D16 -> 3368992.8 | F16: =REPUESTOS!BE108 -> 21100534
B17: 10 | C17: HONDA XR 200 TORNADO | D17: =F17/1.19 -> 19687404 | E17: =F17-D17 -> 3740606.7 | F17: =REPUESTOS!BK108 -> 23428010
B18: 11 | C18: SUZUKI DR 200 | D18: =F18/1.19 -> 19472591 | E18: =F18-D18 -> 3699792.3 | F18: =REPUESTOS!BQ108 -> 23172383
B19: 12 | C19: SUZUKI VIVA R 115 | D19: =F19/1.19 -> 15185911 | E19: =F19-D19 -> 2885323.1 | F19: =REPUESTOS!BW108 -> 18071234
B20: 13 | C20: YAMAHA XTZ125 | D20: =F20/1.19 -> 17891699 | E20: =F20-D20 -> 3399422.8 | F20: =REPUESTOS!CC108 -> 21291121
B21: 14 | C21: YAMAHA YBR125 SS | D21: =F21/1.19 -> 16855464 | E21: =F21-D21 -> 3202538.1 | F21: =REPUESTOS!CI108 -> 20058002
B22: TOTAL PORTAFOLIO PROMEDIO - REPUESTOS | D22: =SUM(D8:D21) -> 2.3213045e+08 | E22: =SUM(E8:E21) -> 44104786 | F22: =SUM(F8:F21) -> 2.7623524e+08
C24: REPUESTOS COMUNES
B25: ITEM | C25: DESCRIPCIÓN | D25: SUBTOTAL | E25: IVA | F25: PRECIO TECHO
B26: 1 | C26: REPUESTOS COMUNES | D26: =F26/1.19 -> 1921048.8 | E26: =F26-D26 -> 364999.26 | F26: ='REPUESTOS COMUNES'!J29 -> 2286048
B27: TOTAL PORTAFOLIO PROMEDIO - REPUESTOS COMUNES | D27: =D26 -> 1921048.8 | E27: =E26 -> 364999.26 | F27: =F26 -> 2286048
C29: MANO DE OBRA
B30: ITEM | C30: DESCRIPCIÓN | D30: SUBTOTAL | E30: IVA | F30: PRECIOTECHO
B31: 1 | C31: CILINDRAJE HASTA 249 CC | D31: =F31/1.19 -> 17229082 | E31: =F31-D31 -> 3273525.6 | F31: ='MANO DE OBRA'!I121 -> 20502608
B32: 2 | C32: CILINDRAJE IGUAL O SUPERIOR A 250 CC | D32: =F32/1.19 -> 21314626 | E32: =F32-D32 -> 4049778.8 | F32: ='MANO DE OBRA'!O121 -> 25364404
B33: TOTAL PORTAFOLIO PROMEDIO - MANO DE OBRA | D33: =SUM(D31:D32) -> 38543708 | E33: =SUM(E31:E32) -> 7323304.5 | F33: =SUM(F31:F32) -> 45867012
C35: TOTAL PRECIO TECHO PORTAFOLIO MANTENIMIENTO VEHICULOS MULTIMARCA | F35: =F22+F27+F33 -> 3.243883e+08
