Workbook

Sheet REPUESTOS
D1: a
B2: PRECIOS TECHO | D2: RESPUESTOS MOTOCICLETAS MULTIMARCAS | S2: RESPUESTOS MOTOCICLETAS MULTIMARCAS | AH2: RESPUESTOS MOTOCICLETAS MULTIMARCAS | AW2: RESPUESTOS MOTOCICLETAS MULTIMARCAS
D3: MANTENIMIENTO MOTOCICLETAS LOTE 3 | S3: MANTENIMIENTO MOTOCICLETAS | AH3: MANTENIMIENTO MOTOCICLETAS | AW3: MANTENIMIENTO MOTOCICLETAS
D4: *** Incluye Costos Directos e Indirectos | S4: *** Incluye Costos Directos e Indirectos | AH4: *** Incluye Costos Directos e Indirectos | AW4: *** Incluye Costos Directos e Indirectos
B6: DESCRIPCION | D6: AKT AKT180 | G6: AUTECO BAJAJ PLATINO | J6: BAJAJ PULSAR 200 | M6: HONDA CB 110 | P6: HONDA CB 150 | S6: HONDA ECODELUX | V6: HONDA ELITE | Y6: HONDA XR125 | AB6: KEEWAY RKS150 | AE6: SUZUKI DR200 | AH6: SUZUKI GS-125 | AK6: YAMAHA FZ15N | AN6: YAMAHA SZ16R | AQ6: YAMAHA T115 | AT6: YAMAHA XTZ 125 | AW6: YAMAHA XTZ 225D | AZ6: YAMAHA XTZ 250
D7: COTIZACION 1 SERVICAR DEL SUR | E7: COTIZACION 2 CBM CENTRO AUTOMOTRIZ | F7: TOTAL | G7: COTIZACION 1 SERVICAR DEL SUR | H7: COTIZACION 2 CBM CENTRO AUTOMOTRIZ | I7: PRECIO TECHO | J7: COTIZACION 1 | K7: COTIZACION 2 | L7: PRECIO TECHO | M7: COTIZACION 1 | N7: COTIZACION 2 | O7: PRECIO TECHO | P7: COTIZACION 1 | Q7: COTIZACION 2 | R7: PRECIO TECHO | S7: COTIZACION 1 | T7: COTIZACION 2 | U7: PRECIO TECHO | V7: COTIZACION 1 | W7: COTIZACION 2 | X7: PRECIO TECHO | Y7: COTIZACION 1 | Z7: COTIZACION 2 | AA7: PRECIO TECHO | AB7: COTIZACION 1 | AC7: COTIZACION 2 | AD7: PRECIO TECHO | AE7: COTIZACION 1 | AF7: COTIZACION 2 | AG7: PRECIO TECHO | AH7: COTIZACION 1 | AI7: COTIZACION 2 | AJ7: PRECIO TECHO | AK7: COTIZACION 1 | AL7: COTIZACION 2 | AM7: PRECIO TECHO | AN7: COTIZACION 1 | AO7: COTIZACION 2 | AP7: PRECIO TECHO | AQ7: COTIZACION 1 | AR7: COTIZACION 2 | AS7: PRECIO TECHO | AT7: COTIZACION 1 | AU7: COTIZACION 2 | AV7: PRECIO TECHO | AW7: COTIZACION 1 | AX7: COTIZACION 2 | AY7: PRECIO TECHO | AZ7: COTIZACION 1 | BA7: COTIZACION 2 | BB7: PRECIO TECHO
B8: 1 | C8: SINCRONIZACION
B9: 1.1 | C9: AGUJA BASE Y PUNSON | D9: 78017.032 | E9: 75378.775 | F9: =AVERAGE(D9:E9) -> 76697.904 | G9: 83843.057 | H9: 81007.784 | I9: =AVERAGE(G9:H9) -> 82425.42 | J9: 129104.86 | K9: 124738.99 | L9: =AVERAGE(J9:K9) -> 126921.92 | M9: 83843.057 | N9: 81007.784 | O9: =AVERAGE(M9:N9) -> 82425.42 | P9: 107716.83 | Q9: 104074.23 | R9: =AVERAGE(P9:Q9) -> 105895.53 | S9: 83843.057 | T9: 81007.784 | U9: =AVERAGE(S9:T9) -> 82425.42 | V9: 107716.83 | W9: 104074.23 | X9: =AVERAGE(V9:W9) -> 105895.53 | Y9: 107716.83 | Z9: 104074.23 | AA9: =AVERAGE(Y9:Z9) -> 105895.53 | AB9: 95495.105 | AC9: 92265.802 | AD9: =AVERAGE(AB9:AC9) -> 93880.453 | AE9: 149091.11 | AF9: 144049.38 | AG9: =AVERAGE(AE9:AF9) -> 146570.25 | AH9: 83843.057 | AI9: 81007.784 | AJ9: =AVERAGE(AH9:AI9) -> 82425.42 | AK9: 107716.83 | AL9: 104074.23 | AM9: =AVERAGE(AK9:AL9) -> 105895.53 | AN9: 119205.26 | AO9: 115174.16 | AP9: =AVERAGE(AN9:AO9) -> 117189.71 | AQ9: 83843.057 | AR9: 81007.784 | AS9: =AVERAGE(AQ9:AR9) -> 82425.42 | AT9: 83843.057 | AU9: 81007.784 | AV9: =AVERAGE(AT9:AU9) -> 82425.42 | AW9: 107716.83 | AX9: 104074.23 | AY9: =AVERAGE(AW9:AX9) -> 105895.53 | AZ9: 149091.11 | BA9: 144049.38 | BB9: =AVERAGE(AZ9:BA9) -> 146570.25
B10: 1.2 | C10: BUJIA | D10: 47535.405 | E10: 46150.878 | F10: =AVERAGE(D10:E10) -> 46843.141 | G10: 51702.63 | H10: 50196.728 | I10: =AVERAGE(G10:H10) -> 50949.679 | J10: 60037.082 | K10: 58288.429 | L10: =AVERAGE(J10:K10) -> 59162.755 | M10: 51702.63 | N10: 50196.728 | O10: =AVERAGE(M10:N10) -> 50949.679 | P10: 60037.082 | Q10: 58288.429 | R10: =AVERAGE(P10:Q10) -> 59162.755 | S10: 51702.63 | T10: 50196.728 | U10: =AVERAGE(S10:T10) -> 50949.679 | V10: 60037.082 | W10: 58288.429 | X10: =AVERAGE(V10:W10) -> 59162.755 | Y10: 60037.082 | Z10: 58288.429 | AA10: =AVERAGE(Y10:Z10) -> 59162.755 | AB10: 60037.082 | AC10: 58288.429 | AD10: =AVERAGE(AB10:AC10) -> 59162.755 | AE10: 60037.082 | AF10: 58288.429 | AG10: =AVERAGE(AE10:AF10) -> 59162.755 | AH10: 51702.63 | AI10: 50196.728 | AJ10: =AVERAGE(AH10:AI10) -> 50949.679 | AK10: 60037.082 | AL10: 58288.429 | AM10: =AVERAGE(AK10:AL10) -> 59162.755 | AN10: 60037.082 | AO10: 58288.429 | AP10: =AVERAGE(AN10:AO10) -> 59162.755 | AQ10: 51702.63 | AR10: 50196.728 | AS10: =AVERAGE(AQ10:AR10) -> 50949.679 | AT10: 51702.63 | AU10: 50196.728 | AV10: =AVERAGE(AT10:AU10) -> 50949.679 | AW10: 60037.082 | AX10: 58288.429 | AY10: =AVERAGE(AW10:AX10) -> 59162.755 | AZ10: 60037.082 | BA10: 58288.429 | BB10: =AVERAGE(AZ10:BA10) -> 59162.755
B11: 1.3 | C11: CARBURADOR | D11: 513225.71 | E11: 500708.01 | F11: =AVERAGE(D11:E11) -> 506966.86 | G11: 515072.88 | H11: 502510.13 | I11: =AVERAGE(G11:H11) -> 508791.51 | J11: 798044.86 | K11: 778580.35 | L11: =AVERAGE(J11:K11) -> 788312.6 | M11: 504292.9 | N11: 491993.08 | O11: =AVERAGE(M11:N11) -> 498142.99 | P11: 620237.74 | Q11: 605109.99 | R11: =AVERAGE(P11:Q11) -> 612673.86 | S11: 471300.01 | T11: 459804.89 | U11: =AVERAGE(S11:T11) -> 465552.45 | V11: 585086.82 | W11: 570816.41 | X11: =AVERAGE(V11:W11) -> 577951.61 | Y11: 611119.82 | Z11: 596214.46 | AA11: =AVERAGE(Y11:Z11) -> 603667.14 | AB11: 494889.13 | AC11: 482818.66 | AD11: =AVERAGE(AB11:AC11) -> 488853.89 | AE11: 939772.07 | AF11: 916850.8 | AG11: =AVERAGE(AE11:AF11) -> 928311.43 | AH11: 494889.13 | AI11: 482818.66 | AJ11: =AVERAGE(AH11:AI11) -> 488853.89 | AK11: 611119.82 | AL11: 596214.46 | AM11: =AVERAGE(AK11:AL11) -> 603667.14 | AN11: 732680.74 | AO11: 714810.48 | AP11: =AVERAGE(AN11:AO11) -> 723745.61 | AQ11: 504292.12 | AR11: 491992.32 | AS11: =AVERAGE(AQ11:AR11) -> 498142.22 | AT11: 515072.88 | AU11: 502510.13 | AV11: =AVERAGE(AT11:AU11) -> 508791.51 | AW11: 611119.82 | AX11: 596214.46 | AY11: =AVERAGE(AW11:AX11) -> 603667.14 | AZ11: 974852.69 | BA11: 951075.8 | BB11: =AVERAGE(AZ11:BA11) -> 962964.25
B12: 1.4 | C12: EMPAQUES CARBURADOR | D12: 48534.509 | E12: 47582.852 | F12: =AVERAGE(D12:E12) -> 48058.68 | G12: 52158.887 | H12: 51136.164 | I12: =AVERAGE(G12:H12) -> 51647.525 | J12: 80316.318 | K12: 78741.489 | L12: =AVERAGE(J12:K12) -> 79528.904 | M12: 52158.887 | N12: 51136.164 | O12: =AVERAGE(M12:N12) -> 51647.525 | P12: 67010.798 | Q12: 65696.861 | R12: =AVERAGE(P12:Q12) -> 66353.829 | S12: 52158.887 | T12: 51136.164 | U12: =AVERAGE(S12:T12) -> 51647.525 | V12: 67010.798 | W12: 65696.861 | X12: =AVERAGE(V12:W12) -> 66353.829 | Y12: 67010.798 | Z12: 65696.861 | AA12: =AVERAGE(Y12:Z12) -> 66353.829 | AB12: 59407.643 | AC12: 58242.787 | AD12: =AVERAGE(AB12:AC12) -> 58825.215 | AE12: 92749.797 | AF12: 90931.174 | AG12: =AVERAGE(AE12:AF12) -> 91840.485 | AH12: 52158.887 | AI12: 51136.164 | AJ12: =AVERAGE(AH12:AI12) -> 51647.525 | AK12: 67010.798 | AL12: 65696.861 | AM12: =AVERAGE(AK12:AL12) -> 66353.829 | AN12: 74157.763 | AO12: 72703.689 | AP12: =AVERAGE(AN12:AO12) -> 73430.726 | AQ12: 52158.887 | AR12: 51136.164 | AS12: =AVERAGE(AQ12:AR12) -> 51647.525 | AT12: 52158.887 | AU12: 51136.164 | AV12: =AVERAGE(AT12:AU12) -> 51647.525 | AW12: 67010.798 | AX12: 65696.861 | AY12: =AVERAGE(AW12:AX12) -> 66353.829 | AZ12: 92749.797 | BA12: 90931.174 | BB12: =AVERAGE(AZ12:BA12) -> 91840.485
B13: 1.5 | C13: FILTRO COMBUSTIBLE | D13: 21996.469 | E13: 21671.398 | F13: =AVERAGE(D13:E13) -> 21833.933 | G13: 23639.084 | H13: 23289.738 | I13: =AVERAGE(G13:H13) -> 23464.411 | J13: 36400.397 | K13: 35862.46 | L13: =AVERAGE(J13:K13) -> 36131.429 | M13: 23639.084 | N13: 23289.738 | O13: =AVERAGE(M13:N13) -> 23464.411 | P13: 30370.163 | Q13: 29921.342 | R13: =AVERAGE(P13:Q13) -> 30145.753 | S13: 23639.084 | T13: 23289.738 | U13: =AVERAGE(S13:T13) -> 23464.411 | V13: 30370.163 | W13: 29921.342 | X13: =AVERAGE(V13:W13) -> 30145.753 | Y13: 30370.163 | Z13: 29921.342 | AA13: =AVERAGE(Y13:Z13) -> 30145.753 | AB13: 26924.314 | AC13: 26526.418 | AD13: =AVERAGE(AB13:AC13) -> 26725.366 | AE13: 42035.411 | AF13: 41414.198 | AG13: =AVERAGE(AE13:AF13) -> 41724.804 | AH13: 23639.084 | AI13: 23289.738 | AJ13: =AVERAGE(AH13:AI13) -> 23464.411 | AK13: 30370.163 | AL13: 29921.342 | AM13: =AVERAGE(AK13:AL13) -> 30145.753 | AN13: 33609.26 | AO13: 33112.571 | AP13: =AVERAGE(AN13:AO13) -> 33360.916 | AQ13: 23639.084 | AR13: 23289.738 | AS13: =AVERAGE(AQ13:AR13) -> 23464.411 | AT13: 23639.084 | AU13: 23289.738 | AV13: =AVERAGE(AT13:AU13) -> 23464.411 | AW13: 30370.163 | AX13: 29921.342 | AY13: =AVERAGE(AW13:AX13) -> 30145.753 | AZ13: 42035.411 | BA13: 41414.198 | BB13: =AVERAGE(AZ13:BA13) -> 41724.804
B14: 1.6 | C14: FILTRO DE AIRE | D14: 39335.158 | E14: 38945.701 | F14: =AVERAGE(D14:E14) -> 39140.429 | G14: 42272.562 | H14: 41854.022 | I14: =AVERAGE(G14:H14) -> 42063.292 | J14: 65092.964 | K14: 64448.479 | L14: =AVERAGE(J14:K14) -> 64770.722 | M14: 42272.562 | N14: 41854.022 | O14: =AVERAGE(M14:N14) -> 42063.292 | P14: 54309.405 | Q14: 53771.688 | R14: =AVERAGE(P14:Q14) -> 54040.546 | S14: 42272.562 | T14: 41854.022 | U14: =AVERAGE(S14:T14) -> 42063.292 | V14: 54309.405 | W14: 53771.688 | X14: =AVERAGE(V14:W14) -> 54040.546 | Y14: 54309.405 | Z14: 53771.688 | AA14: =AVERAGE(Y14:Z14) -> 54040.546 | AB14: 48147.371 | AC14: 47670.664 | AD14: =AVERAGE(AB14:AC14) -> 47909.018 | AE14: 75169.77 | AF14: 74425.515 | AG14: =AVERAGE(AE14:AF14) -> 74797.643 | AH14: 42272.562 | AI14: 41854.022 | AJ14: =AVERAGE(AH14:AI14) -> 42063.292 | AK14: 54309.405 | AL14: 53771.688 | AM14: =AVERAGE(AK14:AL14) -> 54040.546 | AN14: 60101.717 | AO14: 59506.65 | AP14: =AVERAGE(AN14:AO14) -> 59804.183 | AQ14: 42272.562 | AR14: 41854.022 | AS14: =AVERAGE(AQ14:AR14) -> 42063.292 | AT14: 42272.562 | AU14: 41854.022 | AV14: =AVERAGE(AT14:AU14) -> 42063.292 | AW14: 54309.405 | AX14: 53771.688 | AY14: =AVERAGE(AW14:AX14) -> 54040.546 | AZ14: 75169.77 | BA14: 74425.515 | BB14: =AVERAGE(AZ14:BA14) -> 74797.643
B15: 1.7 | C15: GUAYA ACELERADOR | D15: 43559.51 | E15: 43342.796 | F15: =AVERAGE(D15:E15) -> 43451.153 | G15: 46812.373 | H15: 46579.476 | I15: =AVERAGE(G15:H15) -> 46695.925 | J15: 72083.545 | K15: 71724.92 | L15: =AVERAGE(J15:K15) -> 71904.233 | M15: 46812.373 | N15: 46579.476 | O15: =AVERAGE(M15:N15) -> 46695.925 | P15: 60141.898 | Q15: 59842.685 | R15: =AVERAGE(P15:Q15) -> 59992.292 | S15: 46812.373 | T15: 46579.476 | U15: =AVERAGE(S15:T15) -> 46695.925 | V15: 60141.898 | W15: 59842.685 | X15: =AVERAGE(V15:W15) -> 59992.292 | Y15: 60141.898 | Z15: 59842.685 | AA15: =AVERAGE(Y15:Z15) -> 59992.292 | AB15: 53318.1 | AC15: 53052.836 | AD15: =AVERAGE(AB15:AC15) -> 53185.468 | AE15: 83242.538 | AF15: 82828.396 | AG15: =AVERAGE(AE15:AF15) -> 83035.467 | AH15: 46812.373 | AI15: 46579.476 | AJ15: =AVERAGE(AH15:AI15) -> 46695.925 | AK15: 60141.898 | AL15: 59842.685 | AM15: =AVERAGE(AK15:AL15) -> 59992.292 | AN15: 66556.269 | AO15: 66225.143 | AP15: =AVERAGE(AN15:AO15) -> 66390.706 | AQ15: 46812.373 | AR15: 46579.476 | AS15: =AVERAGE(AQ15:AR15) -> 46695.925 | AT15: 46812.373 | AU15: 46579.476 | AV15: =AVERAGE(AT15:AU15) -> 46695.925 | AW15: 60141.898 | AX15: 59842.685 | AY15: =AVERAGE(AW15:AX15) -> 59992.292 | AZ15: 83242.538 | BA15: 82828.396 | BB15: =AVERAGE(AZ15:BA15) -> 83035.467
B16: 1.8 | C16: GUAYA CHOQUE | D16: 43776.224 | E16: 43342.796 | F16: =AVERAGE(D16:E16) -> 43559.51 | G16: 47045.271 | H16: 46579.476 | I16: =AVERAGE(G16:H16) -> 46812.373 | J16: 72442.17 | K16: 71724.92 | L16: =AVERAGE(J16:K16) -> 72083.545 | M16: 47045.271 | N16: 46579.476 | O16: =AVERAGE(M16:N16) -> 46812.373 | P16: 60441.112 | Q16: 59842.685 | R16: =AVERAGE(P16:Q16) -> 60141.898 | S16: 47045.271 | T16: 46579.476 | U16: =AVERAGE(S16:T16) -> 46812.373 | V16: 60441.112 | W16: 59842.685 | X16: =AVERAGE(V16:W16) -> 60141.898 | Y16: 60441.112 | Z16: 59842.685 | AA16: =AVERAGE(Y16:Z16) -> 60141.898 | AB16: 53583.364 | AC16: 53052.836 | AD16: =AVERAGE(AB16:AC16) -> 53318.1 | AE16: 83656.68 | AF16: 82828.396 | AG16: =AVERAGE(AE16:AF16) -> 83242.538 | AH16: 47045.271 | AI16: 46579.476 | AJ16: =AVERAGE(AH16:AI16) -> 46812.373 | AK16: 60441.112 | AL16: 59842.685 | AM16: =AVERAGE(AK16:AL16) -> 60141.898 | AN16: 66887.394 | AO16: 66225.143 | AP16: =AVERAGE(AN16:AO16) -> 66556.269 | AQ16: 47045.271 | AR16: 46579.476 | AS16: =AVERAGE(AQ16:AR16) -> 46812.373 | AT16: 47045.271 | AU16: 46579.476 | AV16: =AVERAGE(AT16:AU16) -> 46812.373 | AW16: 60441.112 | AX16: 59842.685 | AY16: =AVERAGE(AW16:AX16) -> 60141.898 | AZ16: 83656.68 | BA16: 82828.396 | BB16: =AVERAGE(AZ16:BA16) -> 83242.538
B17: 1.9 | C17: KIT CARBURADOR | D17: 83204.034 | E17: 81974.418 | F17: =AVERAGE(D17:E17) -> 82589.226 | G17: 89417.405 | H17: 88095.965 | I17: =AVERAGE(G17:H17) -> 88756.685 | J17: 159399.55 | K17: 157043.89 | L17: =AVERAGE(J17:K17) -> 158221.72 | M17: 89417.405 | N17: 88095.965 | O17: =AVERAGE(M17:N17) -> 88756.685 | P17: 136589.53 | Q17: 134570.96 | R17: =AVERAGE(P17:Q17) -> 135580.25 | S17: 89417.405 | T17: 88095.965 | U17: =AVERAGE(S17:T17) -> 88756.685 | V17: 136589.53 | W17: 134570.96 | X17: =AVERAGE(V17:W17) -> 135580.25 | Y17: 136589.53 | Z17: 134570.96 | AA17: =AVERAGE(Y17:Z17) -> 135580.25 | AB17: 123555.23 | AC17: 121729.29 | AD17: =AVERAGE(AB17:AC17) -> 122642.26 | AE17: 180714.6 | AF17: 178043.94 | AG17: =AVERAGE(AE17:AF17) -> 179379.27 | AH17: 89417.405 | AI17: 88095.965 | AJ17: =AVERAGE(AH17:AI17) -> 88756.685 | AK17: 136589.53 | AL17: 134570.96 | AM17: =AVERAGE(AK17:AL17) -> 135580.25 | AN17: 148841.77 | AO17: 146642.13 | AP17: =AVERAGE(AN17:AO17) -> 147741.95 | AQ17: 89417.405 | AR17: 88095.965 | AS17: =AVERAGE(AQ17:AR17) -> 88756.685 | AT17: 89417.405 | AU17: 88095.965 | AV17: =AVERAGE(AT17:AU17) -> 88756.685 | AW17: 136589.53 | AX17: 134570.96 | AY17: =AVERAGE(AW17:AX17) -> 135580.25 | AZ17: 180714.6 | BA17: 178043.94 | BB17: =AVERAGE(AZ17:BA17) -> 179379.27
B18: 1.10 | C18: LLAVE PASO COMBUSTIBLE | D18: 81371.388 | E18: 79775.871 | F18: =AVERAGE(D18:E18) -> 80573.629 | G18: 87447.903 | H18: 85733.238 | I18: =AVERAGE(G18:H18) -> 86590.571 | J18: 134655.74 | K18: 132015.43 | L18: =AVERAGE(J18:K18) -> 133335.59 | M18: 87447.903 | N18: 85733.238 | O18: =AVERAGE(M18:N18) -> 86590.571 | P18: 112348.14 | Q18: 110145.23 | R18: =AVERAGE(P18:Q18) -> 111246.68 | S18: 87447.903 | T18: 85733.238 | U18: =AVERAGE(S18:T18) -> 86590.571 | V18: 112348.14 | W18: 110145.23 | X18: =AVERAGE(V18:W18) -> 111246.68 | Y18: 112348.14 | Z18: 110145.23 | AA18: =AVERAGE(Y18:Z18) -> 111246.68 | AB18: 99600.933 | AC18: 97647.974 | AD18: =AVERAGE(AB18:AC18) -> 98624.453 | AE18: 155501.31 | AF18: 152452.26 | AG18: =AVERAGE(AE18:AF18) -> 153976.79 | AH18: 87447.903 | AI18: 85733.238 | AJ18: =AVERAGE(AH18:AI18) -> 86590.571 | AK18: 112348.14 | AL18: 110145.23 | AM18: =AVERAGE(AK18:AL18) -> 111246.68 | AN18: 124330.51 | AO18: 121892.65 | AP18: =AVERAGE(AN18:AO18) -> 123111.58 | AQ18: 87447.903 | AR18: 85733.238 | AS18: =AVERAGE(AQ18:AR18) -> 86590.571 | AT18: 87447.903 | AU18: 85733.238 | AV18: =AVERAGE(AT18:AU18) -> 86590.571 | AW18: 112348.14 | AX18: 110145.23 | AY18: =AVERAGE(AW18:AX18) -> 111246.68 | AZ18: 155501.31 | BA18: 152452.26 | BB18: =AVERAGE(AZ18:BA18) -> 153976.79
B19: 2 | C19: MOTOR | D19: 0 | E19: 0 | G19: 0 | H19: 0 | I19: =AVERAGE(G19:H19) -> 0 | J19: 0 | K19: 0 | L19: =AVERAGE(J19:K19) -> 0 | M19: 0 | N19: 0 | O19: =AVERAGE(M19:N19) -> 0 | P19: 0 | Q19: 0 | R19: =AVERAGE(P19:Q19) -> 0 | S19: 0 | T19: 0 | U19: =AVERAGE(S19:T19) -> 0 | V19: 0 | W19: 0 | X19: =AVERAGE(V19:W19) -> 0 | Y19: 0 | Z19: 0 | AA19: =AVERAGE(Y19:Z19) -> 0 | AB19: 0 | AC19: 0 | AD19: =AVERAGE(AB19:AC19) -> 0 | AE19: 0 | AF19: 0 | AG19: =AVERAGE(AE19:AF19) -> 0 | AH19: 0 | AI19: 0 | AJ19: =AVERAGE(AH19:AI19) -> 0 | AK19: 0 | AL19: 0 | AM19: =AVERAGE(AK19:AL19) -> 0 | AN19: 0 | AO19: 0 | AP19: =AVERAGE(AN19:AO19) -> 0 | AQ19: 0 | AR19: 0 | AS19: =AVERAGE(AQ19:AR19) -> 0 | AT19: 0 | AU19: 0 | AV19: =AVERAGE(AT19:AU19) -> 0 | AW19: 0 | AX19: 0 | AY19: =AVERAGE(AW19:AX19) -> 0 | AZ19: 0 | BA19: 0 | BB19: =AVERAGE(AZ19:BA19) -> 0
B20: 2.1 | C20: BALANCIN | D20: 111607.7 | E20: 108356.99 | F20: =AVERAGE(D20:E20) -> 109982.34 | G20: 119942.15 | H20: 116448.69 | I20: =AVERAGE(G20:H20) -> 118195.42 | J20: 184691.67 | K20: 179312.3 | L20: =AVERAGE(J20:K20) -> 182001.99 | M20: 119942.15 | N20: 116448.69 | O20: =AVERAGE(M20:N20) -> 118195.42 | P20: 154094.91 | Q20: 149606.71 | R20: =AVERAGE(P20:Q20) -> 151850.81 | S20: 119942.15 | T20: 116448.69 | U20: =AVERAGE(S20:T20) -> 118195.42 | V20: 154094.91 | W20: 149606.71 | X20: =AVERAGE(V20:W20) -> 151850.81 | Y20: 154094.91 | Z20: 149606.71 | AA20: =AVERAGE(Y20:Z20) -> 151850.81 | AB20: 136611.05 | AC20: 132632.09 | AD20: =AVERAGE(AB20:AC20) -> 134621.57 | AE20: 213283.12 | AF20: 207070.99 | AG20: =AVERAGE(AE20:AF20) -> 210177.05 | AH20: 119942.15 | AI20: 116448.69 | AJ20: =AVERAGE(AH20:AI20) -> 118195.42 | AK20: 154094.91 | AL20: 149606.71 | AM20: =AVERAGE(AK20:AL20) -> 151850.81 | AN20: 170529.74 | AO20: 165562.86 | AP20: =AVERAGE(AN20:AO20) -> 168046.3 | AQ20: 119942.15 | AR20: 116448.69 | AS20: =AVERAGE(AQ20:AR20) -> 118195.42 | AT20: 119942.15 | AU20: 116448.69 | AV20: =AVERAGE(AT20:AU20) -> 118195.42 | AW20: 154094.91 | AX20: 149606.71 | AY20: =AVERAGE(AW20:AX20) -> 151850.81 | AZ20: 213283.12 | BA20: 207070.99 | BB20: =AVERAGE(AZ20:BA20) -> 210177.05
B21: 2.2 | C21: BIELA MOTOR | D21: 179439.17 | E21: 173371.18 | F21: =AVERAGE(D21:E21) -> 176405.18 | G21: 192839.03 | H21: 186317.9 | I21: =AVERAGE(G21:H21) -> 189578.47 | J21: 296941.17 | K21: 286899.68 | L21: =AVERAGE(J21:K21) -> 291920.43 | M21: 192839.03 | N21: 186317.9 | O21: =AVERAGE(M21:N21) -> 189578.47 | P21: 247748.72 | Q21: 239370.74 | R21: =AVERAGE(P21:Q21) -> 243559.73 | S21: 192839.03 | T21: 186317.9 | U21: =AVERAGE(S21:T21) -> 189578.47 | V21: 247748.72 | W21: 239370.74 | X21: =AVERAGE(V21:W21) -> 243559.73 | Y21: 247748.72 | Z21: 239370.74 | AA21: =AVERAGE(Y21:Z21) -> 243559.73 | AB21: 219638.74 | AC21: 212211.34 | AD21: =AVERAGE(AB21:AC21) -> 215925.04 | AE21: 342909.56 | AF21: 331313.58 | AG21: =AVERAGE(AE21:AF21) -> 337111.57 | AH21: 192839.03 | AI21: 186317.9 | AJ21: =AVERAGE(AH21:AI21) -> 189578.47 | AK21: 247748.72 | AL21: 239370.74 | AM21: =AVERAGE(AK21:AL21) -> 243559.73 | AN21: 274172.09 | AO21: 264900.57 | AP21: =AVERAGE(AN21:AO21) -> 269536.33 | AQ21: 192839.03 | AR21: 186317.9 | AS21: =AVERAGE(AQ21:AR21) -> 189578.47 | AT21: 192839.03 | AU21: 186317.9 | AV21: =AVERAGE(AT21:AU21) -> 189578.47 | AW21: 247748.72 | AX21: 239370.74 | AY21: =AVERAGE(AW21:AX21) -> 243559.73 | AZ21: 342909.56 | BA21: 331313.58 | BB21: =AVERAGE(AZ21:BA21) -> 337111.57
B22: 2.3 | C22: BOMBA DE ACEITE | D22: 170499.72 | E22: 164734.03 | F22: =AVERAGE(D22:E22) -> 167616.88 | G22: 183232.01 | H22: 177035.76 | I22: =AVERAGE(G22:H22) -> 180133.89 | J22: 282147.91 | K22: 272606.67 | L22: =AVERAGE(J22:K22) -> 277377.29 | M22: 183232.01 | N22: 177035.76 | O22: =AVERAGE(M22:N22) -> 180133.89 | P22: 235406.16 | Q22: 227445.57 | R22: =AVERAGE(P22:Q22) -> 231425.86 | S22: 183232.01 | T22: 177035.76 | U22: =AVERAGE(S22:T22) -> 180133.89 | V22: 235406.16 | W22: 227445.57 | X22: =AVERAGE(V22:W22) -> 231425.86 | Y22: 235406.16 | Z22: 227445.57 | AA22: =AVERAGE(Y22:Z22) -> 231425.86 | AB22: 208696.59 | AC22: 201639.22 | AD22: =AVERAGE(AB22:AC22) -> 205167.91 | AE22: 325826.2 | AF22: 314807.92 | AG22: =AVERAGE(AE22:AF22) -> 320317.06 | AH22: 183232.01 | AI22: 177035.76 | AJ22: =AVERAGE(AH22:AI22) -> 180133.89 | AK22: 235406.16 | AL22: 227445.57 | AM22: =AVERAGE(AK22:AL22) -> 231425.86 | AN22: 260513.16 | AO22: 251703.53 | AP22: =AVERAGE(AN22:AO22) -> 256108.34 | AQ22: 183232.01 | AR22: 177035.76 | AS22: =AVERAGE(AQ22:AR22) -> 180133.89 | AT22: 183232.01 | AU22: 177035.76 | AV22: =AVERAGE(AT22:AU22) -> 180133.89 | AW22: 235406.16 | AX22: 227445.57 | AY22: =AVERAGE(AW22:AX22) -> 231425.86 | AZ22: 325826.2 | BA22: 314807.92 | BB22: =AVERAGE(AZ22:BA22) -> 320317.06
B23: 2.4 | C23: CADENILLA MOTOR | D23: 209075.15 | E23: 202985.59 | F23: =AVERAGE(D23:E23) -> 206030.37 | G23: 206998.43 | H23: 200969.35 | I23: =AVERAGE(G23:H23) -> 203983.89 | J23: 317922.43 | K23: 308662.55 | L23: =AVERAGE(J23:K23) -> 313292.49 | M23: 209327.09 | N23: 203230.19 | O23: =AVERAGE(M23:N23) -> 206278.64 | P23: 226028.62 | Q23: 219445.26 | R23: =AVERAGE(P23:Q23) -> 222736.94 | S23: 170017.64 | T23: 165065.67 | U23: =AVERAGE(S23:T23) -> 167541.66 | V23: 217691.89 | W23: 211351.35 | X23: =AVERAGE(V23:W23) -> 214521.62 | Y23: 206406.46 | Z23: 200394.62 | AA23: =AVERAGE(Y23:Z23) -> 203400.54 | AB23: 207674.19 | AC23: 201625.43 | AD23: =AVERAGE(AB23:AC23) -> 204649.81 | AE23: 343401.42 | AF23: 333399.44 | AG23: =AVERAGE(AE23:AF23) -> 338400.43 | AH23: 202263.4 | AI23: 196372.23 | AJ23: =AVERAGE(AH23:AI23) -> 199317.82 | AK23: 207434.62 | AL23: 201392.84 | AM23: =AVERAGE(AK23:AL23) -> 204413.73 | AN23: 288514.01 | AO23: 280110.69 | AP23: =AVERAGE(AN23:AO23) -> 284312.35 | AQ23: 211855.11 | AR23: 205684.57 | AS23: =AVERAGE(AQ23:AR23) -> 208769.84 | AT23: 202263.4 | AU23: 196372.23 | AV23: =AVERAGE(AT23:AU23) -> 199317.82 | AW23: 241780.65 | AX23: 234738.5 | AY23: =AVERAGE(AW23:AX23) -> 238259.57 | AZ23: 351217.79 | BA23: 340988.15 | BB23: =AVERAGE(AZ23:BA23) -> 346102.97
B24: 2.5 | C24: CIGÜEÑAL | D24: 392915.79 | E24: 383332.48 | F24: =AVERAGE(D24:E24) -> 388124.14 | G24: 422257.29 | H24: 411958.34 | I24: =AVERAGE(G24:H24) -> 417107.82 | J24: 650208.49 | K24: 634349.75 | L24: =AVERAGE(J24:K24) -> 642279.12 | M24: 422257.29 | N24: 411958.34 | O24: =AVERAGE(M24:N24) -> 417107.82 | P24: 542492.37 | Q24: 529260.85 | R24: =AVERAGE(P24:Q24) -> 535876.61 | S24: 422257.29 | T24: 411958.34 | U24: =AVERAGE(S24:T24) -> 417107.82 | V24: 542492.37 | W24: 529260.85 | X24: =AVERAGE(V24:W24) -> 535876.61 | Y24: 542492.37 | Z24: 529260.85 | AA24: =AVERAGE(Y24:Z24) -> 535876.61 | AB24: 480940.3 | AC24: 469210.05 | AD24: =AVERAGE(AB24:AC24) -> 475075.17 | AE24: 750864.92 | AF24: 732551.14 | AG24: =AVERAGE(AE24:AF24) -> 741708.03 | AH24: 422257.29 | AI24: 411958.34 | AJ24: =AVERAGE(AH24:AI24) -> 417107.82 | AK24: 542492.37 | AL24: 529260.85 | AM24: =AVERAGE(AK24:AL24) -> 535876.61 | AN24: 600351.32 | AO24: 585708.6 | AP24: =AVERAGE(AN24:AO24) -> 593029.96 | AQ24: 422257.29 | AR24: 411958.34 | AS24: =AVERAGE(AQ24:AR24) -> 417107.82 | AT24: 422257.29 | AU24: 411958.34 | AV24: =AVERAGE(AT24:AU24) -> 417107.82 | AW24: 542492.37 | AX24: 529260.85 | AY24: =AVERAGE(AW24:AX24) -> 535876.61 | AZ24: 750864.92 | BA24: 732551.14 | BB24: =AVERAGE(AZ24:BA24) -> 741708.03
B25: 2.6 | C25: CILINDRO MOTOR | D25: 287522.92 | E25: 281885.21 | F25: =AVERAGE(D25:E25) -> 284704.06 | G25: 308994.07 | H25: 302935.36 | I25: =AVERAGE(G25:H25) -> 305964.71 | J25: 475801.29 | K25: 466471.86 | L25: =AVERAGE(J25:K25) -> 471136.57 | M25: 308994.07 | N25: 302935.36 | O25: =AVERAGE(M25:N25) -> 305964.71 | P25: 396978.16 | Q25: 389194.27 | R25: =AVERAGE(P25:Q25) -> 393086.22 | S25: 308994.07 | T25: 302935.36 | U25: =AVERAGE(S25:T25) -> 305964.71 | V25: 396978.16 | W25: 389194.27 | X25: =AVERAGE(V25:W25) -> 393086.22 | Y25: 396978.16 | Z25: 389194.27 | AA25: =AVERAGE(Y25:Z25) -> 393086.22 | AB25: 351936.37 | AC25: 345035.66 | AD25: =AVERAGE(AB25:AC25) -> 348486.01 | AE25: 549458.37 | AF25: 538684.68 | AG25: =AVERAGE(AE25:AF25) -> 544071.52 | AH25: 308994.07 | AI25: 302935.36 | AJ25: =AVERAGE(AH25:AI25) -> 305964.71 | AK25: 396978.16 | AL25: 389194.27 | AM25: =AVERAGE(AK25:AL25) -> 393086.22 | AN25: 439317.44 | AO25: 430703.37 | AP25: =AVERAGE(AN25:AO25) -> 435010.41 | AQ25: 308994.07 | AR25: 302935.36 | AS25: =AVERAGE(AQ25:AR25) -> 305964.71 | AT25: 308994.07 | AU25: 302935.36 | AV25: =AVERAGE(AT25:AU25) -> 305964.71 | AW25: 396978.16 | AX25: 389194.27 | AY25: =AVERAGE(AW25:AX25) -> 393086.22 | AZ25: 549458.37 | BA25: 538684.68 | BB25: =AVERAGE(AZ25:BA25) -> 544071.52
B26: 2.7 | C26: CULATA | D26: 573980.32 | E26: 565497.85 | F26: =AVERAGE(D26:E26) -> 569739.09 | G26: 573980.32 | H26: 565497.85 | I26: =AVERAGE(G26:H26) -> 569739.09 | J26: 821251.15 | K26: 809114.43 | L26: =AVERAGE(J26:K26) -> 815182.79 | M26: 573980.32 | N26: 565497.85 | O26: =AVERAGE(M26:N26) -> 569739.09 | P26: 663896.99 | Q26: 654085.7 | R26: =AVERAGE(P26:Q26) -> 658991.34 | S26: 573980.32 | T26: 565497.85 | U26: =AVERAGE(S26:T26) -> 569739.09 | V26: 663896.99 | W26: 654085.7 | X26: =AVERAGE(V26:W26) -> 658991.34 | Y26: 663896.99 | Z26: 654085.7 | AA26: =AVERAGE(Y26:Z26) -> 658991.34 | AB26: 573980.32 | AC26: 565497.85 | AD26: =AVERAGE(AB26:AC26) -> 569739.09 | AE26: 968292.34 | AF26: 953982.6 | AG26: =AVERAGE(AE26:AF26) -> 961137.47 | AH26: 573980.32 | AI26: 565497.85 | AJ26: =AVERAGE(AH26:AI26) -> 569739.09 | AK26: 663896.99 | AL26: 654085.7 | AM26: =AVERAGE(AK26:AL26) -> 658991.34 | AN26: 748418.65 | AO26: 737358.28 | AP26: =AVERAGE(AN26:AO26) -> 742888.46 | AQ26: 573980.32 | AR26: 565497.85 | AS26: =AVERAGE(AQ26:AR26) -> 569739.09 | AT26: 573980.32 | AU26: 565497.85 | AV26: =AVERAGE(AT26:AU26) -> 569739.09 | AW26: 663896.99 | AX26: 654085.7 | AY26: =AVERAGE(AW26:AX26) -> 658991.34 | AZ26: 968292.34 | BA26: 953982.6 | BB26: =AVERAGE(AZ26:BA26) -> 961137.47
B27: 2.8 | C27: CULATIN | D27: 571152.83 | E27: 565497.85 | F27: =AVERAGE(D27:E27) -> 568325.34 | G27: 571152.83 | H27: 565497.85 | I27: =AVERAGE(G27:H27) -> 568325.34 | J27: 817205.58 | K27: 809114.43 | L27: =AVERAGE(J27:K27) -> 813160 | M27: 571152.83 | N27: 565497.85 | O27: =AVERAGE(M27:N27) -> 568325.34 | P27: 660626.56 | Q27: 654085.7 | R27: =AVERAGE(P27:Q27) -> 657356.13 | S27: 571152.83 | T27: 565497.85 | U27: =AVERAGE(S27:T27) -> 568325.34 | V27: 660626.56 | W27: 654085.7 | X27: =AVERAGE(V27:W27) -> 657356.13 | Y27: 660626.56 | Z27: 654085.7 | AA27: =AVERAGE(Y27:Z27) -> 657356.13 | AB27: 571152.83 | AC27: 565497.85 | AD27: =AVERAGE(AB27:AC27) -> 568325.34 | AE27: 963522.43 | AF27: 953982.6 | AG27: =AVERAGE(AE27:AF27) -> 958752.51 | AH27: 571152.83 | AI27: 565497.85 | AJ27: =AVERAGE(AH27:AI27) -> 568325.34 | AK27: 660626.56 | AL27: 654085.7 | AM27: =AVERAGE(AK27:AL27) -> 657356.13 | AN27: 744731.86 | AO27: 737358.28 | AP27: =AVERAGE(AN27:AO27) -> 741045.07 | AQ27: 571152.83 | AR27: 565497.85 | AS27: =AVERAGE(AQ27:AR27) -> 568325.34 | AT27: 571152.83 | AU27: 565497.85 | AV27: =AVERAGE(AT27:AU27) -> 568325.34 | AW27: 660626.56 | AX27: 654085.7 | AY27: =AVERAGE(AW27:AX27) -> 657356.13 | AZ27: 963522.43 | BA27: 953982.6 | BB27: =AVERAGE(AZ27:BA27) -> 958752.51
B28: 2.9 | C28: EJE DE LEVAS | D28: 211800.23 | E28: 210746.49 | F28: =AVERAGE(D28:E28) -> 211273.36 | G28: 227616.68 | H28: 226484.26 | I28: =AVERAGE(G28:H28) -> 227050.47 | J28: 350493.18 | K28: 348749.43 | L28: =AVERAGE(J28:K28) -> 349621.31 | M28: 227616.68 | N28: 226484.26 | O28: =AVERAGE(M28:N28) -> 227050.47 | P28: 292429.09 | Q28: 290974.21 | R28: =AVERAGE(P28:Q28) -> 291701.65 | S28: 227616.68 | T28: 226484.26 | U28: =AVERAGE(S28:T28) -> 227050.47 | V28: 292429.09 | W28: 290974.21 | X28: =AVERAGE(V28:W28) -> 291701.65 | Y28: 292429.09 | Z28: 290974.21 | AA28: =AVERAGE(Y28:Z28) -> 291701.65 | AB28: 259249.6 | AC28: 257959.8 | AD28: =AVERAGE(AB28:AC28) -> 258604.7 | AE28: 404751.76 | AF28: 402738.07 | AG28: =AVERAGE(AE28:AF28) -> 403744.91 | AH28: 227616.68 | AI28: 226484.26 | AJ28: =AVERAGE(AH28:AI28) -> 227050.47 | AK28: 292429.09 | AL28: 290974.21 | AM28: =AVERAGE(AK28:AL28) -> 291701.65 | AN28: 323617.8 | AO28: 322007.76 | AP28: =AVERAGE(AN28:AO28) -> 322812.78 | AQ28: 227616.68 | AR28: 226484.26 | AS28: =AVERAGE(AQ28:AR28) -> 227050.47 | AT28: 227616.68 | AU28: 226484.26 | AV28: =AVERAGE(AT28:AU28) -> 227050.47 | AW28: 292429.09 | AX28: 290974.21 | AY28: =AVERAGE(AW28:AX28) -> 291701.65 | AZ28: 404751.76 | BA28: 402738.07 | BB28: =AVERAGE(AZ28:BA28) -> 403744.91
B29: 2.10 | C29: EMPAQUE DE CULATA | D29: 39335.158 | E29: 38945.701 | F29: =AVERAGE(D29:E29) -> 39140.429 | G29: 42272.562 | H29: 41854.022 | I29: =AVERAGE(G29:H29) -> 42063.292 | J29: 65092.964 | K29: 64448.479 | L29: =AVERAGE(J29:K29) -> 64770.722 | M29: 42272.562 | N29: 41854.022 | O29: =AVERAGE(M29:N29) -> 42063.292 | P29: 54309.405 | Q29: 53771.688 | R29: =AVERAGE(P29:Q29) -> 54040.546 | S29: 42272.562 | T29: 41854.022 | U29: =AVERAGE(S29:T29) -> 42063.292 | V29: 54309.405 | W29: 53771.688 | X29: =AVERAGE(V29:W29) -> 54040.546 | Y29: 54309.405 | Z29: 53771.688 | AA29: =AVERAGE(Y29:Z29) -> 54040.546 | AB29: 48147.371 | AC29: 47670.664 | AD29: =AVERAGE(AB29:AC29) -> 47909.018 | AE29: 75169.77 | AF29: 74425.515 | AG29: =AVERAGE(AE29:AF29) -> 74797.643 | AH29: 42272.562 | AI29: 41854.022 | AJ29: =AVERAGE(AH29:AI29) -> 42063.292 | AK29: 54309.405 | AL29: 53771.688 | AM29: =AVERAGE(AK29:AL29) -> 54040.546 | AN29: 60101.717 | AO29: 59506.65 | AP29: =AVERAGE(AN29:AO29) -> 59804.183 | AQ29: 42272.562 | AR29: 41854.022 | AS29: =AVERAGE(AQ29:AR29) -> 42063.292 | AT29: 42272.562 | AU29: 41854.022 | AV29: =AVERAGE(AT29:AU29) -> 42063.292 | AW29: 54309.405 | AX29: 53771.688 | AY29: =AVERAGE(AW29:AX29) -> 54040.546 | AZ29: 75169.77 | BA29: 74425.515 | BB29: =AVERAGE(AZ29:BA29) -> 74797.643
B30: 2.11 | C30: EMPAQUETADURA MOTOR | D30: 112525.76 | E30: 110862.82 | F30: =AVERAGE(D30:E30) -> 111694.29 | G30: 117429.8 | H30: 115694.39 | I30: =AVERAGE(G30:H30) -> 116562.09 | J30: 127237.88 | K30: 125357.52 | L30: =AVERAGE(J30:K30) -> 126297.7 | M30: 117429.8 | N30: 115694.39 | O30: =AVERAGE(M30:N30) -> 116562.09 | P30: 127237.88 | Q30: 125357.52 | R30: =AVERAGE(P30:Q30) -> 126297.7 | S30: 117429.8 | T30: 115694.39 | U30: =AVERAGE(S30:T30) -> 116562.09 | V30: 127237.88 | W30: 125357.52 | X30: =AVERAGE(V30:W30) -> 126297.7 | Y30: 127237.88 | Z30: 125357.52 | AA30: =AVERAGE(Y30:Z30) -> 126297.7 | AB30: 127237.88 | AC30: 125357.52 | AD30: =AVERAGE(AB30:AC30) -> 126297.7 | AE30: 127237.88 | AF30: 125357.52 | AG30: =AVERAGE(AE30:AF30) -> 126297.7 | AH30: 117429.8 | AI30: 115694.39 | AJ30: =AVERAGE(AH30:AI30) -> 116562.09 | AK30: 127237.88 | AL30: 125357.52 | AM30: =AVERAGE(AK30:AL30) -> 126297.7 | AN30: 127237.88 | AO30: 125357.52 | AP30: =AVERAGE(AN30:AO30) -> 126297.7 | AQ30: 117429.8 | AR30: 115694.39 | AS30: =AVERAGE(AQ30:AR30) -> 116562.09 | AT30: 117429.8 | AU30: 115694.39 | AV30: =AVERAGE(AT30:AU30) -> 116562.09 | AW30: 127237.88 | AX30: 125357.52 | AY30: =AVERAGE(AW30:AX30) -> 126297.7 | AZ30: 127237.88 | BA30: 125357.52 | BB30: =AVERAGE(AZ30:BA30) -> 126297.7
B31: 2.12 | C31: FILTRO DE ACEITE | D31: 46452.17 | E31: 45541.343 | F31: =AVERAGE(D31:E31) -> 45996.757 | G31: 49921.047 | H31: 48942.203 | I31: =AVERAGE(G31:H31) -> 49431.625 | J31: 56858.8 | K31: 55743.922 | L31: =AVERAGE(J31:K31) -> 56301.361 | M31: 49921.047 | N31: 48942.203 | O31: =AVERAGE(M31:N31) -> 49431.625 | P31: 56858.8 | Q31: 55743.922 | R31: =AVERAGE(P31:Q31) -> 56301.361 | S31: 49921.047 | T31: 48942.203 | U31: =AVERAGE(S31:T31) -> 49431.625 | V31: 56858.8 | W31: 55743.922 | X31: =AVERAGE(V31:W31) -> 56301.361 | Y31: 56858.8 | Z31: 55743.922 | AA31: =AVERAGE(Y31:Z31) -> 56301.361 | AB31: 56858.8 | AC31: 55743.922 | AD31: =AVERAGE(AB31:AC31) -> 56301.361 | AE31: 56858.8 | AF31: 55743.922 | AG31: =AVERAGE(AE31:AF31) -> 56301.361 | AH31: 49921.047 | AI31: 48942.203 | AJ31: =AVERAGE(AH31:AI31) -> 49431.625 | AK31: 56858.8 | AL31: 55743.922 | AM31: =AVERAGE(AK31:AL31) -> 56301.361 | AN31: 56858.8 | AO31: 55743.922 | AP31: =AVERAGE(AN31:AO31) -> 56301.361 | AQ31: 49921.047 | AR31: 48942.203 | AS31: =AVERAGE(AQ31:AR31) -> 49431.625 | AT31: 49921.047 | AU31: 48942.203 | AV31: =AVERAGE(AT31:AU31) -> 49431.625 | AW31: 56858.8 | AX31: 55743.922 | AY31: =AVERAGE(AW31:AX31) -> 56301.361 | AZ31: 56858.8 | BA31: 55743.922 | BB31: =AVERAGE(AZ31:BA31) -> 56301.361
... B37: 2.18 | C37: VALVULAS (JUEGO) | D37: 150338.9 | E37: 146672.1 | F37: =AVERAGE(D37:E37) -> 148505.5 | G37: 150338.9 | H37: 146672.1 | I37: =AVERAGE(G37:H37) -> 148505.5 | J37: 279783.99 | K37: 272959.99 | L37: =AVERAGE(J37:K37) -> 276371.99 | M37: 195097.45 | N37: 190338.98 | O37: =AVERAGE(M37:N37) -> 192718.22 | P37: 186766.12 | Q37: 182210.85 | R37: =AVERAGE(P37:Q37) -> 184488.48 | S37: 152937.44 | T37: 149207.26 | U37: =AVERAGE(S37:T37) -> 151072.35 | V37: 220875.13 | W37: 215487.93 | X37: =AVERAGE(V37:W37) -> 218181.53 | Y37: 220943.08 | Z37: 215554.22 | AA37: =AVERAGE(Y37:Z37) -> 218248.65 | AB37: 185970.17 | AC37: 181434.31 | AD37: =AVERAGE(AB37:AC37) -> 183702.24 | AE37: 307122.97 | AF37: 299632.17 | AG37: =AVERAGE(AE37:AF37) -> 303377.57 | AH37: 195419.25 | AI37: 190652.92 | AJ37: =AVERAGE(AH37:AI37) -> 193036.08 | AK37: 220943.08 | AL37: 215554.22 | AM37: =AVERAGE(AK37:AL37) -> 218248.65 | AN37: 277806.55 | AO37: 271030.78 | AP37: =AVERAGE(AN37:AO37) -> 274418.66 | AQ37: 216794.1 | AR37: 211506.44 | AS37: =AVERAGE(AQ37:AR37) -> 214150.27 | AT37: 218544.42 | AU37: 213214.07 | AV37: =AVERAGE(AT37:AU37) -> 215879.24 | AW37: 246195.04 | AX37: 240190.28 | AY37: =AVERAGE(AW37:AX37) -> 243192.66 | AZ37: 306420.03 | BA37: 298946.37 | BB37: =AVERAGE(AZ37:BA37) -> 302683.2
B38: 3 | C38: SISTEMA DE TRANSFERENCIA | D38: 0 | E38: 0 | F38: =AVERAGE(D38:E38) -> 0 | G38: 0 | H38: 0 | I38: =AVERAGE(G38:H38) -> 0 | J38: 0 | K38: 0 | L38: =AVERAGE(J38:K38) -> 0 | M38: 0 | N38: 0 | O38: =AVERAGE(M38:N38) -> 0 | P38: 0 | Q38: 0 | R38: =AVERAGE(P38:Q38) -> 0 | S38: 0 | T38: 0 | U38: =AVERAGE(S38:T38) -> 0 | V38: 0 | W38: 0 | X38: =AVERAGE(V38:W38) -> 0 | Y38: 0 | Z38: 0 | AA38: =AVERAGE(Y38:Z38) -> 0 | AB38: 0 | AC38: 0 | AD38: =AVERAGE(AB38:AC38) -> 0 | AE38: 0 | AF38: 0 | AG38: =AVERAGE(AE38:AF38) -> 0 | AH38: 0 | AI38: 0 | AJ38: =AVERAGE(AH38:AI38) -> 0 | AK38: 0 | AL38: 0 | AM38: =AVERAGE(AK38:AL38) -> 0 | AN38: 0 | AO38: 0 | AP38: =AVERAGE(AN38:AO38) -> 0 | AQ38: 0 | AR38: 0 | AS38: =AVERAGE(AQ38:AR38) -> 0 | AT38: 0 | AU38: 0 | AV38: =AVERAGE(AT38:AU38) -> 0 | AW38: 0 | AX38: 0 | AY38: =AVERAGE(AW38:AX38) -> 0 | AZ38: 0 | BA38: 0 | BB38: =AVERAGE(AZ38:BA38) -> 0
B39: 3.1 | C39: EMPAQUE TAPA EMBRAGUE | D39: 15301.891 | E39: 15075.755 | F39: =AVERAGE(D39:E39) -> 15188.823 | G39: 16444.58 | H39: 16201.557 | I39: =AVERAGE(G39:H39) -> 16323.069 | J39: 25322.015 | K39: 24947.798 | L39: =AVERAGE(J39:K39) -> 25134.907 | M39: 16444.58 | N39: 16201.557 | O39: =AVERAGE(M39:N39) -> 16323.069 | P39: 21127.07 | Q39: 20814.847 | R39: =AVERAGE(P39:Q39) -> 20970.958 | S39: 16444.58 | T39: 16201.557 | U39: =AVERAGE(S39:T39) -> 16323.069 | V39: 21127.07 | W39: 20814.847 | X39: =AVERAGE(V39:W39) -> 20970.958 | Y39: 21127.07 | Z39: 20814.847 | AA39: =AVERAGE(Y39:Z39) -> 20970.958 | AB39: 18729.958 | AC39: 18453.16 | AD39: =AVERAGE(AB39:AC39) -> 18591.559 | AE39: 29242.025 | AF39: 28809.877 | AG39: =AVERAGE(AE39:AF39) -> 29025.951 | AH39: 16444.58 | AI39: 16201.557 | AJ39: =AVERAGE(AH39:AI39) -> 16323.069 | AK39: 21127.07 | AL39: 20814.847 | AM39: =AVERAGE(AK39:AL39) -> 20970.958 | AN39: 23380.355 | AO39: 23034.832 | AP39: =AVERAGE(AN39:AO39) -> 23207.594 | AQ39: 16444.58 | AR39: 16201.557 | AS39: =AVERAGE(AQ39:AR39) -> 16323.069 | AT39: 16444.58 | AU39: 16201.557 | AV39: =AVERAGE(AT39:AU39) -> 16323.069 | AW39: 21127.07 | AX39: 20814.847 | AY39: =AVERAGE(AW39:AX39) -> 20970.958 | AZ39: 29242.025 | BA39: 28809.877 | BB39: =AVERAGE(AZ39:BA39) -> 29025.951
B40: 3.2 | C40: GUAYA EMBREAGUE | D40: 76132.563 | E40: 75378.775 | F40: =AVERAGE(D40:E40) -> 75755.669 | G40: 81817.862 | H40: 81007.784 | I40: =AVERAGE(G40:H40) -> 81412.823 | J40: 125986.38 | K40: 124738.99 | L40: =AVERAGE(J40:K40) -> 125362.69 | M40: 81817.862 | N40: 81007.784 | O40: =AVERAGE(M40:N40) -> 81412.823 | P40: 105114.98 | Q40: 104074.23 | R40: =AVERAGE(P40:Q40) -> 104594.61 | S40: 81817.862 | T40: 81007.784 | U40: =AVERAGE(S40:T40) -> 81412.823 | V40: 105114.98 | W40: 104074.23 | X40: =AVERAGE(V40:W40) -> 104594.61 | Y40: 105114.98 | Z40: 104074.23 | AA40: =AVERAGE(Y40:Z40) -> 104594.61 | AB40: 93188.46 | AC40: 92265.802 | AD40: =AVERAGE(AB40:AC40) -> 92727.131 | AE40: 145489.88 | AF40: 144049.38 | AG40: =AVERAGE(AE40:AF40) -> 144769.63 | AH40: 81817.862 | AI40: 81007.784 | AJ40: =AVERAGE(AH40:AI40) -> 81412.823 | AK40: 105114.98 | AL40: 104074.23 | AM40: =AVERAGE(AK40:AL40) -> 104594.61 | AN40: 116325.9 | AO40: 115174.16 | AP40: =AVERAGE(AN40:AO40) -> 115750.03 | AQ40: 81817.862 | AR40: 81007.784 | AS40: =AVERAGE(AQ40:AR40) -> 81412.823 | AT40: 81817.862 | AU40: 81007.784 | AV40: =AVERAGE(AT40:AU40) -> 81412.823 | AW40: 105114.98 | AX40: 104074.23 | AY40: =AVERAGE(AW40:AX40) -> 104594.61 | AZ40: 145489.88 | BA40: 144049.38 | BB40: =AVERAGE(AZ40:BA40) -> 144769.63
B41: 3.3 | C41: GUAYA VELOCIMETRO | D41: 65339.265 | E41: 65014.194 | F41: =AVERAGE(D41:E41) -> 65176.729 | G41: 70218.56 | H41: 69869.214 | I41: =AVERAGE(G41:H41) -> 70043.887 | J41: 108125.32 | K41: 107587.38 | L41: =AVERAGE(J41:K41) -> 107856.35 | M41: 70218.56 | N41: 69869.214 | O41: =AVERAGE(M41:N41) -> 70043.887 | P41: 90212.848 | Q41: 89764.027 | R41: =AVERAGE(P41:Q41) -> 89988.437 | S41: 70218.56 | T41: 69869.214 | U41: =AVERAGE(S41:T41) -> 70043.887 | V41: 90212.848 | W41: 89764.027 | X41: =AVERAGE(V41:W41) -> 89988.437 | Y41: 90212.848 | Z41: 89764.027 | AA41: =AVERAGE(Y41:Z41) -> 89988.437 | AB41: 79977.15 | AC41: 79579.254 | AD41: =AVERAGE(AB41:AC41) -> 79778.202 | AE41: 124863.81 | AF41: 124242.59 | AG41: =AVERAGE(AE41:AF41) -> 124553.2 | AH41: 70218.56 | AI41: 69869.214 | AJ41: =AVERAGE(AH41:AI41) -> 70043.887 | AK41: 90212.848 | AL41: 89764.027 | AM41: =AVERAGE(AK41:AL41) -> 89988.437 | AN41: 99834.403 | AO41: 99337.714 | AP41: =AVERAGE(AN41:AO41) -> 99586.059 | AQ41: 70218.56 | AR41: 69869.214 | AS41: =AVERAGE(AQ41:AR41) -> 70043.887 | AT41: 70218.56 | AU41: 69869.214 | AV41: =AVERAGE(AT41:AU41) -> 70043.887 | AW41: 90212.848 | AX41: 89764.027 | AY41: =AVERAGE(AW41:AX41) -> 89988.437 | AZ41: 124863.81 | BA41: 124242.59 | BB41: =AVERAGE(AZ41:BA41) -> 124553.2
B42: 3.4 | C42: JUEGO CAUCHOS DE CAMPANA | D42: 90612.652 | E42: 89715.497 | F42: =AVERAGE(D42:E42) -> 90164.074 | G42: 90612.652 | H42: 89715.497 | I42: =AVERAGE(G42:H42) -> 90164.074 | J42: 150415.35 | K42: 148926.08 | L42: =AVERAGE(J42:K42) -> 149670.72 | M42: 93621.846 | N42: 92694.897 | O42: =AVERAGE(M42:N42) -> 93158.371 | P42: 112819.25 | Q42: 111702.22 | R42: =AVERAGE(P42:Q42) -> 112260.73 | S42: 91830.952 | T42: 90921.735 | U42: =AVERAGE(S42:T42) -> 91376.343 | V42: 147451.14 | W42: 145991.23 | X42: =AVERAGE(V42:W42) -> 146721.19 | Y42: 112818.48 | Z42: 111701.46 | AA42: =AVERAGE(Y42:Z42) -> 112259.97 | AB42: 102156.11 | AC42: 101144.66 | AD42: =AVERAGE(AB42:AC42) -> 101650.38 | AE42: 180861.06 | AF42: 179070.36 | AG42: =AVERAGE(AE42:AF42) -> 179965.71 | AH42: 119072.24 | AI42: 117893.31 | AJ42: =AVERAGE(AH42:AI42) -> 118482.77 | AK42: 116667.32 | AL42: 115512.2 | AM42: =AVERAGE(AK42:AL42) -> 116089.76 | AN42: 144189.44 | AO42: 142761.82 | AP42: =AVERAGE(AN42:AO42) -> 143475.63 | AQ42: 103472.15 | AR42: 102447.67 | AS42: =AVERAGE(AQ42:AR42) -> 102959.91 | AT42: 100292.1 | AU42: 99299.107 | AV42: =AVERAGE(AT42:AU42) -> 99795.602 | AW42: 114457.76 | AX42: 113324.51 | AY42: =AVERAGE(AW42:AX42) -> 113891.13 | AZ42: 178839.28 | BA42: 177068.6 | BB42: =AVERAGE(AZ42:BA42) -> 177953.94
B43: 3.5 | C43: KIT DE ARRASTRE | D43: 167364.44 | E43: 164891.07 | F43: =AVERAGE(D43:E43) -> 166127.75 | G43: 179862.6 | H43: 177204.53 | I43: =AVERAGE(G43:H43) -> 178533.56 | J43: 276959.54 | K43: 272866.55 | L43: =AVERAGE(J43:K43) -> 274913.04 | M43: 179862.6 | N43: 177204.53 | O43: =AVERAGE(M43:N43) -> 178533.56 | P43: 231077.32 | Q43: 227662.39 | R43: =AVERAGE(P43:Q43) -> 229369.86 | S43: 179862.6 | T43: 177204.53 | U43: =AVERAGE(S43:T43) -> 178533.56 | V43: 231077.32 | W43: 227662.39 | X43: =AVERAGE(V43:W43) -> 229369.86 | Y43: 231077.32 | Z43: 227662.39 | AA43: =AVERAGE(Y43:Z43) -> 229369.86 | AB43: 204858.91 | AC43: 201831.44 | AD43: =AVERAGE(AB43:AC43) -> 203345.18 | AE43: 319834.65 | AF43: 315108.03 | AG43: =AVERAGE(AE43:AF43) -> 317471.34 | AH43: 179862.6 | AI43: 177204.53 | AJ43: =AVERAGE(AH43:AI43) -> 178533.56 | AK43: 231077.32 | AL43: 227662.39 | AM43: =AVERAGE(AK43:AL43) -> 229369.86 | AN43: 255722.63 | AO43: 251943.48 | AP43: =AVERAGE(AN43:AO43) -> 253833.05 | AQ43: 179862.6 | AR43: 177204.53 | AS43: =AVERAGE(AQ43:AR43) -> 178533.56 | AT43: 179862.6 | AU43: 177204.53 | AV43: =AVERAGE(AT43:AU43) -> 178533.56 | AW43: 231077.32 | AX43: 227662.39 | AY43: =AVERAGE(AW43:AX43) -> 229369.86 | AZ43: 319834.65 | BA43: 315108.03 | BB43: =AVERAGE(AZ43:BA43) -> 317471.34
B44: 3.6 | C44: KIT DE EMBRAGUE | D44: 95307.039 | E44: 93438.274 | F44: =AVERAGE(D44:E44) -> 94372.656 | G44: 102424.22 | H44: 100415.9 | I44: =AVERAGE(G44:H44) -> 101420.06 | J44: 157716.86 | K44: 154624.38 | L44: =AVERAGE(J44:K44) -> 156170.62 | M44: 102424.22 | N44: 100415.9 | O44: =AVERAGE(M44:N44) -> 101420.06 | P44: 131588.86 | Q44: 129008.69 | R44: =AVERAGE(P44:Q44) -> 130298.77 | S44: 102424.22 | T44: 100415.9 | U44: =AVERAGE(S44:T44) -> 101420.06 | V44: 131588.86 | W44: 129008.69 | X44: =AVERAGE(V44:W44) -> 130298.77 | Y44: 131588.86 | Z44: 129008.69 | AA44: =AVERAGE(Y44:Z44) -> 130298.77 | AB44: 116658.57 | AC44: 114371.15 | AD44: =AVERAGE(AB44:AC44) -> 115514.86 | AE44: 182132.44 | AF44: 178561.22 | AG44: =AVERAGE(AE44:AF44) -> 180346.83 | AH44: 102424.22 | AI44: 100415.9 | AJ44: =AVERAGE(AH44:AI44) -> 101420.06 | AK44: 131588.86 | AL44: 129008.69 | AM44: =AVERAGE(AK44:AL44) -> 130298.77 | AN44: 145623.33 | AO44: 142767.97 | AP44: =AVERAGE(AN44:AO44) -> 144195.65 | AQ44: 102424.22 | AR44: 100415.9 | AS44: =AVERAGE(AQ44:AR44) -> 101420.06 | AT44: 102424.22 | AU44: 100415.9 | AV44: =AVERAGE(AT44:AU44) -> 101420.06 | AW44: 131588.86 | AX44: 129008.69 | AY44: =AVERAGE(AW44:AX44) -> 130298.77 | AZ44: 182132.44 | BA44: 178561.22 | BB44: =AVERAGE(AZ44:BA44) -> 180346.83
B45: 3.7 | C45: MANIJA DE EMBRAGUE | D45: 33319.774 | E45: 32507.097 | F45: =AVERAGE(D45:E45) -> 32913.436 | G45: 35807.972 | H45: 34934.607 | I45: =AVERAGE(G45:H45) -> 35371.29 | J45: 55138.533 | K45: 53793.69 | L45: =AVERAGE(J45:K45) -> 54466.111 | M45: 35807.972 | N45: 34934.607 | O45: =AVERAGE(M45:N45) -> 35371.29 | P45: 46004.064 | Q45: 44882.014 | R45: =AVERAGE(P45:Q45) -> 45443.039 | S45: 35807.972 | T45: 34934.607 | U45: =AVERAGE(S45:T45) -> 35371.29 | V45: 46004.064 | W45: 44882.014 | X45: =AVERAGE(V45:W45) -> 45443.039 | Y45: 46004.064 | Z45: 44882.014 | AA45: =AVERAGE(Y45:Z45) -> 45443.039 | AB45: 40784.368 | AC45: 39789.627 | AD45: =AVERAGE(AB45:AC45) -> 40286.997 | AE45: 63674.329 | AF45: 62121.297 | AG45: =AVERAGE(AE45:AF45) -> 62897.813 | AH45: 35807.972 | AI45: 34934.607 | AJ45: =AVERAGE(AH45:AI45) -> 35371.29 | AK45: 46004.064 | AL45: 44882.014 | AM45: =AVERAGE(AK45:AL45) -> 45443.039 | AN45: 50910.579 | AO45: 49668.857 | AP45: =AVERAGE(AN45:AO45) -> 50289.718 | AQ45: 35807.972 | AR45: 34934.607 | AS45: =AVERAGE(AQ45:AR45) -> 35371.29 | AT45: 35807.972 | AU45: 34934.607 | AV45: =AVERAGE(AT45:AU45) -> 35371.29 | AW45: 46004.064 | AX45: 44882.014 | AY45: =AVERAGE(AW45:AX45) -> 45443.039 | AZ45: 63674.329 | BA45: 62121.297 | BB45: =AVERAGE(AZ45:BA45) -> 62897.813
B46: 3.8 | C46: PIÑON VELOCIMETRO | D46: 34685.872 | E46: 33675.603 | F46: =AVERAGE(D46:E46) -> 34180.737 | G46: 61030.307 | H46: 59252.725 | I46: =AVERAGE(G46:H46) -> 60141.516 | J46: 91404.971 | K46: 88742.69 | L46: =AVERAGE(J46:K46) -> 90073.831 | M46: 89906.683 | N46: 87288.042 | O46: =AVERAGE(M46:N46) -> 88597.362 | P46: 66080.062 | Q46: 64155.4 | R46: =AVERAGE(P46:Q46) -> 65117.731 | S46: 63724.713 | T46: 61868.653 | U46: =AVERAGE(S46:T46) -> 62796.683 | V46: 66622.397 | W46: 64681.939 | X46: =AVERAGE(V46:W46) -> 65652.168 | Y46: 77609.579 | Z46: 75349.105 | AA46: =AVERAGE(Y46:Z46) -> 76479.342 | AB46: 79707.495 | AC46: 77385.918 | AD46: =AVERAGE(AB46:AC46) -> 78546.707 | AE46: 47862.798 | AF46: 46468.736 | AG46: =AVERAGE(AE46:AF46) -> 47165.767 | AH46: 73929.395 | AI46: 71776.111 | AJ46: =AVERAGE(AH46:AI46) -> 72852.753 | AK46: 95403.806 | AL46: 92625.054 | AM46: =AVERAGE(AK46:AL46) -> 94014.43 | AN46: 91547.03 | AO46: 88880.611 | AP46: =AVERAGE(AN46:AO46) -> 90213.82 | AQ46: 110319.97 | AR46: 107106.77 | AS46: =AVERAGE(AQ46:AR46) -> 108713.37 | AT46: 102397.65 | AU46: 99415.191 | AV46: =AVERAGE(AT46:AU46) -> 100906.42 | AW46: 124450.5 | AX46: 120825.72 | AY46: =AVERAGE(AW46:AX46) -> 122638.11 | AZ46: 89602.159 | BA46: 86992.388 | BB46: =AVERAGE(AZ46:BA46) -> 88297.274
B47: 3.9 | C47: RETEN CONTROL DE CAMBIO | D47: 15603.406 | E47: 15075.755 | F47: =AVERAGE(D47:E47) -> 15339.581 | G47: 16768.611 | H47: 16201.557 | I47: =AVERAGE(G47:H47) -> 16485.084 | J47: 25820.971 | K47: 24947.798 | L47: =AVERAGE(J47:K47) -> 25384.385 | M47: 16768.611 | N47: 16201.557 | O47: =AVERAGE(M47:N47) -> 16485.084 | P47: 21543.367 | Q47: 20814.847 | R47: =AVERAGE(P47:Q47) -> 21179.107 | S47: 16768.611 | T47: 16201.557 | U47: =AVERAGE(S47:T47) -> 16485.084 | V47: 21543.367 | W47: 20814.847 | X47: =AVERAGE(V47:W47) -> 21179.107 | Y47: 21543.367 | Z47: 20814.847 | AA47: =AVERAGE(Y47:Z47) -> 21179.107 | AB47: 19099.021 | AC47: 18453.16 | AD47: =AVERAGE(AB47:AC47) -> 18776.091 | AE47: 29818.222 | AF47: 28809.877 | AG47: =AVERAGE(AE47:AF47) -> 29314.05 | AH47: 16768.611 | AI47: 16201.557 | AJ47: =AVERAGE(AH47:AI47) -> 16485.084 | AK47: 21543.367 | AL47: 20814.847 | AM47: =AVERAGE(AK47:AL47) -> 21179.107 | AN47: 23841.051 | AO47: 23034.832 | AP47: =AVERAGE(AN47:AO47) -> 23437.942 | AQ47: 16768.611 | AR47: 16201.557 | AS47: =AVERAGE(AQ47:AR47) -> 16485.084 | AT47: 16768.611 | AU47: 16201.557 | AV47: =AVERAGE(AT47:AU47) -> 16485.084 | AW47: 21543.367 | AX47: 20814.847 | AY47: =AVERAGE(AW47:AX47) -> 21179.107 | AZ47: 29818.222 | BA47: 28809.877 | BB47: =AVERAGE(AZ47:BA47) -> 29314.05
B48: 3.10 | C48: RETEN SALIDA | D48: 19179.187 | E48: 18530.616 | F48: =AVERAGE(D48:E48) -> 18854.901 | G48: 20611.418 | H48: 19914.414 | I48: =AVERAGE(G48:H48) -> 20262.916 | J48: 31738.277 | K48: 30665.002 | L48: =AVERAGE(J48:K48) -> 31201.64 | M48: 20611.418 | N48: 19914.414 | O48: =AVERAGE(M48:N48) -> 20262.916 | P48: 26480.388 | Q48: 25584.916 | R48: =AVERAGE(P48:Q48) -> 26032.652 | S48: 20611.418 | T48: 19914.414 | U48: =AVERAGE(S48:T48) -> 20262.916 | V48: 26480.388 | W48: 25584.916 | X48: =AVERAGE(V48:W48) -> 26032.652 | Y48: 26480.388 | Z48: 25584.916 | AA48: =AVERAGE(Y48:Z48) -> 26032.652 | AB48: 23475.88 | AC48: 22682.01 | AD48: =AVERAGE(AB48:AC48) -> 23078.945 | AE48: 36651.565 | AF48: 35412.14 | AG48: =AVERAGE(AE48:AF48) -> 36031.853 | AH48: 20611.418 | AI48: 19914.414 | AJ48: =AVERAGE(AH48:AI48) -> 20262.916 | AK48: 26480.388 | AL48: 25584.916 | AM48: =AVERAGE(AK48:AL48) -> 26032.652 | AN48: 29304.626 | AO48: 28313.648 | AP48: =AVERAGE(AN48:AO48) -> 28809.137 | AQ48: 20611.418 | AR48: 19914.414 | AS48: =AVERAGE(AQ48:AR48) -> 20262.916 | AT48: 20611.418 | AU48: 19914.414 | AV48: =AVERAGE(AT48:AU48) -> 20262.916 | AW48: 26480.388 | AX48: 25584.916 | AY48: =AVERAGE(AW48:AX48) -> 26032.652 | AZ48: 36651.565 | BA48: 35412.14 | BB48: =AVERAGE(AZ48:BA48) -> 36031.853
B49: 4 | C49: SISTEMA DE SUSPENSION | D49: 0 | E49: 0 | F49: =AVERAGE(D49:E49) -> 0 | G49: 0 | H49: 0 | I49: =AVERAGE(G49:H49) -> 0 | J49: 0 | K49: 0 | L49: =AVERAGE(J49:K49) -> 0 | M49: 0 | N49: 0 | O49: =AVERAGE(M49:N49) -> 0 | P49: 0 | Q49: 0 | R49: =AVERAGE(P49:Q49) -> 0 | S49: 0 | T49: 0 | U49: =AVERAGE(S49:T49) -> 0 | V49: 0 | W49: 0 | X49: =AVERAGE(V49:W49) -> 0 | Y49: 0 | Z49: 0 | AA49: =AVERAGE(Y49:Z49) -> 0 | AB49: 0 | AC49: 0 | AD49: =AVERAGE(AB49:AC49) -> 0 | AE49: 0 | AF49: 0 | AG49: =AVERAGE(AE49:AF49) -> 0 | AH49: 0 | AI49: 0 | AJ49: =AVERAGE(AH49:AI49) -> 0 | AK49: 0 | AL49: 0 | AM49: =AVERAGE(AK49:AL49) -> 0 | AN49: 0 | AO49: 0 | AP49: =AVERAGE(AN49:AO49) -> 0 | AQ49: 0 | AR49: 0 | AS49: =AVERAGE(AQ49:AR49) -> 0 | AT49: 0 | AU49: 0 | AV49: =AVERAGE(AT49:AU49) -> 0 | AW49: 0 | AX49: 0 | AY49: =AVERAGE(AW49:AX49) -> 0 | AZ49: 0 | BA49: 0 | BB49: =AVERAGE(AZ49:BA49) -> 0
B50: 4.1 | C50: AMORTIGUADOR DELANTERO | D50: 424947.85 | E50: 414583.26 | F50: =AVERAGE(D50:E50) -> 419765.56 | G50: 424947.85 | H50: 414583.26 | I50: =AVERAGE(G50:H50) -> 419765.56 | J50: 608015.46 | K50: 593185.81 | L50: =AVERAGE(J50:K50) -> 600600.63 | M50: 364846.45 | N50: 355947.76 | O50: =AVERAGE(M50:N50) -> 360397.1 | P50: 491517.89 | Q50: 479529.64 | R50: =AVERAGE(P50:Q50) -> 485523.77 | S50: 424947.85 | T50: 414583.26 | U50: =AVERAGE(S50:T50) -> 419765.56 | V50: 491517.89 | W50: 479529.64 | X50: =AVERAGE(V50:W50) -> 485523.77 | Y50: 491517.89 | Z50: 479529.64 | AA50: =AVERAGE(Y50:Z50) -> 485523.77 | AB50: 424947.85 | AC50: 414583.26 | AD50: =AVERAGE(AB50:AC50) -> 419765.56 | AE50: 716877.79 | AF50: 699392.97 | AG50: =AVERAGE(AE50:AF50) -> 708135.38 | AH50: 364846.45 | AI50: 355947.76 | AJ50: =AVERAGE(AH50:AI50) -> 360397.1 | AK50: 491517.89 | AL50: 479529.64 | AM50: =AVERAGE(AK50:AL50) -> 485523.77 | AN50: 554093.72 | AO50: 540579.24 | AP50: =AVERAGE(AN50:AO50) -> 547336.48 | AQ50: 364846.45 | AR50: 355947.76 | AS50: =AVERAGE(AQ50:AR50) -> 360397.1 | AT50: 364846.45 | AU50: 355947.76 | AV50: =AVERAGE(AT50:AU50) -> 360397.1 | AW50: 491517.89 | AX50: 479529.64 | AY50: =AVERAGE(AW50:AX50) -> 485523.77 | AZ50: 716877.79 | BA50: 699392.97 | BB50: =AVERAGE(AZ50:BA50) -> 708135.38
B51: 4.2 | C51: AMORTIGUADOR TRASERO | D51: 418005.46 | E51: 409809.28 | F51: =AVERAGE(D51:E51) -> 413907.37 | G51: 418005.46 | H51: 409809.28 | I51: =AVERAGE(G51:H51) -> 413907.37 | J51: 598082.29 | K51: 586355.19 | L51: =AVERAGE(J51:K51) -> 592218.74 | M51: 358197.24 | N51: 351173.77 | O51: =AVERAGE(M51:N51) -> 354685.5 | P51: 483487.94 | Q51: 474007.79 | R51: =AVERAGE(P51:Q51) -> 478747.87 | S51: 418005.46 | T51: 409809.28 | U51: =AVERAGE(S51:T51) -> 413907.37 | V51: 483487.94 | W51: 474007.79 | X51: =AVERAGE(V51:W51) -> 478747.87 | Y51: 483487.94 | Z51: 474007.79 | AA51: =AVERAGE(Y51:Z51) -> 478747.87 | AB51: 418005.46 | AC51: 409809.28 | AD51: =AVERAGE(AB51:AC51) -> 413907.37 | AE51: 705166.14 | AF51: 691339.35 | AG51: =AVERAGE(AE51:AF51) -> 698252.74 | AH51: 358197.24 | AI51: 351173.77 | AJ51: =AVERAGE(AH51:AI51) -> 354685.5 | AK51: 483487.94 | AL51: 474007.79 | AM51: =AVERAGE(AK51:AL51) -> 478747.87 | AN51: 545041.48 | AO51: 534354.39 | AP51: =AVERAGE(AN51:AO51) -> 539697.93 | AQ51: 358197.24 | AR51: 351173.77 | AS51: =AVERAGE(AQ51:AR51) -> 354685.5 | AT51: 358197.24 | AU51: 351173.77 | AV51: =AVERAGE(AT51:AU51) -> 354685.5 | AW51: 483487.94 | AX51: 474007.79 | AY51: =AVERAGE(AW51:AX51) -> 478747.87 | AZ51: 705166.14 | BA51: 691339.35 | BB51: =AVERAGE(AZ51:BA51) -> 698252.74
B52: 4.3 | C52: BUJES TIJERA (JUEGO) | D52: 171027.94 | E52: 168500.43 | F52: =AVERAGE(D52:E52) -> 169764.18 | G52: 180312.28 | H52: 177647.57 | I52: =AVERAGE(G52:H52) -> 178979.93 | J52: 284547.74 | K52: 280342.6 | L52: =AVERAGE(J52:K52) -> 282445.17 | M52: 180312.28 | N52: 177647.57 | O52: =AVERAGE(M52:N52) -> 178979.93 | P52: 230032.53 | Q52: 226633.03 | R52: =AVERAGE(P52:Q52) -> 228332.78 | S52: 180312.28 | T52: 177647.57 | U52: =AVERAGE(S52:T52) -> 178979.93 | V52: 230032.53 | W52: 226633.03 | X52: =AVERAGE(V52:W52) -> 228332.78 | Y52: 230032.53 | Z52: 226633.03 | AA52: =AVERAGE(Y52:Z52) -> 228332.78 | AB52: 198880.98 | AC52: 195941.85 | AD52: =AVERAGE(AB52:AC52) -> 197411.41 | AE52: 335490.04 | AF52: 330532.05 | AG52: =AVERAGE(AE52:AF52) -> 333011.05 | AH52: 180312.28 | AI52: 177647.57 | AJ52: =AVERAGE(AH52:AI52) -> 178979.93 | AK52: 230032.53 | AL52: 226633.03 | AM52: =AVERAGE(AK52:AL52) -> 228332.78 | AN52: 259314.98 | AO52: 255482.74 | AP52: =AVERAGE(AN52:AO52) -> 257398.86 | AQ52: 180312.28 | AR52: 177647.57 | AS52: =AVERAGE(AQ52:AR52) -> 178979.93 | AT52: 180312.28 | AU52: 177647.57 | AV52: =AVERAGE(AT52:AU52) -> 178979.93 | AW52: 230032.53 | AX52: 226633.03 | AY52: =AVERAGE(AW52:AX52) -> 228332.78 | AZ52: 335490.04 | BA52: 330532.05 | BB52: =AVERAGE(AZ52:BA52) -> 333011.05
B53: 4.4 | C53: RETEN BARRAS (JUEGO) | D53: 102581.79 | E53: 101566.13 | F53: =AVERAGE(D53:E53) -> 102073.96 | G53: 110124.02 | H53: 109033.68 | I53: =AVERAGE(G53:H53) -> 109578.85 | J53: 149023.45 | K53: 147547.97 | L53: =AVERAGE(J53:K53) -> 148285.71 | M53: 105393.19 | N53: 104349.7 | O53: =AVERAGE(M53:N53) -> 104871.45 | P53: 116390.37 | Q53: 115237.99 | R53: =AVERAGE(P53:Q53) -> 115814.18 | S53: 117785.53 | T53: 116619.34 | U53: =AVERAGE(S53:T53) -> 117202.44 | V53: 147108.01 | W53: 145651.49 | X53: =AVERAGE(V53:W53) -> 146379.75 | Y53: 121811.54 | Z53: 120605.48 | AA53: =AVERAGE(Y53:Z53) -> 121208.51 | AB53: 112336.66 | AC53: 111224.42 | AD53: =AVERAGE(AB53:AC53) -> 111780.54 | AE53: 182794.6 | AF53: 180984.75 | AG53: =AVERAGE(AE53:AF53) -> 181889.67 | AH53: 130273.3 | AI53: 128983.47 | AJ53: =AVERAGE(AH53:AI53) -> 129628.39 | AK53: 147105.7 | AL53: 145649.21 | AM53: =AVERAGE(AK53:AL53) -> 146377.45 | AN53: 141484.63 | AO53: 140083.8 | AP53: =AVERAGE(AN53:AO53) -> 140784.21 | AQ53: 122646.42 | AR53: 121432.1 | AS53: =AVERAGE(AQ53:AR53) -> 122039.26 | AT53: 130289.47 | AU53: 128999.47 | AV53: =AVERAGE(AT53:AU53) -> 129644.47 | AW53: 121811.54 | AX53: 120605.48 | AY53: =AVERAGE(AW53:AX53) -> 121208.51 | AZ53: 180715.1 | BA53: 178925.84 | BB53: =AVERAGE(AZ53:BA53) -> 179820.47
B54: 4.5 | C54: RODAMIENTOS DELANTEROS (JUEGO) | D54: 65339.265 | E54: 65014.194 | F54: =AVERAGE(D54:E54) -> 65176.729 | G54: 70218.56 | H54: 69869.214 | I54: =AVERAGE(G54:H54) -> 70043.887 | J54: 108125.32 | K54: 107587.38 | L54: =AVERAGE(J54:K54) -> 107856.35 | M54: 70218.56 | N54: 69869.214 | O54: =AVERAGE(M54:N54) -> 70043.887 | P54: 90212.848 | Q54: 89764.027 | R54: =AVERAGE(P54:Q54) -> 89988.437 | S54: 70218.56 | T54: 69869.214 | U54: =AVERAGE(S54:T54) -> 70043.887 | V54: 90212.848 | W54: 89764.027 | X54: =AVERAGE(V54:W54) -> 89988.437 | Y54: 90212.848 | Z54: 89764.027 | AA54: =AVERAGE(Y54:Z54) -> 89988.437 | AB54: 79977.15 | AC54: 79579.254 | AD54: =AVERAGE(AB54:AC54) -> 79778.202 | AE54: 124863.81 | AF54: 124242.59 | AG54: =AVERAGE(AE54:AF54) -> 124553.2 | AH54: 70218.56 | AI54: 69869.214 | AJ54: =AVERAGE(AH54:AI54) -> 70043.887 | AK54: 90212.848 | AL54: 89764.027 | AM54: =AVERAGE(AK54:AL54) -> 89988.437 | AN54: 99834.403 | AO54: 99337.714 | AP54: =AVERAGE(AN54:AO54) -> 99586.059 | AQ54: 70218.56 | AR54: 69869.214 | AS54: =AVERAGE(AQ54:AR54) -> 70043.887 | AT54: 70218.56 | AU54: 69869.214 | AV54: =AVERAGE(AT54:AU54) -> 70043.887 | AW54: 90212.848 | AX54: 89764.027 | AY54: =AVERAGE(AW54:AX54) -> 89988.437 | AZ54: 124863.81 | BA54: 124242.59 | BB54: =AVERAGE(AZ54:BA54) -> 124553.2
B55: 4.6 | C55: RODAMIENTOS TRASEROS (JUEGO) | D55: 118164.08 | E55: 116994.14 | F55: =AVERAGE(D55:E55) -> 117579.11 | G55: 126988.14 | H55: 125730.83 | I55: =AVERAGE(G55:H55) -> 126359.49 | J55: 195541.36 | K55: 193605.31 | L55: =AVERAGE(J55:K55) -> 194573.34 | M55: 126988.14 | N55: 125730.83 | O55: =AVERAGE(M55:N55) -> 126359.49 | P55: 163147.2 | Q55: 161531.89 | R55: =AVERAGE(P55:Q55) -> 162339.54 | S55: 126988.14 | T55: 125730.83 | U55: =AVERAGE(S55:T55) -> 126359.49 | V55: 163147.2 | W55: 161531.89 | X55: =AVERAGE(V55:W55) -> 162339.54 | Y55: 163147.2 | Z55: 161531.89 | AA55: =AVERAGE(Y55:Z55) -> 162339.54 | AB55: 144636.26 | AC55: 143204.21 | AD55: =AVERAGE(AB55:AC55) -> 143920.23 | AE55: 225812.41 | AF55: 223576.65 | AG55: =AVERAGE(AE55:AF55) -> 224694.53 | AH55: 126988.14 | AI55: 125730.83 | AJ55: =AVERAGE(AH55:AI55) -> 126359.49 | AK55: 163147.2 | AL55: 161531.89 | AM55: =AVERAGE(AK55:AL55) -> 162339.54 | AN55: 180547.5 | AO55: 178759.9 | AP55: =AVERAGE(AN55:AO55) -> 179653.7 | AQ55: 126988.14 | AR55: 125730.83 | AS55: =AVERAGE(AQ55:AR55) -> 126359.49 | AT55: 126988.14 | AU55: 125730.83 | AV55: =AVERAGE(AT55:AU55) -> 126359.49 | AW55: 163147.2 | AX55: 161531.89 | AY55: =AVERAGE(AW55:AX55) -> 162339.54 | AZ55: 225812.41 | BA55: 223576.65 | BB55: =AVERAGE(AZ55:BA55) -> 224694.53
B56: 4.7 | C56: SOPORTE O PATA LATERAL | D56: 65989.407 | E56: 65014.194 | F56: =AVERAGE(D56:E56) -> 65501.8 | G56: 70917.252 | H56: 69869.214 | I56: =AVERAGE(G56:H56) -> 70393.233 | J56: 109201.19 | K56: 107587.38 | L56: =AVERAGE(J56:K56) -> 108394.29 | M56: 70917.252 | N56: 69869.214 | O56: =AVERAGE(M56:N56) -> 70393.233 | P56: 91110.488 | Q56: 89764.027 | R56: =AVERAGE(P56:Q56) -> 90437.258 | S56: 70917.252 | T56: 69869.214 | U56: =AVERAGE(S56:T56) -> 70393.233 | V56: 91110.488 | W56: 89764.027 | X56: =AVERAGE(V56:W56) -> 90437.258 | Y56: 91110.488 | Z56: 89764.027 | AA56: =AVERAGE(Y56:Z56) -> 90437.258 | AB56: 80772.943 | AC56: 79579.254 | AD56: =AVERAGE(AB56:AC56) -> 80176.099 | AE56: 126106.23 | AF56: 124242.59 | AG56: =AVERAGE(AE56:AF56) -> 125174.41 | AH56: 70917.252 | AI56: 69869.214 | AJ56: =AVERAGE(AH56:AI56) -> 70393.233 | AK56: 91110.488 | AL56: 89764.027 | AM56: =AVERAGE(AK56:AL56) -> 90437.258 | AN56: 100827.78 | AO56: 99337.714 | AP56: =AVERAGE(AN56:AO56) -> 100082.75 | AQ56: 70917.252 | AR56: 69869.214 | AS56: =AVERAGE(AQ56:AR56) -> 70393.233 | AT56: 70917.252 | AU56: 69869.214 | AV56: =AVERAGE(AT56:AU56) -> 70393.233 | AW56: 91110.488 | AX56: 89764.027 | AY56: =AVERAGE(AW56:AX56) -> 90437.258 | AZ56: 126106.23 | BA56: 124242.59 | BB56: =AVERAGE(AZ56:BA56) -> 125174.41
B57: 4.8 | C57: TIJERA | D57: 193176.96 | E57: 189389.17 | F57: =AVERAGE(D57:E57) -> 191283.06 | G57: 207602.7 | H57: 203532.06 | I57: =AVERAGE(G57:H57) -> 205567.38 | J57: 319674.85 | K57: 313406.72 | L57: =AVERAGE(J57:K57) -> 316540.78 | M57: 207602.7 | N57: 203532.06 | O57: =AVERAGE(M57:N57) -> 205567.38 | P57: 266716.24 | Q57: 261486.51 | R57: =AVERAGE(P57:Q57) -> 264101.38 | S57: 207602.7 | T57: 203532.06 | U57: =AVERAGE(S57:T57) -> 205567.38 | V57: 266716.24 | W57: 261486.51 | X57: =AVERAGE(V57:W57) -> 264101.38 | Y57: 266716.24 | Z57: 261486.51 | AA57: =AVERAGE(Y57:Z57) -> 264101.38 | AB57: 236454.18 | AC57: 231817.83 | AD57: =AVERAGE(AB57:AC57) -> 234136.01 | AE57: 369162.56 | AF57: 361924.08 | AG57: =AVERAGE(AE57:AF57) -> 365543.32 | AH57: 207602.7 | AI57: 203532.06 | AJ57: =AVERAGE(AH57:AI57) -> 205567.38 | AK57: 266716.24 | AL57: 261486.51 | AM57: =AVERAGE(AK57:AL57) -> 264101.38 | AN57: 295162.58 | AO57: 289375.08 | AP57: =AVERAGE(AN57:AO57) -> 292268.83 | AQ57: 207602.7 | AR57: 203532.06 | AS57: =AVERAGE(AQ57:AR57) -> 205567.38 | AT57: 207602.7 | AU57: 203532.06 | AV57: =AVERAGE(AT57:AU57) -> 205567.38 | AW57: 266716.24 | AX57: 261486.51 | AY57: =AVERAGE(AW57:AX57) -> 264101.38 | AZ57: 369162.56 | BA57: 361924.08 | BB57: =AVERAGE(AZ57:BA57) -> 365543.32
B58: 5 | C58: SISTEMA DE DIRECCION | D58: 0 | E58: 0 | F58: =AVERAGE(D58:E58) -> 0 | G58: 0 | H58: 0 | I58: =AVERAGE(G58:H58) -> 0 | J58: 0 | K58: 0 | L58: =AVERAGE(J58:K58) -> 0 | M58: 0 | N58: 0 | O58: =AVERAGE(M58:N58) -> 0 | P58: 0 | Q58: 0 | R58: =AVERAGE(P58:Q58) -> 0 | S58: 0 | T58: 0 | U58: =AVERAGE(S58:T58) -> 0 | V58: 0 | W58: 0 | X58: =AVERAGE(V58:W58) -> 0 | Y58: 0 | Z58: 0 | AA58: =AVERAGE(Y58:Z58) -> 0 | AB58: 0 | AC58: 0 | AD58: =AVERAGE(AB58:AC58) -> 0 | AE58: 0 | AF58: 0 | AG58: =AVERAGE(AE58:AF58) -> 0 | AH58: 0 | AI58: 0 | AJ58: =AVERAGE(AH58:AI58) -> 0 | AK58: 0 | AL58: 0 | AM58: =AVERAGE(AK58:AL58) -> 0 | AN58: 0 | AO58: 0 | AP58: =AVERAGE(AN58:AO58) -> 0 | AQ58: 0 | AR58: 0 | AS58: =AVERAGE(AQ58:AR58) -> 0 | AT58: 0 | AU58: 0 | AV58: =AVERAGE(AT58:AU58) -> 0 | AW58: 0 | AX58: 0 | AY58: =AVERAGE(AW58:AX58) -> 0 | AZ58: 0 | BA58: 0 | BB58: =AVERAGE(AZ58:BA58) -> 0
B59: 5.1 | C59: CUNAS DIRECCION | D59: 129076.73 | E59: 125317.21 | F59: =AVERAGE(D59:E59) -> 127196.97 | G59: 138715.7 | H59: 134675.44 | I59: =AVERAGE(G59:H59) -> 136695.57 | J59: 213599.93 | K59: 207378.57 | L59: =AVERAGE(J59:K59) -> 210489.25 | M59: 138715.7 | N59: 134675.44 | O59: =AVERAGE(M59:N59) -> 136695.57 | P59: 178214.12 | Q59: 173023.42 | R59: =AVERAGE(P59:Q59) -> 175618.77 | S59: 138715.7 | T59: 134675.44 | U59: =AVERAGE(S59:T59) -> 136695.57 | V59: 178214.12 | W59: 173023.42 | X59: =AVERAGE(V59:W59) -> 175618.77 | Y59: 178214.12 | Z59: 173023.42 | AA59: =AVERAGE(Y59:Z59) -> 175618.77 | AB59: 157993.65 | AC59: 153391.9 | AD59: =AVERAGE(AB59:AC59) -> 155692.77 | AE59: 246666.56 | AF59: 239482.1 | AG59: =AVERAGE(AE59:AF59) -> 243074.33 | AH59: 138715.7 | AI59: 134675.44 | AJ59: =AVERAGE(AH59:AI59) -> 136695.57 | AK59: 178214.12 | AL59: 173023.42 | AM59: =AVERAGE(AK59:AL59) -> 175618.77 | AN59: 197221.35 | AO59: 191477.04 | AP59: =AVERAGE(AN59:AO59) -> 194349.2 | AQ59: 138715.7 | AR59: 134675.44 | AS59: =AVERAGE(AQ59:AR59) -> 136695.57 | AT59: 138715.7 | AU59: 134675.44 | AV59: =AVERAGE(AT59:AU59) -> 136695.57 | AW59: 178214.12 | AX59: 173023.42 | AY59: =AVERAGE(AW59:AX59) -> 175618.77 | AZ59: 246666.56 | BA59: 239482.1 | BB59: =AVERAGE(AZ59:BA59) -> 243074.33
B60: 5.2 | C60: MANUBRIO DIRECCON | D60: 89719.587 | E60: 86685.592 | F60: =AVERAGE(D60:E60) -> 88202.589 | G60: 96419.515 | H60: 93158.952 | I60: =AVERAGE(G60:H60) -> 94789.233 | J60: 148470.59 | K60: 143449.84 | L60: =AVERAGE(J60:K60) -> 145960.21 | M60: 96419.515 | N60: 93158.952 | O60: =AVERAGE(M60:N60) -> 94789.233 | P60: 123874.36 | Q60: 119685.37 | R60: =AVERAGE(P60:Q60) -> 121779.86 | S60: 96419.515 | T60: 93158.952 | U60: =AVERAGE(S60:T60) -> 94789.233 | V60: 123874.36 | W60: 119685.37 | X60: =AVERAGE(V60:W60) -> 121779.86 | Y60: 123874.36 | Z60: 119685.37 | AA60: =AVERAGE(Y60:Z60) -> 121779.86 | AB60: 109819.37 | AC60: 106105.67 | AD60: =AVERAGE(AB60:AC60) -> 107962.52 | AE60: 171454.78 | AF60: 165656.79 | AG60: =AVERAGE(AE60:AF60) -> 168555.79 | AH60: 96419.515 | AI60: 93158.952 | AJ60: =AVERAGE(AH60:AI60) -> 94789.233 | AK60: 123874.36 | AL60: 119685.37 | AM60: =AVERAGE(AK60:AL60) -> 121779.86 | AN60: 137086.05 | AO60: 132450.29 | AP60: =AVERAGE(AN60:AO60) -> 134768.17 | AQ60: 96419.515 | AR60: 93158.952 | AS60: =AVERAGE(AQ60:AR60) -> 94789.233 | AT60: 96419.515 | AU60: 93158.952 | AV60: =AVERAGE(AT60:AU60) -> 94789.233 | AW60: 123874.36 | AX60: 119685.37 | AY60: =AVERAGE(AW60:AX60) -> 121779.86 | AZ60: 171454.78 | BA60: 165656.79 | BB60: =AVERAGE(AZ60:BA60) -> 168555.79
B61: 6 | C61: SISTEMA DE FRENOS | D61: 0 | E61: 0 | F61: =AVERAGE(D61:E61) -> 0 | G61: 0 | H61: 0 | I61: =AVERAGE(G61:H61) -> 0 | J61: 0 | K61: 0 | L61: =AVERAGE(J61:K61) -> 0 | M61: 0 | N61: 0 | O61: =AVERAGE(M61:N61) -> 0 | P61: 0 | Q61: 0 | R61: =AVERAGE(P61:Q61) -> 0 | S61: 0 | T61: 0 | U61: =AVERAGE(S61:T61) -> 0 | V61: 0 | W61: 0 | X61: =AVERAGE(V61:W61) -> 0 | Y61: 0 | Z61: 0 | AA61: =AVERAGE(Y61:Z61) -> 0 | AB61: 0 | AC61: 0 | AD61: =AVERAGE(AB61:AC61) -> 0 | AE61: 0 | AF61: 0 | AG61: =AVERAGE(AE61:AF61) -> 0 | AH61: 0 | AI61: 0 | AJ61: =AVERAGE(AH61:AI61) -> 0 | AK61: 0 | AL61: 0 | AM61: =AVERAGE(AK61:AL61) -> 0 | AN61: 0 | AO61: 0 | AP61: =AVERAGE(AN61:AO61) -> 0 | AQ61: 0 | AR61: 0 | AS61: =AVERAGE(AQ61:AR61) -> 0 | AT61: 0 | AU61: 0 | AV61: =AVERAGE(AT61:AU61) -> 0 | AW61: 0 | AX61: 0 | AY61: =AVERAGE(AW61:AX61) -> 0 | AZ61: 0 | BA61: 0 | BB61: =AVERAGE(AZ61:BA61) -> 0
B62: 6.1 | C62: BANDAS DE FRENO DELANTERO (JUEGO) | D62: 44643.08 | E62: 43342.796 | F62: =AVERAGE(D62:E62) -> 43992.938 | G62: 47976.86 | H62: 46579.476 | I62: =AVERAGE(G62:H62) -> 47278.168 | J62: 73876.668 | K62: 71724.92 | L62: =AVERAGE(J62:K62) -> 72800.794 | M62: 47976.86 | N62: 46579.476 | O62: =AVERAGE(M62:N62) -> 47278.168 | P62: 61637.965 | Q62: 59842.685 | R62: =AVERAGE(P62:Q62) -> 60740.325 | S62: 47976.86 | T62: 46579.476 | U62: =AVERAGE(S62:T62) -> 47278.168 | V62: 61637.965 | W62: 59842.685 | X62: =AVERAGE(V62:W62) -> 60740.325 | Y62: 61637.965 | Z62: 59842.685 | AA62: =AVERAGE(Y62:Z62) -> 60740.325 | AB62: 54644.421 | AC62: 53052.836 | AD62: =AVERAGE(AB62:AC62) -> 53848.629 | AE62: 85313.248 | AF62: 82828.396 | AG62: =AVERAGE(AE62:AF62) -> 84070.822 | AH62: 47976.86 | AI62: 46579.476 | AJ62: =AVERAGE(AH62:AI62) -> 47278.168 | AK62: 61637.965 | AL62: 59842.685 | AM62: =AVERAGE(AK62:AL62) -> 60740.325 | AN62: 68211.897 | AO62: 66225.143 | AP62: =AVERAGE(AN62:AO62) -> 67218.52 | AQ62: 47976.86 | AR62: 46579.476 | AS62: =AVERAGE(AQ62:AR62) -> 47278.168 | AT62: 47976.86 | AU62: 46579.476 | AV62: =AVERAGE(AT62:AU62) -> 47278.168 | AW62: 61637.965 | AX62: 59842.685 | AY62: =AVERAGE(AW62:AX62) -> 60740.325 | AZ62: 85313.248 | BA62: 82828.396 | BB62: =AVERAGE(AZ62:BA62) -> 84070.822
B63: 6.2 | C63: BANDAS DE FRENO TRASERO (JUEGO) | D63: 55532.957 | E63: 54178.495 | F63: =AVERAGE(D63:E63) -> 54855.726 | G63: 59679.954 | H63: 58224.345 | I63: =AVERAGE(G63:H63) -> 58952.149 | J63: 91897.554 | K63: 89656.151 | L63: =AVERAGE(J63:K63) -> 90776.852 | M63: 59679.954 | N63: 58224.345 | O63: =AVERAGE(M63:N63) -> 58952.149 | P63: 76673.44 | Q63: 74803.356 | R63: =AVERAGE(P63:Q63) -> 75738.398 | S63: 59679.954 | T63: 58224.345 | U63: =AVERAGE(S63:T63) -> 58952.149 | V63: 76673.44 | W63: 74803.356 | X63: =AVERAGE(V63:W63) -> 75738.398 | Y63: 76673.44 | Z63: 74803.356 | AA63: =AVERAGE(Y63:Z63) -> 75738.398 | AB63: 67973.946 | AC63: 66316.045 | AD63: =AVERAGE(AB63:AC63) -> 67144.996 | AE63: 106123.88 | AF63: 103535.49 | AG63: =AVERAGE(AE63:AF63) -> 104829.69 | AH63: 59679.954 | AI63: 58224.345 | AJ63: =AVERAGE(AH63:AI63) -> 58952.149 | AK63: 76673.44 | AL63: 74803.356 | AM63: =AVERAGE(AK63:AL63) -> 75738.398 | AN63: 84850.964 | AO63: 82781.429 | AP63: =AVERAGE(AN63:AO63) -> 83816.196 | AQ63: 59679.954 | AR63: 58224.345 | AS63: =AVERAGE(AQ63:AR63) -> 58952.149 | AT63: 59679.954 | AU63: 58224.345 | AV63: =AVERAGE(AT63:AU63) -> 58952.149 | AW63: 76673.44 | AX63: 74803.356 | AY63: =AVERAGE(AW63:AX63) -> 75738.398 | AZ63: 106123.88 | BA63: 103535.49 | BB63: =AVERAGE(AZ63:BA63) -> 104829.69
B64: 6.3 | C64: BOMBA DE FRENOS | D64: 172513.75 | E64: 169131.13 | F64: =AVERAGE(D64:E64) -> 170822.44 | G64: 185396.44 | H64: 181761.22 | I64: =AVERAGE(G64:H64) -> 183578.83 | J64: 285480.78 | K64: 279883.11 | L64: =AVERAGE(J64:K64) -> 282681.94 | M64: 185396.44 | N64: 181761.22 | O64: =AVERAGE(M64:N64) -> 183578.83 | P64: 238186.9 | Q64: 233516.56 | R64: =AVERAGE(P64:Q64) -> 235851.73 | S64: 185396.44 | T64: 181761.22 | U64: =AVERAGE(S64:T64) -> 183578.83 | V64: 238186.9 | W64: 233516.56 | X64: =AVERAGE(V64:W64) -> 235851.73 | Y64: 238186.9 | Z64: 233516.56 | AA64: =AVERAGE(Y64:Z64) -> 235851.73 | AB64: 211161.82 | AC64: 207021.39 | AD64: =AVERAGE(AB64:AC64) -> 209091.61 | AE64: 329675.02 | AF64: 323210.81 | AG64: =AVERAGE(AE64:AF64) -> 326442.91 | AH64: 185396.44 | AI64: 181761.22 | AJ64: =AVERAGE(AH64:AI64) -> 183578.83 | AK64: 238186.9 | AL64: 233516.56 | AM64: =AVERAGE(AK64:AL64) -> 235851.73 | AN64: 263590.47 | AO64: 258422.02 | AP64: =AVERAGE(AN64:AO64) -> 261006.25 | AQ64: 185396.44 | AR64: 181761.22 | AS64: =AVERAGE(AQ64:AR64) -> 183578.83 | AT64: 185396.44 | AU64: 181761.22 | AV64: =AVERAGE(AT64:AU64) -> 183578.83 | AW64: 238186.9 | AX64: 233516.56 | AY64: =AVERAGE(AW64:AX64) -> 235851.73 | AZ64: 329675.02 | BA64: 323210.81 | BB64: =AVERAGE(AZ64:BA64) -> 326442.91
B65: 6.4 | C65: CAUCHOS CAMPANA (JUEGO) | D65: 59720.773 | E65: 58838.2 | F65: =AVERAGE(D65:E65) -> 59279.486 | G65: 51050.68 | H65: 50296.237 | I65: =AVERAGE(G65:H65) -> 50673.458 | J65: 68052.105 | K65: 67046.409 | L65: =AVERAGE(J65:K65) -> 67549.257 | M65: 91786.193 | N65: 90429.747 | O65: =AVERAGE(M65:N65) -> 91107.97 | P65: 70812.458 | Q65: 69765.969 | R65: =AVERAGE(P65:Q65) -> 70289.213 | S65: 63103.733 | T65: 62171.165 | U65: =AVERAGE(S65:T65) -> 62637.449 | V65: 141427.69 | W65: 139337.63 | X65: =AVERAGE(V65:W65) -> 140382.66 | Y65: 76486.303 | Z65: 75355.963 | AA65: =AVERAGE(Y65:Z65) -> 75921.133 | AB65: 78722.274 | AC65: 77558.891 | AD65: =AVERAGE(AB65:AC65) -> 78140.582 | AE65: 76486.303 | AF65: 75355.963 | AG65: =AVERAGE(AE65:AF65) -> 75921.133 | AH65: 71742.115 | AI65: 70681.887 | AJ65: =AVERAGE(AH65:AI65) -> 71212.001 | AK65: 94207.786 | AL65: 92815.553 | AM65: =AVERAGE(AK65:AL65) -> 93511.67 | AN65: 90216.914 | AO65: 88883.659 | AP65: =AVERAGE(AN65:AO65) -> 89550.287 | AQ65: 89604.362 | AR65: 88280.159 | AS65: =AVERAGE(AQ65:AR65) -> 88942.26 | AT65: 78056.355 | AU65: 76902.813 | AV65: =AVERAGE(AT65:AU65) -> 77479.584 | AW65: 76413.601 | AX65: 75284.336 | AY65: =AVERAGE(AW65:AX65) -> 75848.968 | AZ65: 77542.028 | BA65: 76396.087 | BB65: =AVERAGE(AZ65:BA65) -> 76969.057
B66: 6.5 | C66: DISCO DE FRENO | D66: 214598.66 | E66: 212473.92 | F66: =AVERAGE(D66:E66) -> 213536.29 | G66: 230624.1 | H66: 228340.69 | I66: =AVERAGE(G66:H66) -> 229482.4 | J66: 355124.11 | K66: 351608.03 | L66: =AVERAGE(J66:K66) -> 353366.07 | M66: 230624.1 | N66: 228340.69 | O66: =AVERAGE(M66:N66) -> 229482.4 | P66: 296292.84 | Q66: 293359.25 | R66: =AVERAGE(P66:Q66) -> 294826.05 | S66: 230624.1 | T66: 228340.69 | U66: =AVERAGE(S66:T66) -> 229482.4 | V66: 296292.84 | W66: 293359.25 | X66: =AVERAGE(V66:W66) -> 294826.05 | Y66: 296292.84 | Z66: 293359.25 | AA66: =AVERAGE(Y66:Z66) -> 294826.05 | AB66: 262674.97 | AC66: 260074.23 | AD66: =AVERAGE(AB66:AC66) -> 261374.6 | AE66: 410099.59 | AF66: 406039.2 | AG66: =AVERAGE(AE66:AF66) -> 408069.4 | AH66: 230624.1 | AI66: 228340.69 | AJ66: =AVERAGE(AH66:AI66) -> 229482.4 | AK66: 296292.84 | AL66: 293359.25 | AM66: =AVERAGE(AK66:AL66) -> 294826.05 | AN66: 327893.64 | AO66: 324647.17 | AP66: =AVERAGE(AN66:AO66) -> 326270.4 | AQ66: 230624.1 | AR66: 228340.69 | AS66: =AVERAGE(AQ66:AR66) -> 229482.4 | AT66: 230624.1 | AU66: 228340.69 | AV66: =AVERAGE(AT66:AU66) -> 229482.4 | AW66: 296292.84 | AX66: 293359.25 | AY66: =AVERAGE(AW66:AX66) -> 294826.05 | AZ66: 410099.59 | BA66: 406039.2 | BB66: =AVERAGE(AZ66:BA66) -> 408069.4
B67: 6.6 | C67: MANGUERA FRENO | D67: 108898.77 | E67: 108356.99 | F67: =AVERAGE(D67:E67) -> 108627.88 | G67: 117030.93 | H67: 116448.69 | I67: =AVERAGE(G67:H67) -> 116739.81 | J67: 180208.86 | K67: 179312.3 | L67: =AVERAGE(J67:K67) -> 179760.58 | M67: 117030.93 | N67: 116448.69 | O67: =AVERAGE(M67:N67) -> 116739.81 | P67: 150354.75 | Q67: 149606.71 | R67: =AVERAGE(P67:Q67) -> 149980.73 | S67: 117030.93 | T67: 116448.69 | U67: =AVERAGE(S67:T67) -> 116739.81 | V67: 150354.75 | W67: 149606.71 | X67: =AVERAGE(V67:W67) -> 149980.73 | Y67: 150354.75 | Z67: 149606.71 | AA67: =AVERAGE(Y67:Z67) -> 149980.73 | AB67: 133295.25 | AC67: 132632.09 | AD67: =AVERAGE(AB67:AC67) -> 132963.67 | AE67: 208106.34 | AF67: 207070.99 | AG67: =AVERAGE(AE67:AF67) -> 207588.67 | AH67: 117030.93 | AI67: 116448.69 | AJ67: =AVERAGE(AH67:AI67) -> 116739.81 | AK67: 150354.75 | AL67: 149606.71 | AM67: =AVERAGE(AK67:AL67) -> 149980.73 | AN67: 166390.67 | AO67: 165562.86 | AP67: =AVERAGE(AN67:AO67) -> 165976.76 | AQ67: 117030.93 | AR67: 116448.69 | AS67: =AVERAGE(AQ67:AR67) -> 116739.81 | AT67: 117030.93 | AU67: 116448.69 | AV67: =AVERAGE(AT67:AU67) -> 116739.81 | AW67: 150354.75 | AX67: 149606.71 | AY67: =AVERAGE(AW67:AX67) -> 149980.73 | AZ67: 208106.34 | BA67: 207070.99 | BB67: =AVERAGE(AZ67:BA67) -> 207588.67
B68: 6.7 | C68: MANGUERA FRENO DELANTERO | D68: 109440.56 | E68: 108356.99 | F68: =AVERAGE(D68:E68) -> 108898.77 | G68: 117613.18 | H68: 116448.69 | I68: =AVERAGE(G68:H68) -> 117030.93 | J68: 181105.42 | K68: 179312.3 | L68: =AVERAGE(J68:K68) -> 180208.86 | M68: 117613.18 | N68: 116448.69 | O68: =AVERAGE(M68:N68) -> 117030.93 | P68: 151102.78 | Q68: 149606.71 | R68: =AVERAGE(P68:Q68) -> 150354.75 | S68: 117613.18 | T68: 116448.69 | U68: =AVERAGE(S68:T68) -> 117030.93 | V68: 151102.78 | W68: 149606.71 | X68: =AVERAGE(V68:W68) -> 150354.75 | Y68: 151102.78 | Z68: 149606.71 | AA68: =AVERAGE(Y68:Z68) -> 150354.75 | AB68: 133958.41 | AC68: 132632.09 | AD68: =AVERAGE(AB68:AC68) -> 133295.25 | AE68: 209141.7 | AF68: 207070.99 | AG68: =AVERAGE(AE68:AF68) -> 208106.34 | AH68: 117613.18 | AI68: 116448.69 | AJ68: =AVERAGE(AH68:AI68) -> 117030.93 | AK68: 151102.78 | AL68: 149606.71 | AM68: =AVERAGE(AK68:AL68) -> 150354.75 | AN68: 167218.49 | AO68: 165562.86 | AP68: =AVERAGE(AN68:AO68) -> 166390.67 | AQ68: 117613.18 | AR68: 116448.69 | AS68: =AVERAGE(AQ68:AR68) -> 117030.93 | AT68: 117613.18 | AU68: 116448.69 | AV68: =AVERAGE(AT68:AU68) -> 117030.93 | AW68: 151102.78 | AX68: 149606.71 | AY68: =AVERAGE(AW68:AX68) -> 150354.75 | AZ68: 209141.7 | BA68: 207070.99 | BB68: =AVERAGE(AZ68:BA68) -> 208106.34
B69: 6.8 | C69: MANIJA DE FRENO TRASERO | D69: 43992.938 | E69: 43342.796 | F69: =AVERAGE(D69:E69) -> 43667.867 | G69: 47278.168 | H69: 46579.476 | I69: =AVERAGE(G69:H69) -> 46928.822 | J69: 72800.794 | K69: 71724.92 | L69: =AVERAGE(J69:K69) -> 72262.857 | M69: 47278.168 | N69: 46579.476 | O69: =AVERAGE(M69:N69) -> 46928.822 | P69: 60740.325 | Q69: 59842.685 | R69: =AVERAGE(P69:Q69) -> 60291.505 | S69: 47278.168 | T69: 46579.476 | U69: =AVERAGE(S69:T69) -> 46928.822 | V69: 60740.325 | W69: 59842.685 | X69: =AVERAGE(V69:W69) -> 60291.505 | Y69: 60740.325 | Z69: 59842.685 | AA69: =AVERAGE(Y69:Z69) -> 60291.505 | AB69: 53848.629 | AC69: 53052.836 | AD69: =AVERAGE(AB69:AC69) -> 53450.732 | AE69: 84070.822 | AF69: 82828.396 | AG69: =AVERAGE(AE69:AF69) -> 83449.609 | AH69: 47278.168 | AI69: 46579.476 | AJ69: =AVERAGE(AH69:AI69) -> 46928.822 | AK69: 60740.325 | AL69: 59842.685 | AM69: =AVERAGE(AK69:AL69) -> 60291.505 | AN69: 67218.52 | AO69: 66225.143 | AP69: =AVERAGE(AN69:AO69) -> 66721.831 | AQ69: 47278.168 | AR69: 46579.476 | AS69: =AVERAGE(AQ69:AR69) -> 46928.822 | AT69: 47278.168 | AU69: 46579.476 | AV69: =AVERAGE(AT69:AU69) -> 46928.822 | AW69: 60740.325 | AX69: 59842.685 | AY69: =AVERAGE(AW69:AX69) -> 60291.505 | AZ69: 84070.822 | BA69: 82828.396 | BB69: =AVERAGE(AZ69:BA69) -> 83449.609
B70: 6.9 | C70: PASTILLAS DE FRENO DELANTERAS (JUEGO) | D70: 81694.978 | E70: 80093.115 | F70: =AVERAGE(D70:E70) -> 80894.046 | G70: 86144.709 | H70: 84455.597 | I70: =AVERAGE(G70:H70) -> 85300.153 | J70: 135913.52 | K70: 133248.55 | L70: =AVERAGE(J70:K70) -> 134581.03 | M70: 86144.709 | N70: 84455.597 | O70: =AVERAGE(M70:N70) -> 85300.153 | P70: 109905.75 | Q70: 107750.74 | R70: =AVERAGE(P70:Q70) -> 108828.24 | S70: 86144.709 | T70: 84455.597 | U70: =AVERAGE(S70:T70) -> 85300.153 | V70: 109905.75 | W70: 107750.74 | X70: =AVERAGE(V70:W70) -> 108828.24 | Y70: 109905.75 | Z70: 107750.74 | AA70: =AVERAGE(Y70:Z70) -> 108828.24 | AB70: 95044.172 | AC70: 93180.561 | AD70: =AVERAGE(AB70:AC70) -> 94112.367 | AE70: 160216.74 | AF70: 157075.23 | AG70: =AVERAGE(AE70:AF70) -> 158645.98 | AH70: 86144.709 | AI70: 84455.597 | AJ70: =AVERAGE(AH70:AI70) -> 85300.153 | AK70: 109905.75 | AL70: 107750.74 | AM70: =AVERAGE(AK70:AL70) -> 108828.24 | AN70: 123875.64 | AO70: 121446.7 | AP70: =AVERAGE(AN70:AO70) -> 122661.17 | AQ70: 86144.709 | AR70: 84455.597 | AS70: =AVERAGE(AQ70:AR70) -> 85300.153 | AT70: 86144.709 | AU70: 84455.597 | AV70: =AVERAGE(AT70:AU70) -> 85300.153 | AW70: 109905.75 | AX70: 107750.74 | AY70: =AVERAGE(AW70:AX70) -> 108828.24 | AZ70: 160216.74 | BA70: 157075.23 | BB70: =AVERAGE(AZ70:BA70) -> 158645.98
B71: 6.10 | C71: PASTILLAS DE FRENO TRASERAS (JUEGO) | D71: 82095.443 | E71: 80093.115 | F71: =AVERAGE(D71:E71) -> 81094.279 | G71: 86566.987 | H71: 84455.597 | I71: =AVERAGE(G71:H71) -> 85511.292 | J71: 136579.76 | K71: 133248.55 | L71: =AVERAGE(J71:K71) -> 134914.15 | M71: 86566.987 | N71: 84455.597 | O71: =AVERAGE(M71:N71) -> 85511.292 | P71: 110444.51 | Q71: 107750.74 | R71: =AVERAGE(P71:Q71) -> 109097.62 | S71: 86566.987 | T71: 84455.597 | U71: =AVERAGE(S71:T71) -> 85511.292 | V71: 110444.51 | W71: 107750.74 | X71: =AVERAGE(V71:W71) -> 109097.62 | Y71: 110444.51 | Z71: 107750.74 | AA71: =AVERAGE(Y71:Z71) -> 109097.62 | AB71: 95510.075 | AC71: 93180.561 | AD71: =AVERAGE(AB71:AC71) -> 94345.318 | AE71: 161002.11 | AF71: 157075.23 | AG71: =AVERAGE(AE71:AF71) -> 159038.67 | AH71: 86566.987 | AI71: 84455.597 | AJ71: =AVERAGE(AH71:AI71) -> 85511.292 | AK71: 110444.51 | AL71: 107750.74 | AM71: =AVERAGE(AK71:AL71) -> 109097.62 | AN71: 124482.87 | AO71: 121446.7 | AP71: =AVERAGE(AN71:AO71) -> 122964.79 | AQ71: 86566.987 | AR71: 84455.597 | AS71: =AVERAGE(AQ71:AR71) -> 85511.292 | AT71: 86566.987 | AU71: 84455.597 | AV71: =AVERAGE(AT71:AU71) -> 85511.292 | AW71: 110444.51 | AX71: 107750.74 | AY71: =AVERAGE(AW71:AX71) -> 109097.62 | AZ71: 161002.11 | BA71: 157075.23 | BB71: =AVERAGE(AZ71:BA71) -> 159038.67
B72: 6.11 | C72: SENSOR FRENO DELANTERO | D72: 177932.9 | E72: 172750.39 | F72: =AVERAGE(D72:E72) -> 175341.65 | G72: 177337.98 | H72: 172172.8 | I72: =AVERAGE(G72:H72) -> 174755.39 | J72: 175448.84 | K72: 170338.68 | L72: =AVERAGE(J72:K72) -> 172893.76 | M72: 167764.32 | N72: 162877.98 | O72: =AVERAGE(M72:N72) -> 165321.15 | P72: 166093.37 | Q72: 161255.7 | R72: =AVERAGE(P72:Q72) -> 163674.53 | S72: 167764.32 | T72: 162877.98 | U72: =AVERAGE(S72:T72) -> 165321.15 | V72: 166093.37 | W72: 161255.7 | X72: =AVERAGE(V72:W72) -> 163674.53 | Y72: 167895.39 | Z72: 163005.24 | AA72: =AVERAGE(Y72:Z72) -> 165450.32 | AB72: 166093.37 | AC72: 161255.7 | AD72: =AVERAGE(AB72:AC72) -> 163674.53 | AE72: 165619.31 | AF72: 160795.45 | AG72: =AVERAGE(AE72:AF72) -> 163207.38 | AH72: 167764.32 | AI72: 162877.98 | AJ72: =AVERAGE(AH72:AI72) -> 165321.15 | AK72: 165619.31 | AL72: 160795.45 | AM72: =AVERAGE(AK72:AL72) -> 163207.38 | AN72: 163023.8 | AO72: 158275.53 | AP72: =AVERAGE(AN72:AO72) -> 160649.67 | AQ72: 165619.31 | AR72: 160795.45 | AS72: =AVERAGE(AQ72:AR72) -> 163207.38 | AT72: 167764.32 | AU72: 162877.98 | AV72: =AVERAGE(AT72:AU72) -> 165321.15 | AW72: 166979.47 | AX72: 162115.99 | AY72: =AVERAGE(AW72:AX72) -> 164547.73 | AZ72: 166878.22 | BA72: 162017.69 | BB72: =AVERAGE(AZ72:BA72) -> 164447.96
B73: 6.12 | C73: SENSOR FRENO TRASERO | D73: 178796.65 | E73: 172750.39 | F73: =AVERAGE(D73:E73) -> 175773.52 | G73: 178198.85 | H73: 172172.8 | I73: =AVERAGE(G73:H73) -> 175185.82 | J73: 176300.53 | K73: 170338.68 | L73: =AVERAGE(J73:K73) -> 173319.6 | M73: 168578.71 | N73: 162877.98 | O73: =AVERAGE(M73:N73) -> 165728.35 | P73: 166899.65 | Q73: 161255.7 | R73: =AVERAGE(P73:Q73) -> 164077.67 | S73: 168578.71 | T73: 162877.98 | U73: =AVERAGE(S73:T73) -> 165728.35 | V73: 166899.65 | W73: 161255.7 | X73: =AVERAGE(V73:W73) -> 164077.67 | Y73: 168710.42 | Z73: 163005.24 | AA73: =AVERAGE(Y73:Z73) -> 165857.83 | AB73: 166899.65 | AC73: 161255.7 | AD73: =AVERAGE(AB73:AC73) -> 164077.67 | AE73: 166423.29 | AF73: 160795.45 | AG73: =AVERAGE(AE73:AF73) -> 163609.37 | AH73: 168578.71 | AI73: 162877.98 | AJ73: =AVERAGE(AH73:AI73) -> 165728.35 | AK73: 166423.29 | AL73: 160795.45 | AM73: =AVERAGE(AK73:AL73) -> 163609.37 | AN73: 163815.18 | AO73: 158275.53 | AP73: =AVERAGE(AN73:AO73) -> 161045.36 | AQ73: 166423.29 | AR73: 160795.45 | AS73: =AVERAGE(AQ73:AR73) -> 163609.37 | AT73: 168578.71 | AU73: 162877.98 | AV73: =AVERAGE(AT73:AU73) -> 165728.35 | AW73: 167790.05 | AX73: 162115.99 | AY73: =AVERAGE(AW73:AX73) -> 164953.02 | AZ73: 167688.31 | BA73: 162017.69 | BB73: =AVERAGE(AZ73:BA73) -> 164853
B74: 7 | C74: SISTEMA ELÉCTRICO | D74: 0 | E74: 0 | F74: =AVERAGE(D74:E74) -> 0 | G74: 0 | H74: 0 | I74: =AVERAGE(G74:H74) -> 0 | J74: 0 | K74: 0 | L74: =AVERAGE(J74:K74) -> 0 | M74: 0 | N74: 0 | O74: =AVERAGE(M74:N74) -> 0 | P74: 0 | Q74: 0 | R74: =AVERAGE(P74:Q74) -> 0 | S74: 0 | T74: 0 | U74: =AVERAGE(S74:T74) -> 0 | V74: 0 | W74: 0 | X74: =AVERAGE(V74:W74) -> 0 | Y74: 0 | Z74: 0 | AA74: =AVERAGE(Y74:Z74) -> 0 | AB74: 0 | AC74: 0 | AD74: =AVERAGE(AB74:AC74) -> 0 | AE74: 0 | AF74: 0 | AG74: =AVERAGE(AE74:AF74) -> 0 | AH74: 0 | AI74: 0 | AJ74: =AVERAGE(AH74:AI74) -> 0 | AK74: 0 | AL74: 0 | AM74: =AVERAGE(AK74:AL74) -> 0 | AN74: 0 | AO74: 0 | AP74: =AVERAGE(AN74:AO74) -> 0 | AQ74: 0 | AR74: 0 | AS74: =AVERAGE(AQ74:AR74) -> 0 | AT74: 0 | AU74: 0 | AV74: =AVERAGE(AT74:AU74) -> 0 | AW74: 0 | AX74: 0 | AY74: =AVERAGE(AW74:AX74) -> 0 | AZ74: 0 | BA74: 0 | BB74: =AVERAGE(AZ74:BA74) -> 0
B75: 7.1 | C75: AUTOMATICO MOTOR DE ARRANQUE | D75: 223251.32 | E75: 216748.86 | F75: =AVERAGE(D75:E75) -> 220000.09 | G75: 268804.89 | H75: 260975.62 | I75: =AVERAGE(G75:H75) -> 264890.25 | J75: 442242.96 | K75: 429362.1 | L75: =AVERAGE(J75:K75) -> 435802.53 | M75: 264880.61 | N75: 257165.64 | O75: =AVERAGE(M75:N75) -> 261023.13 | P75: 329092.32 | Q75: 319507.11 | R75: =AVERAGE(P75:Q75) -> 324299.72 | S75: 264880.61 | T75: 257165.64 | U75: =AVERAGE(S75:T75) -> 261023.13 | V75: 329877.18 | W75: 320269.1 | X75: =AVERAGE(V75:W75) -> 325073.14 | Y75: 325168.05 | Z75: 315697.14 | AA75: =AVERAGE(Y75:Z75) -> 320432.59 | AB75: 265665.47 | AC75: 257927.64 | AD75: =AVERAGE(AB75:AC75) -> 261796.55 | AE75: 545994.51 | AF75: 530091.76 | AG75: =AVERAGE(AE75:AF75) -> 538043.13 | AH75: 261811.05 | AI75: 254185.48 | AJ75: =AVERAGE(AH75:AI75) -> 257998.26 | AK75: 328618.27 | AL75: 319046.87 | AM75: =AVERAGE(AK75:AL75) -> 323832.57 | AN75: 386381.76 | AO75: 375127.93 | AP75: =AVERAGE(AN75:AO75) -> 380754.84 | AQ75: 261811.05 | AR75: 254185.48 | AS75: =AVERAGE(AQ75:AR75) -> 257998.26 | AT75: 261811.05 | AU75: 254185.48 | AV75: =AVERAGE(AT75:AU75) -> 257998.26 | AW75: 323956.23 | AX75: 314520.62 | AY75: =AVERAGE(AW75:AX75) -> 319238.42 | AZ75: 543877.76 | BA75: 528036.66 | BB75: =AVERAGE(AZ75:BA75) -> 535957.21
B76: 7.2 | C76: BATERIA | D76: 249353.26 | E76: 243271.48 | F76: =AVERAGE(D76:E76) -> 246312.37 | G76: 297889.63 | H76: 290624.03 | I76: =AVERAGE(G76:H76) -> 294256.83 | J76: 297889.63 | K76: 290624.03 | L76: =AVERAGE(J76:K76) -> 294256.83 | M76: 297889.63 | N76: 290624.03 | O76: =AVERAGE(M76:N76) -> 294256.83 | P76: 297889.63 | Q76: 290624.03 | R76: =AVERAGE(P76:Q76) -> 294256.83 | S76: 297889.63 | T76: 290624.03 | U76: =AVERAGE(S76:T76) -> 294256.83 | V76: 297889.63 | W76: 290624.03 | X76: =AVERAGE(V76:W76) -> 294256.83 | Y76: 297889.63 | Z76: 290624.03 | AA76: =AVERAGE(Y76:Z76) -> 294256.83 | AB76: 297889.63 | AC76: 290624.03 | AD76: =AVERAGE(AB76:AC76) -> 294256.83 | AE76: 297889.63 | AF76: 290624.03 | AG76: =AVERAGE(AE76:AF76) -> 294256.83 | AH76: 297889.63 | AI76: 290624.03 | AJ76: =AVERAGE(AH76:AI76) -> 294256.83 | AK76: 297889.63 | AL76: 290624.03 | AM76: =AVERAGE(AK76:AL76) -> 294256.83 | AN76: 297889.63 | AO76: 290624.03 | AP76: =AVERAGE(AN76:AO76) -> 294256.83 | AQ76: 297889.63 | AR76: 290624.03 | AS76: =AVERAGE(AQ76:AR76) -> 294256.83 | AT76: 297889.63 | AU76: 290624.03 | AV76: =AVERAGE(AT76:AU76) -> 294256.83 | AW76: 297889.63 | AX76: 290624.03 | AY76: =AVERAGE(AW76:AX76) -> 294256.83 | AZ76: 297889.63 | BA76: 290624.03 | BB76: =AVERAGE(AZ76:BA76) -> 294256.83
B77: 7.3 | C77: BOBINA CAPTADORA | D77: 111019.18 | E77: 108842.34 | F77: =AVERAGE(D77:E77) -> 109930.76 | G77: 142533.2 | H77: 139738.43 | I77: =AVERAGE(G77:H77) -> 141135.81 | J77: 219478.26 | K77: 215174.76 | L77: =AVERAGE(J77:K77) -> 217326.51 | M77: 142533.2 | N77: 139738.43 | O77: =AVERAGE(M77:N77) -> 141135.81 | P77: 183118.62 | Q77: 179528.05 | R77: =AVERAGE(P77:Q77) -> 181323.34 | S77: 142533.2 | T77: 139738.43 | U77: =AVERAGE(S77:T77) -> 141135.81 | V77: 183118.62 | W77: 179528.05 | X77: =AVERAGE(V77:W77) -> 181323.34 | Y77: 183118.62 | Z77: 179528.05 | AA77: =AVERAGE(Y77:Z77) -> 181323.34 | AB77: 162341.68 | AC77: 159158.51 | AD77: =AVERAGE(AB77:AC77) -> 160750.09 | AE77: 253454.89 | AF77: 248485.19 | AG77: =AVERAGE(AE77:AF77) -> 250970.04 | AH77: 142533.2 | AI77: 139738.43 | AJ77: =AVERAGE(AH77:AI77) -> 141135.81 | AK77: 183118.62 | AL77: 179528.05 | AM77: =AVERAGE(AK77:AL77) -> 181323.34 | AN77: 202648.94 | AO77: 198675.43 | AP77: =AVERAGE(AN77:AO77) -> 200662.18 | AQ77: 142533.2 | AR77: 139738.43 | AS77: =AVERAGE(AQ77:AR77) -> 141135.81 | AT77: 142533.2 | AU77: 139738.43 | AV77: =AVERAGE(AT77:AU77) -> 141135.81 | AW77: 183118.62 | AX77: 179528.05 | AY77: =AVERAGE(AW77:AX77) -> 181323.34 | AZ77: 253454.89 | BA77: 248485.19 | BB77: =AVERAGE(AZ77:BA77) -> 250970.04
B78: 7.4 | C78: BOBINA DE IGNICION ALTA | D78: 105004.59 | E78: 103452.8 | F78: =AVERAGE(D78:E78) -> 104228.7 | G78: 134811.3 | H78: 132819.01 | I78: =AVERAGE(G78:H78) -> 133815.16 | J78: 207587.77 | K78: 204519.97 | L78: =AVERAGE(J78:K78) -> 206053.87 | M78: 134811.3 | N78: 132819.01 | O78: =AVERAGE(M78:N78) -> 133815.16 | P78: 173197.96 | Q78: 170638.38 | R78: =AVERAGE(P78:Q78) -> 171918.17 | S78: 134811.3 | T78: 132819.01 | U78: =AVERAGE(S78:T78) -> 133815.16 | V78: 173197.96 | W78: 170638.38 | X78: =AVERAGE(V78:W78) -> 171918.17 | Y78: 173197.96 | Z78: 170638.38 | AA78: =AVERAGE(Y78:Z78) -> 171918.17 | AB78: 153546.63 | AC78: 151277.47 | AD78: =AVERAGE(AB78:AC78) -> 152412.05 | AE78: 239723.68 | AF78: 236180.97 | AG78: =AVERAGE(AE78:AF78) -> 237952.33 | AH78: 134811.3 | AI78: 132819.01 | AJ78: =AVERAGE(AH78:AI78) -> 133815.16 | AK78: 173197.96 | AL78: 170638.38 | AM78: =AVERAGE(AK78:AL78) -> 171918.17 | AN78: 191670.2 | AO78: 188837.64 | AP78: =AVERAGE(AN78:AO78) -> 190253.92 | AQ78: 134811.3 | AR78: 132819.01 | AS78: =AVERAGE(AQ78:AR78) -> 133815.16 | AT78: 134811.3 | AU78: 132819.01 | AV78: =AVERAGE(AT78:AU78) -> 133815.16 | AW78: 173197.96 | AX78: 170638.38 | AY78: =AVERAGE(AW78:AX78) -> 171918.17 | AZ78: 239723.68 | BA78: 236180.97 | BB78: =AVERAGE(AZ78:BA78) -> 237952.33
B79: 7.5 | C79: BOBINA DE CARGA | D79: 109930.76 | E79: 108842.34 | F79: =AVERAGE(D79:E79) -> 109386.55 | G79: 141135.81 | H79: 139738.43 | I79: =AVERAGE(G79:H79) -> 140437.12 | J79: 217326.51 | K79: 215174.76 | L79: =AVERAGE(J79:K79) -> 216250.64 | M79: 141135.81 | N79: 139738.43 | O79: =AVERAGE(M79:N79) -> 140437.12 | P79: 181323.34 | Q79: 179528.05 | R79: =AVERAGE(P79:Q79) -> 180425.7 | S79: 141135.81 | T79: 139738.43 | U79: =AVERAGE(S79:T79) -> 140437.12 | V79: 181323.34 | W79: 179528.05 | X79: =AVERAGE(V79:W79) -> 180425.7 | Y79: 181323.34 | Z79: 179528.05 | AA79: =AVERAGE(Y79:Z79) -> 180425.7 | AB79: 160750.09 | AC79: 159158.51 | AD79: =AVERAGE(AB79:AC79) -> 159954.3 | AE79: 250970.04 | AF79: 248485.19 | AG79: =AVERAGE(AE79:AF79) -> 249727.61 | AH79: 141135.81 | AI79: 139738.43 | AJ79: =AVERAGE(AH79:AI79) -> 140437.12 | AK79: 181323.34 | AL79: 179528.05 | AM79: =AVERAGE(AK79:AL79) -> 180425.7 | AN79: 200662.18 | AO79: 198675.43 | AP79: =AVERAGE(AN79:AO79) -> 199668.81 | AQ79: 141135.81 | AR79: 139738.43 | AS79: =AVERAGE(AQ79:AR79) -> 140437.12 | AT79: 141135.81 | AU79: 139738.43 | AV79: =AVERAGE(AT79:AU79) -> 140437.12 | AW79: 181323.34 | AX79: 179528.05 | AY79: =AVERAGE(AW79:AX79) -> 180425.7 | AZ79: 250970.04 | BA79: 248485.19 | BB79: =AVERAGE(AZ79:BA79) -> 249727.61
B80: 7.6 | C80: BOBINA LUCES | D80: 142281.78 | E80: 141573.91 | F80: =AVERAGE(D80:E80) -> 141927.84 | G80: 182670.02 | H80: 181761.22 | I80: =AVERAGE(G80:H80) -> 182215.62 | J80: 281282.53 | K80: 279883.11 | L80: =AVERAGE(J80:K80) -> 280582.82 | M80: 182670.02 | N80: 181761.22 | O80: =AVERAGE(M80:N80) -> 182215.62 | P80: 234684.15 | Q80: 233516.56 | R80: =AVERAGE(P80:Q80) -> 234100.36 | S80: 182670.02 | T80: 181761.22 | U80: =AVERAGE(S80:T80) -> 182215.62 | V80: 234684.15 | W80: 233516.56 | X80: =AVERAGE(V80:W80) -> 234100.36 | Y80: 234684.15 | Z80: 233516.56 | AA80: =AVERAGE(Y80:Z80) -> 234100.36 | AB80: 208056.5 | AC80: 207021.39 | AD80: =AVERAGE(AB80:AC80) -> 207538.95 | AE80: 324826.86 | AF80: 323210.81 | AG80: =AVERAGE(AE80:AF80) -> 324018.83 | AH80: 182670.02 | AI80: 181761.22 | AJ80: =AVERAGE(AH80:AI80) -> 182215.62 | AK80: 234684.15 | AL80: 233516.56 | AM80: =AVERAGE(AK80:AL80) -> 234100.36 | AN80: 259714.13 | AO80: 258422.02 | AP80: =AVERAGE(AN80:AO80) -> 259068.08 | AQ80: 182670.02 | AR80: 181761.22 | AS80: =AVERAGE(AQ80:AR80) -> 182215.62 | AT80: 182670.02 | AU80: 181761.22 | AV80: =AVERAGE(AT80:AU80) -> 182215.62 | AW80: 234684.15 | AX80: 233516.56 | AY80: =AVERAGE(AW80:AX80) -> 234100.36 | AZ80: 324826.86 | BA80: 323210.81 | BB80: =AVERAGE(AZ80:BA80) -> 324018.83
B81: 7.7 | C81: C D I | D81: 239313.45 | E81: 236944.01 | F81: =AVERAGE(D81:E81) -> 238128.73 | G81: 300452.31 | H81: 297477.53 | I81: =AVERAGE(G81:H81) -> 298964.92 | J81: 476080.21 | K81: 471366.55 | L81: =AVERAGE(J81:K81) -> 473723.38 | M81: 300452.31 | N81: 297477.53 | O81: =AVERAGE(M81:N81) -> 298964.92 | P81: 382843.75 | Q81: 379053.22 | R81: =AVERAGE(P81:Q81) -> 380948.49 | S81: 300452.31 | T81: 297477.53 | U81: =AVERAGE(S81:T81) -> 298964.92 | V81: 382843.75 | W81: 379053.22 | X81: =AVERAGE(V81:W81) -> 380948.49 | Y81: 382843.75 | Z81: 379053.22 | AA81: =AVERAGE(Y81:Z81) -> 380948.49 | AB81: 329565.78 | AC81: 326302.75 | AD81: =AVERAGE(AB81:AC81) -> 327934.26 | AE81: 563205.96 | AF81: 557629.67 | AG81: =AVERAGE(AE81:AF81) -> 560417.82 | AH81: 300452.31 | AI81: 297477.53 | AJ81: =AVERAGE(AH81:AI81) -> 298964.92 | AK81: 382843.75 | AL81: 379053.22 | AM81: =AVERAGE(AK81:AL81) -> 380948.49 | AN81: 432925.05 | AO81: 428638.66 | AP81: =AVERAGE(AN81:AO81) -> 430781.86 | AQ81: 300452.31 | AR81: 297477.53 | AS81: =AVERAGE(AQ81:AR81) -> 298964.92 | AT81: 300452.31 | AU81: 297477.53 | AV81: =AVERAGE(AT81:AU81) -> 298964.92 | AW81: 382843.75 | AX81: 379053.22 | AY81: =AVERAGE(AW81:AX81) -> 380948.49 | AZ81: 563205.96 | BA81: 557629.67 | BB81: =AVERAGE(AZ81:BA81) -> 560417.82
B82: 7.8 | C82: DIRECCIONAL DELANTERO | D82: 36824.99 | E82: 36280.779 | F82: =AVERAGE(D82:E82) -> 36552.884 | G82: 47278.168 | H82: 46579.476 | I82: =AVERAGE(G82:H82) -> 46928.822 | J82: 72800.794 | K82: 71724.92 | L82: =AVERAGE(J82:K82) -> 72262.857 | M82: 47278.168 | N82: 46579.476 | O82: =AVERAGE(M82:N82) -> 46928.822 | P82: 60740.325 | Q82: 59842.685 | R82: =AVERAGE(P82:Q82) -> 60291.505 | S82: 47278.168 | T82: 46579.476 | U82: =AVERAGE(S82:T82) -> 46928.822 | V82: 60740.325 | W82: 59842.685 | X82: =AVERAGE(V82:W82) -> 60291.505 | Y82: 60740.325 | Z82: 59842.685 | AA82: =AVERAGE(Y82:Z82) -> 60291.505 | AB82: 53848.629 | AC82: 53052.836 | AD82: =AVERAGE(AB82:AC82) -> 53450.732 | AE82: 84070.822 | AF82: 82828.396 | AG82: =AVERAGE(AE82:AF82) -> 83449.609 | AH82: 47278.168 | AI82: 46579.476 | AJ82: =AVERAGE(AH82:AI82) -> 46928.822 | AK82: 60740.325 | AL82: 59842.685 | AM82: =AVERAGE(AK82:AL82) -> 60291.505 | AN82: 67218.52 | AO82: 66225.143 | AP82: =AVERAGE(AN82:AO82) -> 66721.831 | AQ82: 47278.168 | AR82: 46579.476 | AS82: =AVERAGE(AQ82:AR82) -> 46928.822 | AT82: 47278.168 | AU82: 46579.476 | AV82: =AVERAGE(AT82:AU82) -> 46928.822 | AW82: 60740.325 | AX82: 59842.685 | AY82: =AVERAGE(AW82:AX82) -> 60291.505 | AZ82: 84070.822 | BA82: 82828.396 | BB82: =AVERAGE(AZ82:BA82) -> 83449.609
B83: 7.9 | C83: DIRECCIONAL TRASERO | D83: 37006.394 | E83: 36280.779 | F83: =AVERAGE(D83:E83) -> 36643.586 | G83: 47511.065 | H83: 46579.476 | I83: =AVERAGE(G83:H83) -> 47045.271 | J83: 73159.419 | K83: 71724.92 | L83: =AVERAGE(J83:K83) -> 72442.17 | M83: 47511.065 | N83: 46579.476 | O83: =AVERAGE(M83:N83) -> 47045.271 | P83: 61039.539 | Q83: 59842.685 | R83: =AVERAGE(P83:Q83) -> 60441.112 | S83: 47511.065 | T83: 46579.476 | U83: =AVERAGE(S83:T83) -> 47045.271 | V83: 61039.539 | W83: 59842.685 | X83: =AVERAGE(V83:W83) -> 60441.112 | Y83: 61039.539 | Z83: 59842.685 | AA83: =AVERAGE(Y83:Z83) -> 60441.112 | AB83: 54113.893 | AC83: 53052.836 | AD83: =AVERAGE(AB83:AC83) -> 53583.364 | AE83: 84484.964 | AF83: 82828.396 | AG83: =AVERAGE(AE83:AF83) -> 83656.68 | AH83: 47511.065 | AI83: 46579.476 | AJ83: =AVERAGE(AH83:AI83) -> 47045.271 | AK83: 61039.539 | AL83: 59842.685 | AM83: =AVERAGE(AK83:AL83) -> 60441.112 | AN83: 67549.646 | AO83: 66225.143 | AP83: =AVERAGE(AN83:AO83) -> 66887.394 | AQ83: 47511.065 | AR83: 46579.476 | AS83: =AVERAGE(AQ83:AR83) -> 47045.271 | AT83: 47511.065 | AU83: 46579.476 | AV83: =AVERAGE(AT83:AU83) -> 47045.271 | AW83: 61039.539 | AX83: 59842.685 | AY83: =AVERAGE(AW83:AX83) -> 60441.112 | AZ83: 84484.964 | BA83: 82828.396 | BB83: =AVERAGE(AZ83:BA83) -> 83656.68
B84: 7.10 | C84: ESCOBILLAS MOTOR DE ARRANQUE | D84: 58901.914 | E84: 57465.282 | F84: =AVERAGE(D84:E84) -> 58183.598 | G84: 70367.113 | H84: 68650.842 | I84: =AVERAGE(G84:H84) -> 69508.977 | J84: 92047.855 | K84: 89802.785 | L84: =AVERAGE(J84:K84) -> 90925.32 | M84: 53341.898 | N84: 52040.877 | O84: =AVERAGE(M84:N84) -> 52691.387 | P84: 74259.951 | Q84: 72448.733 | R84: =AVERAGE(P84:Q84) -> 73354.342 | S84: 78125.231 | T84: 76219.737 | U84: =AVERAGE(S84:T84) -> 77172.484 | V84: 106253.11 | W84: 103661.57 | X84: =AVERAGE(V84:W84) -> 104957.34 | Y84: 97691.295 | Z84: 95308.58 | AA84: =AVERAGE(Y84:Z84) -> 96499.938 | AB84: 85140.575 | AC84: 83063.976 | AD84: =AVERAGE(AB84:AC84) -> 84102.275 | AE84: 112411.18 | AF84: 109669.44 | AG84: =AVERAGE(AE84:AF84) -> 111040.31 | AH84: 93728.162 | AI84: 91442.11 | AJ84: =AVERAGE(AH84:AI84) -> 92585.136 | AK84: 113209.87 | AL84: 110448.66 | AM84: =AVERAGE(AK84:AL84) -> 111829.27 | AN84: 123370.92 | AO84: 120361.87 | AP84: =AVERAGE(AN84:AO84) -> 121866.39 | AQ84: 93798.457 | AR84: 91510.689 | AS84: =AVERAGE(AQ84:AR84) -> 92654.573 | AT84: 93798.457 | AU84: 91510.689 | AV84: =AVERAGE(AT84:AU84) -> 92654.573 | AW84: 106180.47 | AX84: 103590.7 | AY84: =AVERAGE(AW84:AX84) -> 104885.59 | AZ84: 124436.15 | BA84: 121401.12 | BB84: =AVERAGE(AZ84:BA84) -> 122918.63
B85: 7.11 | C85: FAROLA | D85: 162610.19 | E85: 157873.97 | F85: =AVERAGE(D85:E85) -> 160242.08 | G85: 208768.87 | H85: 202688.23 | I85: =AVERAGE(G85:H85) -> 205728.55 | J85: 321470.57 | K85: 312107.35 | L85: =AVERAGE(J85:K85) -> 316788.96 | M85: 208768.87 | N85: 202688.23 | O85: =AVERAGE(M85:N85) -> 205728.55 | P85: 268214.48 | Q85: 260402.41 | R85: =AVERAGE(P85:Q85) -> 264308.44 | S85: 208768.87 | T85: 202688.23 | U85: =AVERAGE(S85:T85) -> 205728.55 | V85: 268214.48 | W85: 260402.41 | X85: =AVERAGE(V85:W85) -> 264308.44 | Y85: 268214.48 | Z85: 260402.41 | AA85: =AVERAGE(Y85:Z85) -> 264308.44 | AB85: 237782.43 | AC85: 230856.73 | AD85: =AVERAGE(AB85:AC85) -> 234319.58 | AE85: 371236.27 | AF85: 360423.56 | AG85: =AVERAGE(AE85:AF85) -> 365829.92 | AH85: 208768.87 | AI85: 202688.23 | AJ85: =AVERAGE(AH85:AI85) -> 205728.55 | AK85: 268214.48 | AL85: 260402.41 | AM85: =AVERAGE(AK85:AL85) -> 264308.44 | AN85: 296820.61 | AO85: 288175.35 | AP85: =AVERAGE(AN85:AO85) -> 292497.98 | AQ85: 208768.87 | AR85: 202688.23 | AS85: =AVERAGE(AQ85:AR85) -> 205728.55 | AT85: 208768.87 | AU85: 202688.23 | AV85: =AVERAGE(AT85:AU85) -> 205728.55 | AW85: 268214.48 | AX85: 260402.41 | AY85: =AVERAGE(AW85:AX85) -> 264308.44 | AZ85: 371236.27 | BA85: 360423.56 | BB85: =AVERAGE(AZ85:BA85) -> 365829.92
B86: 7.12 | C86: FLASER | D86: 139624.05 | E86: 134902.47 | F86: =AVERAGE(D86:E86) -> 137263.26 | G86: 198533.59 | H86: 191819.9 | I86: =AVERAGE(G86:H86) -> 195176.74 | J86: 176600.5 | K86: 170628.5 | L86: =AVERAGE(J86:K86) -> 173614.5 | M86: 111282.89 | N86: 107519.7 | O86: =AVERAGE(M86:N86) -> 109401.3 | P86: 132155.48 | Q86: 127686.45 | R86: =AVERAGE(P86:Q86) -> 129920.97 | S86: 111353.87 | T86: 107588.28 | U86: =AVERAGE(S86:T86) -> 109471.08 | V86: 133835.33 | W86: 129309.5 | X86: =AVERAGE(V86:W86) -> 131572.42 | Y86: 248166.99 | Z86: 239774.87 | AA86: =AVERAGE(Y86:Z86) -> 243970.93 | AB86: 127828.29 | AC86: 123505.59 | AD86: =AVERAGE(AB86:AC86) -> 125666.94 | AE86: 215692.01 | AF86: 208398.08 | AG86: =AVERAGE(AE86:AF86) -> 212045.05 | AH86: 176999.96 | AI86: 171014.45 | AJ86: =AVERAGE(AH86:AI86) -> 174007.21 | AK86: 175528.88 | AL86: 169593.13 | AM86: =AVERAGE(AK86:AL86) -> 172561 | AN86: 168195.66 | AO86: 162507.89 | AP86: =AVERAGE(AN86:AO86) -> 165351.77 | AQ86: 119481.85 | AR86: 115441.4 | AS86: =AVERAGE(AQ86:AR86) -> 117461.63 | AT86: 198533.59 | AU86: 191819.9 | AV86: =AVERAGE(AT86:AU86) -> 195176.74 | AW86: 142337.14 | AX86: 137523.81 | AY86: =AVERAGE(AW86:AX86) -> 139930.47 | AZ86: 213012.92 | BA86: 205809.58 | BB86: =AVERAGE(AZ86:BA86) -> 209411.25
... B93: 7.19 | C93: SWICHE LUCES | D93: 78251.914 | E93: 77862.601 | F93: =AVERAGE(D93:E93) -> 78057.257 | G93: 109917.94 | H93: 109371.08 | I93: =AVERAGE(G93:H93) -> 109644.51 | J93: 136100.73 | K93: 135423.61 | L93: =AVERAGE(J93:K93) -> 135762.17 | M93: 151284.11 | N93: 150531.46 | O93: =AVERAGE(M93:N93) -> 150907.78 | P93: 163322.35 | Q93: 162509.8 | R93: =AVERAGE(P93:Q93) -> 162916.08 | S93: 151284.11 | T93: 150531.46 | U93: =AVERAGE(S93:T93) -> 150907.78 | V93: 163467.09 | W93: 162653.82 | X93: =AVERAGE(V93:W93) -> 163060.45 | Y93: 179955.63 | Z93: 179060.33 | AA93: =AVERAGE(Y93:Z93) -> 179507.98 | AB93: 187131.99 | AC93: 186200.99 | AD93: =AVERAGE(AB93:AC93) -> 186666.49 | AE93: 156589.77 | AF93: 155810.72 | AG93: =AVERAGE(AE93:AF93) -> 156200.25 | AH93: 188845.1 | AI93: 187905.57 | AJ93: =AVERAGE(AH93:AI93) -> 188375.33 | AK93: 160503.64 | AL93: 159705.11 | AM93: =AVERAGE(AK93:AL93) -> 160104.38 | AN93: 160503.64 | AO93: 159705.11 | AP93: =AVERAGE(AN93:AO93) -> 160104.38 | AQ93: 179625.57 | AR93: 178731.91 | AS93: =AVERAGE(AQ93:AR93) -> 179178.74 | AT93: 188845.1 | AU93: 187905.57 | AV93: =AVERAGE(AT93:AU93) -> 188375.33 | AW93: 179625.57 | AX93: 178731.91 | AY93: =AVERAGE(AW93:AX93) -> 179178.74 | AZ93: 160503.64 | BA93: 159705.11 | BB93: =AVERAGE(AZ93:BA93) -> 160104.38
B94: 8 | C94: ACCESORIOS | D94: 0 | E94: 0 | F94: =AVERAGE(D94:E94) -> 0 | G94: 0 | H94: 0 | I94: =AVERAGE(G94:H94) -> 0 | J94: 0 | K94: 0 | L94: =AVERAGE(J94:K94) -> 0 | M94: 0 | N94: 0 | O94: =AVERAGE(M94:N94) -> 0 | P94: 0 | Q94: 0 | R94: =AVERAGE(P94:Q94) -> 0 | S94: 0 | T94: 0 | U94: =AVERAGE(S94:T94) -> 0 | V94: 0 | W94: 0 | X94: =AVERAGE(V94:W94) -> 0 | Y94: 0 | Z94: 0 | AA94: =AVERAGE(Y94:Z94) -> 0 | AB94: 0 | AC94: 0 | AD94: =AVERAGE(AB94:AC94) -> 0 | AE94: 0 | AF94: 0 | AG94: =AVERAGE(AE94:AF94) -> 0 | AH94: 0 | AI94: 0 | AJ94: =AVERAGE(AH94:AI94) -> 0 | AK94: 0 | AL94: 0 | AM94: =AVERAGE(AK94:AL94) -> 0 | AN94: 0 | AO94: 0 | AP94: =AVERAGE(AN94:AO94) -> 0 | AQ94: 0 | AR94: 0 | AS94: =AVERAGE(AQ94:AR94) -> 0 | AT94: 0 | AU94: 0 | AV94: =AVERAGE(AT94:AU94) -> 0 | AW94: 0 | AX94: 0 | AY94: =AVERAGE(AW94:AX94) -> 0 | AZ94: 0 | BA94: 0 | BB94: =AVERAGE(AZ94:BA94) -> 0
B95: 8.1 | C95: ANILLO EXOSTO | D95: 21134.621 | E95: 20822.287 | F95: =AVERAGE(D95:E95) -> 20978.454 | G95: 25591.081 | H95: 25212.888 | I95: =AVERAGE(G95:H95) -> 25401.985 | J95: 24405.421 | K95: 24044.75 | L95: =AVERAGE(J95:K95) -> 24225.085 | M95: 26447.262 | N95: 26056.416 | O95: =AVERAGE(M95:N95) -> 26251.839 | P95: 25432.529 | Q95: 25056.679 | R95: =AVERAGE(P95:Q95) -> 25244.604 | S95: 26918.278 | T95: 26520.471 | U95: =AVERAGE(S95:T95) -> 26719.375 | V95: 26918.278 | W95: 26520.471 | X95: =AVERAGE(V95:W95) -> 26719.375 | Y95: 26918.278 | Z95: 26520.471 | AA95: =AVERAGE(Y95:Z95) -> 26719.375 | AB95: 26209.821 | AC95: 25822.484 | AD95: =AVERAGE(AB95:AC95) -> 26016.152 | AE95: 26209.821 | AF95: 25822.484 | AG95: =AVERAGE(AE95:AF95) -> 26016.152 | AH95: 26209.821 | AI95: 25822.484 | AJ95: =AVERAGE(AH95:AI95) -> 26016.152 | AK95: 26209.821 | AL95: 25822.484 | AM95: =AVERAGE(AK95:AL95) -> 26016.152 | AN95: 26209.821 | AO95: 25822.484 | AP95: =AVERAGE(AN95:AO95) -> 26016.152 | AQ95: 26982.472 | AR95: 26583.717 | AS95: =AVERAGE(AQ95:AR95) -> 26783.095 | AT95: 26982.472 | AU95: 26583.717 | AV95: =AVERAGE(AT95:AU95) -> 26783.095 | AW95: 26982.472 | AX95: 26583.717 | AY95: =AVERAGE(AW95:AX95) -> 26783.095 | AZ95: 26982.472 | BA95: 26583.717 | BB95: =AVERAGE(AZ95:BA95) -> 26783.095
B96: 8.2 | C96: CALAPIE | D96: 41037.99 | E96: 40233.323 | F96: =AVERAGE(D96:E96) -> 40635.656 | G96: 58345.884 | H96: 57201.847 | I96: =AVERAGE(G96:H96) -> 57773.866 | J96: 75408.416 | K96: 73929.819 | L96: =AVERAGE(J96:K96) -> 74669.117 | M96: 63769.412 | N96: 62519.031 | O96: =AVERAGE(M96:N96) -> 63144.222 | P96: 85025.883 | Q96: 83358.708 | R96: =AVERAGE(P96:Q96) -> 84192.295 | S96: 63769.412 | T96: 62519.031 | U96: =AVERAGE(S96:T96) -> 63144.222 | V96: 85025.883 | W96: 83358.708 | X96: =AVERAGE(V96:W96) -> 84192.295 | Y96: 85025.883 | Z96: 83358.708 | AA96: =AVERAGE(Y96:Z96) -> 84192.295 | AB96: 85025.883 | AC96: 83358.708 | AD96: =AVERAGE(AB96:AC96) -> 84192.295 | AE96: 80777.133 | AF96: 79193.268 | AG96: =AVERAGE(AE96:AF96) -> 79985.201 | AH96: 75121.641 | AI96: 73648.668 | AJ96: =AVERAGE(AH96:AI96) -> 74385.155 | AK96: 73673.653 | AL96: 72229.072 | AM96: =AVERAGE(AK96:AL96) -> 72951.362 | AN96: 73673.653 | AO96: 72229.072 | AP96: =AVERAGE(AN96:AO96) -> 72951.362 | AQ96: 75121.641 | AR96: 73648.668 | AS96: =AVERAGE(AQ96:AR96) -> 74385.155 | AT96: 75121.641 | AU96: 73648.668 | AV96: =AVERAGE(AT96:AU96) -> 74385.155 | AW96: 85025.883 | AX96: 83358.708 | AY96: =AVERAGE(AW96:AX96) -> 84192.295 | AZ96: 73673.653 | BA96: 72229.072 | BB96: =AVERAGE(AZ96:BA96) -> 72951.362
B97: 8.3 | C97: ESPEJOS (JUEGO) | D97: 96407.937 | E97: 94056.524 | F97: =AVERAGE(D97:E97) -> 95232.231 | G97: 150873.02 | H97: 147193.19 | I97: =AVERAGE(G97:H97) -> 149033.1 | J97: 166357.46 | K97: 162299.96 | L97: =AVERAGE(J97:K97) -> 164328.71 | M97: 166859.94 | N97: 162790.19 | O97: =AVERAGE(M97:N97) -> 164825.06 | P97: 183323.8 | Q97: 178852.49 | R97: =AVERAGE(P97:Q97) -> 181088.15 | S97: 143202.88 | T97: 139710.12 | U97: =AVERAGE(S97:T97) -> 141456.5 | V97: 174736.22 | W97: 170474.36 | X97: =AVERAGE(V97:W97) -> 172605.29 | Y97: 176294.4 | Z97: 171994.54 | AA97: =AVERAGE(Y97:Z97) -> 174144.47 | AB97: 264750.94 | AC97: 258293.6 | AD97: =AVERAGE(AB97:AC97) -> 261522.27 | AE97: 174273.14 | AF97: 170022.57 | AG97: =AVERAGE(AE97:AF97) -> 172147.86 | AH97: 185902.03 | AI97: 181367.84 | AJ97: =AVERAGE(AH97:AI97) -> 183634.93 | AK97: 167671.45 | AL97: 163581.9 | AM97: =AVERAGE(AK97:AL97) -> 165626.67 | AN97: 176263.72 | AO97: 171964.61 | AP97: =AVERAGE(AN97:AO97) -> 174114.16 | AQ97: 199953.81 | AR97: 195076.89 | AS97: =AVERAGE(AQ97:AR97) -> 197515.35 | AT97: 199953.81 | AU97: 195076.89 | AV97: =AVERAGE(AT97:AU97) -> 197515.35 | AW97: 188013.98 | AX97: 183428.27 | AY97: =AVERAGE(AW97:AX97) -> 185721.12 | AZ97: 169303.83 | BA97: 165174.47 | BB97: =AVERAGE(AZ97:BA97) -> 167239.15
B98: 8.4 | C98: LLANTA DELANTERA | D98: 380571.78 | E98: 369487.17 | F98: =AVERAGE(D98:E98) -> 375029.47 | G98: 192550.54 | H98: 186942.27 | I98: =AVERAGE(G98:H98) -> 189746.4 | J98: 371429.56 | K98: 360611.22 | L98: =AVERAGE(J98:K98) -> 366020.39 | M98: 143910.73 | N98: 139719.16 | O98: =AVERAGE(M98:N98) -> 141814.95 | P98: 191880.98 | Q98: 186292.21 | R98: =AVERAGE(P98:Q98) -> 189086.6 | S98: 389050.73 | T98: 377719.16 | U98: =AVERAGE(S98:T98) -> 383384.95 | V98: 191880.98 | W98: 186292.21 | X98: =AVERAGE(V98:W98) -> 189086.6 | Y98: 191880.98 | Z98: 186292.21 | AA98: =AVERAGE(Y98:Z98) -> 189086.6 | AB98: 314450.98 | AC98: 305292.21 | AD98: =AVERAGE(AB98:AC98) -> 309871.6 | AE98: 266577.16 | AF98: 258812.78 | AG98: =AVERAGE(AE98:AF98) -> 262694.97 | AH98: 281765.44 | AI98: 273558.68 | AJ98: =AVERAGE(AH98:AI98) -> 277662.06 | AK98: 299166.28 | AL98: 290452.7 | AM98: =AVERAGE(AK98:AL98) -> 294809.49 | AN98: 176596.28 | AO98: 171452.7 | AP98: =AVERAGE(AN98:AO98) -> 174024.49 | AQ98: 281765.44 | AR98: 273558.68 | AS98: =AVERAGE(AQ98:AR98) -> 277662.06 | AT98: 281765.44 | AU98: 273558.68 | AV98: =AVERAGE(AT98:AU98) -> 277662.06 | AW98: 191880.98 | AX98: 186292.21 | AY98: =AVERAGE(AW98:AX98) -> 189086.6 | AZ98: 176596.28 | BA98: 171452.7 | BB98: =AVERAGE(AZ98:BA98) -> 174024.49
B99: 8.5 | C99: LLANTA TRASERA | D99: 490747.44 | E99: 474152.11 | F99: =AVERAGE(D99:E99) -> 482449.78 | G99: 347501.22 | H99: 335749.97 | I99: =AVERAGE(G99:H99) -> 341625.6 | J99: 449123.65 | K99: 433935.9 | L99: =AVERAGE(J99:K99) -> 441529.77 | M99: 240320.94 | N99: 232194.15 | O99: =AVERAGE(M99:N99) -> 236257.54 | P99: 320427.92 | Q99: 309592.2 | R99: =AVERAGE(P99:Q99) -> 315010.06 | S99: 486650.94 | T99: 470194.15 | U99: =AVERAGE(S99:T99) -> 478422.54 | V99: 320427.92 | W99: 309592.2 | X99: =AVERAGE(V99:W99) -> 315010.06 | Y99: 320427.92 | Z99: 309592.2 | AA99: =AVERAGE(Y99:Z99) -> 315010.06 | AB99: 443592.92 | AC99: 428592.2 | AD99: =AVERAGE(AB99:AC99) -> 436092.56 | AE99: 481099.1 | AF99: 464830.05 | AG99: =AVERAGE(AE99:AF99) -> 472964.58 | AH99: 384604.43 | AI99: 371598.48 | AJ99: =AVERAGE(AH99:AI99) -> 378101.45 | AK99: 422474.44 | AL99: 408187.86 | AM99: =AVERAGE(AK99:AL99) -> 415331.15 | AN99: 299309.44 | AO99: 289187.86 | AP99: =AVERAGE(AN99:AO99) -> 294248.65 | AQ99: 384604.43 | AR99: 371598.48 | AS99: =AVERAGE(AQ99:AR99) -> 378101.45 | AT99: 384604.43 | AU99: 371598.48 | AV99: =AVERAGE(AT99:AU99) -> 378101.45 | AW99: 320427.92 | AX99: 309592.2 | AY99: =AVERAGE(AW99:AX99) -> 315010.06 | AZ99: 299309.44 | BA99: 289187.86 | BB99: =AVERAGE(AZ99:BA99) -> 294248.65
B100: 8.6 | C100: NEUMATICO DELANTERO | D100: 55521.986 | E100: 53644.431 | F100: =AVERAGE(D100:E100) -> 54583.209 | G100: 55521.986 | H100: 53644.431 | I100: =AVERAGE(G100:H100) -> 54583.209 | J100: 55521.986 | K100: 53644.431 | L100: =AVERAGE(J100:K100) -> 54583.209 | M100: 55521.986 | N100: 53644.431 | O100: =AVERAGE(M100:N100) -> 54583.209 | P100: 55521.986 | Q100: 53644.431 | R100: =AVERAGE(P100:Q100) -> 54583.209 | S100: 55521.986 | T100: 53644.431 | U100: =AVERAGE(S100:T100) -> 54583.209 | V100: 252959.04 | W100: 244404.87 | X100: =AVERAGE(V100:W100) -> 248681.96 | Y100: 252959.04 | Z100: 244404.87 | AA100: =AVERAGE(Y100:Z100) -> 248681.96 | AB100: 55521.986 | AC100: 53644.431 | AD100: =AVERAGE(AB100:AC100) -> 54583.209 | AE100: 55521.986 | AF100: 53644.431 | AG100: =AVERAGE(AE100:AF100) -> 54583.209 | AH100: 55521.986 | AI100: 53644.431 | AJ100: =AVERAGE(AH100:AI100) -> 54583.209 | AK100: 55521.986 | AL100: 53644.431 | AM100: =AVERAGE(AK100:AL100) -> 54583.209 | AN100: 252959.04 | AO100: 244404.87 | AP100: =AVERAGE(AN100:AO100) -> 248681.96 | AQ100: 55521.986 | AR100: 53644.431 | AS100: =AVERAGE(AQ100:AR100) -> 54583.209 | AT100: 55521.986 | AU100: 53644.431 | AV100: =AVERAGE(AT100:AU100) -> 54583.209 | AW100: 55521.986 | AX100: 53644.431 | AY100: =AVERAGE(AW100:AX100) -> 54583.209 | AZ100: 55521.986 | BA100: 53644.431 | BB100: =AVERAGE(AZ100:BA100) -> 54583.209
B101: 8.7 | C101: NEUMATICO TRASERO | D101: 75973.925 | E101: 73761.093 | F101: =AVERAGE(D101:E101) -> 74867.509 | G101: 75973.925 | H101: 73761.093 | I101: =AVERAGE(G101:H101) -> 74867.509 | J101: 75973.925 | K101: 73761.093 | L101: =AVERAGE(J101:K101) -> 74867.509 | M101: 75973.925 | N101: 73761.093 | O101: =AVERAGE(M101:N101) -> 74867.509 | P101: 75973.925 | Q101: 73761.093 | R101: =AVERAGE(P101:Q101) -> 74867.509 | S101: 75973.925 | T101: 73761.093 | U101: =AVERAGE(S101:T101) -> 74867.509 | V101: 340963.89 | W101: 331032.9 | X101: =AVERAGE(V101:W101) -> 335998.4 | Y101: 340963.89 | Z101: 331032.9 | AA101: =AVERAGE(Y101:Z101) -> 335998.4 | AB101: 75973.925 | AC101: 73761.093 | AD101: =AVERAGE(AB101:AC101) -> 74867.509 | AE101: 75973.925 | AF101: 73761.093 | AG101: =AVERAGE(AE101:AF101) -> 74867.509 | AH101: 75973.925 | AI101: 73761.093 | AJ101: =AVERAGE(AH101:AI101) -> 74867.509 | AK101: 75973.925 | AL101: 73761.093 | AM101: =AVERAGE(AK101:AL101) -> 74867.509 | AN101: 340963.89 | AO101: 331032.9 | AP101: =AVERAGE(AN101:AO101) -> 335998.4 | AQ101: 75973.925 | AR101: 73761.093 | AS101: =AVERAGE(AQ101:AR101) -> 74867.509 | AT101: 75973.925 | AU101: 73761.093 | AV101: =AVERAGE(AT101:AU101) -> 74867.509 | AW101: 75973.925 | AX101: 73761.093 | AY101: =AVERAGE(AW101:AX101) -> 74867.509 | AZ101: 75973.925 | BA101: 73761.093 | BB101: =AVERAGE(AZ101:BA101) -> 74867.509
B102: 8.8 | C102: RIN DELANTERO | D102: 285486.53 | E102: 278523.44 | F102: =AVERAGE(D102:E102) -> 282004.98 | G102: 371441.2 | H102: 362381.66 | I102: =AVERAGE(G102:H102) -> 366911.43 | J102: 421238.85 | K102: 410964.73 | L102: =AVERAGE(J102:K102) -> 416101.79 | M102: 370278.12 | N102: 361246.95 | O102: =AVERAGE(M102:N102) -> 365762.53 | P102: 370278.12 | Q102: 361246.95 | R102: =AVERAGE(P102:Q102) -> 365762.53 | S102: 248303.12 | T102: 242246.95 | U102: =AVERAGE(S102:T102) -> 245275.03 | V102: 248303.12 | W102: 242246.95 | X102: =AVERAGE(V102:W102) -> 245275.03 | Y102: 248303.12 | Z102: 242246.95 | AA102: =AVERAGE(Y102:Z102) -> 245275.03 | AB102: 248303.12 | AC102: 242246.95 | AD102: =AVERAGE(AB102:AC102) -> 245275.03 | AE102: 458587.09 | AF102: 447402.04 | AG102: =AVERAGE(AE102:AF102) -> 452994.56 | AH102: 248303.12 | AI102: 242246.95 | AJ102: =AVERAGE(AH102:AI102) -> 245275.03 | AK102: 248303.12 | AL102: 242246.95 | AM102: =AVERAGE(AK102:AL102) -> 245275.03 | AN102: 248303.12 | AO102: 242246.95 | AP102: =AVERAGE(AN102:AO102) -> 245275.03 | AQ102: 248303.12 | AR102: 242246.95 | AS102: =AVERAGE(AQ102:AR102) -> 245275.03 | AT102: 248303.12 | AU102: 242246.95 | AV102: =AVERAGE(AT102:AU102) -> 245275.03 | AW102: 248303.12 | AX102: 242246.95 | AY102: =AVERAGE(AW102:AX102) -> 245275.03 | AZ102: 248303.12 | BA102: 242246.95 | BB102: =AVERAGE(AZ102:BA102) -> 245275.03
B103: 8.9 | C103: RIN TRASERO | D103: 383219.49 | E103: 375705.38 | F103: =AVERAGE(D103:E103) -> 379462.43 | G103: 498599.74 | H103: 488823.27 | I103: =AVERAGE(G103:H103) -> 493711.5 | J103: 565445.03 | K103: 554357.87 | L103: =AVERAGE(J103:K103) -> 559901.45 | M103: 385709.24 | N103: 378146.32 | O103: =AVERAGE(M103:N103) -> 381927.78 | P103: 385709.24 | Q103: 378146.32 | R103: =AVERAGE(P103:Q103) -> 381927.78 | S103: 264329.24 | T103: 259146.32 | U103: =AVERAGE(S103:T103) -> 261737.78 | V103: 264329.24 | W103: 259146.32 | X103: =AVERAGE(V103:W103) -> 261737.78 | Y103: 264329.24 | Z103: 259146.32 | AA103: =AVERAGE(Y103:Z103) -> 261737.78 | AB103: 264329.24 | AC103: 259146.32 | AD103: =AVERAGE(AB103:AC103) -> 261737.78 | AE103: 615578.99 | AF103: 603508.82 | AG103: =AVERAGE(AE103:AF103) -> 609543.9 | AH103: 264329.24 | AI103: 259146.32 | AJ103: =AVERAGE(AH103:AI103) -> 261737.78 | AK103: 264329.24 | AL103: 259146.32 | AM103: =AVERAGE(AK103:AL103) -> 261737.78 | AN103: 264329.24 | AO103: 259146.32 | AP103: =AVERAGE(AN103:AO103) -> 261737.78 | AQ103: 264329.24 | AR103: 259146.32 | AS103: =AVERAGE(AQ103:AR103) -> 261737.78 | AT103: 264329.24 | AU103: 259146.32 | AV103: =AVERAGE(AT103:AU103) -> 261737.78 | AW103: 264329.24 | AX103: 259146.32 | AY103: =AVERAGE(AW103:AX103) -> 261737.78 | AZ103: 264329.24 | BA103: 259146.32 | BB103: =AVERAGE(AZ103:BA103) -> 261737.78
B104: 8.10 | C104: SOPORTE GATO | D104: 164366.43 | E104: 161937.37 | F104: =AVERAGE(D104:E104) -> 163151.9 | G104: 212764.53 | H104: 209620.23 | I104: =AVERAGE(G104:H104) -> 211192.38 | J104: 217432.15 | K104: 214218.87 | L104: =AVERAGE(J104:K104) -> 215825.51 | M104: 214130.4 | N104: 210965.91 | O104: =AVERAGE(M104:N104) -> 212548.16 | P104: 214130.4 | Q104: 210965.91 | R104: =AVERAGE(P104:Q104) -> 212548.16 | S104: 163136.18 | T104: 160725.3 | U104: =AVERAGE(S104:T104) -> 161930.74 | V104: 202340.31 | W104: 199350.06 | X104: =AVERAGE(V104:W104) -> 200845.19 | Y104: 212542.56 | Z104: 209401.54 | AA104: =AVERAGE(Y104:Z104) -> 210972.05 | AB104: 230169.69 | AC104: 226768.16 | AD104: =AVERAGE(AB104:AC104) -> 228468.92 | AE104: 230169.69 | AF104: 226768.16 | AG104: =AVERAGE(AE104:AF104) -> 228468.92 | AH104: 230169.69 | AI104: 226768.16 | AJ104: =AVERAGE(AH104:AI104) -> 228468.92 | AK104: 230169.69 | AL104: 226768.16 | AM104: =AVERAGE(AK104:AL104) -> 228468.92 | AN104: 230169.69 | AO104: 226768.16 | AP104: =AVERAGE(AN104:AO104) -> 228468.92 | AQ104: 225563.17 | AR104: 222229.72 | AS104: =AVERAGE(AQ104:AR104) -> 223896.44 | AT104: 227902.78 | AU104: 224534.76 | AV104: =AVERAGE(AT104:AU104) -> 226218.77 | AW104: 226462.66 | AX104: 223115.92 | AY104: =AVERAGE(AW104:AX104) -> 224789.29 | AZ104: 241499.59 | BA104: 237930.63 | BB104: =AVERAGE(AZ104:BA104) -> 239715.11
B105: 8.11 | C105: SOPORTE PATA | D105: 63303.477 | E105: 62676.71 | F105: =AVERAGE(D105:E105) -> 62990.093 | G105: 74818.879 | H105: 74078.098 | I105: =AVERAGE(G105:H105) -> 74448.488 | J105: 94034.623 | K105: 93103.587 | L105: =AVERAGE(J105:K105) -> 93569.105 | M105: 78994.809 | N105: 78212.682 | O105: =AVERAGE(M105:N105) -> 78603.746 | P105: 78994.809 | Q105: 78212.682 | R105: =AVERAGE(P105:Q105) -> 78603.746 | S105: 73024.137 | T105: 72301.126 | U105: =AVERAGE(S105:T105) -> 72662.631 | V105: 73024.137 | W105: 72301.126 | X105: =AVERAGE(V105:W105) -> 72662.631 | Y105: 73024.137 | Z105: 72301.126 | AA105: =AVERAGE(Y105:Z105) -> 72662.631 | AB105: 90468.997 | AC105: 89573.265 | AD105: =AVERAGE(AB105:AC105) -> 90021.131 | AE105: 77671.841 | AF105: 76902.813 | AG105: =AVERAGE(AE105:AF105) -> 77287.327 | AH105: 67419.032 | AI105: 66751.517 | AJ105: =AVERAGE(AH105:AI105) -> 67085.274 | AK105: 93548.226 | AL105: 92622.006 | AM105: =AVERAGE(AK105:AL105) -> 93085.116 | AN105: 229300.59 | AO105: 227030.29 | AP105: =AVERAGE(AN105:AO105) -> 228165.44 | AQ105: 82004.003 | AR105: 81192.083 | AS105: =AVERAGE(AQ105:AR105) -> 81598.043 | AT105: 82041.714 | AU105: 81229.42 | AV105: =AVERAGE(AT105:AU105) -> 81635.567 | AW105: 83330.819 | AX105: 82505.762 | AY105: =AVERAGE(AW105:AX105) -> 82918.291 | AZ105: 96561.269 | BA105: 95605.216 | BB105: =AVERAGE(AZ105:BA105) -> 96083.242
B106: 8.12 | C106: TAPA DE COMBUSTIBLE | D106: 167456.7 | E106: 166623.58 | F106: =AVERAGE(D106:E106) -> 167040.14 | G106: 252595.38 | H106: 251338.69 | I106: =AVERAGE(G106:H106) -> 251967.04 | J106: 273876.34 | K106: 272513.77 | L106: =AVERAGE(J106:K106) -> 273195.05 | M106: 175769.47 | N106: 174894.99 | O106: =AVERAGE(M106:N106) -> 175332.23 | P106: 196173.45 | Q106: 195197.46 | R106: =AVERAGE(P106:Q106) -> 195685.46 | S106: 162154.22 | T106: 161347.49 | U106: =AVERAGE(S106:T106) -> 161750.85 | V106: 157887.04 | W106: 157101.53 | X106: =AVERAGE(V106:W106) -> 157494.28 | Y106: 196320.49 | Z106: 195343.77 | AA106: =AVERAGE(Y106:Z106) -> 195832.13 | AB106: 198709.03 | AC106: 197720.43 | AD106: =AVERAGE(AB106:AC106) -> 198214.73 | AE106: 297665.3 | AF106: 296184.38 | AG106: =AVERAGE(AE106:AF106) -> 296924.84 | AH106: 189350.13 | AI106: 188408.09 | AJ106: =AVERAGE(AH106:AI106) -> 188879.11 | AK106: 185143.69 | AL106: 184222.57 | AM106: =AVERAGE(AK106:AL106) -> 184683.13 | AN106: 185145.22 | AO106: 184224.1 | AP106: =AVERAGE(AN106:AO106) -> 184684.66 | AQ106: 189350.13 | AR106: 188408.09 | AS106: =AVERAGE(AQ106:AR106) -> 188879.11 | AT106: 196173.45 | AU106: 195197.46 | AV106: =AVERAGE(AT106:AU106) -> 195685.46 | AW106: 189350.13 | AX106: 188408.09 | AY106: =AVERAGE(AW106:AX106) -> 188879.11 | AZ106: 175924.16 | BA106: 175048.92 | BB106: =AVERAGE(AZ106:BA106) -> 175486.54
B107: 8.13 | C107: TAPA LATERAL L Y/O R | D107: 180916.5 | E107: 179125.25 | F107: =AVERAGE(D107:E107) -> 180020.87 | G107: 245998.93 | H107: 243563.29 | I107: =AVERAGE(G107:H107) -> 244781.11 | J107: 297529.26 | K107: 294583.43 | L107: =AVERAGE(J107:K107) -> 296056.34 | M107: 241283.65 | N107: 238894.7 | O107: =AVERAGE(M107:N107) -> 240089.18 | P107: 275643.41 | Q107: 272914.27 | R107: =AVERAGE(P107:Q107) -> 274278.84 | S107: 217664.94 | T107: 215509.84 | U107: =AVERAGE(S107:T107) -> 216587.39 | V107: 314120.31 | W107: 311010.21 | X107: =AVERAGE(V107:W107) -> 312565.26 | Y107: 312598.78 | Z107: 309503.74 | AA107: =AVERAGE(Y107:Z107) -> 311051.26 | AB107: 284177.67 | AC107: 281364.03 | AD107: =AVERAGE(AB107:AC107) -> 282770.85 | AE107: 293182.86 | AF107: 290280.06 | AG107: =AVERAGE(AE107:AF107) -> 291731.46 | AH107: 273433.85 | AI107: 270726.58 | AJ107: =AVERAGE(AH107:AI107) -> 272080.22 | AK107: 209760.99 | AL107: 207684.15 | AM107: =AVERAGE(AK107:AL107) -> 208722.57 | AN107: 209664.02 | AO107: 207588.14 | AP107: =AVERAGE(AN107:AO107) -> 208626.08 | AQ107: 273433.85 | AR107: 270726.58 | AS107: =AVERAGE(AQ107:AR107) -> 272080.22 | AT107: 273433.85 | AU107: 270726.58 | AV107: =AVERAGE(AT107:AU107) -> 272080.22 | AW107: 272816.62 | AX107: 270115.46 | AY107: =AVERAGE(AW107:AX107) -> 271466.04 | AZ107: 205815.95 | BA107: 203778.17 | BB107: =AVERAGE(AZ107:BA107) -> 204797.06
C108: VALORES TOTALES | D108: =SUM(D9:D107) -> 13462769 | E108: =SUM(E9:E107) -> 13180777 | F108: =SUM(F9:F107) -> 13321773 | G108: =SUM(G9:G107) -> 14648818 | H108: =SUM(H9:H107) -> 14348069 | I108: =SUM(I9:I107) -> 14498443 | J108: =SUM(J9:J107) -> 20535159 | K108: =SUM(K9:K107) -> 20116524 | ... BB108: =SUM(BB9:BB107) -> 22307273
B111: Nota: La cotizacion de los repuestos descritos previamente debe realizarse por unidad.

Sheet REPUESTOS COMUNES
B2: PRECIO TECHO | D2: REPUESTOS COMUNES MOTOCICLETAS MULTIMARCA
D4: MANTENIMIENTO MOTOS
D5: *** Incluye Costos Directos e Indirectos
B7: ITEM | C7: DESCRIPCION | D7: PRESENTACION | E7: COTIZACION 1 | F7: COTIZACION 2 | G7: VALOR TECHO
B8: 1 | C8: ACEITE MINERAL | D8: CUARTO | E8: 46974.282 | F8: 45385.78 | G8: =AVERAGE(E8:F8) -> 46180.031
B9: 2 | C9: ACEITE HIDRAULICO | D9: CUARTO | E9: 46384.784 | F9: 45033.771 | G9: =AVERAGE(E9:F9) -> 45709.278
B10: 3 | C10: ACEITE SINTETICO | D10: UNIDAD | E10: 62185.992 | F10: 60669.261 | G10: =AVERAGE(E10:F10) -> 61427.627
B11: 4 | C11: ABRAZADERA METALICA GRANDE | D11: CUARTO | E11: 4747.3503 | F11: 4654.265 | G11: =AVERAGE(E11:F11) -> 4700.8076
B12: 5 | C12: ABRAZADERA METALICA MEDIANA | D12: CUARTO | E12: 3930.1672 | F12: 3872.0859 | G12: =AVERAGE(E12:F12) -> 3901.1266
B13: 6 | C13: ABRAZADERA METALICA PEQUEÑA | D13: UNIDAD | E13: 2534.7822 | F13: 2509.6853 | G13: =AVERAGE(E13:F13) -> 2522.2337
B14: 7 | C14: ABRAZADERA PLASTICA | D14: UNIDAD | E14: 1225.085 | F14: 1218.99 | G14: =AVERAGE(E14:F14) -> 1222.0375
B15: 8 | C15: BOMBILLO DIRECCIONAL | D15: JUEGO | E15: 21871.549 | F15: 21654.999 | G15: =AVERAGE(E15:F15) -> 21763.274
B16: 9 | C16: BOMBILLO FAROLA | D16: UNIDAD | E16: 21979.824 | F16: 21654.999 | G16: =AVERAGE(E16:F16) -> 21817.412
B17: 10 | C17: BOMBILLO MUELA | D17: UNIDAD | E17: 5083.1157 | F17: 4983.4468 | G17: =AVERAGE(E17:F17) -> 5033.2812
B18: 11 | C18: BOMBILLO STOP | D18: UNIDAD | E18: 5512.3445 | F18: 5377.8971 | G18: =AVERAGE(E18:F18) -> 5445.1208
B19: 12 | C19: FLASHER | D19: UNIDAD | E19: 86855.19 | F19: 84325.427 | G19: =AVERAGE(E19:F19) -> 85590.308
... B28: 21 | C28: SOKET RELAY | D28: UNIDAD | E28: 16367.451 | F28: 16205.397 | G28: =AVERAGE(E28:F28) -> 16286.424
D29: TOTALES | E29: =SUM(E8:E28) -> 534717.42 | F29: =SUM(F8:F28) -> 522903.81 | G29: =SUM(G8:G28) -> 528810.61
B32: Nota: La cotizacion de los repuestos descritos previamente debe realizarse por unidad.

Sheet MANO DE OBRA
B2: PRECIO TECHO | D2: MANO DE OBRA
D3: MANTENIMIENTO MOTOCICLETAS
D5: *** Incluye Costos Directos e Indirectos
B7: ITEM | D7: CILINDRAJE HASTA 249cc | G7: CILINDRAJE IGUAL O SUPERIOR A 250cc
B8: DESCRIPCION | D8: COTIZACION 1 | E8: COTIZACION 2 | F8: VALOR TECHO | G8: COTIZACION 1 | H8: COTIZACION 2 | I8: VALOR TECHO
B9: 1 | C9: SINCRONIZACION | D9: 0 | E9: =D9*19% -> 0 | F9: 0 | G9: 0 | H9: 0 | I9: 0
B10: 1.1 | C10: CALIBRAR VALVULAS | D10: 33171.633 | E10: 32049.887 | F10: =AVERAGE(D10:E10) -> 32610.76 | G10: 53874.476 | H10: 52052.633 | I10: =AVERAGE(G10:H10) -> 52963.555
B11: 1.2 | C11: CAMBIO BOBINA IGNICION | D11: 44015.178 | E11: 42733.182 | F11: =AVERAGE(D11:E11) -> 43374.18 | G11: 71485.617 | H11: 69403.511 | I11: =AVERAGE(G11:H11) -> 70444.564
B12: 1.3 | C12: CAMBIO BUJIA | D12: 11586.206 | E12: 11303.616 | F12: =AVERAGE(D12:E12) -> 11444.911 | G12: 18817.307 | H12: 18358.348 | I12: =AVERAGE(G12:H12) -> 18587.828
B13: 1.4 | C13: CAMBIO CDI | D13: 32479.975 | E13: 31843.113 | F13: =AVERAGE(D13:E13) -> 32161.544 | G13: 52751.146 | H13: 51716.81 | I13: =AVERAGE(G13:H13) -> 52233.978
B14: 1.5 | C14: CAMBIO FILTRO AIRE | D14: 21687.09 | E14: 21366.591 | F14: =AVERAGE(D14:E14) -> 21526.84 | G14: 35222.282 | H14: 34701.756 | I14: =AVERAGE(G14:H14) -> 34962.019
B15: 1.6 | C15: CAMBIO GUAYA ACELERADOR | D15: 53602.574 | E15: 53071.855 | F15: =AVERAGE(D15:E15) -> 53337.214 | G15: 87056.63 | H15: 86194.683 | I15: =AVERAGE(G15:H15) -> 86625.657
B16: 1.7 | C16: CAMBIO GUAYA CHOQUE | D16: 38721.432 | E16: 38528.788 | F16: =AVERAGE(D16:E16) -> 38625.11 | G16: 62887.977 | H16: 62575.101 | I16: =AVERAGE(G16:H16) -> 62731.539
B17: 1.8 | C17: CAMBIO LLAVE DE COMBUSTIBLE | D17: 75670.127 | E17: 74920.918 | F17: =AVERAGE(D17:E17) -> 75295.522 | G17: 122896.83 | H17: 121680.03 | I17: =AVERAGE(G17:H17) -> 122288.43
B18: 1.9 | C18: LIMPIEZA CARBURADOR | D18: 130402.37 | E18: 128475.24 | F18: =AVERAGE(D18:E18) -> 129438.81 | G18: 211788.17 | H18: 208658.3 | I18: =AVERAGE(G18:H18) -> 210223.24
B19: 1.10 | C19: SINCRONIZAR MOTOR | D19: 141941.71 | E19: 139158.54 | F19: =AVERAGE(D19:E19) -> 140550.13 | G19: 230529.36 | H19: 226009.18 | I19: =AVERAGE(G19:H19) -> 228269.27
B20: 2 | C20: MOTOR | D20: 0 | E20: 0 | G20: 0 | H20: 0
B21: 2.1 | C21: ANILLAR MOTOR | D21: 397059.5 | E21: 385494.66 | F21: =AVERAGE(D21:E21) -> 391277.08 | G21: 644869.44 | H21: 626086.84 | I21: =AVERAGE(G21:H21) -> 635478.14
B22: 2.2 | C22: ASENTAR BANCADA | D22: 144183.97 | E22: 139308.18 | F22: =AVERAGE(D22:E22) -> 141746.08 | G22: 266245.89 | H22: 257242.41 | I22: =AVERAGE(G22:H22) -> 261744.15
B23: 2.3 | C23: ASENTAR VALVULAS | D23: 127082.58 | E23: 122785.1 | F23: =AVERAGE(D23:E23) -> 124933.84 | G23: 239892.68 | H23: 231780.37 | I23: =AVERAGE(G23:H23) -> 235836.53
B24: 2.4 | C24: CALIBRAR VALVULAS | D24: 65765.335 | E24: 63849.84 | F24: =AVERAGE(D24:E24) -> 64807.588 | G24: 75972.372 | H24: 73759.584 | I24: =AVERAGE(G24:H24) -> 74865.978
B25: 2.5 | C25: CAMBIO BALANCINES | D25: 263444.9 | E25: 257019.41 | F25: =AVERAGE(D25:E25) -> 260232.16 | G25: 427864.25 | H25: 417428.54 | I25: =AVERAGE(G25:H25) -> 422646.39
B26: 2.6 | C26: CAMBIO BOMBA DE ACEITE | D26: 65522.375 | E26: 64237.622 | F26: =AVERAGE(D26:E26) -> 64879.998 | G26: 106415.73 | H26: 104329.15 | I26: =AVERAGE(G26:H26) -> 105372.44
B27: 2.7 | C27: CAMBIO EMPAQUE CULATA | D27: 217360.61 | E27: 214148.38 | F27: =AVERAGE(D27:E27) -> 215754.49 | G27: 353018.16 | H27: 347801.14 | I27: =AVERAGE(G27:H27) -> 350409.65
B28: 2.8 | C28: CAMBIO EMPAQUE MULTIPLE | D28: 64879.998 | E28: 64237.622 | F28: =AVERAGE(D28:E28) -> 64558.81 | G28: 105372.44 | H28: 104329.15 | I28: =AVERAGE(G28:H28) -> 104850.8
B29: 2.9 | C29: CAMBIO OBTURADORES | D29: 64558.81 | E29: 64237.622 | F29: =AVERAGE(D29:E29) -> 64398.216 | G29: 104850.8 | H29: 104329.15 | I29: =AVERAGE(G29:H29) -> 104589.97
B30: 2.10 | C30: CAMBIO RETENCIGUEÑAL | D30: 129760 | E30: 128475.24 | F30: =AVERAGE(D30:E30) -> 129117.62 | G30: 210744.88 | H30: 208658.3 | I30: =AVERAGE(G30:H30) -> 209701.59
B31: 2.11 | C31: CAMBIO RODAMIENTOS MOTOR | D31: 456548.22 | E31: 449801.2 | F31: =AVERAGE(D31:E31) -> 453174.71 | G31: 741485.85 | H31: 730527.93 | I31: =AVERAGE(G31:H31) -> 736006.89
B32: 2.12 | C32: CEPILLAR CULATA | D32: 152908.97 | E32: 149910.76 | F32: =AVERAGE(D32:E32) -> 151409.87 | G32: 248341.44 | H32: 243472 | I32: =AVERAGE(G32:H32) -> 245906.72
... B38: 2.18 | C38: RECTIFICAR GUIAS VALVULAS | D38: 89208.977 | E38: 87033.148 | F38: =AVERAGE(D38:E38) -> 88121.063 | G38: 157810.87 | H38: 153961.82 | I38: =AVERAGE(G38:H38) -> 155886.35
B39: 3 | C39: SISTEMA DE TRANSFERENCIA | D39: 0 | E39: 0 | G39: 0 | H39: 0
B40: 3.1 | C40: CAMBIO KIT DE ARRASTRE | D40: 94289.656 | E40: 92896.213 | F40: =AVERAGE(D40:E40) -> 93592.934 | G40: 105894.09 | H40: 104329.15 | I40: =AVERAGE(G40:H40) -> 105111.62
B41: 3.2 | C41: CAMBIO EMPAQUE TAPA EMBRAGUE | D41: 82965.433 | E41: 82143.993 | F41: =AVERAGE(D41:E41) -> 82554.713 | G41: 87734.994 | H41: 86866.33 | I41: =AVERAGE(G41:H41) -> 87300.662
B42: 3.3 | C42: CAMBIO GUAYA EMBRAGUE | D42: 32210.136 | E42: 32049.887 | F42: =AVERAGE(D42:E42) -> 32130.011 | G42: 52312.897 | H42: 52052.633 | I42: =AVERAGE(G42:H42) -> 52182.765
B43: 3.4 | C43: CAMBIO GUAYA VELOCIMETRO | D43: 32370.385 | E43: 32049.887 | F43: =AVERAGE(D43:E43) -> 32210.136 | G43: 52573.16 | H43: 52052.633 | I43: =AVERAGE(G43:H43) -> 52312.897
B44: 3.5 | C44: CAMBIO KIT DISCOS EMBRAGUE | D44: 112276.06 | E44: 110616.8 | F44: =AVERAGE(D44:E44) -> 111446.43 | G44: 158727.51 | H44: 156381.78 | I44: =AVERAGE(G44:H44) -> 157554.65
B45: 3.6 | C45: CAMBIO MANIJA EMBRAGUE | D45: 21793.923 | E45: 21366.591 | F45: =AVERAGE(D45:E45) -> 21580.257 | G45: 35395.791 | H45: 34701.756 | I45: =AVERAGE(G45:H45) -> 35048.773
B46: 3.7 | C46: CAMBIO PERA NEUTRO | D46: 26280.907 | E46: 25639.909 | F46: =AVERAGE(D46:E46) -> 25960.408 | G46: 42683.159 | H46: 41642.107 | I46: =AVERAGE(G46:H46) -> 42162.633
B47: 3.8 | C47: CAMBIO PIÑON VELOCIMETRO | D47: 42291.114 | E47: 41059.334 | F47: =AVERAGE(D47:E47) -> 41675.224 | G47: 66152.269 | H47: 64225.504 | I47: =AVERAGE(G47:H47) -> 65188.886
B48: 3.9 | C48: CAMBIO RETEN SELECTOR DE CAMBIO DE CAMBIOS | D48: 26537.306 | E48: 25639.909 | F48: =AVERAGE(D48:E48) -> 26088.608 | G48: 43099.581 | H48: 41642.107 | I48: =AVERAGE(G48:H48) -> 42370.844
B49: 3.10 | C49: CAMBIO RETEN DE SALIDA (PIÑON SALIDA) | D49: 22114.422 | E49: 21366.591 | F49: =AVERAGE(D49:E49) -> 21740.506 | G49: 35916.317 | H49: 34701.756 | I49: =AVERAGE(G49:H49) -> 35309.036
B50: 3.11 | C50: DESMONTAR Y REPARAR CAJA DE VELOCIDADES | D50: 463295.24 | E50: 449801.2 | F50: =AVERAGE(D50:E50) -> 456548.22 | G50: 752443.77 | H50: 730527.93 | I50: =AVERAGE(G50:H50) -> 741485.85
B51: 3.12 | C51: TENSIONAR Y LUBRICAR KIT ARRASTRE | D51: 21900.756 | E51: 21366.591 | F51: =AVERAGE(D51:E51) -> 21633.673 | G51: 35569.3 | H51: 34701.756 | I51: =AVERAGE(G51:H51) -> 35135.528
B52: 4 | C52: SISTEMA DE SUSPENSION | D52: 0 | E52: 0 | F52: 0 | G52: 0 | H52: 0 | I52: 0
B53: 4.1 | C53: CAMBIO AMORTIGUADORES DELANTEROS | D53: 86888.276 | E53: 85604.213 | F53: =AVERAGE(D53:E53) -> 86246.245 | G53: 141116.37 | H53: 139030.9 | I53: =AVERAGE(G53:H53) -> 140073.64
B54: 4.2 | C54: CAMBIO AMORTIGUADORES TRASEROS | D54: 64879.998 | E54: 64237.622 | F54: =AVERAGE(D54:E54) -> 64558.81 | G54: 105372.44 | H54: 104329.15 | I54: =AVERAGE(G54:H54) -> 104850.8
B55: 4.3 | C55: CAMBIO CUNAS DIRECCION | D55: 127788.23 | E55: 127152.47 | F55: =AVERAGE(D55:E55) -> 127470.35 | G55: 208035.29 | H55: 207000.29 | I55: =AVERAGE(G55:H55) -> 207517.79
B56: 4.4 | C56: CAMBIO GUAYA VELOCIMETRO | D56: 21580.257 | E56: 21366.591 | F56: =AVERAGE(D56:E56) -> 21473.424 | G56: 35048.773 | H56: 34701.756 | I56: =AVERAGE(G56:H56) -> 34875.264
B57: 4.5 | C57: CAMBIO RETENEDOR TELESCOPICCOS (BARRAS) | D57: 130210.39 | E57: 128286.1 | F57: =AVERAGE(D57:E57) -> 129248.24 | G57: 211404.21 | H57: 208280.01 | I57: =AVERAGE(G57:H57) -> 209842.11
B58: 4.6 | C58: CAMBIO RODAMIENTOS DELANTEROS | D58: 61863.051 | E58: 60650.05 | F58: =AVERAGE(D58:E58) -> 61256.55 | G58: 88603.657 | H58: 86866.33 | I58: =AVERAGE(G58:H58) -> 87734.994
B59: 4.7 | C59: CAMBIO RODAMIENTOS TRASEROS | D59: 80531.09 | E59: 78566.918 | F59: =AVERAGE(D59:E59) -> 79549.004 | G59: 106937.38 | H59: 104329.15 | I59: =AVERAGE(G59:H59) -> 105633.26
B60: 4.8 | C60: CAMBIO TIJERA Y/ O BUJES | D60: 132329.5 | E60: 128475.24 | F60: =AVERAGE(D60:E60) -> 130402.37 | G60: 214918.05 | H60: 208658.3 | I60: =AVERAGE(G60:H60) -> 211788.17
B61: 4.9 | C61: ENGRASE RODAMIENTOS | D61: 44228.843 | E61: 42733.182 | F61: =AVERAGE(D61:E61) -> 43481.013 | G61: 71832.634 | H61: 69403.511 | I61: =AVERAGE(G61:H61) -> 70618.073
B62: 5 | C62: SISTEMA DE DIRECCION | D62: 0 | E62: 0 | F62: 0 | G62: 0 | H62: 0 | I62: 0
B63: 5.1 | C63: CAMBIAR CUNAS DIRECCION | D63: 132329.5 | E63: 128475.24 | F63: =AVERAGE(D63:E63) -> 130402.37 | G63: 214918.05 | H63: 208658.3 | I63: =AVERAGE(G63:H63) -> 211788.17
B64: 5.2 | C64: CAMBIO MANUBRIO | D64: 43801.512 | E64: 42733.182 | F64: =AVERAGE(D64:E64) -> 43267.347 | G64: 71138.599 | H64: 69403.511 | I64: =AVERAGE(G64:H64) -> 70271.055
B65: 6 | C65: SISTEMA DE FRENOS | D65: 0 | E65: 0 | F65: 0 | G65: 0 | H65: 0 | I65: 0
B66: 6.1 | C66: CAMBIO BANDAS DE FRENO | D66: 32530.635 | E66: 32049.887 | F66: =AVERAGE(D66:E66) -> 32290.261 | G66: 52833.423 | H66: 52052.633 | I66: =AVERAGE(G66:H66) -> 52443.028
B67: 6.2 | C67: CAMBIO PASTILLAS | D67: 33132.603 | E67: 32804.557 | F67: =AVERAGE(D67:E67) -> 32968.58 | G67: 42058.528 | H67: 41642.107 | I67: =AVERAGE(G67:H67) -> 41850.317
B68: 6.3 | C68: CAMBIO BOMBA FRENO | D68: 64558.81 | E68: 64237.622 | F68: =AVERAGE(D68:E68) -> 64398.216 | G68: 104850.8 | H68: 104329.15 | I68: =AVERAGE(G68:H68) -> 104589.97
B69: 6.4 | C69: CAMBIO DISCOS FRENO | D69: 70650.87 | E69: 69951.357 | F69: =AVERAGE(D69:E69) -> 70301.113 | G69: 91239.871 | H69: 90336.506 | I69: =AVERAGE(G69:H69) -> 90788.188
B70: 6.5 | C70: CAMBIO GUAYA FRENO | D70: 39106.72 | E70: 38528.788 | F70: =AVERAGE(D70:E70) -> 38817.754 | G70: 63513.728 | H70: 62575.101 | I70: =AVERAGE(G70:H70) -> 63044.415
B71: 6.6 | C71: CAMBIO LIQUIDO FRENOS | D71: 43587.846 | E71: 42733.182 | F71: =AVERAGE(D71:E71) -> 43160.514 | G71: 70791.582 | H71: 69403.511 | I71: =AVERAGE(G71:H71) -> 70097.546
B72: 6.7 | C72: CAMBIO MANGUERA FRENOS | D72: 65843.563 | E72: 64237.622 | F72: =AVERAGE(D72:E72) -> 65040.592 | G72: 106937.38 | H72: 104329.15 | I72: =AVERAGE(G72:H72) -> 105633.26
B73: 6.8 | C73: CAMBIO MANIJA FRENO | D73: 22007.589 | E73: 21366.591 | F73: =AVERAGE(D73:E73) -> 21687.09 | G73: 35742.808 | H73: 34701.756 | I73: =AVERAGE(G73:H73) -> 35222.282
B74: 6.9 | C74: CAMBIO MORDAZA | D74: 55357.391 | E74: 53485.402 | F74: =AVERAGE(D74:E74) -> 54421.397 | G74: 89906.652 | H74: 86866.33 | I74: =AVERAGE(G74:H74) -> 88386.491
B75: 6.10 | C75: CAMBIO PEDAL DE FRENO | D75: 33171.633 | E75: 32049.887 | F75: =AVERAGE(D75:E75) -> 32610.76 | G75: 53874.476 | H75: 52052.633 | I75: =AVERAGE(G75:H75) -> 52963.555
B76: 6.11 | C76: CAMBIO SENSOR PEDAL FRENO | D76: 33011.383 | E76: 32049.887 | F76: =AVERAGE(D76:E76) -> 32530.635 | G76: 53614.212 | H76: 52052.633 | I76: =AVERAGE(G76:H76) -> 52833.423
B77: 6.12 | C77: MANTENIMIENTO DE FRENOS | D77: 21900.756 | E77: 21366.591 | F77: =AVERAGE(D77:E77) -> 21633.673 | G77: 35569.3 | H77: 34701.756 | I77: =AVERAGE(G77:H77) -> 35135.528
B78: 7 | C78: SISTEMA ELÉCTRICO | D78: 0 | E78: 0 | F78: 0 | G78: 0 | H78: 0 | I78: 0
B79: 7.1 | C79: CAMBIO BOMBILLO STOP/FAROLA/DIRECCIONAL | D79: 11473.17 | E79: 11303.616 | F79: =AVERAGE(D79:E79) -> 11388.393 | G79: 18633.723 | H79: 18358.348 | I79: =AVERAGE(G79:H79) -> 18496.036
B80: 7.2 | C80: ARREGLO LUCES | D80: 40821.415 | E80: 40417.243 | F80: =AVERAGE(D80:E80) -> 40619.329 | G80: 67172.532 | H80: 66507.457 | I80: =AVERAGE(G80:H80) -> 66839.994
B81: 7.3 | C81: ARREGLO MOTOR DE ARRANQUE | D81: 224983.97 | E81: 223864.65 | F81: =AVERAGE(D81:E81) -> 224424.31 | G81: 257424.87 | H81: 256144.15 | I81: =AVERAGE(G81:H81) -> 256784.51
B82: 7.4 | C82: ARREGLO PLANTA DE LUCES STROBERT | D82: 149777.68 | E82: 148294.73 | F82: =AVERAGE(D82:E82) -> 149036.21 | G82: 234766.1 | H82: 232441.68 | I82: =AVERAGE(G82:H82) -> 233603.89
B83: 7.5 | C83: CAMBIO DIRECCIONALES | D83: 57458.635 | E83: 56609.493 | F83: =AVERAGE(D83:E83) -> 57034.064 | G83: 59898.031 | H83: 59012.838 | I83: =AVERAGE(G83:H83) -> 59455.435
B84: 7.6 | C84: CAMBIO FAROLA | D84: 21793.923 | E84: 21366.591 | F84: =AVERAGE(D84:E84) -> 21580.257 | G84: 35395.791 | H84: 34701.756 | I84: =AVERAGE(G84:H84) -> 35048.773
B85: 7.7 | C85: CAMBIO FLASER | D85: 63222.376 | E85: 61680.367 | F85: =AVERAGE(D85:E85) -> 62451.372 | G85: 99931.406 | H85: 97494.055 | I85: =AVERAGE(G85:H85) -> 98712.731
B86: 7.8 | C86: CAMBIO MEDIDOR GASOLINA | D86: 39684.652 | E86: 38528.788 | F86: =AVERAGE(D86:E86) -> 39106.72 | G86: 64452.354 | H86: 62575.101 | I86: =AVERAGE(G86:H86) -> 63513.728
B87: 7.9 | C87: CAMBIO MOTOR DE ARRANQUE | D87: 44271.646 | E87: 42774.537 | F87: =AVERAGE(D87:E87) -> 43523.091 | G87: 71902.15 | H87: 69470.676 | I87: =AVERAGE(G87:H87) -> 70686.413
B88: 7.10 | C88: CAMBIO PITO | D88: 13269.366 | E88: 12820.644 | F88: =AVERAGE(D88:E88) -> 13045.005 | G88: 21550.949 | H88: 20822.173 | I88: =AVERAGE(G88:H88) -> 21186.561
B89: 7.11 | C89: CAMBIO STOP | D89: 11642.724 | E89: 11303.616 | F89: =AVERAGE(D89:E89) -> 11473.17 | G89: 18909.099 | H89: 18358.348 | I89: =AVERAGE(G89:H89) -> 18633.723
B90: 7.12 | C90: CAMBIO SWICHE IGNICION | D90: 65843.563 | E90: 64237.622 | F90: =AVERAGE(D90:E90) -> 65040.592 | G90: 106937.38 | H90: 104329.15 | I90: =AVERAGE(G90:H90) -> 105633.26
... B92: 7.14 | C92: DESMONTAR VOLANTE Y CAMBIO BOBINAS CARGA Y/LUCES | D92: 65201.186 | E92: 64237.622 | F92: =AVERAGE(D92:E92) -> 64719.404 | G92: 105894.09 | H92: 104329.15 | I92: =AVERAGE(G92:H92) -> 105111.62
B93: 8 | C93: SISTEMA DE ESCAPE | D93: 0 | E93: 0 | F93: 0 | G93: 0 | H93: 0 | I93: 0
B94: 8.1 | C94: AJUSTE SISTEMA ESCAPE - EXHOSTO | D94: 42946.848 | E94: 42733.182 | F94: =AVERAGE(D94:E94) -> 42840.015 | G94: 69750.529 | H94: 69403.511 | I94: =AVERAGE(G94:H94) -> 69577.02
B95: 8.2 | C95: ARREGLO SISTEMA ESCAPE - EXHOSTO | D95: 43160.514 | E95: 42733.182 | F95: =AVERAGE(D95:E95) -> 42946.848 | G95: 70097.546 | H95: 69403.511 | I95: =AVERAGE(G95:H95) -> 69750.529
B96: 8.3 | C96: CAMBIO EMPAQUE EXHOSTO | D96: 32530.635 | E96: 32049.887 | F96: =AVERAGE(D96:E96) -> 32290.261 | G96: 52833.423 | H96: 52052.633 | I96: =AVERAGE(G96:H96) -> 52443.028
B97: 8.4 | C97: CAMBIO SILENCIADOR | D97: 43587.846 | E97: 42733.182 | F97: =AVERAGE(D97:E97) -> 43160.514 | G97: 70791.582 | H97: 69403.511 | I97: =AVERAGE(G97:H97) -> 70097.546
B98: 8.5 | C98: CAMBIO SOPORTES SISTEMA ESCAPE | D98: 21900.756 | E98: 21366.591 | F98: =AVERAGE(D98:E98) -> 21633.673 | G98: 35569.3 | H98: 34701.756 | I98: =AVERAGE(G98:H98) -> 35135.528
B99: 8.6 | C99: CAMBIO TUBO ESCAPE | D99: 44015.178 | E99: 42733.182 | F99: =AVERAGE(D99:E99) -> 43374.18 | G99: 71485.617 | H99: 69403.511 | I99: =AVERAGE(G99:H99) -> 70444.564
B100: 8.7 | C100: DESCARBONAR | D100: 177272.06 | E100: 171277.35 | F100: =AVERAGE(D100:E100) -> 174274.7 | G100: 287909.83 | H100: 278173.75 | I100: =AVERAGE(G100:H100) -> 283041.79
B101: 8.8 | C101: SOLDAR EXOSTO | D101: 66485.939 | E101: 64237.622 | F101: =AVERAGE(D101:E101) -> 65361.781 | G101: 107980.67 | H101: 104329.15 | I101: =AVERAGE(G101:H101) -> 106154.91
B102: 9 | C102: LATONERIA Y PINTURA | D102: 0 | E102: 0 | F102: =AVERAGE(D102:E102) -> 0 | G102: 0 | H102: 0 | I102: =AVERAGE(G102:H102) -> 0
B103: 9.1 | C103: ALINEACION CHASIS | D103: 328864.58 | E103: 320843.49 | F103: =AVERAGE(D103:E103) -> 324854.03 | G103: 534113.19 | H103: 521086.04 | I103: =AVERAGE(G103:H103) -> 527599.62
B104: 9.2 | C104: ARREGLAR TANQUE COMBUSTIBLE | D104: 258039.4 | E104: 252979.8 | F104: =AVERAGE(D104:E104) -> 255509.6 | G104: 452048.64 | H104: 443184.94 | I104: =AVERAGE(G104:H104) -> 447616.79
B105: 9.3 | C105: CROMAR RIN | D105: 347832.94 | E105: 342692.55 | F105: =AVERAGE(D105:E105) -> 345262.74 | G105: 564919.96 | H105: 556571.38 | I105: =AVERAGE(G105:H105) -> 560745.67
B106: 9.4 | C106: LAVAR TANQUE DE COMBUSTIBLE | D106: 212913.81 | E106: 210805.75 | F106: =AVERAGE(D106:E106) -> 211859.78 | G106: 283585.86 | H106: 280778.08 | I106: =AVERAGE(G106:H106) -> 282181.97
B107: 9.5 | C107: PINTURA CARENAJE | D107: 171510.32 | E107: 170657.03 | F107: =AVERAGE(D107:E107) -> 171083.67 | G107: 278552.11 | H107: 277166.28 | I107: =AVERAGE(G107:H107) -> 277859.2
B108: 9.6 | C108: PINTURA CHASIS | D108: 562200.5 | E108: 556634.16 | F108: =AVERAGE(D108:E108) -> 559417.33 | G108: 913077.07 | H108: 904036.71 | I108: =AVERAGE(G108:H108) -> 908556.89
B109: 9.7 | C109: PINTURA GENERAL | D109: 652011.86 | E109: 642376.22 | F109: =AVERAGE(D109:E109) -> 647194.04 | G109: 1058940.9 | H109: 1043291.5 | I109: =AVERAGE(G109:H109) -> 1051116.2
...

Sheet TOTAL PRECIO TECHO
B2: TOTAL PRECIO TECHO - PORTAFOLIO DE SERVICIOS Y REPUESTOS
B3: MANTENIMIENTO PARQUE AUTOMOTOR
B4: Lote No. 3
C6: REPUESTOS
B7: ITEM | C7: DESCRIPCIÓN | D7: SUBTOTAL | E7: IVA | F7: PRECIO TECHO
B8: 1 | C8: AKT AKT180 | D8: =F8/1.19 -> 11194767 | E8: =F8-D8 -> 2127005.7 | F8: =REPUESTOS!F108 -> 13321773
B9: 2 | C9: AUTECO BAJAJ P´LATINO | D9: =F9/1.19 -> 12183566 | E9: =F9-D9 -> 2314877.5 | F9: =REPUESTOS!I108 -> 14498443
B10: 3 | C10: BAJAJ PULSAR 200 | D10: =F10/1.19 -> 17080539 | E10: =F10-D10 -> 3245302.4 | F10: =REPUESTOS!L108 -> 20325841
B11: 4 | C11: HONDA CB 110 | D11: =F11/1.19 -> 11829498 | E11: =F11-D11 -> 2247604.6 | F11: =REPUESTOS!O108 -> 14077103
B12: 5 | C12: HONDA CB 150 | D12: =F12/1.19 -> 14148604 | E12: =F12-D12 -> 2688234.7 | F12: =REPUESTOS!R108 -> 16836839
B13: 6 | C13: HONDA ECODELUX | D13: =F13/1.19 -> 11819001 | E13: =F13-D13 -> 2245610.2 | F13: =REPUESTOS!U108 -> 14064611
B14: 7 | C14: HONDA ELITE | D14: =F14/1.19 -> 14437942 | E14: =F14-D14 -> 2743208.9 | F14: =REPUESTOS!X108 -> 17181151
B15: 8 | C15: HONDA XR125 | D15: =F15/1.19 -> 14490724 | E15: =F15-D15 -> 2753237.5 | F15: =REPUESTOS!AA108 -> 17243961
B16: 9 | C16: KEEWAY RKS150 | D16: =F16/1.19 -> 13048615 | E16: =F16-D16 -> 2479236.9 | F16: =REPUESTOS!AD108 -> 15527852
B17: 10 | C17: SUZUKI DR200 | D17: =F17/1.19 -> 19462334 | E17: =F17-D17 -> 3697843.5 | F17: =REPUESTOS!AG108 -> 23160178
B18: 11 | C18: SUZUKI GS-125 | D18: =F18/1.19 -> 12023358 | E18: =F18-D18 -> 2284437.9 | F18: =REPUESTOS!AJ108 -> 14307796
B19: 12 | C19: YAMAHA FZ15N | D19: =F19/1.19 -> 14244763 | E19: =F19-D19 -> 2706504.9 | F19: =REPUESTOS!AM108 -> 16951268
B20: 13 | C20: YAMAHA SZ16R | D20: =F20/1.19 -> 15835409 | E20: =F20-D20 -> 3008727.6 | F20: =REPUESTOS!AP108 -> 18844136
B21: 14 | C21: YAMAHA T115 | D21: =F21/1.19 -> 12099811 | E21: =F21-D21 -> 2298964.1 | F21: =REPUESTOS!AS108 -> 14398775
B22: 15 | C22: YAMAHA XTZ 125 | D22: =F22/1.19 -> 12418211 | E22: =F22-D22 -> 2359460.1 | F22: =REPUESTOS!AV108 -> 14777671
B23: 16 | C23: YAMAHA XTZ 225D | D23: =F23/1.19 -> 14191049 | E23: =F23-D23 -> 2696299.3 | F23: =REPUESTOS!AY108 -> 16887348 | G23: a
B24: 17 | C24: YAMAHA XTZ 250 | D24: =F24/1.19 -> 18745608 | E24: =F24-D24 -> 3561665.5 | F24: =REPUESTOS!BB108 -> 22307273
B25: TOTAL PORTAFOLIO PROMEDIO - REPUESTOS | D25: =SUM(D8:D24) -> 2.392538e+08 | E25: =SUM(E8:E24) -> 45458221 | F25: =SUM(F8:F24) -> 2.8471202e+08
C27: REPUESTOS COMUNES
B28: ITEM | C28: DESCRIPCIÓN | D28: SUBTOTAL | E28: IVA | F28: PRECIO TECHO
B29: 1 | C29: REPUESTOS COMUNES | D29: =F29/1.19 -> 444378.67 | E29: =F29-D29 -> 84431.947 | F29: ='REPUESTOS COMUNES'!G29 -> 528810.61 | G29: a
B30: TOTAL PORTAFOLIO PROMEDIO - REPUESTOS COMUNES | D30: =D29 -> 444378.67 | E30: =E29 -> 84431.947 | F30: =F29 -> 528810.61
C32: MANO DE OBRA
B33: ITEM | C33: DESCRIPCIÓN | D33: SUBTOTAL | E33: IVA | F33: PRECIO TECHO
B34: 1 | C34: CILINDRAJE HASTA 249 CC | D34: =F34/1.19 -> 9654845 | E34: =F34-D34 -> 1834420.6 | F34: ='MANO DE OBRA'!F121 -> 11489266
B35: 2 | C35: CILINDRAJE IGUAL O SUPERIOR A 250 CC | D35: =F35/1.19 -> 15272945 | E35: =F35-D35 -> 2901859.5 | F35: ='MANO DE OBRA'!I121 -> 18174804
B36: TOTAL PORTAFOLIO PROMEDIO - MANO DE OBRA | D36: =SUM(D34:D35) -> 24927790 | E36: =SUM(E34:E35) -> 4736280 | F36: =SUM(F34:F35) -> 29664070
C38: TOTAL PRECIO TECHO PORTAFOLIO MANTENIMIENTO MOTOS MULTIMARCA | F38: =F25+F30+F36 -> 3.149049e+08
