Workbook

Sheet REPUESTOS
D1: a
B2: PRECIOS TECHO | D2: RESPUESTOS MOTOCICLETAS MULTIMARCAS | S2: RESPUESTOS MOTOCICLETAS MULTIMARCAS | AH2: RESPUESTOS MOTOCICLETAS MULTIMARCAS | AW2: RESPUESTOS MOTOCICLETAS MULTIMARCAS
D3: MANTENIMIENTO MOTOCICLETAS LOTE 3 | S3: MANTENIMIENTO MOTOCICLETAS | AH3: MANTENIMIENTO MOTOCICLETAS | AW3: MANTENIMIENTO MOTOCICLETAS
D4: *** Incluye Costos Directos e Indirectos | S4: *** Incluye Costos Directos e Indirectos | AH4: *** Incluye Costos Directos e Indirectos | AW4: *** Incluye Costos Directos e Indirectos
B6: DESCRIPCION | D6: AKT AKT180 | G6: AUTECO BAJAJ PLATINO | J6: BAJAJ PULSAR 200 | M6: HONDA CB 110 | P6: HONDA CB 150 | S6: HONDA ECODELUX | V6: HONDA ELITE | Y6: HONDA XR125 | AB6: KEEWAY RKS150 | AE6: SUZUKI DR200 | AH6: SUZUKI GS-125 | AK6: YAMAHA FZ15N | AN6: YAMAHA SZ16R | AQ6: YAMAHA T115 | AT6: YAMAHA XTZ 125 | AW6: YAMAHA XTZ 225D | AZ6: YAMAHA XTZ 250
D7: COTIZACION 1 SERVICAR DEL SUR | E7: COTIZACION 2 CBM CENTRO AUTOMOTRIZ | F7: TOTAL | G7: COTIZACION 1 SERVICAR DEL SUR | H7: COTIZACION 2 CBM CENTRO AUTOMOTRIZ | I7: PRECIO TECHO | J7: COTIZACION 1 | K7: COTIZACION 2 | L7: PRECIO TECHO | M7: COTIZACION 1 | N7: COTIZACION 2 | O7: PRECIO TECHO | P7: COTIZACION 1 | Q7: COTIZACION 2 | R7: PRECIO TECHO | S7: COTIZACION 1 | T7: COTIZACION 2 | U7: PRECIO TECHO | V7: COTIZACION 1 | W7: COTIZACION 2 | X7: PRECIO TECHO | Y7: COTIZACION 1 | Z7: COTIZACION 2 | AA7: PRECIO TECHO | AB7: COTIZACION 1 | AC7: COTIZACION 2 | AD7: PRECIO TECHO | AE7: COTIZACION 1 | AF7: COTIZACION 2 | AG7: PRECIO TECHO | AH7: COTIZACION 1 | AI7: COTIZACION 2 | AJ7: PRECIO TECHO | AK7: COTIZACION 1 | AL7: COTIZACION 2 | AM7: PRECIO TECHO | AN7: COTIZACION 1 | AO7: COTIZACION 2 | AP7: PRECIO TECHO | AQ7: COTIZACION 1 | AR7: COTIZACION 2 | AS7: PRECIO TECHO | AT7: COTIZACION 1 | AU7: COTIZACION 2 | AV7: PRECIO TECHO | AW7: COTIZACION 1 | AX7: COTIZACION 2 | AY7: PRECIO TECHO | AZ7: COTIZACION 1 | BA7: COTIZACION 2 | BB7: PRECIO TECHO
B8: 1 | C8: SINCRONIZACION
B9: 1.1 | C9: AGUJA BASE Y PUNSON | D9: 78017.032 | E9: 75378.775 | F9: =AVERAGE(D9:E9) -> 76697.904 | G9: 83843.057 | H9: 81007.784 | I9: =AVERAGE(G9:H9) -> 82425.42 | J9: 129104.86 | K9: 124738.99 | L9: =AVERAGE(J9:K9) -> 126921.92 | M9: 83843.057 | N9: 81007.784 | O9: =AVERAGE(M9:N9) -> 82425.42 | P9: 107716.83 | Q9: 104074.23 | R9: =AVERAGE(P9:Q9) -> 105895.53 | S9: 83843.057 | T9: 81007.784 | U9: =AVERAGE(S9:T9) -> 82425.42 | V9: 107716.83 | W9: 104074.23 | X9: =AVERAGE(V9:W9) -> 105895.53 | Y9: 107716.83 | Z9: 104074.23 | AA9: =AVERAGE(Y9:Z9) -> 105895.53 | AB9: 95495.105 | AC9: 92265.802 | AD9: =AVERAGE(AB9:AC9) -> 93880.453 | AE9: 149091.11 | AF9: 144049.38 | AG9: =AVERAGE(AE9:AF9) -> 146570.25 | AH9: 83843.057 | AI9: 81007.784 | AJ9: =AVERAGE(AH9:AI9) -> 82425.42 | AK9: 107716.83 | AL9: 104074.23 | AM9: =AVERAGE(AK9:AL9) -> 105895.53 | AN9: 119205.26 | AO9: 115174.16 | AP9: =AVERAGE(AN9:AO9) -> 117189.71 | AQ9: 83843.057 | AR9: 81007.784 | AS9: =AVERAGE(AQ9:AR9) -> 82425.42 | AT9: 83843.057 | AU9: 81007.784 | AV9: =AVERAGE(AT9:AU9) -> 82425.42 | AW9: 107716.83 | AX9: 104074.23 | AY9: =AVERAGE(AW9:AX9) -> 105895.53 | AZ9: 149091.11 | BA9: 144049.38 | BB9: =AVERAGE(AZ9:BA9) -> 146570.25
B10: 1.2 | C10: BUJIA | D10: 47535.405 | E10: 46150.878 | F10: =AVERAGE(D10:E10) -> 46843.141 | G10: 51702.63 | H10: 50196.728 | I10: =AVERAGE(G10:H10) -> 50949.679 | J10: 60037.082 | K10: 58288.429 | L10: =AVERAGE(J10:K10) -> 59162.755 | M10: 51702.63 | N10: 50196.728 | O10: =AVERAGE(M10:N10) -> 50949.679 | P10: 60037.082 | Q10: 58288.429 | R10: =AVERAGE(P10:Q10) -> 59162.755 | S10: 51702.63 | T10: 50196.728 | U10: =AVERAGE(S10:T10) -> 50949.679 | V10: 60037.082 | W10: 58288.429 | X10: =AVERAGE(V10:W10) -> 59162.755 | Y10: 60037.082 | Z10: 58288.429 | AA10: =AVERAGE(Y10:Z10) -> 59162.755 | AB10: 60037.082 | AC10: 58288.429 | AD10: =AVERAGE(AB10:AC10) -> 59162.755 | AE10: 60037.082 | AF10: 58288.429 | AG10: =AVERAGE(AE10:AF10) -> 59162.755 | AH10: 51702.63 | AI10: 50196.728 | AJ10: =AVERAGE(AH10:AI10) -> 50949.679 | AK10: 60037.082 | AL10: 58288.429 | AM10: =AVERAGE(AK10:AL10) -> 59162.755 | AN10: 60037.082 | AO10: 58288.429 | AP10: =AVERAGE(AN10:AO10) -> 59162.755 | AQ10: 51702.63 | AR10: 50196.728 | AS10: =AVERAGE(AQ10:AR10) -> 50949.679 | AT10: 51702.63 | AU10: 50196.728 | AV10: =AVERAGE(AT10:AU10) -> 50949.679 | AW10: 60037.082 | AX10: 58288.429 | AY10: =AVERAGE(AW10:AX10) -> 59162.755 | AZ10: 60037.082 | BA10: 58288.429 | BB10: =AVERAGE(AZ10:BA10) -> 59162.755
B11: 1.3 | C11: CARBURADOR | D11: 513225.71 | E11: 500708.01 | F11: =AVERAGE(D11:E11) -> 506966.86 | G11: 515072.88 | H11: 502510.13 | I11: =AVERAGE(G11:H11) -> 508791.51 | J11: 798044.86 | K11: 778580.35 | L11: =AVERAGE(J11:K11) -> 788312.6 | M11: 504292.9 | N11: 491993.08 | O11: =AVERAGE(M11:N11) -> 498142.99 | P11: 620237.74 | Q11: 605109.99 | R11: =AVERAGE(P11:Q11) -> 612673.86 | S11: 471300.01 | T11: 459804.89 | U11: =AVERAGE(S11:T11) -> 465552.45 | V11: 585086.82 | W11: 570816.41 | X11: =AVERAGE(V11:W11) -> 577951.61 | Y11: 611119.82 | Z11: 596214.46 | AA11: =AVERAGE(Y11:Z11) -> 603667.14 | AB11: 494889.13 | AC11: 482818.66 | AD11: =AVERAGE(AB11:AC11) -> 488853.89 | AE11: 939772.07 | AF11: 916850.8 | AG11: =AVERAGE(AE11:AF11) -> 928311.43 | AH11: 494889.13 | AI11: 482818.66 | AJ11: =AVERAGE(AH11:AI11) -> 488853.89 | AK11: 611119.82 | AL11: 596214.46 | AM11: =AVERAGE(AK11:AL11) -> 603667.14 | AN11: 732680.74 | AO11: 714810.48 | AP11: =AVERAGE(AN11:AO11) -> 723745.61 | AQ11: 504292.12 | AR11: 491992.32 | AS11: =AVERAGE(AQ11:AR11) -> 498142.22 | AT11: 515072.88 | AU11: 502510.13 | AV11: =AVERAGE(AT11:AU11) -> 508791.51 | AW11: 611119.82 | AX11: 596214.46 | AY11: =AVERAGE(AW11:AX11) -> 603667.14 | AZ11: 974852.69 | BA11: 951075.8 | BB11: =AVERAGE(AZ11:BA11) -> 962964.25
B12: 1.4 | C12: EMPAQUES CARBURADOR | D12: 48534.509 | E12: 47582.852 | F12: =AVERAGE(D12:E12) -> 48058.68 | G12: 52158.887 | H12: 51136.164 | I12: =AVERAGE(G12:H12) -> 51647.525 | J12: 80316.318 | K12: 78741.489 | L12: =AVERAGE(J12:K12) -> 79528.904 | M12: 52158.887 | N12: 51136.164 | O12: =AVERAGE(M12:N12) -> 51647.525 | P12: 67010.798 | Q12: 65696.861 | R12: =AVERAGE(P12:Q12) -> 66353.829 | S12: 52158.887 | T12: 51136.164 | U12: =AVERAGE(S12:T12) -> 51647.525 | V12: 67010.798 | W12: 65696.861 | X12: =AVERAGE(V12:W12) -> 66353.829 | Y12: 67010.798 | Z12: 65696.861 | AA12: =AVERAGE(Y12:Z12) -> 66353.829 | AB12: 59407.643 | AC12: 58242.787 | AD12: =AVERAGE(AB12:AC12) -> 58825.215 | AE12: 92749.797 | AF12: 90931.174 | AG12: =AVERAGE(AE12:AF12) -> 91840.485 | AH12: 52158.887 | AI12: 51136.164 | AJ12: =AVERAGE(AH12:AI12) -> 51647.525 | AK12: 67010.798 | AL12: 65696.861 | AM12: =AVERAGE(AK12:AL12) -> 66353.829 | AN12: 74157.763 | AO12: 72703.689 | AP12: =AVERAGE(AN12:AO12) -> 73430.726 | AQ12: 52158.887 | AR12: 51136.164 | AS12: =AVERAGE(AQ12:AR12) -> 51647.525 | AT12: 52158.887 | AU12: 51136.164 | AV12: =AVERAGE(AT12:AU12) -> 51647.525 | AW12: 67010.798 | AX12: 65696.861 | AY12: =AVERAGE(AW12:AX12) -> 66353.829 | AZ12: 92749.797 | BA12: 90931.174 | BB12: =AVERAGE(AZ12:BA12) -> 91840.485
B13: 1.5 | C13: FILTRO COMBUSTIBLE | D13: 21996.469 | E13: 21671.398 | F13: =AVERAGE(D13:E13) -> 21833.933 | G13: 23639.084 | H13: 23289.738 | I13: =AVERAGE(G13:H13) -> 23464.411 | J13: 36400.397 | K13: 35862.46 | L13: =AVERAGE(J13:K13) -> 36131.429 | M13: 23639.084 | N13: 23289.738 | O13: =AVERAGE(M13:N13) -> 23464.411 | P13: 30370.163 | Q13: 29921.342 | R13: =AVERAGE(P13:Q13) -> 30145.753 | S13: 23639.084 | T13: 23289.738 | U13: =AVERAGE(S13:T13) -> 23464.411 | V13: 30370.163 | W13: 29921.342 | X13: =AVERAGE(V13:W13) -> 30145.753 | Y13: 30370.163 | Z13: 29921.342 | AA13: =AVERAGE(Y13:Z13) -> 30145.753 | AB13: 26924.314 | AC13: 26526.418 | AD13: =AVERAGE(AB13:AC13) -> 26725.366 | AE13: 42035.411 | AF13: 41414.198 | AG13: =AVERAGE(AE13:AF13) -> 41724.804 | AH13: 23639.084 | AI13: 23289.738 | AJ13: =AVERAGE(AH13:AI13) -> 23464.411 | AK13: 30370.163 | AL13: 29921.342 | AM13: =AVERAGE(AK13:AL13) -> 30145.753 | AN13: 33609.26 | AO13: 33112.571 | AP13: =AVERAGE(AN13:AO13) -> 33360.916 | AQ13: 23639.084 | AR13: 23289.738 | AS13: =AVERAGE(AQ13:AR13) -> 23464.411 | AT13: 23639.084 | AU13: 23289.738 | AV13: =AVERAGE(AT13:AU13) -> 23464.411 | AW13: 30370.163 | AX13: 29921.342 | AY13: =AVERAGE(AW13:AX13) -> 30145.753 | AZ13: 42035.411 | BA13: 41414.198 | BB13: =AVERAGE(AZ13:BA13) -> 41724.804
B14: 1.6 | C14: FILTRO DE AIRE | D14: 39335.158 | E14: 38945.701 | F14: =AVERAGE(D14:E14) -> 39140.429 | G14: 42272.562 | H14: 41854.022 | I14: =AVERAGE(G14:H14) -> 42063.292 | J14: 65092.964 | K14: 64448.479 | L14: =AVERAGE(J14:K14) -> 64770.722 | M14: 42272.562 | N14: 41854.022 | O14: =AVERAGE(M14:N14) -> 42063.292 | P14: 54309.405 | Q14: 53771.688 | R14: =AVERAGE(P14:Q14) -> 54040.546 | S14: 42272.562 | T14: 41854.022 | U14: =AVERAGE(S14:T14) -> 42063.292 | V14: 54309.405 | W14: 53771.688 | X14: =AVERAGE(V14:W14) -> 54040.546 | Y14: 54309.405 | Z14: 53771.688 | AA14: =AVERAGE(Y14:Z14) -> 54040.546 | AB14: 48147.371 | AC14: 47670.664 | AD14: =AVERAGE(AB14:AC14) -> 47909.018 | AE14: 75169.77 | AF14: 74425.515 | AG14: =AVERAGE(AE14:AF14) -> 74797.643 | AH14: 42272.562 | AI14: 41854.022 | AJ14: =AVERAGE(AH14:AI14) -> 42063.292 | AK14: 54309.405 | AL14: 53771.688 | AM14: =AVERAGE(AK14:AL14) -> 54040.546 | AN14: 60101.717 | AO14: 59506.65 | AP14: =AVERAGE(AN14:AO14) -> 59804.183 | AQ14: 42272.562 | AR14: 41854.022 | AS14: =AVERAGE(AQ14:AR14) -> 42063.292 | AT14: 42272.562 | AU14: 41854.022 | AV14: =AVERAGE(AT14:AU14) -> 42063.292 | AW14: 54309.405 | AX14: 53771.688 | AY14: =AVERAGE(AW14:AX14) -> 54040.546 | AZ14: 75169.77 | BA14: 74425.515 | BB14: =AVERAGE(AZ14:BA14) -> 74797.643
B15: 1.7 | C15: GUAYA ACELERADOR | D15: 43559.51 | E15: 43342.796 | F15: =AVERAGE(D15:E15) -> 43451.153 | G15: 46812.373 | H15: 46579.476 | I15: =AVERAGE(G15:H15) -> 46695.925 | J15: 72083.545 | K15: 71724.92 | L15: =AVERAGE(J15:K15) -> 71904.233 | M15: 46812.373 | N15: 46579.476 | O15: =AVERAGE(M15:N15) -> 46695.925 | P15: 60141.898 | Q15: 59842.685 | R15: =AVERAGE(P15:Q15) -> 59992.292 | S15: 46812.373 | T15: 46579.476 | U15: =AVERAGE(S15:T15) -> 46695.925 | V15: 60141.898 | W15: 59842.685 | X15: =AVERAGE(V15:W15) -> 59992.292 | Y15: 60141.898 | Z15: 59842.685 | AA15: =AVERAGE(Y15:Z15) -> 59992.292 | AB15: 53318.1 | AC15: 53052.836 | AD15: =AVERAGE(AB15:AC15) -> 53185.468 | AE15: 83242.538 | AF15: 82828.396 | AG15: =AVERAGE(AE15:AF15) -> 83035.467 | AH15: 46812.373 | AI15: 46579.476 | AJ15: =AVERAGE(AH15:AI15) -> 46695.925 | AK15: 60141.898 | AL15: 59842.685 | AM15: =AVERAGE(AK15:AL15) -> 59992.292 | AN15: 66556.269 | AO15: 66225.143 | AP15: =AVERAGE(AN15:AO15) -> 66390.706 | AQ15: 46812.373 | AR15: 46579.476 | AS15: =AVERAGE(AQ15:AR15) -> 46695.925 | AT15: 46812.373 | AU15: 46579.476 | AV15: =AVERAGE(AT15:AU15) -> 46695.925 | AW15: 60141.898 | AX15: 59842.685 | AY15: =AVERAGE(AW15:AX15) -> 59992.292 | AZ15: 83242.538 | BA15: 82828.396 | BB15: =AVERAGE(AZ15:BA15) -> 83035.467
B16: 1.8 | C16: GUAYA CHOQUE | D16: 43776.224 | E16: 43342.796 | F16: =AVERAGE(D16:E16) -> 43559.51 | G16: 47045.271 | H16: 46579.476 | I16: =AVERAGE(G16:H16) -> 46812.373 | J16: 72442.17 | K16: 71724.92 | L16: =AVERAGE(J16:K16) -> 72083.545 | M16: 47045.271 | N16: 46579.476 | O16: =AVERAGE(M16:N16) -> 46812.373 | P16: 60441.112 | Q16: 59842.685 | R16: =AVERAGE(P16:Q16) -> 60141.898 | S16: 47045.271 | T16: 46579.476 | U16: =AVERAGE(S16:T16) -> 46812.373 | V16: 60441.112 | W16: 59842.685 | X16: =AVERAGE(V16:W16) -> 60141.898 | Y16: 60441.112 | Z16: 59842.685 | AA16: =AVERAGE(Y16:Z16) -> 60141.898 | AB16: 53583.364 | AC16: 53052.836 | AD16: =AVERAGE(AB16:AC16) -> 53318.1 | AE16: 83656.68 | AF16: 82828.396 | AG16: =AVERAGE(AE16:AF16) -> 83242.538 | AH16: 47045.271 | AI16: 46579.476 | AJ16: =AVERAGE(AH16:AI16) -> 46812.373 | AK16: 60441.112 | AL16: 59842.685 | AM16: =AVERAGE(AK16:AL16) -> 60141.898 | AN16: 66887.394 | AO16: 66225.143 | AP16: =AVERAGE(AN16:AO16) -> 66556.269 | AQ16: 47045.271 | AR16: 46579.476 | AS16: =AVERAGE(AQ16:AR16) -> 46812.373 | AT16: 47045.271 | AU16: 46579.476 | AV16: =AVERAGE(AT16:AU16) -> 46812.373 | AW16: 60441.112 | AX16: 59842.685 | AY16: =AVERAGE(AW16:AX16) -> 60141.898 | AZ16: 83656.68 | BA16: 82828.396 | BB16: =AVERAGE(AZ16:BA16) -> 83242.538
B17: 1.9 | C17: KIT CARBURADOR | D17: 83204.034 | E17: 81974.418 | F17: =AVERAGE(D17:E17) -> 82589.226 | G17: 89417.405 | H17: 88095.965 | I17: =AVERAGE(G17:H17) -> 88756.685 | J17: 159399.55 | K17: 157043.89 | L17: =AVERAGE(J17:K17) -> 158221.72 | M17: 89417.405 | N17: 88095.965 | O17: =AVERAGE(M17:N17) -> 88756.685 | P17: 136589.53 | Q17: 134570.96 | R17: =AVERAGE(P17:Q17) -> 135580.25 | S17: 89417.405 | T17: 88095.965 | U17: =AVERAGE(S17:T17) -> 88756.685 | V17: 136589.53 | W17: 134570.96 | X17: =AVERAGE(V17:W17) -> 135580.25 | Y17: 136589.53 | Z17: 134570.96 | AA17: =AVERAGE(Y17:Z17) -> 135580.25 | AB17: 123555.23 | AC17: 121729.29 | AD17: =AVERAGE(AB17:AC17) -> 122642.26 | AE17: 180714.6 | AF17: 178043.94 | AG17: =AVERAGE(AE17:AF17) -> 179379.27 | AH17: 89417.405 | AI17: 88095.965 | AJ17: =AVERAGE(AH17:AI17) -> 88756.685 | AK17: 136589.53 | AL17: 134570.96 | AM17: =AVERAGE(AK17:AL17) -> 135580.25 | AN17: 148841.77 | AO17: 146642.13 | AP17: =AVERAGE(AN17:AO17) -> 147741.95 | AQ17: 89417.405 | AR17: 88095.965 | AS17: =AVERAGE(AQ17:AR17) -> 88756.685 | AT17: 89417.405 | AU17: 88095.965 | AV17: =AVERAGE(AT17:AU17) -> 88756.685 | AW17: 136589.53 | AX17: 134570.96 | AY17: =AVERAGE(AW17:AX17) -> 135580.25 | AZ17: 180714.6 | BA17: 178043.94 | BB17: =AVERAGE(AZ17:BA17) -> 179379.27
B18: 1.10 | C18: LLAVE PASO COMBUSTIBLE | D18: 81371.388 | E18: 79775.871 | F18: =AVERAGE(D18:E18) -> 80573.629 | G18: 87447.903 | H18: 85733.238 | I18: =AVERAGE(G18:H18) -> 86590.571 | J18: 134655.74 | K18: 132015.43 | L18: =AVERAGE(J18:K18) -> 133335.59 | M18: 87447.903 | N18: 85733.238 | O18: =AVERAGE(M18:N18) -> 86590.571 | P18: 112348.14 | Q18: 110145.23 | R18: =AVERAGE(P18:Q18) -> 111246.68 | S18: 87447.903 | T18: 85733.238 | U18: =AVERAGE(S18:T18) -> 86590.571 | V18: 112348.14 | W18: 110145.23 | X18: =AVERAGE(V18:W18) -> 111246.68 | Y18: 112348.14 | Z18: 110145.23 | AA18: =AVERAGE(Y18:Z18) -> 111246.68 | AB18: 99600.933 | AC18: 97647.974 | AD18: =AVERAGE(AB18:AC18) -> 98624.453 | AE18: 155501.31 | AF18: 152452.26 | AG18: =AVERAGE(AE18:AF18) -> 153976.79 | AH18: 87447.903 | AI18: 85733.238 | AJ18: =AVERAGE(AH18:AI18) -> 86590.571 | AK18: 112348.14 | AL18: 110145.23 | AM18: =AVERAGE(AK18:AL18) -> 111246.68 | AN18: 124330.51 | AO18: 121892.65 | AP18: =AVERAGE(AN18:AO18) -> 123111.58 | AQ18: 87447.903 | AR18: 85733.238 | AS18: =AVERAGE(AQ18:AR18) -> 86590.571 | AT18: 87447.903 | AU18: 85733.238 | AV18: =AVERAGE(AT18:AU18) -> 86590.571 | AW18: 112348.14 | AX18: 110145.23 | AY18: =AVERAGE(AW18:AX18) -> 111246.68 | AZ18: 155501.31 | BA18: 152452.26 | BB18: =AVERAGE(AZ18:BA18) -> 153976.79
B19: 2 | C19: MOTOR | D19: 0 | E19: 0 | G19: 0 | H19: 0 | I19: =AVERAGE(G19:H19) -> 0 | J19: 0 | K19: 0 | L19: =AVERAGE(J19:K19) -> 0 | M19: 0 | N19: 0 | O19: =AVERAGE(M19:N19) -> 0 | P19: 0 | Q19: 0 | R19: =AVERAGE(P19:Q19) -> 0 | S19: 0 | T19: 0 | U19: =AVERAGE(S19:T19) -> 0 | V19: 0 | W19: 0 | X19: =AVERAGE(V19:W19) -> 0 | Y19: 0 | Z19: 0 | AA19: =AVERAGE(Y19:Z19) -> 0 | AB19: 0 | AC19: 0 | AD19: =AVERAGE(AB19:AC19) -> 0 | AE19: 0 | AF19: 0 | AG19: =AVERAGE(AE19:AF19) -> 0 | AH19: 0 | AI19: 0 | AJ19: =AVERAGE(AH19:AI19) -> 0 | AK19: 0 | AL19: 0 | AM19: =AVERAGE(AK19:AL19) -> 0 | AN19: 0 | AO19: 0 | AP19: =AVERAGE(AN19:AO19) -> 0 | AQ19: 0 | AR19: 0 | AS19: =AVERAGE(AQ19:AR19) -> 0 | AT19: 0 | AU19: 0 | AV19: =AVERAGE(AT19:AU19) -> 0 | AW19: 0 | AX19: 0 | AY19: =AVERAGE(AW19:AX19) -> 0 | AZ19: 0 | BA19: 0 | BB19: =AVERAGE(AZ19:BA19) -> 0
B20: 2.1 | C20: BALANCIN | D20: 111607.7 | E20: 108356.99 | F20: =AVERAGE(D20:E20) -> 109982.34 | G20: 119942.15 | H20: 116448.69 | I20: =AVERAGE(G20:H20) -> 118195.42 | J20: 184691.67 | K20: 179312.3 | L20: =AVERAGE(J20:K20) -> 182001.99 | M20: 119942.15 | N20: 116448.69 | O20: =AVERAGE(M20:N20) -> 118195.42 | P20: 154094.91 | Q20: 149606.71 | R20: =AVERAGE(P20:Q20) -> 151850.81 | S20: 119942.15 | T20: 116448.69 | U20: =AVERAGE(S20:T20) -> 118195.42 | V20: 154094.91 | W20: 149606.71 | X20: =AVERAGE(V20:W20) -> 151850.81 | Y20: 154094.91 | Z20: 149606.71 | AA20: =AVERAGE(Y20:Z20) -> 151850.81 | AB20: 136611.05 | AC20: 132632.09 | AD20: =AVERAGE(AB20:AC20) -> 134621.57 | AE20: 213283.12 | AF20: 207070.99 | AG20: =AVERAGE(AE20:AF20) -> 210177.05 | AH20: 119942.15 | AI20: 116448.69 | AJ20: =AVERAGE(AH20:AI20) -> 118195.42 | AK20: 154094.91 | AL20: 149606.71 | AM20: =AVERAGE(AK20:AL20) -> 151850.81 | AN20: 170529.74 | AO20: 165562.86 | AP20: =AVERAGE(AN20:AO20) -> 168046.3 | AQ20: 119942.15 | AR20: 116448.69 | AS20: =AVERAGE(AQ20:AR20) -> 118195.42 | AT20: 119942.15 | AU20: 116448.69 | AV20: =AVERAGE(AT20:AU20) -> 118195.42 | AW20: 154094.91 | AX20: 149606.71 | AY20: =AVERAGE(AW20:AX20) -> 151850.81 | AZ20: 213283.12 | BA20: 207070.99 | BB20: =AVERAGE(AZ20:BA20) -> 210177.05
B21: 2.2 | C21: BIELA MOTOR | D21: 179439.17 | E21: 173371.18 | F21: =AVERAGE(D21:E21) -> 176405.18 | G21: 192839.03 | H21: 186317.9 | I21: =AVERAGE(G21:H21) -> 189578.47 | J21: 296941.17 | K21: 286899.68 | L21: =AVERAGE(J21:K21) -> 291920.43 | M21: 192839.03 | N21: 186317.9 | O21: =AVERAGE(M21:N21) -> 189578.47 | P21: 247748.72 | Q21: 239370.74 | R21: =AVERAGE(P21:Q21) -> 243559.73 | S21: 192839.03 | T21: 186317.9 | U21: =AVERAGE(S21:T21) -> 189578.47 | V21: 247748.72 | W21: 239370.74 | X21: =AVERAGE(V21:W21) -> 243559.73 | Y21: 247748.72 | Z21: 239370.74 | AA21: =AVERAGE(Y21:Z21) -> 243559.73 | AB21: 219638.74 | AC21: 212211.34 | AD21: =AVERAGE(AB21:AC21) -> 215925.04 | AE21: 342909.56 | AF21: 331313.58 | AG21: =AVERAGE(AE21:AF21) -> 337111.57 | AH21: 192839.03 | AI21: 186317.9 | AJ21: =AVERAGE(AH21:AI21) -> 189578.47 | AK21: 247748.72 | AL21: 239370.74 | AM21: =AVERAGE(AK21:AL21) -> 243559.73 | AN21: 274172.09 | AO21: 264900.57 | AP21: =AVERAGE(AN21:AO21) -> 269536.33 | AQ21: 192839.03 | AR21: 186317.9 | AS21: =AVERAGE(AQ21:AR21) -> 189578.47 | AT21: 192839.03 | AU21: 186317.9 | AV21: =AVERAGE(AT21:AU21) -> 189578.47 | AW21: 247748.72 | AX21: 239370.74 | AY21: =AVERAGE(AW21:AX21) -> 243559.73 | AZ21: 342909.56 | BA21: 331313.58 | BB21: =AVERAGE(AZ21:BA21) -> 337111.57
B22: 2.3 | C22: BOMBA DE ACEITE | D22: 170499.72 | E22: 164734.03 | F22: =AVERAGE(D22:E22) -> 167616.88 | G22: 183232.01 | H22: 177035.76 | I22: =AVERAGE(G22:H22) -> 180133.89 | J22: 282147.91 | K22: 272606.67 | L22: =AVERAGE(J22:K22) -> 277377.29 | M22: 183232.01 | N22: 177035.76 | O22: =AVERAGE(M22:N22) -> 180133.89 | P22: 235406.16 | Q22: 227445.57 | R22: =AVERAGE(P22:Q22) -> 231425.86 | S22: 183232.01 | T22: 177035.76 | U22: =AVERAGE(S22:T22) -> 180133.89 | V22: 235406.16 | W22: 227445.57 | X22: =AVERAGE(V22:W22) -> 231425.86 | Y22: 235406.16 | Z22: 227445.57 | AA22: =AVERAGE(Y22:Z22) -> 231425.86 | AB22: 208696.59 | AC22: 201639.22 | AD22: =AVERAGE(AB22:AC22) -> 205167.91 | AE22: 325826.2 | AF22: 314807.92 | AG22: =AVERAGE(AE22:AF22) -> 320317.06 | AH22: 183232.01 | AI22: 177035.76 | AJ22: =AVERAGE(AH22:AI22) -> 180133.89 | AK22: 235406.16 | AL22: 227445.57 | AM22: =AVERAGE(AK22:AL22) -> 231425.86 | AN22: 260513.16 | AO22: 251703.53 | AP22: =AVERAGE(AN22:AO22) -> 256108.34 | AQ22: 183232.01 | AR22: 177035.76 | AS22: =AVERAGE(AQ22:AR22) -> 180133.89 | AT22: 183232.01 | AU22: 177035.76 | AV22: =AVERAGE(AT22:AU22) -> 180133.89 | AW22: 235406.16 | AX22: 227445.57 | AY22: =AVERAGE(AW22:AX22) -> 231425.86 | AZ22: 325826.2 | BA22: 314807.92 | BB22: =AVERAGE(AZ22:BA22) -> 320317.06
B23: 2.4 | C23: CADENILLA MOTOR | D23: 209075.15 | E23: 202985.59 | F23: =AVERAGE(D23:E23) -> 206030.37 | G23: 206998.43 | H23: 200969.35 | I23: =AVERAGE(G23:H23) -> 203983.89 | J23: 317922.43 | K23: 308662.55 | L23: =AVERAGE(J23:K23) -> 313292.49 | M23: 209327.09 | N23: 203230.19 | O23: =AVERAGE(M23:N23) -> 206278.64 | P23: 226028.62 | Q23: 219445.26 | R23: =AVERAGE(P23:Q23) -> 222736.94 | S23: 170017.64 | T23: 165065.67 | U23: =AVERAGE(S23:T23) -> 167541.66 | V23: 217691.89 | W23: 211351.35 | X23: =AVERAGE(V23:W23) -> 214521.62 | Y23: 206406.46 | Z23: 200394.62 | AA23: =AVERAGE(Y23:Z23) -> 203400.54 | AB23: 207674.19 | AC23: 201625.43 | AD23: =AVERAGE(AB23:AC23) -> 204649.81 | AE23: 343401.42 | AF23: 333399.44 | AG23: =AVERAGE(AE23:AF23) -> 338400.43 | AH23: 202263.4 | AI23: 196372.23 | AJ23: =AVERAGE(AH23:AI23) -> 199317.82 | AK23: 207434.62 | AL23: 201392.84 | AM23: =AVERAGE(AK23:AL23) -> 204413.73 | AN23: 288514.01 | AO23: 280110.69 | AP23: =AVERAGE(AN23:AO23) -> 284312.35 | AQ23: 211855.11 | AR23: 205684.57 | AS23: =AVERAGE(AQ23:AR23) -> 208769.84 | AT23: 202263.4 | AU23: 196372.23 | AV23: =AVERAGE(AT23:AU23) -> 199317.82 | AW23: 241780.65 | AX23: 234738.5 | AY23: =AVERAGE(AW23:AX23) -> 238259.57 | AZ23: 351217.79 | BA23: 340988.15 | BB23: =AVERAGE(AZ23:BA23) -> 346102.97
B24: 2.5 | C24: CIGÜEÑAL | D24: 392915.79 | E24: 383332.48 | F24: =AVERAGE(D24:E24) -> 388124.14 | G24: 422257.29 | H24: 411958.34 | I24: =AVERAGE(G24:H24) -> 417107.82 | J24: 650208.49 | K24: 634349.75 | L24: =AVERAGE(J24:K24) -> 642279.12 | M24: 422257.29 | N24: 411958.34 | O24: =AVERAGE(M24:N24) -> 417107.82 | P24: 542492.37 | Q24: 529260.85 | R24: =AVERAGE(P24:Q24) -> 535876.61 | S24: 422257.29 | T24: 411958.34 | U24: =AVERAGE(S24:T24) -> 417107.82 | V24: 542492.37 | W24: 529260.85 | X24: =AVERAGE(V24:W24) -> 535876.61 | Y24: 542492.37 | Z24: 529260.85 | AA24: =AVERAGE(Y24:Z24) -> 535876.61 | AB24: 480940.3 | AC24: 469210.05 | AD24: =AVERAGE(AB24:AC24) -> 475075.17 | AE24: 750864.92 | AF24: 732551.14 | AG24: =AVERAGE(AE24:AF24) -> 741708.03 | AH24: 422257.29 | AI24: 411958.34 | AJ24: =AVERAGE(AH24:AI24) -> 417107.82 | AK24: 542492.37 | AL24: 529260.85 | AM24: =AVERAGE(AK24:AL24) -> 535876.61 | AN24: 600351.32 | AO24: 585708.6 | AP24: =AVERAGE(AN24:AO24) -> 593029.96 | AQ24: 422257.29 | AR24: 411958.34 | AS24: =AVERAGE(AQ24:AR24) -> 417107.82 | AT24: 422257.29 | AU24: 411958.34 | AV24: =AVERAGE(AT24:AU24) -> 417107.82 | AW24: 542492.37 | AX24: 529260.85 | AY24: =AVERAGE(AW24:AX24) -> 535876.61 | AZ24: 750864.92 | BA24: 732551.14 | BB24: =AVERAGE(AZ24:BA24) -> 741708.03
B25: 2.6 | C25: CILINDRO MOTOR | D25: 287522.92 | E25: 281885.21 | F25: =AVERAGE(D25:E25) -> 284704.06 | G25: 308994.07 | H25: 302935.36 | I25: =AVERAGE(G25:H25) -> 305964.71 | J25: 475801.29 | K25: 466471.86 | L25: =AVERAGE(J25:K25) -> 471136.57 | M25: 308994.07 | N25: 302935.36 | O25: =AVERAGE(M25:N25) -> 305964.71 | P25: 396978.16 | Q25: 389194.27 | R25: =AVERAGE(P25:Q25) -> 393086.22 | S25: 308994.07 | T25: 302935.36 | U25: =AVERAGE(S25:T25) -> 305964.71 | V25: 396978.16 | W25: 389194.27 | X25: =AVERAGE(V25:W25) -> 393086.22 | Y25: 396978.16 | Z25: 389194.27 | AA25: =AVERAGE(Y25:Z25) -> 393086.22 | AB25: 351936.37 | AC25: 345035.66 | AD25: =AVERAGE(AB25:AC25) -> 348486.01 | AE25: 549458.37 | AF25: 538684.68 | AG25: =AVERAGE(AE25:AF25) -> 544071.52 | AH25: 308994.07 | AI25: 302935.36 | AJ25: =AVERAGE(AH25:AI25) -> 305964.71 | AK25: 396978.16 | AL25: 389194.27 | AM25: =AVERAGE(AK25:AL25) -> 393086.22 | AN25: 439317.44 | AO25: 430703.37 | AP25: =AVERAGE(AN25:AO25) -> 435010.41 | AQ25: 308994.07 | AR25: 302935.36 | AS25: =AVERAGE(AQ25:AR25) -> 305964.71 | AT25: 308994.07 | AU25: 302935.36 | AV25: =AVERAGE(AT25:AU25) -> 305964.71 | AW25: 396978.16 | AX25: 389194.27 | AY25: =AVERAGE(AW25:AX25) -> 393086.22 | AZ25: 549458.37 | BA25: 538684.68 | BB25: =AVERAGE(AZ25:BA25) -> 544071.52
B26: 2.7 | C26: CULATA | D26: 573980.32 | E26: 565497.85 | F26: =AVERAGE(D26:E26) -> 569739.09 | G26: 573980.32 | H26: 565497.85 | I26: =AVERAGE(G26:H26) -> 569739.09 | J26: 821251.15 | K26: 809114.43 | L26: =AVERAGE(J26:K26) -> 815182.79 | M26: 573980.32 | N26: 565497.85 | O26: =AVERAGE(M26:N26) -> 569739.09 | P26: 663896.99 | Q26: 654085.7 | R26: =AVERAGE(P26:Q26) -> 658991.34 | S26: 573980.32 | T26: 565497.85 | U26: =AVERAGE(S26:T26) -> 569739.09 | V26: 663896.99 | W26: 654085.7 | X26: =AVERAGE(V26:W26) -> 658991.34 | Y26: 663896.99 | Z26: 654085.7 | AA26: =AVERAGE(Y26:Z26) -> 658991.34 | AB26: 573980.32 | AC26: 565497.85 | AD26: =AVERAGE(AB26:AC26) -> 569739.09 | AE26: 968292.34 | AF26: 953982.6 | AG26: =AVERAGE(AE26:AF26) -> 961137.47 | AH26: 573980.32 | AI26: 565497.85 | AJ26: =AVERAGE(AH26:AI26) -> 569739.09 | AK26: 663896.99 | AL26: 654085.7 | AM26: =AVERAGE(AK26:AL26) -> 658991.34 | AN26: 748418.65 | AO26: 737358.28 | AP26: =AVERAGE(AN26:AO26) -> 742888.46 | AQ26: 573980.32 | AR26: 565497.85 | AS26: =AVERAGE(AQ26:AR26) -> 569739.09 | AT26: 573980.32 | AU26: 565497.85 | AV26: =AVERAGE(AT26:AU26) -> 569739.09 | AW26: 663896.99 | AX26: 654085.7 | AY26: =AVERAGE(AW26:AX26) -> 658991.34 | AZ26: 968292.34 | BA26: 953982.6 | BB26: =AVERAGE(AZ26:BA26) -> 961137.47
B27: 2.8 | C27: CULATIN | D27: 571152.83 | E27: 565497.85 | F27: =AVERAGE(D27:E27) -> 568325.34 | G27: 571152.83 | H27: 565497.85 | I27: =AVERAGE(G27:H27) -> 568325.34 | J27: 817205.58 | K27: 809114.43 | L27: =AVERAGE(J27:K27) -> 813160 | M27: 571152.83 | N27: 565497.85 | O27: =AVERAGE(M27:N27) -> 568325.34 | P27: 660626.56 | Q27: 654085.7 | R27: =AVERAGE(P27:Q27) -> 657356.13 | S27: 571152.83 | T27: 565497.85 | U27: =AVERAGE(S27:T27) -> 568325.34 | V27: 660626.56 | W27: 654085.7 | X27: =AVERAGE(V27:W27) -> 657356.13 | Y27: 660626.56 | Z27: 654085.7 | AA27: =AVERAGE(Y27:Z27) -> 657356.13 | AB27: 571152.83 | AC27: 565497.85 | AD27: =AVERAGE(AB27:AC27) -> 568325.34 | AE27: 963522.43 | AF27: 953982.6 | AG27: =AVERAGE(AE27:AF27) -> 958752.51 | AH27: 571152.83 | AI27: 565497.85 | AJ27: =AVERAGE(AH27:AI27) -> 568325.34 | AK27: 660626.56 | AL27: 654085.7 | AM27: =AVERAGE(AK27:AL27) -> 657356.13 | AN27: 744731.86 | AO27: 737358.28 | AP27: =AVERAGE(AN27:AO27) -> 741045.07 | AQ27: 571152.83 | AR27: 565497.85 | AS27: =AVERAGE(AQ27:AR27) -> 568325.34 | AT27: 571152.83 | AU27: 565497.85 | AV27: =AVERAGE(AT27:AU27) -> 568325.34 | AW27: 660626.56 | AX27: 654085.7 | AY27: =AVERAGE(AW27:AX27) -> 657356.13 | AZ27: 963522.43 | BA27: 953982.6 | BB27: =AVERAGE(AZ27:BA27) -> 958752.51
B28: 2.9 | C28: EJE DE LEVAS | D28: 211800.23 | E28: 210746.49 | F28: =AVERAGE(D28:E28) -> 211273.36 | G28: 227616.68 | H28: 226484.26 | I28: =AVERAGE(G28:H28) -> 227050.47 | J28: 350493.18 | K28: 348749.43 | L28: =AVERAGE(J28:K28) -> 349621.31 | M28: 227616.68 | N28: 226484.26 | O28: =AVERAGE(M28:N28) -> 227050.47 | P28: 292429.09 | Q28: 290974.21 | R28: =AVERAGE(P28:Q28) -> 291701.65 | S28: 227616.68 | T28: 226484.26 | U28: =AVERAGE(S28:T28) -> 227050.47 | V28: 292429.09 | W28: 290974.21 | X28: =AVERAGE(V28:W28) -> 291701.65 | Y28: 292429.09 | Z28: 290974.21 | AA28: =AVERAGE(Y28:Z28) -> 291701.65 | AB28: 259249.6 | AC28: 257959.8 | AD28: =AVERAGE(AB28:AC28) -> 258604.7 | AE28: 404751.76 | AF28: 402738.07 | AG28: =AVERAGE(AE28:AF28) -> 403744.91 | AH28: 227616.68 | AI28: 226484.26 | AJ28: =AVERAGE(AH28:AI28) -> 227050.47 | AK28: 292429.09 | AL28: 290974.21 | AM28: =AVERAGE(AK28:AL28) -> 291701.65 | AN28: 323617.8 | AO28: 322007.76 | AP28: =AVERAGE(AN28:AO28) -> 322812.78 | AQ28: 227616.68 | AR28: 226484.26 | AS28: =AVERAGE(AQ28:AR28) -> 227050.47 | AT28: 227616.68 | AU28: 226484.26 | AV28: =AVERAGE(AT28:AU28) -> 227050.47 | AW28: 292429.09 | AX28: 290974.21 | AY28: =AVERAGE(AW28:AX28) -> 291701.65 | AZ28: 404751.76 | BA28: 402738.07 | BB28: =AVERAGE(AZ28:BA28) -> 403744.91
B29: 2.10 | C29: EMPAQUE DE CULATA | D29: 39335.158 | E29: 38945.701 | F29: =AVERAGE(D29:E29) -> 39140.429 | G29: 42272.562 | H29: 41854.022 | I29: =AVERAGE(G29:H29) -> 42063.292 | J29: 65092.964 | K29: 64448.479 | L29: =AVERAGE(J29:K29) -> 64770.722 | M29: 42272.562 | N29: 41854.022 | O29: =AVERAGE(M29:N29) -> 42063.292 | P29: 54309.405 | Q29: 53771.688 | R29: =AVERAGE(P29:Q29) -> 54040.546 | S29: 42272.562 | T29: 41854.022 | U29: =AVERAGE(S29:T29) -> 42063.292 | V29: 54309.405 | W29: 53771.688 | X29: =AVERAGE(V29:W29) -> 54040.546 | Y29: 54309.405 | Z29: 53771.688 | AA29: =AVERAGE(Y29:Z29) -> 54040.546 | AB29: 48147.371 | AC29: 47670.664 | AD29: =AVERAGE(AB29:AC29) -> 47909.018 | AE29: 75169.77 | AF29: 74425.515 | AG29: =AVERAGE(AE29:AF29) -> 74797.643 | AH29: 42272.562 | AI29: 41854.022 | AJ29: =AVERAGE(AH29:AI29) -> 42063.292 | AK29: 54309.405 | AL29: 53771.688 | AM29: =AVERAGE(AK29:AL29) -> 54040.546 | AN29: 60101.717 | AO29: 59506.65 | AP29: =AVERAGE(AN29:AO29) -> 59804.183 | AQ29: 42272.562 | AR29: 41854.022 | AS29: =AVERAGE(AQ29:AR29) -> 42063.292 | AT29: 42272.562 | AU29: 41854.022 | AV29: =AVERAGE(AT29:AU29) -> 42063.292 | AW29: 54309.405 | AX29: 53771.688 | AY29: =AVERAGE(AW29:AX29) -> 54040.546 | AZ29: 75169.77 | BA29: 74425.515 | BB29: =AVERAGE(AZ29:BA29) -> 74797.643
B30: 2.11 | C30: EMPAQUETADURA MOTOR | D30: 112525.76 | E30: 110862.82 | F30: =AVERAGE(D30:E30) -> 111694.29 | G30: 117429.8 | H30: 115694.39 | I30: =AVERAGE(G30:H30) -> 116562.09 | J30: 127237.88 | K30: 125357.52 | L30: =AVERAGE(J30:K30) -> 126297.7 | M30: 117429.8 | N30: 115694.39 | O30: =AVERAGE(M30:N30) -> 116562.09 | P30: 127237.88 | Q30: 125357.52 | R30: =AVERAGE(P30:Q30) -> 126297.7 | S30: 117429.8 | T30: 115694.39 | U30: =AVERAGE(S30:T30) -> 116562.09 | V30: 127237.88 | W30: 125357.52 | X30: =AVERAGE(V30:W30) -> 126297.7 | Y30: 127237.88 | Z30: 125357.52 | AA30: =AVERAGE(Y30:Z30) -> 126297.7 | AB30: 127237.88 | AC30: 125357.52 | AD30: =AVERAGE(AB30:AC30) -> 126297.7 | AE30: 127237.88 | AF30: 125357.52 | AG30: =AVERAGE(AE30:AF30) -> 126297.7 | AH30: 117429.8 | AI30: 115694.39 | AJ30: =AVERAGE(AH30:AI30) -> 116562.09 | AK30: 127237.88 | AL30: 125357.52 | AM30: =AVERAGE(AK30:AL30) -> 126297.7 | AN30: 127237.88 | AO30: 125357.52 | AP30: =AVERAGE(AN30:AO30) -> 126297.7 | AQ30: 117429.8 | AR30: 115694.39 | AS30: =AVERAGE(AQ30:AR30) -> 116562.09 | AT30: 117429.8 | AU30: 115694.39 | AV30: =AVERAGE(AT30:AU30) -> 116562.09 | AW30: 127237.88 | AX30: 125357.52 | AY30: =AVERAGE(AW30:AX30) -> 126297.7 | AZ30: 127237.88 | BA30: 125357.52 | BB30: =AVERAGE(AZ30:BA30) -> 126297.7
B31: 2.12 | C31: FILTRO DE ACEITE | D31: 46452.17 | E31: 45541.343 | F31: =AVERAGE(D31:E31) -> 45996.757 | G31: 49921.047 | H31: 48942.203 | I31: =AVERAGE(G31:H31) -> 49431.625 | J31: 56858.8 | K31: 55743.922 | L31: =AVERAGE(J31:K31) -> 56301.361 | M31: 49921.047 | N31: 48942.203 | O31: =AVERAGE(M31:N31) -> 49431.625 | P31: 56858.8 | Q31: 55743.922 | R31: =AVERAGE(P31:Q31) -> 56301.361 | S31: 49921.047 | T31: 48942.203 | U31: =AVERAGE(S31:T31) -> 49431.625 | V31: 56858.8 | W31: 55743.922 | X31: =AVERAGE(V31:W31) -> 56301.361 | Y31: 56858.8 | Z31: 55743.922 | AA31: =AVERAGE(Y31:Z31) -> 56301.361 | AB31: 56858.8 | AC31: 55743.922 | AD31: =AVERAGE(AB31:AC31) -> 56301.361 | AE31: 56858.8 | AF31: 55743.922 | AG31: =AVERAGE(AE31:AF31) -> 56301.361 | AH31: 49921.047 | AI31: 48942.203 | AJ31: =AVERAGE(AH31:AI31) -> 49431.625 | AK31: 56858.8 | AL31: 55743.922 | AM31: =AVERAGE(AK31:AL31) -> 56301.361 | AN31: 56858.8 | AO31: 55743.922 | AP31: =AVERAGE(AN31:AO31) -> 56301.361 | AQ31: 49921.047 | AR31: 48942.203 | AS31: =AVERAGE(AQ31:AR31) -> 49431.625 | AT31: 49921.047 | AU31: 48942.203 | AV31: =AVERAGE(AT31:AU31) -> 49431.625 | AW31: 56858.8 | AX31: 55743.922 | AY31: =AVERAGE(AW31:AX31) -> 56301.361 | AZ31: 56858.8 | BA31: 55743.922 | BB31: =AVERAGE(AZ31:BA31) -> 56301.361
... B37: 2.18 | C37: VALVULAS (JUEGO) | D37: 150338.9 | E37: 146672.1 | F37: =AVERAGE(D37:E37) -> 148505.5 | G37: 150338.9 | H37: 146672.1 | I37: =AVERAGE(G37:H37) -> 148505.5 | J37: 279783.99 | K37: 272959.99 | L37: =AVERAGE(J37:K37) -> 276371.99 | M37: 195097.45 | N37: 190338.98 | O37: =AVERAGE(M37:N37) -> 192718.22 | P37: 186766.12 | Q37: 182210.85 | R37: =AVERAGE(P37:Q37) -> 184488.48 | S37: 152937.44 | T37: 149207.26 | U37: =AVERAGE(S37:T37) -> 151072.35 | V37: 220875.13 | W37: 215487.93 | X37: =AVERAGE(V37:W37) -> 218181.53 | Y37: 220943.08 | Z37: 215554.22 | AA37: =AVERAGE(Y37:Z37) -> 218248.65 | AB37: 185970.17 | AC37: 181434.31 | AD37: =AVERAGE(AB37:AC37) -> 183702.24 | AE37: 307122.97 | AF37: 299632.17 | AG37: =AVERAGE(AE37:AF37) -> 303377.57 | AH37: 195419.25 | AI37: 190652.92 | AJ37: =AVERAGE(AH37:AI37) -> 193036.08 | AK37: 220943.08 | AL37: 215554.22 | AM37: =AVERAGE(AK37:AL37) -> 218248.65 | AN37: 277806.55 | AO37: 271030.78 | AP37: =AVERAGE(AN37:AO37) -> 274418.66 | AQ37: 216794.1 | AR37: 211506.44 | AS37: =AVERAGE(AQ37:AR37) -> 214150.27 | AT37: 218544.42 | AU37: 213214.07 | AV37: =AVERAGE(AT37:AU37) -> 215879.24 | AW37: 246195.04 | AX37: 240190.28 | AY37: =AVERAGE(AW37:AX37) -> 243192.66 | AZ37: 306420.03 | BA37: 298946.37 | BB37: =AVERAGE(AZ37:BA37) -> 302683.2
B38: 3 | C38: SISTEMA DE TRANSFERENCIA | D38: 0 | E38: 0 | F38: =AVERAGE(D38:E38) -> 0 | G38: 0 | H38: 0 | I38: =AVERAGE(G38:H38) -> 0 | J38: 0 | K38: 0 | L38: =AVERAGE(J38:K38) -> 0 | M38: 0 | N38: 0 | O38: =AVERAGE(M38:N38) -> 0 | P38: 0 | Q38: 0 | R38: =AVERAGE(P38:Q38) -> 0 | S38: 0 | T38: 0 | U38: =AVERAGE(S38:T38) -> 0 | V38: 0 | W38: 0 | X38: =AVERAGE(V38:W38) -> 0 | Y38: 0 | Z38: 0 | AA38: =AVERAGE(Y38:Z38) -> 0 | AB38: 0 | AC38: 0 | AD38: =AVERAGE(AB38:AC38) -> 0 | AE38: 0 | AF38: 0 | AG38: =AVERAGE(AE38:AF38) -> 0 | AH38: 0 | AI38: 0 | AJ38: =AVERAGE(AH38:AI38) -> 0 | AK38: 0 | AL38: 0 | AM38: =AVERAGE(AK38:AL38) -> 0 | AN38: 0 | AO38: 0 | AP38: =AVERAGE(AN38:AO38) -> 0 | AQ38: 0 | AR38: 0 | AS38: =AVERAGE(AQ38:AR38) -> 0 | AT38: 0 | AU38: 0 | AV38: =AVERAGE(AT38:AU38) -> 0 | AW38: 0 | AX38: 0 | AY38: =AVERAGE(AW38:AX38) -> 0 | AZ38: 0 | BA38: 0 | BB38: =AVERAGE(AZ38:BA38) -> 0
B39: 3.1 | C39: EMPAQUE TAPA EMBRAGUE | D39: 15301.891 | E39: 15075.755 | F39: =AVERAGE(D39:E39) -> 15188.823 | G39: 16444.58 | H39: 16201.557 | I39: =AVERAGE(G39:H39) -> 16323.069 | J39: 25322.015 | K39: 24947.798 | L39: =AVERAGE(J39:K39) -> 25134.907 | M39: 16444.58 | N39: 16201.557 | O39: =AVERAGE(M39:N39) -> 16323.069 | P39: 21127.07 | Q39: 20814.847 | R39: =AVERAGE(P39:Q39) -> 20970.958 | S39: 16444.58 | T39: 16201.557 | U39: =AVERAGE(S39:T39) -> 16323.069 | V39: 21127.07 | W39: 20814.847 | X39: =AVERAGE(V39:W39) -> 20970.958 | Y39: 21127.07 | Z39: 20814.847 | AA39: =AVERAGE(Y39:Z39) -> 20970.958 | AB39: 18729.958 | AC39: 18453.16 | AD39: =AVERAGE(AB39:AC39) -> 18591.559 | AE39: 29242.025 | AF39: 28809.877 | AG39: =AVERAGE(AE39:AF39) -> 29025.951 | AH39: 16444.58 | AI39: 16201.557 | AJ39: =AVERAGE(AH39:AI39) -> 16323.069 | AK39: 21127.07 | AL39: 20814.847 | AM39: =AVERAGE(AK39:AL39) -> 20970.958 | AN39: 23380.355 | AO39: 23034.832 | AP39: =AVERAGE(AN39:AO39) -> 23207.594 | AQ39: 16444.58 | AR39: 16201.557 | AS39: =AVERAGE(AQ39:AR39) -> 16323.069 | AT39: 16444.58 | AU39: 16201.557 | AV39: =AVERAGE(AT39:AU39) -> 16323.069 | AW39: 21127.07 | AX39: 20814.847 | AY39: =AVERAGE(AW39:AX39) -> 20970.958 | AZ39: 29242.025 | BA39: 28809.877 | BB39: =AVERAGE(AZ39:BA39) -> 29025.951
B40: 3.2 | C40: GUAYA EMBREAGUE | D40: 76132.563 | E40: 75378.775 | F40: =AVERAGE(D40:E40) -> 75755.669 | G40: 81817.862 | H40: 81007.784 | I40: =AVERAGE(G40:H40) -> 81412.823 | J40: 125986.38 | K40: 124738.99 | L40: =AVERAGE(J40:K40) -> 125362.69 | M40: 81817.862 | N40: 81007.784 | O40: =AVERAGE(M40:N40) -> 81412.823 | P40: 105114.98 | Q40: 104074.23 | R40: =AVERAGE(P40:Q40) -> 104594.61 | S40: 81817.862 | T40: 81007.784 | U40: =AVERAGE(S40:T40) -> 81412.823 | V40: 105114.98 | W40: 104074.23 | X40: =AVERAGE(V40:W40) -> 104594.61 | Y40: 105114.98 | Z40: 104074.23 | AA40: =AVERAGE(Y40:Z40) -> 104594.61 | AB40: 93188.46 | AC40: 92265.802 | AD40: =AVERAGE(AB40:AC40) -> 92727.131 | AE40: 145489.88 | AF40: 144049.38 | AG40: =AVERAGE(AE40:AF40) -> 144769.63 | AH40: 81817.862 | AI40: 81007.784 | AJ40: =AVERAGE(AH40:AI40) -> 81412.823 | AK40: 105114.98 | AL40: 104074.23 | AM40: =AVERAGE(AK40:AL40) -> 104594.61 | AN40: 116325.9 | AO40: 115174.16 | AP40: =AVERAGE(AN40:AO40) -> 115750.03 | AQ40: 81817.862 | AR40: 81007.784 | AS40: =AVERAGE(AQ40:AR40) -> 81412.823 | AT40: 81817.862 | AU40: 81007.784 | AV40: =AVERAGE(AT40:AU40) -> 81412.823 | AW40: 105114.98 | AX40: 104074.23 | AY40: =AVERAGE(AW40:AX40) -> 104594.61 | AZ40: 145489.88 | BA40: 144049.38 | BB40: =AVERAGE(AZ40:BA40) -> 144769.63
B41: 3.3 | C41: GUAYA VELOCIMETRO | D41: 65339.265 | E41: 65014.194 | F41: =AVERAGE(D41:E41) -> 65176.729 | G41: 70218.56 | H41: 69869.214 | I41: =AVERAGE(G41:H41) -> 70043.887 | J41: 108125.32 | K41: 107587.38 | L41: =AVERAGE(J41:K41) -> 107856.35 | M41: 70218.56 | N41: 69869.214 | O41: =AVERAGE(M41:N41) -> 70043.887 | P41: 90212.848 | Q41: 89764.027 | R41: =AVERAGE(P41:Q41) -> 89988.437 | S41: 70218.56 | T41: 69869.214 | U41: =AVERAGE(S41:T41) -> 70043.887 | V41: 90212.848 | W41: 89764.027 | X41: =AVERAGE(V41:W41) -> 89988.437 | Y41: 90212.848 | Z41: 89764.027 | AA41: =AVERAGE(Y41:Z41) -> 89988.437 | AB41: 79977.15 | AC41: 79579.254 | AD41: =AVERAGE(AB41:AC41) -> 79778.202 | AE41: 124863.81 | AF41: 124242.59 | AG41: =AVERAGE(AE41:AF41) -> 124553.2 | AH41: 70218.56 | AI41: 69869.214 | AJ41: =AVERAGE(AH41:AI41) -> 70043.887 | AK41: 90212.848 | AL41: 89764.027 | AM41: =AVERAGE(AK41:AL41) -> 89988.437 | AN41: 99834.403 | AO41: 99337.714 | AP41: =AVERAGE(AN41:AO41) -> 99586.059 | AQ41: 70218.56 | AR41: 69869.214 | AS41: =AVERAGE(AQ41:AR41) -> 70043.887 | AT41: 70218.56 | AU41: 69869.214 | AV41: =AVERAGE(AT41:AU41) -> 70043.887 | AW41: 90212.848 | AX41: 89764.027 | AY41: =AVERAGE(AW41:AX41) -> 89988.437 | AZ41: 124863.81 | BA41: 124242.59 | BB41: =AVERAGE(AZ41:BA41) -> 124553.2
B42: 3.4 | C42: JUEGO CAUCHOS DE CAMPANA | D42: 90612.652 | E42: 89715.497 | F42: =AVERAGE(D42:E42) -> 90164.074 | G42: 90612.652 | H42: 89715.497 | I42: =AVERAGE(G42:H42) -> 90164.074 | J42: 150415.35 | K42: 148926.08 | L42: =AVERAGE(J42:K42) -> 149670.72 | M42: 93621.846 | N42: 92694.897 | O42: =AVERAGE(M42:N42) -> 93158.371 | P42: 112819.25 | Q42: 111702.22 | R42: =AVERAGE(P42:Q42) -> 112260.73 | S42: 91830.952 | T42: 90921.735 | U42: =AVERAGE(S42:T42) -> 91376.343 | V42: 147451.14 | W42: 145991.23 | X42: =AVERAGE(V42:W42) -> 146721.19 | Y42: 112818.48 | Z42: 111701.46 | AA42: =AVERAGE(Y42:Z42) -> 112259.97 | AB42: 102156.11 | AC42: 101144.66 | AD42: =AVERAGE(AB42:AC42) -> 101650.38 | AE42: 180861.06 | AF42: 179070.36 | AG42: =AVERAGE(AE42:AF42) -> 179965.71 | AH42: 119072.24 | AI42: 117893.31 | AJ42: =AVERAGE(AH42:AI42) -> 118482.77 | AK42: 116667.32 | AL42: 115512.2 | AM42: =AVERAGE(AK42:AL42) -> 116089.76 | AN42: 144189.44 | AO42: 142761.82 | AP42: =AVERAGE(AN42:AO42) -> 143475.63 | AQ42: 103472.15 | AR42: 102447.67 | AS42: =AVERAGE(AQ42:AR42) -> 102959.91 | AT42: 100292.1 | AU42: 99299.107 | AV42: =AVERAGE(AT42:AU42) -> 99795.602 | AW42: 114457.76 | AX42: 113324.51 | AY42: =AVERAGE(AW42:AX42) -> 113891.13 | AZ42: 178839.28 | BA42: 177068.6 | BB42: =AVERAGE(AZ42:BA42) -> 177953.94
B43: 3.5 | C43: KIT DE ARRASTRE | D43: 167364.44 | E43: 164891.07 | F43: =AVERAGE(D43:E43) -> 166127.75 | G43: 179862.6 | H43: 177204.53 | I43: =AVERAGE(G43:H43) -> 178533.56 | J43: 276959.54 | K43: 272866.55 | L43: =AVERAGE(J43:K43) -> 274913.04 | M43: 179862.6 | N43: 177204.53 | O43: =AVERAGE(M43:N43) -> 178533.56 | P43: 231077.32 | Q43: 227662.39 | R43: =AVERAGE(P43:Q43) -> 229369.86 | S43: 179862.6 | T43: 177204.53 | U43: =AVERAGE(S43:T43) -> 178533.56 | V43: 231077.32 | W43: 227662.39 | X43: =AVERAGE(V43:W43) -> 229369.86 | Y43: 231077.32 | Z43: 227662.39 | AA43: =AVERAGE(Y43:Z43) -> 229369.86 | AB43: 204858.91 | AC43: 201831.44 | AD43: =AVERAGE(AB43:AC43) -> 203345.18 | AE43: 319834.65 | AF43: 315108.03 | AG43: =AVERAGE(AE43:AF43) -> 317471.34 | AH43: 179862.6 | AI43: 177204.53 | AJ43: =AVERAGE(AH43:AI43) -> 178533.56 | AK43: 231077.32 | AL43: 227662.39 | AM43: =AVERAGE(AK43:AL43) -> 229369.86 | AN43: 255722.63 | AO43: 251943.48 | AP43: =AVERAGE(AN43:AO43) -> 253833.05 | AQ43: 179862.6 | AR43: 177204.53 | AS43: =AVERAGE(AQ43:AR43) -> 178533.56 | AT43: 179862.6 | AU43: 177204.53 | AV43: =AVERAGE(AT43:AU43) -> 178533.56 | AW43: 231077.32 | AX43: 227662.39 | AY43: =AVERAGE(AW43:AX43) -> 229369.86 | AZ43: 319834.65 | BA43: 315108.03 | BB43: =AVERAGE(AZ43:BA43) -> 317471.34
B44: 3.6 | C44: KIT DE EMBRAGUE | D44: 95307.039 | E44: 93438.274 | F44: =AVERAGE(D44:E44) -> 94372.656 | G44: 102424.22 | H44: 100415.9 | I44: =AVERAGE(G44:H44) -> 101420.06 | J44: 157716.86 | K44: 154624.38 | L44: =AVERAGE(J44:K44) -> 156170.62 | M44: 102424.22 | N44: 100415.9 | O44: =AVERAGE(M44:N44) -> 101420.06 | P44: 131588.86 | Q44: 129008.69 | R44: =AVERAGE(P44:Q44) -> 130298.77 | S44: 102424.22 | T44: 100415.9 | U44: =AVERAGE(S44:T44) -> 101420.06 | V44: 131588.86 | W44: 129008.69 | X44: =AVERAGE(V44:W44) -> 130298.77 | Y44: 131588.86 | Z44: 129008.69 | AA44: =AVERAGE(Y44:Z44) -> 130298.77 | AB44: 116658.57 | AC44: 114371.15 | AD44: =AVERAGE(AB44:AC44) -> 115514.86 | AE44: 182132.44 | AF44: 178561.22 | AG44: =AVERAGE(AE44:AF44) -> 180346.83 | AH44: 102424.22 | AI44: 100415.9 | AJ44: =AVERAGE(AH44:AI44) -> 101420.06 | AK44: 131588.86 | AL44: 129008.69 | AM44: =AVERAGE(AK44:AL44) -> 130298.77 | AN44: 145623.33 | AO44: 142767.97 | AP44: =AVERAGE(AN44:AO44) -> 144195.65 | AQ44: 102424.22 | AR44: 100415.9 | AS44: =AVERAGE(AQ44:AR44) -> 101420.06 | AT44: 102424.22 | AU44: 100415.9 | AV44: =AVERAGE(AT44:AU44) -> 101420.06 | AW44: 131588.86 | AX44: 129008.69 | AY44: =AVERAGE(AW44:AX44) -> 130298.77 | AZ44: 182132.44 | BA44: 178561.22 | BB44: =AVERAGE(AZ44:BA44) -> 180346.83
B45: 3.7 | C45: MANIJA DE EMBRAGUE | D45: 33319.774 | E45: 32507.097 | F45: =AVERAGE(D45:E45) -> 32913.436 | G45: 35807.972 | H45: 34934.607 | I45: =AVERAGE(G45:H45) -> 35371.29 | J45: 55138.533 | K45: 53793.69 | L45: =AVERAGE(J45:K45) -> 54466.111 | M45: 35807.972 | N45: 34934.607 | O45: =AVERAGE(M45:N45) -> 35371.29 | P45: 46004.064 | Q45: 44882.014 | R45: =AVERAGE(P45:Q45) -> 45443.039 | S45: 35807.972 | T45: 34934.607 | U45: =AVERAGE(S45:T45) -> 35371.29 | V45: 46004.064 | W45: 44882.014 | X45: =AVERAGE(V45:W45) -> 45443.039 | Y45: 46004.064 | Z45: 44882.014 | AA45: =AVERAGE(Y45:Z45) -> 45443.039 | AB45: 40784.368 | AC45: 39789.627 | AD45: =AVERAGE(AB45:AC45) -> 40286.997 | AE45: 63674.329 | AF45: 62121.297 | AG45: =AVERAGE(AE45:AF45) -> 62897.813 | AH45: 35807.972 | AI45: 34934.607 | AJ45: =AVERAGE(AH45:AI45) -> 35371.29 | AK45: 46004.064 | AL45: 44882.014 | AM45: =AVERAGE(AK45:AL45) -> 45443.039 | AN45: 50910.579 | AO45: 49668.857 | AP45: =AVERAGE(AN45:AO45) -> 50289.718 | AQ45: 35807.972 | AR45: 34934.607 | AS45: =AVERAGE(AQ45:AR45) -> 35371.29 | AT45: 35807.972 | AU45: 34934.607 | AV45: =AVERAGE(AT45:AU45) -> 35371.29 | AW45: 46004.064 | AX45: 44882.014 | AY45: =AVERAGE(AW45:AX45) -> 45443.039 | AZ45: 63674.329 | BA45: 62121.297 | BB45: =AVERAGE(AZ45:BA45) -> 62897.813
B46: 3.8 | C46: PIÑON VELOCIMETRO | D46: 34685.872 | E46: 33675.603 | F46: =AVERAGE(D46:E46) -> 34180.737 | G46: 61030.307 | H46: 59252.725 | I46: =AVERAGE(G46:H46) -> 60141.516 | J46: 91404.971 | K46: 88742.69 | L46: =AVERAGE(J46:K46) -> 90073.831 | M46: 89906.683 | N46: 87288.042 | O46: =AVERAGE(M46:N46) -> 88597.362 | P46: 66080.062 | Q46: 64155.4 | R46: =AVERAGE(P46:Q46) -> 65117.731 | S46: 63724.713 | T46: 61868.653 | U46: =AVERAGE(S46:T46) -> 62796.683 | V46: 66622.397 | W46: 64681.939 | X46: =AVERAGE(V46:W46) -> 65652.168 | Y46: 77609.579 | Z46: 75349.105 | AA46: =AVERAGE(Y46:Z46) -> 76479.342 | AB46: 79707.495 | AC46: 77385.918 | AD46: =AVERAGE(AB46:AC46) -> 78546.707 | AE46: 47862.798 | AF46: 46468.736 | AG46: =AVERAGE(AE46:AF46) -> 47165.767 | AH46: 73929.395 | AI46: 71776.111 | AJ46: =AVERAGE(AH46:AI46) -> 72852.753 | AK46: 95403.806 | AL46: 92625.054 | AM46: =AVERAGE(AK46:AL46) -> 94014.43 | AN46: 91547.03 | AO46: 88880.611 | AP46: =AVERAGE(AN46:AO46) -> 90213.82 | AQ46: 110319.97 | AR46: 107106.77 | AS46: =AVERAGE(AQ46:AR46) -> 108713.37 | AT46: 102397.65 | AU46: 99415.191 | AV46: =AVERAGE(AT46:AU46) -> 100906.42 | AW46: 124450.5 | AX46: 120825.72 | AY46: =AVERAGE(AW46:AX46) -> 122638.11 | AZ46: 89602.159 | BA46: 86992.388 | BB46: =AVERAGE(AZ46:BA46) -> 88297.274
...

Sheet REPUESTOS COMUNES
B2: PRECIO TECHO | D2: REPUESTOS COMUNES MOTOCICLETAS MULTIMARCA
D4: MANTENIMIENTO MOTOS
D5: *** Incluye Costos Directos e Indirectos
B7: ITEM | C7: DESCRIPCION | D7: PRESENTACION | E7: COTIZACION 1 | F7: COTIZACION 2 | G7: VALOR TECHO
B8: 1 | C8: ACEITE MINERAL | D8: CUARTO | E8: 46974.282 | F8: 45385.78 | G8: =AVERAGE(E8:F8) -> 46180.031
B9: 2 | C9: ACEITE HIDRAULICO | D9: CUARTO | E9: 46384.784 | F9: 45033.771 | G9: =AVERAGE(E9:F9) -> 45709.278
B10: 3 | C10: ACEITE SINTETICO | D10: UNIDAD | E10: 62185.992 | F10: 60669.261 | G10: =AVERAGE(E10:F10) -> 61427.627
B11: 4 | C11: ABRAZADERA METALICA GRANDE | D11: CUARTO | E11: 4747.3503 | F11: 4654.265 | G11: =AVERAGE(E11:F11) -> 4700.8076
B12: 5 | C12: ABRAZADERA METALICA MEDIANA | D12: CUARTO | E12: 3930.1672 | F12: 3872.0859 | G12: =AVERAGE(E12:F12) -> 3901.1266
B13: 6 | C13: ABRAZADERA METALICA PEQUEÑA | D13: UNIDAD | E13: 2534.7822 | F13: 2509.6853 | G13: =AVERAGE(E13:F13) -> 2522.2337
B14: 7 | C14: ABRAZADERA PLASTICA | D14: UNIDAD | E14: 1225.085 | F14: 1218.99 | G14: =AVERAGE(E14:F14) -> 1222.0375
B15: 8 | C15: BOMBILLO DIRECCIONAL | D15: JUEGO | E15: 21871.549 | F15: 21654.999 | G15: =AVERAGE(E15:F15) -> 21763.274
B16: 9 | C16: BOMBILLO FAROLA | D16: UNIDAD | E16: 21979.824 | F16: 21654.999 | G16: =AVERAGE(E16:F16) -> 21817.412
B17: 10 | C17: BOMBILLO MUELA | D17: UNIDAD | E17: 5083.1157 | F17: 4983.4468 | G17: =AVERAGE(E17:F17) -> 5033.2812
B18: 11 | C18: BOMBILLO STOP | D18: UNIDAD | E18: 5512.3445 | F18: 5377.8971 | G18: =AVERAGE(E18:F18) -> 5445.1208
B19: 12 | C19: FLASHER | D19: UNIDAD | E19: 86855.19 | F19: 84325.427 | G19: =AVERAGE(E19:F19) -> 85590.308
... B28: 21 | C28: SOKET RELAY | D28: UNIDAD | E28: 16367.451 | F28: 16205.397 | G28: =AVERAGE(E28:F28) -> 16286.424
D29: TOTALES | E29: =SUM(E8:E28) -> 534717.42 | F29: =SUM(F8:F28) -> 522903.81 | G29: =SUM(G8:G28) -> 528810.61
B32: Nota: La cotizacion de los repuestos descritos previamente debe realizarse por unidad.

Sheet MANO DE OBRA
B2: PRECIO TECHO | D2: MANO DE OBRA
D3: MANTENIMIENTO MOTOCICLETAS
D5: *** Incluye Costos Directos e Indirectos
B7: ITEM | D7: CILINDRAJE HASTA 249cc | G7: CILINDRAJE IGUAL O SUPERIOR A 250cc
B8: DESCRIPCION | D8: COTIZACION 1 | E8: COTIZACION 2 | F8: VALOR TECHO | G8: COTIZACION 1 | H8: COTIZACION 2 | I8: VALOR TECHO
B9: 1 | C9: SINCRONIZACION | D9: 0 | E9: =D9*19% -> 0 | F9: 0 | G9: 0 | H9: 0 | I9: 0
B10: 1.1 | C10: CALIBRAR VALVULAS | D10: 33171.633 | E10: 32049.887 | F10: =AVERAGE(D10:E10) -> 32610.76 | G10: 53874.476 | H10: 52052.633 | I10: =AVERAGE(G10:H10) -> 52963.555
B11: 1.2 | C11: CAMBIO BOBINA IGNICION | D11: 44015.178 | E11: 42733.182 | F11: =AVERAGE(D11:E11) -> 43374.18 | G11: 71485.617 | H11: 69403.511 | I11: =AVERAGE(G11:H11) -> 70444.564
B12: 1.3 | C12: CAMBIO BUJIA | D12: 11586.206 | E12: 11303.616 | F12: =AVERAGE(D12:E12) -> 11444.911 | G12: 18817.307 | H12: 18358.348 | I12: =AVERAGE(G12:H12) -> 18587.828
B13: 1.4 | C13: CAMBIO CDI | D13: 32479.975 | E13: 31843.113 | F13: =AVERAGE(D13:E13) -> 32161.544 | G13: 52751.146 | H13: 51716.81 | I13: =AVERAGE(G13:H13) -> 52233.978
B14: 1.5 | C14: CAMBIO FILTRO AIRE | D14: 21687.09 | E14: 21366.591 | F14: =AVERAGE(D14:E14) -> 21526.84 | G14: 35222.282 | H14: 34701.756 | I14: =AVERAGE(G14:H14) -> 34962.019
B15: 1.6 | C15: CAMBIO GUAYA ACELERADOR | D15: 53602.574 | E15: 53071.855 | F15: =AVERAGE(D15:E15) -> 53337.214 | G15: 87056.63 | H15: 86194.683 | I15: =AVERAGE(G15:H15) -> 86625.657
B16: 1.7 | C16: CAMBIO GUAYA CHOQUE | D16: 38721.432 | E16: 38528.788 | F16: =AVERAGE(D16:E16) -> 38625.11 | G16: 62887.977 | H16: 62575.101 | I16: =AVERAGE(G16:H16) -> 62731.539
B17: 1.8 | C17: CAMBIO LLAVE DE COMBUSTIBLE | D17: 75670.127 | E17: 74920.918 | F17: =AVERAGE(D17:E17) -> 75295.522 | G17: 122896.83 | H17: 121680.03 | I17: =AVERAGE(G17:H17) -> 122288.43
B18: 1.9 | C18: LIMPIEZA CARBURADOR | D18: 130402.37 | E18: 128475.24 | F18: =AVERAGE(D18:E18) -> 129438.81 | G18: 211788.17 | H18: 208658.3 | I18: =AVERAGE(G18:H18) -> 210223.24
B19: 1.10 | C19: SINCRONIZAR MOTOR | D19: 141941.71 | E19: 139158.54 | F19: =AVERAGE(D19:E19) -> 140550.13 | G19: 230529.36 | H19: 226009.18 | I19: =AVERAGE(G19:H19) -> 228269.27
B20: 2 | C20: MOTOR | D20: 0 | E20: 0 | G20: 0 | H20: 0
B21: 2.1 | C21: ANILLAR MOTOR | D21: 397059.5 | E21: 385494.66 | F21: =AVERAGE(D21:E21) -> 391277.08 | G21: 644869.44 | H21: 626086.84 | I21: =AVERAGE(G21:H21) -> 635478.14
B22: 2.2 | C22: ASENTAR BANCADA | D22: 144183.97 | E22: 139308.18 | F22: =AVERAGE(D22:E22) -> 141746.08 | G22: 266245.89 | H22: 257242.41 | I22: =AVERAGE(G22:H22) -> 261744.15
B23: 2.3 | C23: ASENTAR VALVULAS | D23: 127082.58 | E23: 122785.1 | F23: =AVERAGE(D23:E23) -> 124933.84 | G23: 239892.68 | H23: 231780.37 | I23: =AVERAGE(G23:H23) -> 235836.53
B24: 2.4 | C24: CALIBRAR VALVULAS | D24: 65765.335 | E24: 63849.84 | F24: =AVERAGE(D24:E24) -> 64807.588 | G24: 75972.372 | H24: 73759.584 | I24: =AVERAGE(G24:H24) -> 74865.978
B25: 2.5 | C25: CAMBIO BALANCINES | D25: 263444.9 | E25: 257019.41 | F25: =AVERAGE(D25:E25) -> 260232.16 | G25: 427864.25 | H25: 417428.54 | I25: =AVERAGE(G25:H25) -> 422646.39
B26: 2.6 | C26: CAMBIO BOMBA DE ACEITE | D26: 65522.375 | E26: 64237.622 | F26: =AVERAGE(D26:E26) -> 64879.998 | G26: 106415.73 | H26: 104329.15 | I26: =AVERAGE(G26:H26) -> 105372.44
B27: 2.7 | C27: CAMBIO EMPAQUE CULATA | D27: 217360.61 | E27: 214148.38 | F27: =AVERAGE(D27:E27) -> 215754.49 | G27: 353018.16 | H27: 347801.14 | I27: =AVERAGE(G27:H27) -> 350409.65
B28: 2.8 | C28: CAMBIO EMPAQUE MULTIPLE | D28: 64879.998 | E28: 64237.622 | F28: =AVERAGE(D28:E28) -> 64558.81 | G28: 105372.44 | H28: 104329.15 | I28: =AVERAGE(G28:H28) -> 104850.8
B29: 2.9 | C29: CAMBIO OBTURADORES | D29: 64558.81 | E29: 64237.622 | F29: =AVERAGE(D29:E29) -> 64398.216 | G29: 104850.8 | H29: 104329.15 | I29: =AVERAGE(G29:H29) -> 104589.97
B30: 2.10 | C30: CAMBIO RETENCIGUEÑAL | D30: 129760 | E30: 128475.24 | F30: =AVERAGE(D30:E30) -> 129117.62 | G30: 210744.88 | H30: 208658.3 | I30: =AVERAGE(G30:H30) -> 209701.59
B31: 2.11 | C31: CAMBIO RODAMIENTOS MOTOR | D31: 456548.22 | E31: 449801.2 | F31: =AVERAGE(D31:E31) -> 453174.71 | G31: 741485.85 | H31: 730527.93 | I31: =AVERAGE(G31:H31) -> 736006.89
B32: 2.12 | C32: CEPILLAR CULATA | D32: 152908.97 | E32: 149910.76 | F32: =AVERAGE(D32:E32) -> 151409.87 | G32: 248341.44 | H32: 243472 | I32: =AVERAGE(G32:H32) -> 245906.72
... B38: 2.18 | C38: RECTIFICAR GUIAS VALVULAS | D38: 89208.977 | E38: 87033.148 | F38: =AVERAGE(D38:E38) -> 88121.063 | G38: 157810.87 | H38: 153961.82 | I38: =AVERAGE(G38:H38) -> 155886.35
B39: 3 | C39: SISTEMA DE TRANSFERENCIA | D39: 0 | E39: 0 | G39: 0 | H39: 0
B40: 3.1 | C40: CAMBIO KIT DE ARRASTRE | D40: 94289.656 | E40: 92896.213 | F40: =AVERAGE(D40:E40) -> 93592.934 | G40: 105894.09 | H40: 104329.15 | I40: =AVERAGE(G40:H40) -> 105111.62
B41: 3.2 | C41: CAMBIO EMPAQUE TAPA EMBRAGUE | D41: 82965.433 | E41: 82143.993 | F41: =AVERAGE(D41:E41) -> 82554.713 | G41: 87734.994 | H41: 86866.33 | I41: =AVERAGE(G41:H41) -> 87300.662
B42: 3.3 | C42: CAMBIO GUAYA EMBRAGUE | D42: 32210.136 | E42: 32049.887 | F42: =AVERAGE(D42:E42) -> 32130.011 | G42: 52312.897 | H42: 52052.633 | I42: =AVERAGE(G42:H42) -> 52182.765
B43: 3.4 | C43: CAMBIO GUAYA VELOCIMETRO | D43: 32370.385 | E43: 32049.887 | F43: =AVERAGE(D43:E43) -> 32210.136 | G43: 52573.16 | H43: 52052.633 | I43: =AVERAGE(G43:H43) -> 52312.897
B44: 3.5 | C44: CAMBIO KIT DISCOS EMBRAGUE | D44: 112276.06 | E44: 110616.8 | F44: =AVERAGE(D44:E44) -> 111446.43 | G44: 158727.51 | H44: 156381.78 | I44: =AVERAGE(G44:H44) -> 157554.65
B45: 3.6 | C45: CAMBIO MANIJA EMBRAGUE | D45: 21793.923 | E45: 21366.591 | F45: =AVERAGE(D45:E45) -> 21580.257 | G45: 35395.791 | H45: 34701.756 | I45: =AVERAGE(G45:H45) -> 35048.773
B46: 3.7 | C46: CAMBIO PERA NEUTRO | D46: 26280.907 | E46: 25639.909 | F46: =AVERAGE(D46:E46) -> 25960.408 | G46: 42683.159 | H46: 41642.107 | I46: =AVERAGE(G46:H46) -> 42162.633
B47: 3.8 | C47: CAMBIO PIÑON VELOCIMETRO | D47: 42291.114 | E47: 41059.334 | F47: =AVERAGE(D47:E47) -> 41675.224 | G47: 66152.269 | H47: 64225.504 | I47: =AVERAGE(G47:H47) -> 65188.886
B48: 3.9 | C48: CAMBIO RETEN SELECTOR DE CAMBIO DE CAMBIOS | D48: 26537.306 | E48: 25639.909 | F48: =AVERAGE(D48:E48) -> 26088.608 | G48: 43099.581 | H48: 41642.107 | I48: =AVERAGE(G48:H48) -> 42370.844
...

Sheet TOTAL PRECIO TECHO
B2: TOTAL PRECIO TECHO - PORTAFOLIO DE SERVICIOS Y REPUESTOS
B3: MANTENIMIENTO PARQUE AUTOMOTOR
B4: Lote No. 3
C6: REPUESTOS
B7: ITEM | C7: DESCRIPCIÓN | D7: SUBTOTAL | E7: IVA | F7: PRECIO TECHO
B8: 1 | C8: AKT AKT180 | D8: =F8/1.19 -> 11194767 | E8: =F8-D8 -> 2127005.7 | F8: =REPUESTOS!F108 -> 13321773
B9: 2 | C9: AUTECO BAJAJ P´LATINO | D9: =F9/1.19 -> 12183566 | E9: =F9-D9 -> 2314877.5 | F9: =REPUESTOS!I108 -> 14498443
B10: 3 | C10: BAJAJ PULSAR 200 | D10: =F10/1.19 -> 17080539 | E10: =F10-D10 -> 3245302.4 | F10: =REPUESTOS!L108 -> 20325841
B11: 4 | C11: HONDA CB 110 | D11: =F11/1.19 -> 11829498 | E11: =F11-D11 -> 2247604.6 | F11: =REPUESTOS!O108 -> 14077103
B12: 5 | C12: HONDA CB 150 | D12: =F12/1.19 -> 14148604 | E12: =F12-D12 -> 2688234.7 | F12: =REPUESTOS!R108 -> 16836839
B13: 6 | C13: HONDA ECODELUX | D13: =F13/1.19 -> 11819001 | E13: =F13-D13 -> 2245610.2 | F13: =REPUESTOS!U108 -> 14064611
B14: 7 | C14: HONDA ELITE | D14: =F14/1.19 -> 14437942 | E14: =F14-D14 -> 2743208.9 | F14: =REPUESTOS!X108 -> 17181151
B15: 8 | C15: HONDA XR125 | D15: =F15/1.19 -> 14490724 | E15: =F15-D15 -> 2753237.5 | F15: =REPUESTOS!AA108 -> 17243961
B16: 9 | C16: KEEWAY RKS150 | D16: =F16/1.19 -> 13048615 | E16: =F16-D16 -> 2479236.9 | F16: =REPUESTOS!AD108 -> 15527852
B17: 10 | C17: SUZUKI DR200 | D17: =F17/1.19 -> 19462334 | E17: =F17-D17 -> 3697843.5 | F17: =REPUESTOS!AG108 -> 23160178
B18: 11 | C18: SUZUKI GS-125 | D18: =F18/1.19 -> 12023358 | E18: =F18-D18 -> 2284437.9 | F18: =REPUESTOS!AJ108 -> 14307796
B19: 12 | C19: YAMAHA FZ15N | D19: =F19/1.19 -> 14244763 | E19: =F19-D19 -> 2706504.9 | F19: =REPUESTOS!AM108 -> 16951268
B20: 13 | C20: YAMAHA SZ16R | D20: =F20/1.19 -> 15835409 | E20: =F20-D20 -> 3008727.6 | F20: =REPUESTOS!AP108 -> 18844136
B21: 14 | C21: YAMAHA T115 | D21: =F21/1.19 -> 12099811 | E21: =F21-D21 -> 2298964.1 | F21: =REPUESTOS!AS108 -> 14398775
B22: 15 | C22: YAMAHA XTZ 125 | D22: =F22/1.19 -> 12418211 | E22: =F22-D22 -> 2359460.1 | F22: =REPUESTOS!AV108 -> 14777671
B23: 16 | C23: YAMAHA XTZ 225D | D23: =F23/1.19 -> 14191049 | E23: =F23-D23 -> 2696299.3 | F23: =REPUESTOS!AY108 -> 16887348 | G23: a
B24: 17 | C24: YAMAHA XTZ 250 | D24: =F24/1.19 -> 18745608 | E24: =F24-D24 -> 3561665.5 | F24: =REPUESTOS!BB108 -> 22307273
B25: TOTAL PORTAFOLIO PROMEDIO - REPUESTOS | D25: =SUM(D8:D24) -> 2.392538e+08 | E25: =SUM(E8:E24) -> 45458221 | F25: =SUM(F8:F24) -> 2.8471202e+08
C27: REPUESTOS COMUNES
B28: ITEM | C28: DESCRIPCIÓN | D28: SUBTOTAL | E28: IVA | F28: PRECIO TECHO
B29: 1 | C29: REPUESTOS COMUNES | D29: =F29/1.19 -> 444378.67 | E29: =F29-D29 -> 84431.947 | F29: ='REPUESTOS COMUNES'!G29 -> 528810.61 | G29: a
B30: TOTAL PORTAFOLIO PROMEDIO - REPUESTOS COMUNES | D30: =D29 -> 444378.67 | E30: =E29 -> 84431.947 | F30: =F29 -> 528810.61
C32: MANO DE OBRA
B33: ITEM | C33: DESCRIPCIÓN | D33: SUBTOTAL | E33: IVA | F33: PRECIO TECHO
B34: 1 | C34: CILINDRAJE HASTA 249 CC | D34: =F34/1.19 -> 9654845 | E34: =F34-D34 -> 1834420.6 | F34: ='MANO DE OBRA'!F121 -> 11489266
B35: 2 | C35: CILINDRAJE IGUAL O SUPERIOR A 250 CC | D35: =F35/1.19 -> 15272945 | E35: =F35-D35 -> 2901859.5 | F35: ='MANO DE OBRA'!I121 -> 18174804
B36: TOTAL PORTAFOLIO PROMEDIO - MANO DE OBRA | D36: =SUM(D34:D35) -> 24927790 | E36: =SUM(E34:E35) -> 4736280 | F36: =SUM(F34:F35) -> 29664070
C38: TOTAL PRECIO TECHO PORTAFOLIO MANTENIMIENTO MOTOS MULTIMARCA | F38: =F25+F30+F36 -> 3.149049e+08
