Workbook

Sheet DATOS DEL PROPONENTE
D3: DD | E3: MM | F3: AA
B4: Santiago de Cali,
B9: Señores:
B10: SUBDIRECCIÓN REGIONAL DE APOYO DEL PACIFICO
B11: FISCALÍA GENERAL DE LA NACIÓN
B12: Cra. 10 # 12 - 10, Edificio Nueva Sede, Codigo. Postal 760044
B13: Cali - Valle del Cauca
B17: ASUNTO: ANEXO - OFERTA ECONÓMICA
B23: Respetados doctores,
B27: De manera antenta y cordial me permito entregar la propuesta economica de acuerdo al ANEXO - OFERTA ECONÓMICA para el LOTE No. 1 - CALI y VALLE DEL CAUCA cuyo objeto es: "Prestar el servicio de mantenimiento preventivo y correctivo integral a todo costo (incluidos repuestos, mano de obra y accesorios originales u homologados) de las motocicletas que se encuentran al servicio de la Fiscalía General de la Nación en las Seccionales Cali, Cauca, Nariño y Valle del Cauca."
B33: Cordialmente
B40: Firma

Sheet REPUESTOS
B2: OFERTA ECONÓMICA LOTE No. 1 - CALI Y VALLE DEL CAUCA | D2: RESPUESTOS MOTOCICLETAS MULTIMARCAS | S2: RESPUESTOS MOTOCICLETAS MULTIMARCAS | AH2: RESPUESTOS MOTOCICLETAS MULTIMARCAS | AW2: RESPUESTOS MOTOCICLETAS MULTIMARCAS | BL2: RESPUESTOS MOTOCICLETAS MULTIMARCAS | CA2: RESPUESTOS MOTOCICLETAS MULTIMARCAS | CP2: RESPUESTOS MOTOCICLETAS MULTIMARCAS
D3: MANTENIMIENTO MOTOCICLETAS | S3: MANTENIMIENTO MOTOCICLETAS | AH3: MANTENIMIENTO MOTOCICLETAS | AW3: MANTENIMIENTO MOTOCICLETAS | BL3: MANTENIMIENTO MOTOCICLETAS | CA3: MANTENIMIENTO MOTOCICLETAS | CP3: MANTENIMIENTO MOTOCICLETAS
D4: *** Incluye Costos Directos e Indirectos | S4: *** Incluye Costos Directos e Indirectos | AH4: *** Incluye Costos Directos e Indirectos | AW4: *** Incluye Costos Directos e Indirectos | BL4: *** Incluye Costos Directos e Indirectos | CA4: *** Incluye Costos Directos e Indirectos | CP4: *** Incluye Costos Directos e Indirectos
B6: DESCRIPCION | D6: AKT 125 NKD | G6: AKT AK125 BR - TTR | J6: BAJAJ DISCOVER 125 | M6: BAJAJ PULSAR NS 200 | P6: HONDA BIZ C100 | S6: HONDA CB 250 TWISTER | V6: HONDA CB 110 | Y6: HONDA CB 125 | AB6: HONDA ECO DELUXE | AE6: HONDA ELITE | AH6: HONDA INVICTA | AK6: HONDA NXR125 | AN6: HONDA XR 150 | AQ6: HONDA XR 250 TORNADO | AT6: HONDA XR 190 | AW6: KYMCO AGILITY FUSION | AZ6: SUZUKI AX4 | BC6: SUZUKI BEST 125 | BF6: SUZUKI DR 150 | BI6: SUZUKI DR 200 | BL6: SUZUKI DR 650 | BO6: SUZUKI FREEWIND XF 650 | BR6: YAMAHA FZ16 | BU6: YAMAHA FZN250 | BX6: YAMAHA SZ15RR | CA6: YAMAHA T115FI | CD6: YAMAHA XT 660 2012 | CG6: YAMAHA XT-225D 2007 | CJ6: YAMAHA XTZ 125 | CM6: YAMAHA XTZ 150 | CP6: YAMAHA XTZ 250 | CS6: YAMAHA YBR-125ED | CV6: YAMAHA YW-125
D7: SUBTOTAL | E7: IVA | F7: TOTAL | G7: SUBTOTAL | H7: IVA | I7: TOTAL | J7: SUBTOTAL | K7: IVA | L7: TOTAL | M7: SUBTOTAL | N7: IVA | O7: TOTAL | P7: SUBTOTAL | Q7: IVA | R7: TOTAL | S7: SUBTOTAL | T7: IVA | U7: TOTAL | V7: SUBTOTAL | W7: IVA | X7: TOTAL | Y7: SUBTOTAL | Z7: IVA | AA7: TOTAL | AB7: SUBTOTAL | AC7: IVA | AD7: TOTAL | AE7: SUBTOTAL | AF7: IVA | AG7: TOTAL | AH7: SUBTOTAL | AI7: IVA | AJ7: TOTAL | AK7: SUBTOTAL | AL7: IVA | AM7: TOTAL | AN7: SUBTOTAL | AO7: IVA | AP7: TOTAL | AQ7: SUBTOTAL | AR7: IVA | AS7: TOTAL | AT7: SUBTOTAL | AU7: IVA | AV7: TOTAL | AW7: SUBTOTAL | AX7: IVA | AY7: TOTAL | AZ7: SUBTOTAL | BA7: IVA | BB7: TOTAL | BC7: SUBTOTAL | BD7: IVA | BE7: TOTAL | BF7: SUBTOTAL | BG7: IVA | BH7: TOTAL | BI7: SUBTOTAL | BJ7: IVA | BK7: TOTAL | BL7: SUBTOTAL | BM7: IVA | BN7: TOTAL | BO7: SUBTOTAL | BP7: IVA | BQ7: TOTAL | BR7: SUBTOTAL | BS7: IVA | BT7: TOTAL | BU7: SUBTOTAL | BV7: IVA | BW7: TOTAL | BX7: SUBTOTAL | BY7: IVA | BZ7: TOTAL | CA7: SUBTOTAL | CB7: IVA | CC7: TOTAL | CD7: SUBTOTAL | CE7: IVA | CF7: TOTAL | CG7: SUBTOTAL | CH7: IVA | CI7: TOTAL | CJ7: SUBTOTAL | CK7: IVA | CL7: TOTAL | CM7: SUBTOTAL | CN7: IVA | CO7: TOTAL | CP7: SUBTOTAL | CQ7: IVA | CR7: TOTAL | CS7: SUBTOTAL | CT7: IVA | CU7: TOTAL | CV7: SUBTOTAL | CW7: IVA | CX7: TOTAL
B8: 1 | C8: SINCRONIZACION
B9: 1.1 | C9: AGUJA BASE Y PUNSON | E9: =D9*19% -> 0 | F9: =D9+E9 -> 0 | H9: =G9*19% -> 0 | I9: =G9+H9 -> 0 | K9: =J9*19% -> 0 | L9: =J9+K9 -> 0 | N9: =M9*19% -> 0 | O9: =M9+N9 -> 0 | Q9: =P9*19% -> 0 | R9: =P9+Q9 -> 0 | T9: =S9*19% -> 0 | U9: =S9+T9 -> 0 | W9: =V9*19% -> 0 | X9: =V9+W9 -> 0 | Z9: =Y9*19% -> 0 | AA9: =Y9+Z9 -> 0 | AC9: =AB9*19% -> 0 | AD9: =AB9+AC9 -> 0 | AF9: =AE9*19% -> 0 | AG9: =AE9+AF9 -> 0 | AI9: =AH9*19% -> 0 | AJ9: =AH9+AI9 -> 0 | AL9: =AK9*19% -> 0 | AM9: =AK9+AL9 -> 0 | AO9: =AN9*19% -> 0 | AP9: =AN9+AO9 -> 0 | AR9: =AQ9*19% -> 0 | AS9: =AQ9+AR9 -> 0 | AU9: =AT9*19% -> 0 | AV9: =AT9+AU9 -> 0 | AX9: =AW9*19% -> 0 | AY9: =AW9+AX9 -> 0 | BA9: =AZ9*19% -> 0 | BB9: =AZ9+BA9 -> 0 | BD9: =BC9*19% -> 0 | BE9: =BC9+BD9 -> 0 | BG9: =BF9*19% -> 0 | BH9: =BF9+BG9 -> 0 | BJ9: =BI9*19% -> 0 | BK9: =BI9+BJ9 -> 0 | BM9: =BL9*19% -> 0 | BN9: =BL9+BM9 -> 0 | BP9: =BO9*19% -> 0 | BQ9: =BO9+BP9 -> 0 | BS9: =BR9*19% -> 0 | BT9: =BR9+BS9 -> 0 | BV9: =BU9*19% -> 0 | BW9: =BU9+BV9 -> 0 | BY9: =BX9*19% -> 0 | BZ9: =BX9+BY9 -> 0 | CB9: =CA9*19% -> 0 | CC9: =CA9+CB9 -> 0 | CE9: =CD9*19% -> 0 | CF9: =CD9+CE9 -> 0 | CH9: =CG9*19% -> 0 | CI9: =CG9+CH9 -> 0 | CK9: =CJ9*19% -> 0 | CL9: =CJ9+CK9 -> 0 | CN9: =CM9*19% -> 0 | CO9: =CM9+CN9 -> 0 | CQ9: =CP9*19% -> 0 | CR9: =CP9+CQ9 -> 0 | CT9: =CS9*19% -> 0 | CU9: =CS9+CT9 -> 0 | CW9: =CV9*19% -> 0 | CX9: =CV9+CW9 -> 0
B10: 1.2 | C10: BUJIA | E10: =D10*19% -> 0 | F10: =D10+E10 -> 0 | H10: =G10*19% -> 0 | I10: =G10+H10 -> 0 | K10: =J10*19% -> 0 | L10: =J10+K10 -> 0 | N10: =M10*19% -> 0 | O10: =M10+N10 -> 0 | Q10: =P10*19% -> 0 | R10: =P10+Q10 -> 0 | T10: =S10*19% -> 0 | U10: =S10+T10 -> 0 | W10: =V10*19% -> 0 | X10: =V10+W10 -> 0 | Z10: =Y10*19% -> 0 | AA10: =Y10+Z10 -> 0 | AC10: =AB10*19% -> 0 | AD10: =AB10+AC10 -> 0 | AF10: =AE10*19% -> 0 | AG10: =AE10+AF10 -> 0 | AI10: =AH10*19% -> 0 | AJ10: =AH10+AI10 -> 0 | AL10: =AK10*19% -> 0 | AM10: =AK10+AL10 -> 0 | AO10: =AN10*19% -> 0 | AP10: =AN10+AO10 -> 0 | AR10: =AQ10*19% -> 0 | AS10: =AQ10+AR10 -> 0 | AU10: =AT10*19% -> 0 | AV10: =AT10+AU10 -> 0 | AX10: =AW10*19% -> 0 | AY10: =AW10+AX10 -> 0 | BA10: =AZ10*19% -> 0 | BB10: =AZ10+BA10 -> 0 | BD10: =BC10*19% -> 0 | BE10: =BC10+BD10 -> 0 | BG10: =BF10*19% -> 0 | BH10: =BF10+BG10 -> 0 | BJ10: =BI10*19% -> 0 | BK10: =BI10+BJ10 -> 0 | BM10: =BL10*19% -> 0 | BN10: =BL10+BM10 -> 0 | BP10: =BO10*19% -> 0 | BQ10: =BO10+BP10 -> 0 | BS10: =BR10*19% -> 0 | BT10: =BR10+BS10 -> 0 | BV10: =BU10*19% -> 0 | BW10: =BU10+BV10 -> 0 | BY10: =BX10*19% -> 0 | BZ10: =BX10+BY10 -> 0 | CB10: =CA10*19% -> 0 | CC10: =CA10+CB10 -> 0 | CE10: =CD10*19% -> 0 | CF10: =CD10+CE10 -> 0 | CH10: =CG10*19% -> 0 | CI10: =CG10+CH10 -> 0 | CK10: =CJ10*19% -> 0 | CL10: =CJ10+CK10 -> 0 | CN10: =CM10*19% -> 0 | CO10: =CM10+CN10 -> 0 | CQ10: =CP10*19% -> 0 | CR10: =CP10+CQ10 -> 0 | CT10: =CS10*19% -> 0 | CU10: =CS10+CT10 -> 0 | CW10: =CV10*19% -> 0 | CX10: =CV10+CW10 -> 0
B11: 1.3 | C11: CARBURADOR | E11: =D11*19% -> 0 | F11: =D11+E11 -> 0 | H11: =G11*19% -> 0 | I11: =G11+H11 -> 0 | K11: =J11*19% -> 0 | L11: =J11+K11 -> 0 | N11: =M11*19% -> 0 | O11: =M11+N11 -> 0 | Q11: =P11*19% -> 0 | R11: =P11+Q11 -> 0 | T11: =S11*19% -> 0 | U11: =S11+T11 -> 0 | W11: =V11*19% -> 0 | X11: =V11+W11 -> 0 | Z11: =Y11*19% -> 0 | AA11: =Y11+Z11 -> 0 | AC11: =AB11*19% -> 0 | AD11: =AB11+AC11 -> 0 | AF11: =AE11*19% -> 0 | AG11: =AE11+AF11 -> 0 | AI11: =AH11*19% -> 0 | AJ11: =AH11+AI11 -> 0 | AL11: =AK11*19% -> 0 | AM11: =AK11+AL11 -> 0 | AO11: =AN11*19% -> 0 | AP11: =AN11+AO11 -> 0 | AR11: =AQ11*19% -> 0 | AS11: =AQ11+AR11 -> 0 | AU11: =AT11*19% -> 0 | AV11: =AT11+AU11 -> 0 | AX11: =AW11*19% -> 0 | AY11: =AW11+AX11 -> 0 | BA11: =AZ11*19% -> 0 | BB11: =AZ11+BA11 -> 0 | BD11: =BC11*19% -> 0 | BE11: =BC11+BD11 -> 0 | BG11: =BF11*19% -> 0 | BH11: =BF11+BG11 -> 0 | BJ11: =BI11*19% -> 0 | BK11: =BI11+BJ11 -> 0 | BM11: =BL11*19% -> 0 | BN11: =BL11+BM11 -> 0 | BP11: =BO11*19% -> 0 | BQ11: =BO11+BP11 -> 0 | BS11: =BR11*19% -> 0 | BT11: =BR11+BS11 -> 0 | BV11: =BU11*19% -> 0 | BW11: =BU11+BV11 -> 0 | BY11: =BX11*19% -> 0 | BZ11: =BX11+BY11 -> 0 | CB11: =CA11*19% -> 0 | CC11: =CA11+CB11 -> 0 | CE11: =CD11*19% -> 0 | CF11: =CD11+CE11 -> 0 | CH11: =CG11*19% -> 0 | CI11: =CG11+CH11 -> 0 | CK11: =CJ11*19% -> 0 | CL11: =CJ11+CK11 -> 0 | CN11: =CM11*19% -> 0 | CO11: =CM11+CN11 -> 0 | CQ11: =CP11*19% -> 0 | CR11: =CP11+CQ11 -> 0 | CT11: =CS11*19% -> 0 | CU11: =CS11+CT11 -> 0 | CW11: =CV11*19% -> 0 | CX11: =CV11+CW11 -> 0
B12: 1.4 | C12: EMPAQUES CARBURADOR | E12: =D12*19% -> 0 | F12: =D12+E12 -> 0 | H12: =G12*19% -> 0 | I12: =G12+H12 -> 0 | K12: =J12*19% -> 0 | L12: =J12+K12 -> 0 | N12: =M12*19% -> 0 | O12: =M12+N12 -> 0 | Q12: =P12*19% -> 0 | R12: =P12+Q12 -> 0 | T12: =S12*19% -> 0 | U12: =S12+T12 -> 0 | W12: =V12*19% -> 0 | X12: =V12+W12 -> 0 | Z12: =Y12*19% -> 0 | AA12: =Y12+Z12 -> 0 | AC12: =AB12*19% -> 0 | AD12: =AB12+AC12 -> 0 | AF12: =AE12*19% -> 0 | AG12: =AE12+AF12 -> 0 | AI12: =AH12*19% -> 0 | AJ12: =AH12+AI12 -> 0 | AL12: =AK12*19% -> 0 | AM12: =AK12+AL12 -> 0 | AO12: =AN12*19% -> 0 | AP12: =AN12+AO12 -> 0 | AR12: =AQ12*19% -> 0 | AS12: =AQ12+AR12 -> 0 | AU12: =AT12*19% -> 0 | AV12: =AT12+AU12 -> 0 | AX12: =AW12*19% -> 0 | AY12: =AW12+AX12 -> 0 | BA12: =AZ12*19% -> 0 | BB12: =AZ12+BA12 -> 0 | BD12: =BC12*19% -> 0 | BE12: =BC12+BD12 -> 0 | BG12: =BF12*19% -> 0 | BH12: =BF12+BG12 -> 0 | BJ12: =BI12*19% -> 0 | BK12: =BI12+BJ12 -> 0 | BM12: =BL12*19% -> 0 | BN12: =BL12+BM12 -> 0 | BP12: =BO12*19% -> 0 | BQ12: =BO12+BP12 -> 0 | BS12: =BR12*19% -> 0 | BT12: =BR12+BS12 -> 0 | BV12: =BU12*19% -> 0 | BW12: =BU12+BV12 -> 0 | BY12: =BX12*19% -> 0 | BZ12: =BX12+BY12 -> 0 | CB12: =CA12*19% -> 0 | CC12: =CA12+CB12 -> 0 | CE12: =CD12*19% -> 0 | CF12: =CD12+CE12 -> 0 | CH12: =CG12*19% -> 0 | CI12: =CG12+CH12 -> 0 | CK12: =CJ12*19% -> 0 | CL12: =CJ12+CK12 -> 0 | CN12: =CM12*19% -> 0 | CO12: =CM12+CN12 -> 0 | CQ12: =CP12*19% -> 0 | CR12: =CP12+CQ12 -> 0 | CT12: =CS12*19% -> 0 | CU12: =CS12+CT12 -> 0 | CW12: =CV12*19% -> 0 | CX12: =CV12+CW12 -> 0
B13: 1.5 | C13: FILTRO COMBUSTIBLE | E13: =D13*19% -> 0 | F13: =D13+E13 -> 0 | H13: =G13*19% -> 0 | I13: =G13+H13 -> 0 | K13: =J13*19% -> 0 | L13: =J13+K13 -> 0 | N13: =M13*19% -> 0 | O13: =M13+N13 -> 0 | Q13: =P13*19% -> 0 | R13: =P13+Q13 -> 0 | T13: =S13*19% -> 0 | U13: =S13+T13 -> 0 | W13: =V13*19% -> 0 | X13: =V13+W13 -> 0 | Z13: =Y13*19% -> 0 | AA13: =Y13+Z13 -> 0 | AC13: =AB13*19% -> 0 | AD13: =AB13+AC13 -> 0 | AF13: =AE13*19% -> 0 | AG13: =AE13+AF13 -> 0 | AI13: =AH13*19% -> 0 | AJ13: =AH13+AI13 -> 0 | AL13: =AK13*19% -> 0 | AM13: =AK13+AL13 -> 0 | AO13: =AN13*19% -> 0 | AP13: =AN13+AO13 -> 0 | AR13: =AQ13*19% -> 0 | AS13: =AQ13+AR13 -> 0 | AU13: =AT13*19% -> 0 | AV13: =AT13+AU13 -> 0 | AX13: =AW13*19% -> 0 | AY13: =AW13+AX13 -> 0 | BA13: =AZ13*19% -> 0 | BB13: =AZ13+BA13 -> 0 | BD13: =BC13*19% -> 0 | BE13: =BC13+BD13 -> 0 | BG13: =BF13*19% -> 0 | BH13: =BF13+BG13 -> 0 | BJ13: =BI13*19% -> 0 | BK13: =BI13+BJ13 -> 0 | BM13: =BL13*19% -> 0 | BN13: =BL13+BM13 -> 0 | BP13: =BO13*19% -> 0 | BQ13: =BO13+BP13 -> 0 | BS13: =BR13*19% -> 0 | BT13: =BR13+BS13 -> 0 | BV13: =BU13*19% -> 0 | BW13: =BU13+BV13 -> 0 | BY13: =BX13*19% -> 0 | BZ13: =BX13+BY13 -> 0 | CB13: =CA13*19% -> 0 | CC13: =CA13+CB13 -> 0 | CE13: =CD13*19% -> 0 | CF13: =CD13+CE13 -> 0 | CH13: =CG13*19% -> 0 | CI13: =CG13+CH13 -> 0 | CK13: =CJ13*19% -> 0 | CL13: =CJ13+CK13 -> 0 | CN13: =CM13*19% -> 0 | CO13: =CM13+CN13 -> 0 | CQ13: =CP13*19% -> 0 | CR13: =CP13+CQ13 -> 0 | CT13: =CS13*19% -> 0 | CU13: =CS13+CT13 -> 0 | CW13: =CV13*19% -> 0 | CX13: =CV13+CW13 -> 0
B14: 1.6 | C14: FILTRO DE AIRE | E14: =D14*19% -> 0 | F14: =D14+E14 -> 0 | H14: =G14*19% -> 0 | I14: =G14+H14 -> 0 | K14: =J14*19% -> 0 | L14: =J14+K14 -> 0 | N14: =M14*19% -> 0 | O14: =M14+N14 -> 0 | Q14: =P14*19% -> 0 | R14: =P14+Q14 -> 0 | T14: =S14*19% -> 0 | U14: =S14+T14 -> 0 | W14: =V14*19% -> 0 | X14: =V14+W14 -> 0 | Z14: =Y14*19% -> 0 | AA14: =Y14+Z14 -> 0 | AC14: =AB14*19% -> 0 | AD14: =AB14+AC14 -> 0 | AF14: =AE14*19% -> 0 | AG14: =AE14+AF14 -> 0 | AI14: =AH14*19% -> 0 | AJ14: =AH14+AI14 -> 0 | AL14: =AK14*19% -> 0 | AM14: =AK14+AL14 -> 0 | AO14: =AN14*19% -> 0 | AP14: =AN14+AO14 -> 0 | AR14: =AQ14*19% -> 0 | AS14: =AQ14+AR14 -> 0 | AU14: =AT14*19% -> 0 | AV14: =AT14+AU14 -> 0 | AX14: =AW14*19% -> 0 | AY14: =AW14+AX14 -> 0 | BA14: =AZ14*19% -> 0 | BB14: =AZ14+BA14 -> 0 | BD14: =BC14*19% -> 0 | BE14: =BC14+BD14 -> 0 | BG14: =BF14*19% -> 0 | BH14: =BF14+BG14 -> 0 | BJ14: =BI14*19% -> 0 | BK14: =BI14+BJ14 -> 0 | BM14: =BL14*19% -> 0 | BN14: =BL14+BM14 -> 0 | BP14: =BO14*19% -> 0 | BQ14: =BO14+BP14 -> 0 | BS14: =BR14*19% -> 0 | BT14: =BR14+BS14 -> 0 | BV14: =BU14*19% -> 0 | BW14: =BU14+BV14 -> 0 | BY14: =BX14*19% -> 0 | BZ14: =BX14+BY14 -> 0 | CB14: =CA14*19% -> 0 | CC14: =CA14+CB14 -> 0 | CE14: =CD14*19% -> 0 | CF14: =CD14+CE14 -> 0 | CH14: =CG14*19% -> 0 | CI14: =CG14+CH14 -> 0 | CK14: =CJ14*19% -> 0 | CL14: =CJ14+CK14 -> 0 | CN14: =CM14*19% -> 0 | CO14: =CM14+CN14 -> 0 | CQ14: =CP14*19% -> 0 | CR14: =CP14+CQ14 -> 0 | CT14: =CS14*19% -> 0 | CU14: =CS14+CT14 -> 0 | CW14: =CV14*19% -> 0 | CX14: =CV14+CW14 -> 0
B15: 1.7 | C15: GUAYA ACELERADOR | E15: =D15*19% -> 0 | F15: =D15+E15 -> 0 | H15: =G15*19% -> 0 | I15: =G15+H15 -> 0 | K15: =J15*19% -> 0 | L15: =J15+K15 -> 0 | N15: =M15*19% -> 0 | O15: =M15+N15 -> 0 | Q15: =P15*19% -> 0 | R15: =P15+Q15 -> 0 | T15: =S15*19% -> 0 | U15: =S15+T15 -> 0 | W15: =V15*19% -> 0 | X15: =V15+W15 -> 0 | Z15: =Y15*19% -> 0 | AA15: =Y15+Z15 -> 0 | AC15: =AB15*19% -> 0 | AD15: =AB15+AC15 -> 0 | AF15: =AE15*19% -> 0 | AG15: =AE15+AF15 -> 0 | AI15: =AH15*19% -> 0 | AJ15: =AH15+AI15 -> 0 | AL15: =AK15*19% -> 0 | AM15: =AK15+AL15 -> 0 | AO15: =AN15*19% -> 0 | AP15: =AN15+AO15 -> 0 | AR15: =AQ15*19% -> 0 | AS15: =AQ15+AR15 -> 0 | AU15: =AT15*19% -> 0 | AV15: =AT15+AU15 -> 0 | AX15: =AW15*19% -> 0 | AY15: =AW15+AX15 -> 0 | BA15: =AZ15*19% -> 0 | BB15: =AZ15+BA15 -> 0 | BD15: =BC15*19% -> 0 | BE15: =BC15+BD15 -> 0 | BG15: =BF15*19% -> 0 | BH15: =BF15+BG15 -> 0 | BJ15: =BI15*19% -> 0 | BK15: =BI15+BJ15 -> 0 | BM15: =BL15*19% -> 0 | BN15: =BL15+BM15 -> 0 | BP15: =BO15*19% -> 0 | BQ15: =BO15+BP15 -> 0 | BS15: =BR15*19% -> 0 | BT15: =BR15+BS15 -> 0 | BV15: =BU15*19% -> 0 | BW15: =BU15+BV15 -> 0 | BY15: =BX15*19% -> 0 | BZ15: =BX15+BY15 -> 0 | CB15: =CA15*19% -> 0 | CC15: =CA15+CB15 -> 0 | CE15: =CD15*19% -> 0 | CF15: =CD15+CE15 -> 0 | CH15: =CG15*19% -> 0 | CI15: =CG15+CH15 -> 0 | CK15: =CJ15*19% -> 0 | CL15: =CJ15+CK15 -> 0 | CN15: =CM15*19% -> 0 | CO15: =CM15+CN15 -> 0 | CQ15: =CP15*19% -> 0 | CR15: =CP15+CQ15 -> 0 | CT15: =CS15*19% -> 0 | CU15: =CS15+CT15 -> 0 | CW15: =CV15*19% -> 0 | CX15: =CV15+CW15 -> 0
B16: 1.8 | C16: GUAYA CHOQUE | E16: =D16*19% -> 0 | F16: =D16+E16 -> 0 | H16: =G16*19% -> 0 | I16: =G16+H16 -> 0 | K16: =J16*19% -> 0 | L16: =J16+K16 -> 0 | N16: =M16*19% -> 0 | O16: =M16+N16 -> 0 | Q16: =P16*19% -> 0 | R16: =P16+Q16 -> 0 | T16: =S16*19% -> 0 | U16: =S16+T16 -> 0 | W16: =V16*19% -> 0 | X16: =V16+W16 -> 0 | Z16: =Y16*19% -> 0 | AA16: =Y16+Z16 -> 0 | AC16: =AB16*19% -> 0 | AD16: =AB16+AC16 -> 0 | AF16: =AE16*19% -> 0 | AG16: =AE16+AF16 -> 0 | AI16: =AH16*19% -> 0 | AJ16: =AH16+AI16 -> 0 | AL16: =AK16*19% -> 0 | AM16: =AK16+AL16 -> 0 | AO16: =AN16*19% -> 0 | AP16: =AN16+AO16 -> 0 | AR16: =AQ16*19% -> 0 | AS16: =AQ16+AR16 -> 0 | AU16: =AT16*19% -> 0 | AV16: =AT16+AU16 -> 0 | AX16: =AW16*19% -> 0 | AY16: =AW16+AX16 -> 0 | BA16: =AZ16*19% -> 0 | BB16: =AZ16+BA16 -> 0 | BD16: =BC16*19% -> 0 | BE16: =BC16+BD16 -> 0 | BG16: =BF16*19% -> 0 | BH16: =BF16+BG16 -> 0 | BJ16: =BI16*19% -> 0 | BK16: =BI16+BJ16 -> 0 | BM16: =BL16*19% -> 0 | BN16: =BL16+BM16 -> 0 | BP16: =BO16*19% -> 0 | BQ16: =BO16+BP16 -> 0 | BS16: =BR16*19% -> 0 | BT16: =BR16+BS16 -> 0 | BV16: =BU16*19% -> 0 | BW16: =BU16+BV16 -> 0 | BY16: =BX16*19% -> 0 | BZ16: =BX16+BY16 -> 0 | CB16: =CA16*19% -> 0 | CC16: =CA16+CB16 -> 0 | CE16: =CD16*19% -> 0 | CF16: =CD16+CE16 -> 0 | CH16: =CG16*19% -> 0 | CI16: =CG16+CH16 -> 0 | CK16: =CJ16*19% -> 0 | CL16: =CJ16+CK16 -> 0 | CN16: =CM16*19% -> 0 | CO16: =CM16+CN16 -> 0 | CQ16: =CP16*19% -> 0 | CR16: =CP16+CQ16 -> 0 | CT16: =CS16*19% -> 0 | CU16: =CS16+CT16 -> 0 | CW16: =CV16*19% -> 0 | CX16: =CV16+CW16 -> 0
B17: 1.9 | C17: KIT CARBURADOR | E17: =D17*19% -> 0 | F17: =D17+E17 -> 0 | H17: =G17*19% -> 0 | I17: =G17+H17 -> 0 | K17: =J17*19% -> 0 | L17: =J17+K17 -> 0 | N17: =M17*19% -> 0 | O17: =M17+N17 -> 0 | Q17: =P17*19% -> 0 | R17: =P17+Q17 -> 0 | T17: =S17*19% -> 0 | U17: =S17+T17 -> 0 | W17: =V17*19% -> 0 | X17: =V17+W17 -> 0 | Z17: =Y17*19% -> 0 | AA17: =Y17+Z17 -> 0 | AC17: =AB17*19% -> 0 | AD17: =AB17+AC17 -> 0 | AF17: =AE17*19% -> 0 | AG17: =AE17+AF17 -> 0 | AI17: =AH17*19% -> 0 | AJ17: =AH17+AI17 -> 0 | AL17: =AK17*19% -> 0 | AM17: =AK17+AL17 -> 0 | AO17: =AN17*19% -> 0 | AP17: =AN17+AO17 -> 0 | AR17: =AQ17*19% -> 0 | AS17: =AQ17+AR17 -> 0 | AU17: =AT17*19% -> 0 | AV17: =AT17+AU17 -> 0 | AX17: =AW17*19% -> 0 | AY17: =AW17+AX17 -> 0 | BA17: =AZ17*19% -> 0 | BB17: =AZ17+BA17 -> 0 | BD17: =BC17*19% -> 0 | BE17: =BC17+BD17 -> 0 | BG17: =BF17*19% -> 0 | BH17: =BF17+BG17 -> 0 | BJ17: =BI17*19% -> 0 | BK17: =BI17+BJ17 -> 0 | BM17: =BL17*19% -> 0 | BN17: =BL17+BM17 -> 0 | BP17: =BO17*19% -> 0 | BQ17: =BO17+BP17 -> 0 | BS17: =BR17*19% -> 0 | BT17: =BR17+BS17 -> 0 | BV17: =BU17*19% -> 0 | BW17: =BU17+BV17 -> 0 | BY17: =BX17*19% -> 0 | BZ17: =BX17+BY17 -> 0 | CB17: =CA17*19% -> 0 | CC17: =CA17+CB17 -> 0 | CE17: =CD17*19% -> 0 | CF17: =CD17+CE17 -> 0 | CH17: =CG17*19% -> 0 | CI17: =CG17+CH17 -> 0 | CK17: =CJ17*19% -> 0 | CL17: =CJ17+CK17 -> 0 | CN17: =CM17*19% -> 0 | CO17: =CM17+CN17 -> 0 | CQ17: =CP17*19% -> 0 | CR17: =CP17+CQ17 -> 0 | CT17: =CS17*19% -> 0 | CU17: =CS17+CT17 -> 0 | CW17: =CV17*19% -> 0 | CX17: =CV17+CW17 -> 0
B18: 1.10 | C18: LLAVE PASO COMBUSTIBLE | E18: =D18*19% -> 0 | F18: =D18+E18 -> 0 | H18: =G18*19% -> 0 | I18: =G18+H18 -> 0 | K18: =J18*19% -> 0 | L18: =J18+K18 -> 0 | N18: =M18*19% -> 0 | O18: =M18+N18 -> 0 | Q18: =P18*19% -> 0 | R18: =P18+Q18 -> 0 | T18: =S18*19% -> 0 | U18: =S18+T18 -> 0 | W18: =V18*19% -> 0 | X18: =V18+W18 -> 0 | Z18: =Y18*19% -> 0 | AA18: =Y18+Z18 -> 0 | AC18: =AB18*19% -> 0 | AD18: =AB18+AC18 -> 0 | AF18: =AE18*19% -> 0 | AG18: =AE18+AF18 -> 0 | AI18: =AH18*19% -> 0 | AJ18: =AH18+AI18 -> 0 | AL18: =AK18*19% -> 0 | AM18: =AK18+AL18 -> 0 | AO18: =AN18*19% -> 0 | AP18: =AN18+AO18 -> 0 | AR18: =AQ18*19% -> 0 | AS18: =AQ18+AR18 -> 0 | AU18: =AT18*19% -> 0 | AV18: =AT18+AU18 -> 0 | AX18: =AW18*19% -> 0 | AY18: =AW18+AX18 -> 0 | BA18: =AZ18*19% -> 0 | BB18: =AZ18+BA18 -> 0 | BD18: =BC18*19% -> 0 | BE18: =BC18+BD18 -> 0 | BG18: =BF18*19% -> 0 | BH18: =BF18+BG18 -> 0 | BJ18: =BI18*19% -> 0 | BK18: =BI18+BJ18 -> 0 | BM18: =BL18*19% -> 0 | BN18: =BL18+BM18 -> 0 | BP18: =BO18*19% -> 0 | BQ18: =BO18+BP18 -> 0 | BS18: =BR18*19% -> 0 | BT18: =BR18+BS18 -> 0 | BV18: =BU18*19% -> 0 | BW18: =BU18+BV18 -> 0 | BY18: =BX18*19% -> 0 | BZ18: =BX18+BY18 -> 0 | CB18: =CA18*19% -> 0 | CC18: =CA18+CB18 -> 0 | CE18: =CD18*19% -> 0 | CF18: =CD18+CE18 -> 0 | CH18: =CG18*19% -> 0 | CI18: =CG18+CH18 -> 0 | CK18: =CJ18*19% -> 0 | CL18: =CJ18+CK18 -> 0 | CN18: =CM18*19% -> 0 | CO18: =CM18+CN18 -> 0 | CQ18: =CP18*19% -> 0 | CR18: =CP18+CQ18 -> 0 | CT18: =CS18*19% -> 0 | CU18: =CS18+CT18 -> 0 | CW18: =CV18*19% -> 0 | CX18: =CV18+CW18 -> 0
B19: 2 | C19: MOTOR | D19: 0 | E19: 0 | F19: 0 | G19: 0 | H19: 0 | I19: 0 | J19: 0 | K19: 0 | L19: 0 | M19: 0 | N19: 0 | O19: 0 | P19: 0 | Q19: 0 | R19: 0 | S19: 0 | T19: 0 | U19: 0 | V19: 0 | W19: 0 | X19: 0 | Y19: 0 | Z19: 0 | AA19: 0 | AB19: 0 | AC19: 0 | AD19: 0 | AE19: 0 | AF19: 0 | AG19: 0 | AH19: 0 | AI19: 0 | AJ19: 0 | AK19: 0 | AL19: 0 | AM19: 0 | AN19: 0 | AO19: 0 | AP19: 0 | AQ19: 0 | AR19: 0 | AS19: 0 | AT19: 0 | AU19: 0 | AV19: 0 | AW19: 0 | AX19: 0 | AY19: 0 | AZ19: 0 | BA19: 0 | BB19: 0 | BC19: 0 | BD19: 0 | BE19: 0 | BF19: 0 | BG19: 0 | BH19: 0 | BI19: 0 | BJ19: 0 | BK19: 0 | BL19: 0 | BM19: 0 | BN19: 0 | BO19: 0 | BP19: 0 | BQ19: 0 | BR19: 0 | BS19: 0 | BT19: 0 | BU19: 0 | BV19: 0 | BW19: 0 | BX19: 0 | BY19: 0 | BZ19: 0 | CA19: 0 | CB19: 0 | CC19: 0 | CD19: 0 | CE19: 0 | CF19: 0 | CG19: 0 | CH19: 0 | CI19: 0 | CJ19: 0 | CK19: 0 | CL19: 0 | CM19: 0 | CN19: 0 | CO19: 0 | CP19: 0 | CQ19: 0 | CR19: 0 | CS19: 0 | CT19: 0 | CU19: 0 | CV19: 0 | CW19: 0 | CX19: 0
B20: 2.1 | C20: BALANCIN | E20: =D20*19% -> 0 | F20: =D20+E20 -> 0 | H20: =G20*19% -> 0 | I20: =G20+H20 -> 0 | K20: =J20*19% -> 0 | L20: =J20+K20 -> 0 | N20: =M20*19% -> 0 | O20: =M20+N20 -> 0 | Q20: =P20*19% -> 0 | R20: =P20+Q20 -> 0 | T20: =S20*19% -> 0 | U20: =S20+T20 -> 0 | W20: =V20*19% -> 0 | X20: =V20+W20 -> 0 | Z20: =Y20*19% -> 0 | AA20: =Y20+Z20 -> 0 | AC20: =AB20*19% -> 0 | AD20: =AB20+AC20 -> 0 | AF20: =AE20*19% -> 0 | AG20: =AE20+AF20 -> 0 | AI20: =AH20*19% -> 0 | AJ20: =AH20+AI20 -> 0 | AL20: =AK20*19% -> 0 | AM20: =AK20+AL20 -> 0 | AO20: =AN20*19% -> 0 | AP20: =AN20+AO20 -> 0 | AR20: =AQ20*19% -> 0 | AS20: =AQ20+AR20 -> 0 | AU20: =AT20*19% -> 0 | AV20: =AT20+AU20 -> 0 | AX20: =AW20*19% -> 0 | AY20: =AW20+AX20 -> 0 | BA20: =AZ20*19% -> 0 | BB20: =AZ20+BA20 -> 0 | BD20: =BC20*19% -> 0 | BE20: =BC20+BD20 -> 0 | BG20: =BF20*19% -> 0 | BH20: =BF20+BG20 -> 0 | BJ20: =BI20*19% -> 0 | BK20: =BI20+BJ20 -> 0 | BM20: =BL20*19% -> 0 | BN20: =BL20+BM20 -> 0 | BP20: =BO20*19% -> 0 | BQ20: =BO20+BP20 -> 0 | BS20: =BR20*19% -> 0 | BT20: =BR20+BS20 -> 0 | BV20: =BU20*19% -> 0 | BW20: =BU20+BV20 -> 0 | BY20: =BX20*19% -> 0 | BZ20: =BX20+BY20 -> 0 | CB20: =CA20*19% -> 0 | CC20: =CA20+CB20 -> 0 | CE20: =CD20*19% -> 0 | CF20: =CD20+CE20 -> 0 | CH20: =CG20*19% -> 0 | CI20: =CG20+CH20 -> 0 | CK20: =CJ20*19% -> 0 | CL20: =CJ20+CK20 -> 0 | CN20: =CM20*19% -> 0 | CO20: =CM20+CN20 -> 0 | CQ20: =CP20*19% -> 0 | CR20: =CP20+CQ20 -> 0 | CT20: =CS20*19% -> 0 | CU20: =CS20+CT20 -> 0 | CW20: =CV20*19% -> 0 | CX20: =CV20+CW20 -> 0
B21: 2.2 | C21: BIELA MOTOR | E21: =D21*19% -> 0 | F21: =D21+E21 -> 0 | H21: =G21*19% -> 0 | I21: =G21+H21 -> 0 | K21: =J21*19% -> 0 | L21: =J21+K21 -> 0 | N21: =M21*19% -> 0 | O21: =M21+N21 -> 0 | Q21: =P21*19% -> 0 | R21: =P21+Q21 -> 0 | T21: =S21*19% -> 0 | U21: =S21+T21 -> 0 | W21: =V21*19% -> 0 | X21: =V21+W21 -> 0 | Z21: =Y21*19% -> 0 | AA21: =Y21+Z21 -> 0 | AC21: =AB21*19% -> 0 | AD21: =AB21+AC21 -> 0 | AF21: =AE21*19% -> 0 | AG21: =AE21+AF21 -> 0 | AI21: =AH21*19% -> 0 | AJ21: =AH21+AI21 -> 0 | AL21: =AK21*19% -> 0 | AM21: =AK21+AL21 -> 0 | AO21: =AN21*19% -> 0 | AP21: =AN21+AO21 -> 0 | AR21: =AQ21*19% -> 0 | AS21: =AQ21+AR21 -> 0 | AU21: =AT21*19% -> 0 | AV21: =AT21+AU21 -> 0 | AX21: =AW21*19% -> 0 | AY21: =AW21+AX21 -> 0 | BA21: =AZ21*19% -> 0 | BB21: =AZ21+BA21 -> 0 | BD21: =BC21*19% -> 0 | BE21: =BC21+BD21 -> 0 | BG21: =BF21*19% -> 0 | BH21: =BF21+BG21 -> 0 | BJ21: =BI21*19% -> 0 | BK21: =BI21+BJ21 -> 0 | BM21: =BL21*19% -> 0 | BN21: =BL21+BM21 -> 0 | BP21: =BO21*19% -> 0 | BQ21: =BO21+BP21 -> 0 | BS21: =BR21*19% -> 0 | BT21: =BR21+BS21 -> 0 | BV21: =BU21*19% -> 0 | BW21: =BU21+BV21 -> 0 | BY21: =BX21*19% -> 0 | BZ21: =BX21+BY21 -> 0 | CB21: =CA21*19% -> 0 | CC21: =CA21+CB21 -> 0 | CE21: =CD21*19% -> 0 | CF21: =CD21+CE21 -> 0 | CH21: =CG21*19% -> 0 | CI21: =CG21+CH21 -> 0 | CK21: =CJ21*19% -> 0 | CL21: =CJ21+CK21 -> 0 | CN21: =CM21*19% -> 0 | CO21: =CM21+CN21 -> 0 | CQ21: =CP21*19% -> 0 | CR21: =CP21+CQ21 -> 0 | CT21: =CS21*19% -> 0 | CU21: =CS21+CT21 -> 0 | CW21: =CV21*19% -> 0 | CX21: =CV21+CW21 -> 0
B22: 2.3 | C22: BOMBA DE ACEITE | E22: =D22*19% -> 0 | F22: =D22+E22 -> 0 | H22: =G22*19% -> 0 | I22: =G22+H22 -> 0 | K22: =J22*19% -> 0 | L22: =J22+K22 -> 0 | N22: =M22*19% -> 0 | O22: =M22+N22 -> 0 | Q22: =P22*19% -> 0 | R22: =P22+Q22 -> 0 | T22: =S22*19% -> 0 | U22: =S22+T22 -> 0 | W22: =V22*19% -> 0 | X22: =V22+W22 -> 0 | Z22: =Y22*19% -> 0 | AA22: =Y22+Z22 -> 0 | AC22: =AB22*19% -> 0 | AD22: =AB22+AC22 -> 0 | AF22: =AE22*19% -> 0 | AG22: =AE22+AF22 -> 0 | AI22: =AH22*19% -> 0 | AJ22: =AH22+AI22 -> 0 | AL22: =AK22*19% -> 0 | AM22: =AK22+AL22 -> 0 | AO22: =AN22*19% -> 0 | AP22: =AN22+AO22 -> 0 | AR22: =AQ22*19% -> 0 | AS22: =AQ22+AR22 -> 0 | AU22: =AT22*19% -> 0 | AV22: =AT22+AU22 -> 0 | AX22: =AW22*19% -> 0 | AY22: =AW22+AX22 -> 0 | BA22: =AZ22*19% -> 0 | BB22: =AZ22+BA22 -> 0 | BD22: =BC22*19% -> 0 | BE22: =BC22+BD22 -> 0 | BG22: =BF22*19% -> 0 | BH22: =BF22+BG22 -> 0 | BJ22: =BI22*19% -> 0 | BK22: =BI22+BJ22 -> 0 | BM22: =BL22*19% -> 0 | BN22: =BL22+BM22 -> 0 | BP22: =BO22*19% -> 0 | BQ22: =BO22+BP22 -> 0 | BS22: =BR22*19% -> 0 | BT22: =BR22+BS22 -> 0 | BV22: =BU22*19% -> 0 | BW22: =BU22+BV22 -> 0 | BY22: =BX22*19% -> 0 | BZ22: =BX22+BY22 -> 0 | CB22: =CA22*19% -> 0 | CC22: =CA22+CB22 -> 0 | CE22: =CD22*19% -> 0 | CF22: =CD22+CE22 -> 0 | CH22: =CG22*19% -> 0 | CI22: =CG22+CH22 -> 0 | CK22: =CJ22*19% -> 0 | CL22: =CJ22+CK22 -> 0 | CN22: =CM22*19% -> 0 | CO22: =CM22+CN22 -> 0 | CQ22: =CP22*19% -> 0 | CR22: =CP22+CQ22 -> 0 | CT22: =CS22*19% -> 0 | CU22: =CS22+CT22 -> 0 | CW22: =CV22*19% -> 0 | CX22: =CV22+CW22 -> 0
B23: 2.4 | C23: CADENILLA MOTOR | E23: =D23*19% -> 0 | F23: =D23+E23 -> 0 | H23: =G23*19% -> 0 | I23: =G23+H23 -> 0 | K23: =J23*19% -> 0 | L23: =J23+K23 -> 0 | N23: =M23*19% -> 0 | O23: =M23+N23 -> 0 | Q23: =P23*19% -> 0 | R23: =P23+Q23 -> 0 | T23: =S23*19% -> 0 | U23: =S23+T23 -> 0 | W23: =V23*19% -> 0 | X23: =V23+W23 -> 0 | Z23: =Y23*19% -> 0 | AA23: =Y23+Z23 -> 0 | AC23: =AB23*19% -> 0 | AD23: =AB23+AC23 -> 0 | AF23: =AE23*19% -> 0 | AG23: =AE23+AF23 -> 0 | AI23: =AH23*19% -> 0 | AJ23: =AH23+AI23 -> 0 | AL23: =AK23*19% -> 0 | AM23: =AK23+AL23 -> 0 | AO23: =AN23*19% -> 0 | AP23: =AN23+AO23 -> 0 | AR23: =AQ23*19% -> 0 | AS23: =AQ23+AR23 -> 0 | AU23: =AT23*19% -> 0 | AV23: =AT23+AU23 -> 0 | AX23: =AW23*19% -> 0 | AY23: =AW23+AX23 -> 0 | BA23: =AZ23*19% -> 0 | BB23: =AZ23+BA23 -> 0 | BD23: =BC23*19% -> 0 | BE23: =BC23+BD23 -> 0 | BG23: =BF23*19% -> 0 | BH23: =BF23+BG23 -> 0 | BJ23: =BI23*19% -> 0 | BK23: =BI23+BJ23 -> 0 | BM23: =BL23*19% -> 0 | BN23: =BL23+BM23 -> 0 | BP23: =BO23*19% -> 0 | BQ23: =BO23+BP23 -> 0 | BS23: =BR23*19% -> 0 | BT23: =BR23+BS23 -> 0 | BV23: =BU23*19% -> 0 | BW23: =BU23+BV23 -> 0 | BY23: =BX23*19% -> 0 | BZ23: =BX23+BY23 -> 0 | CB23: =CA23*19% -> 0 | CC23: =CA23+CB23 -> 0 | CE23: =CD23*19% -> 0 | CF23: =CD23+CE23 -> 0 | CH23: =CG23*19% -> 0 | CI23: =CG23+CH23 -> 0 | CK23: =CJ23*19% -> 0 | CL23: =CJ23+CK23 -> 0 | CN23: =CM23*19% -> 0 | CO23: =CM23+CN23 -> 0 | CQ23: =CP23*19% -> 0 | CR23: =CP23+CQ23 -> 0 | CT23: =CS23*19% -> 0 | CU23: =CS23+CT23 -> 0 | CW23: =CV23*19% -> 0 | CX23: =CV23+CW23 -> 0
B24: 2.5 | C24: CIGÜEÑAL | E24: =D24*19% -> 0 | F24: =D24+E24 -> 0 | H24: =G24*19% -> 0 | I24: =G24+H24 -> 0 | K24: =J24*19% -> 0 | L24: =J24+K24 -> 0 | N24: =M24*19% -> 0 | O24: =M24+N24 -> 0 | Q24: =P24*19% -> 0 | R24: =P24+Q24 -> 0 | T24: =S24*19% -> 0 | U24: =S24+T24 -> 0 | W24: =V24*19% -> 0 | X24: =V24+W24 -> 0 | Z24: =Y24*19% -> 0 | AA24: =Y24+Z24 -> 0 | AC24: =AB24*19% -> 0 | AD24: =AB24+AC24 -> 0 | AF24: =AE24*19% -> 0 | AG24: =AE24+AF24 -> 0 | AI24: =AH24*19% -> 0 | AJ24: =AH24+AI24 -> 0 | AL24: =AK24*19% -> 0 | AM24: =AK24+AL24 -> 0 | AO24: =AN24*19% -> 0 | AP24: =AN24+AO24 -> 0 | AR24: =AQ24*19% -> 0 | AS24: =AQ24+AR24 -> 0 | AU24: =AT24*19% -> 0 | AV24: =AT24+AU24 -> 0 | AX24: =AW24*19% -> 0 | AY24: =AW24+AX24 -> 0 | BA24: =AZ24*19% -> 0 | BB24: =AZ24+BA24 -> 0 | BD24: =BC24*19% -> 0 | BE24: =BC24+BD24 -> 0 | BG24: =BF24*19% -> 0 | BH24: =BF24+BG24 -> 0 | BJ24: =BI24*19% -> 0 | BK24: =BI24+BJ24 -> 0 | BM24: =BL24*19% -> 0 | BN24: =BL24+BM24 -> 0 | BP24: =BO24*19% -> 0 | BQ24: =BO24+BP24 -> 0 | BS24: =BR24*19% -> 0 | BT24: =BR24+BS24 -> 0 | BV24: =BU24*19% -> 0 | BW24: =BU24+BV24 -> 0 | BY24: =BX24*19% -> 0 | BZ24: =BX24+BY24 -> 0 | CB24: =CA24*19% -> 0 | CC24: =CA24+CB24 -> 0 | CE24: =CD24*19% -> 0 | CF24: =CD24+CE24 -> 0 | CH24: =CG24*19% -> 0 | CI24: =CG24+CH24 -> 0 | CK24: =CJ24*19% -> 0 | CL24: =CJ24+CK24 -> 0 | CN24: =CM24*19% -> 0 | CO24: =CM24+CN24 -> 0 | CQ24: =CP24*19% -> 0 | CR24: =CP24+CQ24 -> 0 | CT24: =CS24*19% -> 0 | CU24: =CS24+CT24 -> 0 | CW24: =CV24*19% -> 0 | CX24: =CV24+CW24 -> 0
B25: 2.6 | C25: CILINDRO MOTOR | E25: =D25*19% -> 0 | F25: =D25+E25 -> 0 | H25: =G25*19% -> 0 | I25: =G25+H25 -> 0 | K25: =J25*19% -> 0 | L25: =J25+K25 -> 0 | N25: =M25*19% -> 0 | O25: =M25+N25 -> 0 | Q25: =P25*19% -> 0 | R25: =P25+Q25 -> 0 | T25: =S25*19% -> 0 | U25: =S25+T25 -> 0 | W25: =V25*19% -> 0 | X25: =V25+W25 -> 0 | Z25: =Y25*19% -> 0 | AA25: =Y25+Z25 -> 0 | AC25: =AB25*19% -> 0 | AD25: =AB25+AC25 -> 0 | AF25: =AE25*19% -> 0 | AG25: =AE25+AF25 -> 0 | AI25: =AH25*19% -> 0 | AJ25: =AH25+AI25 -> 0 | AL25: =AK25*19% -> 0 | AM25: =AK25+AL25 -> 0 | AO25: =AN25*19% -> 0 | AP25: =AN25+AO25 -> 0 | AR25: =AQ25*19% -> 0 | AS25: =AQ25+AR25 -> 0 | AU25: =AT25*19% -> 0 | AV25: =AT25+AU25 -> 0 | AX25: =AW25*19% -> 0 | AY25: =AW25+AX25 -> 0 | BA25: =AZ25*19% -> 0 | BB25: =AZ25+BA25 -> 0 | BD25: =BC25*19% -> 0 | BE25: =BC25+BD25 -> 0 | BG25: =BF25*19% -> 0 | BH25: =BF25+BG25 -> 0 | BJ25: =BI25*19% -> 0 | BK25: =BI25+BJ25 -> 0 | BM25: =BL25*19% -> 0 | BN25: =BL25+BM25 -> 0 | BP25: =BO25*19% -> 0 | BQ25: =BO25+BP25 -> 0 | BS25: =BR25*19% -> 0 | BT25: =BR25+BS25 -> 0 | BV25: =BU25*19% -> 0 | BW25: =BU25+BV25 -> 0 | BY25: =BX25*19% -> 0 | BZ25: =BX25+BY25 -> 0 | CB25: =CA25*19% -> 0 | CC25: =CA25+CB25 -> 0 | CE25: =CD25*19% -> 0 | CF25: =CD25+CE25 -> 0 | CH25: =CG25*19% -> 0 | CI25: =CG25+CH25 -> 0 | CK25: =CJ25*19% -> 0 | CL25: =CJ25+CK25 -> 0 | CN25: =CM25*19% -> 0 | CO25: =CM25+CN25 -> 0 | CQ25: =CP25*19% -> 0 | CR25: =CP25+CQ25 -> 0 | CT25: =CS25*19% -> 0 | CU25: =CS25+CT25 -> 0 | CW25: =CV25*19% -> 0 | CX25: =CV25+CW25 -> 0
B26: 2.7 | C26: CULATA | E26: =D26*19% -> 0 | F26: =D26+E26 -> 0 | H26: =G26*19% -> 0 | I26: =G26+H26 -> 0 | K26: =J26*19% -> 0 | L26: =J26+K26 -> 0 | N26: =M26*19% -> 0 | O26: =M26+N26 -> 0 | Q26: =P26*19% -> 0 | R26: =P26+Q26 -> 0 | T26: =S26*19% -> 0 | U26: =S26+T26 -> 0 | W26: =V26*19% -> 0 | X26: =V26+W26 -> 0 | Z26: =Y26*19% -> 0 | AA26: =Y26+Z26 -> 0 | AC26: =AB26*19% -> 0 | AD26: =AB26+AC26 -> 0 | AF26: =AE26*19% -> 0 | AG26: =AE26+AF26 -> 0 | AI26: =AH26*19% -> 0 | AJ26: =AH26+AI26 -> 0 | AL26: =AK26*19% -> 0 | AM26: =AK26+AL26 -> 0 | AO26: =AN26*19% -> 0 | AP26: =AN26+AO26 -> 0 | AR26: =AQ26*19% -> 0 | AS26: =AQ26+AR26 -> 0 | AU26: =AT26*19% -> 0 | AV26: =AT26+AU26 -> 0 | AX26: =AW26*19% -> 0 | AY26: =AW26+AX26 -> 0 | BA26: =AZ26*19% -> 0 | BB26: =AZ26+BA26 -> 0 | BD26: =BC26*19% -> 0 | BE26: =BC26+BD26 -> 0 | BG26: =BF26*19% -> 0 | BH26: =BF26+BG26 -> 0 | BJ26: =BI26*19% -> 0 | BK26: =BI26+BJ26 -> 0 | BM26: =BL26*19% -> 0 | BN26: =BL26+BM26 -> 0 | BP26: =BO26*19% -> 0 | BQ26: =BO26+BP26 -> 0 | BS26: =BR26*19% -> 0 | BT26: =BR26+BS26 -> 0 | BV26: =BU26*19% -> 0 | BW26: =BU26+BV26 -> 0 | BY26: =BX26*19% -> 0 | BZ26: =BX26+BY26 -> 0 | CB26: =CA26*19% -> 0 | CC26: =CA26+CB26 -> 0 | CE26: =CD26*19% -> 0 | CF26: =CD26+CE26 -> 0 | CH26: =CG26*19% -> 0 | CI26: =CG26+CH26 -> 0 | CK26: =CJ26*19% -> 0 | CL26: =CJ26+CK26 -> 0 | CN26: =CM26*19% -> 0 | CO26: =CM26+CN26 -> 0 | CQ26: =CP26*19% -> 0 | CR26: =CP26+CQ26 -> 0 | CT26: =CS26*19% -> 0 | CU26: =CS26+CT26 -> 0 | CW26: =CV26*19% -> 0 | CX26: =CV26+CW26 -> 0
B27: 2.8 | C27: CULATIN | E27: =D27*19% -> 0 | F27: =D27+E27 -> 0 | H27: =G27*19% -> 0 | I27: =G27+H27 -> 0 | K27: =J27*19% -> 0 | L27: =J27+K27 -> 0 | N27: =M27*19% -> 0 | O27: =M27+N27 -> 0 | Q27: =P27*19% -> 0 | R27: =P27+Q27 -> 0 | T27: =S27*19% -> 0 | U27: =S27+T27 -> 0 | W27: =V27*19% -> 0 | X27: =V27+W27 -> 0 | Z27: =Y27*19% -> 0 | AA27: =Y27+Z27 -> 0 | AC27: =AB27*19% -> 0 | AD27: =AB27+AC27 -> 0 | AF27: =AE27*19% -> 0 | AG27: =AE27+AF27 -> 0 | AI27: =AH27*19% -> 0 | AJ27: =AH27+AI27 -> 0 | AL27: =AK27*19% -> 0 | AM27: =AK27+AL27 -> 0 | AO27: =AN27*19% -> 0 | AP27: =AN27+AO27 -> 0 | AR27: =AQ27*19% -> 0 | AS27: =AQ27+AR27 -> 0 | AU27: =AT27*19% -> 0 | AV27: =AT27+AU27 -> 0 | AX27: =AW27*19% -> 0 | AY27: =AW27+AX27 -> 0 | BA27: =AZ27*19% -> 0 | BB27: =AZ27+BA27 -> 0 | BD27: =BC27*19% -> 0 | BE27: =BC27+BD27 -> 0 | BG27: =BF27*19% -> 0 | BH27: =BF27+BG27 -> 0 | BJ27: =BI27*19% -> 0 | BK27: =BI27+BJ27 -> 0 | BM27: =BL27*19% -> 0 | BN27: =BL27+BM27 -> 0 | BP27: =BO27*19% -> 0 | BQ27: =BO27+BP27 -> 0 | BS27: =BR27*19% -> 0 | BT27: =BR27+BS27 -> 0 | BV27: =BU27*19% -> 0 | BW27: =BU27+BV27 -> 0 | BY27: =BX27*19% -> 0 | BZ27: =BX27+BY27 -> 0 | CB27: =CA27*19% -> 0 | CC27: =CA27+CB27 -> 0 | CE27: =CD27*19% -> 0 | CF27: =CD27+CE27 -> 0 | CH27: =CG27*19% -> 0 | CI27: =CG27+CH27 -> 0 | CK27: =CJ27*19% -> 0 | CL27: =CJ27+CK27 -> 0 | CN27: =CM27*19% -> 0 | CO27: =CM27+CN27 -> 0 | CQ27: =CP27*19% -> 0 | CR27: =CP27+CQ27 -> 0 | CT27: =CS27*19% -> 0 | CU27: =CS27+CT27 -> 0 | CW27: =CV27*19% -> 0 | CX27: =CV27+CW27 -> 0
B28: 2.9 | C28: EJE DE LEVAS | E28: =D28*19% -> 0 | F28: =D28+E28 -> 0 | H28: =G28*19% -> 0 | I28: =G28+H28 -> 0 | K28: =J28*19% -> 0 | L28: =J28+K28 -> 0 | N28: =M28*19% -> 0 | O28: =M28+N28 -> 0 | Q28: =P28*19% -> 0 | R28: =P28+Q28 -> 0 | T28: =S28*19% -> 0 | U28: =S28+T28 -> 0 | W28: =V28*19% -> 0 | X28: =V28+W28 -> 0 | Z28: =Y28*19% -> 0 | AA28: =Y28+Z28 -> 0 | AC28: =AB28*19% -> 0 | AD28: =AB28+AC28 -> 0 | AF28: =AE28*19% -> 0 | AG28: =AE28+AF28 -> 0 | AI28: =AH28*19% -> 0 | AJ28: =AH28+AI28 -> 0 | AL28: =AK28*19% -> 0 | AM28: =AK28+AL28 -> 0 | AO28: =AN28*19% -> 0 | AP28: =AN28+AO28 -> 0 | AR28: =AQ28*19% -> 0 | AS28: =AQ28+AR28 -> 0 | AU28: =AT28*19% -> 0 | AV28: =AT28+AU28 -> 0 | AX28: =AW28*19% -> 0 | AY28: =AW28+AX28 -> 0 | BA28: =AZ28*19% -> 0 | BB28: =AZ28+BA28 -> 0 | BD28: =BC28*19% -> 0 | BE28: =BC28+BD28 -> 0 | BG28: =BF28*19% -> 0 | BH28: =BF28+BG28 -> 0 | BJ28: =BI28*19% -> 0 | BK28: =BI28+BJ28 -> 0 | BM28: =BL28*19% -> 0 | BN28: =BL28+BM28 -> 0 | BP28: =BO28*19% -> 0 | BQ28: =BO28+BP28 -> 0 | BS28: =BR28*19% -> 0 | BT28: =BR28+BS28 -> 0 | BV28: =BU28*19% -> 0 | BW28: =BU28+BV28 -> 0 | BY28: =BX28*19% -> 0 | BZ28: =BX28+BY28 -> 0 | CB28: =CA28*19% -> 0 | CC28: =CA28+CB28 -> 0 | CE28: =CD28*19% -> 0 | CF28: =CD28+CE28 -> 0 | CH28: =CG28*19% -> 0 | CI28: =CG28+CH28 -> 0 | CK28: =CJ28*19% -> 0 | CL28: =CJ28+CK28 -> 0 | CN28: =CM28*19% -> 0 | CO28: =CM28+CN28 -> 0 | CQ28: =CP28*19% -> 0 | CR28: =CP28+CQ28 -> 0 | CT28: =CS28*19% -> 0 | CU28: =CS28+CT28 -> 0 | CW28: =CV28*19% -> 0 | CX28: =CV28+CW28 -> 0
B29: 2.10 | C29: EMPAQUE DE CULATA | E29: =D29*19% -> 0 | F29: =D29+E29 -> 0 | H29: =G29*19% -> 0 | I29: =G29+H29 -> 0 | K29: =J29*19% -> 0 | L29: =J29+K29 -> 0 | N29: =M29*19% -> 0 | O29: =M29+N29 -> 0 | Q29: =P29*19% -> 0 | R29: =P29+Q29 -> 0 | T29: =S29*19% -> 0 | U29: =S29+T29 -> 0 | W29: =V29*19% -> 0 | X29: =V29+W29 -> 0 | Z29: =Y29*19% -> 0 | AA29: =Y29+Z29 -> 0 | AC29: =AB29*19% -> 0 | AD29: =AB29+AC29 -> 0 | AF29: =AE29*19% -> 0 | AG29: =AE29+AF29 -> 0 | AI29: =AH29*19% -> 0 | AJ29: =AH29+AI29 -> 0 | AL29: =AK29*19% -> 0 | AM29: =AK29+AL29 -> 0 | AO29: =AN29*19% -> 0 | AP29: =AN29+AO29 -> 0 | AR29: =AQ29*19% -> 0 | AS29: =AQ29+AR29 -> 0 | AU29: =AT29*19% -> 0 | AV29: =AT29+AU29 -> 0 | AX29: =AW29*19% -> 0 | AY29: =AW29+AX29 -> 0 | BA29: =AZ29*19% -> 0 | BB29: =AZ29+BA29 -> 0 | BD29: =BC29*19% -> 0 | BE29: =BC29+BD29 -> 0 | BG29: =BF29*19% -> 0 | BH29: =BF29+BG29 -> 0 | BJ29: =BI29*19% -> 0 | BK29: =BI29+BJ29 -> 0 | BM29: =BL29*19% -> 0 | BN29: =BL29+BM29 -> 0 | BP29: =BO29*19% -> 0 | BQ29: =BO29+BP29 -> 0 | BS29: =BR29*19% -> 0 | BT29: =BR29+BS29 -> 0 | BV29: =BU29*19% -> 0 | BW29: =BU29+BV29 -> 0 | BY29: =BX29*19% -> 0 | BZ29: =BX29+BY29 -> 0 | CB29: =CA29*19% -> 0 | CC29: =CA29+CB29 -> 0 | CE29: =CD29*19% -> 0 | CF29: =CD29+CE29 -> 0 | CH29: =CG29*19% -> 0 | CI29: =CG29+CH29 -> 0 | CK29: =CJ29*19% -> 0 | CL29: =CJ29+CK29 -> 0 | CN29: =CM29*19% -> 0 | CO29: =CM29+CN29 -> 0 | CQ29: =CP29*19% -> 0 | CR29: =CP29+CQ29 -> 0 | CT29: =CS29*19% -> 0 | CU29: =CS29+CT29 -> 0 | CW29: =CV29*19% -> 0 | CX29: =CV29+CW29 -> 0
B30: 2.11 | C30: EMPAQUETADURA MOTOR | E30: =D30*19% -> 0 | F30: =D30+E30 -> 0 | H30: =G30*19% -> 0 | I30: =G30+H30 -> 0 | K30: =J30*19% -> 0 | L30: =J30+K30 -> 0 | N30: =M30*19% -> 0 | O30: =M30+N30 -> 0 | Q30: =P30*19% -> 0 | R30: =P30+Q30 -> 0 | T30: =S30*19% -> 0 | U30: =S30+T30 -> 0 | W30: =V30*19% -> 0 | X30: =V30+W30 -> 0 | Z30: =Y30*19% -> 0 | AA30: =Y30+Z30 -> 0 | AC30: =AB30*19% -> 0 | AD30: =AB30+AC30 -> 0 | AF30: =AE30*19% -> 0 | AG30: =AE30+AF30 -> 0 | AI30: =AH30*19% -> 0 | AJ30: =AH30+AI30 -> 0 | AL30: =AK30*19% -> 0 | AM30: =AK30+AL30 -> 0 | AO30: =AN30*19% -> 0 | AP30: =AN30+AO30 -> 0 | AR30: =AQ30*19% -> 0 | AS30: =AQ30+AR30 -> 0 | AU30: =AT30*19% -> 0 | AV30: =AT30+AU30 -> 0 | AX30: =AW30*19% -> 0 | AY30: =AW30+AX30 -> 0 | BA30: =AZ30*19% -> 0 | BB30: =AZ30+BA30 -> 0 | BD30: =BC30*19% -> 0 | BE30: =BC30+BD30 -> 0 | BG30: =BF30*19% -> 0 | BH30: =BF30+BG30 -> 0 | BJ30: =BI30*19% -> 0 | BK30: =BI30+BJ30 -> 0 | BM30: =BL30*19% -> 0 | BN30: =BL30+BM30 -> 0 | BP30: =BO30*19% -> 0 | BQ30: =BO30+BP30 -> 0 | BS30: =BR30*19% -> 0 | BT30: =BR30+BS30 -> 0 | BV30: =BU30*19% -> 0 | BW30: =BU30+BV30 -> 0 | BY30: =BX30*19% -> 0 | BZ30: =BX30+BY30 -> 0 | CB30: =CA30*19% -> 0 | CC30: =CA30+CB30 -> 0 | CE30: =CD30*19% -> 0 | CF30: =CD30+CE30 -> 0 | CH30: =CG30*19% -> 0 | CI30: =CG30+CH30 -> 0 | CK30: =CJ30*19% -> 0 | CL30: =CJ30+CK30 -> 0 | CN30: =CM30*19% -> 0 | CO30: =CM30+CN30 -> 0 | CQ30: =CP30*19% -> 0 | CR30: =CP30+CQ30 -> 0 | CT30: =CS30*19% -> 0 | CU30: =CS30+CT30 -> 0 | CW30: =CV30*19% -> 0 | CX30: =CV30+CW30 -> 0
B31: 2.12 | C31: FILTRO DE ACEITE | E31: =D31*19% -> 0 | F31: =D31+E31 -> 0 | H31: =G31*19% -> 0 | I31: =G31+H31 -> 0 | K31: =J31*19% -> 0 | L31: =J31+K31 -> 0 | N31: =M31*19% -> 0 | O31: =M31+N31 -> 0 | Q31: =P31*19% -> 0 | R31: =P31+Q31 -> 0 | T31: =S31*19% -> 0 | U31: =S31+T31 -> 0 | W31: =V31*19% -> 0 | X31: =V31+W31 -> 0 | Z31: =Y31*19% -> 0 | AA31: =Y31+Z31 -> 0 | AC31: =AB31*19% -> 0 | AD31: =AB31+AC31 -> 0 | AF31: =AE31*19% -> 0 | AG31: =AE31+AF31 -> 0 | AI31: =AH31*19% -> 0 | AJ31: =AH31+AI31 -> 0 | AL31: =AK31*19% -> 0 | AM31: =AK31+AL31 -> 0 | AO31: =AN31*19% -> 0 | AP31: =AN31+AO31 -> 0 | AR31: =AQ31*19% -> 0 | AS31: =AQ31+AR31 -> 0 | AU31: =AT31*19% -> 0 | AV31: =AT31+AU31 -> 0 | AX31: =AW31*19% -> 0 | AY31: =AW31+AX31 -> 0 | BA31: =AZ31*19% -> 0 | BB31: =AZ31+BA31 -> 0 | BD31: =BC31*19% -> 0 | BE31: =BC31+BD31 -> 0 | BG31: =BF31*19% -> 0 | BH31: =BF31+BG31 -> 0 | BJ31: =BI31*19% -> 0 | BK31: =BI31+BJ31 -> 0 | BM31: =BL31*19% -> 0 | BN31: =BL31+BM31 -> 0 | BP31: =BO31*19% -> 0 | BQ31: =BO31+BP31 -> 0 | BS31: =BR31*19% -> 0 | BT31: =BR31+BS31 -> 0 | BV31: =BU31*19% -> 0 | BW31: =BU31+BV31 -> 0 | BY31: =BX31*19% -> 0 | BZ31: =BX31+BY31 -> 0 | CB31: =CA31*19% -> 0 | CC31: =CA31+CB31 -> 0 | CE31: =CD31*19% -> 0 | CF31: =CD31+CE31 -> 0 | CH31: =CG31*19% -> 0 | CI31: =CG31+CH31 -> 0 | CK31: =CJ31*19% -> 0 | CL31: =CJ31+CK31 -> 0 | CN31: =CM31*19% -> 0 | CO31: =CM31+CN31 -> 0 | CQ31: =CP31*19% -> 0 | CR31: =CP31+CQ31 -> 0 | CT31: =CS31*19% -> 0 | CU31: =CS31+CT31 -> 0 | CW31: =CV31*19% -> 0 | CX31: =CV31+CW31 -> 0
... B37: 2.18 | C37: VALVULAS (JUEGO) | E37: =D37*19% -> 0 | F37: =D37+E37 -> 0 | H37: =G37*19% -> 0 | I37: =G37+H37 -> 0 | K37: =J37*19% -> 0 | L37: =J37+K37 -> 0 | N37: =M37*19% -> 0 | O37: =M37+N37 -> 0 | Q37: =P37*19% -> 0 | R37: =P37+Q37 -> 0 | T37: =S37*19% -> 0 | U37: =S37+T37 -> 0 | W37: =V37*19% -> 0 | X37: =V37+W37 -> 0 | Z37: =Y37*19% -> 0 | AA37: =Y37+Z37 -> 0 | AC37: =AB37*19% -> 0 | AD37: =AB37+AC37 -> 0 | AF37: =AE37*19% -> 0 | AG37: =AE37+AF37 -> 0 | AI37: =AH37*19% -> 0 | AJ37: =AH37+AI37 -> 0 | AL37: =AK37*19% -> 0 | AM37: =AK37+AL37 -> 0 | AO37: =AN37*19% -> 0 | AP37: =AN37+AO37 -> 0 | AR37: =AQ37*19% -> 0 | AS37: =AQ37+AR37 -> 0 | AU37: =AT37*19% -> 0 | AV37: =AT37+AU37 -> 0 | AX37: =AW37*19% -> 0 | AY37: =AW37+AX37 -> 0 | BA37: =AZ37*19% -> 0 | BB37: =AZ37+BA37 -> 0 | BD37: =BC37*19% -> 0 | BE37: =BC37+BD37 -> 0 | BG37: =BF37*19% -> 0 | BH37: =BF37+BG37 -> 0 | BJ37: =BI37*19% -> 0 | BK37: =BI37+BJ37 -> 0 | BM37: =BL37*19% -> 0 | BN37: =BL37+BM37 -> 0 | BP37: =BO37*19% -> 0 | BQ37: =BO37+BP37 -> 0 | BS37: =BR37*19% -> 0 | BT37: =BR37+BS37 -> 0 | BV37: =BU37*19% -> 0 | BW37: =BU37+BV37 -> 0 | BY37: =BX37*19% -> 0 | BZ37: =BX37+BY37 -> 0 | CB37: =CA37*19% -> 0 | CC37: =CA37+CB37 -> 0 | CE37: =CD37*19% -> 0 | CF37: =CD37+CE37 -> 0 | CH37: =CG37*19% -> 0 | CI37: =CG37+CH37 -> 0 | CK37: =CJ37*19% -> 0 | CL37: =CJ37+CK37 -> 0 | CN37: =CM37*19% -> 0 | CO37: =CM37+CN37 -> 0 | CQ37: =CP37*19% -> 0 | CR37: =CP37+CQ37 -> 0 | CT37: =CS37*19% -> 0 | CU37: =CS37+CT37 -> 0 | CW37: =CV37*19% -> 0 | CX37: =CV37+CW37 -> 0
B38: 3 | C38: SISTEMA DE TRANSFERENCIA | D38: 0 | E38: 0 | F38: 0 | G38: 0 | H38: 0 | I38: 0 | J38: 0 | K38: 0 | L38: 0 | M38: 0 | N38: 0 | O38: 0 | P38: 0 | Q38: 0 | R38: 0 | S38: 0 | T38: 0 | U38: 0 | V38: 0 | W38: 0 | X38: 0 | Y38: 0 | Z38: 0 | AA38: 0 | AB38: 0 | AC38: 0 | AD38: 0 | AE38: 0 | AF38: 0 | AG38: 0 | AH38: 0 | AI38: 0 | AJ38: 0 | AK38: 0 | AL38: 0 | AM38: 0 | AN38: 0 | AO38: 0 | AP38: 0 | AQ38: 0 | AR38: 0 | AS38: 0 | AT38: 0 | AU38: 0 | AV38: 0 | AW38: 0 | AX38: 0 | AY38: 0 | AZ38: 0 | BA38: 0 | BB38: 0 | BC38: 0 | BD38: 0 | BE38: 0 | BF38: 0 | BG38: 0 | BH38: 0 | BI38: 0 | BJ38: 0 | BK38: 0 | BL38: 0 | BM38: 0 | BN38: 0 | BO38: 0 | BP38: 0 | BQ38: 0 | BR38: 0 | BS38: 0 | BT38: 0 | BU38: 0 | BV38: 0 | BW38: 0 | BX38: 0 | BY38: 0 | BZ38: 0 | CA38: 0 | CB38: 0 | CC38: 0 | CD38: 0 | CE38: 0 | CF38: 0 | CG38: 0 | CH38: 0 | CI38: 0 | CJ38: 0 | CK38: 0 | CL38: 0 | CM38: 0 | CN38: 0 | CO38: 0 | CP38: 0 | CQ38: 0 | CR38: 0 | CS38: 0 | CT38: 0 | CU38: 0 | CV38: 0 | CW38: 0 | CX38: 0
B39: 3.1 | C39: EMPAQUE TAPA EMBRAGUE | E39: =D39*19% -> 0 | F39: =D39+E39 -> 0 | H39: =G39*19% -> 0 | I39: =G39+H39 -> 0 | K39: =J39*19% -> 0 | L39: =J39+K39 -> 0 | N39: =M39*19% -> 0 | O39: =M39+N39 -> 0 | Q39: =P39*19% -> 0 | R39: =P39+Q39 -> 0 | T39: =S39*19% -> 0 | U39: =S39+T39 -> 0 | W39: =V39*19% -> 0 | X39: =V39+W39 -> 0 | Z39: =Y39*19% -> 0 | AA39: =Y39+Z39 -> 0 | AC39: =AB39*19% -> 0 | AD39: =AB39+AC39 -> 0 | AF39: =AE39*19% -> 0 | AG39: =AE39+AF39 -> 0 | AI39: =AH39*19% -> 0 | AJ39: =AH39+AI39 -> 0 | AL39: =AK39*19% -> 0 | AM39: =AK39+AL39 -> 0 | AO39: =AN39*19% -> 0 | AP39: =AN39+AO39 -> 0 | AR39: =AQ39*19% -> 0 | AS39: =AQ39+AR39 -> 0 | AU39: =AT39*19% -> 0 | AV39: =AT39+AU39 -> 0 | AX39: =AW39*19% -> 0 | AY39: =AW39+AX39 -> 0 | BA39: =AZ39*19% -> 0 | BB39: =AZ39+BA39 -> 0 | BD39: =BC39*19% -> 0 | BE39: =BC39+BD39 -> 0 | BG39: =BF39*19% -> 0 | BH39: =BF39+BG39 -> 0 | BJ39: =BI39*19% -> 0 | BK39: =BI39+BJ39 -> 0 | BM39: =BL39*19% -> 0 | BN39: =BL39+BM39 -> 0 | BP39: =BO39*19% -> 0 | BQ39: =BO39+BP39 -> 0 | BS39: =BR39*19% -> 0 | BT39: =BR39+BS39 -> 0 | BV39: =BU39*19% -> 0 | BW39: =BU39+BV39 -> 0 | BY39: =BX39*19% -> 0 | BZ39: =BX39+BY39 -> 0 | CB39: =CA39*19% -> 0 | CC39: =CA39+CB39 -> 0 | CE39: =CD39*19% -> 0 | CF39: =CD39+CE39 -> 0 | CH39: =CG39*19% -> 0 | CI39: =CG39+CH39 -> 0 | CK39: =CJ39*19% -> 0 | CL39: =CJ39+CK39 -> 0 | CN39: =CM39*19% -> 0 | CO39: =CM39+CN39 -> 0 | CQ39: =CP39*19% -> 0 | CR39: =CP39+CQ39 -> 0 | CT39: =CS39*19% -> 0 | CU39: =CS39+CT39 -> 0 | CW39: =CV39*19% -> 0 | CX39: =CV39+CW39 -> 0
B40: 3.2 | C40: GUAYA EMBREAGUE | E40: =D40*19% -> 0 | F40: =D40+E40 -> 0 | H40: =G40*19% -> 0 | I40: =G40+H40 -> 0 | K40: =J40*19% -> 0 | L40: =J40+K40 -> 0 | N40: =M40*19% -> 0 | O40: =M40+N40 -> 0 | Q40: =P40*19% -> 0 | R40: =P40+Q40 -> 0 | T40: =S40*19% -> 0 | U40: =S40+T40 -> 0 | W40: =V40*19% -> 0 | X40: =V40+W40 -> 0 | Z40: =Y40*19% -> 0 | AA40: =Y40+Z40 -> 0 | AC40: =AB40*19% -> 0 | AD40: =AB40+AC40 -> 0 | AF40: =AE40*19% -> 0 | AG40: =AE40+AF40 -> 0 | AI40: =AH40*19% -> 0 | AJ40: =AH40+AI40 -> 0 | AL40: =AK40*19% -> 0 | AM40: =AK40+AL40 -> 0 | AO40: =AN40*19% -> 0 | AP40: =AN40+AO40 -> 0 | AR40: =AQ40*19% -> 0 | AS40: =AQ40+AR40 -> 0 | AU40: =AT40*19% -> 0 | AV40: =AT40+AU40 -> 0 | AX40: =AW40*19% -> 0 | AY40: =AW40+AX40 -> 0 | BA40: =AZ40*19% -> 0 | BB40: =AZ40+BA40 -> 0 | BD40: =BC40*19% -> 0 | BE40: =BC40+BD40 -> 0 | BG40: =BF40*19% -> 0 | BH40: =BF40+BG40 -> 0 | BJ40: =BI40*19% -> 0 | BK40: =BI40+BJ40 -> 0 | BM40: =BL40*19% -> 0 | BN40: =BL40+BM40 -> 0 | BP40: =BO40*19% -> 0 | BQ40: =BO40+BP40 -> 0 | BS40: =BR40*19% -> 0 | BT40: =BR40+BS40 -> 0 | BV40: =BU40*19% -> 0 | BW40: =BU40+BV40 -> 0 | BY40: =BX40*19% -> 0 | BZ40: =BX40+BY40 -> 0 | CB40: =CA40*19% -> 0 | CC40: =CA40+CB40 -> 0 | CE40: =CD40*19% -> 0 | CF40: =CD40+CE40 -> 0 | CH40: =CG40*19% -> 0 | CI40: =CG40+CH40 -> 0 | CK40: =CJ40*19% -> 0 | CL40: =CJ40+CK40 -> 0 | CN40: =CM40*19% -> 0 | CO40: =CM40+CN40 -> 0 | CQ40: =CP40*19% -> 0 | CR40: =CP40+CQ40 -> 0 | CT40: =CS40*19% -> 0 | CU40: =CS40+CT40 -> 0 | CW40: =CV40*19% -> 0 | CX40: =CV40+CW40 -> 0
B41: 3.3 | C41: GUAYA VELOCIMETRO | E41: =D41*19% -> 0 | F41: =D41+E41 -> 0 | H41: =G41*19% -> 0 | I41: =G41+H41 -> 0 | K41: =J41*19% -> 0 | L41: =J41+K41 -> 0 | N41: =M41*19% -> 0 | O41: =M41+N41 -> 0 | Q41: =P41*19% -> 0 | R41: =P41+Q41 -> 0 | T41: =S41*19% -> 0 | U41: =S41+T41 -> 0 | W41: =V41*19% -> 0 | X41: =V41+W41 -> 0 | Z41: =Y41*19% -> 0 | AA41: =Y41+Z41 -> 0 | AC41: =AB41*19% -> 0 | AD41: =AB41+AC41 -> 0 | AF41: =AE41*19% -> 0 | AG41: =AE41+AF41 -> 0 | AI41: =AH41*19% -> 0 | AJ41: =AH41+AI41 -> 0 | AL41: =AK41*19% -> 0 | AM41: =AK41+AL41 -> 0 | AO41: =AN41*19% -> 0 | AP41: =AN41+AO41 -> 0 | AR41: =AQ41*19% -> 0 | AS41: =AQ41+AR41 -> 0 | AU41: =AT41*19% -> 0 | AV41: =AT41+AU41 -> 0 | AX41: =AW41*19% -> 0 | AY41: =AW41+AX41 -> 0 | BA41: =AZ41*19% -> 0 | BB41: =AZ41+BA41 -> 0 | BD41: =BC41*19% -> 0 | BE41: =BC41+BD41 -> 0 | BG41: =BF41*19% -> 0 | BH41: =BF41+BG41 -> 0 | BJ41: =BI41*19% -> 0 | BK41: =BI41+BJ41 -> 0 | BM41: =BL41*19% -> 0 | BN41: =BL41+BM41 -> 0 | BP41: =BO41*19% -> 0 | BQ41: =BO41+BP41 -> 0 | BS41: =BR41*19% -> 0 | BT41: =BR41+BS41 -> 0 | BV41: =BU41*19% -> 0 | BW41: =BU41+BV41 -> 0 | BY41: =BX41*19% -> 0 | BZ41: =BX41+BY41 -> 0 | CB41: =CA41*19% -> 0 | CC41: =CA41+CB41 -> 0 | CE41: =CD41*19% -> 0 | CF41: =CD41+CE41 -> 0 | CH41: =CG41*19% -> 0 | CI41: =CG41+CH41 -> 0 | CK41: =CJ41*19% -> 0 | CL41: =CJ41+CK41 -> 0 | CN41: =CM41*19% -> 0 | CO41: =CM41+CN41 -> 0 | CQ41: =CP41*19% -> 0 | CR41: =CP41+CQ41 -> 0 | CT41: =CS41*19% -> 0 | CU41: =CS41+CT41 -> 0 | CW41: =CV41*19% -> 0 | CX41: =CV41+CW41 -> 0
B42: 3.4 | C42: JUEGO CAUCHOS DE CAMPANA | E42: =D42*19% -> 0 | F42: =D42+E42 -> 0 | H42: =G42*19% -> 0 | I42: =G42+H42 -> 0 | K42: =J42*19% -> 0 | L42: =J42+K42 -> 0 | N42: =M42*19% -> 0 | O42: =M42+N42 -> 0 | Q42: =P42*19% -> 0 | R42: =P42+Q42 -> 0 | T42: =S42*19% -> 0 | U42: =S42+T42 -> 0 | W42: =V42*19% -> 0 | X42: =V42+W42 -> 0 | Z42: =Y42*19% -> 0 | AA42: =Y42+Z42 -> 0 | AC42: =AB42*19% -> 0 | AD42: =AB42+AC42 -> 0 | AF42: =AE42*19% -> 0 | AG42: =AE42+AF42 -> 0 | AI42: =AH42*19% -> 0 | AJ42: =AH42+AI42 -> 0 | AL42: =AK42*19% -> 0 | AM42: =AK42+AL42 -> 0 | AO42: =AN42*19% -> 0 | AP42: =AN42+AO42 -> 0 | AR42: =AQ42*19% -> 0 | AS42: =AQ42+AR42 -> 0 | AU42: =AT42*19% -> 0 | AV42: =AT42+AU42 -> 0 | AX42: =AW42*19% -> 0 | AY42: =AW42+AX42 -> 0 | BA42: =AZ42*19% -> 0 | BB42: =AZ42+BA42 -> 0 | BD42: =BC42*19% -> 0 | BE42: =BC42+BD42 -> 0 | BG42: =BF42*19% -> 0 | BH42: =BF42+BG42 -> 0 | BJ42: =BI42*19% -> 0 | BK42: =BI42+BJ42 -> 0 | BM42: =BL42*19% -> 0 | BN42: =BL42+BM42 -> 0 | BP42: =BO42*19% -> 0 | BQ42: =BO42+BP42 -> 0 | BS42: =BR42*19% -> 0 | BT42: =BR42+BS42 -> 0 | BV42: =BU42*19% -> 0 | BW42: =BU42+BV42 -> 0 | BY42: =BX42*19% -> 0 | BZ42: =BX42+BY42 -> 0 | CB42: =CA42*19% -> 0 | CC42: =CA42+CB42 -> 0 | CE42: =CD42*19% -> 0 | CF42: =CD42+CE42 -> 0 | CH42: =CG42*19% -> 0 | CI42: =CG42+CH42 -> 0 | CK42: =CJ42*19% -> 0 | CL42: =CJ42+CK42 -> 0 | CN42: =CM42*19% -> 0 | CO42: =CM42+CN42 -> 0 | CQ42: =CP42*19% -> 0 | CR42: =CP42+CQ42 -> 0 | CT42: =CS42*19% -> 0 | CU42: =CS42+CT42 -> 0 | CW42: =CV42*19% -> 0 | CX42: =CV42+CW42 -> 0
B43: 3.5 | C43: KIT DE ARRASTRE | E43: =D43*19% -> 0 | F43: =D43+E43 -> 0 | H43: =G43*19% -> 0 | I43: =G43+H43 -> 0 | K43: =J43*19% -> 0 | L43: =J43+K43 -> 0 | N43: =M43*19% -> 0 | O43: =M43+N43 -> 0 | Q43: =P43*19% -> 0 | R43: =P43+Q43 -> 0 | T43: =S43*19% -> 0 | U43: =S43+T43 -> 0 | W43: =V43*19% -> 0 | X43: =V43+W43 -> 0 | Z43: =Y43*19% -> 0 | AA43: =Y43+Z43 -> 0 | AC43: =AB43*19% -> 0 | AD43: =AB43+AC43 -> 0 | AF43: =AE43*19% -> 0 | AG43: =AE43+AF43 -> 0 | AI43: =AH43*19% -> 0 | AJ43: =AH43+AI43 -> 0 | AL43: =AK43*19% -> 0 | AM43: =AK43+AL43 -> 0 | AO43: =AN43*19% -> 0 | AP43: =AN43+AO43 -> 0 | AR43: =AQ43*19% -> 0 | AS43: =AQ43+AR43 -> 0 | AU43: =AT43*19% -> 0 | AV43: =AT43+AU43 -> 0 | AX43: =AW43*19% -> 0 | AY43: =AW43+AX43 -> 0 | BA43: =AZ43*19% -> 0 | BB43: =AZ43+BA43 -> 0 | BD43: =BC43*19% -> 0 | BE43: =BC43+BD43 -> 0 | BG43: =BF43*19% -> 0 | BH43: =BF43+BG43 -> 0 | BJ43: =BI43*19% -> 0 | BK43: =BI43+BJ43 -> 0 | BM43: =BL43*19% -> 0 | BN43: =BL43+BM43 -> 0 | BP43: =BO43*19% -> 0 | BQ43: =BO43+BP43 -> 0 | BS43: =BR43*19% -> 0 | BT43: =BR43+BS43 -> 0 | BV43: =BU43*19% -> 0 | BW43: =BU43+BV43 -> 0 | BY43: =BX43*19% -> 0 | BZ43: =BX43+BY43 -> 0 | CB43: =CA43*19% -> 0 | CC43: =CA43+CB43 -> 0 | CE43: =CD43*19% -> 0 | CF43: =CD43+CE43 -> 0 | CH43: =CG43*19% -> 0 | CI43: =CG43+CH43 -> 0 | CK43: =CJ43*19% -> 0 | CL43: =CJ43+CK43 -> 0 | CN43: =CM43*19% -> 0 | CO43: =CM43+CN43 -> 0 | CQ43: =CP43*19% -> 0 | CR43: =CP43+CQ43 -> 0 | CT43: =CS43*19% -> 0 | CU43: =CS43+CT43 -> 0 | CW43: =CV43*19% -> 0 | CX43: =CV43+CW43 -> 0
B44: 3.6 | C44: KIT DE EMBRAGUE | E44: =D44*19% -> 0 | F44: =D44+E44 -> 0 | H44: =G44*19% -> 0 | I44: =G44+H44 -> 0 | K44: =J44*19% -> 0 | L44: =J44+K44 -> 0 | N44: =M44*19% -> 0 | O44: =M44+N44 -> 0 | Q44: =P44*19% -> 0 | R44: =P44+Q44 -> 0 | T44: =S44*19% -> 0 | U44: =S44+T44 -> 0 | W44: =V44*19% -> 0 | X44: =V44+W44 -> 0 | Z44: =Y44*19% -> 0 | AA44: =Y44+Z44 -> 0 | AC44: =AB44*19% -> 0 | AD44: =AB44+AC44 -> 0 | AF44: =AE44*19% -> 0 | AG44: =AE44+AF44 -> 0 | AI44: =AH44*19% -> 0 | AJ44: =AH44+AI44 -> 0 | AL44: =AK44*19% -> 0 | AM44: =AK44+AL44 -> 0 | AO44: =AN44*19% -> 0 | AP44: =AN44+AO44 -> 0 | AR44: =AQ44*19% -> 0 | AS44: =AQ44+AR44 -> 0 | AU44: =AT44*19% -> 0 | AV44: =AT44+AU44 -> 0 | AX44: =AW44*19% -> 0 | AY44: =AW44+AX44 -> 0 | BA44: =AZ44*19% -> 0 | BB44: =AZ44+BA44 -> 0 | BD44: =BC44*19% -> 0 | BE44: =BC44+BD44 -> 0 | BG44: =BF44*19% -> 0 | BH44: =BF44+BG44 -> 0 | BJ44: =BI44*19% -> 0 | BK44: =BI44+BJ44 -> 0 | BM44: =BL44*19% -> 0 | BN44: =BL44+BM44 -> 0 | BP44: =BO44*19% -> 0 | BQ44: =BO44+BP44 -> 0 | BS44: =BR44*19% -> 0 | BT44: =BR44+BS44 -> 0 | BV44: =BU44*19% -> 0 | BW44: =BU44+BV44 -> 0 | BY44: =BX44*19% -> 0 | BZ44: =BX44+BY44 -> 0 | CB44: =CA44*19% -> 0 | CC44: =CA44+CB44 -> 0 | CE44: =CD44*19% -> 0 | CF44: =CD44+CE44 -> 0 | CH44: =CG44*19% -> 0 | CI44: =CG44+CH44 -> 0 | CK44: =CJ44*19% -> 0 | CL44: =CJ44+CK44 -> 0 | CN44: =CM44*19% -> 0 | CO44: =CM44+CN44 -> 0 | CQ44: =CP44*19% -> 0 | CR44: =CP44+CQ44 -> 0 | CT44: =CS44*19% -> 0 | CU44: =CS44+CT44 -> 0 | CW44: =CV44*19% -> 0 | CX44: =CV44+CW44 -> 0
B45: 3.7 | C45: MANIJA DE EMBRAGUE | E45: =D45*19% -> 0 | F45: =D45+E45 -> 0 | H45: =G45*19% -> 0 | I45: =G45+H45 -> 0 | K45: =J45*19% -> 0 | L45: =J45+K45 -> 0 | N45: =M45*19% -> 0 | O45: =M45+N45 -> 0 | Q45: =P45*19% -> 0 | R45: =P45+Q45 -> 0 | T45: =S45*19% -> 0 | U45: =S45+T45 -> 0 | W45: =V45*19% -> 0 | X45: =V45+W45 -> 0 | Z45: =Y45*19% -> 0 | AA45: =Y45+Z45 -> 0 | AC45: =AB45*19% -> 0 | AD45: =AB45+AC45 -> 0 | AF45: =AE45*19% -> 0 | AG45: =AE45+AF45 -> 0 | AI45: =AH45*19% -> 0 | AJ45: =AH45+AI45 -> 0 | AL45: =AK45*19% -> 0 | AM45: =AK45+AL45 -> 0 | AO45: =AN45*19% -> 0 | AP45: =AN45+AO45 -> 0 | AR45: =AQ45*19% -> 0 | AS45: =AQ45+AR45 -> 0 | AU45: =AT45*19% -> 0 | AV45: =AT45+AU45 -> 0 | AX45: =AW45*19% -> 0 | AY45: =AW45+AX45 -> 0 | BA45: =AZ45*19% -> 0 | BB45: =AZ45+BA45 -> 0 | BD45: =BC45*19% -> 0 | BE45: =BC45+BD45 -> 0 | BG45: =BF45*19% -> 0 | BH45: =BF45+BG45 -> 0 | BJ45: =BI45*19% -> 0 | BK45: =BI45+BJ45 -> 0 | BM45: =BL45*19% -> 0 | BN45: =BL45+BM45 -> 0 | BP45: =BO45*19% -> 0 | BQ45: =BO45+BP45 -> 0 | BS45: =BR45*19% -> 0 | BT45: =BR45+BS45 -> 0 | BV45: =BU45*19% -> 0 | BW45: =BU45+BV45 -> 0 | BY45: =BX45*19% -> 0 | BZ45: =BX45+BY45 -> 0 | CB45: =CA45*19% -> 0 | CC45: =CA45+CB45 -> 0 | CE45: =CD45*19% -> 0 | CF45: =CD45+CE45 -> 0 | CH45: =CG45*19% -> 0 | CI45: =CG45+CH45 -> 0 | CK45: =CJ45*19% -> 0 | CL45: =CJ45+CK45 -> 0 | CN45: =CM45*19% -> 0 | CO45: =CM45+CN45 -> 0 | CQ45: =CP45*19% -> 0 | CR45: =CP45+CQ45 -> 0 | CT45: =CS45*19% -> 0 | CU45: =CS45+CT45 -> 0 | CW45: =CV45*19% -> 0 | CX45: =CV45+CW45 -> 0
B46: 3.8 | C46: PIÑON VELOCIMETRO | E46: =D46*19% -> 0 | F46: =D46+E46 -> 0 | H46: =G46*19% -> 0 | I46: =G46+H46 -> 0 | K46: =J46*19% -> 0 | L46: =J46+K46 -> 0 | N46: =M46*19% -> 0 | O46: =M46+N46 -> 0 | Q46: =P46*19% -> 0 | R46: =P46+Q46 -> 0 | T46: =S46*19% -> 0 | U46: =S46+T46 -> 0 | W46: =V46*19% -> 0 | X46: =V46+W46 -> 0 | Z46: =Y46*19% -> 0 | AA46: =Y46+Z46 -> 0 | AC46: =AB46*19% -> 0 | AD46: =AB46+AC46 -> 0 | AF46: =AE46*19% -> 0 | AG46: =AE46+AF46 -> 0 | AI46: =AH46*19% -> 0 | AJ46: =AH46+AI46 -> 0 | AL46: =AK46*19% -> 0 | AM46: =AK46+AL46 -> 0 | AO46: =AN46*19% -> 0 | AP46: =AN46+AO46 -> 0 | AR46: =AQ46*19% -> 0 | AS46: =AQ46+AR46 -> 0 | AU46: =AT46*19% -> 0 | AV46: =AT46+AU46 -> 0 | AX46: =AW46*19% -> 0 | AY46: =AW46+AX46 -> 0 | BA46: =AZ46*19% -> 0 | BB46: =AZ46+BA46 -> 0 | BD46: =BC46*19% -> 0 | BE46: =BC46+BD46 -> 0 | BG46: =BF46*19% -> 0 | BH46: =BF46+BG46 -> 0 | BJ46: =BI46*19% -> 0 | BK46: =BI46+BJ46 -> 0 | BM46: =BL46*19% -> 0 | BN46: =BL46+BM46 -> 0 | BP46: =BO46*19% -> 0 | BQ46: =BO46+BP46 -> 0 | BS46: =BR46*19% -> 0 | BT46: =BR46+BS46 -> 0 | BV46: =BU46*19% -> 0 | BW46: =BU46+BV46 -> 0 | BY46: =BX46*19% -> 0 | BZ46: =BX46+BY46 -> 0 | CB46: =CA46*19% -> 0 | CC46: =CA46+CB46 -> 0 | CE46: =CD46*19% -> 0 | CF46: =CD46+CE46 -> 0 | CH46: =CG46*19% -> 0 | CI46: =CG46+CH46 -> 0 | CK46: =CJ46*19% -> 0 | CL46: =CJ46+CK46 -> 0 | CN46: =CM46*19% -> 0 | CO46: =CM46+CN46 -> 0 | CQ46: =CP46*19% -> 0 | CR46: =CP46+CQ46 -> 0 | CT46: =CS46*19% -> 0 | CU46: =CS46+CT46 -> 0 | CW46: =CV46*19% -> 0 | CX46: =CV46+CW46 -> 0
B47: 3.9 | C47: RETEN CONTROL DE CAMBIO | E47: =D47*19% -> 0 | F47: =D47+E47 -> 0 | H47: =G47*19% -> 0 | I47: =G47+H47 -> 0 | K47: =J47*19% -> 0 | L47: =J47+K47 -> 0 | N47: =M47*19% -> 0 | O47: =M47+N47 -> 0 | Q47: =P47*19% -> 0 | R47: =P47+Q47 -> 0 | T47: =S47*19% -> 0 | U47: =S47+T47 -> 0 | W47: =V47*19% -> 0 | X47: =V47+W47 -> 0 | Z47: =Y47*19% -> 0 | AA47: =Y47+Z47 -> 0 | AC47: =AB47*19% -> 0 | AD47: =AB47+AC47 -> 0 | AF47: =AE47*19% -> 0 | AG47: =AE47+AF47 -> 0 | AI47: =AH47*19% -> 0 | AJ47: =AH47+AI47 -> 0 | AL47: =AK47*19% -> 0 | AM47: =AK47+AL47 -> 0 | AO47: =AN47*19% -> 0 | AP47: =AN47+AO47 -> 0 | AR47: =AQ47*19% -> 0 | AS47: =AQ47+AR47 -> 0 | AU47: =AT47*19% -> 0 | AV47: =AT47+AU47 -> 0 | AX47: =AW47*19% -> 0 | AY47: =AW47+AX47 -> 0 | BA47: =AZ47*19% -> 0 | BB47: =AZ47+BA47 -> 0 | BD47: =BC47*19% -> 0 | BE47: =BC47+BD47 -> 0 | BG47: =BF47*19% -> 0 | BH47: =BF47+BG47 -> 0 | BJ47: =BI47*19% -> 0 | BK47: =BI47+BJ47 -> 0 | BM47: =BL47*19% -> 0 | BN47: =BL47+BM47 -> 0 | BP47: =BO47*19% -> 0 | BQ47: =BO47+BP47 -> 0 | BS47: =BR47*19% -> 0 | BT47: =BR47+BS47 -> 0 | BV47: =BU47*19% -> 0 | BW47: =BU47+BV47 -> 0 | BY47: =BX47*19% -> 0 | BZ47: =BX47+BY47 -> 0 | CB47: =CA47*19% -> 0 | CC47: =CA47+CB47 -> 0 | CE47: =CD47*19% -> 0 | CF47: =CD47+CE47 -> 0 | CH47: =CG47*19% -> 0 | CI47: =CG47+CH47 -> 0 | CK47: =CJ47*19% -> 0 | CL47: =CJ47+CK47 -> 0 | CN47: =CM47*19% -> 0 | CO47: =CM47+CN47 -> 0 | CQ47: =CP47*19% -> 0 | CR47: =CP47+CQ47 -> 0 | CT47: =CS47*19% -> 0 | CU47: =CS47+CT47 -> 0 | CW47: =CV47*19% -> 0 | CX47: =CV47+CW47 -> 0
...

Sheet REPUESTOS COMUNES
B2: OFERTA ECONÓMICA LOTE No. 1 - CALI Y VALLE DEL CAUCA | D2: REPUESTOS COMUNES MOTOCICLETAS MULTIMARCA
D4: MANTENIMIENTO MOTOS
D5: *** Incluye Costos Directos e Indirectos
B7: ITEM | C7: DESCRIPCION | D7: PRESENTACION | E7: SUBTOTAL | F7: IVA | G7: VALOR TOTAL
B8: 1 | C8: ACEITE MINERAL | D8: CUARTO | F8: =E8*19% -> 0 | G8: =E8+F8 -> 0
B9: 2 | C9: ACEITE HIDRAULICO | D9: CUARTO | F9: =E9*19% -> 0 | G9: =E9+F9 -> 0
B10: 3 | C10: ACEITE SINTETICO | D10: UNIDAD | F10: =E10*19% -> 0 | G10: =E10+F10 -> 0
B11: 4 | C11: ABRAZADERA METALICA GRANDE | D11: CUARTO | F11: =E11*19% -> 0 | G11: =E11+F11 -> 0
B12: 5 | C12: ABRAZADERA METALICA MEDIANA | D12: CUARTO | F12: =E12*19% -> 0 | G12: =E12+F12 -> 0
B13: 6 | C13: ABRAZADERA METALICA PEQUEÑA | D13: UNIDAD | F13: =E13*19% -> 0 | G13: =E13+F13 -> 0
B14: 7 | C14: ABRAZADERA PLASTICA | D14: UNIDAD | F14: =E14*19% -> 0 | G14: =E14+F14 -> 0
B15: 8 | C15: BOMBILLO DIRECCIONAL | D15: JUEGO | F15: =E15*19% -> 0 | G15: =E15+F15 -> 0
B16: 9 | C16: BOMBILLO FAROLA | D16: UNIDAD | F16: =E16*19% -> 0 | G16: =E16+F16 -> 0
B17: 10 | C17: BOMBILLO MUELA | D17: UNIDAD | F17: =E17*19% -> 0 | G17: =E17+F17 -> 0
B18: 11 | C18: BOMBILLO STOP | D18: UNIDAD | F18: =E18*19% -> 0 | G18: =E18+F18 -> 0
B19: 12 | C19: FLASHER | D19: UNIDAD | F19: =E19*19% -> 0 | G19: =E19+F19 -> 0
... B28: 21 | C28: SOKET RELAY | D28: UNIDAD | F28: =E28*19% -> 0 | G28: =E28+F28 -> 0
D29: TOTALES | E29: =SUM(E8:E28) -> 0 | F29: =SUM(F8:F28) -> 0 | G29: =SUM(G8:G28) -> 0
C32: NOTA 1: La Oferta Económica deberá ser diligenciada de acuerdo a la actividad económica del proponente y cada ítem por valor unitario. NOTA 2: Para el diligenciamiento de la Oferta Económica deberán tenerse en cuentas las causales de rechazo del Pliego de Condiciones. NOTA 3: Los valores que se inlcuyan para cada bien y/o servicio no podrán superar los precios techo contenidos en el documento denominado "Complemento del Estudio del Sector".

Sheet MANO DE OBRA
B2: OFERTA ECONÓMICA LOTE No. 1 - CALI Y VALLE DEL CAUCA | D2: MANO DE OBRA
D3: MANTENIMIENTO MOTOCICLETAS
D5: *** Incluye Costos Directos e Indirectos
B7: ITEM | D7: CILINDRAJE HASTA 249cc | G7: CILINDRAJE IGUAL O SUPERIOR A 250cc
B8: DESCRIPCION | D8: SUBTOTAL | E8: IVA | F8: TOTAL | G8: SUBTOTAL | H8: IVA | I8: TOTAL
B9: 1 | C9: SINCRONIZACION | D9: 0 | E9: =D9*19% -> 0 | F9: 0 | G9: 0 | H9: 0 | I9: 0
B10: 1.1 | C10: CALIBRAR VALVULAS | E10: =D10*19% -> 0 | F10: =D10+E10 -> 0 | H10: =G10*19% -> 0 | I10: =G10+H10 -> 0
B11: 1.2 | C11: CAMBIO BOBINA IGNICION | E11: =D11*19% -> 0 | F11: =D11+E11 -> 0 | H11: =G11*19% -> 0 | I11: =G11+H11 -> 0
B12: 1.3 | C12: CAMBIO BUJIA | E12: =D12*19% -> 0 | F12: =D12+E12 -> 0 | H12: =G12*19% -> 0 | I12: =G12+H12 -> 0
B13: 1.4 | C13: CAMBIO CDI | E13: =D13*19% -> 0 | F13: =D13+E13 -> 0 | H13: =G13*19% -> 0 | I13: =G13+H13 -> 0
B14: 1.5 | C14: CAMBIO FILTRO AIRE | E14: =D14*19% -> 0 | F14: =D14+E14 -> 0 | H14: =G14*19% -> 0 | I14: =G14+H14 -> 0
B15: 1.6 | C15: CAMBIO GUAYA ACELERADOR | E15: =D15*19% -> 0 | F15: =D15+E15 -> 0 | H15: =G15*19% -> 0 | I15: =G15+H15 -> 0
B16: 1.7 | C16: CAMBIO GUAYA CHOQUE | E16: =D16*19% -> 0 | F16: =D16+E16 -> 0 | H16: =G16*19% -> 0 | I16: =G16+H16 -> 0
B17: 1.8 | C17: CAMBIO LLAVE DE COMBUSTIBLE | E17: =D17*19% -> 0 | F17: =D17+E17 -> 0 | H17: =G17*19% -> 0 | I17: =G17+H17 -> 0
B18: 1.9 | C18: LIMPIEZA CARBURADOR | E18: =D18*19% -> 0 | F18: =D18+E18 -> 0 | H18: =G18*19% -> 0 | I18: =G18+H18 -> 0
B19: 1.10 | C19: SINCRONIZAR MOTOR | E19: =D19*19% -> 0 | F19: =D19+E19 -> 0 | H19: =G19*19% -> 0 | I19: =G19+H19 -> 0
B20: 2 | C20: MOTOR | D20: 0 | E20: 0 | F20: 0 | G20: 0 | H20: 0 | I20: 0
B21: 2.1 | C21: ANILLAR MOTOR | E21: =D21*19% -> 0 | F21: =D21+E21 -> 0 | H21: =G21*19% -> 0 | I21: =G21+H21 -> 0
B22: 2.2 | C22: ASENTAR BANCADA | E22: =D22*19% -> 0 | F22: =D22+E22 -> 0 | H22: =G22*19% -> 0 | I22: =G22+H22 -> 0
B23: 2.3 | C23: ASENTAR VALVULAS | E23: =D23*19% -> 0 | F23: =D23+E23 -> 0 | H23: =G23*19% -> 0 | I23: =G23+H23 -> 0
B24: 2.4 | C24: CALIBRAR VALVULAS | E24: =D24*19% -> 0 | F24: =D24+E24 -> 0 | H24: =G24*19% -> 0 | I24: =G24+H24 -> 0
B25: 2.5 | C25: CAMBIO BALANCINES | E25: =D25*19% -> 0 | F25: =D25+E25 -> 0 | H25: =G25*19% -> 0 | I25: =G25+H25 -> 0
B26: 2.6 | C26: CAMBIO BOMBA DE ACEITE | E26: =D26*19% -> 0 | F26: =D26+E26 -> 0 | H26: =G26*19% -> 0 | I26: =G26+H26 -> 0
B27: 2.7 | C27: CAMBIO EMPAQUE CULATA | E27: =D27*19% -> 0 | F27: =D27+E27 -> 0 | H27: =G27*19% -> 0 | I27: =G27+H27 -> 0
B28: 2.8 | C28: CAMBIO EMPAQUE MULTIPLE | E28: =D28*19% -> 0 | F28: =D28+E28 -> 0 | H28: =G28*19% -> 0 | I28: =G28+H28 -> 0
B29: 2.9 | C29: CAMBIO OBTURADORES | E29: =D29*19% -> 0 | F29: =D29+E29 -> 0 | H29: =G29*19% -> 0 | I29: =G29+H29 -> 0
B30: 2.10 | C30: CAMBIO RETENCIGUEÑAL | E30: =D30*19% -> 0 | F30: =D30+E30 -> 0 | H30: =G30*19% -> 0 | I30: =G30+H30 -> 0
