Workbook

Sheet DATOS DEL PROPONENTE
D3: DD | E3: MM | F3: AA
B4: Santiago de Cali,
B9: Señores:
B10: SUBDIRECCIÓN REGIONAL DE APOYO DEL PACIFICO
B11: FISCALÍA GENERAL DE LA NACIÓN
B12: Cra. 10 # 12 - 10, Edificio Nueva Sede, Codigo. Postal 760044
B13: Cali - Valle del Cauca
B17: ASUNTO: ANEXO - OFERTA ECONÓMICA
B23: Respetados doctores,
B27: De manera antenta y cordial me permito entregar la propuesta economica de acuerdo al ANEXO - OFERTA ECONÓMICA para el LOTE No. 1 - CALI y VALLE DEL CAUCA cuyo objeto es: "Prestar el servicio de mantenimiento preventivo y correctivo integral a todo costo (incluidos repuestos, mano de obra y accesorios originales u homologados) de las motocicletas que se encuentran al servicio de la Fiscalía General de la Nación en las Seccionales Cali, Cauca, Nariño y Valle del Cauca."
B33: Cordialmente
B40: Firma

Sheet REPUESTOS
B2: OFERTA ECONÓMICA LOTE No. 1 - CALI Y VALLE DEL CAUCA | D2: RESPUESTOS MOTOCICLETAS MULTIMARCAS | S2: RESPUESTOS MOTOCICLETAS MULTIMARCAS | AH2: RESPUESTOS MOTOCICLETAS MULTIMARCAS | AW2: RESPUESTOS MOTOCICLETAS MULTIMARCAS | BL2: RESPUESTOS MOTOCICLETAS MULTIMARCAS | CA2: RESPUESTOS MOTOCICLETAS MULTIMARCAS | CP2: RESPUESTOS MOTOCICLETAS MULTIMARCAS
D3: MANTENIMIENTO MOTOCICLETAS | S3: MANTENIMIENTO MOTOCICLETAS | AH3: MANTENIMIENTO MOTOCICLETAS | AW3: MANTENIMIENTO MOTOCICLETAS | BL3: MANTENIMIENTO MOTOCICLETAS | CA3: MANTENIMIENTO MOTOCICLETAS | CP3: MANTENIMIENTO MOTOCICLETAS
D4: *** Incluye Costos Directos e Indirectos | S4: *** Incluye Costos Directos e Indirectos | AH4: *** Incluye Costos Directos e Indirectos | AW4: *** Incluye Costos Directos e Indirectos | BL4: *** Incluye Costos Directos e Indirectos | CA4: *** Incluye Costos Directos e Indirectos | CP4: *** Incluye Costos Directos e Indirectos
B6: DESCRIPCION | D6: AKT 125 NKD | G6: AKT AK125 BR - TTR | J6: BAJAJ DISCOVER 125 | M6: BAJAJ PULSAR NS 200 | P6: HONDA BIZ C100 | S6: HONDA CB 250 TWISTER | V6: HONDA CB 110 | Y6: HONDA CB 125 | AB6: HONDA ECO DELUXE | AE6: HONDA ELITE | AH6: HONDA INVICTA | AK6: HONDA NXR125 | AN6: HONDA XR 150 | AQ6: HONDA XR 250 TORNADO | AT6: HONDA XR 190 | AW6: KYMCO AGILITY FUSION | AZ6: SUZUKI AX4 | BC6: SUZUKI BEST 125 | BF6: SUZUKI DR 150 | BI6: SUZUKI DR 200 | BL6: SUZUKI DR 650 | BO6: SUZUKI FREEWIND XF 650 | BR6: YAMAHA FZ16 | BU6: YAMAHA FZN250 | BX6: YAMAHA SZ15RR | CA6: YAMAHA T115FI | CD6: YAMAHA XT 660 2012 | CG6: YAMAHA XT-225D 2007 | CJ6: YAMAHA XTZ 125 | CM6: YAMAHA XTZ 150 | CP6: YAMAHA XTZ 250 | CS6: YAMAHA YBR-125ED | CV6: YAMAHA YW-125
D7: SUBTOTAL | E7: IVA | F7: TOTAL | G7: SUBTOTAL | H7: IVA | I7: TOTAL | J7: SUBTOTAL | K7: IVA | L7: TOTAL | M7: SUBTOTAL | N7: IVA | O7: TOTAL | P7: SUBTOTAL | Q7: IVA | R7: TOTAL | S7: SUBTOTAL | T7: IVA | U7: TOTAL | V7: SUBTOTAL | W7: IVA | X7: TOTAL | Y7: SUBTOTAL | Z7: IVA | AA7: TOTAL | AB7: SUBTOTAL | AC7: IVA | AD7: TOTAL | AE7: SUBTOTAL | AF7: IVA | AG7: TOTAL | AH7: SUBTOTAL | AI7: IVA | AJ7: TOTAL | AK7: SUBTOTAL | AL7: IVA | AM7: TOTAL | AN7: SUBTOTAL | AO7: IVA | AP7: TOTAL | AQ7: SUBTOTAL | AR7: IVA | AS7: TOTAL | AT7: SUBTOTAL | AU7: IVA | AV7: TOTAL | AW7: SUBTOTAL | AX7: IVA | AY7: TOTAL | AZ7: SUBTOTAL | BA7: IVA | BB7: TOTAL | BC7: SUBTOTAL | BD7: IVA | BE7: TOTAL | BF7: SUBTOTAL | BG7: IVA | BH7: TOTAL | BI7: SUBTOTAL | BJ7: IVA | BK7: TOTAL | BL7: SUBTOTAL | BM7: IVA | BN7: TOTAL | BO7: SUBTOTAL | BP7: IVA | BQ7: TOTAL | BR7: SUBTOTAL | BS7: IVA | BT7: TOTAL | BU7: SUBTOTAL | BV7: IVA | BW7: TOTAL | BX7: SUBTOTAL | BY7: IVA | BZ7: TOTAL | CA7: SUBTOTAL | CB7: IVA | CC7: TOTAL | CD7: SUBTOTAL | CE7: IVA | CF7: TOTAL | CG7: SUBTOTAL | CH7: IVA | CI7: TOTAL | CJ7: SUBTOTAL | CK7: IVA | CL7: TOTAL | CM7: SUBTOTAL | CN7: IVA | CO7: TOTAL | CP7: SUBTOTAL | CQ7: IVA | CR7: TOTAL | CS7: SUBTOTAL | CT7: IVA | CU7: TOTAL | CV7: SUBTOTAL | CW7: IVA | CX7: TOTAL
B8: 1 | C8: SINCRONIZACION
B9: 1.1 | C9: AGUJA BASE Y PUNSON | E9: =D9*19% -> 0 | F9: =D9+E9 -> 0 | H9: =G9*19% -> 0 | I9: =G9+H9 -> 0 | K9: =J9*19% -> 0 | L9: =J9+K9 -> 0 | N9: =M9*19% -> 0 | O9: =M9+N9 -> 0 | Q9: =P9*19% -> 0 | R9: =P9+Q9 -> 0 | T9: =S9*19% -> 0 | U9: =S9+T9 -> 0 | W9: =V9*19% -> 0 | X9: =V9+W9 -> 0 | Z9: =Y9*19% -> 0 | AA9: =Y9+Z9 -> 0 | AC9: =AB9*19% -> 0 | AD9: =AB9+AC9 -> 0 | AF9: =AE9*19% -> 0 | AG9: =AE9+AF9 -> 0 | AI9: =AH9*19% -> 0 | AJ9: =AH9+AI9 -> 0 | AL9: =AK9*19% -> 0 | AM9: =AK9+AL9 -> 0 | AO9: =AN9*19% -> 0 | AP9: =AN9+AO9 -> 0 | AR9: =AQ9*19% -> 0 | AS9: =AQ9+AR9 -> 0 | AU9: =AT9*19% -> 0 | AV9: =AT9+AU9 -> 0 | AX9: =AW9*19% -> 0 | AY9: =AW9+AX9 -> 0 | BA9: =AZ9*19% -> 0 | BB9: =AZ9+BA9 -> 0 | BD9: =BC9*19% -> 0 | BE9: =BC9+BD9 -> 0 | BG9: =BF9*19% -> 0 | BH9: =BF9+BG9 -> 0 | BJ9: =BI9*19% -> 0 | BK9: =BI9+BJ9 -> 0 | BM9: =BL9*19% -> 0 | BN9: =BL9+BM9 -> 0 | BP9: =BO9*19% -> 0 | BQ9: =BO9+BP9 -> 0 | BS9: =BR9*19% -> 0 | BT9: =BR9+BS9 -> 0 | BV9: =BU9*19% -> 0 | BW9: =BU9+BV9 -> 0 | BY9: =BX9*19% -> 0 | BZ9: =BX9+BY9 -> 0 | CB9: =CA9*19% -> 0 | CC9: =CA9+CB9 -> 0 | CE9: =CD9*19% -> 0 | CF9: =CD9+CE9 -> 0 | CH9: =CG9*19% -> 0 | CI9: =CG9+CH9 -> 0 | CK9: =CJ9*19% -> 0 | CL9: =CJ9+CK9 -> 0 | CN9: =CM9*19% -> 0 | CO9: =CM9+CN9 -> 0 | CQ9: =CP9*19% -> 0 | CR9: =CP9+CQ9 -> 0 | CT9: =CS9*19% -> 0 | CU9: =CS9+CT9 -> 0 | CW9: =CV9*19% -> 0 | CX9: =CV9+CW9 -> 0
B10: 1.2 | C10: BUJIA | E10: =D10*19% -> 0 | F10: =D10+E10 -> 0 | H10: =G10*19% -> 0 | I10: =G10+H10 -> 0 | K10: =J10*19% -> 0 | L10: =J10+K10 -> 0 | N10: =M10*19% -> 0 | O10: =M10+N10 -> 0 | Q10: =P10*19% -> 0 | R10: =P10+Q10 -> 0 | T10: =S10*19% -> 0 | U10: =S10+T10 -> 0 | W10: =V10*19% -> 0 | X10: =V10+W10 -> 0 | Z10: =Y10*19% -> 0 | AA10: =Y10+Z10 -> 0 | AC10: =AB10*19% -> 0 | AD10: =AB10+AC10 -> 0 | AF10: =AE10*19% -> 0 | AG10: =AE10+AF10 -> 0 | AI10: =AH10*19% -> 0 | AJ10: =AH10+AI10 -> 0 | AL10: =AK10*19% -> 0 | AM10: =AK10+AL10 -> 0 | AO10: =AN10*19% -> 0 | AP10: =AN10+AO10 -> 0 | AR10: =AQ10*19% -> 0 | AS10: =AQ10+AR10 -> 0 | AU10: =AT10*19% -> 0 | AV10: =AT10+AU10 -> 0 | AX10: =AW10*19% -> 0 | AY10: =AW10+AX10 -> 0 | BA10: =AZ10*19% -> 0 | BB10: =AZ10+BA10 -> 0 | BD10: =BC10*19% -> 0 | BE10: =BC10+BD10 -> 0 | BG10: =BF10*19% -> 0 | BH10: =BF10+BG10 -> 0 | BJ10: =BI10*19% -> 0 | BK10: =BI10+BJ10 -> 0 | BM10: =BL10*19% -> 0 | BN10: =BL10+BM10 -> 0 | BP10: =BO10*19% -> 0 | BQ10: =BO10+BP10 -> 0 | BS10: =BR10*19% -> 0 | BT10: =BR10+BS10 -> 0 | BV10: =BU10*19% -> 0 | BW10: =BU10+BV10 -> 0 | BY10: =BX10*19% -> 0 | BZ10: =BX10+BY10 -> 0 | CB10: =CA10*19% -> 0 | CC10: =CA10+CB10 -> 0 | CE10: =CD10*19% -> 0 | CF10: =CD10+CE10 -> 0 | CH10: =CG10*19% -> 0 | CI10: =CG10+CH10 -> 0 | CK10: =CJ10*19% -> 0 | CL10: =CJ10+CK10 -> 0 | CN10: =CM10*19% -> 0 | CO10: =CM10+CN10 -> 0 | CQ10: =CP10*19% -> 0 | CR10: =CP10+CQ10 -> 0 | CT10: =CS10*19% -> 0 | CU10: =CS10+CT10 -> 0 | CW10: =CV10*19% -> 0 | CX10: =CV10+CW10 -> 0
B11: 1.3 | C11: CARBURADOR | E11: =D11*19% -> 0 | F11: =D11+E11 -> 0 | H11: =G11*19% -> 0 | I11: =G11+H11 -> 0 | K11: =J11*19% -> 0 | L11: =J11+K11 -> 0 | N11: =M11*19% -> 0 | O11: =M11+N11 -> 0 | Q11: =P11*19% -> 0 | R11: =P11+Q11 -> 0 | T11: =S11*19% -> 0 | U11: =S11+T11 -> 0 | W11: =V11*19% -> 0 | X11: =V11+W11 -> 0 | Z11: =Y11*19% -> 0 | AA11: =Y11+Z11 -> 0 | AC11: =AB11*19% -> 0 | AD11: =AB11+AC11 -> 0 | AF11: =AE11*19% -> 0 | AG11: =AE11+AF11 -> 0 | AI11: =AH11*19% -> 0 | AJ11: =AH11+AI11 -> 0 | AL11: =AK11*19% -> 0 | AM11: =AK11+AL11 -> 0 | AO11: =AN11*19% -> 0 | AP11: =AN11+AO11 -> 0 | AR11: =AQ11*19% -> 0 | AS11: =AQ11+AR11 -> 0 | AU11: =AT11*19% -> 0 | AV11: =AT11+AU11 -> 0 | AX11: =AW11*19% -> 0 | AY11: =AW11+AX11 -> 0 | BA11: =AZ11*19% -> 0 | BB11: =AZ11+BA11 -> 0 | BD11: =BC11*19% -> 0 | BE11: =BC11+BD11 -> 0 | BG11: =BF11*19% -> 0 | BH11: =BF11+BG11 -> 0 | BJ11: =BI11*19% -> 0 | BK11: =BI11+BJ11 -> 0 | BM11: =BL11*19% -> 0 | BN11: =BL11+BM11 -> 0 | BP11: =BO11*19% -> 0 | BQ11: =BO11+BP11 -> 0 | BS11: =BR11*19% -> 0 | BT11: =BR11+BS11 -> 0 | BV11: =BU11*19% -> 0 | BW11: =BU11+BV11 -> 0 | BY11: =BX11*19% -> 0 | BZ11: =BX11+BY11 -> 0 | CB11: =CA11*19% -> 0 | CC11: =CA11+CB11 -> 0 | CE11: =CD11*19% -> 0 | CF11: =CD11+CE11 -> 0 | CH11: =CG11*19% -> 0 | CI11: =CG11+CH11 -> 0 | CK11: =CJ11*19% -> 0 | CL11: =CJ11+CK11 -> 0 | CN11: =CM11*19% -> 0 | CO11: =CM11+CN11 -> 0 | CQ11: =CP11*19% -> 0 | CR11: =CP11+CQ11 -> 0 | CT11: =CS11*19% -> 0 | CU11: =CS11+CT11 -> 0 | CW11: =CV11*19% -> 0 | CX11: =CV11+CW11 -> 0
B12: 1.4 | C12: EMPAQUES CARBURADOR | E12: =D12*19% -> 0 | F12: =D12+E12 -> 0 | H12: =G12*19% -> 0 | I12: =G12+H12 -> 0 | K12: =J12*19% -> 0 | L12: =J12+K12 -> 0 | N12: =M12*19% -> 0 | O12: =M12+N12 -> 0 | Q12: =P12*19% -> 0 | R12: =P12+Q12 -> 0 | T12: =S12*19% -> 0 | U12: =S12+T12 -> 0 | W12: =V12*19% -> 0 | X12: =V12+W12 -> 0 | Z12: =Y12*19% -> 0 | AA12: =Y12+Z12 -> 0 | AC12: =AB12*19% -> 0 | AD12: =AB12+AC12 -> 0 | AF12: =AE12*19% -> 0 | AG12: =AE12+AF12 -> 0 | AI12: =AH12*19% -> 0 | AJ12: =AH12+AI12 -> 0 | AL12: =AK12*19% -> 0 | AM12: =AK12+AL12 -> 0 | AO12: =AN12*19% -> 0 | AP12: =AN12+AO12 -> 0 | AR12: =AQ12*19% -> 0 | AS12: =AQ12+AR12 -> 0 | AU12: =AT12*19% -> 0 | AV12: =AT12+AU12 -> 0 | AX12: =AW12*19% -> 0 | AY12: =AW12+AX12 -> 0 | BA12: =AZ12*19% -> 0 | BB12: =AZ12+BA12 -> 0 | BD12: =BC12*19% -> 0 | BE12: =BC12+BD12 -> 0 | BG12: =BF12*19% -> 0 | BH12: =BF12+BG12 -> 0 | BJ12: =BI12*19% -> 0 | BK12: =BI12+BJ12 -> 0 | BM12: =BL12*19% -> 0 | BN12: =BL12+BM12 -> 0 | BP12: =BO12*19% -> 0 | BQ12: =BO12+BP12 -> 0 | BS12: =BR12*19% -> 0 | BT12: =BR12+BS12 -> 0 | BV12: =BU12*19% -> 0 | BW12: =BU12+BV12 -> 0 | BY12: =BX12*19% -> 0 | BZ12: =BX12+BY12 -> 0 | CB12: =CA12*19% -> 0 | CC12: =CA12+CB12 -> 0 | CE12: =CD12*19% -> 0 | CF12: =CD12+CE12 -> 0 | CH12: =CG12*19% -> 0 | CI12: =CG12+CH12 -> 0 | CK12: =CJ12*19% -> 0 | CL12: =CJ12+CK12 -> 0 | CN12: =CM12*19% -> 0 | CO12: =CM12+CN12 -> 0 | CQ12: =CP12*19% -> 0 | CR12: =CP12+CQ12 -> 0 | CT12: =CS12*19% -> 0 | CU12: =CS12+CT12 -> 0 | CW12: =CV12*19% -> 0 | CX12: =CV12+CW12 -> 0
B13: 1.5 | C13: FILTRO COMBUSTIBLE | E13: =D13*19% -> 0 | F13: =D13+E13 -> 0 | H13: =G13*19% -> 0 | I13: =G13+H13 -> 0 | K13: =J13*19% -> 0 | L13: =J13+K13 -> 0 | N13: =M13*19% -> 0 | O13: =M13+N13 -> 0 | Q13: =P13*19% -> 0 | R13: =P13+Q13 -> 0 | T13: =S13*19% -> 0 | U13: =S13+T13 -> 0 | W13: =V13*19% -> 0 | X13: =V13+W13 -> 0 | Z13: =Y13*19% -> 0 | AA13: =Y13+Z13 -> 0 | AC13: =AB13*19% -> 0 | AD13: =AB13+AC13 -> 0 | AF13: =AE13*19% -> 0 | AG13: =AE13+AF13 -> 0 | AI13: =AH13*19% -> 0 | AJ13: =AH13+AI13 -> 0 | AL13: =AK13*19% -> 0 | AM13: =AK13+AL13 -> 0 | AO13: =AN13*19% -> 0 | AP13: =AN13+AO13 -> 0 | AR13: =AQ13*19% -> 0 | AS13: =AQ13+AR13 -> 0 | AU13: =AT13*19% -> 0 | AV13: =AT13+AU13 -> 0 | AX13: =AW13*19% -> 0 | AY13: =AW13+AX13 -> 0 | BA13: =AZ13*19% -> 0 | BB13: =AZ13+BA13 -> 0 | BD13: =BC13*19% -> 0 | BE13: =BC13+BD13 -> 0 | BG13: =BF13*19% -> 0 | BH13: =BF13+BG13 -> 0 | BJ13: =BI13*19% -> 0 | BK13: =BI13+BJ13 -> 0 | BM13: =BL13*19% -> 0 | BN13: =BL13+BM13 -> 0 | BP13: =BO13*19% -> 0 | BQ13: =BO13+BP13 -> 0 | BS13: =BR13*19% -> 0 | BT13: =BR13+BS13 -> 0 | BV13: =BU13*19% -> 0 | BW13: =BU13+BV13 -> 0 | BY13: =BX13*19% -> 0 | BZ13: =BX13+BY13 -> 0 | CB13: =CA13*19% -> 0 | CC13: =CA13+CB13 -> 0 | CE13: =CD13*19% -> 0 | CF13: =CD13+CE13 -> 0 | CH13: =CG13*19% -> 0 | CI13: =CG13+CH13 -> 0 | CK13: =CJ13*19% -> 0 | CL13: =CJ13+CK13 -> 0 | CN13: =CM13*19% -> 0 | CO13: =CM13+CN13 -> 0 | CQ13: =CP13*19% -> 0 | CR13: =CP13+CQ13 -> 0 | CT13: =CS13*19% -> 0 | CU13: =CS13+CT13 -> 0 | CW13: =CV13*19% -> 0 | CX13: =CV13+CW13 -> 0
B14: 1.6 | C14: FILTRO DE AIRE | E14: =D14*19% -> 0 | F14: =D14+E14 -> 0 | H14: =G14*19% -> 0 | I14: =G14+H14 -> 0 | K14: =J14*19% -> 0 | L14: =J14+K14 -> 0 | N14: =M14*19% -> 0 | O14: =M14+N14 -> 0 | Q14: =P14*19% -> 0 | R14: =P14+Q14 -> 0 | T14: =S14*19% -> 0 | U14: =S14+T14 -> 0 | W14: =V14*19% -> 0 | X14: =V14+W14 -> 0 | Z14: =Y14*19% -> 0 | AA14: =Y14+Z14 -> 0 | AC14: =AB14*19% -> 0 | AD14: =AB14+AC14 -> 0 | AF14: =AE14*19% -> 0 | AG14: =AE14+AF14 -> 0 | AI14: =AH14*19% -> 0 | AJ14: =AH14+AI14 -> 0 | AL14: =AK14*19% -> 0 | AM14: =AK14+AL14 -> 0 | AO14: =AN14*19% -> 0 | AP14: =AN14+AO14 -> 0 | AR14: =AQ14*19% -> 0 | AS14: =AQ14+AR14 -> 0 | AU14: =AT14*19% -> 0 | AV14: =AT14+AU14 -> 0 | AX14: =AW14*19% -> 0 | AY14: =AW14+AX14 -> 0 | BA14: =AZ14*19% -> 0 | BB14: =AZ14+BA14 -> 0 | BD14: =BC14*19% -> 0 | BE14: =BC14+BD14 -> 0 | BG14: =BF14*19% -> 0 | BH14: =BF14+BG14 -> 0 | BJ14: =BI14*19% -> 0 | BK14: =BI14+BJ14 -> 0 | BM14: =BL14*19% -> 0 | BN14: =BL14+BM14 -> 0 | BP14: =BO14*19% -> 0 | BQ14: =BO14+BP14 -> 0 | BS14: =BR14*19% -> 0 | BT14: =BR14+BS14 -> 0 | BV14: =BU14*19% -> 0 | BW14: =BU14+BV14 -> 0 | BY14: =BX14*19% -> 0 | BZ14: =BX14+BY14 -> 0 | CB14: =CA14*19% -> 0 | CC14: =CA14+CB14 -> 0 | CE14: =CD14*19% -> 0 | CF14: =CD14+CE14 -> 0 | CH14: =CG14*19% -> 0 | CI14: =CG14+CH14 -> 0 | CK14: =CJ14*19% -> 0 | CL14: =CJ14+CK14 -> 0 | CN14: =CM14*19% -> 0 | CO14: =CM14+CN14 -> 0 | CQ14: =CP14*19% -> 0 | CR14: =CP14+CQ14 -> 0 | CT14: =CS14*19% -> 0 | CU14: =CS14+CT14 -> 0 | CW14: =CV14*19% -> 0 | CX14: =CV14+CW14 -> 0
B15: 1.7 | C15: GUAYA ACELERADOR | E15: =D15*19% -> 0 | F15: =D15+E15 -> 0 | H15: =G15*19% -> 0 | I15: =G15+H15 -> 0 | K15: =J15*19% -> 0 | L15: =J15+K15 -> 0 | N15: =M15*19% -> 0 | O15: =M15+N15 -> 0 | Q15: =P15*19% -> 0 | R15: =P15+Q15 -> 0 | T15: =S15*19% -> 0 | U15: =S15+T15 -> 0 | W15: =V15*19% -> 0 | X15: =V15+W15 -> 0 | Z15: =Y15*19% -> 0 | AA15: =Y15+Z15 -> 0 | AC15: =AB15*19% -> 0 | AD15: =AB15+AC15 -> 0 | AF15: =AE15*19% -> 0 | AG15: =AE15+AF15 -> 0 | AI15: =AH15*19% -> 0 | AJ15: =AH15+AI15 -> 0 | AL15: =AK15*19% -> 0 | AM15: =AK15+AL15 -> 0 | AO15: =AN15*19% -> 0 | AP15: =AN15+AO15 -> 0 | AR15: =AQ15*19% -> 0 | AS15: =AQ15+AR15 -> 0 | AU15: =AT15*19% -> 0 | AV15: =AT15+AU15 -> 0 | AX15: =AW15*19% -> 0 | AY15: =AW15+AX15 -> 0 | BA15: =AZ15*19% -> 0 | BB15: =AZ15+BA15 -> 0 | BD15: =BC15*19% -> 0 | BE15: =BC15+BD15 -> 0 | BG15: =BF15*19% -> 0 | BH15: =BF15+BG15 -> 0 | BJ15: =BI15*19% -> 0 | BK15: =BI15+BJ15 -> 0 | BM15: =BL15*19% -> 0 | BN15: =BL15+BM15 -> 0 | BP15: =BO15*19% -> 0 | BQ15: =BO15+BP15 -> 0 | BS15: =BR15*19% -> 0 | BT15: =BR15+BS15 -> 0 | BV15: =BU15*19% -> 0 | BW15: =BU15+BV15 -> 0 | BY15: =BX15*19% -> 0 | BZ15: =BX15+BY15 -> 0 | CB15: =CA15*19% -> 0 | CC15: =CA15+CB15 -> 0 | CE15: =CD15*19% -> 0 | CF15: =CD15+CE15 -> 0 | CH15: =CG15*19% -> 0 | CI15: =CG15+CH15 -> 0 | CK15: =CJ15*19% -> 0 | CL15: =CJ15+CK15 -> 0 | CN15: =CM15*19% -> 0 | CO15: =CM15+CN15 -> 0 | CQ15: =CP15*19% -> 0 | CR15: =CP15+CQ15 -> 0 | CT15: =CS15*19% -> 0 | CU15: =CS15+CT15 -> 0 | CW15: =CV15*19% -> 0 | CX15: =CV15+CW15 -> 0
B16: 1.8 | C16: GUAYA CHOQUE | E16: =D16*19% -> 0 | F16: =D16+E16 -> 0 | H16: =G16*19% -> 0 | I16: =G16+H16 -> 0 | K16: =J16*19% -> 0 | L16: =J16+K16 -> 0 | N16: =M16*19% -> 0 | O16: =M16+N16 -> 0 | Q16: =P16*19% -> 0 | R16: =P16+Q16 -> 0 | T16: =S16*19% -> 0 | U16: =S16+T16 -> 0 | W16: =V16*19% -> 0 | X16: =V16+W16 -> 0 | Z16: =Y16*19% -> 0 | AA16: =Y16+Z16 -> 0 | AC16: =AB16*19% -> 0 | AD16: =AB16+AC16 -> 0 | AF16: =AE16*19% -> 0 | AG16: =AE16+AF16 -> 0 | AI16: =AH16*19% -> 0 | AJ16: =AH16+AI16 -> 0 | AL16: =AK16*19% -> 0 | AM16: =AK16+AL16 -> 0 | AO16: =AN16*19% -> 0 | AP16: =AN16+AO16 -> 0 | AR16: =AQ16*19% -> 0 | AS16: =AQ16+AR16 -> 0 | AU16: =AT16*19% -> 0 | AV16: =AT16+AU16 -> 0 | AX16: =AW16*19% -> 0 | AY16: =AW16+AX16 -> 0 | BA16: =AZ16*19% -> 0 | BB16: =AZ16+BA16 -> 0 | BD16: =BC16*19% -> 0 | BE16: =BC16+BD16 -> 0 | BG16: =BF16*19% -> 0 | BH16: =BF16+BG16 -> 0 | BJ16: =BI16*19% -> 0 | BK16: =BI16+BJ16 -> 0 | BM16: =BL16*19% -> 0 | BN16: =BL16+BM16 -> 0 | BP16: =BO16*19% -> 0 | BQ16: =BO16+BP16 -> 0 | BS16: =BR16*19% -> 0 | BT16: =BR16+BS16 -> 0 | BV16: =BU16*19% -> 0 | BW16: =BU16+BV16 -> 0 | BY16: =BX16*19% -> 0 | BZ16: =BX16+BY16 -> 0 | CB16: =CA16*19% -> 0 | CC16: =CA16+CB16 -> 0 | CE16: =CD16*19% -> 0 | CF16: =CD16+CE16 -> 0 | CH16: =CG16*19% -> 0 | CI16: =CG16+CH16 -> 0 | CK16: =CJ16*19% -> 0 | CL16: =CJ16+CK16 -> 0 | CN16: =CM16*19% -> 0 | CO16: =CM16+CN16 -> 0 | CQ16: =CP16*19% -> 0 | CR16: =CP16+CQ16 -> 0 | CT16: =CS16*19% -> 0 | CU16: =CS16+CT16 -> 0 | CW16: =CV16*19% -> 0 | CX16: =CV16+CW16 -> 0
B17: 1.9 | C17: KIT CARBURADOR | E17: =D17*19% -> 0 | F17: =D17+E17 -> 0 | H17: =G17*19% -> 0 | I17: =G17+H17 -> 0 | K17: =J17*19% -> 0 | L17: =J17+K17 -> 0 | N17: =M17*19% -> 0 | O17: =M17+N17 -> 0 | Q17: =P17*19% -> 0 | R17: =P17+Q17 -> 0 | T17: =S17*19% -> 0 | U17: =S17+T17 -> 0 | W17: =V17*19% -> 0 | X17: =V17+W17 -> 0 | Z17: =Y17*19% -> 0 | AA17: =Y17+Z17 -> 0 | AC17: =AB17*19% -> 0 | AD17: =AB17+AC17 -> 0 | AF17: =AE17*19% -> 0 | AG17: =AE17+AF17 -> 0 | AI17: =AH17*19% -> 0 | AJ17: =AH17+AI17 -> 0 | AL17: =AK17*19% -> 0 | AM17: =AK17+AL17 -> 0 | AO17: =AN17*19% -> 0 | AP17: =AN17+AO17 -> 0 | AR17: =AQ17*19% -> 0 | AS17: =AQ17+AR17 -> 0 | AU17: =AT17*19% -> 0 | AV17: =AT17+AU17 -> 0 | AX17: =AW17*19% -> 0 | AY17: =AW17+AX17 -> 0 | BA17: =AZ17*19% -> 0 | BB17: =AZ17+BA17 -> 0 | BD17: =BC17*19% -> 0 | BE17: =BC17+BD17 -> 0 | BG17: =BF17*19% -> 0 | BH17: =BF17+BG17 -> 0 | BJ17: =BI17*19% -> 0 | BK17: =BI17+BJ17 -> 0 | BM17: =BL17*19% -> 0 | BN17: =BL17+BM17 -> 0 | BP17: =BO17*19% -> 0 | BQ17: =BO17+BP17 -> 0 | BS17: =BR17*19% -> 0 | BT17: =BR17+BS17 -> 0 | BV17: =BU17*19% -> 0 | BW17: =BU17+BV17 -> 0 | BY17: =BX17*19% -> 0 | BZ17: =BX17+BY17 -> 0 | CB17: =CA17*19% -> 0 | CC17: =CA17+CB17 -> 0 | CE17: =CD17*19% -> 0 | CF17: =CD17+CE17 -> 0 | CH17: =CG17*19% -> 0 | CI17: =CG17+CH17 -> 0 | CK17: =CJ17*19% -> 0 | CL17: =CJ17+CK17 -> 0 | CN17: =CM17*19% -> 0 | CO17: =CM17+CN17 -> 0 | CQ17: =CP17*19% -> 0 | CR17: =CP17+CQ17 -> 0 | CT17: =CS17*19% -> 0 | CU17: =CS17+CT17 -> 0 | CW17: =CV17*19% -> 0 | CX17: =CV17+CW17 -> 0
B18: 1.10 | C18: LLAVE PASO COMBUSTIBLE | E18: =D18*19% -> 0 | F18: =D18+E18 -> 0 | H18: =G18*19% -> 0 | I18: =G18+H18 -> 0 | K18: =J18*19% -> 0 | L18: =J18+K18 -> 0 | N18: =M18*19% -> 0 | O18: =M18+N18 -> 0 | Q18: =P18*19% -> 0 | R18: =P18+Q18 -> 0 | T18: =S18*19% -> 0 | U18: =S18+T18 -> 0 | W18: =V18*19% -> 0 | X18: =V18+W18 -> 0 | Z18: =Y18*19% -> 0 | AA18: =Y18+Z18 -> 0 | AC18: =AB18*19% -> 0 | AD18: =AB18+AC18 -> 0 | AF18: =AE18*19% -> 0 | AG18: =AE18+AF18 -> 0 | AI18: =AH18*19% -> 0 | AJ18: =AH18+AI18 -> 0 | AL18: =AK18*19% -> 0 | AM18: =AK18+AL18 -> 0 | AO18: =AN18*19% -> 0 | AP18: =AN18+AO18 -> 0 | AR18: =AQ18*19% -> 0 | AS18: =AQ18+AR18 -> 0 | AU18: =AT18*19% -> 0 | AV18: =AT18+AU18 -> 0 | AX18: =AW18*19% -> 0 | AY18: =AW18+AX18 -> 0 | BA18: =AZ18*19% -> 0 | BB18: =AZ18+BA18 -> 0 | BD18: =BC18*19% -> 0 | BE18: =BC18+BD18 -> 0 | BG18: =BF18*19% -> 0 | BH18: =BF18+BG18 -> 0 | BJ18: =BI18*19% -> 0 | BK18: =BI18+BJ18 -> 0 | BM18: =BL18*19% -> 0 | BN18: =BL18+BM18 -> 0 | BP18: =BO18*19% -> 0 | BQ18: =BO18+BP18 -> 0 | BS18: =BR18*19% -> 0 | BT18: =BR18+BS18 -> 0 | BV18: =BU18*19% -> 0 | BW18: =BU18+BV18 -> 0 | BY18: =BX18*19% -> 0 | BZ18: =BX18+BY18 -> 0 | CB18: =CA18*19% -> 0 | CC18: =CA18+CB18 -> 0 | CE18: =CD18*19% -> 0 | CF18: =CD18+CE18 -> 0 | CH18: =CG18*19% -> 0 | CI18: =CG18+CH18 -> 0 | CK18: =CJ18*19% -> 0 | CL18: =CJ18+CK18 -> 0 | CN18: =CM18*19% -> 0 | CO18: =CM18+CN18 -> 0 | CQ18: =CP18*19% -> 0 | CR18: =CP18+CQ18 -> 0 | CT18: =CS18*19% -> 0 | CU18: =CS18+CT18 -> 0 | CW18: =CV18*19% -> 0 | CX18: =CV18+CW18 -> 0
B19: 2 | C19: MOTOR | D19: 0 | E19: 0 | F19: 0 | G19: 0 | H19: 0 | I19: 0 | J19: 0 | K19: 0 | L19: 0 | M19: 0 | N19: 0 | O19: 0 | P19: 0 | Q19: 0 | R19: 0 | S19: 0 | T19: 0 | U19: 0 | V19: 0 | W19: 0 | X19: 0 | Y19: 0 | Z19: 0 | AA19: 0 | AB19: 0 | AC19: 0 | AD19: 0 | AE19: 0 | AF19: 0 | AG19: 0 | AH19: 0 | AI19: 0 | AJ19: 0 | AK19: 0 | AL19: 0 | AM19: 0 | AN19: 0 | AO19: 0 | AP19: 0 | AQ19: 0 | AR19: 0 | AS19: 0 | AT19: 0 | AU19: 0 | AV19: 0 | AW19: 0 | AX19: 0 | AY19: 0 | AZ19: 0 | BA19: 0 | BB19: 0 | BC19: 0 | BD19: 0 | BE19: 0 | BF19: 0 | BG19: 0 | BH19: 0 | BI19: 0 | BJ19: 0 | BK19: 0 | BL19: 0 | BM19: 0 | BN19: 0 | BO19: 0 | BP19: 0 | BQ19: 0 | BR19: 0 | BS19: 0 | BT19: 0 | BU19: 0 | BV19: 0 | BW19: 0 | BX19: 0 | BY19: 0 | BZ19: 0 | CA19: 0 | CB19: 0 | CC19: 0 | CD19: 0 | CE19: 0 | CF19: 0 | CG19: 0 | CH19: 0 | CI19: 0 | CJ19: 0 | CK19: 0 | CL19: 0 | CM19: 0 | CN19: 0 | CO19: 0 | CP19: 0 | CQ19: 0 | CR19: 0 | CS19: 0 | CT19: 0 | CU19: 0 | CV19: 0 | CW19: 0 | CX19: 0
B20: 2.1 | C20: BALANCIN | E20: =D20*19% -> 0 | F20: =D20+E20 -> 0 | H20: =G20*19% -> 0 | I20: =G20+H20 -> 0 | K20: =J20*19% -> 0 | L20: =J20+K20 -> 0 | N20: =M20*19% -> 0 | O20: =M20+N20 -> 0 | Q20: =P20*19% -> 0 | R20: =P20+Q20 -> 0 | T20: =S20*19% -> 0 | U20: =S20+T20 -> 0 | W20: =V20*19% -> 0 | X20: =V20+W20 -> 0 | Z20: =Y20*19% -> 0 | AA20: =Y20+Z20 -> 0 | AC20: =AB20*19% -> 0 | AD20: =AB20+AC20 -> 0 | AF20: =AE20*19% -> 0 | AG20: =AE20+AF20 -> 0 | AI20: =AH20*19% -> 0 | AJ20: =AH20+AI20 -> 0 | AL20: =AK20*19% -> 0 | AM20: =AK20+AL20 -> 0 | AO20: =AN20*19% -> 0 | AP20: =AN20+AO20 -> 0 | AR20: =AQ20*19% -> 0 | AS20: =AQ20+AR20 -> 0 | AU20: =AT20*19% -> 0 | AV20: =AT20+AU20 -> 0 | AX20: =AW20*19% -> 0 | AY20: =AW20+AX20 -> 0 | BA20: =AZ20*19% -> 0 | BB20: =AZ20+BA20 -> 0 | BD20: =BC20*19% -> 0 | BE20: =BC20+BD20 -> 0 | BG20: =BF20*19% -> 0 | BH20: =BF20+BG20 -> 0 | BJ20: =BI20*19% -> 0 | BK20: =BI20+BJ20 -> 0 | BM20: =BL20*19% -> 0 | BN20: =BL20+BM20 -> 0 | BP20: =BO20*19% -> 0 | BQ20: =BO20+BP20 -> 0 | BS20: =BR20*19% -> 0 | BT20: =BR20+BS20 -> 0 | BV20: =BU20*19% -> 0 | BW20: =BU20+BV20 -> 0 | BY20: =BX20*19% -> 0 | BZ20: =BX20+BY20 -> 0 | CB20: =CA20*19% -> 0 | CC20: =CA20+CB20 -> 0 | CE20: =CD20*19% -> 0 | CF20: =CD20+CE20 -> 0 | CH20: =CG20*19% -> 0 | CI20: =CG20+CH20 -> 0 | CK20: =CJ20*19% -> 0 | CL20: =CJ20+CK20 -> 0 | CN20: =CM20*19% -> 0 | CO20: =CM20+CN20 -> 0 | CQ20: =CP20*19% -> 0 | CR20: =CP20+CQ20 -> 0 | CT20: =CS20*19% -> 0 | CU20: =CS20+CT20 -> 0 | CW20: =CV20*19% -> 0 | CX20: =CV20+CW20 -> 0
B21: 2.2 | C21: BIELA MOTOR | E21: =D21*19% -> 0 | F21: =D21+E21 -> 0 | H21: =G21*19% -> 0 | I21: =G21+H21 -> 0 | K21: =J21*19% -> 0 | L21: =J21+K21 -> 0 | N21: =M21*19% -> 0 | O21: =M21+N21 -> 0 | Q21: =P21*19% -> 0 | R21: =P21+Q21 -> 0 | T21: =S21*19% -> 0 | U21: =S21+T21 -> 0 | W21: =V21*19% -> 0 | X21: =V21+W21 -> 0 | Z21: =Y21*19% -> 0 | AA21: =Y21+Z21 -> 0 | AC21: =AB21*19% -> 0 | AD21: =AB21+AC21 -> 0 | AF21: =AE21*19% -> 0 | AG21: =AE21+AF21 -> 0 | AI21: =AH21*19% -> 0 | AJ21: =AH21+AI21 -> 0 | AL21: =AK21*19% -> 0 | AM21: =AK21+AL21 -> 0 | AO21: =AN21*19% -> 0 | AP21: =AN21+AO21 -> 0 | AR21: =AQ21*19% -> 0 | AS21: =AQ21+AR21 -> 0 | AU21: =AT21*19% -> 0 | AV21: =AT21+AU21 -> 0 | AX21: =AW21*19% -> 0 | AY21: =AW21+AX21 -> 0 | BA21: =AZ21*19% -> 0 | BB21: =AZ21+BA21 -> 0 | BD21: =BC21*19% -> 0 | BE21: =BC21+BD21 -> 0 | BG21: =BF21*19% -> 0 | BH21: =BF21+BG21 -> 0 | BJ21: =BI21*19% -> 0 | BK21: =BI21+BJ21 -> 0 | BM21: =BL21*19% -> 0 | BN21: =BL21+BM21 -> 0 | BP21: =BO21*19% -> 0 | BQ21: =BO21+BP21 -> 0 | BS21: =BR21*19% -> 0 | BT21: =BR21+BS21 -> 0 | BV21: =BU21*19% -> 0 | BW21: =BU21+BV21 -> 0 | BY21: =BX21*19% -> 0 | BZ21: =BX21+BY21 -> 0 | CB21: =CA21*19% -> 0 | CC21: =CA21+CB21 -> 0 | CE21: =CD21*19% -> 0 | CF21: =CD21+CE21 -> 0 | CH21: =CG21*19% -> 0 | CI21: =CG21+CH21 -> 0 | CK21: =CJ21*19% -> 0 | CL21: =CJ21+CK21 -> 0 | CN21: =CM21*19% -> 0 | CO21: =CM21+CN21 -> 0 | CQ21: =CP21*19% -> 0 | CR21: =CP21+CQ21 -> 0 | CT21: =CS21*19% -> 0 | CU21: =CS21+CT21 -> 0 | CW21: =CV21*19% -> 0 | CX21: =CV21+CW21 -> 0
B22: 2.3 | C22: BOMBA DE ACEITE | E22: =D22*19% -> 0 | F22: =D22+E22 -> 0 | H22: =G22*19% -> 0 | I22: =G22+H22 -> 0 | K22: =J22*19% -> 0 | L22: =J22+K22 -> 0 | N22: =M22*19% -> 0 | O22: =M22+N22 -> 0 | Q22: =P22*19% -> 0 | R22: =P22+Q22 -> 0 | T22: =S22*19% -> 0 | U22: =S22+T22 -> 0 | W22: =V22*19% -> 0 | X22: =V22+W22 -> 0 | Z22: =Y22*19% -> 0 | AA22: =Y22+Z22 -> 0 | AC22: =AB22*19% -> 0 | AD22: =AB22+AC22 -> 0 | AF22: =AE22*19% -> 0 | AG22: =AE22+AF22 -> 0 | AI22: =AH22*19% -> 0 | AJ22: =AH22+AI22 -> 0 | AL22: =AK22*19% -> 0 | AM22: =AK22+AL22 -> 0 | AO22: =AN22*19% -> 0 | AP22: =AN22+AO22 -> 0 | AR22: =AQ22*19% -> 0 | AS22: =AQ22+AR22 -> 0 | AU22: =AT22*19% -> 0 | AV22: =AT22+AU22 -> 0 | AX22: =AW22*19% -> 0 | AY22: =AW22+AX22 -> 0 | BA22: =AZ22*19% -> 0 | BB22: =AZ22+BA22 -> 0 | BD22: =BC22*19% -> 0 | BE22: =BC22+BD22 -> 0 | BG22: =BF22*19% -> 0 | BH22: =BF22+BG22 -> 0 | BJ22: =BI22*19% -> 0 | BK22: =BI22+BJ22 -> 0 | BM22: =BL22*19% -> 0 | BN22: =BL22+BM22 -> 0 | BP22: =BO22*19% -> 0 | BQ22: =BO22+BP22 -> 0 | BS22: =BR22*19% -> 0 | BT22: =BR22+BS22 -> 0 | BV22: =BU22*19% -> 0 | BW22: =BU22+BV22 -> 0 | BY22: =BX22*19% -> 0 | BZ22: =BX22+BY22 -> 0 | CB22: =CA22*19% -> 0 | CC22: =CA22+CB22 -> 0 | CE22: =CD22*19% -> 0 | CF22: =CD22+CE22 -> 0 | CH22: =CG22*19% -> 0 | CI22: =CG22+CH22 -> 0 | CK22: =CJ22*19% -> 0 | CL22: =CJ22+CK22 -> 0 | CN22: =CM22*19% -> 0 | CO22: =CM22+CN22 -> 0 | CQ22: =CP22*19% -> 0 | CR22: =CP22+CQ22 -> 0 | CT22: =CS22*19% -> 0 | CU22: =CS22+CT22 -> 0 | CW22: =CV22*19% -> 0 | CX22: =CV22+CW22 -> 0
B23: 2.4 | C23: CADENILLA MOTOR | E23: =D23*19% -> 0 | F23: =D23+E23 -> 0 | H23: =G23*19% -> 0 | I23: =G23+H23 -> 0 | K23: =J23*19% -> 0 | L23: =J23+K23 -> 0 | N23: =M23*19% -> 0 | O23: =M23+N23 -> 0 | Q23: =P23*19% -> 0 | R23: =P23+Q23 -> 0 | T23: =S23*19% -> 0 | U23: =S23+T23 -> 0 | W23: =V23*19% -> 0 | X23: =V23+W23 -> 0 | Z23: =Y23*19% -> 0 | AA23: =Y23+Z23 -> 0 | AC23: =AB23*19% -> 0 | AD23: =AB23+AC23 -> 0 | AF23: =AE23*19% -> 0 | AG23: =AE23+AF23 -> 0 | AI23: =AH23*19% -> 0 | AJ23: =AH23+AI23 -> 0 | AL23: =AK23*19% -> 0 | AM23: =AK23+AL23 -> 0 | AO23: =AN23*19% -> 0 | AP23: =AN23+AO23 -> 0 | AR23: =AQ23*19% -> 0 | AS23: =AQ23+AR23 -> 0 | AU23: =AT23*19% -> 0 | AV23: =AT23+AU23 -> 0 | AX23: =AW23*19% -> 0 | AY23: =AW23+AX23 -> 0 | BA23: =AZ23*19% -> 0 | BB23: =AZ23+BA23 -> 0 | BD23: =BC23*19% -> 0 | BE23: =BC23+BD23 -> 0 | BG23: =BF23*19% -> 0 | BH23: =BF23+BG23 -> 0 | BJ23: =BI23*19% -> 0 | BK23: =BI23+BJ23 -> 0 | BM23: =BL23*19% -> 0 | BN23: =BL23+BM23 -> 0 | BP23: =BO23*19% -> 0 | BQ23: =BO23+BP23 -> 0 | BS23: =BR23*19% -> 0 | BT23: =BR23+BS23 -> 0 | BV23: =BU23*19% -> 0 | BW23: =BU23+BV23 -> 0 | BY23: =BX23*19% -> 0 | BZ23: =BX23+BY23 -> 0 | CB23: =CA23*19% -> 0 | CC23: =CA23+CB23 -> 0 | CE23: =CD23*19% -> 0 | CF23: =CD23+CE23 -> 0 | CH23: =CG23*19% -> 0 | CI23: =CG23+CH23 -> 0 | CK23: =CJ23*19% -> 0 | CL23: =CJ23+CK23 -> 0 | CN23: =CM23*19% -> 0 | CO23: =CM23+CN23 -> 0 | CQ23: =CP23*19% -> 0 | CR23: =CP23+CQ23 -> 0 | CT23: =CS23*19% -> 0 | CU23: =CS23+CT23 -> 0 | CW23: =CV23*19% -> 0 | CX23: =CV23+CW23 -> 0
B24: 2.5 | C24: CIGÜEÑAL | E24: =D24*19% -> 0 | F24: =D24+E24 -> 0 | H24: =G24*19% -> 0 | I24: =G24+H24 -> 0 | K24: =J24*19% -> 0 | L24: =J24+K24 -> 0 | N24: =M24*19% -> 0 | O24: =M24+N24 -> 0 | Q24: =P24*19% -> 0 | R24: =P24+Q24 -> 0 | T24: =S24*19% -> 0 | U24: =S24+T24 -> 0 | W24: =V24*19% -> 0 | X24: =V24+W24 -> 0 | Z24: =Y24*19% -> 0 | AA24: =Y24+Z24 -> 0 | AC24: =AB24*19% -> 0 | AD24: =AB24+AC24 -> 0 | AF24: =AE24*19% -> 0 | AG24: =AE24+AF24 -> 0 | AI24: =AH24*19% -> 0 | AJ24: =AH24+AI24 -> 0 | AL24: =AK24*19% -> 0 | AM24: =AK24+AL24 -> 0 | AO24: =AN24*19% -> 0 | AP24: =AN24+AO24 -> 0 | AR24: =AQ24*19% -> 0 | AS24: =AQ24+AR24 -> 0 | AU24: =AT24*19% -> 0 | AV24: =AT24+AU24 -> 0 | AX24: =AW24*19% -> 0 | AY24: =AW24+AX24 -> 0 | BA24: =AZ24*19% -> 0 | BB24: =AZ24+BA24 -> 0 | BD24: =BC24*19% -> 0 | BE24: =BC24+BD24 -> 0 | BG24: =BF24*19% -> 0 | BH24: =BF24+BG24 -> 0 | BJ24: =BI24*19% -> 0 | BK24: =BI24+BJ24 -> 0 | BM24: =BL24*19% -> 0 | BN24: =BL24+BM24 -> 0 | BP24: =BO24*19% -> 0 | BQ24: =BO24+BP24 -> 0 | BS24: =BR24*19% -> 0 | BT24: =BR24+BS24 -> 0 | BV24: =BU24*19% -> 0 | BW24: =BU24+BV24 -> 0 | BY24: =BX24*19% -> 0 | BZ24: =BX24+BY24 -> 0 | CB24: =CA24*19% -> 0 | CC24: =CA24+CB24 -> 0 | CE24: =CD24*19% -> 0 | CF24: =CD24+CE24 -> 0 | CH24: =CG24*19% -> 0 | CI24: =CG24+CH24 -> 0 | CK24: =CJ24*19% -> 0 | CL24: =CJ24+CK24 -> 0 | CN24: =CM24*19% -> 0 | CO24: =CM24+CN24 -> 0 | CQ24: =CP24*19% -> 0 | CR24: =CP24+CQ24 -> 0 | CT24: =CS24*19% -> 0 | CU24: =CS24+CT24 -> 0 | CW24: =CV24*19% -> 0 | CX24: =CV24+CW24 -> 0
B25: 2.6 | C25: CILINDRO MOTOR | E25: =D25*19% -> 0 | F25: =D25+E25 -> 0 | H25: =G25*19% -> 0 | I25: =G25+H25 -> 0 | K25: =J25*19% -> 0 | L25: =J25+K25 -> 0 | N25: =M25*19% -> 0 | O25: =M25+N25 -> 0 | Q25: =P25*19% -> 0 | R25: =P25+Q25 -> 0 | T25: =S25*19% -> 0 | U25: =S25+T25 -> 0 | W25: =V25*19% -> 0 | X25: =V25+W25 -> 0 | Z25: =Y25*19% -> 0 | AA25: =Y25+Z25 -> 0 | AC25: =AB25*19% -> 0 | AD25: =AB25+AC25 -> 0 | AF25: =AE25*19% -> 0 | AG25: =AE25+AF25 -> 0 | AI25: =AH25*19% -> 0 | AJ25: =AH25+AI25 -> 0 | AL25: =AK25*19% -> 0 | AM25: =AK25+AL25 -> 0 | AO25: =AN25*19% -> 0 | AP25: =AN25+AO25 -> 0 | AR25: =AQ25*19% -> 0 | AS25: =AQ25+AR25 -> 0 | AU25: =AT25*19% -> 0 | AV25: =AT25+AU25 -> 0 | AX25: =AW25*19% -> 0 | AY25: =AW25+AX25 -> 0 | BA25: =AZ25*19% -> 0 | BB25: =AZ25+BA25 -> 0 | BD25: =BC25*19% -> 0 | BE25: =BC25+BD25 -> 0 | BG25: =BF25*19% -> 0 | BH25: =BF25+BG25 -> 0 | BJ25: =BI25*19% -> 0 | BK25: =BI25+BJ25 -> 0 | BM25: =BL25*19% -> 0 | BN25: =BL25+BM25 -> 0 | BP25: =BO25*19% -> 0 | BQ25: =BO25+BP25 -> 0 | BS25: =BR25*19% -> 0 | BT25: =BR25+BS25 -> 0 | BV25: =BU25*19% -> 0 | BW25: =BU25+BV25 -> 0 | BY25: =BX25*19% -> 0 | BZ25: =BX25+BY25 -> 0 | CB25: =CA25*19% -> 0 | CC25: =CA25+CB25 -> 0 | CE25: =CD25*19% -> 0 | CF25: =CD25+CE25 -> 0 | CH25: =CG25*19% -> 0 | CI25: =CG25+CH25 -> 0 | CK25: =CJ25*19% -> 0 | CL25: =CJ25+CK25 -> 0 | CN25: =CM25*19% -> 0 | CO25: =CM25+CN25 -> 0 | CQ25: =CP25*19% -> 0 | CR25: =CP25+CQ25 -> 0 | CT25: =CS25*19% -> 0 | CU25: =CS25+CT25 -> 0 | CW25: =CV25*19% -> 0 | CX25: =CV25+CW25 -> 0
B26: 2.7 | C26: CULATA | E26: =D26*19% -> 0 | F26: =D26+E26 -> 0 | H26: =G26*19% -> 0 | I26: =G26+H26 -> 0 | K26: =J26*19% -> 0 | L26: =J26+K26 -> 0 | N26: =M26*19% -> 0 | O26: =M26+N26 -> 0 | Q26: =P26*19% -> 0 | R26: =P26+Q26 -> 0 | T26: =S26*19% -> 0 | U26: =S26+T26 -> 0 | W26: =V26*19% -> 0 | X26: =V26+W26 -> 0 | Z26: =Y26*19% -> 0 | AA26: =Y26+Z26 -> 0 | AC26: =AB26*19% -> 0 | AD26: =AB26+AC26 -> 0 | AF26: =AE26*19% -> 0 | AG26: =AE26+AF26 -> 0 | AI26: =AH26*19% -> 0 | AJ26: =AH26+AI26 -> 0 | AL26: =AK26*19% -> 0 | AM26: =AK26+AL26 -> 0 | AO26: =AN26*19% -> 0 | AP26: =AN26+AO26 -> 0 | AR26: =AQ26*19% -> 0 | AS26: =AQ26+AR26 -> 0 | AU26: =AT26*19% -> 0 | AV26: =AT26+AU26 -> 0 | AX26: =AW26*19% -> 0 | AY26: =AW26+AX26 -> 0 | BA26: =AZ26*19% -> 0 | BB26: =AZ26+BA26 -> 0 | BD26: =BC26*19% -> 0 | BE26: =BC26+BD26 -> 0 | BG26: =BF26*19% -> 0 | BH26: =BF26+BG26 -> 0 | BJ26: =BI26*19% -> 0 | BK26: =BI26+BJ26 -> 0 | BM26: =BL26*19% -> 0 | BN26: =BL26+BM26 -> 0 | BP26: =BO26*19% -> 0 | BQ26: =BO26+BP26 -> 0 | BS26: =BR26*19% -> 0 | BT26: =BR26+BS26 -> 0 | BV26: =BU26*19% -> 0 | BW26: =BU26+BV26 -> 0 | BY26: =BX26*19% -> 0 | BZ26: =BX26+BY26 -> 0 | CB26: =CA26*19% -> 0 | CC26: =CA26+CB26 -> 0 | CE26: =CD26*19% -> 0 | CF26: =CD26+CE26 -> 0 | CH26: =CG26*19% -> 0 | CI26: =CG26+CH26 -> 0 | CK26: =CJ26*19% -> 0 | CL26: =CJ26+CK26 -> 0 | CN26: =CM26*19% -> 0 | CO26: =CM26+CN26 -> 0 | CQ26: =CP26*19% -> 0 | CR26: =CP26+CQ26 -> 0 | CT26: =CS26*19% -> 0 | CU26: =CS26+CT26 -> 0 | CW26: =CV26*19% -> 0 | CX26: =CV26+CW26 -> 0
B27: 2.8 | C27: CULATIN | E27: =D27*19% -> 0 | F27: =D27+E27 -> 0 | H27: =G27*19% -> 0 | I27: =G27+H27 -> 0 | K27: =J27*19% -> 0 | L27: =J27+K27 -> 0 | N27: =M27*19% -> 0 | O27: =M27+N27 -> 0 | Q27: =P27*19% -> 0 | R27: =P27+Q27 -> 0 | T27: =S27*19% -> 0 | U27: =S27+T27 -> 0 | W27: =V27*19% -> 0 | X27: =V27+W27 -> 0 | Z27: =Y27*19% -> 0 | AA27: =Y27+Z27 -> 0 | AC27: =AB27*19% -> 0 | AD27: =AB27+AC27 -> 0 | AF27: =AE27*19% -> 0 | AG27: =AE27+AF27 -> 0 | AI27: =AH27*19% -> 0 | AJ27: =AH27+AI27 -> 0 | AL27: =AK27*19% -> 0 | AM27: =AK27+AL27 -> 0 | AO27: =AN27*19% -> 0 | AP27: =AN27+AO27 -> 0 | AR27: =AQ27*19% -> 0 | AS27: =AQ27+AR27 -> 0 | AU27: =AT27*19% -> 0 | AV27: =AT27+AU27 -> 0 | AX27: =AW27*19% -> 0 | AY27: =AW27+AX27 -> 0 | BA27: =AZ27*19% -> 0 | BB27: =AZ27+BA27 -> 0 | BD27: =BC27*19% -> 0 | BE27: =BC27+BD27 -> 0 | BG27: =BF27*19% -> 0 | BH27: =BF27+BG27 -> 0 | BJ27: =BI27*19% -> 0 | BK27: =BI27+BJ27 -> 0 | BM27: =BL27*19% -> 0 | BN27: =BL27+BM27 -> 0 | BP27: =BO27*19% -> 0 | BQ27: =BO27+BP27 -> 0 | BS27: =BR27*19% -> 0 | BT27: =BR27+BS27 -> 0 | BV27: =BU27*19% -> 0 | BW27: =BU27+BV27 -> 0 | BY27: =BX27*19% -> 0 | BZ27: =BX27+BY27 -> 0 | CB27: =CA27*19% -> 0 | CC27: =CA27+CB27 -> 0 | CE27: =CD27*19% -> 0 | CF27: =CD27+CE27 -> 0 | CH27: =CG27*19% -> 0 | CI27: =CG27+CH27 -> 0 | CK27: =CJ27*19% -> 0 | CL27: =CJ27+CK27 -> 0 | CN27: =CM27*19% -> 0 | CO27: =CM27+CN27 -> 0 | CQ27: =CP27*19% -> 0 | CR27: =CP27+CQ27 -> 0 | CT27: =CS27*19% -> 0 | CU27: =CS27+CT27 -> 0 | CW27: =CV27*19% -> 0 | CX27: =CV27+CW27 -> 0
B28: 2.9 | C28: EJE DE LEVAS | E28: =D28*19% -> 0 | F28: =D28+E28 -> 0 | H28: =G28*19% -> 0 | I28: =G28+H28 -> 0 | K28: =J28*19% -> 0 | L28: =J28+K28 -> 0 | N28: =M28*19% -> 0 | O28: =M28+N28 -> 0 | Q28: =P28*19% -> 0 | R28: =P28+Q28 -> 0 | T28: =S28*19% -> 0 | U28: =S28+T28 -> 0 | W28: =V28*19% -> 0 | X28: =V28+W28 -> 0 | Z28: =Y28*19% -> 0 | AA28: =Y28+Z28 -> 0 | AC28: =AB28*19% -> 0 | AD28: =AB28+AC28 -> 0 | AF28: =AE28*19% -> 0 | AG28: =AE28+AF28 -> 0 | AI28: =AH28*19% -> 0 | AJ28: =AH28+AI28 -> 0 | AL28: =AK28*19% -> 0 | AM28: =AK28+AL28 -> 0 | AO28: =AN28*19% -> 0 | AP28: =AN28+AO28 -> 0 | AR28: =AQ28*19% -> 0 | AS28: =AQ28+AR28 -> 0 | AU28: =AT28*19% -> 0 | AV28: =AT28+AU28 -> 0 | AX28: =AW28*19% -> 0 | AY28: =AW28+AX28 -> 0 | BA28: =AZ28*19% -> 0 | BB28: =AZ28+BA28 -> 0 | BD28: =BC28*19% -> 0 | BE28: =BC28+BD28 -> 0 | BG28: =BF28*19% -> 0 | BH28: =BF28+BG28 -> 0 | BJ28: =BI28*19% -> 0 | BK28: =BI28+BJ28 -> 0 | BM28: =BL28*19% -> 0 | BN28: =BL28+BM28 -> 0 | BP28: =BO28*19% -> 0 | BQ28: =BO28+BP28 -> 0 | BS28: =BR28*19% -> 0 | BT28: =BR28+BS28 -> 0 | BV28: =BU28*19% -> 0 | BW28: =BU28+BV28 -> 0 | BY28: =BX28*19% -> 0 | BZ28: =BX28+BY28 -> 0 | CB28: =CA28*19% -> 0 | CC28: =CA28+CB28 -> 0 | CE28: =CD28*19% -> 0 | CF28: =CD28+CE28 -> 0 | CH28: =CG28*19% -> 0 | CI28: =CG28+CH28 -> 0 | CK28: =CJ28*19% -> 0 | CL28: =CJ28+CK28 -> 0 | CN28: =CM28*19% -> 0 | CO28: =CM28+CN28 -> 0 | CQ28: =CP28*19% -> 0 | CR28: =CP28+CQ28 -> 0 | CT28: =CS28*19% -> 0 | CU28: =CS28+CT28 -> 0 | CW28: =CV28*19% -> 0 | CX28: =CV28+CW28 -> 0
B29: 2.10 | C29: EMPAQUE DE CULATA | E29: =D29*19% -> 0 | F29: =D29+E29 -> 0 | H29: =G29*19% -> 0 | I29: =G29+H29 -> 0 | K29: =J29*19% -> 0 | L29: =J29+K29 -> 0 | N29: =M29*19% -> 0 | O29: =M29+N29 -> 0 | Q29: =P29*19% -> 0 | R29: =P29+Q29 -> 0 | T29: =S29*19% -> 0 | U29: =S29+T29 -> 0 | W29: =V29*19% -> 0 | X29: =V29+W29 -> 0 | Z29: =Y29*19% -> 0 | AA29: =Y29+Z29 -> 0 | AC29: =AB29*19% -> 0 | AD29: =AB29+AC29 -> 0 | AF29: =AE29*19% -> 0 | AG29: =AE29+AF29 -> 0 | AI29: =AH29*19% -> 0 | AJ29: =AH29+AI29 -> 0 | AL29: =AK29*19% -> 0 | AM29: =AK29+AL29 -> 0 | AO29: =AN29*19% -> 0 | AP29: =AN29+AO29 -> 0 | AR29: =AQ29*19% -> 0 | AS29: =AQ29+AR29 -> 0 | AU29: =AT29*19% -> 0 | AV29: =AT29+AU29 -> 0 | AX29: =AW29*19% -> 0 | AY29: =AW29+AX29 -> 0 | BA29: =AZ29*19% -> 0 | BB29: =AZ29+BA29 -> 0 | BD29: =BC29*19% -> 0 | BE29: =BC29+BD29 -> 0 | BG29: =BF29*19% -> 0 | BH29: =BF29+BG29 -> 0 | BJ29: =BI29*19% -> 0 | BK29: =BI29+BJ29 -> 0 | BM29: =BL29*19% -> 0 | BN29: =BL29+BM29 -> 0 | BP29: =BO29*19% -> 0 | BQ29: =BO29+BP29 -> 0 | BS29: =BR29*19% -> 0 | BT29: =BR29+BS29 -> 0 | BV29: =BU29*19% -> 0 | BW29: =BU29+BV29 -> 0 | BY29: =BX29*19% -> 0 | BZ29: =BX29+BY29 -> 0 | CB29: =CA29*19% -> 0 | CC29: =CA29+CB29 -> 0 | CE29: =CD29*19% -> 0 | CF29: =CD29+CE29 -> 0 | CH29: =CG29*19% -> 0 | CI29: =CG29+CH29 -> 0 | CK29: =CJ29*19% -> 0 | CL29: =CJ29+CK29 -> 0 | CN29: =CM29*19% -> 0 | CO29: =CM29+CN29 -> 0 | CQ29: =CP29*19% -> 0 | CR29: =CP29+CQ29 -> 0 | CT29: =CS29*19% -> 0 | CU29: =CS29+CT29 -> 0 | CW29: =CV29*19% -> 0 | CX29: =CV29+CW29 -> 0
B30: 2.11 | C30: EMPAQUETADURA MOTOR | E30: =D30*19% -> 0 | F30: =D30+E30 -> 0 | H30: =G30*19% -> 0 | I30: =G30+H30 -> 0 | K30: =J30*19% -> 0 | L30: =J30+K30 -> 0 | N30: =M30*19% -> 0 | O30: =M30+N30 -> 0 | Q30: =P30*19% -> 0 | R30: =P30+Q30 -> 0 | T30: =S30*19% -> 0 | U30: =S30+T30 -> 0 | W30: =V30*19% -> 0 | X30: =V30+W30 -> 0 | Z30: =Y30*19% -> 0 | AA30: =Y30+Z30 -> 0 | AC30: =AB30*19% -> 0 | AD30: =AB30+AC30 -> 0 | AF30: =AE30*19% -> 0 | AG30: =AE30+AF30 -> 0 | AI30: =AH30*19% -> 0 | AJ30: =AH30+AI30 -> 0 | AL30: =AK30*19% -> 0 | AM30: =AK30+AL30 -> 0 | AO30: =AN30*19% -> 0 | AP30: =AN30+AO30 -> 0 | AR30: =AQ30*19% -> 0 | AS30: =AQ30+AR30 -> 0 | AU30: =AT30*19% -> 0 | AV30: =AT30+AU30 -> 0 | AX30: =AW30*19% -> 0 | AY30: =AW30+AX30 -> 0 | BA30: =AZ30*19% -> 0 | BB30: =AZ30+BA30 -> 0 | BD30: =BC30*19% -> 0 | BE30: =BC30+BD30 -> 0 | BG30: =BF30*19% -> 0 | BH30: =BF30+BG30 -> 0 | BJ30: =BI30*19% -> 0 | BK30: =BI30+BJ30 -> 0 | BM30: =BL30*19% -> 0 | BN30: =BL30+BM30 -> 0 | BP30: =BO30*19% -> 0 | BQ30: =BO30+BP30 -> 0 | BS30: =BR30*19% -> 0 | BT30: =BR30+BS30 -> 0 | BV30: =BU30*19% -> 0 | BW30: =BU30+BV30 -> 0 | BY30: =BX30*19% -> 0 | BZ30: =BX30+BY30 -> 0 | CB30: =CA30*19% -> 0 | CC30: =CA30+CB30 -> 0 | CE30: =CD30*19% -> 0 | CF30: =CD30+CE30 -> 0 | CH30: =CG30*19% -> 0 | CI30: =CG30+CH30 -> 0 | CK30: =CJ30*19% -> 0 | CL30: =CJ30+CK30 -> 0 | CN30: =CM30*19% -> 0 | CO30: =CM30+CN30 -> 0 | CQ30: =CP30*19% -> 0 | CR30: =CP30+CQ30 -> 0 | CT30: =CS30*19% -> 0 | CU30: =CS30+CT30 -> 0 | CW30: =CV30*19% -> 0 | CX30: =CV30+CW30 -> 0
B31: 2.12 | C31: FILTRO DE ACEITE | E31: =D31*19% -> 0 | F31: =D31+E31 -> 0 | H31: =G31*19% -> 0 | I31: =G31+H31 -> 0 | K31: =J31*19% -> 0 | L31: =J31+K31 -> 0 | N31: =M31*19% -> 0 | O31: =M31+N31 -> 0 | Q31: =P31*19% -> 0 | R31: =P31+Q31 -> 0 | T31: =S31*19% -> 0 | U31: =S31+T31 -> 0 | W31: =V31*19% -> 0 | X31: =V31+W31 -> 0 | Z31: =Y31*19% -> 0 | AA31: =Y31+Z31 -> 0 | AC31: =AB31*19% -> 0 | AD31: =AB31+AC31 -> 0 | AF31: =AE31*19% -> 0 | AG31: =AE31+AF31 -> 0 | AI31: =AH31*19% -> 0 | AJ31: =AH31+AI31 -> 0 | AL31: =AK31*19% -> 0 | AM31: =AK31+AL31 -> 0 | AO31: =AN31*19% -> 0 | AP31: =AN31+AO31 -> 0 | AR31: =AQ31*19% -> 0 | AS31: =AQ31+AR31 -> 0 | AU31: =AT31*19% -> 0 | AV31: =AT31+AU31 -> 0 | AX31: =AW31*19% -> 0 | AY31: =AW31+AX31 -> 0 | BA31: =AZ31*19% -> 0 | BB31: =AZ31+BA31 -> 0 | BD31: =BC31*19% -> 0 | BE31: =BC31+BD31 -> 0 | BG31: =BF31*19% -> 0 | BH31: =BF31+BG31 -> 0 | BJ31: =BI31*19% -> 0 | BK31: =BI31+BJ31 -> 0 | BM31: =BL31*19% -> 0 | BN31: =BL31+BM31 -> 0 | BP31: =BO31*19% -> 0 | BQ31: =BO31+BP31 -> 0 | BS31: =BR31*19% -> 0 | BT31: =BR31+BS31 -> 0 | BV31: =BU31*19% -> 0 | BW31: =BU31+BV31 -> 0 | BY31: =BX31*19% -> 0 | BZ31: =BX31+BY31 -> 0 | CB31: =CA31*19% -> 0 | CC31: =CA31+CB31 -> 0 | CE31: =CD31*19% -> 0 | CF31: =CD31+CE31 -> 0 | CH31: =CG31*19% -> 0 | CI31: =CG31+CH31 -> 0 | CK31: =CJ31*19% -> 0 | CL31: =CJ31+CK31 -> 0 | CN31: =CM31*19% -> 0 | CO31: =CM31+CN31 -> 0 | CQ31: =CP31*19% -> 0 | CR31: =CP31+CQ31 -> 0 | CT31: =CS31*19% -> 0 | CU31: =CS31+CT31 -> 0 | CW31: =CV31*19% -> 0 | CX31: =CV31+CW31 -> 0
... B37: 2.18 | C37: VALVULAS (JUEGO) | E37: =D37*19% -> 0 | F37: =D37+E37 -> 0 | H37: =G37*19% -> 0 | I37: =G37+H37 -> 0 | K37: =J37*19% -> 0 | L37: =J37+K37 -> 0 | N37: =M37*19% -> 0 | O37: =M37+N37 -> 0 | Q37: =P37*19% -> 0 | R37: =P37+Q37 -> 0 | T37: =S37*19% -> 0 | U37: =S37+T37 -> 0 | W37: =V37*19% -> 0 | X37: =V37+W37 -> 0 | Z37: =Y37*19% -> 0 | AA37: =Y37+Z37 -> 0 | AC37: =AB37*19% -> 0 | AD37: =AB37+AC37 -> 0 | AF37: =AE37*19% -> 0 | AG37: =AE37+AF37 -> 0 | AI37: =AH37*19% -> 0 | AJ37: =AH37+AI37 -> 0 | AL37: =AK37*19% -> 0 | AM37: =AK37+AL37 -> 0 | AO37: =AN37*19% -> 0 | AP37: =AN37+AO37 -> 0 | AR37: =AQ37*19% -> 0 | AS37: =AQ37+AR37 -> 0 | AU37: =AT37*19% -> 0 | AV37: =AT37+AU37 -> 0 | AX37: =AW37*19% -> 0 | AY37: =AW37+AX37 -> 0 | BA37: =AZ37*19% -> 0 | BB37: =AZ37+BA37 -> 0 | BD37: =BC37*19% -> 0 | BE37: =BC37+BD37 -> 0 | BG37: =BF37*19% -> 0 | BH37: =BF37+BG37 -> 0 | BJ37: =BI37*19% -> 0 | BK37: =BI37+BJ37 -> 0 | BM37: =BL37*19% -> 0 | BN37: =BL37+BM37 -> 0 | BP37: =BO37*19% -> 0 | BQ37: =BO37+BP37 -> 0 | BS37: =BR37*19% -> 0 | BT37: =BR37+BS37 -> 0 | BV37: =BU37*19% -> 0 | BW37: =BU37+BV37 -> 0 | BY37: =BX37*19% -> 0 | BZ37: =BX37+BY37 -> 0 | CB37: =CA37*19% -> 0 | CC37: =CA37+CB37 -> 0 | CE37: =CD37*19% -> 0 | CF37: =CD37+CE37 -> 0 | CH37: =CG37*19% -> 0 | CI37: =CG37+CH37 -> 0 | CK37: =CJ37*19% -> 0 | CL37: =CJ37+CK37 -> 0 | CN37: =CM37*19% -> 0 | CO37: =CM37+CN37 -> 0 | CQ37: =CP37*19% -> 0 | CR37: =CP37+CQ37 -> 0 | CT37: =CS37*19% -> 0 | CU37: =CS37+CT37 -> 0 | CW37: =CV37*19% -> 0 | CX37: =CV37+CW37 -> 0
B38: 3 | C38: SISTEMA DE TRANSFERENCIA | D38: 0 | E38: 0 | F38: 0 | G38: 0 | H38: 0 | I38: 0 | J38: 0 | K38: 0 | L38: 0 | M38: 0 | N38: 0 | O38: 0 | P38: 0 | Q38: 0 | R38: 0 | S38: 0 | T38: 0 | U38: 0 | V38: 0 | W38: 0 | X38: 0 | Y38: 0 | Z38: 0 | AA38: 0 | AB38: 0 | AC38: 0 | AD38: 0 | AE38: 0 | AF38: 0 | AG38: 0 | AH38: 0 | AI38: 0 | AJ38: 0 | AK38: 0 | AL38: 0 | AM38: 0 | AN38: 0 | AO38: 0 | AP38: 0 | AQ38: 0 | AR38: 0 | AS38: 0 | AT38: 0 | AU38: 0 | AV38: 0 | AW38: 0 | AX38: 0 | AY38: 0 | AZ38: 0 | BA38: 0 | BB38: 0 | BC38: 0 | BD38: 0 | BE38: 0 | BF38: 0 | BG38: 0 | BH38: 0 | BI38: 0 | BJ38: 0 | BK38: 0 | BL38: 0 | BM38: 0 | BN38: 0 | BO38: 0 | BP38: 0 | BQ38: 0 | BR38: 0 | BS38: 0 | BT38: 0 | BU38: 0 | BV38: 0 | BW38: 0 | BX38: 0 | BY38: 0 | BZ38: 0 | CA38: 0 | CB38: 0 | CC38: 0 | CD38: 0 | CE38: 0 | CF38: 0 | CG38: 0 | CH38: 0 | CI38: 0 | CJ38: 0 | CK38: 0 | CL38: 0 | CM38: 0 | CN38: 0 | CO38: 0 | CP38: 0 | CQ38: 0 | CR38: 0 | CS38: 0 | CT38: 0 | CU38: 0 | CV38: 0 | CW38: 0 | CX38: 0
B39: 3.1 | C39: EMPAQUE TAPA EMBRAGUE | E39: =D39*19% -> 0 | F39: =D39+E39 -> 0 | H39: =G39*19% -> 0 | I39: =G39+H39 -> 0 | K39: =J39*19% -> 0 | L39: =J39+K39 -> 0 | N39: =M39*19% -> 0 | O39: =M39+N39 -> 0 | Q39: =P39*19% -> 0 | R39: =P39+Q39 -> 0 | T39: =S39*19% -> 0 | U39: =S39+T39 -> 0 | W39: =V39*19% -> 0 | X39: =V39+W39 -> 0 | Z39: =Y39*19% -> 0 | AA39: =Y39+Z39 -> 0 | AC39: =AB39*19% -> 0 | AD39: =AB39+AC39 -> 0 | AF39: =AE39*19% -> 0 | AG39: =AE39+AF39 -> 0 | AI39: =AH39*19% -> 0 | AJ39: =AH39+AI39 -> 0 | AL39: =AK39*19% -> 0 | AM39: =AK39+AL39 -> 0 | AO39: =AN39*19% -> 0 | AP39: =AN39+AO39 -> 0 | AR39: =AQ39*19% -> 0 | AS39: =AQ39+AR39 -> 0 | AU39: =AT39*19% -> 0 | AV39: =AT39+AU39 -> 0 | AX39: =AW39*19% -> 0 | AY39: =AW39+AX39 -> 0 | BA39: =AZ39*19% -> 0 | BB39: =AZ39+BA39 -> 0 | BD39: =BC39*19% -> 0 | BE39: =BC39+BD39 -> 0 | BG39: =BF39*19% -> 0 | BH39: =BF39+BG39 -> 0 | BJ39: =BI39*19% -> 0 | BK39: =BI39+BJ39 -> 0 | BM39: =BL39*19% -> 0 | BN39: =BL39+BM39 -> 0 | BP39: =BO39*19% -> 0 | BQ39: =BO39+BP39 -> 0 | BS39: =BR39*19% -> 0 | BT39: =BR39+BS39 -> 0 | BV39: =BU39*19% -> 0 | BW39: =BU39+BV39 -> 0 | BY39: =BX39*19% -> 0 | BZ39: =BX39+BY39 -> 0 | CB39: =CA39*19% -> 0 | CC39: =CA39+CB39 -> 0 | CE39: =CD39*19% -> 0 | CF39: =CD39+CE39 -> 0 | CH39: =CG39*19% -> 0 | CI39: =CG39+CH39 -> 0 | CK39: =CJ39*19% -> 0 | CL39: =CJ39+CK39 -> 0 | CN39: =CM39*19% -> 0 | CO39: =CM39+CN39 -> 0 | CQ39: =CP39*19% -> 0 | CR39: =CP39+CQ39 -> 0 | CT39: =CS39*19% -> 0 | CU39: =CS39+CT39 -> 0 | CW39: =CV39*19% -> 0 | CX39: =CV39+CW39 -> 0
B40: 3.2 | C40: GUAYA EMBREAGUE | E40: =D40*19% -> 0 | F40: =D40+E40 -> 0 | H40: =G40*19% -> 0 | I40: =G40+H40 -> 0 | K40: =J40*19% -> 0 | L40: =J40+K40 -> 0 | N40: =M40*19% -> 0 | O40: =M40+N40 -> 0 | Q40: =P40*19% -> 0 | R40: =P40+Q40 -> 0 | T40: =S40*19% -> 0 | U40: =S40+T40 -> 0 | W40: =V40*19% -> 0 | X40: =V40+W40 -> 0 | Z40: =Y40*19% -> 0 | AA40: =Y40+Z40 -> 0 | AC40: =AB40*19% -> 0 | AD40: =AB40+AC40 -> 0 | AF40: =AE40*19% -> 0 | AG40: =AE40+AF40 -> 0 | AI40: =AH40*19% -> 0 | AJ40: =AH40+AI40 -> 0 | AL40: =AK40*19% -> 0 | AM40: =AK40+AL40 -> 0 | AO40: =AN40*19% -> 0 | AP40: =AN40+AO40 -> 0 | AR40: =AQ40*19% -> 0 | AS40: =AQ40+AR40 -> 0 | AU40: =AT40*19% -> 0 | AV40: =AT40+AU40 -> 0 | AX40: =AW40*19% -> 0 | AY40: =AW40+AX40 -> 0 | BA40: =AZ40*19% -> 0 | BB40: =AZ40+BA40 -> 0 | BD40: =BC40*19% -> 0 | BE40: =BC40+BD40 -> 0 | BG40: =BF40*19% -> 0 | BH40: =BF40+BG40 -> 0 | BJ40: =BI40*19% -> 0 | BK40: =BI40+BJ40 -> 0 | BM40: =BL40*19% -> 0 | BN40: =BL40+BM40 -> 0 | BP40: =BO40*19% -> 0 | BQ40: =BO40+BP40 -> 0 | BS40: =BR40*19% -> 0 | BT40: =BR40+BS40 -> 0 | BV40: =BU40*19% -> 0 | BW40: =BU40+BV40 -> 0 | BY40: =BX40*19% -> 0 | BZ40: =BX40+BY40 -> 0 | CB40: =CA40*19% -> 0 | CC40: =CA40+CB40 -> 0 | CE40: =CD40*19% -> 0 | CF40: =CD40+CE40 -> 0 | CH40: =CG40*19% -> 0 | CI40: =CG40+CH40 -> 0 | CK40: =CJ40*19% -> 0 | CL40: =CJ40+CK40 -> 0 | CN40: =CM40*19% -> 0 | CO40: =CM40+CN40 -> 0 | CQ40: =CP40*19% -> 0 | CR40: =CP40+CQ40 -> 0 | CT40: =CS40*19% -> 0 | CU40: =CS40+CT40 -> 0 | CW40: =CV40*19% -> 0 | CX40: =CV40+CW40 -> 0
B41: 3.3 | C41: GUAYA VELOCIMETRO | E41: =D41*19% -> 0 | F41: =D41+E41 -> 0 | H41: =G41*19% -> 0 | I41: =G41+H41 -> 0 | K41: =J41*19% -> 0 | L41: =J41+K41 -> 0 | N41: =M41*19% -> 0 | O41: =M41+N41 -> 0 | Q41: =P41*19% -> 0 | R41: =P41+Q41 -> 0 | T41: =S41*19% -> 0 | U41: =S41+T41 -> 0 | W41: =V41*19% -> 0 | X41: =V41+W41 -> 0 | Z41: =Y41*19% -> 0 | AA41: =Y41+Z41 -> 0 | AC41: =AB41*19% -> 0 | AD41: =AB41+AC41 -> 0 | AF41: =AE41*19% -> 0 | AG41: =AE41+AF41 -> 0 | AI41: =AH41*19% -> 0 | AJ41: =AH41+AI41 -> 0 | AL41: =AK41*19% -> 0 | AM41: =AK41+AL41 -> 0 | AO41: =AN41*19% -> 0 | AP41: =AN41+AO41 -> 0 | AR41: =AQ41*19% -> 0 | AS41: =AQ41+AR41 -> 0 | AU41: =AT41*19% -> 0 | AV41: =AT41+AU41 -> 0 | AX41: =AW41*19% -> 0 | AY41: =AW41+AX41 -> 0 | BA41: =AZ41*19% -> 0 | BB41: =AZ41+BA41 -> 0 | BD41: =BC41*19% -> 0 | BE41: =BC41+BD41 -> 0 | BG41: =BF41*19% -> 0 | BH41: =BF41+BG41 -> 0 | BJ41: =BI41*19% -> 0 | BK41: =BI41+BJ41 -> 0 | BM41: =BL41*19% -> 0 | BN41: =BL41+BM41 -> 0 | BP41: =BO41*19% -> 0 | BQ41: =BO41+BP41 -> 0 | BS41: =BR41*19% -> 0 | BT41: =BR41+BS41 -> 0 | BV41: =BU41*19% -> 0 | BW41: =BU41+BV41 -> 0 | BY41: =BX41*19% -> 0 | BZ41: =BX41+BY41 -> 0 | CB41: =CA41*19% -> 0 | CC41: =CA41+CB41 -> 0 | CE41: =CD41*19% -> 0 | CF41: =CD41+CE41 -> 0 | CH41: =CG41*19% -> 0 | CI41: =CG41+CH41 -> 0 | CK41: =CJ41*19% -> 0 | CL41: =CJ41+CK41 -> 0 | CN41: =CM41*19% -> 0 | CO41: =CM41+CN41 -> 0 | CQ41: =CP41*19% -> 0 | CR41: =CP41+CQ41 -> 0 | CT41: =CS41*19% -> 0 | CU41: =CS41+CT41 -> 0 | CW41: =CV41*19% -> 0 | CX41: =CV41+CW41 -> 0
B42: 3.4 | C42: JUEGO CAUCHOS DE CAMPANA | E42: =D42*19% -> 0 | F42: =D42+E42 -> 0 | H42: =G42*19% -> 0 | I42: =G42+H42 -> 0 | K42: =J42*19% -> 0 | L42: =J42+K42 -> 0 | N42: =M42*19% -> 0 | O42: =M42+N42 -> 0 | Q42: =P42*19% -> 0 | R42: =P42+Q42 -> 0 | T42: =S42*19% -> 0 | U42: =S42+T42 -> 0 | W42: =V42*19% -> 0 | X42: =V42+W42 -> 0 | Z42: =Y42*19% -> 0 | AA42: =Y42+Z42 -> 0 | AC42: =AB42*19% -> 0 | AD42: =AB42+AC42 -> 0 | AF42: =AE42*19% -> 0 | AG42: =AE42+AF42 -> 0 | AI42: =AH42*19% -> 0 | AJ42: =AH42+AI42 -> 0 | AL42: =AK42*19% -> 0 | AM42: =AK42+AL42 -> 0 | AO42: =AN42*19% -> 0 | AP42: =AN42+AO42 -> 0 | AR42: =AQ42*19% -> 0 | AS42: =AQ42+AR42 -> 0 | AU42: =AT42*19% -> 0 | AV42: =AT42+AU42 -> 0 | AX42: =AW42*19% -> 0 | AY42: =AW42+AX42 -> 0 | BA42: =AZ42*19% -> 0 | BB42: =AZ42+BA42 -> 0 | BD42: =BC42*19% -> 0 | BE42: =BC42+BD42 -> 0 | BG42: =BF42*19% -> 0 | BH42: =BF42+BG42 -> 0 | BJ42: =BI42*19% -> 0 | BK42: =BI42+BJ42 -> 0 | BM42: =BL42*19% -> 0 | BN42: =BL42+BM42 -> 0 | BP42: =BO42*19% -> 0 | BQ42: =BO42+BP42 -> 0 | BS42: =BR42*19% -> 0 | BT42: =BR42+BS42 -> 0 | BV42: =BU42*19% -> 0 | BW42: =BU42+BV42 -> 0 | BY42: =BX42*19% -> 0 | BZ42: =BX42+BY42 -> 0 | CB42: =CA42*19% -> 0 | CC42: =CA42+CB42 -> 0 | CE42: =CD42*19% -> 0 | CF42: =CD42+CE42 -> 0 | CH42: =CG42*19% -> 0 | CI42: =CG42+CH42 -> 0 | CK42: =CJ42*19% -> 0 | CL42: =CJ42+CK42 -> 0 | CN42: =CM42*19% -> 0 | CO42: =CM42+CN42 -> 0 | CQ42: =CP42*19% -> 0 | CR42: =CP42+CQ42 -> 0 | CT42: =CS42*19% -> 0 | CU42: =CS42+CT42 -> 0 | CW42: =CV42*19% -> 0 | CX42: =CV42+CW42 -> 0
B43: 3.5 | C43: KIT DE ARRASTRE | E43: =D43*19% -> 0 | F43: =D43+E43 -> 0 | H43: =G43*19% -> 0 | I43: =G43+H43 -> 0 | K43: =J43*19% -> 0 | L43: =J43+K43 -> 0 | N43: =M43*19% -> 0 | O43: =M43+N43 -> 0 | Q43: =P43*19% -> 0 | R43: =P43+Q43 -> 0 | T43: =S43*19% -> 0 | U43: =S43+T43 -> 0 | W43: =V43*19% -> 0 | X43: =V43+W43 -> 0 | Z43: =Y43*19% -> 0 | AA43: =Y43+Z43 -> 0 | AC43: =AB43*19% -> 0 | AD43: =AB43+AC43 -> 0 | AF43: =AE43*19% -> 0 | AG43: =AE43+AF43 -> 0 | AI43: =AH43*19% -> 0 | AJ43: =AH43+AI43 -> 0 | AL43: =AK43*19% -> 0 | AM43: =AK43+AL43 -> 0 | AO43: =AN43*19% -> 0 | AP43: =AN43+AO43 -> 0 | AR43: =AQ43*19% -> 0 | AS43: =AQ43+AR43 -> 0 | AU43: =AT43*19% -> 0 | AV43: =AT43+AU43 -> 0 | AX43: =AW43*19% -> 0 | AY43: =AW43+AX43 -> 0 | BA43: =AZ43*19% -> 0 | BB43: =AZ43+BA43 -> 0 | BD43: =BC43*19% -> 0 | BE43: =BC43+BD43 -> 0 | BG43: =BF43*19% -> 0 | BH43: =BF43+BG43 -> 0 | BJ43: =BI43*19% -> 0 | BK43: =BI43+BJ43 -> 0 | BM43: =BL43*19% -> 0 | BN43: =BL43+BM43 -> 0 | BP43: =BO43*19% -> 0 | BQ43: =BO43+BP43 -> 0 | BS43: =BR43*19% -> 0 | BT43: =BR43+BS43 -> 0 | BV43: =BU43*19% -> 0 | BW43: =BU43+BV43 -> 0 | BY43: =BX43*19% -> 0 | BZ43: =BX43+BY43 -> 0 | CB43: =CA43*19% -> 0 | CC43: =CA43+CB43 -> 0 | CE43: =CD43*19% -> 0 | CF43: =CD43+CE43 -> 0 | CH43: =CG43*19% -> 0 | CI43: =CG43+CH43 -> 0 | CK43: =CJ43*19% -> 0 | CL43: =CJ43+CK43 -> 0 | CN43: =CM43*19% -> 0 | CO43: =CM43+CN43 -> 0 | CQ43: =CP43*19% -> 0 | CR43: =CP43+CQ43 -> 0 | CT43: =CS43*19% -> 0 | CU43: =CS43+CT43 -> 0 | CW43: =CV43*19% -> 0 | CX43: =CV43+CW43 -> 0
B44: 3.6 | C44: KIT DE EMBRAGUE | E44: =D44*19% -> 0 | F44: =D44+E44 -> 0 | H44: =G44*19% -> 0 | I44: =G44+H44 -> 0 | K44: =J44*19% -> 0 | L44: =J44+K44 -> 0 | N44: =M44*19% -> 0 | O44: =M44+N44 -> 0 | Q44: =P44*19% -> 0 | R44: =P44+Q44 -> 0 | T44: =S44*19% -> 0 | U44: =S44+T44 -> 0 | W44: =V44*19% -> 0 | X44: =V44+W44 -> 0 | Z44: =Y44*19% -> 0 | AA44: =Y44+Z44 -> 0 | AC44: =AB44*19% -> 0 | AD44: =AB44+AC44 -> 0 | AF44: =AE44*19% -> 0 | AG44: =AE44+AF44 -> 0 | AI44: =AH44*19% -> 0 | AJ44: =AH44+AI44 -> 0 | AL44: =AK44*19% -> 0 | AM44: =AK44+AL44 -> 0 | AO44: =AN44*19% -> 0 | AP44: =AN44+AO44 -> 0 | AR44: =AQ44*19% -> 0 | AS44: =AQ44+AR44 -> 0 | AU44: =AT44*19% -> 0 | AV44: =AT44+AU44 -> 0 | AX44: =AW44*19% -> 0 | AY44: =AW44+AX44 -> 0 | BA44: =AZ44*19% -> 0 | BB44: =AZ44+BA44 -> 0 | BD44: =BC44*19% -> 0 | BE44: =BC44+BD44 -> 0 | BG44: =BF44*19% -> 0 | BH44: =BF44+BG44 -> 0 | BJ44: =BI44*19% -> 0 | BK44: =BI44+BJ44 -> 0 | BM44: =BL44*19% -> 0 | BN44: =BL44+BM44 -> 0 | BP44: =BO44*19% -> 0 | BQ44: =BO44+BP44 -> 0 | BS44: =BR44*19% -> 0 | BT44: =BR44+BS44 -> 0 | BV44: =BU44*19% -> 0 | BW44: =BU44+BV44 -> 0 | BY44: =BX44*19% -> 0 | BZ44: =BX44+BY44 -> 0 | CB44: =CA44*19% -> 0 | CC44: =CA44+CB44 -> 0 | CE44: =CD44*19% -> 0 | CF44: =CD44+CE44 -> 0 | CH44: =CG44*19% -> 0 | CI44: =CG44+CH44 -> 0 | CK44: =CJ44*19% -> 0 | CL44: =CJ44+CK44 -> 0 | CN44: =CM44*19% -> 0 | CO44: =CM44+CN44 -> 0 | CQ44: =CP44*19% -> 0 | CR44: =CP44+CQ44 -> 0 | CT44: =CS44*19% -> 0 | CU44: =CS44+CT44 -> 0 | CW44: =CV44*19% -> 0 | CX44: =CV44+CW44 -> 0
B45: 3.7 | C45: MANIJA DE EMBRAGUE | E45: =D45*19% -> 0 | F45: =D45+E45 -> 0 | H45: =G45*19% -> 0 | I45: =G45+H45 -> 0 | K45: =J45*19% -> 0 | L45: =J45+K45 -> 0 | N45: =M45*19% -> 0 | O45: =M45+N45 -> 0 | Q45: =P45*19% -> 0 | R45: =P45+Q45 -> 0 | T45: =S45*19% -> 0 | U45: =S45+T45 -> 0 | W45: =V45*19% -> 0 | X45: =V45+W45 -> 0 | Z45: =Y45*19% -> 0 | AA45: =Y45+Z45 -> 0 | AC45: =AB45*19% -> 0 | AD45: =AB45+AC45 -> 0 | AF45: =AE45*19% -> 0 | AG45: =AE45+AF45 -> 0 | AI45: =AH45*19% -> 0 | AJ45: =AH45+AI45 -> 0 | AL45: =AK45*19% -> 0 | AM45: =AK45+AL45 -> 0 | AO45: =AN45*19% -> 0 | AP45: =AN45+AO45 -> 0 | AR45: =AQ45*19% -> 0 | AS45: =AQ45+AR45 -> 0 | AU45: =AT45*19% -> 0 | AV45: =AT45+AU45 -> 0 | AX45: =AW45*19% -> 0 | AY45: =AW45+AX45 -> 0 | BA45: =AZ45*19% -> 0 | BB45: =AZ45+BA45 -> 0 | BD45: =BC45*19% -> 0 | BE45: =BC45+BD45 -> 0 | BG45: =BF45*19% -> 0 | BH45: =BF45+BG45 -> 0 | BJ45: =BI45*19% -> 0 | BK45: =BI45+BJ45 -> 0 | BM45: =BL45*19% -> 0 | BN45: =BL45+BM45 -> 0 | BP45: =BO45*19% -> 0 | BQ45: =BO45+BP45 -> 0 | BS45: =BR45*19% -> 0 | BT45: =BR45+BS45 -> 0 | BV45: =BU45*19% -> 0 | BW45: =BU45+BV45 -> 0 | BY45: =BX45*19% -> 0 | BZ45: =BX45+BY45 -> 0 | CB45: =CA45*19% -> 0 | CC45: =CA45+CB45 -> 0 | CE45: =CD45*19% -> 0 | CF45: =CD45+CE45 -> 0 | CH45: =CG45*19% -> 0 | CI45: =CG45+CH45 -> 0 | CK45: =CJ45*19% -> 0 | CL45: =CJ45+CK45 -> 0 | CN45: =CM45*19% -> 0 | CO45: =CM45+CN45 -> 0 | CQ45: =CP45*19% -> 0 | CR45: =CP45+CQ45 -> 0 | CT45: =CS45*19% -> 0 | CU45: =CS45+CT45 -> 0 | CW45: =CV45*19% -> 0 | CX45: =CV45+CW45 -> 0
B46: 3.8 | C46: PIÑON VELOCIMETRO | E46: =D46*19% -> 0 | F46: =D46+E46 -> 0 | H46: =G46*19% -> 0 | I46: =G46+H46 -> 0 | K46: =J46*19% -> 0 | L46: =J46+K46 -> 0 | N46: =M46*19% -> 0 | O46: =M46+N46 -> 0 | Q46: =P46*19% -> 0 | R46: =P46+Q46 -> 0 | T46: =S46*19% -> 0 | U46: =S46+T46 -> 0 | W46: =V46*19% -> 0 | X46: =V46+W46 -> 0 | Z46: =Y46*19% -> 0 | AA46: =Y46+Z46 -> 0 | AC46: =AB46*19% -> 0 | AD46: =AB46+AC46 -> 0 | AF46: =AE46*19% -> 0 | AG46: =AE46+AF46 -> 0 | AI46: =AH46*19% -> 0 | AJ46: =AH46+AI46 -> 0 | AL46: =AK46*19% -> 0 | AM46: =AK46+AL46 -> 0 | AO46: =AN46*19% -> 0 | AP46: =AN46+AO46 -> 0 | AR46: =AQ46*19% -> 0 | AS46: =AQ46+AR46 -> 0 | AU46: =AT46*19% -> 0 | AV46: =AT46+AU46 -> 0 | AX46: =AW46*19% -> 0 | AY46: =AW46+AX46 -> 0 | BA46: =AZ46*19% -> 0 | BB46: =AZ46+BA46 -> 0 | BD46: =BC46*19% -> 0 | BE46: =BC46+BD46 -> 0 | BG46: =BF46*19% -> 0 | BH46: =BF46+BG46 -> 0 | BJ46: =BI46*19% -> 0 | BK46: =BI46+BJ46 -> 0 | BM46: =BL46*19% -> 0 | BN46: =BL46+BM46 -> 0 | BP46: =BO46*19% -> 0 | BQ46: =BO46+BP46 -> 0 | BS46: =BR46*19% -> 0 | BT46: =BR46+BS46 -> 0 | BV46: =BU46*19% -> 0 | BW46: =BU46+BV46 -> 0 | BY46: =BX46*19% -> 0 | BZ46: =BX46+BY46 -> 0 | CB46: =CA46*19% -> 0 | CC46: =CA46+CB46 -> 0 | CE46: =CD46*19% -> 0 | CF46: =CD46+CE46 -> 0 | CH46: =CG46*19% -> 0 | CI46: =CG46+CH46 -> 0 | CK46: =CJ46*19% -> 0 | CL46: =CJ46+CK46 -> 0 | CN46: =CM46*19% -> 0 | CO46: =CM46+CN46 -> 0 | CQ46: =CP46*19% -> 0 | CR46: =CP46+CQ46 -> 0 | CT46: =CS46*19% -> 0 | CU46: =CS46+CT46 -> 0 | CW46: =CV46*19% -> 0 | CX46: =CV46+CW46 -> 0
B47: 3.9 | C47: RETEN CONTROL DE CAMBIO | E47: =D47*19% -> 0 | F47: =D47+E47 -> 0 | H47: =G47*19% -> 0 | I47: =G47+H47 -> 0 | K47: =J47*19% -> 0 | L47: =J47+K47 -> 0 | N47: =M47*19% -> 0 | O47: =M47+N47 -> 0 | Q47: =P47*19% -> 0 | R47: =P47+Q47 -> 0 | T47: =S47*19% -> 0 | U47: =S47+T47 -> 0 | W47: =V47*19% -> 0 | X47: =V47+W47 -> 0 | Z47: =Y47*19% -> 0 | AA47: =Y47+Z47 -> 0 | AC47: =AB47*19% -> 0 | AD47: =AB47+AC47 -> 0 | AF47: =AE47*19% -> 0 | AG47: =AE47+AF47 -> 0 | AI47: =AH47*19% -> 0 | AJ47: =AH47+AI47 -> 0 | AL47: =AK47*19% -> 0 | AM47: =AK47+AL47 -> 0 | AO47: =AN47*19% -> 0 | AP47: =AN47+AO47 -> 0 | AR47: =AQ47*19% -> 0 | AS47: =AQ47+AR47 -> 0 | AU47: =AT47*19% -> 0 | AV47: =AT47+AU47 -> 0 | AX47: =AW47*19% -> 0 | AY47: =AW47+AX47 -> 0 | BA47: =AZ47*19% -> 0 | BB47: =AZ47+BA47 -> 0 | BD47: =BC47*19% -> 0 | BE47: =BC47+BD47 -> 0 | BG47: =BF47*19% -> 0 | BH47: =BF47+BG47 -> 0 | BJ47: =BI47*19% -> 0 | BK47: =BI47+BJ47 -> 0 | BM47: =BL47*19% -> 0 | BN47: =BL47+BM47 -> 0 | BP47: =BO47*19% -> 0 | BQ47: =BO47+BP47 -> 0 | BS47: =BR47*19% -> 0 | BT47: =BR47+BS47 -> 0 | BV47: =BU47*19% -> 0 | BW47: =BU47+BV47 -> 0 | BY47: =BX47*19% -> 0 | BZ47: =BX47+BY47 -> 0 | CB47: =CA47*19% -> 0 | CC47: =CA47+CB47 -> 0 | CE47: =CD47*19% -> 0 | CF47: =CD47+CE47 -> 0 | CH47: =CG47*19% -> 0 | CI47: =CG47+CH47 -> 0 | CK47: =CJ47*19% -> 0 | CL47: =CJ47+CK47 -> 0 | CN47: =CM47*19% -> 0 | CO47: =CM47+CN47 -> 0 | CQ47: =CP47*19% -> 0 | CR47: =CP47+CQ47 -> 0 | CT47: =CS47*19% -> 0 | CU47: =CS47+CT47 -> 0 | CW47: =CV47*19% -> 0 | CX47: =CV47+CW47 -> 0
B48: 3.10 | C48: RETEN SALIDA | E48: =D48*19% -> 0 | F48: =D48+E48 -> 0 | H48: =G48*19% -> 0 | I48: =G48+H48 -> 0 | K48: =J48*19% -> 0 | L48: =J48+K48 -> 0 | N48: =M48*19% -> 0 | O48: =M48+N48 -> 0 | Q48: =P48*19% -> 0 | R48: =P48+Q48 -> 0 | T48: =S48*19% -> 0 | U48: =S48+T48 -> 0 | W48: =V48*19% -> 0 | X48: =V48+W48 -> 0 | Z48: =Y48*19% -> 0 | AA48: =Y48+Z48 -> 0 | AC48: =AB48*19% -> 0 | AD48: =AB48+AC48 -> 0 | AF48: =AE48*19% -> 0 | AG48: =AE48+AF48 -> 0 | AI48: =AH48*19% -> 0 | AJ48: =AH48+AI48 -> 0 | AL48: =AK48*19% -> 0 | AM48: =AK48+AL48 -> 0 | AO48: =AN48*19% -> 0 | AP48: =AN48+AO48 -> 0 | AR48: =AQ48*19% -> 0 | AS48: =AQ48+AR48 -> 0 | AU48: =AT48*19% -> 0 | AV48: =AT48+AU48 -> 0 | AX48: =AW48*19% -> 0 | AY48: =AW48+AX48 -> 0 | BA48: =AZ48*19% -> 0 | BB48: =AZ48+BA48 -> 0 | BD48: =BC48*19% -> 0 | BE48: =BC48+BD48 -> 0 | BG48: =BF48*19% -> 0 | BH48: =BF48+BG48 -> 0 | BJ48: =BI48*19% -> 0 | BK48: =BI48+BJ48 -> 0 | BM48: =BL48*19% -> 0 | BN48: =BL48+BM48 -> 0 | BP48: =BO48*19% -> 0 | BQ48: =BO48+BP48 -> 0 | BS48: =BR48*19% -> 0 | BT48: =BR48+BS48 -> 0 | BV48: =BU48*19% -> 0 | BW48: =BU48+BV48 -> 0 | BY48: =BX48*19% -> 0 | BZ48: =BX48+BY48 -> 0 | CB48: =CA48*19% -> 0 | CC48: =CA48+CB48 -> 0 | CE48: =CD48*19% -> 0 | CF48: =CD48+CE48 -> 0 | CH48: =CG48*19% -> 0 | CI48: =CG48+CH48 -> 0 | CK48: =CJ48*19% -> 0 | CL48: =CJ48+CK48 -> 0 | CN48: =CM48*19% -> 0 | CO48: =CM48+CN48 -> 0 | CQ48: =CP48*19% -> 0 | CR48: =CP48+CQ48 -> 0 | CT48: =CS48*19% -> 0 | CU48: =CS48+CT48 -> 0 | CW48: =CV48*19% -> 0 | CX48: =CV48+CW48 -> 0
B49: 4 | C49: SISTEMA DE SUSPENSION | D49: 0 | E49: 0 | F49: 0 | G49: 0 | H49: 0 | I49: 0 | J49: 0 | K49: 0 | L49: 0 | M49: 0 | N49: 0 | O49: 0 | P49: 0 | Q49: 0 | R49: 0 | S49: 0 | T49: 0 | U49: 0 | V49: 0 | W49: 0 | X49: 0 | Y49: 0 | Z49: 0 | AA49: 0 | AB49: 0 | AC49: 0 | AD49: 0 | AE49: 0 | AF49: 0 | AG49: 0 | AH49: 0 | AI49: 0 | AJ49: 0 | AK49: 0 | AL49: 0 | AM49: 0 | AN49: 0 | AO49: 0 | AP49: 0 | AQ49: 0 | AR49: 0 | AS49: 0 | AT49: 0 | AU49: 0 | AV49: 0 | AW49: 0 | AX49: 0 | AY49: 0 | AZ49: 0 | BA49: 0 | BB49: 0 | BC49: 0 | BD49: 0 | BE49: 0 | BF49: 0 | BG49: 0 | BH49: 0 | BI49: 0 | BJ49: 0 | BK49: 0 | BL49: 0 | BM49: 0 | BN49: 0 | BO49: 0 | BP49: 0 | BQ49: 0 | BR49: 0 | BS49: 0 | BT49: 0 | BU49: 0 | BV49: 0 | BW49: 0 | BX49: 0 | BY49: 0 | BZ49: 0 | CA49: 0 | CB49: 0 | CC49: 0 | CD49: 0 | CE49: 0 | CF49: 0 | CG49: 0 | CH49: 0 | CI49: 0 | CJ49: 0 | CK49: 0 | CL49: 0 | CM49: 0 | CN49: 0 | CO49: 0 | CP49: 0 | CQ49: 0 | CR49: 0 | CS49: 0 | CT49: 0 | CU49: 0 | CV49: 0 | CW49: 0 | CX49: 0
B50: 4.1 | C50: AMORTIGUADOR DELANTERO | E50: =D50*19% -> 0 | F50: =D50+E50 -> 0 | H50: =G50*19% -> 0 | I50: =G50+H50 -> 0 | K50: =J50*19% -> 0 | L50: =J50+K50 -> 0 | N50: =M50*19% -> 0 | O50: =M50+N50 -> 0 | Q50: =P50*19% -> 0 | R50: =P50+Q50 -> 0 | T50: =S50*19% -> 0 | U50: =S50+T50 -> 0 | W50: =V50*19% -> 0 | X50: =V50+W50 -> 0 | Z50: =Y50*19% -> 0 | AA50: =Y50+Z50 -> 0 | AC50: =AB50*19% -> 0 | AD50: =AB50+AC50 -> 0 | AF50: =AE50*19% -> 0 | AG50: =AE50+AF50 -> 0 | AI50: =AH50*19% -> 0 | AJ50: =AH50+AI50 -> 0 | AL50: =AK50*19% -> 0 | AM50: =AK50+AL50 -> 0 | AO50: =AN50*19% -> 0 | AP50: =AN50+AO50 -> 0 | AR50: =AQ50*19% -> 0 | AS50: =AQ50+AR50 -> 0 | AU50: =AT50*19% -> 0 | AV50: =AT50+AU50 -> 0 | AX50: =AW50*19% -> 0 | AY50: =AW50+AX50 -> 0 | BA50: =AZ50*19% -> 0 | BB50: =AZ50+BA50 -> 0 | BD50: =BC50*19% -> 0 | BE50: =BC50+BD50 -> 0 | BG50: =BF50*19% -> 0 | BH50: =BF50+BG50 -> 0 | BJ50: =BI50*19% -> 0 | BK50: =BI50+BJ50 -> 0 | BM50: =BL50*19% -> 0 | BN50: =BL50+BM50 -> 0 | BP50: =BO50*19% -> 0 | BQ50: =BO50+BP50 -> 0 | BS50: =BR50*19% -> 0 | BT50: =BR50+BS50 -> 0 | BV50: =BU50*19% -> 0 | BW50: =BU50+BV50 -> 0 | BY50: =BX50*19% -> 0 | BZ50: =BX50+BY50 -> 0 | CB50: =CA50*19% -> 0 | CC50: =CA50+CB50 -> 0 | CE50: =CD50*19% -> 0 | CF50: =CD50+CE50 -> 0 | CH50: =CG50*19% -> 0 | CI50: =CG50+CH50 -> 0 | CK50: =CJ50*19% -> 0 | CL50: =CJ50+CK50 -> 0 | CN50: =CM50*19% -> 0 | CO50: =CM50+CN50 -> 0 | CQ50: =CP50*19% -> 0 | CR50: =CP50+CQ50 -> 0 | CT50: =CS50*19% -> 0 | CU50: =CS50+CT50 -> 0 | CW50: =CV50*19% -> 0 | CX50: =CV50+CW50 -> 0
B51: 4.2 | C51: AMORTIGUADOR TRASERO | E51: =D51*19% -> 0 | F51: =D51+E51 -> 0 | H51: =G51*19% -> 0 | I51: =G51+H51 -> 0 | K51: =J51*19% -> 0 | L51: =J51+K51 -> 0 | N51: =M51*19% -> 0 | O51: =M51+N51 -> 0 | Q51: =P51*19% -> 0 | R51: =P51+Q51 -> 0 | T51: =S51*19% -> 0 | U51: =S51+T51 -> 0 | W51: =V51*19% -> 0 | X51: =V51+W51 -> 0 | Z51: =Y51*19% -> 0 | AA51: =Y51+Z51 -> 0 | AC51: =AB51*19% -> 0 | AD51: =AB51+AC51 -> 0 | AF51: =AE51*19% -> 0 | AG51: =AE51+AF51 -> 0 | AI51: =AH51*19% -> 0 | AJ51: =AH51+AI51 -> 0 | AL51: =AK51*19% -> 0 | AM51: =AK51+AL51 -> 0 | AO51: =AN51*19% -> 0 | AP51: =AN51+AO51 -> 0 | AR51: =AQ51*19% -> 0 | AS51: =AQ51+AR51 -> 0 | AU51: =AT51*19% -> 0 | AV51: =AT51+AU51 -> 0 | AX51: =AW51*19% -> 0 | AY51: =AW51+AX51 -> 0 | BA51: =AZ51*19% -> 0 | BB51: =AZ51+BA51 -> 0 | BD51: =BC51*19% -> 0 | BE51: =BC51+BD51 -> 0 | BG51: =BF51*19% -> 0 | BH51: =BF51+BG51 -> 0 | BJ51: =BI51*19% -> 0 | BK51: =BI51+BJ51 -> 0 | BM51: =BL51*19% -> 0 | BN51: =BL51+BM51 -> 0 | BP51: =BO51*19% -> 0 | BQ51: =BO51+BP51 -> 0 | BS51: =BR51*19% -> 0 | BT51: =BR51+BS51 -> 0 | BV51: =BU51*19% -> 0 | BW51: =BU51+BV51 -> 0 | BY51: =BX51*19% -> 0 | BZ51: =BX51+BY51 -> 0 | CB51: =CA51*19% -> 0 | CC51: =CA51+CB51 -> 0 | CE51: =CD51*19% -> 0 | CF51: =CD51+CE51 -> 0 | CH51: =CG51*19% -> 0 | CI51: =CG51+CH51 -> 0 | CK51: =CJ51*19% -> 0 | CL51: =CJ51+CK51 -> 0 | CN51: =CM51*19% -> 0 | CO51: =CM51+CN51 -> 0 | CQ51: =CP51*19% -> 0 | CR51: =CP51+CQ51 -> 0 | CT51: =CS51*19% -> 0 | CU51: =CS51+CT51 -> 0 | CW51: =CV51*19% -> 0 | CX51: =CV51+CW51 -> 0
B52: 4.3 | C52: BUJES TIJERA (JUEGO) | E52: =D52*19% -> 0 | F52: =D52+E52 -> 0 | H52: =G52*19% -> 0 | I52: =G52+H52 -> 0 | K52: =J52*19% -> 0 | L52: =J52+K52 -> 0 | N52: =M52*19% -> 0 | O52: =M52+N52 -> 0 | Q52: =P52*19% -> 0 | R52: =P52+Q52 -> 0 | T52: =S52*19% -> 0 | U52: =S52+T52 -> 0 | W52: =V52*19% -> 0 | X52: =V52+W52 -> 0 | Z52: =Y52*19% -> 0 | AA52: =Y52+Z52 -> 0 | AC52: =AB52*19% -> 0 | AD52: =AB52+AC52 -> 0 | AF52: =AE52*19% -> 0 | AG52: =AE52+AF52 -> 0 | AI52: =AH52*19% -> 0 | AJ52: =AH52+AI52 -> 0 | AL52: =AK52*19% -> 0 | AM52: =AK52+AL52 -> 0 | AO52: =AN52*19% -> 0 | AP52: =AN52+AO52 -> 0 | AR52: =AQ52*19% -> 0 | AS52: =AQ52+AR52 -> 0 | AU52: =AT52*19% -> 0 | AV52: =AT52+AU52 -> 0 | AX52: =AW52*19% -> 0 | AY52: =AW52+AX52 -> 0 | BA52: =AZ52*19% -> 0 | BB52: =AZ52+BA52 -> 0 | BD52: =BC52*19% -> 0 | BE52: =BC52+BD52 -> 0 | BG52: =BF52*19% -> 0 | BH52: =BF52+BG52 -> 0 | BJ52: =BI52*19% -> 0 | BK52: =BI52+BJ52 -> 0 | BM52: =BL52*19% -> 0 | BN52: =BL52+BM52 -> 0 | BP52: =BO52*19% -> 0 | BQ52: =BO52+BP52 -> 0 | BS52: =BR52*19% -> 0 | BT52: =BR52+BS52 -> 0 | BV52: =BU52*19% -> 0 | BW52: =BU52+BV52 -> 0 | BY52: =BX52*19% -> 0 | BZ52: =BX52+BY52 -> 0 | CB52: =CA52*19% -> 0 | CC52: =CA52+CB52 -> 0 | CE52: =CD52*19% -> 0 | CF52: =CD52+CE52 -> 0 | CH52: =CG52*19% -> 0 | CI52: =CG52+CH52 -> 0 | CK52: =CJ52*19% -> 0 | CL52: =CJ52+CK52 -> 0 | CN52: =CM52*19% -> 0 | CO52: =CM52+CN52 -> 0 | CQ52: =CP52*19% -> 0 | CR52: =CP52+CQ52 -> 0 | CT52: =CS52*19% -> 0 | CU52: =CS52+CT52 -> 0 | CW52: =CV52*19% -> 0 | CX52: =CV52+CW52 -> 0
B53: 4.4 | C53: RETEN BARRAS (JUEGO) | E53: =D53*19% -> 0 | F53: =D53+E53 -> 0 | H53: =G53*19% -> 0 | I53: =G53+H53 -> 0 | K53: =J53*19% -> 0 | L53: =J53+K53 -> 0 | N53: =M53*19% -> 0 | O53: =M53+N53 -> 0 | Q53: =P53*19% -> 0 | R53: =P53+Q53 -> 0 | T53: =S53*19% -> 0 | U53: =S53+T53 -> 0 | W53: =V53*19% -> 0 | X53: =V53+W53 -> 0 | Z53: =Y53*19% -> 0 | AA53: =Y53+Z53 -> 0 | AC53: =AB53*19% -> 0 | AD53: =AB53+AC53 -> 0 | AF53: =AE53*19% -> 0 | AG53: =AE53+AF53 -> 0 | AI53: =AH53*19% -> 0 | AJ53: =AH53+AI53 -> 0 | AL53: =AK53*19% -> 0 | AM53: =AK53+AL53 -> 0 | AO53: =AN53*19% -> 0 | AP53: =AN53+AO53 -> 0 | AR53: =AQ53*19% -> 0 | AS53: =AQ53+AR53 -> 0 | AU53: =AT53*19% -> 0 | AV53: =AT53+AU53 -> 0 | AX53: =AW53*19% -> 0 | AY53: =AW53+AX53 -> 0 | BA53: =AZ53*19% -> 0 | BB53: =AZ53+BA53 -> 0 | BD53: =BC53*19% -> 0 | BE53: =BC53+BD53 -> 0 | BG53: =BF53*19% -> 0 | BH53: =BF53+BG53 -> 0 | BJ53: =BI53*19% -> 0 | BK53: =BI53+BJ53 -> 0 | BM53: =BL53*19% -> 0 | BN53: =BL53+BM53 -> 0 | BP53: =BO53*19% -> 0 | BQ53: =BO53+BP53 -> 0 | BS53: =BR53*19% -> 0 | BT53: =BR53+BS53 -> 0 | BV53: =BU53*19% -> 0 | BW53: =BU53+BV53 -> 0 | BY53: =BX53*19% -> 0 | BZ53: =BX53+BY53 -> 0 | CB53: =CA53*19% -> 0 | CC53: =CA53+CB53 -> 0 | CE53: =CD53*19% -> 0 | CF53: =CD53+CE53 -> 0 | CH53: =CG53*19% -> 0 | CI53: =CG53+CH53 -> 0 | CK53: =CJ53*19% -> 0 | CL53: =CJ53+CK53 -> 0 | CN53: =CM53*19% -> 0 | CO53: =CM53+CN53 -> 0 | CQ53: =CP53*19% -> 0 | CR53: =CP53+CQ53 -> 0 | CT53: =CS53*19% -> 0 | CU53: =CS53+CT53 -> 0 | CW53: =CV53*19% -> 0 | CX53: =CV53+CW53 -> 0
B54: 4.5 | C54: RODAMIENTOS DELANTEROS (JUEGO) | E54: =D54*19% -> 0 | F54: =D54+E54 -> 0 | H54: =G54*19% -> 0 | I54: =G54+H54 -> 0 | K54: =J54*19% -> 0 | L54: =J54+K54 -> 0 | N54: =M54*19% -> 0 | O54: =M54+N54 -> 0 | Q54: =P54*19% -> 0 | R54: =P54+Q54 -> 0 | T54: =S54*19% -> 0 | U54: =S54+T54 -> 0 | W54: =V54*19% -> 0 | X54: =V54+W54 -> 0 | Z54: =Y54*19% -> 0 | AA54: =Y54+Z54 -> 0 | AC54: =AB54*19% -> 0 | AD54: =AB54+AC54 -> 0 | AF54: =AE54*19% -> 0 | AG54: =AE54+AF54 -> 0 | AI54: =AH54*19% -> 0 | AJ54: =AH54+AI54 -> 0 | AL54: =AK54*19% -> 0 | AM54: =AK54+AL54 -> 0 | AO54: =AN54*19% -> 0 | AP54: =AN54+AO54 -> 0 | AR54: =AQ54*19% -> 0 | AS54: =AQ54+AR54 -> 0 | AU54: =AT54*19% -> 0 | AV54: =AT54+AU54 -> 0 | AX54: =AW54*19% -> 0 | AY54: =AW54+AX54 -> 0 | BA54: =AZ54*19% -> 0 | BB54: =AZ54+BA54 -> 0 | BD54: =BC54*19% -> 0 | BE54: =BC54+BD54 -> 0 | BG54: =BF54*19% -> 0 | BH54: =BF54+BG54 -> 0 | BJ54: =BI54*19% -> 0 | BK54: =BI54+BJ54 -> 0 | BM54: =BL54*19% -> 0 | BN54: =BL54+BM54 -> 0 | BP54: =BO54*19% -> 0 | BQ54: =BO54+BP54 -> 0 | BS54: =BR54*19% -> 0 | BT54: =BR54+BS54 -> 0 | BV54: =BU54*19% -> 0 | BW54: =BU54+BV54 -> 0 | BY54: =BX54*19% -> 0 | BZ54: =BX54+BY54 -> 0 | CB54: =CA54*19% -> 0 | CC54: =CA54+CB54 -> 0 | CE54: =CD54*19% -> 0 | CF54: =CD54+CE54 -> 0 | CH54: =CG54*19% -> 0 | CI54: =CG54+CH54 -> 0 | CK54: =CJ54*19% -> 0 | CL54: =CJ54+CK54 -> 0 | CN54: =CM54*19% -> 0 | CO54: =CM54+CN54 -> 0 | CQ54: =CP54*19% -> 0 | CR54: =CP54+CQ54 -> 0 | CT54: =CS54*19% -> 0 | CU54: =CS54+CT54 -> 0 | CW54: =CV54*19% -> 0 | CX54: =CV54+CW54 -> 0
B55: 4.6 | C55: RODAMIENTOS TRASEROS (JUEGO) | E55: =D55*19% -> 0 | F55: =D55+E55 -> 0 | H55: =G55*19% -> 0 | I55: =G55+H55 -> 0 | K55: =J55*19% -> 0 | L55: =J55+K55 -> 0 | N55: =M55*19% -> 0 | O55: =M55+N55 -> 0 | Q55: =P55*19% -> 0 | R55: =P55+Q55 -> 0 | T55: =S55*19% -> 0 | U55: =S55+T55 -> 0 | W55: =V55*19% -> 0 | X55: =V55+W55 -> 0 | Z55: =Y55*19% -> 0 | AA55: =Y55+Z55 -> 0 | AC55: =AB55*19% -> 0 | AD55: =AB55+AC55 -> 0 | AF55: =AE55*19% -> 0 | AG55: =AE55+AF55 -> 0 | AI55: =AH55*19% -> 0 | AJ55: =AH55+AI55 -> 0 | AL55: =AK55*19% -> 0 | AM55: =AK55+AL55 -> 0 | AO55: =AN55*19% -> 0 | AP55: =AN55+AO55 -> 0 | AR55: =AQ55*19% -> 0 | AS55: =AQ55+AR55 -> 0 | AU55: =AT55*19% -> 0 | AV55: =AT55+AU55 -> 0 | AX55: =AW55*19% -> 0 | AY55: =AW55+AX55 -> 0 | BA55: =AZ55*19% -> 0 | BB55: =AZ55+BA55 -> 0 | BD55: =BC55*19% -> 0 | BE55: =BC55+BD55 -> 0 | BG55: =BF55*19% -> 0 | BH55: =BF55+BG55 -> 0 | BJ55: =BI55*19% -> 0 | BK55: =BI55+BJ55 -> 0 | BM55: =BL55*19% -> 0 | BN55: =BL55+BM55 -> 0 | BP55: =BO55*19% -> 0 | BQ55: =BO55+BP55 -> 0 | BS55: =BR55*19% -> 0 | BT55: =BR55+BS55 -> 0 | BV55: =BU55*19% -> 0 | BW55: =BU55+BV55 -> 0 | BY55: =BX55*19% -> 0 | BZ55: =BX55+BY55 -> 0 | CB55: =CA55*19% -> 0 | CC55: =CA55+CB55 -> 0 | CE55: =CD55*19% -> 0 | CF55: =CD55+CE55 -> 0 | CH55: =CG55*19% -> 0 | CI55: =CG55+CH55 -> 0 | CK55: =CJ55*19% -> 0 | CL55: =CJ55+CK55 -> 0 | CN55: =CM55*19% -> 0 | CO55: =CM55+CN55 -> 0 | CQ55: =CP55*19% -> 0 | CR55: =CP55+CQ55 -> 0 | CT55: =CS55*19% -> 0 | CU55: =CS55+CT55 -> 0 | CW55: =CV55*19% -> 0 | CX55: =CV55+CW55 -> 0
B56: 4.7 | C56: SOPORTE O PATA LATERAL | E56: =D56*19% -> 0 | F56: =D56+E56 -> 0 | H56: =G56*19% -> 0 | I56: =G56+H56 -> 0 | K56: =J56*19% -> 0 | L56: =J56+K56 -> 0 | N56: =M56*19% -> 0 | O56: =M56+N56 -> 0 | Q56: =P56*19% -> 0 | R56: =P56+Q56 -> 0 | T56: =S56*19% -> 0 | U56: =S56+T56 -> 0 | W56: =V56*19% -> 0 | X56: =V56+W56 -> 0 | Z56: =Y56*19% -> 0 | AA56: =Y56+Z56 -> 0 | AC56: =AB56*19% -> 0 | AD56: =AB56+AC56 -> 0 | AF56: =AE56*19% -> 0 | AG56: =AE56+AF56 -> 0 | AI56: =AH56*19% -> 0 | AJ56: =AH56+AI56 -> 0 | AL56: =AK56*19% -> 0 | AM56: =AK56+AL56 -> 0 | AO56: =AN56*19% -> 0 | AP56: =AN56+AO56 -> 0 | AR56: =AQ56*19% -> 0 | AS56: =AQ56+AR56 -> 0 | AU56: =AT56*19% -> 0 | AV56: =AT56+AU56 -> 0 | AX56: =AW56*19% -> 0 | AY56: =AW56+AX56 -> 0 | BA56: =AZ56*19% -> 0 | BB56: =AZ56+BA56 -> 0 | BD56: =BC56*19% -> 0 | BE56: =BC56+BD56 -> 0 | BG56: =BF56*19% -> 0 | BH56: =BF56+BG56 -> 0 | BJ56: =BI56*19% -> 0 | BK56: =BI56+BJ56 -> 0 | BM56: =BL56*19% -> 0 | BN56: =BL56+BM56 -> 0 | BP56: =BO56*19% -> 0 | BQ56: =BO56+BP56 -> 0 | BS56: =BR56*19% -> 0 | BT56: =BR56+BS56 -> 0 | BV56: =BU56*19% -> 0 | BW56: =BU56+BV56 -> 0 | BY56: =BX56*19% -> 0 | BZ56: =BX56+BY56 -> 0 | CB56: =CA56*19% -> 0 | CC56: =CA56+CB56 -> 0 | CE56: =CD56*19% -> 0 | CF56: =CD56+CE56 -> 0 | CH56: =CG56*19% -> 0 | CI56: =CG56+CH56 -> 0 | CK56: =CJ56*19% -> 0 | CL56: =CJ56+CK56 -> 0 | CN56: =CM56*19% -> 0 | CO56: =CM56+CN56 -> 0 | CQ56: =CP56*19% -> 0 | CR56: =CP56+CQ56 -> 0 | CT56: =CS56*19% -> 0 | CU56: =CS56+CT56 -> 0 | CW56: =CV56*19% -> 0 | CX56: =CV56+CW56 -> 0
B57: 4.8 | C57: TIJERA | E57: =D57*19% -> 0 | F57: =D57+E57 -> 0 | H57: =G57*19% -> 0 | I57: =G57+H57 -> 0 | K57: =J57*19% -> 0 | L57: =J57+K57 -> 0 | N57: =M57*19% -> 0 | O57: =M57+N57 -> 0 | Q57: =P57*19% -> 0 | R57: =P57+Q57 -> 0 | T57: =S57*19% -> 0 | U57: =S57+T57 -> 0 | W57: =V57*19% -> 0 | X57: =V57+W57 -> 0 | Z57: =Y57*19% -> 0 | AA57: =Y57+Z57 -> 0 | AC57: =AB57*19% -> 0 | AD57: =AB57+AC57 -> 0 | AF57: =AE57*19% -> 0 | AG57: =AE57+AF57 -> 0 | AI57: =AH57*19% -> 0 | AJ57: =AH57+AI57 -> 0 | AL57: =AK57*19% -> 0 | AM57: =AK57+AL57 -> 0 | AO57: =AN57*19% -> 0 | AP57: =AN57+AO57 -> 0 | AR57: =AQ57*19% -> 0 | AS57: =AQ57+AR57 -> 0 | AU57: =AT57*19% -> 0 | AV57: =AT57+AU57 -> 0 | AX57: =AW57*19% -> 0 | AY57: =AW57+AX57 -> 0 | BA57: =AZ57*19% -> 0 | BB57: =AZ57+BA57 -> 0 | BD57: =BC57*19% -> 0 | BE57: =BC57+BD57 -> 0 | BG57: =BF57*19% -> 0 | BH57: =BF57+BG57 -> 0 | BJ57: =BI57*19% -> 0 | BK57: =BI57+BJ57 -> 0 | BM57: =BL57*19% -> 0 | BN57: =BL57+BM57 -> 0 | BP57: =BO57*19% -> 0 | BQ57: =BO57+BP57 -> 0 | BS57: =BR57*19% -> 0 | BT57: =BR57+BS57 -> 0 | BV57: =BU57*19% -> 0 | BW57: =BU57+BV57 -> 0 | BY57: =BX57*19% -> 0 | BZ57: =BX57+BY57 -> 0 | CB57: =CA57*19% -> 0 | CC57: =CA57+CB57 -> 0 | CE57: =CD57*19% -> 0 | CF57: =CD57+CE57 -> 0 | CH57: =CG57*19% -> 0 | CI57: =CG57+CH57 -> 0 | CK57: =CJ57*19% -> 0 | CL57: =CJ57+CK57 -> 0 | CN57: =CM57*19% -> 0 | CO57: =CM57+CN57 -> 0 | CQ57: =CP57*19% -> 0 | CR57: =CP57+CQ57 -> 0 | CT57: =CS57*19% -> 0 | CU57: =CS57+CT57 -> 0 | CW57: =CV57*19% -> 0 | CX57: =CV57+CW57 -> 0
B58: 5 | C58: SISTEMA DE DIRECCION | D58: 0 | E58: 0 | F58: 0 | G58: 0 | H58: 0 | I58: 0 | J58: 0 | K58: 0 | L58: 0 | M58: 0 | N58: 0 | O58: 0 | P58: 0 | Q58: 0 | R58: 0 | S58: 0 | T58: 0 | U58: 0 | V58: 0 | W58: 0 | X58: 0 | Y58: 0 | Z58: 0 | AA58: 0 | AB58: 0 | AC58: 0 | AD58: 0 | AE58: 0 | AF58: 0 | AG58: 0 | AH58: 0 | AI58: 0 | AJ58: 0 | AK58: 0 | AL58: 0 | AM58: 0 | AN58: 0 | AO58: 0 | AP58: 0 | AQ58: 0 | AR58: 0 | AS58: 0 | AT58: 0 | AU58: 0 | AV58: 0 | AW58: 0 | AX58: 0 | AY58: 0 | AZ58: 0 | BA58: 0 | BB58: 0 | BC58: 0 | BD58: 0 | BE58: 0 | BF58: 0 | BG58: 0 | BH58: 0 | BI58: 0 | BJ58: 0 | BK58: 0 | BL58: 0 | BM58: 0 | BN58: 0 | BO58: 0 | BP58: 0 | BQ58: 0 | BR58: 0 | BS58: 0 | BT58: 0 | BU58: 0 | BV58: 0 | BW58: 0 | BX58: 0 | BY58: 0 | BZ58: 0 | CA58: 0 | CB58: 0 | CC58: 0 | CD58: 0 | CE58: 0 | CF58: 0 | CG58: 0 | CH58: 0 | CI58: 0 | CJ58: 0 | CK58: 0 | CL58: 0 | CM58: 0 | CN58: 0 | CO58: 0 | CP58: 0 | CQ58: 0 | CR58: 0 | CS58: 0 | CT58: 0 | CU58: 0 | CV58: 0 | CW58: 0 | CX58: 0
B59: 5.1 | C59: CUNAS DIRECCION | E59: =D59*19% -> 0 | F59: =D59+E59 -> 0 | H59: =G59*19% -> 0 | I59: =G59+H59 -> 0 | K59: =J59*19% -> 0 | L59: =J59+K59 -> 0 | N59: =M59*19% -> 0 | O59: =M59+N59 -> 0 | Q59: =P59*19% -> 0 | R59: =P59+Q59 -> 0 | T59: =S59*19% -> 0 | U59: =S59+T59 -> 0 | W59: =V59*19% -> 0 | X59: =V59+W59 -> 0 | Z59: =Y59*19% -> 0 | AA59: =Y59+Z59 -> 0 | AC59: =AB59*19% -> 0 | AD59: =AB59+AC59 -> 0 | AF59: =AE59*19% -> 0 | AG59: =AE59+AF59 -> 0 | AI59: =AH59*19% -> 0 | AJ59: =AH59+AI59 -> 0 | AL59: =AK59*19% -> 0 | AM59: =AK59+AL59 -> 0 | AO59: =AN59*19% -> 0 | AP59: =AN59+AO59 -> 0 | AR59: =AQ59*19% -> 0 | AS59: =AQ59+AR59 -> 0 | AU59: =AT59*19% -> 0 | AV59: =AT59+AU59 -> 0 | AX59: =AW59*19% -> 0 | AY59: =AW59+AX59 -> 0 | BA59: =AZ59*19% -> 0 | BB59: =AZ59+BA59 -> 0 | BD59: =BC59*19% -> 0 | BE59: =BC59+BD59 -> 0 | BG59: =BF59*19% -> 0 | BH59: =BF59+BG59 -> 0 | BJ59: =BI59*19% -> 0 | BK59: =BI59+BJ59 -> 0 | BM59: =BL59*19% -> 0 | BN59: =BL59+BM59 -> 0 | BP59: =BO59*19% -> 0 | BQ59: =BO59+BP59 -> 0 | BS59: =BR59*19% -> 0 | BT59: =BR59+BS59 -> 0 | BV59: =BU59*19% -> 0 | BW59: =BU59+BV59 -> 0 | BY59: =BX59*19% -> 0 | BZ59: =BX59+BY59 -> 0 | CB59: =CA59*19% -> 0 | CC59: =CA59+CB59 -> 0 | CE59: =CD59*19% -> 0 | CF59: =CD59+CE59 -> 0 | CH59: =CG59*19% -> 0 | CI59: =CG59+CH59 -> 0 | CK59: =CJ59*19% -> 0 | CL59: =CJ59+CK59 -> 0 | CN59: =CM59*19% -> 0 | CO59: =CM59+CN59 -> 0 | CQ59: =CP59*19% -> 0 | CR59: =CP59+CQ59 -> 0 | CT59: =CS59*19% -> 0 | CU59: =CS59+CT59 -> 0 | CW59: =CV59*19% -> 0 | CX59: =CV59+CW59 -> 0
B60: 5.2 | C60: MANUBRIO DIRECCON | E60: =D60*19% -> 0 | F60: =D60+E60 -> 0 | H60: =G60*19% -> 0 | I60: =G60+H60 -> 0 | K60: =J60*19% -> 0 | L60: =J60+K60 -> 0 | N60: =M60*19% -> 0 | O60: =M60+N60 -> 0 | Q60: =P60*19% -> 0 | R60: =P60+Q60 -> 0 | T60: =S60*19% -> 0 | U60: =S60+T60 -> 0 | W60: =V60*19% -> 0 | X60: =V60+W60 -> 0 | Z60: =Y60*19% -> 0 | AA60: =Y60+Z60 -> 0 | AC60: =AB60*19% -> 0 | AD60: =AB60+AC60 -> 0 | AF60: =AE60*19% -> 0 | AG60: =AE60+AF60 -> 0 | AI60: =AH60*19% -> 0 | AJ60: =AH60+AI60 -> 0 | AL60: =AK60*19% -> 0 | AM60: =AK60+AL60 -> 0 | AO60: =AN60*19% -> 0 | AP60: =AN60+AO60 -> 0 | AR60: =AQ60*19% -> 0 | AS60: =AQ60+AR60 -> 0 | AU60: =AT60*19% -> 0 | AV60: =AT60+AU60 -> 0 | AX60: =AW60*19% -> 0 | AY60: =AW60+AX60 -> 0 | BA60: =AZ60*19% -> 0 | BB60: =AZ60+BA60 -> 0 | BD60: =BC60*19% -> 0 | BE60: =BC60+BD60 -> 0 | BG60: =BF60*19% -> 0 | BH60: =BF60+BG60 -> 0 | BJ60: =BI60*19% -> 0 | BK60: =BI60+BJ60 -> 0 | BM60: =BL60*19% -> 0 | BN60: =BL60+BM60 -> 0 | BP60: =BO60*19% -> 0 | BQ60: =BO60+BP60 -> 0 | BS60: =BR60*19% -> 0 | BT60: =BR60+BS60 -> 0 | BV60: =BU60*19% -> 0 | BW60: =BU60+BV60 -> 0 | BY60: =BX60*19% -> 0 | BZ60: =BX60+BY60 -> 0 | CB60: =CA60*19% -> 0 | CC60: =CA60+CB60 -> 0 | CE60: =CD60*19% -> 0 | CF60: =CD60+CE60 -> 0 | CH60: =CG60*19% -> 0 | CI60: =CG60+CH60 -> 0 | CK60: =CJ60*19% -> 0 | CL60: =CJ60+CK60 -> 0 | CN60: =CM60*19% -> 0 | CO60: =CM60+CN60 -> 0 | CQ60: =CP60*19% -> 0 | CR60: =CP60+CQ60 -> 0 | CT60: =CS60*19% -> 0 | CU60: =CS60+CT60 -> 0 | CW60: =CV60*19% -> 0 | CX60: =CV60+CW60 -> 0
B61: 6 | C61: SISTEMA DE FRENOS | D61: 0 | E61: 0 | F61: 0 | G61: 0 | H61: 0 | I61: 0 | J61: 0 | K61: 0 | L61: 0 | M61: 0 | N61: 0 | O61: 0 | P61: 0 | Q61: 0 | R61: 0 | S61: 0 | T61: 0 | U61: 0 | V61: 0 | W61: 0 | X61: 0 | Y61: 0 | Z61: 0 | AA61: 0 | AB61: 0 | AC61: 0 | AD61: 0 | AE61: 0 | AF61: 0 | AG61: 0 | AH61: 0 | AI61: 0 | AJ61: 0 | AK61: 0 | AL61: 0 | AM61: 0 | AN61: 0 | AO61: 0 | AP61: 0 | AQ61: 0 | AR61: 0 | AS61: 0 | AT61: 0 | AU61: 0 | AV61: 0 | AW61: 0 | AX61: 0 | AY61: 0 | AZ61: 0 | BA61: 0 | BB61: 0 | BC61: 0 | BD61: 0 | BE61: 0 | BF61: 0 | BG61: 0 | BH61: 0 | BI61: 0 | BJ61: 0 | BK61: 0 | BL61: 0 | BM61: 0 | BN61: 0 | BO61: 0 | BP61: 0 | BQ61: 0 | BR61: 0 | BS61: 0 | BT61: 0 | BU61: 0 | BV61: 0 | BW61: 0 | BX61: 0 | BY61: 0 | BZ61: 0 | CA61: 0 | CB61: 0 | CC61: 0 | CD61: 0 | CE61: 0 | CF61: 0 | CG61: 0 | CH61: 0 | CI61: 0 | CJ61: 0 | CK61: 0 | CL61: 0 | CM61: 0 | CN61: 0 | CO61: 0 | CP61: 0 | CQ61: 0 | CR61: 0 | CS61: 0 | CT61: 0 | CU61: 0 | CV61: 0 | CW61: 0 | CX61: 0
B62: 6.1 | C62: BANDAS DE FRENO DELANTERO (JUEGO) | E62: =D62*19% -> 0 | F62: =D62+E62 -> 0 | H62: =G62*19% -> 0 | I62: =G62+H62 -> 0 | K62: =J62*19% -> 0 | L62: =J62+K62 -> 0 | N62: =M62*19% -> 0 | O62: =M62+N62 -> 0 | Q62: =P62*19% -> 0 | R62: =P62+Q62 -> 0 | T62: =S62*19% -> 0 | U62: =S62+T62 -> 0 | W62: =V62*19% -> 0 | X62: =V62+W62 -> 0 | Z62: =Y62*19% -> 0 | AA62: =Y62+Z62 -> 0 | AC62: =AB62*19% -> 0 | AD62: =AB62+AC62 -> 0 | AF62: =AE62*19% -> 0 | AG62: =AE62+AF62 -> 0 | AI62: =AH62*19% -> 0 | AJ62: =AH62+AI62 -> 0 | AL62: =AK62*19% -> 0 | AM62: =AK62+AL62 -> 0 | AO62: =AN62*19% -> 0 | AP62: =AN62+AO62 -> 0 | AR62: =AQ62*19% -> 0 | AS62: =AQ62+AR62 -> 0 | AU62: =AT62*19% -> 0 | AV62: =AT62+AU62 -> 0 | AX62: =AW62*19% -> 0 | AY62: =AW62+AX62 -> 0 | BA62: =AZ62*19% -> 0 | BB62: =AZ62+BA62 -> 0 | BD62: =BC62*19% -> 0 | BE62: =BC62+BD62 -> 0 | BG62: =BF62*19% -> 0 | BH62: =BF62+BG62 -> 0 | BJ62: =BI62*19% -> 0 | BK62: =BI62+BJ62 -> 0 | BM62: =BL62*19% -> 0 | BN62: =BL62+BM62 -> 0 | BP62: =BO62*19% -> 0 | BQ62: =BO62+BP62 -> 0 | BS62: =BR62*19% -> 0 | BT62: =BR62+BS62 -> 0 | BV62: =BU62*19% -> 0 | BW62: =BU62+BV62 -> 0 | BY62: =BX62*19% -> 0 | BZ62: =BX62+BY62 -> 0 | CB62: =CA62*19% -> 0 | CC62: =CA62+CB62 -> 0 | CE62: =CD62*19% -> 0 | CF62: =CD62+CE62 -> 0 | CH62: =CG62*19% -> 0 | CI62: =CG62+CH62 -> 0 | CK62: =CJ62*19% -> 0 | CL62: =CJ62+CK62 -> 0 | CN62: =CM62*19% -> 0 | CO62: =CM62+CN62 -> 0 | CQ62: =CP62*19% -> 0 | CR62: =CP62+CQ62 -> 0 | CT62: =CS62*19% -> 0 | CU62: =CS62+CT62 -> 0 | CW62: =CV62*19% -> 0 | CX62: =CV62+CW62 -> 0
B63: 6.2 | C63: BANDAS DE FRENO TRASERO (JUEGO) | E63: =D63*19% -> 0 | F63: =D63+E63 -> 0 | H63: =G63*19% -> 0 | I63: =G63+H63 -> 0 | K63: =J63*19% -> 0 | L63: =J63+K63 -> 0 | N63: =M63*19% -> 0 | O63: =M63+N63 -> 0 | Q63: =P63*19% -> 0 | R63: =P63+Q63 -> 0 | T63: =S63*19% -> 0 | U63: =S63+T63 -> 0 | W63: =V63*19% -> 0 | X63: =V63+W63 -> 0 | Z63: =Y63*19% -> 0 | AA63: =Y63+Z63 -> 0 | AC63: =AB63*19% -> 0 | AD63: =AB63+AC63 -> 0 | AF63: =AE63*19% -> 0 | AG63: =AE63+AF63 -> 0 | AI63: =AH63*19% -> 0 | AJ63: =AH63+AI63 -> 0 | AL63: =AK63*19% -> 0 | AM63: =AK63+AL63 -> 0 | AO63: =AN63*19% -> 0 | AP63: =AN63+AO63 -> 0 | AR63: =AQ63*19% -> 0 | AS63: =AQ63+AR63 -> 0 | AU63: =AT63*19% -> 0 | AV63: =AT63+AU63 -> 0 | AX63: =AW63*19% -> 0 | AY63: =AW63+AX63 -> 0 | BA63: =AZ63*19% -> 0 | BB63: =AZ63+BA63 -> 0 | BD63: =BC63*19% -> 0 | BE63: =BC63+BD63 -> 0 | BG63: =BF63*19% -> 0 | BH63: =BF63+BG63 -> 0 | BJ63: =BI63*19% -> 0 | BK63: =BI63+BJ63 -> 0 | BM63: =BL63*19% -> 0 | BN63: =BL63+BM63 -> 0 | BP63: =BO63*19% -> 0 | BQ63: =BO63+BP63 -> 0 | BS63: =BR63*19% -> 0 | BT63: =BR63+BS63 -> 0 | BV63: =BU63*19% -> 0 | BW63: =BU63+BV63 -> 0 | BY63: =BX63*19% -> 0 | BZ63: =BX63+BY63 -> 0 | CB63: =CA63*19% -> 0 | CC63: =CA63+CB63 -> 0 | CE63: =CD63*19% -> 0 | CF63: =CD63+CE63 -> 0 | CH63: =CG63*19% -> 0 | CI63: =CG63+CH63 -> 0 | CK63: =CJ63*19% -> 0 | CL63: =CJ63+CK63 -> 0 | CN63: =CM63*19% -> 0 | CO63: =CM63+CN63 -> 0 | CQ63: =CP63*19% -> 0 | CR63: =CP63+CQ63 -> 0 | CT63: =CS63*19% -> 0 | CU63: =CS63+CT63 -> 0 | CW63: =CV63*19% -> 0 | CX63: =CV63+CW63 -> 0
B64: 6.3 | C64: BOMBA DE FRENOS | E64: =D64*19% -> 0 | F64: =D64+E64 -> 0 | H64: =G64*19% -> 0 | I64: =G64+H64 -> 0 | K64: =J64*19% -> 0 | L64: =J64+K64 -> 0 | N64: =M64*19% -> 0 | O64: =M64+N64 -> 0 | Q64: =P64*19% -> 0 | R64: =P64+Q64 -> 0 | T64: =S64*19% -> 0 | U64: =S64+T64 -> 0 | W64: =V64*19% -> 0 | X64: =V64+W64 -> 0 | Z64: =Y64*19% -> 0 | AA64: =Y64+Z64 -> 0 | AC64: =AB64*19% -> 0 | AD64: =AB64+AC64 -> 0 | AF64: =AE64*19% -> 0 | AG64: =AE64+AF64 -> 0 | AI64: =AH64*19% -> 0 | AJ64: =AH64+AI64 -> 0 | AL64: =AK64*19% -> 0 | AM64: =AK64+AL64 -> 0 | AO64: =AN64*19% -> 0 | AP64: =AN64+AO64 -> 0 | AR64: =AQ64*19% -> 0 | AS64: =AQ64+AR64 -> 0 | AU64: =AT64*19% -> 0 | AV64: =AT64+AU64 -> 0 | AX64: =AW64*19% -> 0 | AY64: =AW64+AX64 -> 0 | BA64: =AZ64*19% -> 0 | BB64: =AZ64+BA64 -> 0 | BD64: =BC64*19% -> 0 | BE64: =BC64+BD64 -> 0 | BG64: =BF64*19% -> 0 | BH64: =BF64+BG64 -> 0 | BJ64: =BI64*19% -> 0 | BK64: =BI64+BJ64 -> 0 | BM64: =BL64*19% -> 0 | BN64: =BL64+BM64 -> 0 | BP64: =BO64*19% -> 0 | BQ64: =BO64+BP64 -> 0 | BS64: =BR64*19% -> 0 | BT64: =BR64+BS64 -> 0 | BV64: =BU64*19% -> 0 | BW64: =BU64+BV64 -> 0 | BY64: =BX64*19% -> 0 | BZ64: =BX64+BY64 -> 0 | CB64: =CA64*19% -> 0 | CC64: =CA64+CB64 -> 0 | CE64: =CD64*19% -> 0 | CF64: =CD64+CE64 -> 0 | CH64: =CG64*19% -> 0 | CI64: =CG64+CH64 -> 0 | CK64: =CJ64*19% -> 0 | CL64: =CJ64+CK64 -> 0 | CN64: =CM64*19% -> 0 | CO64: =CM64+CN64 -> 0 | CQ64: =CP64*19% -> 0 | CR64: =CP64+CQ64 -> 0 | CT64: =CS64*19% -> 0 | CU64: =CS64+CT64 -> 0 | CW64: =CV64*19% -> 0 | CX64: =CV64+CW64 -> 0
B65: 6.4 | C65: CAUCHOS CAMPANA (JUEGO) | E65: =D65*19% -> 0 | F65: =D65+E65 -> 0 | H65: =G65*19% -> 0 | I65: =G65+H65 -> 0 | K65: =J65*19% -> 0 | L65: =J65+K65 -> 0 | N65: =M65*19% -> 0 | O65: =M65+N65 -> 0 | Q65: =P65*19% -> 0 | R65: =P65+Q65 -> 0 | T65: =S65*19% -> 0 | U65: =S65+T65 -> 0 | W65: =V65*19% -> 0 | X65: =V65+W65 -> 0 | Z65: =Y65*19% -> 0 | AA65: =Y65+Z65 -> 0 | AC65: =AB65*19% -> 0 | AD65: =AB65+AC65 -> 0 | AF65: =AE65*19% -> 0 | AG65: =AE65+AF65 -> 0 | AI65: =AH65*19% -> 0 | AJ65: =AH65+AI65 -> 0 | AL65: =AK65*19% -> 0 | AM65: =AK65+AL65 -> 0 | AO65: =AN65*19% -> 0 | AP65: =AN65+AO65 -> 0 | AR65: =AQ65*19% -> 0 | AS65: =AQ65+AR65 -> 0 | AU65: =AT65*19% -> 0 | AV65: =AT65+AU65 -> 0 | AX65: =AW65*19% -> 0 | AY65: =AW65+AX65 -> 0 | BA65: =AZ65*19% -> 0 | BB65: =AZ65+BA65 -> 0 | BD65: =BC65*19% -> 0 | BE65: =BC65+BD65 -> 0 | BG65: =BF65*19% -> 0 | BH65: =BF65+BG65 -> 0 | BJ65: =BI65*19% -> 0 | BK65: =BI65+BJ65 -> 0 | BM65: =BL65*19% -> 0 | BN65: =BL65+BM65 -> 0 | BP65: =BO65*19% -> 0 | BQ65: =BO65+BP65 -> 0 | BS65: =BR65*19% -> 0 | BT65: =BR65+BS65 -> 0 | BV65: =BU65*19% -> 0 | BW65: =BU65+BV65 -> 0 | BY65: =BX65*19% -> 0 | BZ65: =BX65+BY65 -> 0 | CB65: =CA65*19% -> 0 | CC65: =CA65+CB65 -> 0 | CE65: =CD65*19% -> 0 | CF65: =CD65+CE65 -> 0 | CH65: =CG65*19% -> 0 | CI65: =CG65+CH65 -> 0 | CK65: =CJ65*19% -> 0 | CL65: =CJ65+CK65 -> 0 | CN65: =CM65*19% -> 0 | CO65: =CM65+CN65 -> 0 | CQ65: =CP65*19% -> 0 | CR65: =CP65+CQ65 -> 0 | CT65: =CS65*19% -> 0 | CU65: =CS65+CT65 -> 0 | CW65: =CV65*19% -> 0 | CX65: =CV65+CW65 -> 0
B66: 6.5 | C66: DISCO DE FRENO | E66: =D66*19% -> 0 | F66: =D66+E66 -> 0 | H66: =G66*19% -> 0 | I66: =G66+H66 -> 0 | K66: =J66*19% -> 0 | L66: =J66+K66 -> 0 | N66: =M66*19% -> 0 | O66: =M66+N66 -> 0 | Q66: =P66*19% -> 0 | R66: =P66+Q66 -> 0 | T66: =S66*19% -> 0 | U66: =S66+T66 -> 0 | W66: =V66*19% -> 0 | X66: =V66+W66 -> 0 | Z66: =Y66*19% -> 0 | AA66: =Y66+Z66 -> 0 | AC66: =AB66*19% -> 0 | AD66: =AB66+AC66 -> 0 | AF66: =AE66*19% -> 0 | AG66: =AE66+AF66 -> 0 | AI66: =AH66*19% -> 0 | AJ66: =AH66+AI66 -> 0 | AL66: =AK66*19% -> 0 | AM66: =AK66+AL66 -> 0 | AO66: =AN66*19% -> 0 | AP66: =AN66+AO66 -> 0 | AR66: =AQ66*19% -> 0 | AS66: =AQ66+AR66 -> 0 | AU66: =AT66*19% -> 0 | AV66: =AT66+AU66 -> 0 | AX66: =AW66*19% -> 0 | AY66: =AW66+AX66 -> 0 | BA66: =AZ66*19% -> 0 | BB66: =AZ66+BA66 -> 0 | BD66: =BC66*19% -> 0 | BE66: =BC66+BD66 -> 0 | BG66: =BF66*19% -> 0 | BH66: =BF66+BG66 -> 0 | BJ66: =BI66*19% -> 0 | BK66: =BI66+BJ66 -> 0 | BM66: =BL66*19% -> 0 | BN66: =BL66+BM66 -> 0 | BP66: =BO66*19% -> 0 | BQ66: =BO66+BP66 -> 0 | BS66: =BR66*19% -> 0 | BT66: =BR66+BS66 -> 0 | BV66: =BU66*19% -> 0 | BW66: =BU66+BV66 -> 0 | BY66: =BX66*19% -> 0 | BZ66: =BX66+BY66 -> 0 | CB66: =CA66*19% -> 0 | CC66: =CA66+CB66 -> 0 | CE66: =CD66*19% -> 0 | CF66: =CD66+CE66 -> 0 | CH66: =CG66*19% -> 0 | CI66: =CG66+CH66 -> 0 | CK66: =CJ66*19% -> 0 | CL66: =CJ66+CK66 -> 0 | CN66: =CM66*19% -> 0 | CO66: =CM66+CN66 -> 0 | CQ66: =CP66*19% -> 0 | CR66: =CP66+CQ66 -> 0 | CT66: =CS66*19% -> 0 | CU66: =CS66+CT66 -> 0 | CW66: =CV66*19% -> 0 | CX66: =CV66+CW66 -> 0
B67: 6.6 | C67: MANGUERA FRENO | E67: =D67*19% -> 0 | F67: =D67+E67 -> 0 | H67: =G67*19% -> 0 | I67: =G67+H67 -> 0 | K67: =J67*19% -> 0 | L67: =J67+K67 -> 0 | N67: =M67*19% -> 0 | O67: =M67+N67 -> 0 | Q67: =P67*19% -> 0 | R67: =P67+Q67 -> 0 | T67: =S67*19% -> 0 | U67: =S67+T67 -> 0 | W67: =V67*19% -> 0 | X67: =V67+W67 -> 0 | Z67: =Y67*19% -> 0 | AA67: =Y67+Z67 -> 0 | AC67: =AB67*19% -> 0 | AD67: =AB67+AC67 -> 0 | AF67: =AE67*19% -> 0 | AG67: =AE67+AF67 -> 0 | AI67: =AH67*19% -> 0 | AJ67: =AH67+AI67 -> 0 | AL67: =AK67*19% -> 0 | AM67: =AK67+AL67 -> 0 | AO67: =AN67*19% -> 0 | AP67: =AN67+AO67 -> 0 | AR67: =AQ67*19% -> 0 | AS67: =AQ67+AR67 -> 0 | AU67: =AT67*19% -> 0 | AV67: =AT67+AU67 -> 0 | AX67: =AW67*19% -> 0 | AY67: =AW67+AX67 -> 0 | BA67: =AZ67*19% -> 0 | BB67: =AZ67+BA67 -> 0 | BD67: =BC67*19% -> 0 | BE67: =BC67+BD67 -> 0 | BG67: =BF67*19% -> 0 | BH67: =BF67+BG67 -> 0 | BJ67: =BI67*19% -> 0 | BK67: =BI67+BJ67 -> 0 | BM67: =BL67*19% -> 0 | BN67: =BL67+BM67 -> 0 | BP67: =BO67*19% -> 0 | BQ67: =BO67+BP67 -> 0 | BS67: =BR67*19% -> 0 | BT67: =BR67+BS67 -> 0 | BV67: =BU67*19% -> 0 | BW67: =BU67+BV67 -> 0 | BY67: =BX67*19% -> 0 | BZ67: =BX67+BY67 -> 0 | CB67: =CA67*19% -> 0 | CC67: =CA67+CB67 -> 0 | CE67: =CD67*19% -> 0 | CF67: =CD67+CE67 -> 0 | CH67: =CG67*19% -> 0 | CI67: =CG67+CH67 -> 0 | CK67: =CJ67*19% -> 0 | CL67: =CJ67+CK67 -> 0 | CN67: =CM67*19% -> 0 | CO67: =CM67+CN67 -> 0 | CQ67: =CP67*19% -> 0 | CR67: =CP67+CQ67 -> 0 | CT67: =CS67*19% -> 0 | CU67: =CS67+CT67 -> 0 | CW67: =CV67*19% -> 0 | CX67: =CV67+CW67 -> 0
B68: 6.7 | C68: MANGUERA FRENO DELANTERO | E68: =D68*19% -> 0 | F68: =D68+E68 -> 0 | H68: =G68*19% -> 0 | I68: =G68+H68 -> 0 | K68: =J68*19% -> 0 | L68: =J68+K68 -> 0 | N68: =M68*19% -> 0 | O68: =M68+N68 -> 0 | Q68: =P68*19% -> 0 | R68: =P68+Q68 -> 0 | T68: =S68*19% -> 0 | U68: =S68+T68 -> 0 | W68: =V68*19% -> 0 | X68: =V68+W68 -> 0 | Z68: =Y68*19% -> 0 | AA68: =Y68+Z68 -> 0 | AC68: =AB68*19% -> 0 | AD68: =AB68+AC68 -> 0 | AF68: =AE68*19% -> 0 | AG68: =AE68+AF68 -> 0 | AI68: =AH68*19% -> 0 | AJ68: =AH68+AI68 -> 0 | AL68: =AK68*19% -> 0 | AM68: =AK68+AL68 -> 0 | AO68: =AN68*19% -> 0 | AP68: =AN68+AO68 -> 0 | AR68: =AQ68*19% -> 0 | AS68: =AQ68+AR68 -> 0 | AU68: =AT68*19% -> 0 | AV68: =AT68+AU68 -> 0 | AX68: =AW68*19% -> 0 | AY68: =AW68+AX68 -> 0 | BA68: =AZ68*19% -> 0 | BB68: =AZ68+BA68 -> 0 | BD68: =BC68*19% -> 0 | BE68: =BC68+BD68 -> 0 | BG68: =BF68*19% -> 0 | BH68: =BF68+BG68 -> 0 | BJ68: =BI68*19% -> 0 | BK68: =BI68+BJ68 -> 0 | BM68: =BL68*19% -> 0 | BN68: =BL68+BM68 -> 0 | BP68: =BO68*19% -> 0 | BQ68: =BO68+BP68 -> 0 | BS68: =BR68*19% -> 0 | BT68: =BR68+BS68 -> 0 | BV68: =BU68*19% -> 0 | BW68: =BU68+BV68 -> 0 | BY68: =BX68*19% -> 0 | BZ68: =BX68+BY68 -> 0 | CB68: =CA68*19% -> 0 | CC68: =CA68+CB68 -> 0 | CE68: =CD68*19% -> 0 | CF68: =CD68+CE68 -> 0 | CH68: =CG68*19% -> 0 | CI68: =CG68+CH68 -> 0 | CK68: =CJ68*19% -> 0 | CL68: =CJ68+CK68 -> 0 | CN68: =CM68*19% -> 0 | CO68: =CM68+CN68 -> 0 | CQ68: =CP68*19% -> 0 | CR68: =CP68+CQ68 -> 0 | CT68: =CS68*19% -> 0 | CU68: =CS68+CT68 -> 0 | CW68: =CV68*19% -> 0 | CX68: =CV68+CW68 -> 0
B69: 6.8 | C69: MANIJA DE FRENO TRASERO | E69: =D69*19% -> 0 | F69: =D69+E69 -> 0 | H69: =G69*19% -> 0 | I69: =G69+H69 -> 0 | K69: =J69*19% -> 0 | L69: =J69+K69 -> 0 | N69: =M69*19% -> 0 | O69: =M69+N69 -> 0 | Q69: =P69*19% -> 0 | R69: =P69+Q69 -> 0 | T69: =S69*19% -> 0 | U69: =S69+T69 -> 0 | W69: =V69*19% -> 0 | X69: =V69+W69 -> 0 | Z69: =Y69*19% -> 0 | AA69: =Y69+Z69 -> 0 | AC69: =AB69*19% -> 0 | AD69: =AB69+AC69 -> 0 | AF69: =AE69*19% -> 0 | AG69: =AE69+AF69 -> 0 | AI69: =AH69*19% -> 0 | AJ69: =AH69+AI69 -> 0 | AL69: =AK69*19% -> 0 | AM69: =AK69+AL69 -> 0 | AO69: =AN69*19% -> 0 | AP69: =AN69+AO69 -> 0 | AR69: =AQ69*19% -> 0 | AS69: =AQ69+AR69 -> 0 | AU69: =AT69*19% -> 0 | AV69: =AT69+AU69 -> 0 | AX69: =AW69*19% -> 0 | AY69: =AW69+AX69 -> 0 | BA69: =AZ69*19% -> 0 | BB69: =AZ69+BA69 -> 0 | BD69: =BC69*19% -> 0 | BE69: =BC69+BD69 -> 0 | BG69: =BF69*19% -> 0 | BH69: =BF69+BG69 -> 0 | BJ69: =BI69*19% -> 0 | BK69: =BI69+BJ69 -> 0 | BM69: =BL69*19% -> 0 | BN69: =BL69+BM69 -> 0 | BP69: =BO69*19% -> 0 | BQ69: =BO69+BP69 -> 0 | BS69: =BR69*19% -> 0 | BT69: =BR69+BS69 -> 0 | BV69: =BU69*19% -> 0 | BW69: =BU69+BV69 -> 0 | BY69: =BX69*19% -> 0 | BZ69: =BX69+BY69 -> 0 | CB69: =CA69*19% -> 0 | CC69: =CA69+CB69 -> 0 | CE69: =CD69*19% -> 0 | CF69: =CD69+CE69 -> 0 | CH69: =CG69*19% -> 0 | CI69: =CG69+CH69 -> 0 | CK69: =CJ69*19% -> 0 | CL69: =CJ69+CK69 -> 0 | CN69: =CM69*19% -> 0 | CO69: =CM69+CN69 -> 0 | CQ69: =CP69*19% -> 0 | CR69: =CP69+CQ69 -> 0 | CT69: =CS69*19% -> 0 | CU69: =CS69+CT69 -> 0 | CW69: =CV69*19% -> 0 | CX69: =CV69+CW69 -> 0
B70: 6.9 | C70: PASTILLAS DE FRENO DELANTERAS (JUEGO) | E70: =D70*19% -> 0 | F70: =D70+E70 -> 0 | H70: =G70*19% -> 0 | I70: =G70+H70 -> 0 | K70: =J70*19% -> 0 | L70: =J70+K70 -> 0 | N70: =M70*19% -> 0 | O70: =M70+N70 -> 0 | Q70: =P70*19% -> 0 | R70: =P70+Q70 -> 0 | T70: =S70*19% -> 0 | U70: =S70+T70 -> 0 | W70: =V70*19% -> 0 | X70: =V70+W70 -> 0 | Z70: =Y70*19% -> 0 | AA70: =Y70+Z70 -> 0 | AC70: =AB70*19% -> 0 | AD70: =AB70+AC70 -> 0 | AF70: =AE70*19% -> 0 | AG70: =AE70+AF70 -> 0 | AI70: =AH70*19% -> 0 | AJ70: =AH70+AI70 -> 0 | AL70: =AK70*19% -> 0 | AM70: =AK70+AL70 -> 0 | AO70: =AN70*19% -> 0 | AP70: =AN70+AO70 -> 0 | AR70: =AQ70*19% -> 0 | AS70: =AQ70+AR70 -> 0 | AU70: =AT70*19% -> 0 | AV70: =AT70+AU70 -> 0 | AX70: =AW70*19% -> 0 | AY70: =AW70+AX70 -> 0 | BA70: =AZ70*19% -> 0 | BB70: =AZ70+BA70 -> 0 | BD70: =BC70*19% -> 0 | BE70: =BC70+BD70 -> 0 | BG70: =BF70*19% -> 0 | BH70: =BF70+BG70 -> 0 | BJ70: =BI70*19% -> 0 | BK70: =BI70+BJ70 -> 0 | BM70: =BL70*19% -> 0 | BN70: =BL70+BM70 -> 0 | BP70: =BO70*19% -> 0 | BQ70: =BO70+BP70 -> 0 | BS70: =BR70*19% -> 0 | BT70: =BR70+BS70 -> 0 | BV70: =BU70*19% -> 0 | BW70: =BU70+BV70 -> 0 | BY70: =BX70*19% -> 0 | BZ70: =BX70+BY70 -> 0 | CB70: =CA70*19% -> 0 | CC70: =CA70+CB70 -> 0 | CE70: =CD70*19% -> 0 | CF70: =CD70+CE70 -> 0 | CH70: =CG70*19% -> 0 | CI70: =CG70+CH70 -> 0 | CK70: =CJ70*19% -> 0 | CL70: =CJ70+CK70 -> 0 | CN70: =CM70*19% -> 0 | CO70: =CM70+CN70 -> 0 | CQ70: =CP70*19% -> 0 | CR70: =CP70+CQ70 -> 0 | CT70: =CS70*19% -> 0 | CU70: =CS70+CT70 -> 0 | CW70: =CV70*19% -> 0 | CX70: =CV70+CW70 -> 0
B71: 6.10 | C71: PASTILLAS DE FRENO TRASERAS (JUEGO) | E71: =D71*19% -> 0 | F71: =D71+E71 -> 0 | H71: =G71*19% -> 0 | I71: =G71+H71 -> 0 | K71: =J71*19% -> 0 | L71: =J71+K71 -> 0 | N71: =M71*19% -> 0 | O71: =M71+N71 -> 0 | Q71: =P71*19% -> 0 | R71: =P71+Q71 -> 0 | T71: =S71*19% -> 0 | U71: =S71+T71 -> 0 | W71: =V71*19% -> 0 | X71: =V71+W71 -> 0 | Z71: =Y71*19% -> 0 | AA71: =Y71+Z71 -> 0 | AC71: =AB71*19% -> 0 | AD71: =AB71+AC71 -> 0 | AF71: =AE71*19% -> 0 | AG71: =AE71+AF71 -> 0 | AI71: =AH71*19% -> 0 | AJ71: =AH71+AI71 -> 0 | AL71: =AK71*19% -> 0 | AM71: =AK71+AL71 -> 0 | AO71: =AN71*19% -> 0 | AP71: =AN71+AO71 -> 0 | AR71: =AQ71*19% -> 0 | AS71: =AQ71+AR71 -> 0 | AU71: =AT71*19% -> 0 | AV71: =AT71+AU71 -> 0 | AX71: =AW71*19% -> 0 | AY71: =AW71+AX71 -> 0 | BA71: =AZ71*19% -> 0 | BB71: =AZ71+BA71 -> 0 | BD71: =BC71*19% -> 0 | BE71: =BC71+BD71 -> 0 | BG71: =BF71*19% -> 0 | BH71: =BF71+BG71 -> 0 | BJ71: =BI71*19% -> 0 | BK71: =BI71+BJ71 -> 0 | BM71: =BL71*19% -> 0 | BN71: =BL71+BM71 -> 0 | BP71: =BO71*19% -> 0 | BQ71: =BO71+BP71 -> 0 | BS71: =BR71*19% -> 0 | BT71: =BR71+BS71 -> 0 | BV71: =BU71*19% -> 0 | BW71: =BU71+BV71 -> 0 | BY71: =BX71*19% -> 0 | BZ71: =BX71+BY71 -> 0 | CB71: =CA71*19% -> 0 | CC71: =CA71+CB71 -> 0 | CE71: =CD71*19% -> 0 | CF71: =CD71+CE71 -> 0 | CH71: =CG71*19% -> 0 | CI71: =CG71+CH71 -> 0 | CK71: =CJ71*19% -> 0 | CL71: =CJ71+CK71 -> 0 | CN71: =CM71*19% -> 0 | CO71: =CM71+CN71 -> 0 | CQ71: =CP71*19% -> 0 | CR71: =CP71+CQ71 -> 0 | CT71: =CS71*19% -> 0 | CU71: =CS71+CT71 -> 0 | CW71: =CV71*19% -> 0 | CX71: =CV71+CW71 -> 0
B72: 6.11 | C72: SENSOR FRENO DELANTERO | E72: =D72*19% -> 0 | F72: =D72+E72 -> 0 | H72: =G72*19% -> 0 | I72: =G72+H72 -> 0 | K72: =J72*19% -> 0 | L72: =J72+K72 -> 0 | N72: =M72*19% -> 0 | O72: =M72+N72 -> 0 | Q72: =P72*19% -> 0 | R72: =P72+Q72 -> 0 | T72: =S72*19% -> 0 | U72: =S72+T72 -> 0 | W72: =V72*19% -> 0 | X72: =V72+W72 -> 0 | Z72: =Y72*19% -> 0 | AA72: =Y72+Z72 -> 0 | AC72: =AB72*19% -> 0 | AD72: =AB72+AC72 -> 0 | AF72: =AE72*19% -> 0 | AG72: =AE72+AF72 -> 0 | AI72: =AH72*19% -> 0 | AJ72: =AH72+AI72 -> 0 | AL72: =AK72*19% -> 0 | AM72: =AK72+AL72 -> 0 | AO72: =AN72*19% -> 0 | AP72: =AN72+AO72 -> 0 | AR72: =AQ72*19% -> 0 | AS72: =AQ72+AR72 -> 0 | AU72: =AT72*19% -> 0 | AV72: =AT72+AU72 -> 0 | AX72: =AW72*19% -> 0 | AY72: =AW72+AX72 -> 0 | BA72: =AZ72*19% -> 0 | BB72: =AZ72+BA72 -> 0 | BD72: =BC72*19% -> 0 | BE72: =BC72+BD72 -> 0 | BG72: =BF72*19% -> 0 | BH72: =BF72+BG72 -> 0 | BJ72: =BI72*19% -> 0 | BK72: =BI72+BJ72 -> 0 | BM72: =BL72*19% -> 0 | BN72: =BL72+BM72 -> 0 | BP72: =BO72*19% -> 0 | BQ72: =BO72+BP72 -> 0 | BS72: =BR72*19% -> 0 | BT72: =BR72+BS72 -> 0 | BV72: =BU72*19% -> 0 | BW72: =BU72+BV72 -> 0 | BY72: =BX72*19% -> 0 | BZ72: =BX72+BY72 -> 0 | CB72: =CA72*19% -> 0 | CC72: =CA72+CB72 -> 0 | CE72: =CD72*19% -> 0 | CF72: =CD72+CE72 -> 0 | CH72: =CG72*19% -> 0 | CI72: =CG72+CH72 -> 0 | CK72: =CJ72*19% -> 0 | CL72: =CJ72+CK72 -> 0 | CN72: =CM72*19% -> 0 | CO72: =CM72+CN72 -> 0 | CQ72: =CP72*19% -> 0 | CR72: =CP72+CQ72 -> 0 | CT72: =CS72*19% -> 0 | CU72: =CS72+CT72 -> 0 | CW72: =CV72*19% -> 0 | CX72: =CV72+CW72 -> 0
B73: 6.12 | C73: SENSOR FRENO TRASERO | E73: =D73*19% -> 0 | F73: =D73+E73 -> 0 | H73: =G73*19% -> 0 | I73: =G73+H73 -> 0 | K73: =J73*19% -> 0 | L73: =J73+K73 -> 0 | N73: =M73*19% -> 0 | O73: =M73+N73 -> 0 | Q73: =P73*19% -> 0 | R73: =P73+Q73 -> 0 | T73: =S73*19% -> 0 | U73: =S73+T73 -> 0 | W73: =V73*19% -> 0 | X73: =V73+W73 -> 0 | Z73: =Y73*19% -> 0 | AA73: =Y73+Z73 -> 0 | AC73: =AB73*19% -> 0 | AD73: =AB73+AC73 -> 0 | AF73: =AE73*19% -> 0 | AG73: =AE73+AF73 -> 0 | AI73: =AH73*19% -> 0 | AJ73: =AH73+AI73 -> 0 | AL73: =AK73*19% -> 0 | AM73: =AK73+AL73 -> 0 | AO73: =AN73*19% -> 0 | AP73: =AN73+AO73 -> 0 | AR73: =AQ73*19% -> 0 | AS73: =AQ73+AR73 -> 0 | AU73: =AT73*19% -> 0 | AV73: =AT73+AU73 -> 0 | AX73: =AW73*19% -> 0 | AY73: =AW73+AX73 -> 0 | BA73: =AZ73*19% -> 0 | BB73: =AZ73+BA73 -> 0 | BD73: =BC73*19% -> 0 | BE73: =BC73+BD73 -> 0 | BG73: =BF73*19% -> 0 | BH73: =BF73+BG73 -> 0 | BJ73: =BI73*19% -> 0 | BK73: =BI73+BJ73 -> 0 | BM73: =BL73*19% -> 0 | BN73: =BL73+BM73 -> 0 | BP73: =BO73*19% -> 0 | BQ73: =BO73+BP73 -> 0 | BS73: =BR73*19% -> 0 | BT73: =BR73+BS73 -> 0 | BV73: =BU73*19% -> 0 | BW73: =BU73+BV73 -> 0 | BY73: =BX73*19% -> 0 | BZ73: =BX73+BY73 -> 0 | CB73: =CA73*19% -> 0 | CC73: =CA73+CB73 -> 0 | CE73: =CD73*19% -> 0 | CF73: =CD73+CE73 -> 0 | CH73: =CG73*19% -> 0 | CI73: =CG73+CH73 -> 0 | CK73: =CJ73*19% -> 0 | CL73: =CJ73+CK73 -> 0 | CN73: =CM73*19% -> 0 | CO73: =CM73+CN73 -> 0 | CQ73: =CP73*19% -> 0 | CR73: =CP73+CQ73 -> 0 | CT73: =CS73*19% -> 0 | CU73: =CS73+CT73 -> 0 | CW73: =CV73*19% -> 0 | CX73: =CV73+CW73 -> 0
B74: 7 | C74: SISTEMA ELÉCTRICO | D74: 0 | E74: 0 | F74: 0 | G74: 0 | H74: 0 | I74: 0 | J74: 0 | K74: 0 | L74: 0 | M74: 0 | N74: 0 | O74: 0 | P74: 0 | Q74: 0 | R74: 0 | S74: 0 | T74: 0 | U74: 0 | V74: 0 | W74: 0 | X74: 0 | Y74: 0 | Z74: 0 | AA74: 0 | AB74: 0 | AC74: 0 | AD74: 0 | AE74: 0 | AF74: 0 | AG74: 0 | AH74: 0 | AI74: 0 | AJ74: 0 | AK74: 0 | AL74: 0 | AM74: 0 | AN74: 0 | AO74: 0 | AP74: 0 | AQ74: 0 | AR74: 0 | AS74: 0 | AT74: 0 | AU74: 0 | AV74: 0 | AW74: 0 | AX74: 0 | AY74: 0 | AZ74: 0 | BA74: 0 | BB74: 0 | BC74: 0 | BD74: 0 | BE74: 0 | BF74: 0 | BG74: 0 | BH74: 0 | BI74: 0 | BJ74: 0 | BK74: 0 | BL74: 0 | BM74: 0 | BN74: 0 | BO74: 0 | BP74: 0 | BQ74: 0 | BR74: 0 | BS74: 0 | BT74: 0 | BU74: 0 | BV74: 0 | BW74: 0 | BX74: 0 | BY74: 0 | BZ74: 0 | CA74: 0 | CB74: 0 | CC74: 0 | CD74: 0 | CE74: 0 | CF74: 0 | CG74: 0 | CH74: 0 | CI74: 0 | CJ74: 0 | CK74: 0 | CL74: 0 | CM74: 0 | CN74: 0 | CO74: 0 | CP74: 0 | CQ74: 0 | CR74: 0 | CS74: 0 | CT74: 0 | CU74: 0 | CV74: 0 | CW74: 0 | CX74: 0
B75: 7.1 | C75: AUTOMATICO MOTOR DE ARRANQUE | E75: =D75*19% -> 0 | F75: =D75+E75 -> 0 | H75: =G75*19% -> 0 | I75: =G75+H75 -> 0 | K75: =J75*19% -> 0 | L75: =J75+K75 -> 0 | N75: =M75*19% -> 0 | O75: =M75+N75 -> 0 | Q75: =P75*19% -> 0 | R75: =P75+Q75 -> 0 | T75: =S75*19% -> 0 | U75: =S75+T75 -> 0 | W75: =V75*19% -> 0 | X75: =V75+W75 -> 0 | Z75: =Y75*19% -> 0 | AA75: =Y75+Z75 -> 0 | AC75: =AB75*19% -> 0 | AD75: =AB75+AC75 -> 0 | AF75: =AE75*19% -> 0 | AG75: =AE75+AF75 -> 0 | AI75: =AH75*19% -> 0 | AJ75: =AH75+AI75 -> 0 | AL75: =AK75*19% -> 0 | AM75: =AK75+AL75 -> 0 | AO75: =AN75*19% -> 0 | AP75: =AN75+AO75 -> 0 | AR75: =AQ75*19% -> 0 | AS75: =AQ75+AR75 -> 0 | AU75: =AT75*19% -> 0 | AV75: =AT75+AU75 -> 0 | AX75: =AW75*19% -> 0 | AY75: =AW75+AX75 -> 0 | BA75: =AZ75*19% -> 0 | BB75: =AZ75+BA75 -> 0 | BD75: =BC75*19% -> 0 | BE75: =BC75+BD75 -> 0 | BG75: =BF75*19% -> 0 | BH75: =BF75+BG75 -> 0 | BJ75: =BI75*19% -> 0 | BK75: =BI75+BJ75 -> 0 | BM75: =BL75*19% -> 0 | BN75: =BL75+BM75 -> 0 | BP75: =BO75*19% -> 0 | BQ75: =BO75+BP75 -> 0 | BS75: =BR75*19% -> 0 | BT75: =BR75+BS75 -> 0 | BV75: =BU75*19% -> 0 | BW75: =BU75+BV75 -> 0 | BY75: =BX75*19% -> 0 | BZ75: =BX75+BY75 -> 0 | CB75: =CA75*19% -> 0 | CC75: =CA75+CB75 -> 0 | CE75: =CD75*19% -> 0 | CF75: =CD75+CE75 -> 0 | CH75: =CG75*19% -> 0 | CI75: =CG75+CH75 -> 0 | CK75: =CJ75*19% -> 0 | CL75: =CJ75+CK75 -> 0 | CN75: =CM75*19% -> 0 | CO75: =CM75+CN75 -> 0 | CQ75: =CP75*19% -> 0 | CR75: =CP75+CQ75 -> 0 | CT75: =CS75*19% -> 0 | CU75: =CS75+CT75 -> 0 | CW75: =CV75*19% -> 0 | CX75: =CV75+CW75 -> 0
B76: 7.2 | C76: BATERIA | E76: =D76*19% -> 0 | F76: =D76+E76 -> 0 | H76: =G76*19% -> 0 | I76: =G76+H76 -> 0 | K76: =J76*19% -> 0 | L76: =J76+K76 -> 0 | N76: =M76*19% -> 0 | O76: =M76+N76 -> 0 | Q76: =P76*19% -> 0 | R76: =P76+Q76 -> 0 | T76: =S76*19% -> 0 | U76: =S76+T76 -> 0 | W76: =V76*19% -> 0 | X76: =V76+W76 -> 0 | Z76: =Y76*19% -> 0 | AA76: =Y76+Z76 -> 0 | AC76: =AB76*19% -> 0 | AD76: =AB76+AC76 -> 0 | AF76: =AE76*19% -> 0 | AG76: =AE76+AF76 -> 0 | AI76: =AH76*19% -> 0 | AJ76: =AH76+AI76 -> 0 | AL76: =AK76*19% -> 0 | AM76: =AK76+AL76 -> 0 | AO76: =AN76*19% -> 0 | AP76: =AN76+AO76 -> 0 | AR76: =AQ76*19% -> 0 | AS76: =AQ76+AR76 -> 0 | AU76: =AT76*19% -> 0 | AV76: =AT76+AU76 -> 0 | AX76: =AW76*19% -> 0 | AY76: =AW76+AX76 -> 0 | BA76: =AZ76*19% -> 0 | BB76: =AZ76+BA76 -> 0 | BD76: =BC76*19% -> 0 | BE76: =BC76+BD76 -> 0 | BG76: =BF76*19% -> 0 | BH76: =BF76+BG76 -> 0 | BJ76: =BI76*19% -> 0 | BK76: =BI76+BJ76 -> 0 | BM76: =BL76*19% -> 0 | BN76: =BL76+BM76 -> 0 | BP76: =BO76*19% -> 0 | BQ76: =BO76+BP76 -> 0 | BS76: =BR76*19% -> 0 | BT76: =BR76+BS76 -> 0 | BV76: =BU76*19% -> 0 | BW76: =BU76+BV76 -> 0 | BY76: =BX76*19% -> 0 | BZ76: =BX76+BY76 -> 0 | CB76: =CA76*19% -> 0 | CC76: =CA76+CB76 -> 0 | CE76: =CD76*19% -> 0 | CF76: =CD76+CE76 -> 0 | CH76: =CG76*19% -> 0 | CI76: =CG76+CH76 -> 0 | CK76: =CJ76*19% -> 0 | CL76: =CJ76+CK76 -> 0 | CN76: =CM76*19% -> 0 | CO76: =CM76+CN76 -> 0 | CQ76: =CP76*19% -> 0 | CR76: =CP76+CQ76 -> 0 | CT76: =CS76*19% -> 0 | CU76: =CS76+CT76 -> 0 | CW76: =CV76*19% -> 0 | CX76: =CV76+CW76 -> 0
B77: 7.3 | C77: BOBINA CAPTADORA | E77: =D77*19% -> 0 | F77: =D77+E77 -> 0 | H77: =G77*19% -> 0 | I77: =G77+H77 -> 0 | K77: =J77*19% -> 0 | L77: =J77+K77 -> 0 | N77: =M77*19% -> 0 | O77: =M77+N77 -> 0 | Q77: =P77*19% -> 0 | R77: =P77+Q77 -> 0 | T77: =S77*19% -> 0 | U77: =S77+T77 -> 0 | W77: =V77*19% -> 0 | X77: =V77+W77 -> 0 | Z77: =Y77*19% -> 0 | AA77: =Y77+Z77 -> 0 | AC77: =AB77*19% -> 0 | AD77: =AB77+AC77 -> 0 | AF77: =AE77*19% -> 0 | AG77: =AE77+AF77 -> 0 | AI77: =AH77*19% -> 0 | AJ77: =AH77+AI77 -> 0 | AL77: =AK77*19% -> 0 | AM77: =AK77+AL77 -> 0 | AO77: =AN77*19% -> 0 | AP77: =AN77+AO77 -> 0 | AR77: =AQ77*19% -> 0 | AS77: =AQ77+AR77 -> 0 | AU77: =AT77*19% -> 0 | AV77: =AT77+AU77 -> 0 | AX77: =AW77*19% -> 0 | AY77: =AW77+AX77 -> 0 | BA77: =AZ77*19% -> 0 | BB77: =AZ77+BA77 -> 0 | BD77: =BC77*19% -> 0 | BE77: =BC77+BD77 -> 0 | BG77: =BF77*19% -> 0 | BH77: =BF77+BG77 -> 0 | BJ77: =BI77*19% -> 0 | BK77: =BI77+BJ77 -> 0 | BM77: =BL77*19% -> 0 | BN77: =BL77+BM77 -> 0 | BP77: =BO77*19% -> 0 | BQ77: =BO77+BP77 -> 0 | BS77: =BR77*19% -> 0 | BT77: =BR77+BS77 -> 0 | BV77: =BU77*19% -> 0 | BW77: =BU77+BV77 -> 0 | BY77: =BX77*19% -> 0 | BZ77: =BX77+BY77 -> 0 | CB77: =CA77*19% -> 0 | CC77: =CA77+CB77 -> 0 | CE77: =CD77*19% -> 0 | CF77: =CD77+CE77 -> 0 | CH77: =CG77*19% -> 0 | CI77: =CG77+CH77 -> 0 | CK77: =CJ77*19% -> 0 | CL77: =CJ77+CK77 -> 0 | CN77: =CM77*19% -> 0 | CO77: =CM77+CN77 -> 0 | CQ77: =CP77*19% -> 0 | CR77: =CP77+CQ77 -> 0 | CT77: =CS77*19% -> 0 | CU77: =CS77+CT77 -> 0 | CW77: =CV77*19% -> 0 | CX77: =CV77+CW77 -> 0
B78: 7.4 | C78: BOBINA DE IGNICION ALTA | E78: =D78*19% -> 0 | F78: =D78+E78 -> 0 | H78: =G78*19% -> 0 | I78: =G78+H78 -> 0 | K78: =J78*19% -> 0 | L78: =J78+K78 -> 0 | N78: =M78*19% -> 0 | O78: =M78+N78 -> 0 | Q78: =P78*19% -> 0 | R78: =P78+Q78 -> 0 | T78: =S78*19% -> 0 | U78: =S78+T78 -> 0 | W78: =V78*19% -> 0 | X78: =V78+W78 -> 0 | Z78: =Y78*19% -> 0 | AA78: =Y78+Z78 -> 0 | AC78: =AB78*19% -> 0 | AD78: =AB78+AC78 -> 0 | AF78: =AE78*19% -> 0 | AG78: =AE78+AF78 -> 0 | AI78: =AH78*19% -> 0 | AJ78: =AH78+AI78 -> 0 | AL78: =AK78*19% -> 0 | AM78: =AK78+AL78 -> 0 | AO78: =AN78*19% -> 0 | AP78: =AN78+AO78 -> 0 | AR78: =AQ78*19% -> 0 | AS78: =AQ78+AR78 -> 0 | AU78: =AT78*19% -> 0 | AV78: =AT78+AU78 -> 0 | AX78: =AW78*19% -> 0 | AY78: =AW78+AX78 -> 0 | BA78: =AZ78*19% -> 0 | BB78: =AZ78+BA78 -> 0 | BD78: =BC78*19% -> 0 | BE78: =BC78+BD78 -> 0 | BG78: =BF78*19% -> 0 | BH78: =BF78+BG78 -> 0 | BJ78: =BI78*19% -> 0 | BK78: =BI78+BJ78 -> 0 | BM78: =BL78*19% -> 0 | BN78: =BL78+BM78 -> 0 | BP78: =BO78*19% -> 0 | BQ78: =BO78+BP78 -> 0 | BS78: =BR78*19% -> 0 | BT78: =BR78+BS78 -> 0 | BV78: =BU78*19% -> 0 | BW78: =BU78+BV78 -> 0 | BY78: =BX78*19% -> 0 | BZ78: =BX78+BY78 -> 0 | CB78: =CA78*19% -> 0 | CC78: =CA78+CB78 -> 0 | CE78: =CD78*19% -> 0 | CF78: =CD78+CE78 -> 0 | CH78: =CG78*19% -> 0 | CI78: =CG78+CH78 -> 0 | CK78: =CJ78*19% -> 0 | CL78: =CJ78+CK78 -> 0 | CN78: =CM78*19% -> 0 | CO78: =CM78+CN78 -> 0 | CQ78: =CP78*19% -> 0 | CR78: =CP78+CQ78 -> 0 | CT78: =CS78*19% -> 0 | CU78: =CS78+CT78 -> 0 | CW78: =CV78*19% -> 0 | CX78: =CV78+CW78 -> 0
B79: 7.5 | C79: BOBINA DE CARGA | E79: =D79*19% -> 0 | F79: =D79+E79 -> 0 | H79: =G79*19% -> 0 | I79: =G79+H79 -> 0 | K79: =J79*19% -> 0 | L79: =J79+K79 -> 0 | N79: =M79*19% -> 0 | O79: =M79+N79 -> 0 | Q79: =P79*19% -> 0 | R79: =P79+Q79 -> 0 | T79: =S79*19% -> 0 | U79: =S79+T79 -> 0 | W79: =V79*19% -> 0 | X79: =V79+W79 -> 0 | Z79: =Y79*19% -> 0 | AA79: =Y79+Z79 -> 0 | AC79: =AB79*19% -> 0 | AD79: =AB79+AC79 -> 0 | AF79: =AE79*19% -> 0 | AG79: =AE79+AF79 -> 0 | AI79: =AH79*19% -> 0 | AJ79: =AH79+AI79 -> 0 | AL79: =AK79*19% -> 0 | AM79: =AK79+AL79 -> 0 | AO79: =AN79*19% -> 0 | AP79: =AN79+AO79 -> 0 | AR79: =AQ79*19% -> 0 | AS79: =AQ79+AR79 -> 0 | AU79: =AT79*19% -> 0 | AV79: =AT79+AU79 -> 0 | AX79: =AW79*19% -> 0 | AY79: =AW79+AX79 -> 0 | BA79: =AZ79*19% -> 0 | BB79: =AZ79+BA79 -> 0 | BD79: =BC79*19% -> 0 | BE79: =BC79+BD79 -> 0 | BG79: =BF79*19% -> 0 | BH79: =BF79+BG79 -> 0 | BJ79: =BI79*19% -> 0 | BK79: =BI79+BJ79 -> 0 | BM79: =BL79*19% -> 0 | BN79: =BL79+BM79 -> 0 | BP79: =BO79*19% -> 0 | BQ79: =BO79+BP79 -> 0 | BS79: =BR79*19% -> 0 | BT79: =BR79+BS79 -> 0 | BV79: =BU79*19% -> 0 | BW79: =BU79+BV79 -> 0 | BY79: =BX79*19% -> 0 | BZ79: =BX79+BY79 -> 0 | CB79: =CA79*19% -> 0 | CC79: =CA79+CB79 -> 0 | CE79: =CD79*19% -> 0 | CF79: =CD79+CE79 -> 0 | CH79: =CG79*19% -> 0 | CI79: =CG79+CH79 -> 0 | CK79: =CJ79*19% -> 0 | CL79: =CJ79+CK79 -> 0 | CN79: =CM79*19% -> 0 | CO79: =CM79+CN79 -> 0 | CQ79: =CP79*19% -> 0 | CR79: =CP79+CQ79 -> 0 | CT79: =CS79*19% -> 0 | CU79: =CS79+CT79 -> 0 | CW79: =CV79*19% -> 0 | CX79: =CV79+CW79 -> 0
B80: 7.6 | C80: BOBINA LUCES | E80: =D80*19% -> 0 | F80: =D80+E80 -> 0 | H80: =G80*19% -> 0 | I80: =G80+H80 -> 0 | K80: =J80*19% -> 0 | L80: =J80+K80 -> 0 | N80: =M80*19% -> 0 | O80: =M80+N80 -> 0 | Q80: =P80*19% -> 0 | R80: =P80+Q80 -> 0 | T80: =S80*19% -> 0 | U80: =S80+T80 -> 0 | W80: =V80*19% -> 0 | X80: =V80+W80 -> 0 | Z80: =Y80*19% -> 0 | AA80: =Y80+Z80 -> 0 | AC80: =AB80*19% -> 0 | AD80: =AB80+AC80 -> 0 | AF80: =AE80*19% -> 0 | AG80: =AE80+AF80 -> 0 | AI80: =AH80*19% -> 0 | AJ80: =AH80+AI80 -> 0 | AL80: =AK80*19% -> 0 | AM80: =AK80+AL80 -> 0 | AO80: =AN80*19% -> 0 | AP80: =AN80+AO80 -> 0 | AR80: =AQ80*19% -> 0 | AS80: =AQ80+AR80 -> 0 | AU80: =AT80*19% -> 0 | AV80: =AT80+AU80 -> 0 | AX80: =AW80*19% -> 0 | AY80: =AW80+AX80 -> 0 | BA80: =AZ80*19% -> 0 | BB80: =AZ80+BA80 -> 0 | BD80: =BC80*19% -> 0 | BE80: =BC80+BD80 -> 0 | BG80: =BF80*19% -> 0 | BH80: =BF80+BG80 -> 0 | BJ80: =BI80*19% -> 0 | BK80: =BI80+BJ80 -> 0 | BM80: =BL80*19% -> 0 | BN80: =BL80+BM80 -> 0 | BP80: =BO80*19% -> 0 | BQ80: =BO80+BP80 -> 0 | BS80: =BR80*19% -> 0 | BT80: =BR80+BS80 -> 0 | BV80: =BU80*19% -> 0 | BW80: =BU80+BV80 -> 0 | BY80: =BX80*19% -> 0 | BZ80: =BX80+BY80 -> 0 | CB80: =CA80*19% -> 0 | CC80: =CA80+CB80 -> 0 | CE80: =CD80*19% -> 0 | CF80: =CD80+CE80 -> 0 | CH80: =CG80*19% -> 0 | CI80: =CG80+CH80 -> 0 | CK80: =CJ80*19% -> 0 | CL80: =CJ80+CK80 -> 0 | CN80: =CM80*19% -> 0 | CO80: =CM80+CN80 -> 0 | CQ80: =CP80*19% -> 0 | CR80: =CP80+CQ80 -> 0 | CT80: =CS80*19% -> 0 | CU80: =CS80+CT80 -> 0 | CW80: =CV80*19% -> 0 | CX80: =CV80+CW80 -> 0
B81: 7.7 | C81: C D I | E81: =D81*19% -> 0 | F81: =D81+E81 -> 0 | H81: =G81*19% -> 0 | I81: =G81+H81 -> 0 | K81: =J81*19% -> 0 | L81: =J81+K81 -> 0 | N81: =M81*19% -> 0 | O81: =M81+N81 -> 0 | Q81: =P81*19% -> 0 | R81: =P81+Q81 -> 0 | T81: =S81*19% -> 0 | U81: =S81+T81 -> 0 | W81: =V81*19% -> 0 | X81: =V81+W81 -> 0 | Z81: =Y81*19% -> 0 | AA81: =Y81+Z81 -> 0 | AC81: =AB81*19% -> 0 | AD81: =AB81+AC81 -> 0 | AF81: =AE81*19% -> 0 | AG81: =AE81+AF81 -> 0 | AI81: =AH81*19% -> 0 | AJ81: =AH81+AI81 -> 0 | AL81: =AK81*19% -> 0 | AM81: =AK81+AL81 -> 0 | AO81: =AN81*19% -> 0 | AP81: =AN81+AO81 -> 0 | AR81: =AQ81*19% -> 0 | AS81: =AQ81+AR81 -> 0 | AU81: =AT81*19% -> 0 | AV81: =AT81+AU81 -> 0 | AX81: =AW81*19% -> 0 | AY81: =AW81+AX81 -> 0 | BA81: =AZ81*19% -> 0 | BB81: =AZ81+BA81 -> 0 | BD81: =BC81*19% -> 0 | BE81: =BC81+BD81 -> 0 | BG81: =BF81*19% -> 0 | BH81: =BF81+BG81 -> 0 | BJ81: =BI81*19% -> 0 | BK81: =BI81+BJ81 -> 0 | BM81: =BL81*19% -> 0 | BN81: =BL81+BM81 -> 0 | BP81: =BO81*19% -> 0 | BQ81: =BO81+BP81 -> 0 | BS81: =BR81*19% -> 0 | BT81: =BR81+BS81 -> 0 | BV81: =BU81*19% -> 0 | BW81: =BU81+BV81 -> 0 | BY81: =BX81*19% -> 0 | BZ81: =BX81+BY81 -> 0 | CB81: =CA81*19% -> 0 | CC81: =CA81+CB81 -> 0 | CE81: =CD81*19% -> 0 | CF81: =CD81+CE81 -> 0 | CH81: =CG81*19% -> 0 | CI81: =CG81+CH81 -> 0 | CK81: =CJ81*19% -> 0 | CL81: =CJ81+CK81 -> 0 | CN81: =CM81*19% -> 0 | CO81: =CM81+CN81 -> 0 | CQ81: =CP81*19% -> 0 | CR81: =CP81+CQ81 -> 0 | CT81: =CS81*19% -> 0 | CU81: =CS81+CT81 -> 0 | CW81: =CV81*19% -> 0 | CX81: =CV81+CW81 -> 0
B82: 7.8 | C82: DIRECCIONAL DELANTERO | E82: =D82*19% -> 0 | F82: =D82+E82 -> 0 | H82: =G82*19% -> 0 | I82: =G82+H82 -> 0 | K82: =J82*19% -> 0 | L82: =J82+K82 -> 0 | N82: =M82*19% -> 0 | O82: =M82+N82 -> 0 | Q82: =P82*19% -> 0 | R82: =P82+Q82 -> 0 | T82: =S82*19% -> 0 | U82: =S82+T82 -> 0 | W82: =V82*19% -> 0 | X82: =V82+W82 -> 0 | Z82: =Y82*19% -> 0 | AA82: =Y82+Z82 -> 0 | AC82: =AB82*19% -> 0 | AD82: =AB82+AC82 -> 0 | AF82: =AE82*19% -> 0 | AG82: =AE82+AF82 -> 0 | AI82: =AH82*19% -> 0 | AJ82: =AH82+AI82 -> 0 | AL82: =AK82*19% -> 0 | AM82: =AK82+AL82 -> 0 | AO82: =AN82*19% -> 0 | AP82: =AN82+AO82 -> 0 | AR82: =AQ82*19% -> 0 | AS82: =AQ82+AR82 -> 0 | AU82: =AT82*19% -> 0 | AV82: =AT82+AU82 -> 0 | AX82: =AW82*19% -> 0 | AY82: =AW82+AX82 -> 0 | BA82: =AZ82*19% -> 0 | BB82: =AZ82+BA82 -> 0 | BD82: =BC82*19% -> 0 | BE82: =BC82+BD82 -> 0 | BG82: =BF82*19% -> 0 | BH82: =BF82+BG82 -> 0 | BJ82: =BI82*19% -> 0 | BK82: =BI82+BJ82 -> 0 | BM82: =BL82*19% -> 0 | BN82: =BL82+BM82 -> 0 | BP82: =BO82*19% -> 0 | BQ82: =BO82+BP82 -> 0 | BS82: =BR82*19% -> 0 | BT82: =BR82+BS82 -> 0 | BV82: =BU82*19% -> 0 | BW82: =BU82+BV82 -> 0 | BY82: =BX82*19% -> 0 | BZ82: =BX82+BY82 -> 0 | CB82: =CA82*19% -> 0 | CC82: =CA82+CB82 -> 0 | CE82: =CD82*19% -> 0 | CF82: =CD82+CE82 -> 0 | CH82: =CG82*19% -> 0 | CI82: =CG82+CH82 -> 0 | CK82: =CJ82*19% -> 0 | CL82: =CJ82+CK82 -> 0 | CN82: =CM82*19% -> 0 | CO82: =CM82+CN82 -> 0 | CQ82: =CP82*19% -> 0 | CR82: =CP82+CQ82 -> 0 | CT82: =CS82*19% -> 0 | CU82: =CS82+CT82 -> 0 | CW82: =CV82*19% -> 0 | CX82: =CV82+CW82 -> 0
B83: 7.9 | C83: DIRECCIONAL TRASERO | E83: =D83*19% -> 0 | F83: =D83+E83 -> 0 | H83: =G83*19% -> 0 | I83: =G83+H83 -> 0 | K83: =J83*19% -> 0 | L83: =J83+K83 -> 0 | N83: =M83*19% -> 0 | O83: =M83+N83 -> 0 | Q83: =P83*19% -> 0 | R83: =P83+Q83 -> 0 | T83: =S83*19% -> 0 | U83: =S83+T83 -> 0 | W83: =V83*19% -> 0 | X83: =V83+W83 -> 0 | Z83: =Y83*19% -> 0 | AA83: =Y83+Z83 -> 0 | AC83: =AB83*19% -> 0 | AD83: =AB83+AC83 -> 0 | AF83: =AE83*19% -> 0 | AG83: =AE83+AF83 -> 0 | AI83: =AH83*19% -> 0 | AJ83: =AH83+AI83 -> 0 | AL83: =AK83*19% -> 0 | AM83: =AK83+AL83 -> 0 | AO83: =AN83*19% -> 0 | AP83: =AN83+AO83 -> 0 | AR83: =AQ83*19% -> 0 | AS83: =AQ83+AR83 -> 0 | AU83: =AT83*19% -> 0 | AV83: =AT83+AU83 -> 0 | AX83: =AW83*19% -> 0 | AY83: =AW83+AX83 -> 0 | BA83: =AZ83*19% -> 0 | BB83: =AZ83+BA83 -> 0 | BD83: =BC83*19% -> 0 | BE83: =BC83+BD83 -> 0 | BG83: =BF83*19% -> 0 | BH83: =BF83+BG83 -> 0 | BJ83: =BI83*19% -> 0 | BK83: =BI83+BJ83 -> 0 | BM83: =BL83*19% -> 0 | BN83: =BL83+BM83 -> 0 | BP83: =BO83*19% -> 0 | BQ83: =BO83+BP83 -> 0 | BS83: =BR83*19% -> 0 | BT83: =BR83+BS83 -> 0 | BV83: =BU83*19% -> 0 | BW83: =BU83+BV83 -> 0 | BY83: =BX83*19% -> 0 | BZ83: =BX83+BY83 -> 0 | CB83: =CA83*19% -> 0 | CC83: =CA83+CB83 -> 0 | CE83: =CD83*19% -> 0 | CF83: =CD83+CE83 -> 0 | CH83: =CG83*19% -> 0 | CI83: =CG83+CH83 -> 0 | CK83: =CJ83*19% -> 0 | CL83: =CJ83+CK83 -> 0 | CN83: =CM83*19% -> 0 | CO83: =CM83+CN83 -> 0 | CQ83: =CP83*19% -> 0 | CR83: =CP83+CQ83 -> 0 | CT83: =CS83*19% -> 0 | CU83: =CS83+CT83 -> 0 | CW83: =CV83*19% -> 0 | CX83: =CV83+CW83 -> 0
B84: 7.10 | C84: ESCOBILLAS MOTOR DE ARRANQUE | E84: =D84*19% -> 0 | F84: =D84+E84 -> 0 | H84: =G84*19% -> 0 | I84: =G84+H84 -> 0 | K84: =J84*19% -> 0 | L84: =J84+K84 -> 0 | N84: =M84*19% -> 0 | O84: =M84+N84 -> 0 | Q84: =P84*19% -> 0 | R84: =P84+Q84 -> 0 | T84: =S84*19% -> 0 | U84: =S84+T84 -> 0 | W84: =V84*19% -> 0 | X84: =V84+W84 -> 0 | Z84: =Y84*19% -> 0 | AA84: =Y84+Z84 -> 0 | AC84: =AB84*19% -> 0 | AD84: =AB84+AC84 -> 0 | AF84: =AE84*19% -> 0 | AG84: =AE84+AF84 -> 0 | AI84: =AH84*19% -> 0 | AJ84: =AH84+AI84 -> 0 | AL84: =AK84*19% -> 0 | AM84: =AK84+AL84 -> 0 | AO84: =AN84*19% -> 0 | AP84: =AN84+AO84 -> 0 | AR84: =AQ84*19% -> 0 | AS84: =AQ84+AR84 -> 0 | AU84: =AT84*19% -> 0 | AV84: =AT84+AU84 -> 0 | AX84: =AW84*19% -> 0 | AY84: =AW84+AX84 -> 0 | BA84: =AZ84*19% -> 0 | BB84: =AZ84+BA84 -> 0 | BD84: =BC84*19% -> 0 | BE84: =BC84+BD84 -> 0 | BG84: =BF84*19% -> 0 | BH84: =BF84+BG84 -> 0 | BJ84: =BI84*19% -> 0 | BK84: =BI84+BJ84 -> 0 | BM84: =BL84*19% -> 0 | BN84: =BL84+BM84 -> 0 | BP84: =BO84*19% -> 0 | BQ84: =BO84+BP84 -> 0 | BS84: =BR84*19% -> 0 | BT84: =BR84+BS84 -> 0 | BV84: =BU84*19% -> 0 | BW84: =BU84+BV84 -> 0 | BY84: =BX84*19% -> 0 | BZ84: =BX84+BY84 -> 0 | CB84: =CA84*19% -> 0 | CC84: =CA84+CB84 -> 0 | CE84: =CD84*19% -> 0 | CF84: =CD84+CE84 -> 0 | CH84: =CG84*19% -> 0 | CI84: =CG84+CH84 -> 0 | CK84: =CJ84*19% -> 0 | CL84: =CJ84+CK84 -> 0 | CN84: =CM84*19% -> 0 | CO84: =CM84+CN84 -> 0 | CQ84: =CP84*19% -> 0 | CR84: =CP84+CQ84 -> 0 | CT84: =CS84*19% -> 0 | CU84: =CS84+CT84 -> 0 | CW84: =CV84*19% -> 0 | CX84: =CV84+CW84 -> 0
B85: 7.11 | C85: FAROLA | E85: =D85*19% -> 0 | F85: =D85+E85 -> 0 | H85: =G85*19% -> 0 | I85: =G85+H85 -> 0 | K85: =J85*19% -> 0 | L85: =J85+K85 -> 0 | N85: =M85*19% -> 0 | O85: =M85+N85 -> 0 | Q85: =P85*19% -> 0 | R85: =P85+Q85 -> 0 | T85: =S85*19% -> 0 | U85: =S85+T85 -> 0 | W85: =V85*19% -> 0 | X85: =V85+W85 -> 0 | Z85: =Y85*19% -> 0 | AA85: =Y85+Z85 -> 0 | AC85: =AB85*19% -> 0 | AD85: =AB85+AC85 -> 0 | AF85: =AE85*19% -> 0 | AG85: =AE85+AF85 -> 0 | AI85: =AH85*19% -> 0 | AJ85: =AH85+AI85 -> 0 | AL85: =AK85*19% -> 0 | AM85: =AK85+AL85 -> 0 | AO85: =AN85*19% -> 0 | AP85: =AN85+AO85 -> 0 | AR85: =AQ85*19% -> 0 | AS85: =AQ85+AR85 -> 0 | AU85: =AT85*19% -> 0 | AV85: =AT85+AU85 -> 0 | AX85: =AW85*19% -> 0 | AY85: =AW85+AX85 -> 0 | BA85: =AZ85*19% -> 0 | BB85: =AZ85+BA85 -> 0 | BD85: =BC85*19% -> 0 | BE85: =BC85+BD85 -> 0 | BG85: =BF85*19% -> 0 | BH85: =BF85+BG85 -> 0 | BJ85: =BI85*19% -> 0 | BK85: =BI85+BJ85 -> 0 | BM85: =BL85*19% -> 0 | BN85: =BL85+BM85 -> 0 | BP85: =BO85*19% -> 0 | BQ85: =BO85+BP85 -> 0 | BS85: =BR85*19% -> 0 | BT85: =BR85+BS85 -> 0 | BV85: =BU85*19% -> 0 | BW85: =BU85+BV85 -> 0 | BY85: =BX85*19% -> 0 | BZ85: =BX85+BY85 -> 0 | CB85: =CA85*19% -> 0 | CC85: =CA85+CB85 -> 0 | CE85: =CD85*19% -> 0 | CF85: =CD85+CE85 -> 0 | CH85: =CG85*19% -> 0 | CI85: =CG85+CH85 -> 0 | CK85: =CJ85*19% -> 0 | CL85: =CJ85+CK85 -> 0 | CN85: =CM85*19% -> 0 | CO85: =CM85+CN85 -> 0 | CQ85: =CP85*19% -> 0 | CR85: =CP85+CQ85 -> 0 | CT85: =CS85*19% -> 0 | CU85: =CS85+CT85 -> 0 | CW85: =CV85*19% -> 0 | CX85: =CV85+CW85 -> 0
B86: 7.12 | C86: FLASER | E86: =D86*19% -> 0 | F86: =D86+E86 -> 0 | H86: =G86*19% -> 0 | I86: =G86+H86 -> 0 | K86: =J86*19% -> 0 | L86: =J86+K86 -> 0 | N86: =M86*19% -> 0 | O86: =M86+N86 -> 0 | Q86: =P86*19% -> 0 | R86: =P86+Q86 -> 0 | T86: =S86*19% -> 0 | U86: =S86+T86 -> 0 | W86: =V86*19% -> 0 | X86: =V86+W86 -> 0 | Z86: =Y86*19% -> 0 | AA86: =Y86+Z86 -> 0 | AC86: =AB86*19% -> 0 | AD86: =AB86+AC86 -> 0 | AF86: =AE86*19% -> 0 | AG86: =AE86+AF86 -> 0 | AI86: =AH86*19% -> 0 | AJ86: =AH86+AI86 -> 0 | AL86: =AK86*19% -> 0 | AM86: =AK86+AL86 -> 0 | AO86: =AN86*19% -> 0 | AP86: =AN86+AO86 -> 0 | AR86: =AQ86*19% -> 0 | AS86: =AQ86+AR86 -> 0 | AU86: =AT86*19% -> 0 | AV86: =AT86+AU86 -> 0 | AX86: =AW86*19% -> 0 | AY86: =AW86+AX86 -> 0 | BA86: =AZ86*19% -> 0 | BB86: =AZ86+BA86 -> 0 | BD86: =BC86*19% -> 0 | BE86: =BC86+BD86 -> 0 | BG86: =BF86*19% -> 0 | BH86: =BF86+BG86 -> 0 | BJ86: =BI86*19% -> 0 | BK86: =BI86+BJ86 -> 0 | BM86: =BL86*19% -> 0 | BN86: =BL86+BM86 -> 0 | BP86: =BO86*19% -> 0 | BQ86: =BO86+BP86 -> 0 | BS86: =BR86*19% -> 0 | BT86: =BR86+BS86 -> 0 | BV86: =BU86*19% -> 0 | BW86: =BU86+BV86 -> 0 | BY86: =BX86*19% -> 0 | BZ86: =BX86+BY86 -> 0 | CB86: =CA86*19% -> 0 | CC86: =CA86+CB86 -> 0 | CE86: =CD86*19% -> 0 | CF86: =CD86+CE86 -> 0 | CH86: =CG86*19% -> 0 | CI86: =CG86+CH86 -> 0 | CK86: =CJ86*19% -> 0 | CL86: =CJ86+CK86 -> 0 | CN86: =CM86*19% -> 0 | CO86: =CM86+CN86 -> 0 | CQ86: =CP86*19% -> 0 | CR86: =CP86+CQ86 -> 0 | CT86: =CS86*19% -> 0 | CU86: =CS86+CT86 -> 0 | CW86: =CV86*19% -> 0 | CX86: =CV86+CW86 -> 0
... B93: 7.19 | C93: SWICHE LUCES | E93: =D93*19% -> 0 | F93: =D93+E93 -> 0 | H93: =G93*19% -> 0 | I93: =G93+H93 -> 0 | K93: =J93*19% -> 0 | L93: =J93+K93 -> 0 | N93: =M93*19% -> 0 | O93: =M93+N93 -> 0 | Q93: =P93*19% -> 0 | R93: =P93+Q93 -> 0 | T93: =S93*19% -> 0 | U93: =S93+T93 -> 0 | W93: =V93*19% -> 0 | X93: =V93+W93 -> 0 | Z93: =Y93*19% -> 0 | AA93: =Y93+Z93 -> 0 | AC93: =AB93*19% -> 0 | AD93: =AB93+AC93 -> 0 | AF93: =AE93*19% -> 0 | AG93: =AE93+AF93 -> 0 | AI93: =AH93*19% -> 0 | AJ93: =AH93+AI93 -> 0 | AL93: =AK93*19% -> 0 | AM93: =AK93+AL93 -> 0 | AO93: =AN93*19% -> 0 | AP93: =AN93+AO93 -> 0 | AR93: =AQ93*19% -> 0 | AS93: =AQ93+AR93 -> 0 | AU93: =AT93*19% -> 0 | AV93: =AT93+AU93 -> 0 | AX93: =AW93*19% -> 0 | AY93: =AW93+AX93 -> 0 | BA93: =AZ93*19% -> 0 | BB93: =AZ93+BA93 -> 0 | BD93: =BC93*19% -> 0 | BE93: =BC93+BD93 -> 0 | BG93: =BF93*19% -> 0 | BH93: =BF93+BG93 -> 0 | BJ93: =BI93*19% -> 0 | BK93: =BI93+BJ93 -> 0 | BM93: =BL93*19% -> 0 | BN93: =BL93+BM93 -> 0 | BP93: =BO93*19% -> 0 | BQ93: =BO93+BP93 -> 0 | BS93: =BR93*19% -> 0 | BT93: =BR93+BS93 -> 0 | BV93: =BU93*19% -> 0 | BW93: =BU93+BV93 -> 0 | BY93: =BX93*19% -> 0 | BZ93: =BX93+BY93 -> 0 | CB93: =CA93*19% -> 0 | CC93: =CA93+CB93 -> 0 | CE93: =CD93*19% -> 0 | CF93: =CD93+CE93 -> 0 | CH93: =CG93*19% -> 0 | CI93: =CG93+CH93 -> 0 | CK93: =CJ93*19% -> 0 | CL93: =CJ93+CK93 -> 0 | CN93: =CM93*19% -> 0 | CO93: =CM93+CN93 -> 0 | CQ93: =CP93*19% -> 0 | CR93: =CP93+CQ93 -> 0 | CT93: =CS93*19% -> 0 | CU93: =CS93+CT93 -> 0 | CW93: =CV93*19% -> 0 | CX93: =CV93+CW93 -> 0
B94: 8 | C94: ACCESORIOS | D94: 0 | E94: 0 | F94: 0 | G94: 0 | H94: 0 | I94: 0 | J94: 0 | K94: 0 | L94: 0 | M94: 0 | N94: 0 | O94: 0 | P94: 0 | Q94: 0 | R94: 0 | S94: 0 | T94: 0 | U94: 0 | V94: 0 | W94: 0 | X94: 0 | Y94: 0 | Z94: 0 | AA94: 0 | AB94: 0 | AC94: 0 | AD94: 0 | AE94: 0 | AF94: 0 | AG94: 0 | AH94: 0 | AI94: 0 | AJ94: 0 | AK94: 0 | AL94: 0 | AM94: 0 | AN94: 0 | AO94: 0 | AP94: 0 | AQ94: 0 | AR94: 0 | AS94: 0 | AT94: 0 | AU94: 0 | AV94: 0 | AW94: 0 | AX94: 0 | AY94: 0 | AZ94: 0 | BA94: 0 | BB94: 0 | BC94: 0 | BD94: 0 | BE94: 0 | BF94: 0 | BG94: 0 | BH94: 0 | BI94: 0 | BJ94: 0 | BK94: 0 | BL94: 0 | BM94: 0 | BN94: 0 | BO94: 0 | BP94: 0 | BQ94: 0 | BR94: 0 | BS94: 0 | BT94: 0 | BU94: 0 | BV94: 0 | BW94: 0 | BX94: 0 | BY94: 0 | BZ94: 0 | CA94: 0 | CB94: 0 | CC94: 0 | CD94: 0 | CE94: 0 | CF94: 0 | CG94: 0 | CH94: 0 | CI94: 0 | CJ94: 0 | CK94: 0 | CL94: 0 | CM94: 0 | CN94: 0 | CO94: 0 | CP94: 0 | CQ94: 0 | CR94: 0 | CS94: 0 | CT94: 0 | CU94: 0 | CV94: 0 | CW94: 0 | CX94: 0
B95: 8.1 | C95: ANILLO EXOSTO | E95: =D95*19% -> 0 | F95: =D95+E95 -> 0 | H95: =G95*19% -> 0 | I95: =G95+H95 -> 0 | K95: =J95*19% -> 0 | L95: =J95+K95 -> 0 | N95: =M95*19% -> 0 | O95: =M95+N95 -> 0 | Q95: =P95*19% -> 0 | R95: =P95+Q95 -> 0 | T95: =S95*19% -> 0 | U95: =S95+T95 -> 0 | W95: =V95*19% -> 0 | X95: =V95+W95 -> 0 | Z95: =Y95*19% -> 0 | AA95: =Y95+Z95 -> 0 | AC95: =AB95*19% -> 0 | AD95: =AB95+AC95 -> 0 | AF95: =AE95*19% -> 0 | AG95: =AE95+AF95 -> 0 | AI95: =AH95*19% -> 0 | AJ95: =AH95+AI95 -> 0 | AL95: =AK95*19% -> 0 | AM95: =AK95+AL95 -> 0 | AO95: =AN95*19% -> 0 | AP95: =AN95+AO95 -> 0 | AR95: =AQ95*19% -> 0 | AS95: =AQ95+AR95 -> 0 | AU95: =AT95*19% -> 0 | AV95: =AT95+AU95 -> 0 | AX95: =AW95*19% -> 0 | AY95: =AW95+AX95 -> 0 | BA95: =AZ95*19% -> 0 | BB95: =AZ95+BA95 -> 0 | BD95: =BC95*19% -> 0 | BE95: =BC95+BD95 -> 0 | BG95: =BF95*19% -> 0 | BH95: =BF95+BG95 -> 0 | BJ95: =BI95*19% -> 0 | BK95: =BI95+BJ95 -> 0 | BM95: =BL95*19% -> 0 | BN95: =BL95+BM95 -> 0 | BP95: =BO95*19% -> 0 | BQ95: =BO95+BP95 -> 0 | BS95: =BR95*19% -> 0 | BT95: =BR95+BS95 -> 0 | BV95: =BU95*19% -> 0 | BW95: =BU95+BV95 -> 0 | BY95: =BX95*19% -> 0 | BZ95: =BX95+BY95 -> 0 | CB95: =CA95*19% -> 0 | CC95: =CA95+CB95 -> 0 | CE95: =CD95*19% -> 0 | CF95: =CD95+CE95 -> 0 | CH95: =CG95*19% -> 0 | CI95: =CG95+CH95 -> 0 | CK95: =CJ95*19% -> 0 | CL95: =CJ95+CK95 -> 0 | CN95: =CM95*19% -> 0 | CO95: =CM95+CN95 -> 0 | CQ95: =CP95*19% -> 0 | CR95: =CP95+CQ95 -> 0 | CT95: =CS95*19% -> 0 | CU95: =CS95+CT95 -> 0 | CW95: =CV95*19% -> 0 | CX95: =CV95+CW95 -> 0
B96: 8.2 | C96: CALAPIE | E96: =D96*19% -> 0 | F96: =D96+E96 -> 0 | H96: =G96*19% -> 0 | I96: =G96+H96 -> 0 | K96: =J96*19% -> 0 | L96: =J96+K96 -> 0 | N96: =M96*19% -> 0 | O96: =M96+N96 -> 0 | Q96: =P96*19% -> 0 | R96: =P96+Q96 -> 0 | T96: =S96*19% -> 0 | U96: =S96+T96 -> 0 | W96: =V96*19% -> 0 | X96: =V96+W96 -> 0 | Z96: =Y96*19% -> 0 | AA96: =Y96+Z96 -> 0 | AC96: =AB96*19% -> 0 | AD96: =AB96+AC96 -> 0 | AF96: =AE96*19% -> 0 | AG96: =AE96+AF96 -> 0 | AI96: =AH96*19% -> 0 | AJ96: =AH96+AI96 -> 0 | AL96: =AK96*19% -> 0 | AM96: =AK96+AL96 -> 0 | AO96: =AN96*19% -> 0 | AP96: =AN96+AO96 -> 0 | AR96: =AQ96*19% -> 0 | AS96: =AQ96+AR96 -> 0 | AU96: =AT96*19% -> 0 | AV96: =AT96+AU96 -> 0 | AX96: =AW96*19% -> 0 | AY96: =AW96+AX96 -> 0 | BA96: =AZ96*19% -> 0 | BB96: =AZ96+BA96 -> 0 | BD96: =BC96*19% -> 0 | BE96: =BC96+BD96 -> 0 | BG96: =BF96*19% -> 0 | BH96: =BF96+BG96 -> 0 | BJ96: =BI96*19% -> 0 | BK96: =BI96+BJ96 -> 0 | BM96: =BL96*19% -> 0 | BN96: =BL96+BM96 -> 0 | BP96: =BO96*19% -> 0 | BQ96: =BO96+BP96 -> 0 | BS96: =BR96*19% -> 0 | BT96: =BR96+BS96 -> 0 | BV96: =BU96*19% -> 0 | BW96: =BU96+BV96 -> 0 | BY96: =BX96*19% -> 0 | BZ96: =BX96+BY96 -> 0 | CB96: =CA96*19% -> 0 | CC96: =CA96+CB96 -> 0 | CE96: =CD96*19% -> 0 | CF96: =CD96+CE96 -> 0 | CH96: =CG96*19% -> 0 | CI96: =CG96+CH96 -> 0 | CK96: =CJ96*19% -> 0 | CL96: =CJ96+CK96 -> 0 | CN96: =CM96*19% -> 0 | CO96: =CM96+CN96 -> 0 | CQ96: =CP96*19% -> 0 | CR96: =CP96+CQ96 -> 0 | CT96: =CS96*19% -> 0 | CU96: =CS96+CT96 -> 0 | CW96: =CV96*19% -> 0 | CX96: =CV96+CW96 -> 0
B97: 8.3 | C97: ESPEJOS (JUEGO) | E97: =D97*19% -> 0 | F97: =D97+E97 -> 0 | H97: =G97*19% -> 0 | I97: =G97+H97 -> 0 | K97: =J97*19% -> 0 | L97: =J97+K97 -> 0 | N97: =M97*19% -> 0 | O97: =M97+N97 -> 0 | Q97: =P97*19% -> 0 | R97: =P97+Q97 -> 0 | T97: =S97*19% -> 0 | U97: =S97+T97 -> 0 | W97: =V97*19% -> 0 | X97: =V97+W97 -> 0 | Z97: =Y97*19% -> 0 | AA97: =Y97+Z97 -> 0 | AC97: =AB97*19% -> 0 | AD97: =AB97+AC97 -> 0 | AF97: =AE97*19% -> 0 | AG97: =AE97+AF97 -> 0 | AI97: =AH97*19% -> 0 | AJ97: =AH97+AI97 -> 0 | AL97: =AK97*19% -> 0 | AM97: =AK97+AL97 -> 0 | AO97: =AN97*19% -> 0 | AP97: =AN97+AO97 -> 0 | AR97: =AQ97*19% -> 0 | AS97: =AQ97+AR97 -> 0 | AU97: =AT97*19% -> 0 | AV97: =AT97+AU97 -> 0 | AX97: =AW97*19% -> 0 | AY97: =AW97+AX97 -> 0 | BA97: =AZ97*19% -> 0 | BB97: =AZ97+BA97 -> 0 | BD97: =BC97*19% -> 0 | BE97: =BC97+BD97 -> 0 | BG97: =BF97*19% -> 0 | BH97: =BF97+BG97 -> 0 | BJ97: =BI97*19% -> 0 | BK97: =BI97+BJ97 -> 0 | BM97: =BL97*19% -> 0 | BN97: =BL97+BM97 -> 0 | BP97: =BO97*19% -> 0 | BQ97: =BO97+BP97 -> 0 | BS97: =BR97*19% -> 0 | BT97: =BR97+BS97 -> 0 | BV97: =BU97*19% -> 0 | BW97: =BU97+BV97 -> 0 | BY97: =BX97*19% -> 0 | BZ97: =BX97+BY97 -> 0 | CB97: =CA97*19% -> 0 | CC97: =CA97+CB97 -> 0 | CE97: =CD97*19% -> 0 | CF97: =CD97+CE97 -> 0 | CH97: =CG97*19% -> 0 | CI97: =CG97+CH97 -> 0 | CK97: =CJ97*19% -> 0 | CL97: =CJ97+CK97 -> 0 | CN97: =CM97*19% -> 0 | CO97: =CM97+CN97 -> 0 | CQ97: =CP97*19% -> 0 | CR97: =CP97+CQ97 -> 0 | CT97: =CS97*19% -> 0 | CU97: =CS97+CT97 -> 0 | CW97: =CV97*19% -> 0 | CX97: =CV97+CW97 -> 0
B98: 8.4 | C98: LLANTA DELANTERA | E98: =D98*19% -> 0 | F98: =D98+E98 -> 0 | H98: =G98*19% -> 0 | I98: =G98+H98 -> 0 | K98: =J98*19% -> 0 | L98: =J98+K98 -> 0 | N98: =M98*19% -> 0 | O98: =M98+N98 -> 0 | Q98: =P98*19% -> 0 | R98: =P98+Q98 -> 0 | T98: =S98*19% -> 0 | U98: =S98+T98 -> 0 | W98: =V98*19% -> 0 | X98: =V98+W98 -> 0 | Z98: =Y98*19% -> 0 | AA98: =Y98+Z98 -> 0 | AC98: =AB98*19% -> 0 | AD98: =AB98+AC98 -> 0 | AF98: =AE98*19% -> 0 | AG98: =AE98+AF98 -> 0 | AI98: =AH98*19% -> 0 | AJ98: =AH98+AI98 -> 0 | AL98: =AK98*19% -> 0 | AM98: =AK98+AL98 -> 0 | AO98: =AN98*19% -> 0 | AP98: =AN98+AO98 -> 0 | AR98: =AQ98*19% -> 0 | AS98: =AQ98+AR98 -> 0 | AU98: =AT98*19% -> 0 | AV98: =AT98+AU98 -> 0 | AX98: =AW98*19% -> 0 | AY98: =AW98+AX98 -> 0 | BA98: =AZ98*19% -> 0 | BB98: =AZ98+BA98 -> 0 | BD98: =BC98*19% -> 0 | BE98: =BC98+BD98 -> 0 | BG98: =BF98*19% -> 0 | BH98: =BF98+BG98 -> 0 | BJ98: =BI98*19% -> 0 | BK98: =BI98+BJ98 -> 0 | BM98: =BL98*19% -> 0 | BN98: =BL98+BM98 -> 0 | BP98: =BO98*19% -> 0 | BQ98: =BO98+BP98 -> 0 | BS98: =BR98*19% -> 0 | BT98: =BR98+BS98 -> 0 | BV98: =BU98*19% -> 0 | BW98: =BU98+BV98 -> 0 | BY98: =BX98*19% -> 0 | BZ98: =BX98+BY98 -> 0 | CB98: =CA98*19% -> 0 | CC98: =CA98+CB98 -> 0 | CE98: =CD98*19% -> 0 | CF98: =CD98+CE98 -> 0 | CH98: =CG98*19% -> 0 | CI98: =CG98+CH98 -> 0 | CK98: =CJ98*19% -> 0 | CL98: =CJ98+CK98 -> 0 | CN98: =CM98*19% -> 0 | CO98: =CM98+CN98 -> 0 | CQ98: =CP98*19% -> 0 | CR98: =CP98+CQ98 -> 0 | CT98: =CS98*19% -> 0 | CU98: =CS98+CT98 -> 0 | CW98: =CV98*19% -> 0 | CX98: =CV98+CW98 -> 0
B99: 8.5 | C99: LLANTA TRASERA | E99: =D99*19% -> 0 | F99: =D99+E99 -> 0 | H99: =G99*19% -> 0 | I99: =G99+H99 -> 0 | K99: =J99*19% -> 0 | L99: =J99+K99 -> 0 | N99: =M99*19% -> 0 | O99: =M99+N99 -> 0 | Q99: =P99*19% -> 0 | R99: =P99+Q99 -> 0 | T99: =S99*19% -> 0 | U99: =S99+T99 -> 0 | W99: =V99*19% -> 0 | X99: =V99+W99 -> 0 | Z99: =Y99*19% -> 0 | AA99: =Y99+Z99 -> 0 | AC99: =AB99*19% -> 0 | AD99: =AB99+AC99 -> 0 | AF99: =AE99*19% -> 0 | AG99: =AE99+AF99 -> 0 | AI99: =AH99*19% -> 0 | AJ99: =AH99+AI99 -> 0 | AL99: =AK99*19% -> 0 | AM99: =AK99+AL99 -> 0 | AO99: =AN99*19% -> 0 | AP99: =AN99+AO99 -> 0 | AR99: =AQ99*19% -> 0 | AS99: =AQ99+AR99 -> 0 | AU99: =AT99*19% -> 0 | AV99: =AT99+AU99 -> 0 | AX99: =AW99*19% -> 0 | AY99: =AW99+AX99 -> 0 | BA99: =AZ99*19% -> 0 | BB99: =AZ99+BA99 -> 0 | BD99: =BC99*19% -> 0 | BE99: =BC99+BD99 -> 0 | BG99: =BF99*19% -> 0 | BH99: =BF99+BG99 -> 0 | BJ99: =BI99*19% -> 0 | BK99: =BI99+BJ99 -> 0 | BM99: =BL99*19% -> 0 | BN99: =BL99+BM99 -> 0 | BP99: =BO99*19% -> 0 | BQ99: =BO99+BP99 -> 0 | BS99: =BR99*19% -> 0 | BT99: =BR99+BS99 -> 0 | BV99: =BU99*19% -> 0 | BW99: =BU99+BV99 -> 0 | BY99: =BX99*19% -> 0 | BZ99: =BX99+BY99 -> 0 | CB99: =CA99*19% -> 0 | CC99: =CA99+CB99 -> 0 | CE99: =CD99*19% -> 0 | CF99: =CD99+CE99 -> 0 | CH99: =CG99*19% -> 0 | CI99: =CG99+CH99 -> 0 | CK99: =CJ99*19% -> 0 | CL99: =CJ99+CK99 -> 0 | CN99: =CM99*19% -> 0 | CO99: =CM99+CN99 -> 0 | CQ99: =CP99*19% -> 0 | CR99: =CP99+CQ99 -> 0 | CT99: =CS99*19% -> 0 | CU99: =CS99+CT99 -> 0 | CW99: =CV99*19% -> 0 | CX99: =CV99+CW99 -> 0
B100: 8.6 | C100: NEUMATICO DELANTERO | E100: =D100*19% -> 0 | F100: =D100+E100 -> 0 | H100: =G100*19% -> 0 | I100: =G100+H100 -> 0 | K100: =J100*19% -> 0 | L100: =J100+K100 -> 0 | N100: =M100*19% -> 0 | O100: =M100+N100 -> 0 | Q100: =P100*19% -> 0 | R100: =P100+Q100 -> 0 | T100: =S100*19% -> 0 | U100: =S100+T100 -> 0 | W100: =V100*19% -> 0 | X100: =V100+W100 -> 0 | Z100: =Y100*19% -> 0 | AA100: =Y100+Z100 -> 0 | AC100: =AB100*19% -> 0 | AD100: =AB100+AC100 -> 0 | AF100: =AE100*19% -> 0 | AG100: =AE100+AF100 -> 0 | AI100: =AH100*19% -> 0 | AJ100: =AH100+AI100 -> 0 | AL100: =AK100*19% -> 0 | AM100: =AK100+AL100 -> 0 | AO100: =AN100*19% -> 0 | AP100: =AN100+AO100 -> 0 | AR100: =AQ100*19% -> 0 | AS100: =AQ100+AR100 -> 0 | AU100: =AT100*19% -> 0 | AV100: =AT100+AU100 -> 0 | AX100: =AW100*19% -> 0 | AY100: =AW100+AX100 -> 0 | BA100: =AZ100*19% -> 0 | BB100: =AZ100+BA100 -> 0 | BD100: =BC100*19% -> 0 | BE100: =BC100+BD100 -> 0 | BG100: =BF100*19% -> 0 | BH100: =BF100+BG100 -> 0 | BJ100: =BI100*19% -> 0 | BK100: =BI100+BJ100 -> 0 | BM100: =BL100*19% -> 0 | BN100: =BL100+BM100 -> 0 | BP100: =BO100*19% -> 0 | BQ100: =BO100+BP100 -> 0 | BS100: =BR100*19% -> 0 | BT100: =BR100+BS100 -> 0 | BV100: =BU100*19% -> 0 | BW100: =BU100+BV100 -> 0 | BY100: =BX100*19% -> 0 | BZ100: =BX100+BY100 -> 0 | CB100: =CA100*19% -> 0 | CC100: =CA100+CB100 -> 0 | CE100: =CD100*19% -> 0 | CF100: =CD100+CE100 -> 0 | CH100: =CG100*19% -> 0 | CI100: =CG100+CH100 -> 0 | CK100: =CJ100*19% -> 0 | CL100: =CJ100+CK100 -> 0 | CN100: =CM100*19% -> 0 | CO100: =CM100+CN100 -> 0 | CQ100: =CP100*19% -> 0 | CR100: =CP100+CQ100 -> 0 | CT100: =CS100*19% -> 0 | CU100: =CS100+CT100 -> 0 | CW100: =CV100*19% -> 0 | CX100: =CV100+CW100 -> 0
B101: 8.7 | C101: NEUMATICO TRASERO | E101: =D101*19% -> 0 | F101: =D101+E101 -> 0 | H101: =G101*19% -> 0 | I101: =G101+H101 -> 0 | K101: =J101*19% -> 0 | L101: =J101+K101 -> 0 | N101: =M101*19% -> 0 | O101: =M101+N101 -> 0 | Q101: =P101*19% -> 0 | R101: =P101+Q101 -> 0 | T101: =S101*19% -> 0 | U101: =S101+T101 -> 0 | W101: =V101*19% -> 0 | X101: =V101+W101 -> 0 | Z101: =Y101*19% -> 0 | AA101: =Y101+Z101 -> 0 | AC101: =AB101*19% -> 0 | AD101: =AB101+AC101 -> 0 | AF101: =AE101*19% -> 0 | AG101: =AE101+AF101 -> 0 | AI101: =AH101*19% -> 0 | AJ101: =AH101+AI101 -> 0 | AL101: =AK101*19% -> 0 | AM101: =AK101+AL101 -> 0 | AO101: =AN101*19% -> 0 | AP101: =AN101+AO101 -> 0 | AR101: =AQ101*19% -> 0 | AS101: =AQ101+AR101 -> 0 | AU101: =AT101*19% -> 0 | AV101: =AT101+AU101 -> 0 | AX101: =AW101*19% -> 0 | AY101: =AW101+AX101 -> 0 | BA101: =AZ101*19% -> 0 | BB101: =AZ101+BA101 -> 0 | BD101: =BC101*19% -> 0 | BE101: =BC101+BD101 -> 0 | BG101: =BF101*19% -> 0 | BH101: =BF101+BG101 -> 0 | BJ101: =BI101*19% -> 0 | BK101: =BI101+BJ101 -> 0 | BM101: =BL101*19% -> 0 | BN101: =BL101+BM101 -> 0 | BP101: =BO101*19% -> 0 | BQ101: =BO101+BP101 -> 0 | BS101: =BR101*19% -> 0 | BT101: =BR101+BS101 -> 0 | BV101: =BU101*19% -> 0 | BW101: =BU101+BV101 -> 0 | BY101: =BX101*19% -> 0 | BZ101: =BX101+BY101 -> 0 | CB101: =CA101*19% -> 0 | CC101: =CA101+CB101 -> 0 | CE101: =CD101*19% -> 0 | CF101: =CD101+CE101 -> 0 | CH101: =CG101*19% -> 0 | CI101: =CG101+CH101 -> 0 | CK101: =CJ101*19% -> 0 | CL101: =CJ101+CK101 -> 0 | CN101: =CM101*19% -> 0 | CO101: =CM101+CN101 -> 0 | CQ101: =CP101*19% -> 0 | CR101: =CP101+CQ101 -> 0 | CT101: =CS101*19% -> 0 | CU101: =CS101+CT101 -> 0 | CW101: =CV101*19% -> 0 | CX101: =CV101+CW101 -> 0
B102: 8.8 | C102: RIN DELANTERO | E102: =D102*19% -> 0 | F102: =D102+E102 -> 0 | H102: =G102*19% -> 0 | I102: =G102+H102 -> 0 | K102: =J102*19% -> 0 | L102: =J102+K102 -> 0 | N102: =M102*19% -> 0 | O102: =M102+N102 -> 0 | Q102: =P102*19% -> 0 | R102: =P102+Q102 -> 0 | T102: =S102*19% -> 0 | U102: =S102+T102 -> 0 | W102: =V102*19% -> 0 | X102: =V102+W102 -> 0 | Z102: =Y102*19% -> 0 | AA102: =Y102+Z102 -> 0 | AC102: =AB102*19% -> 0 | AD102: =AB102+AC102 -> 0 | AF102: =AE102*19% -> 0 | AG102: =AE102+AF102 -> 0 | AI102: =AH102*19% -> 0 | AJ102: =AH102+AI102 -> 0 | AL102: =AK102*19% -> 0 | AM102: =AK102+AL102 -> 0 | AO102: =AN102*19% -> 0 | AP102: =AN102+AO102 -> 0 | AR102: =AQ102*19% -> 0 | AS102: =AQ102+AR102 -> 0 | AU102: =AT102*19% -> 0 | AV102: =AT102+AU102 -> 0 | AX102: =AW102*19% -> 0 | AY102: =AW102+AX102 -> 0 | BA102: =AZ102*19% -> 0 | BB102: =AZ102+BA102 -> 0 | BD102: =BC102*19% -> 0 | BE102: =BC102+BD102 -> 0 | BG102: =BF102*19% -> 0 | BH102: =BF102+BG102 -> 0 | BJ102: =BI102*19% -> 0 | BK102: =BI102+BJ102 -> 0 | BM102: =BL102*19% -> 0 | BN102: =BL102+BM102 -> 0 | BP102: =BO102*19% -> 0 | BQ102: =BO102+BP102 -> 0 | BS102: =BR102*19% -> 0 | BT102: =BR102+BS102 -> 0 | BV102: =BU102*19% -> 0 | BW102: =BU102+BV102 -> 0 | BY102: =BX102*19% -> 0 | BZ102: =BX102+BY102 -> 0 | CB102: =CA102*19% -> 0 | CC102: =CA102+CB102 -> 0 | CE102: =CD102*19% -> 0 | CF102: =CD102+CE102 -> 0 | CH102: =CG102*19% -> 0 | CI102: =CG102+CH102 -> 0 | CK102: =CJ102*19% -> 0 | CL102: =CJ102+CK102 -> 0 | CN102: =CM102*19% -> 0 | CO102: =CM102+CN102 -> 0 | CQ102: =CP102*19% -> 0 | CR102: =CP102+CQ102 -> 0 | CT102: =CS102*19% -> 0 | CU102: =CS102+CT102 -> 0 | CW102: =CV102*19% -> 0 | CX102: =CV102+CW102 -> 0
B103: 8.9 | C103: RIN TRASERO | E103: =D103*19% -> 0 | F103: =D103+E103 -> 0 | H103: =G103*19% -> 0 | I103: =G103+H103 -> 0 | K103: =J103*19% -> 0 | L103: =J103+K103 -> 0 | N103: =M103*19% -> 0 | O103: =M103+N103 -> 0 | Q103: =P103*19% -> 0 | R103: =P103+Q103 -> 0 | T103: =S103*19% -> 0 | U103: =S103+T103 -> 0 | W103: =V103*19% -> 0 | X103: =V103+W103 -> 0 | Z103: =Y103*19% -> 0 | AA103: =Y103+Z103 -> 0 | AC103: =AB103*19% -> 0 | AD103: =AB103+AC103 -> 0 | AF103: =AE103*19% -> 0 | AG103: =AE103+AF103 -> 0 | AI103: =AH103*19% -> 0 | AJ103: =AH103+AI103 -> 0 | AL103: =AK103*19% -> 0 | AM103: =AK103+AL103 -> 0 | AO103: =AN103*19% -> 0 | AP103: =AN103+AO103 -> 0 | AR103: =AQ103*19% -> 0 | AS103: =AQ103+AR103 -> 0 | AU103: =AT103*19% -> 0 | AV103: =AT103+AU103 -> 0 | AX103: =AW103*19% -> 0 | AY103: =AW103+AX103 -> 0 | BA103: =AZ103*19% -> 0 | BB103: =AZ103+BA103 -> 0 | BD103: =BC103*19% -> 0 | BE103: =BC103+BD103 -> 0 | BG103: =BF103*19% -> 0 | BH103: =BF103+BG103 -> 0 | BJ103: =BI103*19% -> 0 | BK103: =BI103+BJ103 -> 0 | BM103: =BL103*19% -> 0 | BN103: =BL103+BM103 -> 0 | BP103: =BO103*19% -> 0 | BQ103: =BO103+BP103 -> 0 | BS103: =BR103*19% -> 0 | BT103: =BR103+BS103 -> 0 | BV103: =BU103*19% -> 0 | BW103: =BU103+BV103 -> 0 | BY103: =BX103*19% -> 0 | BZ103: =BX103+BY103 -> 0 | CB103: =CA103*19% -> 0 | CC103: =CA103+CB103 -> 0 | CE103: =CD103*19% -> 0 | CF103: =CD103+CE103 -> 0 | CH103: =CG103*19% -> 0 | CI103: =CG103+CH103 -> 0 | CK103: =CJ103*19% -> 0 | CL103: =CJ103+CK103 -> 0 | CN103: =CM103*19% -> 0 | CO103: =CM103+CN103 -> 0 | CQ103: =CP103*19% -> 0 | CR103: =CP103+CQ103 -> 0 | CT103: =CS103*19% -> 0 | CU103: =CS103+CT103 -> 0 | CW103: =CV103*19% -> 0 | CX103: =CV103+CW103 -> 0
B104: 8.10 | C104: SOPORTE GATO | E104: =D104*19% -> 0 | F104: =D104+E104 -> 0 | H104: =G104*19% -> 0 | I104: =G104+H104 -> 0 | K104: =J104*19% -> 0 | L104: =J104+K104 -> 0 | N104: =M104*19% -> 0 | O104: =M104+N104 -> 0 | Q104: =P104*19% -> 0 | R104: =P104+Q104 -> 0 | T104: =S104*19% -> 0 | U104: =S104+T104 -> 0 | W104: =V104*19% -> 0 | X104: =V104+W104 -> 0 | Z104: =Y104*19% -> 0 | AA104: =Y104+Z104 -> 0 | AC104: =AB104*19% -> 0 | AD104: =AB104+AC104 -> 0 | AF104: =AE104*19% -> 0 | AG104: =AE104+AF104 -> 0 | AI104: =AH104*19% -> 0 | AJ104: =AH104+AI104 -> 0 | AL104: =AK104*19% -> 0 | AM104: =AK104+AL104 -> 0 | AO104: =AN104*19% -> 0 | AP104: =AN104+AO104 -> 0 | AR104: =AQ104*19% -> 0 | AS104: =AQ104+AR104 -> 0 | AU104: =AT104*19% -> 0 | AV104: =AT104+AU104 -> 0 | AX104: =AW104*19% -> 0 | AY104: =AW104+AX104 -> 0 | BA104: =AZ104*19% -> 0 | BB104: =AZ104+BA104 -> 0 | BD104: =BC104*19% -> 0 | BE104: =BC104+BD104 -> 0 | BG104: =BF104*19% -> 0 | BH104: =BF104+BG104 -> 0 | BJ104: =BI104*19% -> 0 | BK104: =BI104+BJ104 -> 0 | BM104: =BL104*19% -> 0 | BN104: =BL104+BM104 -> 0 | BP104: =BO104*19% -> 0 | BQ104: =BO104+BP104 -> 0 | BS104: =BR104*19% -> 0 | BT104: =BR104+BS104 -> 0 | BV104: =BU104*19% -> 0 | BW104: =BU104+BV104 -> 0 | BY104: =BX104*19% -> 0 | BZ104: =BX104+BY104 -> 0 | CB104: =CA104*19% -> 0 | CC104: =CA104+CB104 -> 0 | CE104: =CD104*19% -> 0 | CF104: =CD104+CE104 -> 0 | CH104: =CG104*19% -> 0 | CI104: =CG104+CH104 -> 0 | CK104: =CJ104*19% -> 0 | CL104: =CJ104+CK104 -> 0 | CN104: =CM104*19% -> 0 | CO104: =CM104+CN104 -> 0 | CQ104: =CP104*19% -> 0 | CR104: =CP104+CQ104 -> 0 | CT104: =CS104*19% -> 0 | CU104: =CS104+CT104 -> 0 | CW104: =CV104*19% -> 0 | CX104: =CV104+CW104 -> 0
B105: 8.11 | C105: SOPORTE PATA | E105: =D105*19% -> 0 | F105: =D105+E105 -> 0 | H105: =G105*19% -> 0 | I105: =G105+H105 -> 0 | K105: =J105*19% -> 0 | L105: =J105+K105 -> 0 | N105: =M105*19% -> 0 | O105: =M105+N105 -> 0 | Q105: =P105*19% -> 0 | R105: =P105+Q105 -> 0 | T105: =S105*19% -> 0 | U105: =S105+T105 -> 0 | W105: =V105*19% -> 0 | X105: =V105+W105 -> 0 | Z105: =Y105*19% -> 0 | AA105: =Y105+Z105 -> 0 | AC105: =AB105*19% -> 0 | AD105: =AB105+AC105 -> 0 | AF105: =AE105*19% -> 0 | AG105: =AE105+AF105 -> 0 | AI105: =AH105*19% -> 0 | AJ105: =AH105+AI105 -> 0 | AL105: =AK105*19% -> 0 | AM105: =AK105+AL105 -> 0 | AO105: =AN105*19% -> 0 | AP105: =AN105+AO105 -> 0 | AR105: =AQ105*19% -> 0 | AS105: =AQ105+AR105 -> 0 | AU105: =AT105*19% -> 0 | AV105: =AT105+AU105 -> 0 | AX105: =AW105*19% -> 0 | AY105: =AW105+AX105 -> 0 | BA105: =AZ105*19% -> 0 | BB105: =AZ105+BA105 -> 0 | BD105: =BC105*19% -> 0 | BE105: =BC105+BD105 -> 0 | BG105: =BF105*19% -> 0 | BH105: =BF105+BG105 -> 0 | BJ105: =BI105*19% -> 0 | BK105: =BI105+BJ105 -> 0 | BM105: =BL105*19% -> 0 | BN105: =BL105+BM105 -> 0 | BP105: =BO105*19% -> 0 | BQ105: =BO105+BP105 -> 0 | BS105: =BR105*19% -> 0 | BT105: =BR105+BS105 -> 0 | BV105: =BU105*19% -> 0 | BW105: =BU105+BV105 -> 0 | BY105: =BX105*19% -> 0 | BZ105: =BX105+BY105 -> 0 | CB105: =CA105*19% -> 0 | CC105: =CA105+CB105 -> 0 | CE105: =CD105*19% -> 0 | CF105: =CD105+CE105 -> 0 | CH105: =CG105*19% -> 0 | CI105: =CG105+CH105 -> 0 | CK105: =CJ105*19% -> 0 | CL105: =CJ105+CK105 -> 0 | CN105: =CM105*19% -> 0 | CO105: =CM105+CN105 -> 0 | CQ105: =CP105*19% -> 0 | CR105: =CP105+CQ105 -> 0 | CT105: =CS105*19% -> 0 | CU105: =CS105+CT105 -> 0 | CW105: =CV105*19% -> 0 | CX105: =CV105+CW105 -> 0
B106: 8.12 | C106: TAPA DE COMBUSTIBLE | E106: =D106*19% -> 0 | F106: =D106+E106 -> 0 | H106: =G106*19% -> 0 | I106: =G106+H106 -> 0 | K106: =J106*19% -> 0 | L106: =J106+K106 -> 0 | N106: =M106*19% -> 0 | O106: =M106+N106 -> 0 | Q106: =P106*19% -> 0 | R106: =P106+Q106 -> 0 | T106: =S106*19% -> 0 | U106: =S106+T106 -> 0 | W106: =V106*19% -> 0 | X106: =V106+W106 -> 0 | Z106: =Y106*19% -> 0 | AA106: =Y106+Z106 -> 0 | AC106: =AB106*19% -> 0 | AD106: =AB106+AC106 -> 0 | AF106: =AE106*19% -> 0 | AG106: =AE106+AF106 -> 0 | AI106: =AH106*19% -> 0 | AJ106: =AH106+AI106 -> 0 | AL106: =AK106*19% -> 0 | AM106: =AK106+AL106 -> 0 | AO106: =AN106*19% -> 0 | AP106: =AN106+AO106 -> 0 | AR106: =AQ106*19% -> 0 | AS106: =AQ106+AR106 -> 0 | AU106: =AT106*19% -> 0 | AV106: =AT106+AU106 -> 0 | AX106: =AW106*19% -> 0 | AY106: =AW106+AX106 -> 0 | BA106: =AZ106*19% -> 0 | BB106: =AZ106+BA106 -> 0 | BD106: =BC106*19% -> 0 | BE106: =BC106+BD106 -> 0 | BG106: =BF106*19% -> 0 | BH106: =BF106+BG106 -> 0 | BJ106: =BI106*19% -> 0 | BK106: =BI106+BJ106 -> 0 | BM106: =BL106*19% -> 0 | BN106: =BL106+BM106 -> 0 | BP106: =BO106*19% -> 0 | BQ106: =BO106+BP106 -> 0 | BS106: =BR106*19% -> 0 | BT106: =BR106+BS106 -> 0 | BV106: =BU106*19% -> 0 | BW106: =BU106+BV106 -> 0 | BY106: =BX106*19% -> 0 | BZ106: =BX106+BY106 -> 0 | CB106: =CA106*19% -> 0 | CC106: =CA106+CB106 -> 0 | CE106: =CD106*19% -> 0 | CF106: =CD106+CE106 -> 0 | CH106: =CG106*19% -> 0 | CI106: =CG106+CH106 -> 0 | CK106: =CJ106*19% -> 0 | CL106: =CJ106+CK106 -> 0 | CN106: =CM106*19% -> 0 | CO106: =CM106+CN106 -> 0 | CQ106: =CP106*19% -> 0 | CR106: =CP106+CQ106 -> 0 | CT106: =CS106*19% -> 0 | CU106: =CS106+CT106 -> 0 | CW106: =CV106*19% -> 0 | CX106: =CV106+CW106 -> 0
B107: 8.13 | C107: TAPA LATERAL L Y/O R | E107: =D107*19% -> 0 | F107: =D107+E107 -> 0 | H107: =G107*19% -> 0 | I107: =G107+H107 -> 0 | K107: =J107*19% -> 0 | L107: =J107+K107 -> 0 | N107: =M107*19% -> 0 | O107: =M107+N107 -> 0 | Q107: =P107*19% -> 0 | R107: =P107+Q107 -> 0 | T107: =S107*19% -> 0 | U107: =S107+T107 -> 0 | W107: =V107*19% -> 0 | X107: =V107+W107 -> 0 | Z107: =Y107*19% -> 0 | AA107: =Y107+Z107 -> 0 | AC107: =AB107*19% -> 0 | AD107: =AB107+AC107 -> 0 | AF107: =AE107*19% -> 0 | AG107: =AE107+AF107 -> 0 | AI107: =AH107*19% -> 0 | AJ107: =AH107+AI107 -> 0 | AL107: =AK107*19% -> 0 | AM107: =AK107+AL107 -> 0 | AO107: =AN107*19% -> 0 | AP107: =AN107+AO107 -> 0 | AR107: =AQ107*19% -> 0 | AS107: =AQ107+AR107 -> 0 | AU107: =AT107*19% -> 0 | AV107: =AT107+AU107 -> 0 | AX107: =AW107*19% -> 0 | AY107: =AW107+AX107 -> 0 | BA107: =AZ107*19% -> 0 | BB107: =AZ107+BA107 -> 0 | BD107: =BC107*19% -> 0 | BE107: =BC107+BD107 -> 0 | BG107: =BF107*19% -> 0 | BH107: =BF107+BG107 -> 0 | BJ107: =BI107*19% -> 0 | BK107: =BI107+BJ107 -> 0 | BM107: =BL107*19% -> 0 | BN107: =BL107+BM107 -> 0 | BP107: =BO107*19% -> 0 | BQ107: =BO107+BP107 -> 0 | BS107: =BR107*19% -> 0 | BT107: =BR107+BS107 -> 0 | BV107: =BU107*19% -> 0 | BW107: =BU107+BV107 -> 0 | BY107: =BX107*19% -> 0 | BZ107: =BX107+BY107 -> 0 | CB107: =CA107*19% -> 0 | CC107: =CA107+CB107 -> 0 | CE107: =CD107*19% -> 0 | CF107: =CD107+CE107 -> 0 | CH107: =CG107*19% -> 0 | CI107: =CG107+CH107 -> 0 | CK107: =CJ107*19% -> 0 | CL107: =CJ107+CK107 -> 0 | CN107: =CM107*19% -> 0 | CO107: =CM107+CN107 -> 0 | CQ107: =CP107*19% -> 0 | CR107: =CP107+CQ107 -> 0 | CT107: =CS107*19% -> 0 | CU107: =CS107+CT107 -> 0 | CW107: =CV107*19% -> 0 | CX107: =CV107+CW107 -> 0
C108: VALORES TOTALES | D108: =SUM(D9:D107) -> 0 | E108: =SUM(E9:E107) -> 0 | F108: =SUM(F9:F107) -> 0 | G108: =SUM(G9:G107) -> 0 | H108: =SUM(H9:H107) -> 0 | I108: =SUM(I9:I107) -> 0 | J108: =SUM(J9:J107) -> 0 | K108: =SUM(K9:K107) -> 0 | ... CX108: =SUM(CX9:CX107) -> 0
C111: NOTA 1: La Oferta Económica deberá ser diligenciada de acuerdo a la actividad económica del proponente y cada ítem por valor unitario. NOTA 2: Para el diligenciamiento de la Oferta Económica deberán tenerse en cuentas las causales de rechazo del Pliego de Condiciones. NOTA 3: Los valores que se inlcuyan para cada bien y/o servicio no podrán superar los precios techo contenidos en el documento denominado "Complemento del Estudio del Sector".

Sheet REPUESTOS COMUNES
B2: OFERTA ECONÓMICA LOTE No. 1 - CALI Y VALLE DEL CAUCA | D2: REPUESTOS COMUNES MOTOCICLETAS MULTIMARCA
D4: MANTENIMIENTO MOTOS
D5: *** Incluye Costos Directos e Indirectos
B7: ITEM | C7: DESCRIPCION | D7: PRESENTACION | E7: SUBTOTAL | F7: IVA | G7: VALOR TOTAL
B8: 1 | C8: ACEITE MINERAL | D8: CUARTO | F8: =E8*19% -> 0 | G8: =E8+F8 -> 0
B9: 2 | C9: ACEITE HIDRAULICO | D9: CUARTO | F9: =E9*19% -> 0 | G9: =E9+F9 -> 0
B10: 3 | C10: ACEITE SINTETICO | D10: UNIDAD | F10: =E10*19% -> 0 | G10: =E10+F10 -> 0
B11: 4 | C11: ABRAZADERA METALICA GRANDE | D11: CUARTO | F11: =E11*19% -> 0 | G11: =E11+F11 -> 0
B12: 5 | C12: ABRAZADERA METALICA MEDIANA | D12: CUARTO | F12: =E12*19% -> 0 | G12: =E12+F12 -> 0
B13: 6 | C13: ABRAZADERA METALICA PEQUEÑA | D13: UNIDAD | F13: =E13*19% -> 0 | G13: =E13+F13 -> 0
B14: 7 | C14: ABRAZADERA PLASTICA | D14: UNIDAD | F14: =E14*19% -> 0 | G14: =E14+F14 -> 0
B15: 8 | C15: BOMBILLO DIRECCIONAL | D15: JUEGO | F15: =E15*19% -> 0 | G15: =E15+F15 -> 0
B16: 9 | C16: BOMBILLO FAROLA | D16: UNIDAD | F16: =E16*19% -> 0 | G16: =E16+F16 -> 0
B17: 10 | C17: BOMBILLO MUELA | D17: UNIDAD | F17: =E17*19% -> 0 | G17: =E17+F17 -> 0
B18: 11 | C18: BOMBILLO STOP | D18: UNIDAD | F18: =E18*19% -> 0 | G18: =E18+F18 -> 0
B19: 12 | C19: FLASHER | D19: UNIDAD | F19: =E19*19% -> 0 | G19: =E19+F19 -> 0
... B28: 21 | C28: SOKET RELAY | D28: UNIDAD | F28: =E28*19% -> 0 | G28: =E28+F28 -> 0
D29: TOTALES | E29: =SUM(E8:E28) -> 0 | F29: =SUM(F8:F28) -> 0 | G29: =SUM(G8:G28) -> 0
C32: NOTA 1: La Oferta Económica deberá ser diligenciada de acuerdo a la actividad económica del proponente y cada ítem por valor unitario. NOTA 2: Para el diligenciamiento de la Oferta Económica deberán tenerse en cuentas las causales de rechazo del Pliego de Condiciones. NOTA 3: Los valores que se inlcuyan para cada bien y/o servicio no podrán superar los precios techo contenidos en el documento denominado "Complemento del Estudio del Sector".

Sheet MANO DE OBRA
B2: OFERTA ECONÓMICA LOTE No. 1 - CALI Y VALLE DEL CAUCA | D2: MANO DE OBRA
D3: MANTENIMIENTO MOTOCICLETAS
D5: *** Incluye Costos Directos e Indirectos
B7: ITEM | D7: CILINDRAJE HASTA 249cc | G7: CILINDRAJE IGUAL O SUPERIOR A 250cc
B8: DESCRIPCION | D8: SUBTOTAL | E8: IVA | F8: TOTAL | G8: SUBTOTAL | H8: IVA | I8: TOTAL
B9: 1 | C9: SINCRONIZACION | D9: 0 | E9: =D9*19% -> 0 | F9: 0 | G9: 0 | H9: 0 | I9: 0
B10: 1.1 | C10: CALIBRAR VALVULAS | E10: =D10*19% -> 0 | F10: =D10+E10 -> 0 | H10: =G10*19% -> 0 | I10: =G10+H10 -> 0
B11: 1.2 | C11: CAMBIO BOBINA IGNICION | E11: =D11*19% -> 0 | F11: =D11+E11 -> 0 | H11: =G11*19% -> 0 | I11: =G11+H11 -> 0
B12: 1.3 | C12: CAMBIO BUJIA | E12: =D12*19% -> 0 | F12: =D12+E12 -> 0 | H12: =G12*19% -> 0 | I12: =G12+H12 -> 0
B13: 1.4 | C13: CAMBIO CDI | E13: =D13*19% -> 0 | F13: =D13+E13 -> 0 | H13: =G13*19% -> 0 | I13: =G13+H13 -> 0
B14: 1.5 | C14: CAMBIO FILTRO AIRE | E14: =D14*19% -> 0 | F14: =D14+E14 -> 0 | H14: =G14*19% -> 0 | I14: =G14+H14 -> 0
B15: 1.6 | C15: CAMBIO GUAYA ACELERADOR | E15: =D15*19% -> 0 | F15: =D15+E15 -> 0 | H15: =G15*19% -> 0 | I15: =G15+H15 -> 0
B16: 1.7 | C16: CAMBIO GUAYA CHOQUE | E16: =D16*19% -> 0 | F16: =D16+E16 -> 0 | H16: =G16*19% -> 0 | I16: =G16+H16 -> 0
B17: 1.8 | C17: CAMBIO LLAVE DE COMBUSTIBLE | E17: =D17*19% -> 0 | F17: =D17+E17 -> 0 | H17: =G17*19% -> 0 | I17: =G17+H17 -> 0
B18: 1.9 | C18: LIMPIEZA CARBURADOR | E18: =D18*19% -> 0 | F18: =D18+E18 -> 0 | H18: =G18*19% -> 0 | I18: =G18+H18 -> 0
B19: 1.10 | C19: SINCRONIZAR MOTOR | E19: =D19*19% -> 0 | F19: =D19+E19 -> 0 | H19: =G19*19% -> 0 | I19: =G19+H19 -> 0
B20: 2 | C20: MOTOR | D20: 0 | E20: 0 | F20: 0 | G20: 0 | H20: 0 | I20: 0
B21: 2.1 | C21: ANILLAR MOTOR | E21: =D21*19% -> 0 | F21: =D21+E21 -> 0 | H21: =G21*19% -> 0 | I21: =G21+H21 -> 0
B22: 2.2 | C22: ASENTAR BANCADA | E22: =D22*19% -> 0 | F22: =D22+E22 -> 0 | H22: =G22*19% -> 0 | I22: =G22+H22 -> 0
B23: 2.3 | C23: ASENTAR VALVULAS | E23: =D23*19% -> 0 | F23: =D23+E23 -> 0 | H23: =G23*19% -> 0 | I23: =G23+H23 -> 0
B24: 2.4 | C24: CALIBRAR VALVULAS | E24: =D24*19% -> 0 | F24: =D24+E24 -> 0 | H24: =G24*19% -> 0 | I24: =G24+H24 -> 0
B25: 2.5 | C25: CAMBIO BALANCINES | E25: =D25*19% -> 0 | F25: =D25+E25 -> 0 | H25: =G25*19% -> 0 | I25: =G25+H25 -> 0
B26: 2.6 | C26: CAMBIO BOMBA DE ACEITE | E26: =D26*19% -> 0 | F26: =D26+E26 -> 0 | H26: =G26*19% -> 0 | I26: =G26+H26 -> 0
B27: 2.7 | C27: CAMBIO EMPAQUE CULATA | E27: =D27*19% -> 0 | F27: =D27+E27 -> 0 | H27: =G27*19% -> 0 | I27: =G27+H27 -> 0
B28: 2.8 | C28: CAMBIO EMPAQUE MULTIPLE | E28: =D28*19% -> 0 | F28: =D28+E28 -> 0 | H28: =G28*19% -> 0 | I28: =G28+H28 -> 0
B29: 2.9 | C29: CAMBIO OBTURADORES | E29: =D29*19% -> 0 | F29: =D29+E29 -> 0 | H29: =G29*19% -> 0 | I29: =G29+H29 -> 0
B30: 2.10 | C30: CAMBIO RETENCIGUEÑAL | E30: =D30*19% -> 0 | F30: =D30+E30 -> 0 | H30: =G30*19% -> 0 | I30: =G30+H30 -> 0
B31: 2.11 | C31: CAMBIO RODAMIENTOS MOTOR | E31: =D31*19% -> 0 | F31: =D31+E31 -> 0 | H31: =G31*19% -> 0 | I31: =G31+H31 -> 0
B32: 2.12 | C32: CEPILLAR CULATA | E32: =D32*19% -> 0 | F32: =D32+E32 -> 0 | H32: =G32*19% -> 0 | I32: =G32+H32 -> 0
... B38: 2.18 | C38: RECTIFICAR GUIAS VALVULAS | E38: =D38*19% -> 0 | F38: =D38+E38 -> 0 | H38: =G38*19% -> 0 | I38: =G38+H38 -> 0
B39: 3 | C39: SISTEMA DE TRANSFERENCIA | D39: 0 | E39: 0 | F39: 0 | G39: 0 | H39: 0 | I39: 0
B40: 3.1 | C40: CAMBIO KIT DE ARRASTRE | E40: =D40*19% -> 0 | F40: =D40+E40 -> 0 | H40: =G40*19% -> 0 | I40: =G40+H40 -> 0
B41: 3.2 | C41: CAMBIO EMPAQUE TAPA EMBRAGUE | E41: =D41*19% -> 0 | F41: =D41+E41 -> 0 | H41: =G41*19% -> 0 | I41: =G41+H41 -> 0
B42: 3.3 | C42: CAMBIO GUAYA EMBRAGUE | E42: =D42*19% -> 0 | F42: =D42+E42 -> 0 | H42: =G42*19% -> 0 | I42: =G42+H42 -> 0
B43: 3.4 | C43: CAMBIO GUAYA VELOCIMETRO | E43: =D43*19% -> 0 | F43: =D43+E43 -> 0 | H43: =G43*19% -> 0 | I43: =G43+H43 -> 0
B44: 3.5 | C44: CAMBIO KIT DISCOS EMBRAGUE | E44: =D44*19% -> 0 | F44: =D44+E44 -> 0 | H44: =G44*19% -> 0 | I44: =G44+H44 -> 0
B45: 3.6 | C45: CAMBIO MANIJA EMBRAGUE | E45: =D45*19% -> 0 | F45: =D45+E45 -> 0 | H45: =G45*19% -> 0 | I45: =G45+H45 -> 0
B46: 3.7 | C46: CAMBIO PERA NEUTRO | E46: =D46*19% -> 0 | F46: =D46+E46 -> 0 | H46: =G46*19% -> 0 | I46: =G46+H46 -> 0
B47: 3.8 | C47: CAMBIO PIÑON VELOCIMETRO | E47: =D47*19% -> 0 | F47: =D47+E47 -> 0 | H47: =G47*19% -> 0 | I47: =G47+H47 -> 0
B48: 3.9 | C48: CAMBIO RETEN SELECTOR DE CAMBIO DE CAMBIOS | E48: =D48*19% -> 0 | F48: =D48+E48 -> 0 | H48: =G48*19% -> 0 | I48: =G48+H48 -> 0
B49: 3.10 | C49: CAMBIO RETEN DE SALIDA (PIÑON SALIDA) | E49: =D49*19% -> 0 | F49: =D49+E49 -> 0 | H49: =G49*19% -> 0 | I49: =G49+H49 -> 0
B50: 3.11 | C50: DESMONTAR Y REPARAR CAJA DE VELOCIDADES | E50: =D50*19% -> 0 | F50: =D50+E50 -> 0 | H50: =G50*19% -> 0 | I50: =G50+H50 -> 0
B51: 3.12 | C51: TENSIONAR Y LUBRICAR KIT ARRASTRE | E51: =D51*19% -> 0 | F51: =D51+E51 -> 0 | H51: =G51*19% -> 0 | I51: =G51+H51 -> 0
B52: 4 | C52: SISTEMA DE SUSPENSION | D52: 0 | E52: 0 | F52: 0 | G52: 0 | H52: 0 | I52: 0
B53: 4.1 | C53: CAMBIO AMORTIGUADORES DELANTEROS | E53: =D53*19% -> 0 | F53: =D53+E53 -> 0 | H53: =G53*19% -> 0 | I53: =G53+H53 -> 0
B54: 4.2 | C54: CAMBIO AMORTIGUADORES TRASEROS | E54: =D54*19% -> 0 | F54: =D54+E54 -> 0 | H54: =G54*19% -> 0 | I54: =G54+H54 -> 0
B55: 4.3 | C55: CAMBIO CUNAS DIRECCION | E55: =D55*19% -> 0 | F55: =D55+E55 -> 0 | H55: =G55*19% -> 0 | I55: =G55+H55 -> 0
B56: 4.4 | C56: CAMBIO GUAYA VELOCIMETRO | E56: =D56*19% -> 0 | F56: =D56+E56 -> 0 | H56: =G56*19% -> 0 | I56: =G56+H56 -> 0
B57: 4.5 | C57: CAMBIO RETENEDOR TELESCOPICCOS (BARRAS) | E57: =D57*19% -> 0 | F57: =D57+E57 -> 0 | H57: =G57*19% -> 0 | I57: =G57+H57 -> 0
B58: 4.6 | C58: CAMBIO RODAMIENTOS DELANTEROS | E58: =D58*19% -> 0 | F58: =D58+E58 -> 0 | H58: =G58*19% -> 0 | I58: =G58+H58 -> 0
B59: 4.7 | C59: CAMBIO RODAMIENTOS TRASEROS | E59: =D59*19% -> 0 | F59: =D59+E59 -> 0 | H59: =G59*19% -> 0 | I59: =G59+H59 -> 0
B60: 4.8 | C60: CAMBIO TIJERA Y/ O BUJES | E60: =D60*19% -> 0 | F60: =D60+E60 -> 0 | H60: =G60*19% -> 0 | I60: =G60+H60 -> 0
B61: 4.9 | C61: ENGRASE RODAMIENTOS | E61: =D61*19% -> 0 | F61: =D61+E61 -> 0 | H61: =G61*19% -> 0 | I61: =G61+H61 -> 0
B62: 5 | C62: SISTEMA DE DIRECCION | D62: 0 | E62: 0 | F62: 0 | G62: 0 | H62: 0 | I62: 0
B63: 5.1 | C63: CAMBIAR CUNAS DIRECCION | E63: =D63*19% -> 0 | F63: =D63+E63 -> 0 | H63: =G63*19% -> 0 | I63: =G63+H63 -> 0
B64: 5.2 | C64: CAMBIO MANUBRIO | E64: =D64*19% -> 0 | F64: =D64+E64 -> 0 | H64: =G64*19% -> 0 | I64: =G64+H64 -> 0
B65: 6 | C65: SISTEMA DE FRENOS | D65: 0 | E65: 0 | F65: 0 | G65: 0 | H65: 0 | I65: 0
B66: 6.1 | C66: CAMBIO BANDAS DE FRENO | E66: =D66*19% -> 0 | F66: =D66+E66 -> 0 | H66: =G66*19% -> 0 | I66: =G66+H66 -> 0
B67: 6.2 | C67: CAMBIO PASTILLAS | E67: =D67*19% -> 0 | F67: =D67+E67 -> 0 | H67: =G67*19% -> 0 | I67: =G67+H67 -> 0
B68: 6.3 | C68: CAMBIO BOMBA FRENO | E68: =D68*19% -> 0 | F68: =D68+E68 -> 0 | H68: =G68*19% -> 0 | I68: =G68+H68 -> 0
B69: 6.4 | C69: CAMBIO DISCOS FRENO | E69: =D69*19% -> 0 | F69: =D69+E69 -> 0 | H69: =G69*19% -> 0 | I69: =G69+H69 -> 0
B70: 6.5 | C70: CAMBIO GUAYA FRENO | E70: =D70*19% -> 0 | F70: =D70+E70 -> 0 | H70: =G70*19% -> 0 | I70: =G70+H70 -> 0
B71: 6.6 | C71: CAMBIO LIQUIDO FRENOS | E71: =D71*19% -> 0 | F71: =D71+E71 -> 0 | H71: =G71*19% -> 0 | I71: =G71+H71 -> 0
B72: 6.7 | C72: CAMBIO MANGUERA FRENOS | E72: =D72*19% -> 0 | F72: =D72+E72 -> 0 | H72: =G72*19% -> 0 | I72: =G72+H72 -> 0
B73: 6.8 | C73: CAMBIO MANIJA FRENO | E73: =D73*19% -> 0 | F73: =D73+E73 -> 0 | H73: =G73*19% -> 0 | I73: =G73+H73 -> 0
B74: 6.9 | C74: CAMBIO MORDAZA | E74: =D74*19% -> 0 | F74: =D74+E74 -> 0 | H74: =G74*19% -> 0 | I74: =G74+H74 -> 0
B75: 6.10 | C75: CAMBIO PEDAL DE FRENO | E75: =D75*19% -> 0 | F75: =D75+E75 -> 0 | H75: =G75*19% -> 0 | I75: =G75+H75 -> 0
B76: 6.11 | C76: CAMBIO SENSOR PEDAL FRENO | E76: =D76*19% -> 0 | F76: =D76+E76 -> 0 | H76: =G76*19% -> 0 | I76: =G76+H76 -> 0
B77: 6.12 | C77: MANTENIMIENTO DE FRENOS | E77: =D77*19% -> 0 | F77: =D77+E77 -> 0 | H77: =G77*19% -> 0 | I77: =G77+H77 -> 0
B78: 7 | C78: SISTEMA ELÉCTRICO | D78: 0 | E78: 0 | F78: 0 | G78: 0 | H78: 0 | I78: 0
B79: 7.1 | C79: CAMBIO BOMBILLO STOP/FAROLA/DIRECCIONAL | E79: =D79*19% -> 0 | F79: =D79+E79 -> 0 | H79: =G79*19% -> 0 | I79: =G79+H79 -> 0
B80: 7.2 | C80: ARREGLO LUCES | E80: =D80*19% -> 0 | F80: =D80+E80 -> 0 | H80: =G80*19% -> 0 | I80: =G80+H80 -> 0
B81: 7.3 | C81: ARREGLO MOTOR DE ARRANQUE | E81: =D81*19% -> 0 | F81: =D81+E81 -> 0 | H81: =G81*19% -> 0 | I81: =G81+H81 -> 0
B82: 7.4 | C82: ARREGLO PLANTA DE LUCES STROBERT | E82: =D82*19% -> 0 | F82: =D82+E82 -> 0 | H82: =G82*19% -> 0 | I82: =G82+H82 -> 0
B83: 7.5 | C83: CAMBIO DIRECCIONALES | E83: =D83*19% -> 0 | F83: =D83+E83 -> 0 | H83: =G83*19% -> 0 | I83: =G83+H83 -> 0
B84: 7.6 | C84: CAMBIO FAROLA | E84: =D84*19% -> 0 | F84: =D84+E84 -> 0 | H84: =G84*19% -> 0 | I84: =G84+H84 -> 0
B85: 7.7 | C85: CAMBIO FLASER | E85: =D85*19% -> 0 | F85: =D85+E85 -> 0 | H85: =G85*19% -> 0 | I85: =G85+H85 -> 0
B86: 7.8 | C86: CAMBIO MEDIDOR GASOLINA | E86: =D86*19% -> 0 | F86: =D86+E86 -> 0 | H86: =G86*19% -> 0 | I86: =G86+H86 -> 0
B87: 7.9 | C87: CAMBIO MOTOR DE ARRANQUE | E87: =D87*19% -> 0 | F87: =D87+E87 -> 0 | H87: =G87*19% -> 0 | I87: =G87+H87 -> 0
B88: 7.10 | C88: CAMBIO PITO | E88: =D88*19% -> 0 | F88: =D88+E88 -> 0 | H88: =G88*19% -> 0 | I88: =G88+H88 -> 0
B89: 7.11 | C89: CAMBIO STOP | E89: =D89*19% -> 0 | F89: =D89+E89 -> 0 | H89: =G89*19% -> 0 | I89: =G89+H89 -> 0
B90: 7.12 | C90: CAMBIO SWICHE IGNICION | E90: =D90*19% -> 0 | F90: =D90+E90 -> 0 | H90: =G90*19% -> 0 | I90: =G90+H90 -> 0
... B92: 7.14 | C92: DESMONTAR VOLANTE Y CAMBIO BOBINAS CARGA Y/LUCES | E92: =D92*19% -> 0 | F92: =D92+E92 -> 0 | H92: =G92*19% -> 0 | I92: =G92+H92 -> 0
B93: 8 | C93: SISTEMA DE ESCAPE | D93: 0 | E93: 0 | F93: 0 | G93: 0 | H93: 0 | I93: 0
B94: 8.1 | C94: AJUSTE SISTEMA ESCAPE - EXHOSTO | E94: =D94*19% -> 0 | F94: =D94+E94 -> 0 | H94: =G94*19% -> 0 | I94: =G94+H94 -> 0
B95: 8.2 | C95: ARREGLO SISTEMA ESCAPE - EXHOSTO | E95: =D95*19% -> 0 | F95: =D95+E95 -> 0 | H95: =G95*19% -> 0 | I95: =G95+H95 -> 0
B96: 8.3 | C96: CAMBIO EMPAQUE EXHOSTO | E96: =D96*19% -> 0 | F96: =D96+E96 -> 0 | H96: =G96*19% -> 0 | I96: =G96+H96 -> 0
B97: 8.4 | C97: CAMBIO SILENCIADOR | E97: =D97*19% -> 0 | F97: =D97+E97 -> 0 | H97: =G97*19% -> 0 | I97: =G97+H97 -> 0
B98: 8.5 | C98: CAMBIO SOPORTES SISTEMA ESCAPE | E98: =D98*19% -> 0 | F98: =D98+E98 -> 0 | H98: =G98*19% -> 0 | I98: =G98+H98 -> 0
B99: 8.6 | C99: CAMBIO TUBO ESCAPE | E99: =D99*19% -> 0 | F99: =D99+E99 -> 0 | H99: =G99*19% -> 0 | I99: =G99+H99 -> 0
B100: 8.7 | C100: DESCARBONAR | E100: =D100*19% -> 0 | F100: =D100+E100 -> 0 | H100: =G100*19% -> 0 | I100: =G100+H100 -> 0
B101: 8.8 | C101: SOLDAR EXOSTO | E101: =D101*19% -> 0 | F101: =D101+E101 -> 0 | H101: =G101*19% -> 0 | I101: =G101+H101 -> 0
B102: 9 | C102: LATONERIA Y PINTURA | D102: 0 | E102: 0 | F102: 0 | G102: 0 | H102: 0 | I102: 0
B103: 9.1 | C103: ALINEACION CHASIS | E103: =D103*19% -> 0 | F103: =D103+E103 -> 0 | H103: =G103*19% -> 0 | I103: =G103+H103 -> 0
B104: 9.2 | C104: ARREGLAR TANQUE COMBUSTIBLE | E104: =D104*19% -> 0 | F104: =D104+E104 -> 0 | H104: =G104*19% -> 0 | I104: =G104+H104 -> 0
B105: 9.3 | C105: CROMAR RIN | E105: =D105*19% -> 0 | F105: =D105+E105 -> 0 | H105: =G105*19% -> 0 | I105: =G105+H105 -> 0
B106: 9.4 | C106: LAVAR TANQUE DE COMBUSTIBLE | E106: =D106*19% -> 0 | F106: =D106+E106 -> 0 | H106: =G106*19% -> 0 | I106: =G106+H106 -> 0
B107: 9.5 | C107: PINTURA CARENAJE | E107: =D107*19% -> 0 | F107: =D107+E107 -> 0 | H107: =G107*19% -> 0 | I107: =G107+H107 -> 0
B108: 9.6 | C108: PINTURA CHASIS | E108: =D108*19% -> 0 | F108: =D108+E108 -> 0 | H108: =G108*19% -> 0 | I108: =G108+H108 -> 0
B109: 9.7 | C109: PINTURA GENERAL | E109: =D109*19% -> 0 | F109: =D109+E109 -> 0 | H109: =G109*19% -> 0 | I109: =G109+H109 -> 0
...

Sheet TOTAL PORTAFOLIO
B2: TOTAL PORTAFOLIO DE SERVICIOS Y REPUESTOS
B3: MANTENIMIENTO PARQUE AUTOMOTOR
B4: LOTE No. 1 - CALI Y VALLE DEL CAUCA
C6: REPUESTOS
B7: ITEM | C7: DESCRIPCIÓN | D7: SUBTOTAL | E7: IVA | F7: VALOR PROPUESTA
B8: 1 | C8: AKT 125 NKD | D8: =F8/1.19 -> 0 | E8: =F8-D8 -> 0 | F8: =REPUESTOS!F108 -> 0
B9: 2 | C9: AKT AK125 BR - TTR | D9: =F9/1.19 -> 0 | E9: =F9-D9 -> 0 | F9: =REPUESTOS!I108 -> 0
B10: 3 | C10: BAJAJ DISCOVER 125 | D10: =F10/1.19 -> 0 | E10: =F10-D10 -> 0 | F10: =REPUESTOS!L108 -> 0
B11: 4 | C11: BAJAJ PULSAR NS 200 | D11: =F11/1.19 -> 0 | E11: =F11-D11 -> 0 | F11: =REPUESTOS!O108 -> 0
B12: 5 | C12: HONDA BIZ C100 | D12: =F12/1.19 -> 0 | E12: =F12-D12 -> 0 | F12: =REPUESTOS!R108 -> 0
B13: 6 | C13: HONDA CB 250 TWISTER | D13: =F13/1.19 -> 0 | E13: =F13-D13 -> 0 | F13: =REPUESTOS!U108 -> 0
B14: 7 | C14: HONDA CB 110 | D14: =F14/1.19 -> 0 | E14: =F14-D14 -> 0 | F14: =REPUESTOS!X108 -> 0
B15: 8 | C15: HONDA CB 125 | D15: =F15/1.19 -> 0 | E15: =F15-D15 -> 0 | F15: =REPUESTOS!AA108 -> 0
B16: 9 | C16: HONDA ECO DELUXE | D16: =F16/1.19 -> 0 | E16: =F16-D16 -> 0 | F16: =REPUESTOS!AD108 -> 0
B17: 10 | C17: HONDA ELITE | D17: =F17/1.19 -> 0 | E17: =F17-D17 -> 0 | F17: =REPUESTOS!AG108 -> 0
B18: 11 | C18: HONDA INVICTA | D18: =F18/1.19 -> 0 | E18: =F18-D18 -> 0 | F18: =REPUESTOS!AJ108 -> 0
B19: 12 | C19: HONDA NXR125 | D19: =F19/1.19 -> 0 | E19: =F19-D19 -> 0 | F19: =REPUESTOS!AM108 -> 0
B20: 13 | C20: HONDA XR 150 | D20: =F20/1.19 -> 0 | E20: =F20-D20 -> 0 | F20: =REPUESTOS!AP108 -> 0
B21: 14 | C21: HONDA XR 250 TORNADO | D21: =F21/1.19 -> 0 | E21: =F21-D21 -> 0 | F21: =REPUESTOS!AS108 -> 0
B22: 15 | C22: HONDA XR 190 | D22: =F22/1.19 -> 0 | E22: =F22-D22 -> 0 | F22: =REPUESTOS!AV108 -> 0
B23: 16 | C23: KYMCO AGILITY FUSION | D23: =F23/1.19 -> 0 | E23: =F23-D23 -> 0 | F23: =REPUESTOS!AY108 -> 0
B24: 17 | C24: SUZUKI AX4 | D24: =F24/1.19 -> 0 | E24: =F24-D24 -> 0 | F24: =REPUESTOS!BB108 -> 0
B25: 18 | C25: SUZUKI BEST 125 | D25: =F25/1.19 -> 0 | E25: =F25-D25 -> 0 | F25: =REPUESTOS!BE108 -> 0
B26: 19 | C26: SUZUKI DR 150 | D26: =F26/1.19 -> 0 | E26: =F26-D26 -> 0 | F26: =REPUESTOS!BH108 -> 0
B27: 20 | C27: SUZUKI DR 200 | D27: =F27/1.19 -> 0 | E27: =F27-D27 -> 0 | F27: =REPUESTOS!BK108 -> 0
B28: 21 | C28: SUZUKI DR 650 | D28: =F28/1.19 -> 0 | E28: =F28-D28 -> 0 | F28: =REPUESTOS!BN108 -> 0
B29: 22 | C29: SUZUKI FREEWIND XF 650 | D29: =F29/1.19 -> 0 | E29: =F29-D29 -> 0 | F29: =REPUESTOS!BQ108 -> 0
B30: 23 | C30: YAMAHA FZ16 | D30: =F30/1.19 -> 0 | E30: =F30-D30 -> 0 | F30: =REPUESTOS!BT108 -> 0
B31: 24 | C31: YAMAHA FZN250 | D31: =F31/1.19 -> 0 | E31: =F31-D31 -> 0 | F31: =REPUESTOS!BW108 -> 0
B32: 25 | C32: YAMAHA SZ15RR | D32: =F32/1.19 -> 0 | E32: =F32-D32 -> 0 | F32: =REPUESTOS!BZ108 -> 0
B33: 26 | C33: YAMAHA T115FI | D33: =F33/1.19 -> 0 | E33: =F33-D33 -> 0 | F33: =REPUESTOS!CC108 -> 0
B34: 27 | C34: YAMAHA XT 660 2012 | D34: =F34/1.19 -> 0 | E34: =F34-D34 -> 0 | F34: =REPUESTOS!CF108 -> 0
B35: 28 | C35: YAMAHA XT-225D 2007 | D35: =F35/1.19 -> 0 | E35: =F35-D35 -> 0 | F35: =REPUESTOS!CI108 -> 0
B36: 29 | C36: YAMAHA XTZ 125 | D36: =F36/1.19 -> 0 | E36: =F36-D36 -> 0 | F36: =REPUESTOS!CL108 -> 0
B37: 30 | C37: YAMAHA XTZ 150 | D37: =F37/1.19 -> 0 | E37: =F37-D37 -> 0 | F37: =REPUESTOS!CO108 -> 0
B38: 31 | C38: YAMAHA XTZ 250 | D38: =F38/1.19 -> 0 | E38: =F38-D38 -> 0 | F38: =REPUESTOS!CR108 -> 0
B39: 32 | C39: YAMAHA YBR-125ED | D39: =F39/1.19 -> 0 | E39: =F39-D39 -> 0 | F39: =REPUESTOS!CU108 -> 0
B40: 33 | C40: YAMAHA YW-125 | D40: =F40/1.19 -> 0 | E40: =F40-D40 -> 0 | F40: =REPUESTOS!CX108 -> 0
B41: TOTAL PORTAFOLIO - REPUESTOS | D41: =SUM(D8:D40) -> 0 | E41: =SUM(E8:E40) -> 0 | F41: =SUM(F8:F40) -> 0
C43: REPUESTOS COMUNES
B44: ITEM | C44: DESCRIPCIÓN | D44: SUBTOTAL | E44: IVA | F44: VALOR PROPUESTA
B45: 1 | C45: REPUESTOS COMUNES | D45: =F45/1.19 -> 0 | E45: =F45-D45 -> 0 | F45: ='REPUESTOS COMUNES'!G29 -> 0
B46: TOTAL PORTAFOLIO - REPUESTOS COMUNES | D46: =D45 -> 0 | E46: =E45 -> 0 | F46: =F45 -> 0
C48: MANO DE OBRA
B49: ITEM | C49: DESCRIPCIÓN | D49: SUBTOTAL | E49: IVA | F49: VALOR PROPUESTA
B50: 1 | C50: CILINDRAJE HASTA 249 CC | D50: =F50/1.19 -> 0 | E50: =F50-D50 -> 0 | F50: ='MANO DE OBRA'!F121 -> 0
B51: 2 | C51: CILINDRAJE IGUAL O SUPERIOR A 250 CC | D51: =F51/1.19 -> 0 | E51: =F51-D51 -> 0 | F51: ='MANO DE OBRA'!I121 -> 0
B52: TOTAL PORTAFOLIO - MANO DE OBRA | D52: =SUM(D50:D51) -> 0 | E52: =SUM(E50:E51) -> 0 | F52: =SUM(F50:F51) -> 0
C54: VALOR TOTAL DEL PORTAFOLIO MANTENIMIENTO MOTOCICLETAS MULTIMARCA | F54: =F41+F46+F52 -> 0
