Workbook

Sheet DATOS DEL PROPONENTE
D3: DD | E3: MM | F3: AA
B4: Santiago de Cali,
B9: Señores:
B10: SUBDIRECCIÓN REGIONAL DE APOYO DEL PACIFICO
B11: FISCALÍA GENERAL DE LA NACIÓN
B12: Cra. 10 # 12 - 10, Edificio Nueva Sede, Codigo. Postal 760044
B13: Cali - Valle del Cauca
B17: ASUNTO: ANEXO - OFERTA ECONÓMICA
B23: Respetados doctores,
B27: De manera antenta y cordial me permito entregar la propuesta economica de acuerdo al ANEXO - OFERTA ECONÓMICA para el LOTE No. 3 - NARIÑO cuyo objeto es: "Prestar el servicio de mantenimiento preventivo y correctivo integral a todo costo (incluidos repuestos, mano de obra y accesorios originales u homologados) de las motocicletas que se encuentran al servicio de la Fiscalía General de la Nación en las Seccionales Cali, Cauca, Nariño y Valle del Cauca."
B33: Cordialmente
B40: Firma

Sheet REPUESTOS
B2: OFERTA ECONÓMICA LOTE No. 3 - NARIÑO | D2: RESPUESTOS MOTOCICLETAS MULTIMARCAS | S2: RESPUESTOS MOTOCICLETAS MULTIMARCAS | AH2: RESPUESTOS MOTOCICLETAS MULTIMARCAS | AW2: RESPUESTOS MOTOCICLETAS MULTIMARCAS
D3: MANTENIMIENTO MOTOCICLETAS | S3: MANTENIMIENTO MOTOCICLETAS | AH3: MANTENIMIENTO MOTOCICLETAS | AW3: MANTENIMIENTO MOTOCICLETAS
D4: *** Incluye Costos Directos e Indirectos | S4: *** Incluye Costos Directos e Indirectos | AH4: *** Incluye Costos Directos e Indirectos | AW4: *** Incluye Costos Directos e Indirectos
B6: DESCRIPCION | D6: AKT AKT180 | G6: AUTECO BAJAJ PLATINO | J6: BAJAJ PULSAR 200 | M6: HONDA CB 110 | P6: HONDA CB 150 | S6: HONDA ECODELUX | V6: HONDA ELITE | Y6: HONDA XR125 | AB6: KEEWAY RKS150 | AE6: SUZUKI DR200 | AH6: SUZUKI GS-125 | AK6: YAMAHA FZ15N | AN6: YAMAHA SZ16R | AQ6: YAMAHA T115 | AT6: YAMAHA XTZ 125 | AW6: YAMAHA XTZ 225D | AZ6: YAMAHA XTZ 250
D7: SUBTOTAL | E7: IVA | F7: TOTAL | G7: SUBTOTAL | H7: IVA | I7: TOTAL | J7: SUBTOTAL | K7: IVA | L7: TOTAL | M7: SUBTOTAL | N7: IVA | O7: TOTAL | P7: SUBTOTAL | Q7: IVA | R7: TOTAL | S7: SUBTOTAL | T7: IVA | U7: TOTAL | V7: SUBTOTAL | W7: IVA | X7: TOTAL | Y7: SUBTOTAL | Z7: IVA | AA7: TOTAL | AB7: SUBTOTAL | AC7: IVA | AD7: TOTAL | AE7: SUBTOTAL | AF7: IVA | AG7: TOTAL | AH7: SUBTOTAL | AI7: IVA | AJ7: TOTAL | AK7: SUBTOTAL | AL7: IVA | AM7: TOTAL | AN7: SUBTOTAL | AO7: IVA | AP7: TOTAL | AQ7: SUBTOTAL | AR7: IVA | AS7: TOTAL | AT7: SUBTOTAL | AU7: IVA | AV7: TOTAL | AW7: SUBTOTAL | AX7: IVA | AY7: TOTAL | AZ7: SUBTOTAL | BA7: IVA | BB7: TOTAL
B8: 1 | C8: SINCRONIZACION
B9: 1.1 | C9: AGUJA BASE Y PUNSON | E9: =D9*19% -> 0 | F9: =D9+E9 -> 0 | H9: =G9*19% -> 0 | I9: =G9+H9 -> 0 | K9: =J9*19% -> 0 | L9: =J9+K9 -> 0 | N9: =M9*19% -> 0 | O9: =M9+N9 -> 0 | Q9: =P9*19% -> 0 | R9: =P9+Q9 -> 0 | T9: =S9*19% -> 0 | U9: =S9+T9 -> 0 | W9: =V9*19% -> 0 | X9: =V9+W9 -> 0 | Z9: =Y9*19% -> 0 | AA9: =Y9+Z9 -> 0 | AC9: =AB9*19% -> 0 | AD9: =AB9+AC9 -> 0 | AF9: =AE9*19% -> 0 | AG9: =AE9+AF9 -> 0 | AI9: =AH9*19% -> 0 | AJ9: =AH9+AI9 -> 0 | AL9: =AK9*19% -> 0 | AM9: =AK9+AL9 -> 0 | AO9: =AN9*19% -> 0 | AP9: =AN9+AO9 -> 0 | AR9: =AQ9*19% -> 0 | AS9: =AQ9+AR9 -> 0 | AU9: =AT9*19% -> 0 | AV9: =AT9+AU9 -> 0 | AX9: =AW9*19% -> 0 | AY9: =AW9+AX9 -> 0 | BA9: =AZ9*19% -> 0 | BB9: =AZ9+BA9 -> 0
B10: 1.2 | C10: BUJIA | E10: =D10*19% -> 0 | F10: =D10+E10 -> 0 | H10: =G10*19% -> 0 | I10: =G10+H10 -> 0 | K10: =J10*19% -> 0 | L10: =J10+K10 -> 0 | N10: =M10*19% -> 0 | O10: =M10+N10 -> 0 | Q10: =P10*19% -> 0 | R10: =P10+Q10 -> 0 | T10: =S10*19% -> 0 | U10: =S10+T10 -> 0 | W10: =V10*19% -> 0 | X10: =V10+W10 -> 0 | Z10: =Y10*19% -> 0 | AA10: =Y10+Z10 -> 0 | AC10: =AB10*19% -> 0 | AD10: =AB10+AC10 -> 0 | AF10: =AE10*19% -> 0 | AG10: =AE10+AF10 -> 0 | AI10: =AH10*19% -> 0 | AJ10: =AH10+AI10 -> 0 | AL10: =AK10*19% -> 0 | AM10: =AK10+AL10 -> 0 | AO10: =AN10*19% -> 0 | AP10: =AN10+AO10 -> 0 | AR10: =AQ10*19% -> 0 | AS10: =AQ10+AR10 -> 0 | AU10: =AT10*19% -> 0 | AV10: =AT10+AU10 -> 0 | AX10: =AW10*19% -> 0 | AY10: =AW10+AX10 -> 0 | BA10: =AZ10*19% -> 0 | BB10: =AZ10+BA10 -> 0
B11: 1.3 | C11: CARBURADOR | E11: =D11*19% -> 0 | F11: =D11+E11 -> 0 | H11: =G11*19% -> 0 | I11: =G11+H11 -> 0 | K11: =J11*19% -> 0 | L11: =J11+K11 -> 0 | N11: =M11*19% -> 0 | O11: =M11+N11 -> 0 | Q11: =P11*19% -> 0 | R11: =P11+Q11 -> 0 | T11: =S11*19% -> 0 | U11: =S11+T11 -> 0 | W11: =V11*19% -> 0 | X11: =V11+W11 -> 0 | Z11: =Y11*19% -> 0 | AA11: =Y11+Z11 -> 0 | AC11: =AB11*19% -> 0 | AD11: =AB11+AC11 -> 0 | AF11: =AE11*19% -> 0 | AG11: =AE11+AF11 -> 0 | AI11: =AH11*19% -> 0 | AJ11: =AH11+AI11 -> 0 | AL11: =AK11*19% -> 0 | AM11: =AK11+AL11 -> 0 | AO11: =AN11*19% -> 0 | AP11: =AN11+AO11 -> 0 | AR11: =AQ11*19% -> 0 | AS11: =AQ11+AR11 -> 0 | AU11: =AT11*19% -> 0 | AV11: =AT11+AU11 -> 0 | AX11: =AW11*19% -> 0 | AY11: =AW11+AX11 -> 0 | BA11: =AZ11*19% -> 0 | BB11: =AZ11+BA11 -> 0
B12: 1.4 | C12: EMPAQUES CARBURADOR | E12: =D12*19% -> 0 | F12: =D12+E12 -> 0 | H12: =G12*19% -> 0 | I12: =G12+H12 -> 0 | K12: =J12*19% -> 0 | L12: =J12+K12 -> 0 | N12: =M12*19% -> 0 | O12: =M12+N12 -> 0 | Q12: =P12*19% -> 0 | R12: =P12+Q12 -> 0 | T12: =S12*19% -> 0 | U12: =S12+T12 -> 0 | W12: =V12*19% -> 0 | X12: =V12+W12 -> 0 | Z12: =Y12*19% -> 0 | AA12: =Y12+Z12 -> 0 | AC12: =AB12*19% -> 0 | AD12: =AB12+AC12 -> 0 | AF12: =AE12*19% -> 0 | AG12: =AE12+AF12 -> 0 | AI12: =AH12*19% -> 0 | AJ12: =AH12+AI12 -> 0 | AL12: =AK12*19% -> 0 | AM12: =AK12+AL12 -> 0 | AO12: =AN12*19% -> 0 | AP12: =AN12+AO12 -> 0 | AR12: =AQ12*19% -> 0 | AS12: =AQ12+AR12 -> 0 | AU12: =AT12*19% -> 0 | AV12: =AT12+AU12 -> 0 | AX12: =AW12*19% -> 0 | AY12: =AW12+AX12 -> 0 | BA12: =AZ12*19% -> 0 | BB12: =AZ12+BA12 -> 0
B13: 1.5 | C13: FILTRO COMBUSTIBLE | E13: =D13*19% -> 0 | F13: =D13+E13 -> 0 | H13: =G13*19% -> 0 | I13: =G13+H13 -> 0 | K13: =J13*19% -> 0 | L13: =J13+K13 -> 0 | N13: =M13*19% -> 0 | O13: =M13+N13 -> 0 | Q13: =P13*19% -> 0 | R13: =P13+Q13 -> 0 | T13: =S13*19% -> 0 | U13: =S13+T13 -> 0 | W13: =V13*19% -> 0 | X13: =V13+W13 -> 0 | Z13: =Y13*19% -> 0 | AA13: =Y13+Z13 -> 0 | AC13: =AB13*19% -> 0 | AD13: =AB13+AC13 -> 0 | AF13: =AE13*19% -> 0 | AG13: =AE13+AF13 -> 0 | AI13: =AH13*19% -> 0 | AJ13: =AH13+AI13 -> 0 | AL13: =AK13*19% -> 0 | AM13: =AK13+AL13 -> 0 | AO13: =AN13*19% -> 0 | AP13: =AN13+AO13 -> 0 | AR13: =AQ13*19% -> 0 | AS13: =AQ13+AR13 -> 0 | AU13: =AT13*19% -> 0 | AV13: =AT13+AU13 -> 0 | AX13: =AW13*19% -> 0 | AY13: =AW13+AX13 -> 0 | BA13: =AZ13*19% -> 0 | BB13: =AZ13+BA13 -> 0
B14: 1.6 | C14: FILTRO DE AIRE | E14: =D14*19% -> 0 | F14: =D14+E14 -> 0 | H14: =G14*19% -> 0 | I14: =G14+H14 -> 0 | K14: =J14*19% -> 0 | L14: =J14+K14 -> 0 | N14: =M14*19% -> 0 | O14: =M14+N14 -> 0 | Q14: =P14*19% -> 0 | R14: =P14+Q14 -> 0 | T14: =S14*19% -> 0 | U14: =S14+T14 -> 0 | W14: =V14*19% -> 0 | X14: =V14+W14 -> 0 | Z14: =Y14*19% -> 0 | AA14: =Y14+Z14 -> 0 | AC14: =AB14*19% -> 0 | AD14: =AB14+AC14 -> 0 | AF14: =AE14*19% -> 0 | AG14: =AE14+AF14 -> 0 | AI14: =AH14*19% -> 0 | AJ14: =AH14+AI14 -> 0 | AL14: =AK14*19% -> 0 | AM14: =AK14+AL14 -> 0 | AO14: =AN14*19% -> 0 | AP14: =AN14+AO14 -> 0 | AR14: =AQ14*19% -> 0 | AS14: =AQ14+AR14 -> 0 | AU14: =AT14*19% -> 0 | AV14: =AT14+AU14 -> 0 | AX14: =AW14*19% -> 0 | AY14: =AW14+AX14 -> 0 | BA14: =AZ14*19% -> 0 | BB14: =AZ14+BA14 -> 0
B15: 1.7 | C15: GUAYA ACELERADOR | E15: =D15*19% -> 0 | F15: =D15+E15 -> 0 | H15: =G15*19% -> 0 | I15: =G15+H15 -> 0 | K15: =J15*19% -> 0 | L15: =J15+K15 -> 0 | N15: =M15*19% -> 0 | O15: =M15+N15 -> 0 | Q15: =P15*19% -> 0 | R15: =P15+Q15 -> 0 | T15: =S15*19% -> 0 | U15: =S15+T15 -> 0 | W15: =V15*19% -> 0 | X15: =V15+W15 -> 0 | Z15: =Y15*19% -> 0 | AA15: =Y15+Z15 -> 0 | AC15: =AB15*19% -> 0 | AD15: =AB15+AC15 -> 0 | AF15: =AE15*19% -> 0 | AG15: =AE15+AF15 -> 0 | AI15: =AH15*19% -> 0 | AJ15: =AH15+AI15 -> 0 | AL15: =AK15*19% -> 0 | AM15: =AK15+AL15 -> 0 | AO15: =AN15*19% -> 0 | AP15: =AN15+AO15 -> 0 | AR15: =AQ15*19% -> 0 | AS15: =AQ15+AR15 -> 0 | AU15: =AT15*19% -> 0 | AV15: =AT15+AU15 -> 0 | AX15: =AW15*19% -> 0 | AY15: =AW15+AX15 -> 0 | BA15: =AZ15*19% -> 0 | BB15: =AZ15+BA15 -> 0
B16: 1.8 | C16: GUAYA CHOQUE | E16: =D16*19% -> 0 | F16: =D16+E16 -> 0 | H16: =G16*19% -> 0 | I16: =G16+H16 -> 0 | K16: =J16*19% -> 0 | L16: =J16+K16 -> 0 | N16: =M16*19% -> 0 | O16: =M16+N16 -> 0 | Q16: =P16*19% -> 0 | R16: =P16+Q16 -> 0 | T16: =S16*19% -> 0 | U16: =S16+T16 -> 0 | W16: =V16*19% -> 0 | X16: =V16+W16 -> 0 | Z16: =Y16*19% -> 0 | AA16: =Y16+Z16 -> 0 | AC16: =AB16*19% -> 0 | AD16: =AB16+AC16 -> 0 | AF16: =AE16*19% -> 0 | AG16: =AE16+AF16 -> 0 | AI16: =AH16*19% -> 0 | AJ16: =AH16+AI16 -> 0 | AL16: =AK16*19% -> 0 | AM16: =AK16+AL16 -> 0 | AO16: =AN16*19% -> 0 | AP16: =AN16+AO16 -> 0 | AR16: =AQ16*19% -> 0 | AS16: =AQ16+AR16 -> 0 | AU16: =AT16*19% -> 0 | AV16: =AT16+AU16 -> 0 | AX16: =AW16*19% -> 0 | AY16: =AW16+AX16 -> 0 | BA16: =AZ16*19% -> 0 | BB16: =AZ16+BA16 -> 0
B17: 1.9 | C17: KIT CARBURADOR | E17: =D17*19% -> 0 | F17: =D17+E17 -> 0 | H17: =G17*19% -> 0 | I17: =G17+H17 -> 0 | K17: =J17*19% -> 0 | L17: =J17+K17 -> 0 | N17: =M17*19% -> 0 | O17: =M17+N17 -> 0 | Q17: =P17*19% -> 0 | R17: =P17+Q17 -> 0 | T17: =S17*19% -> 0 | U17: =S17+T17 -> 0 | W17: =V17*19% -> 0 | X17: =V17+W17 -> 0 | Z17: =Y17*19% -> 0 | AA17: =Y17+Z17 -> 0 | AC17: =AB17*19% -> 0 | AD17: =AB17+AC17 -> 0 | AF17: =AE17*19% -> 0 | AG17: =AE17+AF17 -> 0 | AI17: =AH17*19% -> 0 | AJ17: =AH17+AI17 -> 0 | AL17: =AK17*19% -> 0 | AM17: =AK17+AL17 -> 0 | AO17: =AN17*19% -> 0 | AP17: =AN17+AO17 -> 0 | AR17: =AQ17*19% -> 0 | AS17: =AQ17+AR17 -> 0 | AU17: =AT17*19% -> 0 | AV17: =AT17+AU17 -> 0 | AX17: =AW17*19% -> 0 | AY17: =AW17+AX17 -> 0 | BA17: =AZ17*19% -> 0 | BB17: =AZ17+BA17 -> 0
B18: 1.10 | C18: LLAVE PASO COMBUSTIBLE | E18: =D18*19% -> 0 | F18: =D18+E18 -> 0 | H18: =G18*19% -> 0 | I18: =G18+H18 -> 0 | K18: =J18*19% -> 0 | L18: =J18+K18 -> 0 | N18: =M18*19% -> 0 | O18: =M18+N18 -> 0 | Q18: =P18*19% -> 0 | R18: =P18+Q18 -> 0 | T18: =S18*19% -> 0 | U18: =S18+T18 -> 0 | W18: =V18*19% -> 0 | X18: =V18+W18 -> 0 | Z18: =Y18*19% -> 0 | AA18: =Y18+Z18 -> 0 | AC18: =AB18*19% -> 0 | AD18: =AB18+AC18 -> 0 | AF18: =AE18*19% -> 0 | AG18: =AE18+AF18 -> 0 | AI18: =AH18*19% -> 0 | AJ18: =AH18+AI18 -> 0 | AL18: =AK18*19% -> 0 | AM18: =AK18+AL18 -> 0 | AO18: =AN18*19% -> 0 | AP18: =AN18+AO18 -> 0 | AR18: =AQ18*19% -> 0 | AS18: =AQ18+AR18 -> 0 | AU18: =AT18*19% -> 0 | AV18: =AT18+AU18 -> 0 | AX18: =AW18*19% -> 0 | AY18: =AW18+AX18 -> 0 | BA18: =AZ18*19% -> 0 | BB18: =AZ18+BA18 -> 0
B19: 2 | C19: MOTOR | D19: 0 | E19: 0 | F19: 0 | G19: 0 | H19: 0 | I19: 0 | J19: 0 | K19: 0 | L19: 0 | M19: 0 | N19: 0 | O19: 0 | P19: 0 | Q19: 0 | R19: 0 | S19: 0 | T19: 0 | U19: 0 | V19: 0 | W19: 0 | X19: 0 | Y19: 0 | Z19: 0 | AA19: 0 | AB19: 0 | AC19: 0 | AD19: 0 | AE19: 0 | AF19: 0 | AG19: 0 | AH19: 0 | AI19: 0 | AJ19: 0 | AK19: 0 | AL19: 0 | AM19: 0 | AN19: 0 | AO19: 0 | AP19: 0 | AQ19: 0 | AR19: 0 | AS19: 0 | AT19: 0 | AU19: 0 | AV19: 0 | AW19: 0 | AX19: 0 | AY19: 0 | AZ19: 0 | BA19: 0 | BB19: 0
B20: 2.1 | C20: BALANCIN | E20: =D20*19% -> 0 | F20: =D20+E20 -> 0 | H20: =G20*19% -> 0 | I20: =G20+H20 -> 0 | K20: =J20*19% -> 0 | L20: =J20+K20 -> 0 | N20: =M20*19% -> 0 | O20: =M20+N20 -> 0 | Q20: =P20*19% -> 0 | R20: =P20+Q20 -> 0 | T20: =S20*19% -> 0 | U20: =S20+T20 -> 0 | W20: =V20*19% -> 0 | X20: =V20+W20 -> 0 | Z20: =Y20*19% -> 0 | AA20: =Y20+Z20 -> 0 | AC20: =AB20*19% -> 0 | AD20: =AB20+AC20 -> 0 | AF20: =AE20*19% -> 0 | AG20: =AE20+AF20 -> 0 | AI20: =AH20*19% -> 0 | AJ20: =AH20+AI20 -> 0 | AL20: =AK20*19% -> 0 | AM20: =AK20+AL20 -> 0 | AO20: =AN20*19% -> 0 | AP20: =AN20+AO20 -> 0 | AR20: =AQ20*19% -> 0 | AS20: =AQ20+AR20 -> 0 | AU20: =AT20*19% -> 0 | AV20: =AT20+AU20 -> 0 | AX20: =AW20*19% -> 0 | AY20: =AW20+AX20 -> 0 | BA20: =AZ20*19% -> 0 | BB20: =AZ20+BA20 -> 0
B21: 2.2 | C21: BIELA MOTOR | E21: =D21*19% -> 0 | F21: =D21+E21 -> 0 | H21: =G21*19% -> 0 | I21: =G21+H21 -> 0 | K21: =J21*19% -> 0 | L21: =J21+K21 -> 0 | N21: =M21*19% -> 0 | O21: =M21+N21 -> 0 | Q21: =P21*19% -> 0 | R21: =P21+Q21 -> 0 | T21: =S21*19% -> 0 | U21: =S21+T21 -> 0 | W21: =V21*19% -> 0 | X21: =V21+W21 -> 0 | Z21: =Y21*19% -> 0 | AA21: =Y21+Z21 -> 0 | AC21: =AB21*19% -> 0 | AD21: =AB21+AC21 -> 0 | AF21: =AE21*19% -> 0 | AG21: =AE21+AF21 -> 0 | AI21: =AH21*19% -> 0 | AJ21: =AH21+AI21 -> 0 | AL21: =AK21*19% -> 0 | AM21: =AK21+AL21 -> 0 | AO21: =AN21*19% -> 0 | AP21: =AN21+AO21 -> 0 | AR21: =AQ21*19% -> 0 | AS21: =AQ21+AR21 -> 0 | AU21: =AT21*19% -> 0 | AV21: =AT21+AU21 -> 0 | AX21: =AW21*19% -> 0 | AY21: =AW21+AX21 -> 0 | BA21: =AZ21*19% -> 0 | BB21: =AZ21+BA21 -> 0
B22: 2.3 | C22: BOMBA DE ACEITE | E22: =D22*19% -> 0 | F22: =D22+E22 -> 0 | H22: =G22*19% -> 0 | I22: =G22+H22 -> 0 | K22: =J22*19% -> 0 | L22: =J22+K22 -> 0 | N22: =M22*19% -> 0 | O22: =M22+N22 -> 0 | Q22: =P22*19% -> 0 | R22: =P22+Q22 -> 0 | T22: =S22*19% -> 0 | U22: =S22+T22 -> 0 | W22: =V22*19% -> 0 | X22: =V22+W22 -> 0 | Z22: =Y22*19% -> 0 | AA22: =Y22+Z22 -> 0 | AC22: =AB22*19% -> 0 | AD22: =AB22+AC22 -> 0 | AF22: =AE22*19% -> 0 | AG22: =AE22+AF22 -> 0 | AI22: =AH22*19% -> 0 | AJ22: =AH22+AI22 -> 0 | AL22: =AK22*19% -> 0 | AM22: =AK22+AL22 -> 0 | AO22: =AN22*19% -> 0 | AP22: =AN22+AO22 -> 0 | AR22: =AQ22*19% -> 0 | AS22: =AQ22+AR22 -> 0 | AU22: =AT22*19% -> 0 | AV22: =AT22+AU22 -> 0 | AX22: =AW22*19% -> 0 | AY22: =AW22+AX22 -> 0 | BA22: =AZ22*19% -> 0 | BB22: =AZ22+BA22 -> 0
B23: 2.4 | C23: CADENILLA MOTOR | E23: =D23*19% -> 0 | F23: =D23+E23 -> 0 | H23: =G23*19% -> 0 | I23: =G23+H23 -> 0 | K23: =J23*19% -> 0 | L23: =J23+K23 -> 0 | N23: =M23*19% -> 0 | O23: =M23+N23 -> 0 | Q23: =P23*19% -> 0 | R23: =P23+Q23 -> 0 | T23: =S23*19% -> 0 | U23: =S23+T23 -> 0 | W23: =V23*19% -> 0 | X23: =V23+W23 -> 0 | Z23: =Y23*19% -> 0 | AA23: =Y23+Z23 -> 0 | AC23: =AB23*19% -> 0 | AD23: =AB23+AC23 -> 0 | AF23: =AE23*19% -> 0 | AG23: =AE23+AF23 -> 0 | AI23: =AH23*19% -> 0 | AJ23: =AH23+AI23 -> 0 | AL23: =AK23*19% -> 0 | AM23: =AK23+AL23 -> 0 | AO23: =AN23*19% -> 0 | AP23: =AN23+AO23 -> 0 | AR23: =AQ23*19% -> 0 | AS23: =AQ23+AR23 -> 0 | AU23: =AT23*19% -> 0 | AV23: =AT23+AU23 -> 0 | AX23: =AW23*19% -> 0 | AY23: =AW23+AX23 -> 0 | BA23: =AZ23*19% -> 0 | BB23: =AZ23+BA23 -> 0
B24: 2.5 | C24: CIGÜEÑAL | E24: =D24*19% -> 0 | F24: =D24+E24 -> 0 | H24: =G24*19% -> 0 | I24: =G24+H24 -> 0 | K24: =J24*19% -> 0 | L24: =J24+K24 -> 0 | N24: =M24*19% -> 0 | O24: =M24+N24 -> 0 | Q24: =P24*19% -> 0 | R24: =P24+Q24 -> 0 | T24: =S24*19% -> 0 | U24: =S24+T24 -> 0 | W24: =V24*19% -> 0 | X24: =V24+W24 -> 0 | Z24: =Y24*19% -> 0 | AA24: =Y24+Z24 -> 0 | AC24: =AB24*19% -> 0 | AD24: =AB24+AC24 -> 0 | AF24: =AE24*19% -> 0 | AG24: =AE24+AF24 -> 0 | AI24: =AH24*19% -> 0 | AJ24: =AH24+AI24 -> 0 | AL24: =AK24*19% -> 0 | AM24: =AK24+AL24 -> 0 | AO24: =AN24*19% -> 0 | AP24: =AN24+AO24 -> 0 | AR24: =AQ24*19% -> 0 | AS24: =AQ24+AR24 -> 0 | AU24: =AT24*19% -> 0 | AV24: =AT24+AU24 -> 0 | AX24: =AW24*19% -> 0 | AY24: =AW24+AX24 -> 0 | BA24: =AZ24*19% -> 0 | BB24: =AZ24+BA24 -> 0
B25: 2.6 | C25: CILINDRO MOTOR | E25: =D25*19% -> 0 | F25: =D25+E25 -> 0 | H25: =G25*19% -> 0 | I25: =G25+H25 -> 0 | K25: =J25*19% -> 0 | L25: =J25+K25 -> 0 | N25: =M25*19% -> 0 | O25: =M25+N25 -> 0 | Q25: =P25*19% -> 0 | R25: =P25+Q25 -> 0 | T25: =S25*19% -> 0 | U25: =S25+T25 -> 0 | W25: =V25*19% -> 0 | X25: =V25+W25 -> 0 | Z25: =Y25*19% -> 0 | AA25: =Y25+Z25 -> 0 | AC25: =AB25*19% -> 0 | AD25: =AB25+AC25 -> 0 | AF25: =AE25*19% -> 0 | AG25: =AE25+AF25 -> 0 | AI25: =AH25*19% -> 0 | AJ25: =AH25+AI25 -> 0 | AL25: =AK25*19% -> 0 | AM25: =AK25+AL25 -> 0 | AO25: =AN25*19% -> 0 | AP25: =AN25+AO25 -> 0 | AR25: =AQ25*19% -> 0 | AS25: =AQ25+AR25 -> 0 | AU25: =AT25*19% -> 0 | AV25: =AT25+AU25 -> 0 | AX25: =AW25*19% -> 0 | AY25: =AW25+AX25 -> 0 | BA25: =AZ25*19% -> 0 | BB25: =AZ25+BA25 -> 0
B26: 2.7 | C26: CULATA | E26: =D26*19% -> 0 | F26: =D26+E26 -> 0 | H26: =G26*19% -> 0 | I26: =G26+H26 -> 0 | K26: =J26*19% -> 0 | L26: =J26+K26 -> 0 | N26: =M26*19% -> 0 | O26: =M26+N26 -> 0 | Q26: =P26*19% -> 0 | R26: =P26+Q26 -> 0 | T26: =S26*19% -> 0 | U26: =S26+T26 -> 0 | W26: =V26*19% -> 0 | X26: =V26+W26 -> 0 | Z26: =Y26*19% -> 0 | AA26: =Y26+Z26 -> 0 | AC26: =AB26*19% -> 0 | AD26: =AB26+AC26 -> 0 | AF26: =AE26*19% -> 0 | AG26: =AE26+AF26 -> 0 | AI26: =AH26*19% -> 0 | AJ26: =AH26+AI26 -> 0 | AL26: =AK26*19% -> 0 | AM26: =AK26+AL26 -> 0 | AO26: =AN26*19% -> 0 | AP26: =AN26+AO26 -> 0 | AR26: =AQ26*19% -> 0 | AS26: =AQ26+AR26 -> 0 | AU26: =AT26*19% -> 0 | AV26: =AT26+AU26 -> 0 | AX26: =AW26*19% -> 0 | AY26: =AW26+AX26 -> 0 | BA26: =AZ26*19% -> 0 | BB26: =AZ26+BA26 -> 0
B27: 2.8 | C27: CULATIN | E27: =D27*19% -> 0 | F27: =D27+E27 -> 0 | H27: =G27*19% -> 0 | I27: =G27+H27 -> 0 | K27: =J27*19% -> 0 | L27: =J27+K27 -> 0 | N27: =M27*19% -> 0 | O27: =M27+N27 -> 0 | Q27: =P27*19% -> 0 | R27: =P27+Q27 -> 0 | T27: =S27*19% -> 0 | U27: =S27+T27 -> 0 | W27: =V27*19% -> 0 | X27: =V27+W27 -> 0 | Z27: =Y27*19% -> 0 | AA27: =Y27+Z27 -> 0 | AC27: =AB27*19% -> 0 | AD27: =AB27+AC27 -> 0 | AF27: =AE27*19% -> 0 | AG27: =AE27+AF27 -> 0 | AI27: =AH27*19% -> 0 | AJ27: =AH27+AI27 -> 0 | AL27: =AK27*19% -> 0 | AM27: =AK27+AL27 -> 0 | AO27: =AN27*19% -> 0 | AP27: =AN27+AO27 -> 0 | AR27: =AQ27*19% -> 0 | AS27: =AQ27+AR27 -> 0 | AU27: =AT27*19% -> 0 | AV27: =AT27+AU27 -> 0 | AX27: =AW27*19% -> 0 | AY27: =AW27+AX27 -> 0 | BA27: =AZ27*19% -> 0 | BB27: =AZ27+BA27 -> 0
B28: 2.9 | C28: EJE DE LEVAS | E28: =D28*19% -> 0 | F28: =D28+E28 -> 0 | H28: =G28*19% -> 0 | I28: =G28+H28 -> 0 | K28: =J28*19% -> 0 | L28: =J28+K28 -> 0 | N28: =M28*19% -> 0 | O28: =M28+N28 -> 0 | Q28: =P28*19% -> 0 | R28: =P28+Q28 -> 0 | T28: =S28*19% -> 0 | U28: =S28+T28 -> 0 | W28: =V28*19% -> 0 | X28: =V28+W28 -> 0 | Z28: =Y28*19% -> 0 | AA28: =Y28+Z28 -> 0 | AC28: =AB28*19% -> 0 | AD28: =AB28+AC28 -> 0 | AF28: =AE28*19% -> 0 | AG28: =AE28+AF28 -> 0 | AI28: =AH28*19% -> 0 | AJ28: =AH28+AI28 -> 0 | AL28: =AK28*19% -> 0 | AM28: =AK28+AL28 -> 0 | AO28: =AN28*19% -> 0 | AP28: =AN28+AO28 -> 0 | AR28: =AQ28*19% -> 0 | AS28: =AQ28+AR28 -> 0 | AU28: =AT28*19% -> 0 | AV28: =AT28+AU28 -> 0 | AX28: =AW28*19% -> 0 | AY28: =AW28+AX28 -> 0 | BA28: =AZ28*19% -> 0 | BB28: =AZ28+BA28 -> 0
B29: 2.10 | C29: EMPAQUE DE CULATA | E29: =D29*19% -> 0 | F29: =D29+E29 -> 0 | H29: =G29*19% -> 0 | I29: =G29+H29 -> 0 | K29: =J29*19% -> 0 | L29: =J29+K29 -> 0 | N29: =M29*19% -> 0 | O29: =M29+N29 -> 0 | Q29: =P29*19% -> 0 | R29: =P29+Q29 -> 0 | T29: =S29*19% -> 0 | U29: =S29+T29 -> 0 | W29: =V29*19% -> 0 | X29: =V29+W29 -> 0 | Z29: =Y29*19% -> 0 | AA29: =Y29+Z29 -> 0 | AC29: =AB29*19% -> 0 | AD29: =AB29+AC29 -> 0 | AF29: =AE29*19% -> 0 | AG29: =AE29+AF29 -> 0 | AI29: =AH29*19% -> 0 | AJ29: =AH29+AI29 -> 0 | AL29: =AK29*19% -> 0 | AM29: =AK29+AL29 -> 0 | AO29: =AN29*19% -> 0 | AP29: =AN29+AO29 -> 0 | AR29: =AQ29*19% -> 0 | AS29: =AQ29+AR29 -> 0 | AU29: =AT29*19% -> 0 | AV29: =AT29+AU29 -> 0 | AX29: =AW29*19% -> 0 | AY29: =AW29+AX29 -> 0 | BA29: =AZ29*19% -> 0 | BB29: =AZ29+BA29 -> 0
B30: 2.11 | C30: EMPAQUETADURA MOTOR | E30: =D30*19% -> 0 | F30: =D30+E30 -> 0 | H30: =G30*19% -> 0 | I30: =G30+H30 -> 0 | K30: =J30*19% -> 0 | L30: =J30+K30 -> 0 | N30: =M30*19% -> 0 | O30: =M30+N30 -> 0 | Q30: =P30*19% -> 0 | R30: =P30+Q30 -> 0 | T30: =S30*19% -> 0 | U30: =S30+T30 -> 0 | W30: =V30*19% -> 0 | X30: =V30+W30 -> 0 | Z30: =Y30*19% -> 0 | AA30: =Y30+Z30 -> 0 | AC30: =AB30*19% -> 0 | AD30: =AB30+AC30 -> 0 | AF30: =AE30*19% -> 0 | AG30: =AE30+AF30 -> 0 | AI30: =AH30*19% -> 0 | AJ30: =AH30+AI30 -> 0 | AL30: =AK30*19% -> 0 | AM30: =AK30+AL30 -> 0 | AO30: =AN30*19% -> 0 | AP30: =AN30+AO30 -> 0 | AR30: =AQ30*19% -> 0 | AS30: =AQ30+AR30 -> 0 | AU30: =AT30*19% -> 0 | AV30: =AT30+AU30 -> 0 | AX30: =AW30*19% -> 0 | AY30: =AW30+AX30 -> 0 | BA30: =AZ30*19% -> 0 | BB30: =AZ30+BA30 -> 0
B31: 2.12 | C31: FILTRO DE ACEITE | E31: =D31*19% -> 0 | F31: =D31+E31 -> 0 | H31: =G31*19% -> 0 | I31: =G31+H31 -> 0 | K31: =J31*19% -> 0 | L31: =J31+K31 -> 0 | N31: =M31*19% -> 0 | O31: =M31+N31 -> 0 | Q31: =P31*19% -> 0 | R31: =P31+Q31 -> 0 | T31: =S31*19% -> 0 | U31: =S31+T31 -> 0 | W31: =V31*19% -> 0 | X31: =V31+W31 -> 0 | Z31: =Y31*19% -> 0 | AA31: =Y31+Z31 -> 0 | AC31: =AB31*19% -> 0 | AD31: =AB31+AC31 -> 0 | AF31: =AE31*19% -> 0 | AG31: =AE31+AF31 -> 0 | AI31: =AH31*19% -> 0 | AJ31: =AH31+AI31 -> 0 | AL31: =AK31*19% -> 0 | AM31: =AK31+AL31 -> 0 | AO31: =AN31*19% -> 0 | AP31: =AN31+AO31 -> 0 | AR31: =AQ31*19% -> 0 | AS31: =AQ31+AR31 -> 0 | AU31: =AT31*19% -> 0 | AV31: =AT31+AU31 -> 0 | AX31: =AW31*19% -> 0 | AY31: =AW31+AX31 -> 0 | BA31: =AZ31*19% -> 0 | BB31: =AZ31+BA31 -> 0
... B37: 2.18 | C37: VALVULAS (JUEGO) | E37: =D37*19% -> 0 | F37: =D37+E37 -> 0 | H37: =G37*19% -> 0 | I37: =G37+H37 -> 0 | K37: =J37*19% -> 0 | L37: =J37+K37 -> 0 | N37: =M37*19% -> 0 | O37: =M37+N37 -> 0 | Q37: =P37*19% -> 0 | R37: =P37+Q37 -> 0 | T37: =S37*19% -> 0 | U37: =S37+T37 -> 0 | W37: =V37*19% -> 0 | X37: =V37+W37 -> 0 | Z37: =Y37*19% -> 0 | AA37: =Y37+Z37 -> 0 | AC37: =AB37*19% -> 0 | AD37: =AB37+AC37 -> 0 | AF37: =AE37*19% -> 0 | AG37: =AE37+AF37 -> 0 | AI37: =AH37*19% -> 0 | AJ37: =AH37+AI37 -> 0 | AL37: =AK37*19% -> 0 | AM37: =AK37+AL37 -> 0 | AO37: =AN37*19% -> 0 | AP37: =AN37+AO37 -> 0 | AR37: =AQ37*19% -> 0 | AS37: =AQ37+AR37 -> 0 | AU37: =AT37*19% -> 0 | AV37: =AT37+AU37 -> 0 | AX37: =AW37*19% -> 0 | AY37: =AW37+AX37 -> 0 | BA37: =AZ37*19% -> 0 | BB37: =AZ37+BA37 -> 0
B38: 3 | C38: SISTEMA DE TRANSFERENCIA | D38: 0 | E38: 0 | F38: 0 | G38: 0 | H38: 0 | I38: 0 | J38: 0 | K38: 0 | L38: 0 | M38: 0 | N38: 0 | O38: 0 | P38: 0 | Q38: 0 | R38: 0 | S38: 0 | T38: 0 | U38: 0 | V38: 0 | W38: 0 | X38: 0 | Y38: 0 | Z38: 0 | AA38: 0 | AB38: 0 | AC38: 0 | AD38: 0 | AE38: 0 | AF38: 0 | AG38: 0 | AH38: 0 | AI38: 0 | AJ38: 0 | AK38: 0 | AL38: 0 | AM38: 0 | AN38: 0 | AO38: 0 | AP38: 0 | AQ38: 0 | AR38: 0 | AS38: 0 | AT38: 0 | AU38: 0 | AV38: 0 | AW38: 0 | AX38: 0 | AY38: 0 | AZ38: 0 | BA38: 0 | BB38: 0
B39: 3.1 | C39: EMPAQUE TAPA EMBRAGUE | E39: =D39*19% -> 0 | F39: =D39+E39 -> 0 | H39: =G39*19% -> 0 | I39: =G39+H39 -> 0 | K39: =J39*19% -> 0 | L39: =J39+K39 -> 0 | N39: =M39*19% -> 0 | O39: =M39+N39 -> 0 | Q39: =P39*19% -> 0 | R39: =P39+Q39 -> 0 | T39: =S39*19% -> 0 | U39: =S39+T39 -> 0 | W39: =V39*19% -> 0 | X39: =V39+W39 -> 0 | Z39: =Y39*19% -> 0 | AA39: =Y39+Z39 -> 0 | AC39: =AB39*19% -> 0 | AD39: =AB39+AC39 -> 0 | AF39: =AE39*19% -> 0 | AG39: =AE39+AF39 -> 0 | AI39: =AH39*19% -> 0 | AJ39: =AH39+AI39 -> 0 | AL39: =AK39*19% -> 0 | AM39: =AK39+AL39 -> 0 | AO39: =AN39*19% -> 0 | AP39: =AN39+AO39 -> 0 | AR39: =AQ39*19% -> 0 | AS39: =AQ39+AR39 -> 0 | AU39: =AT39*19% -> 0 | AV39: =AT39+AU39 -> 0 | AX39: =AW39*19% -> 0 | AY39: =AW39+AX39 -> 0 | BA39: =AZ39*19% -> 0 | BB39: =AZ39+BA39 -> 0
B40: 3.2 | C40: GUAYA EMBREAGUE | E40: =D40*19% -> 0 | F40: =D40+E40 -> 0 | H40: =G40*19% -> 0 | I40: =G40+H40 -> 0 | K40: =J40*19% -> 0 | L40: =J40+K40 -> 0 | N40: =M40*19% -> 0 | O40: =M40+N40 -> 0 | Q40: =P40*19% -> 0 | R40: =P40+Q40 -> 0 | T40: =S40*19% -> 0 | U40: =S40+T40 -> 0 | W40: =V40*19% -> 0 | X40: =V40+W40 -> 0 | Z40: =Y40*19% -> 0 | AA40: =Y40+Z40 -> 0 | AC40: =AB40*19% -> 0 | AD40: =AB40+AC40 -> 0 | AF40: =AE40*19% -> 0 | AG40: =AE40+AF40 -> 0 | AI40: =AH40*19% -> 0 | AJ40: =AH40+AI40 -> 0 | AL40: =AK40*19% -> 0 | AM40: =AK40+AL40 -> 0 | AO40: =AN40*19% -> 0 | AP40: =AN40+AO40 -> 0 | AR40: =AQ40*19% -> 0 | AS40: =AQ40+AR40 -> 0 | AU40: =AT40*19% -> 0 | AV40: =AT40+AU40 -> 0 | AX40: =AW40*19% -> 0 | AY40: =AW40+AX40 -> 0 | BA40: =AZ40*19% -> 0 | BB40: =AZ40+BA40 -> 0
B41: 3.3 | C41: GUAYA VELOCIMETRO | E41: =D41*19% -> 0 | F41: =D41+E41 -> 0 | H41: =G41*19% -> 0 | I41: =G41+H41 -> 0 | K41: =J41*19% -> 0 | L41: =J41+K41 -> 0 | N41: =M41*19% -> 0 | O41: =M41+N41 -> 0 | Q41: =P41*19% -> 0 | R41: =P41+Q41 -> 0 | T41: =S41*19% -> 0 | U41: =S41+T41 -> 0 | W41: =V41*19% -> 0 | X41: =V41+W41 -> 0 | Z41: =Y41*19% -> 0 | AA41: =Y41+Z41 -> 0 | AC41: =AB41*19% -> 0 | AD41: =AB41+AC41 -> 0 | AF41: =AE41*19% -> 0 | AG41: =AE41+AF41 -> 0 | AI41: =AH41*19% -> 0 | AJ41: =AH41+AI41 -> 0 | AL41: =AK41*19% -> 0 | AM41: =AK41+AL41 -> 0 | AO41: =AN41*19% -> 0 | AP41: =AN41+AO41 -> 0 | AR41: =AQ41*19% -> 0 | AS41: =AQ41+AR41 -> 0 | AU41: =AT41*19% -> 0 | AV41: =AT41+AU41 -> 0 | AX41: =AW41*19% -> 0 | AY41: =AW41+AX41 -> 0 | BA41: =AZ41*19% -> 0 | BB41: =AZ41+BA41 -> 0
B42: 3.4 | C42: JUEGO CAUCHOS DE CAMPANA | E42: =D42*19% -> 0 | F42: =D42+E42 -> 0 | H42: =G42*19% -> 0 | I42: =G42+H42 -> 0 | K42: =J42*19% -> 0 | L42: =J42+K42 -> 0 | N42: =M42*19% -> 0 | O42: =M42+N42 -> 0 | Q42: =P42*19% -> 0 | R42: =P42+Q42 -> 0 | T42: =S42*19% -> 0 | U42: =S42+T42 -> 0 | W42: =V42*19% -> 0 | X42: =V42+W42 -> 0 | Z42: =Y42*19% -> 0 | AA42: =Y42+Z42 -> 0 | AC42: =AB42*19% -> 0 | AD42: =AB42+AC42 -> 0 | AF42: =AE42*19% -> 0 | AG42: =AE42+AF42 -> 0 | AI42: =AH42*19% -> 0 | AJ42: =AH42+AI42 -> 0 | AL42: =AK42*19% -> 0 | AM42: =AK42+AL42 -> 0 | AO42: =AN42*19% -> 0 | AP42: =AN42+AO42 -> 0 | AR42: =AQ42*19% -> 0 | AS42: =AQ42+AR42 -> 0 | AU42: =AT42*19% -> 0 | AV42: =AT42+AU42 -> 0 | AX42: =AW42*19% -> 0 | AY42: =AW42+AX42 -> 0 | BA42: =AZ42*19% -> 0 | BB42: =AZ42+BA42 -> 0
B43: 3.5 | C43: KIT DE ARRASTRE | E43: =D43*19% -> 0 | F43: =D43+E43 -> 0 | H43: =G43*19% -> 0 | I43: =G43+H43 -> 0 | K43: =J43*19% -> 0 | L43: =J43+K43 -> 0 | N43: =M43*19% -> 0 | O43: =M43+N43 -> 0 | Q43: =P43*19% -> 0 | R43: =P43+Q43 -> 0 | T43: =S43*19% -> 0 | U43: =S43+T43 -> 0 | W43: =V43*19% -> 0 | X43: =V43+W43 -> 0 | Z43: =Y43*19% -> 0 | AA43: =Y43+Z43 -> 0 | AC43: =AB43*19% -> 0 | AD43: =AB43+AC43 -> 0 | AF43: =AE43*19% -> 0 | AG43: =AE43+AF43 -> 0 | AI43: =AH43*19% -> 0 | AJ43: =AH43+AI43 -> 0 | AL43: =AK43*19% -> 0 | AM43: =AK43+AL43 -> 0 | AO43: =AN43*19% -> 0 | AP43: =AN43+AO43 -> 0 | AR43: =AQ43*19% -> 0 | AS43: =AQ43+AR43 -> 0 | AU43: =AT43*19% -> 0 | AV43: =AT43+AU43 -> 0 | AX43: =AW43*19% -> 0 | AY43: =AW43+AX43 -> 0 | BA43: =AZ43*19% -> 0 | BB43: =AZ43+BA43 -> 0
B44: 3.6 | C44: KIT DE EMBRAGUE | E44: =D44*19% -> 0 | F44: =D44+E44 -> 0 | H44: =G44*19% -> 0 | I44: =G44+H44 -> 0 | K44: =J44*19% -> 0 | L44: =J44+K44 -> 0 | N44: =M44*19% -> 0 | O44: =M44+N44 -> 0 | Q44: =P44*19% -> 0 | R44: =P44+Q44 -> 0 | T44: =S44*19% -> 0 | U44: =S44+T44 -> 0 | W44: =V44*19% -> 0 | X44: =V44+W44 -> 0 | Z44: =Y44*19% -> 0 | AA44: =Y44+Z44 -> 0 | AC44: =AB44*19% -> 0 | AD44: =AB44+AC44 -> 0 | AF44: =AE44*19% -> 0 | AG44: =AE44+AF44 -> 0 | AI44: =AH44*19% -> 0 | AJ44: =AH44+AI44 -> 0 | AL44: =AK44*19% -> 0 | AM44: =AK44+AL44 -> 0 | AO44: =AN44*19% -> 0 | AP44: =AN44+AO44 -> 0 | AR44: =AQ44*19% -> 0 | AS44: =AQ44+AR44 -> 0 | AU44: =AT44*19% -> 0 | AV44: =AT44+AU44 -> 0 | AX44: =AW44*19% -> 0 | AY44: =AW44+AX44 -> 0 | BA44: =AZ44*19% -> 0 | BB44: =AZ44+BA44 -> 0
B45: 3.7 | C45: MANIJA DE EMBRAGUE | E45: =D45*19% -> 0 | F45: =D45+E45 -> 0 | H45: =G45*19% -> 0 | I45: =G45+H45 -> 0 | K45: =J45*19% -> 0 | L45: =J45+K45 -> 0 | N45: =M45*19% -> 0 | O45: =M45+N45 -> 0 | Q45: =P45*19% -> 0 | R45: =P45+Q45 -> 0 | T45: =S45*19% -> 0 | U45: =S45+T45 -> 0 | W45: =V45*19% -> 0 | X45: =V45+W45 -> 0 | Z45: =Y45*19% -> 0 | AA45: =Y45+Z45 -> 0 | AC45: =AB45*19% -> 0 | AD45: =AB45+AC45 -> 0 | AF45: =AE45*19% -> 0 | AG45: =AE45+AF45 -> 0 | AI45: =AH45*19% -> 0 | AJ45: =AH45+AI45 -> 0 | AL45: =AK45*19% -> 0 | AM45: =AK45+AL45 -> 0 | AO45: =AN45*19% -> 0 | AP45: =AN45+AO45 -> 0 | AR45: =AQ45*19% -> 0 | AS45: =AQ45+AR45 -> 0 | AU45: =AT45*19% -> 0 | AV45: =AT45+AU45 -> 0 | AX45: =AW45*19% -> 0 | AY45: =AW45+AX45 -> 0 | BA45: =AZ45*19% -> 0 | BB45: =AZ45+BA45 -> 0
B46: 3.8 | C46: PIÑON VELOCIMETRO | E46: =D46*19% -> 0 | F46: =D46+E46 -> 0 | H46: =G46*19% -> 0 | I46: =G46+H46 -> 0 | K46: =J46*19% -> 0 | L46: =J46+K46 -> 0 | N46: =M46*19% -> 0 | O46: =M46+N46 -> 0 | Q46: =P46*19% -> 0 | R46: =P46+Q46 -> 0 | T46: =S46*19% -> 0 | U46: =S46+T46 -> 0 | W46: =V46*19% -> 0 | X46: =V46+W46 -> 0 | Z46: =Y46*19% -> 0 | AA46: =Y46+Z46 -> 0 | AC46: =AB46*19% -> 0 | AD46: =AB46+AC46 -> 0 | AF46: =AE46*19% -> 0 | AG46: =AE46+AF46 -> 0 | AI46: =AH46*19% -> 0 | AJ46: =AH46+AI46 -> 0 | AL46: =AK46*19% -> 0 | AM46: =AK46+AL46 -> 0 | AO46: =AN46*19% -> 0 | AP46: =AN46+AO46 -> 0 | AR46: =AQ46*19% -> 0 | AS46: =AQ46+AR46 -> 0 | AU46: =AT46*19% -> 0 | AV46: =AT46+AU46 -> 0 | AX46: =AW46*19% -> 0 | AY46: =AW46+AX46 -> 0 | BA46: =AZ46*19% -> 0 | BB46: =AZ46+BA46 -> 0
B47: 3.9 | C47: RETEN CONTROL DE CAMBIO | E47: =D47*19% -> 0 | F47: =D47+E47 -> 0 | H47: =G47*19% -> 0 | I47: =G47+H47 -> 0 | K47: =J47*19% -> 0 | L47: =J47+K47 -> 0 | N47: =M47*19% -> 0 | O47: =M47+N47 -> 0 | Q47: =P47*19% -> 0 | R47: =P47+Q47 -> 0 | T47: =S47*19% -> 0 | U47: =S47+T47 -> 0 | W47: =V47*19% -> 0 | X47: =V47+W47 -> 0 | Z47: =Y47*19% -> 0 | AA47: =Y47+Z47 -> 0 | AC47: =AB47*19% -> 0 | AD47: =AB47+AC47 -> 0 | AF47: =AE47*19% -> 0 | AG47: =AE47+AF47 -> 0 | AI47: =AH47*19% -> 0 | AJ47: =AH47+AI47 -> 0 | AL47: =AK47*19% -> 0 | AM47: =AK47+AL47 -> 0 | AO47: =AN47*19% -> 0 | AP47: =AN47+AO47 -> 0 | AR47: =AQ47*19% -> 0 | AS47: =AQ47+AR47 -> 0 | AU47: =AT47*19% -> 0 | AV47: =AT47+AU47 -> 0 | AX47: =AW47*19% -> 0 | AY47: =AW47+AX47 -> 0 | BA47: =AZ47*19% -> 0 | BB47: =AZ47+BA47 -> 0
B48: 3.10 | C48: RETEN SALIDA | E48: =D48*19% -> 0 | F48: =D48+E48 -> 0 | H48: =G48*19% -> 0 | I48: =G48+H48 -> 0 | K48: =J48*19% -> 0 | L48: =J48+K48 -> 0 | N48: =M48*19% -> 0 | O48: =M48+N48 -> 0 | Q48: =P48*19% -> 0 | R48: =P48+Q48 -> 0 | T48: =S48*19% -> 0 | U48: =S48+T48 -> 0 | W48: =V48*19% -> 0 | X48: =V48+W48 -> 0 | Z48: =Y48*19% -> 0 | AA48: =Y48+Z48 -> 0 | AC48: =AB48*19% -> 0 | AD48: =AB48+AC48 -> 0 | AF48: =AE48*19% -> 0 | AG48: =AE48+AF48 -> 0 | AI48: =AH48*19% -> 0 | AJ48: =AH48+AI48 -> 0 | AL48: =AK48*19% -> 0 | AM48: =AK48+AL48 -> 0 | AO48: =AN48*19% -> 0 | AP48: =AN48+AO48 -> 0 | AR48: =AQ48*19% -> 0 | AS48: =AQ48+AR48 -> 0 | AU48: =AT48*19% -> 0 | AV48: =AT48+AU48 -> 0 | AX48: =AW48*19% -> 0 | AY48: =AW48+AX48 -> 0 | BA48: =AZ48*19% -> 0 | BB48: =AZ48+BA48 -> 0
B49: 4 | C49: SISTEMA DE SUSPENSION | D49: 0 | E49: 0 | F49: 0 | G49: 0 | H49: 0 | I49: 0 | J49: 0 | K49: 0 | L49: 0 | M49: 0 | N49: 0 | O49: 0 | P49: 0 | Q49: 0 | R49: 0 | S49: 0 | T49: 0 | U49: 0 | V49: 0 | W49: 0 | X49: 0 | Y49: 0 | Z49: 0 | AA49: 0 | AB49: 0 | AC49: 0 | AD49: 0 | AE49: 0 | AF49: 0 | AG49: 0 | AH49: 0 | AI49: 0 | AJ49: 0 | AK49: 0 | AL49: 0 | AM49: 0 | AN49: 0 | AO49: 0 | AP49: 0 | AQ49: 0 | AR49: 0 | AS49: 0 | AT49: 0 | AU49: 0 | AV49: 0 | AW49: 0 | AX49: 0 | AY49: 0 | AZ49: 0 | BA49: 0 | BB49: 0
B50: 4.1 | C50: AMORTIGUADOR DELANTERO | E50: =D50*19% -> 0 | F50: =D50+E50 -> 0 | H50: =G50*19% -> 0 | I50: =G50+H50 -> 0 | K50: =J50*19% -> 0 | L50: =J50+K50 -> 0 | N50: =M50*19% -> 0 | O50: =M50+N50 -> 0 | Q50: =P50*19% -> 0 | R50: =P50+Q50 -> 0 | T50: =S50*19% -> 0 | U50: =S50+T50 -> 0 | W50: =V50*19% -> 0 | X50: =V50+W50 -> 0 | Z50: =Y50*19% -> 0 | AA50: =Y50+Z50 -> 0 | AC50: =AB50*19% -> 0 | AD50: =AB50+AC50 -> 0 | AF50: =AE50*19% -> 0 | AG50: =AE50+AF50 -> 0 | AI50: =AH50*19% -> 0 | AJ50: =AH50+AI50 -> 0 | AL50: =AK50*19% -> 0 | AM50: =AK50+AL50 -> 0 | AO50: =AN50*19% -> 0 | AP50: =AN50+AO50 -> 0 | AR50: =AQ50*19% -> 0 | AS50: =AQ50+AR50 -> 0 | AU50: =AT50*19% -> 0 | AV50: =AT50+AU50 -> 0 | AX50: =AW50*19% -> 0 | AY50: =AW50+AX50 -> 0 | BA50: =AZ50*19% -> 0 | BB50: =AZ50+BA50 -> 0
B51: 4.2 | C51: AMORTIGUADOR TRASERO | E51: =D51*19% -> 0 | F51: =D51+E51 -> 0 | H51: =G51*19% -> 0 | I51: =G51+H51 -> 0 | K51: =J51*19% -> 0 | L51: =J51+K51 -> 0 | N51: =M51*19% -> 0 | O51: =M51+N51 -> 0 | Q51: =P51*19% -> 0 | R51: =P51+Q51 -> 0 | T51: =S51*19% -> 0 | U51: =S51+T51 -> 0 | W51: =V51*19% -> 0 | X51: =V51+W51 -> 0 | Z51: =Y51*19% -> 0 | AA51: =Y51+Z51 -> 0 | AC51: =AB51*19% -> 0 | AD51: =AB51+AC51 -> 0 | AF51: =AE51*19% -> 0 | AG51: =AE51+AF51 -> 0 | AI51: =AH51*19% -> 0 | AJ51: =AH51+AI51 -> 0 | AL51: =AK51*19% -> 0 | AM51: =AK51+AL51 -> 0 | AO51: =AN51*19% -> 0 | AP51: =AN51+AO51 -> 0 | AR51: =AQ51*19% -> 0 | AS51: =AQ51+AR51 -> 0 | AU51: =AT51*19% -> 0 | AV51: =AT51+AU51 -> 0 | AX51: =AW51*19% -> 0 | AY51: =AW51+AX51 -> 0 | BA51: =AZ51*19% -> 0 | BB51: =AZ51+BA51 -> 0
B52: 4.3 | C52: BUJES TIJERA (JUEGO) | E52: =D52*19% -> 0 | F52: =D52+E52 -> 0 | H52: =G52*19% -> 0 | I52: =G52+H52 -> 0 | K52: =J52*19% -> 0 | L52: =J52+K52 -> 0 | N52: =M52*19% -> 0 | O52: =M52+N52 -> 0 | Q52: =P52*19% -> 0 | R52: =P52+Q52 -> 0 | T52: =S52*19% -> 0 | U52: =S52+T52 -> 0 | W52: =V52*19% -> 0 | X52: =V52+W52 -> 0 | Z52: =Y52*19% -> 0 | AA52: =Y52+Z52 -> 0 | AC52: =AB52*19% -> 0 | AD52: =AB52+AC52 -> 0 | AF52: =AE52*19% -> 0 | AG52: =AE52+AF52 -> 0 | AI52: =AH52*19% -> 0 | AJ52: =AH52+AI52 -> 0 | AL52: =AK52*19% -> 0 | AM52: =AK52+AL52 -> 0 | AO52: =AN52*19% -> 0 | AP52: =AN52+AO52 -> 0 | AR52: =AQ52*19% -> 0 | AS52: =AQ52+AR52 -> 0 | AU52: =AT52*19% -> 0 | AV52: =AT52+AU52 -> 0 | AX52: =AW52*19% -> 0 | AY52: =AW52+AX52 -> 0 | BA52: =AZ52*19% -> 0 | BB52: =AZ52+BA52 -> 0
B53: 4.4 | C53: RETEN BARRAS (JUEGO) | E53: =D53*19% -> 0 | F53: =D53+E53 -> 0 | H53: =G53*19% -> 0 | I53: =G53+H53 -> 0 | K53: =J53*19% -> 0 | L53: =J53+K53 -> 0 | N53: =M53*19% -> 0 | O53: =M53+N53 -> 0 | Q53: =P53*19% -> 0 | R53: =P53+Q53 -> 0 | T53: =S53*19% -> 0 | U53: =S53+T53 -> 0 | W53: =V53*19% -> 0 | X53: =V53+W53 -> 0 | Z53: =Y53*19% -> 0 | AA53: =Y53+Z53 -> 0 | AC53: =AB53*19% -> 0 | AD53: =AB53+AC53 -> 0 | AF53: =AE53*19% -> 0 | AG53: =AE53+AF53 -> 0 | AI53: =AH53*19% -> 0 | AJ53: =AH53+AI53 -> 0 | AL53: =AK53*19% -> 0 | AM53: =AK53+AL53 -> 0 | AO53: =AN53*19% -> 0 | AP53: =AN53+AO53 -> 0 | AR53: =AQ53*19% -> 0 | AS53: =AQ53+AR53 -> 0 | AU53: =AT53*19% -> 0 | AV53: =AT53+AU53 -> 0 | AX53: =AW53*19% -> 0 | AY53: =AW53+AX53 -> 0 | BA53: =AZ53*19% -> 0 | BB53: =AZ53+BA53 -> 0
B54: 4.5 | C54: RODAMIENTOS DELANTEROS (JUEGO) | E54: =D54*19% -> 0 | F54: =D54+E54 -> 0 | H54: =G54*19% -> 0 | I54: =G54+H54 -> 0 | K54: =J54*19% -> 0 | L54: =J54+K54 -> 0 | N54: =M54*19% -> 0 | O54: =M54+N54 -> 0 | Q54: =P54*19% -> 0 | R54: =P54+Q54 -> 0 | T54: =S54*19% -> 0 | U54: =S54+T54 -> 0 | W54: =V54*19% -> 0 | X54: =V54+W54 -> 0 | Z54: =Y54*19% -> 0 | AA54: =Y54+Z54 -> 0 | AC54: =AB54*19% -> 0 | AD54: =AB54+AC54 -> 0 | AF54: =AE54*19% -> 0 | AG54: =AE54+AF54 -> 0 | AI54: =AH54*19% -> 0 | AJ54: =AH54+AI54 -> 0 | AL54: =AK54*19% -> 0 | AM54: =AK54+AL54 -> 0 | AO54: =AN54*19% -> 0 | AP54: =AN54+AO54 -> 0 | AR54: =AQ54*19% -> 0 | AS54: =AQ54+AR54 -> 0 | AU54: =AT54*19% -> 0 | AV54: =AT54+AU54 -> 0 | AX54: =AW54*19% -> 0 | AY54: =AW54+AX54 -> 0 | BA54: =AZ54*19% -> 0 | BB54: =AZ54+BA54 -> 0
B55: 4.6 | C55: RODAMIENTOS TRASEROS (JUEGO) | E55: =D55*19% -> 0 | F55: =D55+E55 -> 0 | H55: =G55*19% -> 0 | I55: =G55+H55 -> 0 | K55: =J55*19% -> 0 | L55: =J55+K55 -> 0 | N55: =M55*19% -> 0 | O55: =M55+N55 -> 0 | Q55: =P55*19% -> 0 | R55: =P55+Q55 -> 0 | T55: =S55*19% -> 0 | U55: =S55+T55 -> 0 | W55: =V55*19% -> 0 | X55: =V55+W55 -> 0 | Z55: =Y55*19% -> 0 | AA55: =Y55+Z55 -> 0 | AC55: =AB55*19% -> 0 | AD55: =AB55+AC55 -> 0 | AF55: =AE55*19% -> 0 | AG55: =AE55+AF55 -> 0 | AI55: =AH55*19% -> 0 | AJ55: =AH55+AI55 -> 0 | AL55: =AK55*19% -> 0 | AM55: =AK55+AL55 -> 0 | AO55: =AN55*19% -> 0 | AP55: =AN55+AO55 -> 0 | AR55: =AQ55*19% -> 0 | AS55: =AQ55+AR55 -> 0 | AU55: =AT55*19% -> 0 | AV55: =AT55+AU55 -> 0 | AX55: =AW55*19% -> 0 | AY55: =AW55+AX55 -> 0 | BA55: =AZ55*19% -> 0 | BB55: =AZ55+BA55 -> 0
B56: 4.7 | C56: SOPORTE O PATA LATERAL | E56: =D56*19% -> 0 | F56: =D56+E56 -> 0 | H56: =G56*19% -> 0 | I56: =G56+H56 -> 0 | K56: =J56*19% -> 0 | L56: =J56+K56 -> 0 | N56: =M56*19% -> 0 | O56: =M56+N56 -> 0 | Q56: =P56*19% -> 0 | R56: =P56+Q56 -> 0 | T56: =S56*19% -> 0 | U56: =S56+T56 -> 0 | W56: =V56*19% -> 0 | X56: =V56+W56 -> 0 | Z56: =Y56*19% -> 0 | AA56: =Y56+Z56 -> 0 | AC56: =AB56*19% -> 0 | AD56: =AB56+AC56 -> 0 | AF56: =AE56*19% -> 0 | AG56: =AE56+AF56 -> 0 | AI56: =AH56*19% -> 0 | AJ56: =AH56+AI56 -> 0 | AL56: =AK56*19% -> 0 | AM56: =AK56+AL56 -> 0 | AO56: =AN56*19% -> 0 | AP56: =AN56+AO56 -> 0 | AR56: =AQ56*19% -> 0 | AS56: =AQ56+AR56 -> 0 | AU56: =AT56*19% -> 0 | AV56: =AT56+AU56 -> 0 | AX56: =AW56*19% -> 0 | AY56: =AW56+AX56 -> 0 | BA56: =AZ56*19% -> 0 | BB56: =AZ56+BA56 -> 0
B57: 4.8 | C57: TIJERA | E57: =D57*19% -> 0 | F57: =D57+E57 -> 0 | H57: =G57*19% -> 0 | I57: =G57+H57 -> 0 | K57: =J57*19% -> 0 | L57: =J57+K57 -> 0 | N57: =M57*19% -> 0 | O57: =M57+N57 -> 0 | Q57: =P57*19% -> 0 | R57: =P57+Q57 -> 0 | T57: =S57*19% -> 0 | U57: =S57+T57 -> 0 | W57: =V57*19% -> 0 | X57: =V57+W57 -> 0 | Z57: =Y57*19% -> 0 | AA57: =Y57+Z57 -> 0 | AC57: =AB57*19% -> 0 | AD57: =AB57+AC57 -> 0 | AF57: =AE57*19% -> 0 | AG57: =AE57+AF57 -> 0 | AI57: =AH57*19% -> 0 | AJ57: =AH57+AI57 -> 0 | AL57: =AK57*19% -> 0 | AM57: =AK57+AL57 -> 0 | AO57: =AN57*19% -> 0 | AP57: =AN57+AO57 -> 0 | AR57: =AQ57*19% -> 0 | AS57: =AQ57+AR57 -> 0 | AU57: =AT57*19% -> 0 | AV57: =AT57+AU57 -> 0 | AX57: =AW57*19% -> 0 | AY57: =AW57+AX57 -> 0 | BA57: =AZ57*19% -> 0 | BB57: =AZ57+BA57 -> 0
B58: 5 | C58: SISTEMA DE DIRECCION | D58: 0 | E58: 0 | F58: 0 | G58: 0 | H58: 0 | I58: 0 | J58: 0 | K58: 0 | L58: 0 | M58: 0 | N58: 0 | O58: 0 | P58: 0 | Q58: 0 | R58: 0 | S58: 0 | T58: 0 | U58: 0 | V58: 0 | W58: 0 | X58: 0 | Y58: 0 | Z58: 0 | AA58: 0 | AB58: 0 | AC58: 0 | AD58: 0 | AE58: 0 | AF58: 0 | AG58: 0 | AH58: 0 | AI58: 0 | AJ58: 0 | AK58: 0 | AL58: 0 | AM58: 0 | AN58: 0 | AO58: 0 | AP58: 0 | AQ58: 0 | AR58: 0 | AS58: 0 | AT58: 0 | AU58: 0 | AV58: 0 | AW58: 0 | AX58: 0 | AY58: 0 | AZ58: 0 | BA58: 0 | BB58: 0
B59: 5.1 | C59: CUNAS DIRECCION | E59: =D59*19% -> 0 | F59: =D59+E59 -> 0 | H59: =G59*19% -> 0 | I59: =G59+H59 -> 0 | K59: =J59*19% -> 0 | L59: =J59+K59 -> 0 | N59: =M59*19% -> 0 | O59: =M59+N59 -> 0 | Q59: =P59*19% -> 0 | R59: =P59+Q59 -> 0 | T59: =S59*19% -> 0 | U59: =S59+T59 -> 0 | W59: =V59*19% -> 0 | X59: =V59+W59 -> 0 | Z59: =Y59*19% -> 0 | AA59: =Y59+Z59 -> 0 | AC59: =AB59*19% -> 0 | AD59: =AB59+AC59 -> 0 | AF59: =AE59*19% -> 0 | AG59: =AE59+AF59 -> 0 | AI59: =AH59*19% -> 0 | AJ59: =AH59+AI59 -> 0 | AL59: =AK59*19% -> 0 | AM59: =AK59+AL59 -> 0 | AO59: =AN59*19% -> 0 | AP59: =AN59+AO59 -> 0 | AR59: =AQ59*19% -> 0 | AS59: =AQ59+AR59 -> 0 | AU59: =AT59*19% -> 0 | AV59: =AT59+AU59 -> 0 | AX59: =AW59*19% -> 0 | AY59: =AW59+AX59 -> 0 | BA59: =AZ59*19% -> 0 | BB59: =AZ59+BA59 -> 0
B60: 5.2 | C60: MANUBRIO DIRECCON | E60: =D60*19% -> 0 | F60: =D60+E60 -> 0 | H60: =G60*19% -> 0 | I60: =G60+H60 -> 0 | K60: =J60*19% -> 0 | L60: =J60+K60 -> 0 | N60: =M60*19% -> 0 | O60: =M60+N60 -> 0 | Q60: =P60*19% -> 0 | R60: =P60+Q60 -> 0 | T60: =S60*19% -> 0 | U60: =S60+T60 -> 0 | W60: =V60*19% -> 0 | X60: =V60+W60 -> 0 | Z60: =Y60*19% -> 0 | AA60: =Y60+Z60 -> 0 | AC60: =AB60*19% -> 0 | AD60: =AB60+AC60 -> 0 | AF60: =AE60*19% -> 0 | AG60: =AE60+AF60 -> 0 | AI60: =AH60*19% -> 0 | AJ60: =AH60+AI60 -> 0 | AL60: =AK60*19% -> 0 | AM60: =AK60+AL60 -> 0 | AO60: =AN60*19% -> 0 | AP60: =AN60+AO60 -> 0 | AR60: =AQ60*19% -> 0 | AS60: =AQ60+AR60 -> 0 | AU60: =AT60*19% -> 0 | AV60: =AT60+AU60 -> 0 | AX60: =AW60*19% -> 0 | AY60: =AW60+AX60 -> 0 | BA60: =AZ60*19% -> 0 | BB60: =AZ60+BA60 -> 0
B61: 6 | C61: SISTEMA DE FRENOS | D61: 0 | E61: 0 | F61: 0 | G61: 0 | H61: 0 | I61: 0 | J61: 0 | K61: 0 | L61: 0 | M61: 0 | N61: 0 | O61: 0 | P61: 0 | Q61: 0 | R61: 0 | S61: 0 | T61: 0 | U61: 0 | V61: 0 | W61: 0 | X61: 0 | Y61: 0 | Z61: 0 | AA61: 0 | AB61: 0 | AC61: 0 | AD61: 0 | AE61: 0 | AF61: 0 | AG61: 0 | AH61: 0 | AI61: 0 | AJ61: 0 | AK61: 0 | AL61: 0 | AM61: 0 | AN61: 0 | AO61: 0 | AP61: 0 | AQ61: 0 | AR61: 0 | AS61: 0 | AT61: 0 | AU61: 0 | AV61: 0 | AW61: 0 | AX61: 0 | AY61: 0 | AZ61: 0 | BA61: 0 | BB61: 0
B62: 6.1 | C62: BANDAS DE FRENO DELANTERO (JUEGO) | E62: =D62*19% -> 0 | F62: =D62+E62 -> 0 | H62: =G62*19% -> 0 | I62: =G62+H62 -> 0 | K62: =J62*19% -> 0 | L62: =J62+K62 -> 0 | N62: =M62*19% -> 0 | O62: =M62+N62 -> 0 | Q62: =P62*19% -> 0 | R62: =P62+Q62 -> 0 | T62: =S62*19% -> 0 | U62: =S62+T62 -> 0 | W62: =V62*19% -> 0 | X62: =V62+W62 -> 0 | Z62: =Y62*19% -> 0 | AA62: =Y62+Z62 -> 0 | AC62: =AB62*19% -> 0 | AD62: =AB62+AC62 -> 0 | AF62: =AE62*19% -> 0 | AG62: =AE62+AF62 -> 0 | AI62: =AH62*19% -> 0 | AJ62: =AH62+AI62 -> 0 | AL62: =AK62*19% -> 0 | AM62: =AK62+AL62 -> 0 | AO62: =AN62*19% -> 0 | AP62: =AN62+AO62 -> 0 | AR62: =AQ62*19% -> 0 | AS62: =AQ62+AR62 -> 0 | AU62: =AT62*19% -> 0 | AV62: =AT62+AU62 -> 0 | AX62: =AW62*19% -> 0 | AY62: =AW62+AX62 -> 0 | BA62: =AZ62*19% -> 0 | BB62: =AZ62+BA62 -> 0
B63: 6.2 | C63: BANDAS DE FRENO TRASERO (JUEGO) | E63: =D63*19% -> 0 | F63: =D63+E63 -> 0 | H63: =G63*19% -> 0 | I63: =G63+H63 -> 0 | K63: =J63*19% -> 0 | L63: =J63+K63 -> 0 | N63: =M63*19% -> 0 | O63: =M63+N63 -> 0 | Q63: =P63*19% -> 0 | R63: =P63+Q63 -> 0 | T63: =S63*19% -> 0 | U63: =S63+T63 -> 0 | W63: =V63*19% -> 0 | X63: =V63+W63 -> 0 | Z63: =Y63*19% -> 0 | AA63: =Y63+Z63 -> 0 | AC63: =AB63*19% -> 0 | AD63: =AB63+AC63 -> 0 | AF63: =AE63*19% -> 0 | AG63: =AE63+AF63 -> 0 | AI63: =AH63*19% -> 0 | AJ63: =AH63+AI63 -> 0 | AL63: =AK63*19% -> 0 | AM63: =AK63+AL63 -> 0 | AO63: =AN63*19% -> 0 | AP63: =AN63+AO63 -> 0 | AR63: =AQ63*19% -> 0 | AS63: =AQ63+AR63 -> 0 | AU63: =AT63*19% -> 0 | AV63: =AT63+AU63 -> 0 | AX63: =AW63*19% -> 0 | AY63: =AW63+AX63 -> 0 | BA63: =AZ63*19% -> 0 | BB63: =AZ63+BA63 -> 0
B64: 6.3 | C64: BOMBA DE FRENOS | E64: =D64*19% -> 0 | F64: =D64+E64 -> 0 | H64: =G64*19% -> 0 | I64: =G64+H64 -> 0 | K64: =J64*19% -> 0 | L64: =J64+K64 -> 0 | N64: =M64*19% -> 0 | O64: =M64+N64 -> 0 | Q64: =P64*19% -> 0 | R64: =P64+Q64 -> 0 | T64: =S64*19% -> 0 | U64: =S64+T64 -> 0 | W64: =V64*19% -> 0 | X64: =V64+W64 -> 0 | Z64: =Y64*19% -> 0 | AA64: =Y64+Z64 -> 0 | AC64: =AB64*19% -> 0 | AD64: =AB64+AC64 -> 0 | AF64: =AE64*19% -> 0 | AG64: =AE64+AF64 -> 0 | AI64: =AH64*19% -> 0 | AJ64: =AH64+AI64 -> 0 | AL64: =AK64*19% -> 0 | AM64: =AK64+AL64 -> 0 | AO64: =AN64*19% -> 0 | AP64: =AN64+AO64 -> 0 | AR64: =AQ64*19% -> 0 | AS64: =AQ64+AR64 -> 0 | AU64: =AT64*19% -> 0 | AV64: =AT64+AU64 -> 0 | AX64: =AW64*19% -> 0 | AY64: =AW64+AX64 -> 0 | BA64: =AZ64*19% -> 0 | BB64: =AZ64+BA64 -> 0
B65: 6.4 | C65: CAUCHOS CAMPANA (JUEGO) | E65: =D65*19% -> 0 | F65: =D65+E65 -> 0 | H65: =G65*19% -> 0 | I65: =G65+H65 -> 0 | K65: =J65*19% -> 0 | L65: =J65+K65 -> 0 | N65: =M65*19% -> 0 | O65: =M65+N65 -> 0 | Q65: =P65*19% -> 0 | R65: =P65+Q65 -> 0 | T65: =S65*19% -> 0 | U65: =S65+T65 -> 0 | W65: =V65*19% -> 0 | X65: =V65+W65 -> 0 | Z65: =Y65*19% -> 0 | AA65: =Y65+Z65 -> 0 | AC65: =AB65*19% -> 0 | AD65: =AB65+AC65 -> 0 | AF65: =AE65*19% -> 0 | AG65: =AE65+AF65 -> 0 | AI65: =AH65*19% -> 0 | AJ65: =AH65+AI65 -> 0 | AL65: =AK65*19% -> 0 | AM65: =AK65+AL65 -> 0 | AO65: =AN65*19% -> 0 | AP65: =AN65+AO65 -> 0 | AR65: =AQ65*19% -> 0 | AS65: =AQ65+AR65 -> 0 | AU65: =AT65*19% -> 0 | AV65: =AT65+AU65 -> 0 | AX65: =AW65*19% -> 0 | AY65: =AW65+AX65 -> 0 | BA65: =AZ65*19% -> 0 | BB65: =AZ65+BA65 -> 0
B66: 6.5 | C66: DISCO DE FRENO | E66: =D66*19% -> 0 | F66: =D66+E66 -> 0 | H66: =G66*19% -> 0 | I66: =G66+H66 -> 0 | K66: =J66*19% -> 0 | L66: =J66+K66 -> 0 | N66: =M66*19% -> 0 | O66: =M66+N66 -> 0 | Q66: =P66*19% -> 0 | R66: =P66+Q66 -> 0 | T66: =S66*19% -> 0 | U66: =S66+T66 -> 0 | W66: =V66*19% -> 0 | X66: =V66+W66 -> 0 | Z66: =Y66*19% -> 0 | AA66: =Y66+Z66 -> 0 | AC66: =AB66*19% -> 0 | AD66: =AB66+AC66 -> 0 | AF66: =AE66*19% -> 0 | AG66: =AE66+AF66 -> 0 | AI66: =AH66*19% -> 0 | AJ66: =AH66+AI66 -> 0 | AL66: =AK66*19% -> 0 | AM66: =AK66+AL66 -> 0 | AO66: =AN66*19% -> 0 | AP66: =AN66+AO66 -> 0 | AR66: =AQ66*19% -> 0 | AS66: =AQ66+AR66 -> 0 | AU66: =AT66*19% -> 0 | AV66: =AT66+AU66 -> 0 | AX66: =AW66*19% -> 0 | AY66: =AW66+AX66 -> 0 | BA66: =AZ66*19% -> 0 | BB66: =AZ66+BA66 -> 0
B67: 6.6 | C67: MANGUERA FRENO | E67: =D67*19% -> 0 | F67: =D67+E67 -> 0 | H67: =G67*19% -> 0 | I67: =G67+H67 -> 0 | K67: =J67*19% -> 0 | L67: =J67+K67 -> 0 | N67: =M67*19% -> 0 | O67: =M67+N67 -> 0 | Q67: =P67*19% -> 0 | R67: =P67+Q67 -> 0 | T67: =S67*19% -> 0 | U67: =S67+T67 -> 0 | W67: =V67*19% -> 0 | X67: =V67+W67 -> 0 | Z67: =Y67*19% -> 0 | AA67: =Y67+Z67 -> 0 | AC67: =AB67*19% -> 0 | AD67: =AB67+AC67 -> 0 | AF67: =AE67*19% -> 0 | AG67: =AE67+AF67 -> 0 | AI67: =AH67*19% -> 0 | AJ67: =AH67+AI67 -> 0 | AL67: =AK67*19% -> 0 | AM67: =AK67+AL67 -> 0 | AO67: =AN67*19% -> 0 | AP67: =AN67+AO67 -> 0 | AR67: =AQ67*19% -> 0 | AS67: =AQ67+AR67 -> 0 | AU67: =AT67*19% -> 0 | AV67: =AT67+AU67 -> 0 | AX67: =AW67*19% -> 0 | AY67: =AW67+AX67 -> 0 | BA67: =AZ67*19% -> 0 | BB67: =AZ67+BA67 -> 0
B68: 6.7 | C68: MANGUERA FRENO DELANTERO | E68: =D68*19% -> 0 | F68: =D68+E68 -> 0 | H68: =G68*19% -> 0 | I68: =G68+H68 -> 0 | K68: =J68*19% -> 0 | L68: =J68+K68 -> 0 | N68: =M68*19% -> 0 | O68: =M68+N68 -> 0 | Q68: =P68*19% -> 0 | R68: =P68+Q68 -> 0 | T68: =S68*19% -> 0 | U68: =S68+T68 -> 0 | W68: =V68*19% -> 0 | X68: =V68+W68 -> 0 | Z68: =Y68*19% -> 0 | AA68: =Y68+Z68 -> 0 | AC68: =AB68*19% -> 0 | AD68: =AB68+AC68 -> 0 | AF68: =AE68*19% -> 0 | AG68: =AE68+AF68 -> 0 | AI68: =AH68*19% -> 0 | AJ68: =AH68+AI68 -> 0 | AL68: =AK68*19% -> 0 | AM68: =AK68+AL68 -> 0 | AO68: =AN68*19% -> 0 | AP68: =AN68+AO68 -> 0 | AR68: =AQ68*19% -> 0 | AS68: =AQ68+AR68 -> 0 | AU68: =AT68*19% -> 0 | AV68: =AT68+AU68 -> 0 | AX68: =AW68*19% -> 0 | AY68: =AW68+AX68 -> 0 | BA68: =AZ68*19% -> 0 | BB68: =AZ68+BA68 -> 0
B69: 6.8 | C69: MANIJA DE FRENO TRASERO | E69: =D69*19% -> 0 | F69: =D69+E69 -> 0 | H69: =G69*19% -> 0 | I69: =G69+H69 -> 0 | K69: =J69*19% -> 0 | L69: =J69+K69 -> 0 | N69: =M69*19% -> 0 | O69: =M69+N69 -> 0 | Q69: =P69*19% -> 0 | R69: =P69+Q69 -> 0 | T69: =S69*19% -> 0 | U69: =S69+T69 -> 0 | W69: =V69*19% -> 0 | X69: =V69+W69 -> 0 | Z69: =Y69*19% -> 0 | AA69: =Y69+Z69 -> 0 | AC69: =AB69*19% -> 0 | AD69: =AB69+AC69 -> 0 | AF69: =AE69*19% -> 0 | AG69: =AE69+AF69 -> 0 | AI69: =AH69*19% -> 0 | AJ69: =AH69+AI69 -> 0 | AL69: =AK69*19% -> 0 | AM69: =AK69+AL69 -> 0 | AO69: =AN69*19% -> 0 | AP69: =AN69+AO69 -> 0 | AR69: =AQ69*19% -> 0 | AS69: =AQ69+AR69 -> 0 | AU69: =AT69*19% -> 0 | AV69: =AT69+AU69 -> 0 | AX69: =AW69*19% -> 0 | AY69: =AW69+AX69 -> 0 | BA69: =AZ69*19% -> 0 | BB69: =AZ69+BA69 -> 0
B70: 6.9 | C70: PASTILLAS DE FRENO DELANTERAS (JUEGO) | E70: =D70*19% -> 0 | F70: =D70+E70 -> 0 | H70: =G70*19% -> 0 | I70: =G70+H70 -> 0 | K70: =J70*19% -> 0 | L70: =J70+K70 -> 0 | N70: =M70*19% -> 0 | O70: =M70+N70 -> 0 | Q70: =P70*19% -> 0 | R70: =P70+Q70 -> 0 | T70: =S70*19% -> 0 | U70: =S70+T70 -> 0 | W70: =V70*19% -> 0 | X70: =V70+W70 -> 0 | Z70: =Y70*19% -> 0 | AA70: =Y70+Z70 -> 0 | AC70: =AB70*19% -> 0 | AD70: =AB70+AC70 -> 0 | AF70: =AE70*19% -> 0 | AG70: =AE70+AF70 -> 0 | AI70: =AH70*19% -> 0 | AJ70: =AH70+AI70 -> 0 | AL70: =AK70*19% -> 0 | AM70: =AK70+AL70 -> 0 | AO70: =AN70*19% -> 0 | AP70: =AN70+AO70 -> 0 | AR70: =AQ70*19% -> 0 | AS70: =AQ70+AR70 -> 0 | AU70: =AT70*19% -> 0 | AV70: =AT70+AU70 -> 0 | AX70: =AW70*19% -> 0 | AY70: =AW70+AX70 -> 0 | BA70: =AZ70*19% -> 0 | BB70: =AZ70+BA70 -> 0
B71: 6.10 | C71: PASTILLAS DE FRENO TRASERAS (JUEGO) | E71: =D71*19% -> 0 | F71: =D71+E71 -> 0 | H71: =G71*19% -> 0 | I71: =G71+H71 -> 0 | K71: =J71*19% -> 0 | L71: =J71+K71 -> 0 | N71: =M71*19% -> 0 | O71: =M71+N71 -> 0 | Q71: =P71*19% -> 0 | R71: =P71+Q71 -> 0 | T71: =S71*19% -> 0 | U71: =S71+T71 -> 0 | W71: =V71*19% -> 0 | X71: =V71+W71 -> 0 | Z71: =Y71*19% -> 0 | AA71: =Y71+Z71 -> 0 | AC71: =AB71*19% -> 0 | AD71: =AB71+AC71 -> 0 | AF71: =AE71*19% -> 0 | AG71: =AE71+AF71 -> 0 | AI71: =AH71*19% -> 0 | AJ71: =AH71+AI71 -> 0 | AL71: =AK71*19% -> 0 | AM71: =AK71+AL71 -> 0 | AO71: =AN71*19% -> 0 | AP71: =AN71+AO71 -> 0 | AR71: =AQ71*19% -> 0 | AS71: =AQ71+AR71 -> 0 | AU71: =AT71*19% -> 0 | AV71: =AT71+AU71 -> 0 | AX71: =AW71*19% -> 0 | AY71: =AW71+AX71 -> 0 | BA71: =AZ71*19% -> 0 | BB71: =AZ71+BA71 -> 0
B72: 6.11 | C72: SENSOR FRENO DELANTERO | E72: =D72*19% -> 0 | F72: =D72+E72 -> 0 | H72: =G72*19% -> 0 | I72: =G72+H72 -> 0 | K72: =J72*19% -> 0 | L72: =J72+K72 -> 0 | N72: =M72*19% -> 0 | O72: =M72+N72 -> 0 | Q72: =P72*19% -> 0 | R72: =P72+Q72 -> 0 | T72: =S72*19% -> 0 | U72: =S72+T72 -> 0 | W72: =V72*19% -> 0 | X72: =V72+W72 -> 0 | Z72: =Y72*19% -> 0 | AA72: =Y72+Z72 -> 0 | AC72: =AB72*19% -> 0 | AD72: =AB72+AC72 -> 0 | AF72: =AE72*19% -> 0 | AG72: =AE72+AF72 -> 0 | AI72: =AH72*19% -> 0 | AJ72: =AH72+AI72 -> 0 | AL72: =AK72*19% -> 0 | AM72: =AK72+AL72 -> 0 | AO72: =AN72*19% -> 0 | AP72: =AN72+AO72 -> 0 | AR72: =AQ72*19% -> 0 | AS72: =AQ72+AR72 -> 0 | AU72: =AT72*19% -> 0 | AV72: =AT72+AU72 -> 0 | AX72: =AW72*19% -> 0 | AY72: =AW72+AX72 -> 0 | BA72: =AZ72*19% -> 0 | BB72: =AZ72+BA72 -> 0
B73: 6.12 | C73: SENSOR FRENO TRASERO | E73: =D73*19% -> 0 | F73: =D73+E73 -> 0 | H73: =G73*19% -> 0 | I73: =G73+H73 -> 0 | K73: =J73*19% -> 0 | L73: =J73+K73 -> 0 | N73: =M73*19% -> 0 | O73: =M73+N73 -> 0 | Q73: =P73*19% -> 0 | R73: =P73+Q73 -> 0 | T73: =S73*19% -> 0 | U73: =S73+T73 -> 0 | W73: =V73*19% -> 0 | X73: =V73+W73 -> 0 | Z73: =Y73*19% -> 0 | AA73: =Y73+Z73 -> 0 | AC73: =AB73*19% -> 0 | AD73: =AB73+AC73 -> 0 | AF73: =AE73*19% -> 0 | AG73: =AE73+AF73 -> 0 | AI73: =AH73*19% -> 0 | AJ73: =AH73+AI73 -> 0 | AL73: =AK73*19% -> 0 | AM73: =AK73+AL73 -> 0 | AO73: =AN73*19% -> 0 | AP73: =AN73+AO73 -> 0 | AR73: =AQ73*19% -> 0 | AS73: =AQ73+AR73 -> 0 | AU73: =AT73*19% -> 0 | AV73: =AT73+AU73 -> 0 | AX73: =AW73*19% -> 0 | AY73: =AW73+AX73 -> 0 | BA73: =AZ73*19% -> 0 | BB73: =AZ73+BA73 -> 0
B74: 7 | C74: SISTEMA ELÉCTRICO | D74: 0 | E74: 0 | F74: 0 | G74: 0 | H74: 0 | I74: 0 | J74: 0 | K74: 0 | L74: 0 | M74: 0 | N74: 0 | O74: 0 | P74: 0 | Q74: 0 | R74: 0 | S74: 0 | T74: 0 | U74: 0 | V74: 0 | W74: 0 | X74: 0 | Y74: 0 | Z74: 0 | AA74: 0 | AB74: 0 | AC74: 0 | AD74: 0 | AE74: 0 | AF74: 0 | AG74: 0 | AH74: 0 | AI74: 0 | AJ74: 0 | AK74: 0 | AL74: 0 | AM74: 0 | AN74: 0 | AO74: 0 | AP74: 0 | AQ74: 0 | AR74: 0 | AS74: 0 | AT74: 0 | AU74: 0 | AV74: 0 | AW74: 0 | AX74: 0 | AY74: 0 | AZ74: 0 | BA74: 0 | BB74: 0
B75: 7.1 | C75: AUTOMATICO MOTOR DE ARRANQUE | E75: =D75*19% -> 0 | F75: =D75+E75 -> 0 | H75: =G75*19% -> 0 | I75: =G75+H75 -> 0 | K75: =J75*19% -> 0 | L75: =J75+K75 -> 0 | N75: =M75*19% -> 0 | O75: =M75+N75 -> 0 | Q75: =P75*19% -> 0 | R75: =P75+Q75 -> 0 | T75: =S75*19% -> 0 | U75: =S75+T75 -> 0 | W75: =V75*19% -> 0 | X75: =V75+W75 -> 0 | Z75: =Y75*19% -> 0 | AA75: =Y75+Z75 -> 0 | AC75: =AB75*19% -> 0 | AD75: =AB75+AC75 -> 0 | AF75: =AE75*19% -> 0 | AG75: =AE75+AF75 -> 0 | AI75: =AH75*19% -> 0 | AJ75: =AH75+AI75 -> 0 | AL75: =AK75*19% -> 0 | AM75: =AK75+AL75 -> 0 | AO75: =AN75*19% -> 0 | AP75: =AN75+AO75 -> 0 | AR75: =AQ75*19% -> 0 | AS75: =AQ75+AR75 -> 0 | AU75: =AT75*19% -> 0 | AV75: =AT75+AU75 -> 0 | AX75: =AW75*19% -> 0 | AY75: =AW75+AX75 -> 0 | BA75: =AZ75*19% -> 0 | BB75: =AZ75+BA75 -> 0
B76: 7.2 | C76: BATERIA | E76: =D76*19% -> 0 | F76: =D76+E76 -> 0 | H76: =G76*19% -> 0 | I76: =G76+H76 -> 0 | K76: =J76*19% -> 0 | L76: =J76+K76 -> 0 | N76: =M76*19% -> 0 | O76: =M76+N76 -> 0 | Q76: =P76*19% -> 0 | R76: =P76+Q76 -> 0 | T76: =S76*19% -> 0 | U76: =S76+T76 -> 0 | W76: =V76*19% -> 0 | X76: =V76+W76 -> 0 | Z76: =Y76*19% -> 0 | AA76: =Y76+Z76 -> 0 | AC76: =AB76*19% -> 0 | AD76: =AB76+AC76 -> 0 | AF76: =AE76*19% -> 0 | AG76: =AE76+AF76 -> 0 | AI76: =AH76*19% -> 0 | AJ76: =AH76+AI76 -> 0 | AL76: =AK76*19% -> 0 | AM76: =AK76+AL76 -> 0 | AO76: =AN76*19% -> 0 | AP76: =AN76+AO76 -> 0 | AR76: =AQ76*19% -> 0 | AS76: =AQ76+AR76 -> 0 | AU76: =AT76*19% -> 0 | AV76: =AT76+AU76 -> 0 | AX76: =AW76*19% -> 0 | AY76: =AW76+AX76 -> 0 | BA76: =AZ76*19% -> 0 | BB76: =AZ76+BA76 -> 0
B77: 7.3 | C77: BOBINA CAPTADORA | E77: =D77*19% -> 0 | F77: =D77+E77 -> 0 | H77: =G77*19% -> 0 | I77: =G77+H77 -> 0 | K77: =J77*19% -> 0 | L77: =J77+K77 -> 0 | N77: =M77*19% -> 0 | O77: =M77+N77 -> 0 | Q77: =P77*19% -> 0 | R77: =P77+Q77 -> 0 | T77: =S77*19% -> 0 | U77: =S77+T77 -> 0 | W77: =V77*19% -> 0 | X77: =V77+W77 -> 0 | Z77: =Y77*19% -> 0 | AA77: =Y77+Z77 -> 0 | AC77: =AB77*19% -> 0 | AD77: =AB77+AC77 -> 0 | AF77: =AE77*19% -> 0 | AG77: =AE77+AF77 -> 0 | AI77: =AH77*19% -> 0 | AJ77: =AH77+AI77 -> 0 | AL77: =AK77*19% -> 0 | AM77: =AK77+AL77 -> 0 | AO77: =AN77*19% -> 0 | AP77: =AN77+AO77 -> 0 | AR77: =AQ77*19% -> 0 | AS77: =AQ77+AR77 -> 0 | AU77: =AT77*19% -> 0 | AV77: =AT77+AU77 -> 0 | AX77: =AW77*19% -> 0 | AY77: =AW77+AX77 -> 0 | BA77: =AZ77*19% -> 0 | BB77: =AZ77+BA77 -> 0
B78: 7.4 | C78: BOBINA DE IGNICION ALTA | E78: =D78*19% -> 0 | F78: =D78+E78 -> 0 | H78: =G78*19% -> 0 | I78: =G78+H78 -> 0 | K78: =J78*19% -> 0 | L78: =J78+K78 -> 0 | N78: =M78*19% -> 0 | O78: =M78+N78 -> 0 | Q78: =P78*19% -> 0 | R78: =P78+Q78 -> 0 | T78: =S78*19% -> 0 | U78: =S78+T78 -> 0 | W78: =V78*19% -> 0 | X78: =V78+W78 -> 0 | Z78: =Y78*19% -> 0 | AA78: =Y78+Z78 -> 0 | AC78: =AB78*19% -> 0 | AD78: =AB78+AC78 -> 0 | AF78: =AE78*19% -> 0 | AG78: =AE78+AF78 -> 0 | AI78: =AH78*19% -> 0 | AJ78: =AH78+AI78 -> 0 | AL78: =AK78*19% -> 0 | AM78: =AK78+AL78 -> 0 | AO78: =AN78*19% -> 0 | AP78: =AN78+AO78 -> 0 | AR78: =AQ78*19% -> 0 | AS78: =AQ78+AR78 -> 0 | AU78: =AT78*19% -> 0 | AV78: =AT78+AU78 -> 0 | AX78: =AW78*19% -> 0 | AY78: =AW78+AX78 -> 0 | BA78: =AZ78*19% -> 0 | BB78: =AZ78+BA78 -> 0
B79: 7.5 | C79: BOBINA DE CARGA | E79: =D79*19% -> 0 | F79: =D79+E79 -> 0 | H79: =G79*19% -> 0 | I79: =G79+H79 -> 0 | K79: =J79*19% -> 0 | L79: =J79+K79 -> 0 | N79: =M79*19% -> 0 | O79: =M79+N79 -> 0 | Q79: =P79*19% -> 0 | R79: =P79+Q79 -> 0 | T79: =S79*19% -> 0 | U79: =S79+T79 -> 0 | W79: =V79*19% -> 0 | X79: =V79+W79 -> 0 | Z79: =Y79*19% -> 0 | AA79: =Y79+Z79 -> 0 | AC79: =AB79*19% -> 0 | AD79: =AB79+AC79 -> 0 | AF79: =AE79*19% -> 0 | AG79: =AE79+AF79 -> 0 | AI79: =AH79*19% -> 0 | AJ79: =AH79+AI79 -> 0 | AL79: =AK79*19% -> 0 | AM79: =AK79+AL79 -> 0 | AO79: =AN79*19% -> 0 | AP79: =AN79+AO79 -> 0 | AR79: =AQ79*19% -> 0 | AS79: =AQ79+AR79 -> 0 | AU79: =AT79*19% -> 0 | AV79: =AT79+AU79 -> 0 | AX79: =AW79*19% -> 0 | AY79: =AW79+AX79 -> 0 | BA79: =AZ79*19% -> 0 | BB79: =AZ79+BA79 -> 0
B80: 7.6 | C80: BOBINA LUCES | E80: =D80*19% -> 0 | F80: =D80+E80 -> 0 | H80: =G80*19% -> 0 | I80: =G80+H80 -> 0 | K80: =J80*19% -> 0 | L80: =J80+K80 -> 0 | N80: =M80*19% -> 0 | O80: =M80+N80 -> 0 | Q80: =P80*19% -> 0 | R80: =P80+Q80 -> 0 | T80: =S80*19% -> 0 | U80: =S80+T80 -> 0 | W80: =V80*19% -> 0 | X80: =V80+W80 -> 0 | Z80: =Y80*19% -> 0 | AA80: =Y80+Z80 -> 0 | AC80: =AB80*19% -> 0 | AD80: =AB80+AC80 -> 0 | AF80: =AE80*19% -> 0 | AG80: =AE80+AF80 -> 0 | AI80: =AH80*19% -> 0 | AJ80: =AH80+AI80 -> 0 | AL80: =AK80*19% -> 0 | AM80: =AK80+AL80 -> 0 | AO80: =AN80*19% -> 0 | AP80: =AN80+AO80 -> 0 | AR80: =AQ80*19% -> 0 | AS80: =AQ80+AR80 -> 0 | AU80: =AT80*19% -> 0 | AV80: =AT80+AU80 -> 0 | AX80: =AW80*19% -> 0 | AY80: =AW80+AX80 -> 0 | BA80: =AZ80*19% -> 0 | BB80: =AZ80+BA80 -> 0
B81: 7.7 | C81: C D I | E81: =D81*19% -> 0 | F81: =D81+E81 -> 0 | H81: =G81*19% -> 0 | I81: =G81+H81 -> 0 | K81: =J81*19% -> 0 | L81: =J81+K81 -> 0 | N81: =M81*19% -> 0 | O81: =M81+N81 -> 0 | Q81: =P81*19% -> 0 | R81: =P81+Q81 -> 0 | T81: =S81*19% -> 0 | U81: =S81+T81 -> 0 | W81: =V81*19% -> 0 | X81: =V81+W81 -> 0 | Z81: =Y81*19% -> 0 | AA81: =Y81+Z81 -> 0 | AC81: =AB81*19% -> 0 | AD81: =AB81+AC81 -> 0 | AF81: =AE81*19% -> 0 | AG81: =AE81+AF81 -> 0 | AI81: =AH81*19% -> 0 | AJ81: =AH81+AI81 -> 0 | AL81: =AK81*19% -> 0 | AM81: =AK81+AL81 -> 0 | AO81: =AN81*19% -> 0 | AP81: =AN81+AO81 -> 0 | AR81: =AQ81*19% -> 0 | AS81: =AQ81+AR81 -> 0 | AU81: =AT81*19% -> 0 | AV81: =AT81+AU81 -> 0 | AX81: =AW81*19% -> 0 | AY81: =AW81+AX81 -> 0 | BA81: =AZ81*19% -> 0 | BB81: =AZ81+BA81 -> 0
B82: 7.8 | C82: DIRECCIONAL DELANTERO | E82: =D82*19% -> 0 | F82: =D82+E82 -> 0 | H82: =G82*19% -> 0 | I82: =G82+H82 -> 0 | K82: =J82*19% -> 0 | L82: =J82+K82 -> 0 | N82: =M82*19% -> 0 | O82: =M82+N82 -> 0 | Q82: =P82*19% -> 0 | R82: =P82+Q82 -> 0 | T82: =S82*19% -> 0 | U82: =S82+T82 -> 0 | W82: =V82*19% -> 0 | X82: =V82+W82 -> 0 | Z82: =Y82*19% -> 0 | AA82: =Y82+Z82 -> 0 | AC82: =AB82*19% -> 0 | AD82: =AB82+AC82 -> 0 | AF82: =AE82*19% -> 0 | AG82: =AE82+AF82 -> 0 | AI82: =AH82*19% -> 0 | AJ82: =AH82+AI82 -> 0 | AL82: =AK82*19% -> 0 | AM82: =AK82+AL82 -> 0 | AO82: =AN82*19% -> 0 | AP82: =AN82+AO82 -> 0 | AR82: =AQ82*19% -> 0 | AS82: =AQ82+AR82 -> 0 | AU82: =AT82*19% -> 0 | AV82: =AT82+AU82 -> 0 | AX82: =AW82*19% -> 0 | AY82: =AW82+AX82 -> 0 | BA82: =AZ82*19% -> 0 | BB82: =AZ82+BA82 -> 0
B83: 7.9 | C83: DIRECCIONAL TRASERO | E83: =D83*19% -> 0 | F83: =D83+E83 -> 0 | H83: =G83*19% -> 0 | I83: =G83+H83 -> 0 | K83: =J83*19% -> 0 | L83: =J83+K83 -> 0 | N83: =M83*19% -> 0 | O83: =M83+N83 -> 0 | Q83: =P83*19% -> 0 | R83: =P83+Q83 -> 0 | T83: =S83*19% -> 0 | U83: =S83+T83 -> 0 | W83: =V83*19% -> 0 | X83: =V83+W83 -> 0 | Z83: =Y83*19% -> 0 | AA83: =Y83+Z83 -> 0 | AC83: =AB83*19% -> 0 | AD83: =AB83+AC83 -> 0 | AF83: =AE83*19% -> 0 | AG83: =AE83+AF83 -> 0 | AI83: =AH83*19% -> 0 | AJ83: =AH83+AI83 -> 0 | AL83: =AK83*19% -> 0 | AM83: =AK83+AL83 -> 0 | AO83: =AN83*19% -> 0 | AP83: =AN83+AO83 -> 0 | AR83: =AQ83*19% -> 0 | AS83: =AQ83+AR83 -> 0 | AU83: =AT83*19% -> 0 | AV83: =AT83+AU83 -> 0 | AX83: =AW83*19% -> 0 | AY83: =AW83+AX83 -> 0 | BA83: =AZ83*19% -> 0 | BB83: =AZ83+BA83 -> 0
B84: 7.10 | C84: ESCOBILLAS MOTOR DE ARRANQUE | E84: =D84*19% -> 0 | F84: =D84+E84 -> 0 | H84: =G84*19% -> 0 | I84: =G84+H84 -> 0 | K84: =J84*19% -> 0 | L84: =J84+K84 -> 0 | N84: =M84*19% -> 0 | O84: =M84+N84 -> 0 | Q84: =P84*19% -> 0 | R84: =P84+Q84 -> 0 | T84: =S84*19% -> 0 | U84: =S84+T84 -> 0 | W84: =V84*19% -> 0 | X84: =V84+W84 -> 0 | Z84: =Y84*19% -> 0 | AA84: =Y84+Z84 -> 0 | AC84: =AB84*19% -> 0 | AD84: =AB84+AC84 -> 0 | AF84: =AE84*19% -> 0 | AG84: =AE84+AF84 -> 0 | AI84: =AH84*19% -> 0 | AJ84: =AH84+AI84 -> 0 | AL84: =AK84*19% -> 0 | AM84: =AK84+AL84 -> 0 | AO84: =AN84*19% -> 0 | AP84: =AN84+AO84 -> 0 | AR84: =AQ84*19% -> 0 | AS84: =AQ84+AR84 -> 0 | AU84: =AT84*19% -> 0 | AV84: =AT84+AU84 -> 0 | AX84: =AW84*19% -> 0 | AY84: =AW84+AX84 -> 0 | BA84: =AZ84*19% -> 0 | BB84: =AZ84+BA84 -> 0
B85: 7.11 | C85: FAROLA | E85: =D85*19% -> 0 | F85: =D85+E85 -> 0 | H85: =G85*19% -> 0 | I85: =G85+H85 -> 0 | K85: =J85*19% -> 0 | L85: =J85+K85 -> 0 | N85: =M85*19% -> 0 | O85: =M85+N85 -> 0 | Q85: =P85*19% -> 0 | R85: =P85+Q85 -> 0 | T85: =S85*19% -> 0 | U85: =S85+T85 -> 0 | W85: =V85*19% -> 0 | X85: =V85+W85 -> 0 | Z85: =Y85*19% -> 0 | AA85: =Y85+Z85 -> 0 | AC85: =AB85*19% -> 0 | AD85: =AB85+AC85 -> 0 | AF85: =AE85*19% -> 0 | AG85: =AE85+AF85 -> 0 | AI85: =AH85*19% -> 0 | AJ85: =AH85+AI85 -> 0 | AL85: =AK85*19% -> 0 | AM85: =AK85+AL85 -> 0 | AO85: =AN85*19% -> 0 | AP85: =AN85+AO85 -> 0 | AR85: =AQ85*19% -> 0 | AS85: =AQ85+AR85 -> 0 | AU85: =AT85*19% -> 0 | AV85: =AT85+AU85 -> 0 | AX85: =AW85*19% -> 0 | AY85: =AW85+AX85 -> 0 | BA85: =AZ85*19% -> 0 | BB85: =AZ85+BA85 -> 0
B86: 7.12 | C86: FLASER | E86: =D86*19% -> 0 | F86: =D86+E86 -> 0 | H86: =G86*19% -> 0 | I86: =G86+H86 -> 0 | K86: =J86*19% -> 0 | L86: =J86+K86 -> 0 | N86: =M86*19% -> 0 | O86: =M86+N86 -> 0 | Q86: =P86*19% -> 0 | R86: =P86+Q86 -> 0 | T86: =S86*19% -> 0 | U86: =S86+T86 -> 0 | W86: =V86*19% -> 0 | X86: =V86+W86 -> 0 | Z86: =Y86*19% -> 0 | AA86: =Y86+Z86 -> 0 | AC86: =AB86*19% -> 0 | AD86: =AB86+AC86 -> 0 | AF86: =AE86*19% -> 0 | AG86: =AE86+AF86 -> 0 | AI86: =AH86*19% -> 0 | AJ86: =AH86+AI86 -> 0 | AL86: =AK86*19% -> 0 | AM86: =AK86+AL86 -> 0 | AO86: =AN86*19% -> 0 | AP86: =AN86+AO86 -> 0 | AR86: =AQ86*19% -> 0 | AS86: =AQ86+AR86 -> 0 | AU86: =AT86*19% -> 0 | AV86: =AT86+AU86 -> 0 | AX86: =AW86*19% -> 0 | AY86: =AW86+AX86 -> 0 | BA86: =AZ86*19% -> 0 | BB86: =AZ86+BA86 -> 0
... B93: 7.19 | C93: SWICHE LUCES | E93: =D93*19% -> 0 | F93: =D93+E93 -> 0 | H93: =G93*19% -> 0 | I93: =G93+H93 -> 0 | K93: =J93*19% -> 0 | L93: =J93+K93 -> 0 | N93: =M93*19% -> 0 | O93: =M93+N93 -> 0 | Q93: =P93*19% -> 0 | R93: =P93+Q93 -> 0 | T93: =S93*19% -> 0 | U93: =S93+T93 -> 0 | W93: =V93*19% -> 0 | X93: =V93+W93 -> 0 | Z93: =Y93*19% -> 0 | AA93: =Y93+Z93 -> 0 | AC93: =AB93*19% -> 0 | AD93: =AB93+AC93 -> 0 | AF93: =AE93*19% -> 0 | AG93: =AE93+AF93 -> 0 | AI93: =AH93*19% -> 0 | AJ93: =AH93+AI93 -> 0 | AL93: =AK93*19% -> 0 | AM93: =AK93+AL93 -> 0 | AO93: =AN93*19% -> 0 | AP93: =AN93+AO93 -> 0 | AR93: =AQ93*19% -> 0 | AS93: =AQ93+AR93 -> 0 | AU93: =AT93*19% -> 0 | AV93: =AT93+AU93 -> 0 | AX93: =AW93*19% -> 0 | AY93: =AW93+AX93 -> 0 | BA93: =AZ93*19% -> 0 | BB93: =AZ93+BA93 -> 0
B94: 8 | C94: ACCESORIOS | D94: 0 | E94: 0 | F94: 0 | G94: 0 | H94: 0 | I94: 0 | J94: 0 | K94: 0 | L94: 0 | M94: 0 | N94: 0 | O94: 0 | P94: 0 | Q94: 0 | R94: 0 | S94: 0 | T94: 0 | U94: 0 | V94: 0 | W94: 0 | X94: 0 | Y94: 0 | Z94: 0 | AA94: 0 | AB94: 0 | AC94: 0 | AD94: 0 | AE94: 0 | AF94: 0 | AG94: 0 | AH94: 0 | AI94: 0 | AJ94: 0 | AK94: 0 | AL94: 0 | AM94: 0 | AN94: 0 | AO94: 0 | AP94: 0 | AQ94: 0 | AR94: 0 | AS94: 0 | AT94: 0 | AU94: 0 | AV94: 0 | AW94: 0 | AX94: 0 | AY94: 0 | AZ94: 0 | BA94: 0 | BB94: 0
B95: 8.1 | C95: ANILLO EXOSTO | E95: =D95*19% -> 0 | F95: =D95+E95 -> 0 | H95: =G95*19% -> 0 | I95: =G95+H95 -> 0 | K95: =J95*19% -> 0 | L95: =J95+K95 -> 0 | N95: =M95*19% -> 0 | O95: =M95+N95 -> 0 | Q95: =P95*19% -> 0 | R95: =P95+Q95 -> 0 | T95: =S95*19% -> 0 | U95: =S95+T95 -> 0 | W95: =V95*19% -> 0 | X95: =V95+W95 -> 0 | Z95: =Y95*19% -> 0 | AA95: =Y95+Z95 -> 0 | AC95: =AB95*19% -> 0 | AD95: =AB95+AC95 -> 0 | AF95: =AE95*19% -> 0 | AG95: =AE95+AF95 -> 0 | AI95: =AH95*19% -> 0 | AJ95: =AH95+AI95 -> 0 | AL95: =AK95*19% -> 0 | AM95: =AK95+AL95 -> 0 | AO95: =AN95*19% -> 0 | AP95: =AN95+AO95 -> 0 | AR95: =AQ95*19% -> 0 | AS95: =AQ95+AR95 -> 0 | AU95: =AT95*19% -> 0 | AV95: =AT95+AU95 -> 0 | AX95: =AW95*19% -> 0 | AY95: =AW95+AX95 -> 0 | BA95: =AZ95*19% -> 0 | BB95: =AZ95+BA95 -> 0
B96: 8.2 | C96: CALAPIE | E96: =D96*19% -> 0 | F96: =D96+E96 -> 0 | H96: =G96*19% -> 0 | I96: =G96+H96 -> 0 | K96: =J96*19% -> 0 | L96: =J96+K96 -> 0 | N96: =M96*19% -> 0 | O96: =M96+N96 -> 0 | Q96: =P96*19% -> 0 | R96: =P96+Q96 -> 0 | T96: =S96*19% -> 0 | U96: =S96+T96 -> 0 | W96: =V96*19% -> 0 | X96: =V96+W96 -> 0 | Z96: =Y96*19% -> 0 | AA96: =Y96+Z96 -> 0 | AC96: =AB96*19% -> 0 | AD96: =AB96+AC96 -> 0 | AF96: =AE96*19% -> 0 | AG96: =AE96+AF96 -> 0 | AI96: =AH96*19% -> 0 | AJ96: =AH96+AI96 -> 0 | AL96: =AK96*19% -> 0 | AM96: =AK96+AL96 -> 0 | AO96: =AN96*19% -> 0 | AP96: =AN96+AO96 -> 0 | AR96: =AQ96*19% -> 0 | AS96: =AQ96+AR96 -> 0 | AU96: =AT96*19% -> 0 | AV96: =AT96+AU96 -> 0 | AX96: =AW96*19% -> 0 | AY96: =AW96+AX96 -> 0 | BA96: =AZ96*19% -> 0 | BB96: =AZ96+BA96 -> 0
B97: 8.3 | C97: ESPEJOS (JUEGO) | E97: =D97*19% -> 0 | F97: =D97+E97 -> 0 | H97: =G97*19% -> 0 | I97: =G97+H97 -> 0 | K97: =J97*19% -> 0 | L97: =J97+K97 -> 0 | N97: =M97*19% -> 0 | O97: =M97+N97 -> 0 | Q97: =P97*19% -> 0 | R97: =P97+Q97 -> 0 | T97: =S97*19% -> 0 | U97: =S97+T97 -> 0 | W97: =V97*19% -> 0 | X97: =V97+W97 -> 0 | Z97: =Y97*19% -> 0 | AA97: =Y97+Z97 -> 0 | AC97: =AB97*19% -> 0 | AD97: =AB97+AC97 -> 0 | AF97: =AE97*19% -> 0 | AG97: =AE97+AF97 -> 0 | AI97: =AH97*19% -> 0 | AJ97: =AH97+AI97 -> 0 | AL97: =AK97*19% -> 0 | AM97: =AK97+AL97 -> 0 | AO97: =AN97*19% -> 0 | AP97: =AN97+AO97 -> 0 | AR97: =AQ97*19% -> 0 | AS97: =AQ97+AR97 -> 0 | AU97: =AT97*19% -> 0 | AV97: =AT97+AU97 -> 0 | AX97: =AW97*19% -> 0 | AY97: =AW97+AX97 -> 0 | BA97: =AZ97*19% -> 0 | BB97: =AZ97+BA97 -> 0
B98: 8.4 | C98: LLANTA DELANTERA | E98: =D98*19% -> 0 | F98: =D98+E98 -> 0 | H98: =G98*19% -> 0 | I98: =G98+H98 -> 0 | K98: =J98*19% -> 0 | L98: =J98+K98 -> 0 | N98: =M98*19% -> 0 | O98: =M98+N98 -> 0 | Q98: =P98*19% -> 0 | R98: =P98+Q98 -> 0 | T98: =S98*19% -> 0 | U98: =S98+T98 -> 0 | W98: =V98*19% -> 0 | X98: =V98+W98 -> 0 | Z98: =Y98*19% -> 0 | AA98: =Y98+Z98 -> 0 | AC98: =AB98*19% -> 0 | AD98: =AB98+AC98 -> 0 | AF98: =AE98*19% -> 0 | AG98: =AE98+AF98 -> 0 | AI98: =AH98*19% -> 0 | AJ98: =AH98+AI98 -> 0 | AL98: =AK98*19% -> 0 | AM98: =AK98+AL98 -> 0 | AO98: =AN98*19% -> 0 | AP98: =AN98+AO98 -> 0 | AR98: =AQ98*19% -> 0 | AS98: =AQ98+AR98 -> 0 | AU98: =AT98*19% -> 0 | AV98: =AT98+AU98 -> 0 | AX98: =AW98*19% -> 0 | AY98: =AW98+AX98 -> 0 | BA98: =AZ98*19% -> 0 | BB98: =AZ98+BA98 -> 0
B99: 8.5 | C99: LLANTA TRASERA | E99: =D99*19% -> 0 | F99: =D99+E99 -> 0 | H99: =G99*19% -> 0 | I99: =G99+H99 -> 0 | K99: =J99*19% -> 0 | L99: =J99+K99 -> 0 | N99: =M99*19% -> 0 | O99: =M99+N99 -> 0 | Q99: =P99*19% -> 0 | R99: =P99+Q99 -> 0 | T99: =S99*19% -> 0 | U99: =S99+T99 -> 0 | W99: =V99*19% -> 0 | X99: =V99+W99 -> 0 | Z99: =Y99*19% -> 0 | AA99: =Y99+Z99 -> 0 | AC99: =AB99*19% -> 0 | AD99: =AB99+AC99 -> 0 | AF99: =AE99*19% -> 0 | AG99: =AE99+AF99 -> 0 | AI99: =AH99*19% -> 0 | AJ99: =AH99+AI99 -> 0 | AL99: =AK99*19% -> 0 | AM99: =AK99+AL99 -> 0 | AO99: =AN99*19% -> 0 | AP99: =AN99+AO99 -> 0 | AR99: =AQ99*19% -> 0 | AS99: =AQ99+AR99 -> 0 | AU99: =AT99*19% -> 0 | AV99: =AT99+AU99 -> 0 | AX99: =AW99*19% -> 0 | AY99: =AW99+AX99 -> 0 | BA99: =AZ99*19% -> 0 | BB99: =AZ99+BA99 -> 0
B100: 8.6 | C100: NEUMATICO DELANTERO | E100: =D100*19% -> 0 | F100: =D100+E100 -> 0 | H100: =G100*19% -> 0 | I100: =G100+H100 -> 0 | K100: =J100*19% -> 0 | L100: =J100+K100 -> 0 | N100: =M100*19% -> 0 | O100: =M100+N100 -> 0 | Q100: =P100*19% -> 0 | R100: =P100+Q100 -> 0 | T100: =S100*19% -> 0 | U100: =S100+T100 -> 0 | W100: =V100*19% -> 0 | X100: =V100+W100 -> 0 | Z100: =Y100*19% -> 0 | AA100: =Y100+Z100 -> 0 | AC100: =AB100*19% -> 0 | AD100: =AB100+AC100 -> 0 | AF100: =AE100*19% -> 0 | AG100: =AE100+AF100 -> 0 | AI100: =AH100*19% -> 0 | AJ100: =AH100+AI100 -> 0 | AL100: =AK100*19% -> 0 | AM100: =AK100+AL100 -> 0 | AO100: =AN100*19% -> 0 | AP100: =AN100+AO100 -> 0 | AR100: =AQ100*19% -> 0 | AS100: =AQ100+AR100 -> 0 | AU100: =AT100*19% -> 0 | AV100: =AT100+AU100 -> 0 | AX100: =AW100*19% -> 0 | AY100: =AW100+AX100 -> 0 | BA100: =AZ100*19% -> 0 | BB100: =AZ100+BA100 -> 0
B101: 8.7 | C101: NEUMATICO TRASERO | E101: =D101*19% -> 0 | F101: =D101+E101 -> 0 | H101: =G101*19% -> 0 | I101: =G101+H101 -> 0 | K101: =J101*19% -> 0 | L101: =J101+K101 -> 0 | N101: =M101*19% -> 0 | O101: =M101+N101 -> 0 | Q101: =P101*19% -> 0 | R101: =P101+Q101 -> 0 | T101: =S101*19% -> 0 | U101: =S101+T101 -> 0 | W101: =V101*19% -> 0 | X101: =V101+W101 -> 0 | Z101: =Y101*19% -> 0 | AA101: =Y101+Z101 -> 0 | AC101: =AB101*19% -> 0 | AD101: =AB101+AC101 -> 0 | AF101: =AE101*19% -> 0 | AG101: =AE101+AF101 -> 0 | AI101: =AH101*19% -> 0 | AJ101: =AH101+AI101 -> 0 | AL101: =AK101*19% -> 0 | AM101: =AK101+AL101 -> 0 | AO101: =AN101*19% -> 0 | AP101: =AN101+AO101 -> 0 | AR101: =AQ101*19% -> 0 | AS101: =AQ101+AR101 -> 0 | AU101: =AT101*19% -> 0 | AV101: =AT101+AU101 -> 0 | AX101: =AW101*19% -> 0 | AY101: =AW101+AX101 -> 0 | BA101: =AZ101*19% -> 0 | BB101: =AZ101+BA101 -> 0
B102: 8.8 | C102: RIN DELANTERO | E102: =D102*19% -> 0 | F102: =D102+E102 -> 0 | H102: =G102*19% -> 0 | I102: =G102+H102 -> 0 | K102: =J102*19% -> 0 | L102: =J102+K102 -> 0 | N102: =M102*19% -> 0 | O102: =M102+N102 -> 0 | Q102: =P102*19% -> 0 | R102: =P102+Q102 -> 0 | T102: =S102*19% -> 0 | U102: =S102+T102 -> 0 | W102: =V102*19% -> 0 | X102: =V102+W102 -> 0 | Z102: =Y102*19% -> 0 | AA102: =Y102+Z102 -> 0 | AC102: =AB102*19% -> 0 | AD102: =AB102+AC102 -> 0 | AF102: =AE102*19% -> 0 | AG102: =AE102+AF102 -> 0 | AI102: =AH102*19% -> 0 | AJ102: =AH102+AI102 -> 0 | AL102: =AK102*19% -> 0 | AM102: =AK102+AL102 -> 0 | AO102: =AN102*19% -> 0 | AP102: =AN102+AO102 -> 0 | AR102: =AQ102*19% -> 0 | AS102: =AQ102+AR102 -> 0 | AU102: =AT102*19% -> 0 | AV102: =AT102+AU102 -> 0 | AX102: =AW102*19% -> 0 | AY102: =AW102+AX102 -> 0 | BA102: =AZ102*19% -> 0 | BB102: =AZ102+BA102 -> 0
B103: 8.9 | C103: RIN TRASERO | E103: =D103*19% -> 0 | F103: =D103+E103 -> 0 | H103: =G103*19% -> 0 | I103: =G103+H103 -> 0 | K103: =J103*19% -> 0 | L103: =J103+K103 -> 0 | N103: =M103*19% -> 0 | O103: =M103+N103 -> 0 | Q103: =P103*19% -> 0 | R103: =P103+Q103 -> 0 | T103: =S103*19% -> 0 | U103: =S103+T103 -> 0 | W103: =V103*19% -> 0 | X103: =V103+W103 -> 0 | Z103: =Y103*19% -> 0 | AA103: =Y103+Z103 -> 0 | AC103: =AB103*19% -> 0 | AD103: =AB103+AC103 -> 0 | AF103: =AE103*19% -> 0 | AG103: =AE103+AF103 -> 0 | AI103: =AH103*19% -> 0 | AJ103: =AH103+AI103 -> 0 | AL103: =AK103*19% -> 0 | AM103: =AK103+AL103 -> 0 | AO103: =AN103*19% -> 0 | AP103: =AN103+AO103 -> 0 | AR103: =AQ103*19% -> 0 | AS103: =AQ103+AR103 -> 0 | AU103: =AT103*19% -> 0 | AV103: =AT103+AU103 -> 0 | AX103: =AW103*19% -> 0 | AY103: =AW103+AX103 -> 0 | BA103: =AZ103*19% -> 0 | BB103: =AZ103+BA103 -> 0
B104: 8.10 | C104: SOPORTE GATO | E104: =D104*19% -> 0 | F104: =D104+E104 -> 0 | H104: =G104*19% -> 0 | I104: =G104+H104 -> 0 | K104: =J104*19% -> 0 | L104: =J104+K104 -> 0 | N104: =M104*19% -> 0 | O104: =M104+N104 -> 0 | Q104: =P104*19% -> 0 | R104: =P104+Q104 -> 0 | T104: =S104*19% -> 0 | U104: =S104+T104 -> 0 | W104: =V104*19% -> 0 | X104: =V104+W104 -> 0 | Z104: =Y104*19% -> 0 | AA104: =Y104+Z104 -> 0 | AC104: =AB104*19% -> 0 | AD104: =AB104+AC104 -> 0 | AF104: =AE104*19% -> 0 | AG104: =AE104+AF104 -> 0 | AI104: =AH104*19% -> 0 | AJ104: =AH104+AI104 -> 0 | AL104: =AK104*19% -> 0 | AM104: =AK104+AL104 -> 0 | AO104: =AN104*19% -> 0 | AP104: =AN104+AO104 -> 0 | AR104: =AQ104*19% -> 0 | AS104: =AQ104+AR104 -> 0 | AU104: =AT104*19% -> 0 | AV104: =AT104+AU104 -> 0 | AX104: =AW104*19% -> 0 | AY104: =AW104+AX104 -> 0 | BA104: =AZ104*19% -> 0 | BB104: =AZ104+BA104 -> 0
B105: 8.11 | C105: SOPORTE PATA | E105: =D105*19% -> 0 | F105: =D105+E105 -> 0 | H105: =G105*19% -> 0 | I105: =G105+H105 -> 0 | K105: =J105*19% -> 0 | L105: =J105+K105 -> 0 | N105: =M105*19% -> 0 | O105: =M105+N105 -> 0 | Q105: =P105*19% -> 0 | R105: =P105+Q105 -> 0 | T105: =S105*19% -> 0 | U105: =S105+T105 -> 0 | W105: =V105*19% -> 0 | X105: =V105+W105 -> 0 | Z105: =Y105*19% -> 0 | AA105: =Y105+Z105 -> 0 | AC105: =AB105*19% -> 0 | AD105: =AB105+AC105 -> 0 | AF105: =AE105*19% -> 0 | AG105: =AE105+AF105 -> 0 | AI105: =AH105*19% -> 0 | AJ105: =AH105+AI105 -> 0 | AL105: =AK105*19% -> 0 | AM105: =AK105+AL105 -> 0 | AO105: =AN105*19% -> 0 | AP105: =AN105+AO105 -> 0 | AR105: =AQ105*19% -> 0 | AS105: =AQ105+AR105 -> 0 | AU105: =AT105*19% -> 0 | AV105: =AT105+AU105 -> 0 | AX105: =AW105*19% -> 0 | AY105: =AW105+AX105 -> 0 | BA105: =AZ105*19% -> 0 | BB105: =AZ105+BA105 -> 0
B106: 8.12 | C106: TAPA DE COMBUSTIBLE | E106: =D106*19% -> 0 | F106: =D106+E106 -> 0 | H106: =G106*19% -> 0 | I106: =G106+H106 -> 0 | K106: =J106*19% -> 0 | L106: =J106+K106 -> 0 | N106: =M106*19% -> 0 | O106: =M106+N106 -> 0 | Q106: =P106*19% -> 0 | R106: =P106+Q106 -> 0 | T106: =S106*19% -> 0 | U106: =S106+T106 -> 0 | W106: =V106*19% -> 0 | X106: =V106+W106 -> 0 | Z106: =Y106*19% -> 0 | AA106: =Y106+Z106 -> 0 | AC106: =AB106*19% -> 0 | AD106: =AB106+AC106 -> 0 | AF106: =AE106*19% -> 0 | AG106: =AE106+AF106 -> 0 | AI106: =AH106*19% -> 0 | AJ106: =AH106+AI106 -> 0 | AL106: =AK106*19% -> 0 | AM106: =AK106+AL106 -> 0 | AO106: =AN106*19% -> 0 | AP106: =AN106+AO106 -> 0 | AR106: =AQ106*19% -> 0 | AS106: =AQ106+AR106 -> 0 | AU106: =AT106*19% -> 0 | AV106: =AT106+AU106 -> 0 | AX106: =AW106*19% -> 0 | AY106: =AW106+AX106 -> 0 | BA106: =AZ106*19% -> 0 | BB106: =AZ106+BA106 -> 0
B107: 8.13 | C107: TAPA LATERAL L Y/O R | E107: =D107*19% -> 0 | F107: =D107+E107 -> 0 | H107: =G107*19% -> 0 | I107: =G107+H107 -> 0 | K107: =J107*19% -> 0 | L107: =J107+K107 -> 0 | N107: =M107*19% -> 0 | O107: =M107+N107 -> 0 | Q107: =P107*19% -> 0 | R107: =P107+Q107 -> 0 | T107: =S107*19% -> 0 | U107: =S107+T107 -> 0 | W107: =V107*19% -> 0 | X107: =V107+W107 -> 0 | Z107: =Y107*19% -> 0 | AA107: =Y107+Z107 -> 0 | AC107: =AB107*19% -> 0 | AD107: =AB107+AC107 -> 0 | AF107: =AE107*19% -> 0 | AG107: =AE107+AF107 -> 0 | AI107: =AH107*19% -> 0 | AJ107: =AH107+AI107 -> 0 | AL107: =AK107*19% -> 0 | AM107: =AK107+AL107 -> 0 | AO107: =AN107*19% -> 0 | AP107: =AN107+AO107 -> 0 | AR107: =AQ107*19% -> 0 | AS107: =AQ107+AR107 -> 0 | AU107: =AT107*19% -> 0 | AV107: =AT107+AU107 -> 0 | AX107: =AW107*19% -> 0 | AY107: =AW107+AX107 -> 0 | BA107: =AZ107*19% -> 0 | BB107: =AZ107+BA107 -> 0
C108: VALORES TOTALES | D108: =SUM(D9:D107) -> 0 | E108: =SUM(E9:E107) -> 0 | F108: =SUM(F9:F107) -> 0 | G108: =SUM(G9:G107) -> 0 | H108: =SUM(H9:H107) -> 0 | I108: =SUM(I9:I107) -> 0 | J108: =SUM(J9:J107) -> 0 | K108: =SUM(K9:K107) -> 0 | ... BB108: =SUM(BB9:BB107) -> 0
C111: NOTA 1: La Oferta Económica deberá ser diligenciada de acuerdo a la actividad económica del proponente y cada ítem por valor unitario. NOTA 2: Para el diligenciamiento de la Oferta Económica deberán tenerse en cuentas las causales de rechazo del Pliego de Condiciones. NOTA 3: Los valores que se inlcuyan para cada bien y/o servicio no podrán superar los precios techo contenidos en el documento denominado "Complemento del Estudio del Sector".

Sheet REPUESTOS COMUNES
B2: OFERTA ECONÓMICA LOTE No. 3 - NARIÑO | D2: REPUESTOS COMUNES MOTOCICLETAS MULTIMARCA
D4: MANTENIMIENTO MOTOS
D5: *** Incluye Costos Directos e Indirectos
B7: ITEM | C7: DESCRIPCION | D7: PRESENTACION | E7: SUBTOTAL | F7: IVA | G7: VALOR TOTAL
B8: 1 | C8: ACEITE MINERAL | D8: CUARTO | F8: =E8*19% -> 0 | G8: =E8+F8 -> 0
B9: 2 | C9: ACEITE HIDRAULICO | D9: CUARTO | F9: =E9*19% -> 0 | G9: =E9+F9 -> 0
B10: 3 | C10: ACEITE SINTETICO | D10: UNIDAD | F10: =E10*19% -> 0 | G10: =E10+F10 -> 0
B11: 4 | C11: ABRAZADERA METALICA GRANDE | D11: CUARTO | F11: =E11*19% -> 0 | G11: =E11+F11 -> 0
B12: 5 | C12: ABRAZADERA METALICA MEDIANA | D12: CUARTO | F12: =E12*19% -> 0 | G12: =E12+F12 -> 0
B13: 6 | C13: ABRAZADERA METALICA PEQUEÑA | D13: UNIDAD | F13: =E13*19% -> 0 | G13: =E13+F13 -> 0
B14: 7 | C14: ABRAZADERA PLASTICA | D14: UNIDAD | F14: =E14*19% -> 0 | G14: =E14+F14 -> 0
B15: 8 | C15: BOMBILLO DIRECCIONAL | D15: JUEGO | F15: =E15*19% -> 0 | G15: =E15+F15 -> 0
B16: 9 | C16: BOMBILLO FAROLA | D16: UNIDAD | F16: =E16*19% -> 0 | G16: =E16+F16 -> 0
B17: 10 | C17: BOMBILLO MUELA | D17: UNIDAD | F17: =E17*19% -> 0 | G17: =E17+F17 -> 0
B18: 11 | C18: BOMBILLO STOP | D18: UNIDAD | F18: =E18*19% -> 0 | G18: =E18+F18 -> 0
B19: 12 | C19: FLASHER | D19: UNIDAD | F19: =E19*19% -> 0 | G19: =E19+F19 -> 0
... B28: 21 | C28: SOKET RELAY | D28: UNIDAD | F28: =E28*19% -> 0 | G28: =E28+F28 -> 0
D29: TOTALES | E29: =SUM(E8:E28) -> 0 | F29: =SUM(F8:F28) -> 0 | G29: =SUM(G8:G28) -> 0
B32: NOTA 1: La Oferta Económica deberá ser diligenciada de acuerdo a la actividad económica del proponente y cada ítem por valor unitario. NOTA 2: Para el diligenciamiento de la Oferta Económica deberán tenerse en cuentas las causales de rechazo del Pliego de Condiciones. NOTA 3: Los valores que se inlcuyan para cada bien y/o servicio no podrán superar los precios techo contenidos en el documento denominado "Complemento del Estudio del Sector".

Sheet MANO DE OBRA
B2: OFERTA ECONÓMICA LOTE No. 3 - NARIÑO | D2: MANO DE OBRA
D3: MANTENIMIENTO MOTOCICLETAS
D5: *** Incluye Costos Directos e Indirectos
B7: ITEM | D7: CILINDRAJE HASTA 249cc | G7: CILINDRAJE IGUAL O SUPERIOR A 250cc
B8: DESCRIPCION | D8: SUBTOTAL | E8: IVA | F8: TOTAL | G8: SUBTOTAL | H8: IVA | I8: TOTAL
B9: 1 | C9: SINCRONIZACION | D9: 0 | E9: =D9*19% -> 0 | F9: 0 | G9: 0 | H9: 0 | I9: 0
B10: 1.1 | C10: CALIBRAR VALVULAS | E10: =D10*19% -> 0 | F10: =D10+E10 -> 0 | H10: =G10*19% -> 0 | I10: =G10+H10 -> 0
B11: 1.2 | C11: CAMBIO BOBINA IGNICION | E11: =D11*19% -> 0 | F11: =D11+E11 -> 0 | H11: =G11*19% -> 0 | I11: =G11+H11 -> 0
B12: 1.3 | C12: CAMBIO BUJIA | E12: =D12*19% -> 0 | F12: =D12+E12 -> 0 | H12: =G12*19% -> 0 | I12: =G12+H12 -> 0
B13: 1.4 | C13: CAMBIO CDI | E13: =D13*19% -> 0 | F13: =D13+E13 -> 0 | H13: =G13*19% -> 0 | I13: =G13+H13 -> 0
B14: 1.5 | C14: CAMBIO FILTRO AIRE | E14: =D14*19% -> 0 | F14: =D14+E14 -> 0 | H14: =G14*19% -> 0 | I14: =G14+H14 -> 0
B15: 1.6 | C15: CAMBIO GUAYA ACELERADOR | E15: =D15*19% -> 0 | F15: =D15+E15 -> 0 | H15: =G15*19% -> 0 | I15: =G15+H15 -> 0
B16: 1.7 | C16: CAMBIO GUAYA CHOQUE | E16: =D16*19% -> 0 | F16: =D16+E16 -> 0 | H16: =G16*19% -> 0 | I16: =G16+H16 -> 0
B17: 1.8 | C17: CAMBIO LLAVE DE COMBUSTIBLE | E17: =D17*19% -> 0 | F17: =D17+E17 -> 0 | H17: =G17*19% -> 0 | I17: =G17+H17 -> 0
B18: 1.9 | C18: LIMPIEZA CARBURADOR | E18: =D18*19% -> 0 | F18: =D18+E18 -> 0 | H18: =G18*19% -> 0 | I18: =G18+H18 -> 0
B19: 1.10 | C19: SINCRONIZAR MOTOR | E19: =D19*19% -> 0 | F19: =D19+E19 -> 0 | H19: =G19*19% -> 0 | I19: =G19+H19 -> 0
B20: 2 | C20: MOTOR | D20: 0 | E20: 0 | F20: 0 | G20: 0 | H20: 0 | I20: 0
B21: 2.1 | C21: ANILLAR MOTOR | E21: =D21*19% -> 0 | F21: =D21+E21 -> 0 | H21: =G21*19% -> 0 | I21: =G21+H21 -> 0
B22: 2.2 | C22: ASENTAR BANCADA | E22: =D22*19% -> 0 | F22: =D22+E22 -> 0 | H22: =G22*19% -> 0 | I22: =G22+H22 -> 0
B23: 2.3 | C23: ASENTAR VALVULAS | E23: =D23*19% -> 0 | F23: =D23+E23 -> 0 | H23: =G23*19% -> 0 | I23: =G23+H23 -> 0
B24: 2.4 | C24: CALIBRAR VALVULAS | E24: =D24*19% -> 0 | F24: =D24+E24 -> 0 | H24: =G24*19% -> 0 | I24: =G24+H24 -> 0
B25: 2.5 | C25: CAMBIO BALANCINES | E25: =D25*19% -> 0 | F25: =D25+E25 -> 0 | H25: =G25*19% -> 0 | I25: =G25+H25 -> 0
B26: 2.6 | C26: CAMBIO BOMBA DE ACEITE | E26: =D26*19% -> 0 | F26: =D26+E26 -> 0 | H26: =G26*19% -> 0 | I26: =G26+H26 -> 0
B27: 2.7 | C27: CAMBIO EMPAQUE CULATA | E27: =D27*19% -> 0 | F27: =D27+E27 -> 0 | H27: =G27*19% -> 0 | I27: =G27+H27 -> 0
B28: 2.8 | C28: CAMBIO EMPAQUE MULTIPLE | E28: =D28*19% -> 0 | F28: =D28+E28 -> 0 | H28: =G28*19% -> 0 | I28: =G28+H28 -> 0
B29: 2.9 | C29: CAMBIO OBTURADORES | E29: =D29*19% -> 0 | F29: =D29+E29 -> 0 | H29: =G29*19% -> 0 | I29: =G29+H29 -> 0
B30: 2.10 | C30: CAMBIO RETENCIGUEÑAL | E30: =D30*19% -> 0 | F30: =D30+E30 -> 0 | H30: =G30*19% -> 0 | I30: =G30+H30 -> 0
B31: 2.11 | C31: CAMBIO RODAMIENTOS MOTOR | E31: =D31*19% -> 0 | F31: =D31+E31 -> 0 | H31: =G31*19% -> 0 | I31: =G31+H31 -> 0
B32: 2.12 | C32: CEPILLAR CULATA | E32: =D32*19% -> 0 | F32: =D32+E32 -> 0 | H32: =G32*19% -> 0 | I32: =G32+H32 -> 0
... B38: 2.18 | C38: RECTIFICAR GUIAS VALVULAS | E38: =D38*19% -> 0 | F38: =D38+E38 -> 0 | H38: =G38*19% -> 0 | I38: =G38+H38 -> 0
B39: 3 | C39: SISTEMA DE TRANSFERENCIA | D39: 0 | E39: 0 | F39: 0 | G39: 0 | H39: 0 | I39: 0
B40: 3.1 | C40: CAMBIO KIT DE ARRASTRE | E40: =D40*19% -> 0 | F40: =D40+E40 -> 0 | H40: =G40*19% -> 0 | I40: =G40+H40 -> 0
B41: 3.2 | C41: CAMBIO EMPAQUE TAPA EMBRAGUE | E41: =D41*19% -> 0 | F41: =D41+E41 -> 0 | H41: =G41*19% -> 0 | I41: =G41+H41 -> 0
B42: 3.3 | C42: CAMBIO GUAYA EMBRAGUE | E42: =D42*19% -> 0 | F42: =D42+E42 -> 0 | H42: =G42*19% -> 0 | I42: =G42+H42 -> 0
B43: 3.4 | C43: CAMBIO GUAYA VELOCIMETRO | E43: =D43*19% -> 0 | F43: =D43+E43 -> 0 | H43: =G43*19% -> 0 | I43: =G43+H43 -> 0
B44: 3.5 | C44: CAMBIO KIT DISCOS EMBRAGUE | E44: =D44*19% -> 0 | F44: =D44+E44 -> 0 | H44: =G44*19% -> 0 | I44: =G44+H44 -> 0
B45: 3.6 | C45: CAMBIO MANIJA EMBRAGUE | E45: =D45*19% -> 0 | F45: =D45+E45 -> 0 | H45: =G45*19% -> 0 | I45: =G45+H45 -> 0
B46: 3.7 | C46: CAMBIO PERA NEUTRO | E46: =D46*19% -> 0 | F46: =D46+E46 -> 0 | H46: =G46*19% -> 0 | I46: =G46+H46 -> 0
B47: 3.8 | C47: CAMBIO PIÑON VELOCIMETRO | E47: =D47*19% -> 0 | F47: =D47+E47 -> 0 | H47: =G47*19% -> 0 | I47: =G47+H47 -> 0
B48: 3.9 | C48: CAMBIO RETEN SELECTOR DE CAMBIO DE CAMBIOS | E48: =D48*19% -> 0 | F48: =D48+E48 -> 0 | H48: =G48*19% -> 0 | I48: =G48+H48 -> 0
B49: 3.10 | C49: CAMBIO RETEN DE SALIDA (PIÑON SALIDA) | E49: =D49*19% -> 0 | F49: =D49+E49 -> 0 | H49: =G49*19% -> 0 | I49: =G49+H49 -> 0
B50: 3.11 | C50: DESMONTAR Y REPARAR CAJA DE VELOCIDADES | E50: =D50*19% -> 0 | F50: =D50+E50 -> 0 | H50: =G50*19% -> 0 | I50: =G50+H50 -> 0
B51: 3.12 | C51: TENSIONAR Y LUBRICAR KIT ARRASTRE | E51: =D51*19% -> 0 | F51: =D51+E51 -> 0 | H51: =G51*19% -> 0 | I51: =G51+H51 -> 0
B52: 4 | C52: SISTEMA DE SUSPENSION | D52: 0 | E52: 0 | F52: 0 | G52: 0 | H52: 0 | I52: 0
B53: 4.1 | C53: CAMBIO AMORTIGUADORES DELANTEROS | E53: =D53*19% -> 0 | F53: =D53+E53 -> 0 | H53: =G53*19% -> 0 | I53: =G53+H53 -> 0
B54: 4.2 | C54: CAMBIO AMORTIGUADORES TRASEROS | E54: =D54*19% -> 0 | F54: =D54+E54 -> 0 | H54: =G54*19% -> 0 | I54: =G54+H54 -> 0
B55: 4.3 | C55: CAMBIO CUNAS DIRECCION | E55: =D55*19% -> 0 | F55: =D55+E55 -> 0 | H55: =G55*19% -> 0 | I55: =G55+H55 -> 0
B56: 4.4 | C56: CAMBIO GUAYA VELOCIMETRO | E56: =D56*19% -> 0 | F56: =D56+E56 -> 0 | H56: =G56*19% -> 0 | I56: =G56+H56 -> 0
B57: 4.5 | C57: CAMBIO RETENEDOR TELESCOPICCOS (BARRAS) | E57: =D57*19% -> 0 | F57: =D57+E57 -> 0 | H57: =G57*19% -> 0 | I57: =G57+H57 -> 0
B58: 4.6 | C58: CAMBIO RODAMIENTOS DELANTEROS | E58: =D58*19% -> 0 | F58: =D58+E58 -> 0 | H58: =G58*19% -> 0 | I58: =G58+H58 -> 0
B59: 4.7 | C59: CAMBIO RODAMIENTOS TRASEROS | E59: =D59*19% -> 0 | F59: =D59+E59 -> 0 | H59: =G59*19% -> 0 | I59: =G59+H59 -> 0
B60: 4.8 | C60: CAMBIO TIJERA Y/ O BUJES | E60: =D60*19% -> 0 | F60: =D60+E60 -> 0 | H60: =G60*19% -> 0 | I60: =G60+H60 -> 0
B61: 4.9 | C61: ENGRASE RODAMIENTOS | E61: =D61*19% -> 0 | F61: =D61+E61 -> 0 | H61: =G61*19% -> 0 | I61: =G61+H61 -> 0
B62: 5 | C62: SISTEMA DE DIRECCION | D62: 0 | E62: 0 | F62: 0 | G62: 0 | H62: 0 | I62: 0
B63: 5.1 | C63: CAMBIAR CUNAS DIRECCION | E63: =D63*19% -> 0 | F63: =D63+E63 -> 0 | H63: =G63*19% -> 0 | I63: =G63+H63 -> 0
B64: 5.2 | C64: CAMBIO MANUBRIO | E64: =D64*19% -> 0 | F64: =D64+E64 -> 0 | H64: =G64*19% -> 0 | I64: =G64+H64 -> 0
B65: 6 | C65: SISTEMA DE FRENOS | D65: 0 | E65: 0 | F65: 0 | G65: 0 | H65: 0 | I65: 0
B66: 6.1 | C66: CAMBIO BANDAS DE FRENO | E66: =D66*19% -> 0 | F66: =D66+E66 -> 0 | H66: =G66*19% -> 0 | I66: =G66+H66 -> 0
B67: 6.2 | C67: CAMBIO PASTILLAS | E67: =D67*19% -> 0 | F67: =D67+E67 -> 0 | H67: =G67*19% -> 0 | I67: =G67+H67 -> 0
B68: 6.3 | C68: CAMBIO BOMBA FRENO | E68: =D68*19% -> 0 | F68: =D68+E68 -> 0 | H68: =G68*19% -> 0 | I68: =G68+H68 -> 0
B69: 6.4 | C69: CAMBIO DISCOS FRENO | E69: =D69*19% -> 0 | F69: =D69+E69 -> 0 | H69: =G69*19% -> 0 | I69: =G69+H69 -> 0
B70: 6.5 | C70: CAMBIO GUAYA FRENO | E70: =D70*19% -> 0 | F70: =D70+E70 -> 0 | H70: =G70*19% -> 0 | I70: =G70+H70 -> 0
B71: 6.6 | C71: CAMBIO LIQUIDO FRENOS | E71: =D71*19% -> 0 | F71: =D71+E71 -> 0 | H71: =G71*19% -> 0 | I71: =G71+H71 -> 0
B72: 6.7 | C72: CAMBIO MANGUERA FRENOS | E72: =D72*19% -> 0 | F72: =D72+E72 -> 0 | H72: =G72*19% -> 0 | I72: =G72+H72 -> 0
B73: 6.8 | C73: CAMBIO MANIJA FRENO | E73: =D73*19% -> 0 | F73: =D73+E73 -> 0 | H73: =G73*19% -> 0 | I73: =G73+H73 -> 0
B74: 6.9 | C74: CAMBIO MORDAZA | E74: =D74*19% -> 0 | F74: =D74+E74 -> 0 | H74: =G74*19% -> 0 | I74: =G74+H74 -> 0
B75: 6.10 | C75: CAMBIO PEDAL DE FRENO | E75: =D75*19% -> 0 | F75: =D75+E75 -> 0 | H75: =G75*19% -> 0 | I75: =G75+H75 -> 0
B76: 6.11 | C76: CAMBIO SENSOR PEDAL FRENO | E76: =D76*19% -> 0 | F76: =D76+E76 -> 0 | H76: =G76*19% -> 0 | I76: =G76+H76 -> 0
B77: 6.12 | C77: MANTENIMIENTO DE FRENOS | E77: =D77*19% -> 0 | F77: =D77+E77 -> 0 | H77: =G77*19% -> 0 | I77: =G77+H77 -> 0
B78: 7 | C78: SISTEMA ELÉCTRICO | D78: 0 | E78: 0 | F78: 0 | G78: 0 | H78: 0 | I78: 0
B79: 7.1 | C79: CAMBIO BOMBILLO STOP/FAROLA/DIRECCIONAL | E79: =D79*19% -> 0 | F79: =D79+E79 -> 0 | H79: =G79*19% -> 0 | I79: =G79+H79 -> 0
B80: 7.2 | C80: ARREGLO LUCES | E80: =D80*19% -> 0 | F80: =D80+E80 -> 0 | H80: =G80*19% -> 0 | I80: =G80+H80 -> 0
B81: 7.3 | C81: ARREGLO MOTOR DE ARRANQUE | E81: =D81*19% -> 0 | F81: =D81+E81 -> 0 | H81: =G81*19% -> 0 | I81: =G81+H81 -> 0
B82: 7.4 | C82: ARREGLO PLANTA DE LUCES STROBERT | E82: =D82*19% -> 0 | F82: =D82+E82 -> 0 | H82: =G82*19% -> 0 | I82: =G82+H82 -> 0
B83: 7.5 | C83: CAMBIO DIRECCIONALES | E83: =D83*19% -> 0 | F83: =D83+E83 -> 0 | H83: =G83*19% -> 0 | I83: =G83+H83 -> 0
B84: 7.6 | C84: CAMBIO FAROLA | E84: =D84*19% -> 0 | F84: =D84+E84 -> 0 | H84: =G84*19% -> 0 | I84: =G84+H84 -> 0
B85: 7.7 | C85: CAMBIO FLASER | E85: =D85*19% -> 0 | F85: =D85+E85 -> 0 | H85: =G85*19% -> 0 | I85: =G85+H85 -> 0
B86: 7.8 | C86: CAMBIO MEDIDOR GASOLINA | E86: =D86*19% -> 0 | F86: =D86+E86 -> 0 | H86: =G86*19% -> 0 | I86: =G86+H86 -> 0
B87: 7.9 | C87: CAMBIO MOTOR DE ARRANQUE | E87: =D87*19% -> 0 | F87: =D87+E87 -> 0 | H87: =G87*19% -> 0 | I87: =G87+H87 -> 0
B88: 7.10 | C88: CAMBIO PITO | E88: =D88*19% -> 0 | F88: =D88+E88 -> 0 | H88: =G88*19% -> 0 | I88: =G88+H88 -> 0
B89: 7.11 | C89: CAMBIO STOP | E89: =D89*19% -> 0 | F89: =D89+E89 -> 0 | H89: =G89*19% -> 0 | I89: =G89+H89 -> 0
B90: 7.12 | C90: CAMBIO SWICHE IGNICION | E90: =D90*19% -> 0 | F90: =D90+E90 -> 0 | H90: =G90*19% -> 0 | I90: =G90+H90 -> 0
... B92: 7.14 | C92: DESMONTAR VOLANTE Y CAMBIO BOBINAS CARGA Y/LUCES | E92: =D92*19% -> 0 | F92: =D92+E92 -> 0 | H92: =G92*19% -> 0 | I92: =G92+H92 -> 0
B93: 8 | C93: SISTEMA DE ESCAPE | D93: 0 | E93: 0 | F93: 0 | G93: 0 | H93: 0 | I93: 0
B94: 8.1 | C94: AJUSTE SISTEMA ESCAPE - EXHOSTO | E94: =D94*19% -> 0 | F94: =D94+E94 -> 0 | H94: =G94*19% -> 0 | I94: =G94+H94 -> 0
B95: 8.2 | C95: ARREGLO SISTEMA ESCAPE - EXHOSTO | E95: =D95*19% -> 0 | F95: =D95+E95 -> 0 | H95: =G95*19% -> 0 | I95: =G95+H95 -> 0
B96: 8.3 | C96: CAMBIO EMPAQUE EXHOSTO | E96: =D96*19% -> 0 | F96: =D96+E96 -> 0 | H96: =G96*19% -> 0 | I96: =G96+H96 -> 0
B97: 8.4 | C97: CAMBIO SILENCIADOR | E97: =D97*19% -> 0 | F97: =D97+E97 -> 0 | H97: =G97*19% -> 0 | I97: =G97+H97 -> 0
B98: 8.5 | C98: CAMBIO SOPORTES SISTEMA ESCAPE | E98: =D98*19% -> 0 | F98: =D98+E98 -> 0 | H98: =G98*19% -> 0 | I98: =G98+H98 -> 0
B99: 8.6 | C99: CAMBIO TUBO ESCAPE | E99: =D99*19% -> 0 | F99: =D99+E99 -> 0 | H99: =G99*19% -> 0 | I99: =G99+H99 -> 0
B100: 8.7 | C100: DESCARBONAR | E100: =D100*19% -> 0 | F100: =D100+E100 -> 0 | H100: =G100*19% -> 0 | I100: =G100+H100 -> 0
B101: 8.8 | C101: SOLDAR EXOSTO | E101: =D101*19% -> 0 | F101: =D101+E101 -> 0 | H101: =G101*19% -> 0 | I101: =G101+H101 -> 0
B102: 9 | C102: LATONERIA Y PINTURA | D102: 0 | E102: 0 | F102: 0 | G102: 0 | H102: 0 | I102: 0
B103: 9.1 | C103: ALINEACION CHASIS | E103: =D103*19% -> 0 | F103: =D103+E103 -> 0 | H103: =G103*19% -> 0 | I103: =G103+H103 -> 0
B104: 9.2 | C104: ARREGLAR TANQUE COMBUSTIBLE | E104: =D104*19% -> 0 | F104: =D104+E104 -> 0 | H104: =G104*19% -> 0 | I104: =G104+H104 -> 0
B105: 9.3 | C105: CROMAR RIN | E105: =D105*19% -> 0 | F105: =D105+E105 -> 0 | H105: =G105*19% -> 0 | I105: =G105+H105 -> 0
B106: 9.4 | C106: LAVAR TANQUE DE COMBUSTIBLE | E106: =D106*19% -> 0 | F106: =D106+E106 -> 0 | H106: =G106*19% -> 0 | I106: =G106+H106 -> 0
B107: 9.5 | C107: PINTURA CARENAJE | E107: =D107*19% -> 0 | F107: =D107+E107 -> 0 | H107: =G107*19% -> 0 | I107: =G107+H107 -> 0
B108: 9.6 | C108: PINTURA CHASIS | E108: =D108*19% -> 0 | F108: =D108+E108 -> 0 | H108: =G108*19% -> 0 | I108: =G108+H108 -> 0
B109: 9.7 | C109: PINTURA GENERAL | E109: =D109*19% -> 0 | F109: =D109+E109 -> 0 | H109: =G109*19% -> 0 | I109: =G109+H109 -> 0
...

Sheet TOTAL PORTAFOLIO
B2: TOTAL PORTAFOLIO DE SERVICIOS Y REPUESTOS
B3: MANTENIMIENTO PARQUE AUTOMOTOR
B4: LOTE No. 3 - NARIÑO
C6: REPUESTOS
B7: ITEM | C7: DESCRIPCIÓN | D7: SUBTOTAL | E7: IVA | F7: VALOR PROPUESTA
B8: 1 | C8: AKT AKT180 | D8: =F8/1.19 -> 0 | E8: =F8-D8 -> 0 | F8: =REPUESTOS!F108 -> 0
B9: 2 | C9: AUTECO BAJAJ P´LATINO | D9: =F9/1.19 -> 0 | E9: =F9-D9 -> 0 | F9: =REPUESTOS!I108 -> 0
B10: 3 | C10: BAJAJ PULSAR 200 | D10: =F10/1.19 -> 0 | E10: =F10-D10 -> 0 | F10: =REPUESTOS!L108 -> 0
B11: 4 | C11: HONDA CB 110 | D11: =F11/1.19 -> 0 | E11: =F11-D11 -> 0 | F11: =REPUESTOS!O108 -> 0
B12: 5 | C12: HONDA CB 150 | D12: =F12/1.19 -> 0 | E12: =F12-D12 -> 0 | F12: =REPUESTOS!R108 -> 0
B13: 6 | C13: HONDA ECODELUX | D13: =F13/1.19 -> 0 | E13: =F13-D13 -> 0 | F13: =REPUESTOS!U108 -> 0
B14: 7 | C14: HONDA ELITE | D14: =F14/1.19 -> 0 | E14: =F14-D14 -> 0 | F14: =REPUESTOS!X108 -> 0
B15: 8 | C15: HONDA XR125 | D15: =F15/1.19 -> 0 | E15: =F15-D15 -> 0 | F15: =REPUESTOS!AA108 -> 0
B16: 9 | C16: KEEWAY RKS150 | D16: =F16/1.19 -> 0 | E16: =F16-D16 -> 0 | F16: =REPUESTOS!AD108 -> 0
B17: 10 | C17: SUZUKI DR200 | D17: =F17/1.19 -> 0 | E17: =F17-D17 -> 0 | F17: =REPUESTOS!AG108 -> 0
B18: 11 | C18: SUZUKI GS-125 | D18: =F18/1.19 -> 0 | E18: =F18-D18 -> 0 | F18: =REPUESTOS!AJ108 -> 0
B19: 12 | C19: YAMAHA FZ15N | D19: =F19/1.19 -> 0 | E19: =F19-D19 -> 0 | F19: =REPUESTOS!AM108 -> 0
B20: 13 | C20: YAMAHA SZ16R | D20: =F20/1.19 -> 0 | E20: =F20-D20 -> 0 | F20: =REPUESTOS!AP108 -> 0
B21: 14 | C21: YAMAHA T115 | D21: =F21/1.19 -> 0 | E21: =F21-D21 -> 0 | F21: =REPUESTOS!AS108 -> 0
B22: 15 | C22: YAMAHA XTZ 125 | D22: =F22/1.19 -> 0 | E22: =F22-D22 -> 0 | F22: =REPUESTOS!AV108 -> 0
B23: 16 | C23: YAMAHA XTZ 225D | D23: =F23/1.19 -> 0 | E23: =F23-D23 -> 0 | F23: =REPUESTOS!AY108 -> 0
B24: 17 | C24: YAMAHA XTZ 250 | D24: =F24/1.19 -> 0 | E24: =F24-D24 -> 0 | F24: =REPUESTOS!BB108 -> 0
B25: TOTAL PORTAFOLIO - REPUESTOS | D25: =SUM(D8:D24) -> 0 | E25: =SUM(E8:E24) -> 0 | F25: =SUM(F8:F24) -> 0
C27: REPUESTOS COMUNES
B28: ITEM | C28: DESCRIPCIÓN | D28: SUBTOTAL | E28: IVA | F28: VALOR PROPUESTA
B29: 1 | C29: REPUESTOS COMUNES | D29: =F29/1.19 -> 0 | E29: =F29-D29 -> 0 | F29: ='REPUESTOS COMUNES'!G29 -> 0
B30: TOTAL PORTAFOLIO - REPUESTOS COMUNES | D30: =D29 -> 0 | E30: =E29 -> 0 | F30: =F29 -> 0
C32: MANO DE OBRA
B33: ITEM | C33: DESCRIPCIÓN | D33: SUBTOTAL | E33: IVA | F33: VALOR PROPUESTA
B34: 1 | C34: CILINDRAJE HASTA 249 CC | D34: =F34/1.19 -> 0 | E34: =F34-D34 -> 0 | F34: ='MANO DE OBRA'!F121 -> 0
B35: 2 | C35: CILINDRAJE IGUAL O SUPERIOR A 250 CC | D35: =F35/1.19 -> 0 | E35: =F35-D35 -> 0 | F35: ='MANO DE OBRA'!I121 -> 0
B36: TOTAL PORTAFOLIO - MANO DE OBRA | D36: =SUM(D34:D35) -> 0 | E36: =SUM(E34:E35) -> 0 | F36: =SUM(F34:F35) -> 0
C38: VALOR TOTAL DEL PORTAFOLIO MANTENIMIENTO MOTOCICLETAS MULTIMARCA | F38: =F25+F30+F36 -> 0
