Workbook

Sheet DATOS DEL PROPONENTE
D3: DD | E3: MM | F3: AA
B4: Santiago de Cali,
B9: Señores:
B10: SUBDIRECCIÓN REGIONAL DE APOYO DEL PACIFICO
B11: FISCALÍA GENERAL DE LA NACIÓN
B12: Cra. 10 # 12 - 10, Edificio Nueva Sede, Codigo. Postal 760044
B13: Cali - Valle del Cauca
B17: ASUNTO: ANEXO - OFERTA ECONÓMICA
B23: Respetados doctores,
B27: De manera antenta y cordial me permito entregar la propuesta economica de acuerdo al ANEXO - OFERTA ECONÓMICA para el LOTE No. 3 - NARIÑO cuyo objeto es: "Prestar el servicio de mantenimiento preventivo y correctivo integral a todo costo (incluidos repuestos, mano de obra y accesorios originales u homologados) de las motocicletas que se encuentran al servicio de la Fiscalía General de la Nación en las Seccionales Cali, Cauca, Nariño y Valle del Cauca."
B33: Cordialmente
B40: Firma

Sheet REPUESTOS
B2: OFERTA ECONÓMICA LOTE No. 3 - NARIÑO | D2: RESPUESTOS MOTOCICLETAS MULTIMARCAS | S2: RESPUESTOS MOTOCICLETAS MULTIMARCAS | AH2: RESPUESTOS MOTOCICLETAS MULTIMARCAS | AW2: RESPUESTOS MOTOCICLETAS MULTIMARCAS
D3: MANTENIMIENTO MOTOCICLETAS | S3: MANTENIMIENTO MOTOCICLETAS | AH3: MANTENIMIENTO MOTOCICLETAS | AW3: MANTENIMIENTO MOTOCICLETAS
D4: *** Incluye Costos Directos e Indirectos | S4: *** Incluye Costos Directos e Indirectos | AH4: *** Incluye Costos Directos e Indirectos | AW4: *** Incluye Costos Directos e Indirectos
B6: DESCRIPCION | D6: AKT AKT180 | G6: AUTECO BAJAJ PLATINO | J6: BAJAJ PULSAR 200 | M6: HONDA CB 110 | P6: HONDA CB 150 | S6: HONDA ECODELUX | V6: HONDA ELITE | Y6: HONDA XR125 | AB6: KEEWAY RKS150 | AE6: SUZUKI DR200 | AH6: SUZUKI GS-125 | AK6: YAMAHA FZ15N | AN6: YAMAHA SZ16R | AQ6: YAMAHA T115 | AT6: YAMAHA XTZ 125 | AW6: YAMAHA XTZ 225D | AZ6: YAMAHA XTZ 250
D7: SUBTOTAL | E7: IVA | F7: TOTAL | G7: SUBTOTAL | H7: IVA | I7: TOTAL | J7: SUBTOTAL | K7: IVA | L7: TOTAL | M7: SUBTOTAL | N7: IVA | O7: TOTAL | P7: SUBTOTAL | Q7: IVA | R7: TOTAL | S7: SUBTOTAL | T7: IVA | U7: TOTAL | V7: SUBTOTAL | W7: IVA | X7: TOTAL | Y7: SUBTOTAL | Z7: IVA | AA7: TOTAL | AB7: SUBTOTAL | AC7: IVA | AD7: TOTAL | AE7: SUBTOTAL | AF7: IVA | AG7: TOTAL | AH7: SUBTOTAL | AI7: IVA | AJ7: TOTAL | AK7: SUBTOTAL | AL7: IVA | AM7: TOTAL | AN7: SUBTOTAL | AO7: IVA | AP7: TOTAL | AQ7: SUBTOTAL | AR7: IVA | AS7: TOTAL | AT7: SUBTOTAL | AU7: IVA | AV7: TOTAL | AW7: SUBTOTAL | AX7: IVA | AY7: TOTAL | AZ7: SUBTOTAL | BA7: IVA | BB7: TOTAL
B8: 1 | C8: SINCRONIZACION
B9: 1.1 | C9: AGUJA BASE Y PUNSON | E9: =D9*19% -> 0 | F9: =D9+E9 -> 0 | H9: =G9*19% -> 0 | I9: =G9+H9 -> 0 | K9: =J9*19% -> 0 | L9: =J9+K9 -> 0 | N9: =M9*19% -> 0 | O9: =M9+N9 -> 0 | Q9: =P9*19% -> 0 | R9: =P9+Q9 -> 0 | T9: =S9*19% -> 0 | U9: =S9+T9 -> 0 | W9: =V9*19% -> 0 | X9: =V9+W9 -> 0 | Z9: =Y9*19% -> 0 | AA9: =Y9+Z9 -> 0 | AC9: =AB9*19% -> 0 | AD9: =AB9+AC9 -> 0 | AF9: =AE9*19% -> 0 | AG9: =AE9+AF9 -> 0 | AI9: =AH9*19% -> 0 | AJ9: =AH9+AI9 -> 0 | AL9: =AK9*19% -> 0 | AM9: =AK9+AL9 -> 0 | AO9: =AN9*19% -> 0 | AP9: =AN9+AO9 -> 0 | AR9: =AQ9*19% -> 0 | AS9: =AQ9+AR9 -> 0 | AU9: =AT9*19% -> 0 | AV9: =AT9+AU9 -> 0 | AX9: =AW9*19% -> 0 | AY9: =AW9+AX9 -> 0 | BA9: =AZ9*19% -> 0 | BB9: =AZ9+BA9 -> 0
B10: 1.2 | C10: BUJIA | E10: =D10*19% -> 0 | F10: =D10+E10 -> 0 | H10: =G10*19% -> 0 | I10: =G10+H10 -> 0 | K10: =J10*19% -> 0 | L10: =J10+K10 -> 0 | N10: =M10*19% -> 0 | O10: =M10+N10 -> 0 | Q10: =P10*19% -> 0 | R10: =P10+Q10 -> 0 | T10: =S10*19% -> 0 | U10: =S10+T10 -> 0 | W10: =V10*19% -> 0 | X10: =V10+W10 -> 0 | Z10: =Y10*19% -> 0 | AA10: =Y10+Z10 -> 0 | AC10: =AB10*19% -> 0 | AD10: =AB10+AC10 -> 0 | AF10: =AE10*19% -> 0 | AG10: =AE10+AF10 -> 0 | AI10: =AH10*19% -> 0 | AJ10: =AH10+AI10 -> 0 | AL10: =AK10*19% -> 0 | AM10: =AK10+AL10 -> 0 | AO10: =AN10*19% -> 0 | AP10: =AN10+AO10 -> 0 | AR10: =AQ10*19% -> 0 | AS10: =AQ10+AR10 -> 0 | AU10: =AT10*19% -> 0 | AV10: =AT10+AU10 -> 0 | AX10: =AW10*19% -> 0 | AY10: =AW10+AX10 -> 0 | BA10: =AZ10*19% -> 0 | BB10: =AZ10+BA10 -> 0
B11: 1.3 | C11: CARBURADOR | E11: =D11*19% -> 0 | F11: =D11+E11 -> 0 | H11: =G11*19% -> 0 | I11: =G11+H11 -> 0 | K11: =J11*19% -> 0 | L11: =J11+K11 -> 0 | N11: =M11*19% -> 0 | O11: =M11+N11 -> 0 | Q11: =P11*19% -> 0 | R11: =P11+Q11 -> 0 | T11: =S11*19% -> 0 | U11: =S11+T11 -> 0 | W11: =V11*19% -> 0 | X11: =V11+W11 -> 0 | Z11: =Y11*19% -> 0 | AA11: =Y11+Z11 -> 0 | AC11: =AB11*19% -> 0 | AD11: =AB11+AC11 -> 0 | AF11: =AE11*19% -> 0 | AG11: =AE11+AF11 -> 0 | AI11: =AH11*19% -> 0 | AJ11: =AH11+AI11 -> 0 | AL11: =AK11*19% -> 0 | AM11: =AK11+AL11 -> 0 | AO11: =AN11*19% -> 0 | AP11: =AN11+AO11 -> 0 | AR11: =AQ11*19% -> 0 | AS11: =AQ11+AR11 -> 0 | AU11: =AT11*19% -> 0 | AV11: =AT11+AU11 -> 0 | AX11: =AW11*19% -> 0 | AY11: =AW11+AX11 -> 0 | BA11: =AZ11*19% -> 0 | BB11: =AZ11+BA11 -> 0
B12: 1.4 | C12: EMPAQUES CARBURADOR | E12: =D12*19% -> 0 | F12: =D12+E12 -> 0 | H12: =G12*19% -> 0 | I12: =G12+H12 -> 0 | K12: =J12*19% -> 0 | L12: =J12+K12 -> 0 | N12: =M12*19% -> 0 | O12: =M12+N12 -> 0 | Q12: =P12*19% -> 0 | R12: =P12+Q12 -> 0 | T12: =S12*19% -> 0 | U12: =S12+T12 -> 0 | W12: =V12*19% -> 0 | X12: =V12+W12 -> 0 | Z12: =Y12*19% -> 0 | AA12: =Y12+Z12 -> 0 | AC12: =AB12*19% -> 0 | AD12: =AB12+AC12 -> 0 | AF12: =AE12*19% -> 0 | AG12: =AE12+AF12 -> 0 | AI12: =AH12*19% -> 0 | AJ12: =AH12+AI12 -> 0 | AL12: =AK12*19% -> 0 | AM12: =AK12+AL12 -> 0 | AO12: =AN12*19% -> 0 | AP12: =AN12+AO12 -> 0 | AR12: =AQ12*19% -> 0 | AS12: =AQ12+AR12 -> 0 | AU12: =AT12*19% -> 0 | AV12: =AT12+AU12 -> 0 | AX12: =AW12*19% -> 0 | AY12: =AW12+AX12 -> 0 | BA12: =AZ12*19% -> 0 | BB12: =AZ12+BA12 -> 0
B13: 1.5 | C13: FILTRO COMBUSTIBLE | E13: =D13*19% -> 0 | F13: =D13+E13 -> 0 | H13: =G13*19% -> 0 | I13: =G13+H13 -> 0 | K13: =J13*19% -> 0 | L13: =J13+K13 -> 0 | N13: =M13*19% -> 0 | O13: =M13+N13 -> 0 | Q13: =P13*19% -> 0 | R13: =P13+Q13 -> 0 | T13: =S13*19% -> 0 | U13: =S13+T13 -> 0 | W13: =V13*19% -> 0 | X13: =V13+W13 -> 0 | Z13: =Y13*19% -> 0 | AA13: =Y13+Z13 -> 0 | AC13: =AB13*19% -> 0 | AD13: =AB13+AC13 -> 0 | AF13: =AE13*19% -> 0 | AG13: =AE13+AF13 -> 0 | AI13: =AH13*19% -> 0 | AJ13: =AH13+AI13 -> 0 | AL13: =AK13*19% -> 0 | AM13: =AK13+AL13 -> 0 | AO13: =AN13*19% -> 0 | AP13: =AN13+AO13 -> 0 | AR13: =AQ13*19% -> 0 | AS13: =AQ13+AR13 -> 0 | AU13: =AT13*19% -> 0 | AV13: =AT13+AU13 -> 0 | AX13: =AW13*19% -> 0 | AY13: =AW13+AX13 -> 0 | BA13: =AZ13*19% -> 0 | BB13: =AZ13+BA13 -> 0
B14: 1.6 | C14: FILTRO DE AIRE | E14: =D14*19% -> 0 | F14: =D14+E14 -> 0 | H14: =G14*19% -> 0 | I14: =G14+H14 -> 0 | K14: =J14*19% -> 0 | L14: =J14+K14 -> 0 | N14: =M14*19% -> 0 | O14: =M14+N14 -> 0 | Q14: =P14*19% -> 0 | R14: =P14+Q14 -> 0 | T14: =S14*19% -> 0 | U14: =S14+T14 -> 0 | W14: =V14*19% -> 0 | X14: =V14+W14 -> 0 | Z14: =Y14*19% -> 0 | AA14: =Y14+Z14 -> 0 | AC14: =AB14*19% -> 0 | AD14: =AB14+AC14 -> 0 | AF14: =AE14*19% -> 0 | AG14: =AE14+AF14 -> 0 | AI14: =AH14*19% -> 0 | AJ14: =AH14+AI14 -> 0 | AL14: =AK14*19% -> 0 | AM14: =AK14+AL14 -> 0 | AO14: =AN14*19% -> 0 | AP14: =AN14+AO14 -> 0 | AR14: =AQ14*19% -> 0 | AS14: =AQ14+AR14 -> 0 | AU14: =AT14*19% -> 0 | AV14: =AT14+AU14 -> 0 | AX14: =AW14*19% -> 0 | AY14: =AW14+AX14 -> 0 | BA14: =AZ14*19% -> 0 | BB14: =AZ14+BA14 -> 0
B15: 1.7 | C15: GUAYA ACELERADOR | E15: =D15*19% -> 0 | F15: =D15+E15 -> 0 | H15: =G15*19% -> 0 | I15: =G15+H15 -> 0 | K15: =J15*19% -> 0 | L15: =J15+K15 -> 0 | N15: =M15*19% -> 0 | O15: =M15+N15 -> 0 | Q15: =P15*19% -> 0 | R15: =P15+Q15 -> 0 | T15: =S15*19% -> 0 | U15: =S15+T15 -> 0 | W15: =V15*19% -> 0 | X15: =V15+W15 -> 0 | Z15: =Y15*19% -> 0 | AA15: =Y15+Z15 -> 0 | AC15: =AB15*19% -> 0 | AD15: =AB15+AC15 -> 0 | AF15: =AE15*19% -> 0 | AG15: =AE15+AF15 -> 0 | AI15: =AH15*19% -> 0 | AJ15: =AH15+AI15 -> 0 | AL15: =AK15*19% -> 0 | AM15: =AK15+AL15 -> 0 | AO15: =AN15*19% -> 0 | AP15: =AN15+AO15 -> 0 | AR15: =AQ15*19% -> 0 | AS15: =AQ15+AR15 -> 0 | AU15: =AT15*19% -> 0 | AV15: =AT15+AU15 -> 0 | AX15: =AW15*19% -> 0 | AY15: =AW15+AX15 -> 0 | BA15: =AZ15*19% -> 0 | BB15: =AZ15+BA15 -> 0
B16: 1.8 | C16: GUAYA CHOQUE | E16: =D16*19% -> 0 | F16: =D16+E16 -> 0 | H16: =G16*19% -> 0 | I16: =G16+H16 -> 0 | K16: =J16*19% -> 0 | L16: =J16+K16 -> 0 | N16: =M16*19% -> 0 | O16: =M16+N16 -> 0 | Q16: =P16*19% -> 0 | R16: =P16+Q16 -> 0 | T16: =S16*19% -> 0 | U16: =S16+T16 -> 0 | W16: =V16*19% -> 0 | X16: =V16+W16 -> 0 | Z16: =Y16*19% -> 0 | AA16: =Y16+Z16 -> 0 | AC16: =AB16*19% -> 0 | AD16: =AB16+AC16 -> 0 | AF16: =AE16*19% -> 0 | AG16: =AE16+AF16 -> 0 | AI16: =AH16*19% -> 0 | AJ16: =AH16+AI16 -> 0 | AL16: =AK16*19% -> 0 | AM16: =AK16+AL16 -> 0 | AO16: =AN16*19% -> 0 | AP16: =AN16+AO16 -> 0 | AR16: =AQ16*19% -> 0 | AS16: =AQ16+AR16 -> 0 | AU16: =AT16*19% -> 0 | AV16: =AT16+AU16 -> 0 | AX16: =AW16*19% -> 0 | AY16: =AW16+AX16 -> 0 | BA16: =AZ16*19% -> 0 | BB16: =AZ16+BA16 -> 0
B17: 1.9 | C17: KIT CARBURADOR | E17: =D17*19% -> 0 | F17: =D17+E17 -> 0 | H17: =G17*19% -> 0 | I17: =G17+H17 -> 0 | K17: =J17*19% -> 0 | L17: =J17+K17 -> 0 | N17: =M17*19% -> 0 | O17: =M17+N17 -> 0 | Q17: =P17*19% -> 0 | R17: =P17+Q17 -> 0 | T17: =S17*19% -> 0 | U17: =S17+T17 -> 0 | W17: =V17*19% -> 0 | X17: =V17+W17 -> 0 | Z17: =Y17*19% -> 0 | AA17: =Y17+Z17 -> 0 | AC17: =AB17*19% -> 0 | AD17: =AB17+AC17 -> 0 | AF17: =AE17*19% -> 0 | AG17: =AE17+AF17 -> 0 | AI17: =AH17*19% -> 0 | AJ17: =AH17+AI17 -> 0 | AL17: =AK17*19% -> 0 | AM17: =AK17+AL17 -> 0 | AO17: =AN17*19% -> 0 | AP17: =AN17+AO17 -> 0 | AR17: =AQ17*19% -> 0 | AS17: =AQ17+AR17 -> 0 | AU17: =AT17*19% -> 0 | AV17: =AT17+AU17 -> 0 | AX17: =AW17*19% -> 0 | AY17: =AW17+AX17 -> 0 | BA17: =AZ17*19% -> 0 | BB17: =AZ17+BA17 -> 0
B18: 1.10 | C18: LLAVE PASO COMBUSTIBLE | E18: =D18*19% -> 0 | F18: =D18+E18 -> 0 | H18: =G18*19% -> 0 | I18: =G18+H18 -> 0 | K18: =J18*19% -> 0 | L18: =J18+K18 -> 0 | N18: =M18*19% -> 0 | O18: =M18+N18 -> 0 | Q18: =P18*19% -> 0 | R18: =P18+Q18 -> 0 | T18: =S18*19% -> 0 | U18: =S18+T18 -> 0 | W18: =V18*19% -> 0 | X18: =V18+W18 -> 0 | Z18: =Y18*19% -> 0 | AA18: =Y18+Z18 -> 0 | AC18: =AB18*19% -> 0 | AD18: =AB18+AC18 -> 0 | AF18: =AE18*19% -> 0 | AG18: =AE18+AF18 -> 0 | AI18: =AH18*19% -> 0 | AJ18: =AH18+AI18 -> 0 | AL18: =AK18*19% -> 0 | AM18: =AK18+AL18 -> 0 | AO18: =AN18*19% -> 0 | AP18: =AN18+AO18 -> 0 | AR18: =AQ18*19% -> 0 | AS18: =AQ18+AR18 -> 0 | AU18: =AT18*19% -> 0 | AV18: =AT18+AU18 -> 0 | AX18: =AW18*19% -> 0 | AY18: =AW18+AX18 -> 0 | BA18: =AZ18*19% -> 0 | BB18: =AZ18+BA18 -> 0
B19: 2 | C19: MOTOR | D19: 0 | E19: 0 | F19: 0 | G19: 0 | H19: 0 | I19: 0 | J19: 0 | K19: 0 | L19: 0 | M19: 0 | N19: 0 | O19: 0 | P19: 0 | Q19: 0 | R19: 0 | S19: 0 | T19: 0 | U19: 0 | V19: 0 | W19: 0 | X19: 0 | Y19: 0 | Z19: 0 | AA19: 0 | AB19: 0 | AC19: 0 | AD19: 0 | AE19: 0 | AF19: 0 | AG19: 0 | AH19: 0 | AI19: 0 | AJ19: 0 | AK19: 0 | AL19: 0 | AM19: 0 | AN19: 0 | AO19: 0 | AP19: 0 | AQ19: 0 | AR19: 0 | AS19: 0 | AT19: 0 | AU19: 0 | AV19: 0 | AW19: 0 | AX19: 0 | AY19: 0 | AZ19: 0 | BA19: 0 | BB19: 0
B20: 2.1 | C20: BALANCIN | E20: =D20*19% -> 0 | F20: =D20+E20 -> 0 | H20: =G20*19% -> 0 | I20: =G20+H20 -> 0 | K20: =J20*19% -> 0 | L20: =J20+K20 -> 0 | N20: =M20*19% -> 0 | O20: =M20+N20 -> 0 | Q20: =P20*19% -> 0 | R20: =P20+Q20 -> 0 | T20: =S20*19% -> 0 | U20: =S20+T20 -> 0 | W20: =V20*19% -> 0 | X20: =V20+W20 -> 0 | Z20: =Y20*19% -> 0 | AA20: =Y20+Z20 -> 0 | AC20: =AB20*19% -> 0 | AD20: =AB20+AC20 -> 0 | AF20: =AE20*19% -> 0 | AG20: =AE20+AF20 -> 0 | AI20: =AH20*19% -> 0 | AJ20: =AH20+AI20 -> 0 | AL20: =AK20*19% -> 0 | AM20: =AK20+AL20 -> 0 | AO20: =AN20*19% -> 0 | AP20: =AN20+AO20 -> 0 | AR20: =AQ20*19% -> 0 | AS20: =AQ20+AR20 -> 0 | AU20: =AT20*19% -> 0 | AV20: =AT20+AU20 -> 0 | AX20: =AW20*19% -> 0 | AY20: =AW20+AX20 -> 0 | BA20: =AZ20*19% -> 0 | BB20: =AZ20+BA20 -> 0
B21: 2.2 | C21: BIELA MOTOR | E21: =D21*19% -> 0 | F21: =D21+E21 -> 0 | H21: =G21*19% -> 0 | I21: =G21+H21 -> 0 | K21: =J21*19% -> 0 | L21: =J21+K21 -> 0 | N21: =M21*19% -> 0 | O21: =M21+N21 -> 0 | Q21: =P21*19% -> 0 | R21: =P21+Q21 -> 0 | T21: =S21*19% -> 0 | U21: =S21+T21 -> 0 | W21: =V21*19% -> 0 | X21: =V21+W21 -> 0 | Z21: =Y21*19% -> 0 | AA21: =Y21+Z21 -> 0 | AC21: =AB21*19% -> 0 | AD21: =AB21+AC21 -> 0 | AF21: =AE21*19% -> 0 | AG21: =AE21+AF21 -> 0 | AI21: =AH21*19% -> 0 | AJ21: =AH21+AI21 -> 0 | AL21: =AK21*19% -> 0 | AM21: =AK21+AL21 -> 0 | AO21: =AN21*19% -> 0 | AP21: =AN21+AO21 -> 0 | AR21: =AQ21*19% -> 0 | AS21: =AQ21+AR21 -> 0 | AU21: =AT21*19% -> 0 | AV21: =AT21+AU21 -> 0 | AX21: =AW21*19% -> 0 | AY21: =AW21+AX21 -> 0 | BA21: =AZ21*19% -> 0 | BB21: =AZ21+BA21 -> 0
B22: 2.3 | C22: BOMBA DE ACEITE | E22: =D22*19% -> 0 | F22: =D22+E22 -> 0 | H22: =G22*19% -> 0 | I22: =G22+H22 -> 0 | K22: =J22*19% -> 0 | L22: =J22+K22 -> 0 | N22: =M22*19% -> 0 | O22: =M22+N22 -> 0 | Q22: =P22*19% -> 0 | R22: =P22+Q22 -> 0 | T22: =S22*19% -> 0 | U22: =S22+T22 -> 0 | W22: =V22*19% -> 0 | X22: =V22+W22 -> 0 | Z22: =Y22*19% -> 0 | AA22: =Y22+Z22 -> 0 | AC22: =AB22*19% -> 0 | AD22: =AB22+AC22 -> 0 | AF22: =AE22*19% -> 0 | AG22: =AE22+AF22 -> 0 | AI22: =AH22*19% -> 0 | AJ22: =AH22+AI22 -> 0 | AL22: =AK22*19% -> 0 | AM22: =AK22+AL22 -> 0 | AO22: =AN22*19% -> 0 | AP22: =AN22+AO22 -> 0 | AR22: =AQ22*19% -> 0 | AS22: =AQ22+AR22 -> 0 | AU22: =AT22*19% -> 0 | AV22: =AT22+AU22 -> 0 | AX22: =AW22*19% -> 0 | AY22: =AW22+AX22 -> 0 | BA22: =AZ22*19% -> 0 | BB22: =AZ22+BA22 -> 0
B23: 2.4 | C23: CADENILLA MOTOR | E23: =D23*19% -> 0 | F23: =D23+E23 -> 0 | H23: =G23*19% -> 0 | I23: =G23+H23 -> 0 | K23: =J23*19% -> 0 | L23: =J23+K23 -> 0 | N23: =M23*19% -> 0 | O23: =M23+N23 -> 0 | Q23: =P23*19% -> 0 | R23: =P23+Q23 -> 0 | T23: =S23*19% -> 0 | U23: =S23+T23 -> 0 | W23: =V23*19% -> 0 | X23: =V23+W23 -> 0 | Z23: =Y23*19% -> 0 | AA23: =Y23+Z23 -> 0 | AC23: =AB23*19% -> 0 | AD23: =AB23+AC23 -> 0 | AF23: =AE23*19% -> 0 | AG23: =AE23+AF23 -> 0 | AI23: =AH23*19% -> 0 | AJ23: =AH23+AI23 -> 0 | AL23: =AK23*19% -> 0 | AM23: =AK23+AL23 -> 0 | AO23: =AN23*19% -> 0 | AP23: =AN23+AO23 -> 0 | AR23: =AQ23*19% -> 0 | AS23: =AQ23+AR23 -> 0 | AU23: =AT23*19% -> 0 | AV23: =AT23+AU23 -> 0 | AX23: =AW23*19% -> 0 | AY23: =AW23+AX23 -> 0 | BA23: =AZ23*19% -> 0 | BB23: =AZ23+BA23 -> 0
B24: 2.5 | C24: CIGÜEÑAL | E24: =D24*19% -> 0 | F24: =D24+E24 -> 0 | H24: =G24*19% -> 0 | I24: =G24+H24 -> 0 | K24: =J24*19% -> 0 | L24: =J24+K24 -> 0 | N24: =M24*19% -> 0 | O24: =M24+N24 -> 0 | Q24: =P24*19% -> 0 | R24: =P24+Q24 -> 0 | T24: =S24*19% -> 0 | U24: =S24+T24 -> 0 | W24: =V24*19% -> 0 | X24: =V24+W24 -> 0 | Z24: =Y24*19% -> 0 | AA24: =Y24+Z24 -> 0 | AC24: =AB24*19% -> 0 | AD24: =AB24+AC24 -> 0 | AF24: =AE24*19% -> 0 | AG24: =AE24+AF24 -> 0 | AI24: =AH24*19% -> 0 | AJ24: =AH24+AI24 -> 0 | AL24: =AK24*19% -> 0 | AM24: =AK24+AL24 -> 0 | AO24: =AN24*19% -> 0 | AP24: =AN24+AO24 -> 0 | AR24: =AQ24*19% -> 0 | AS24: =AQ24+AR24 -> 0 | AU24: =AT24*19% -> 0 | AV24: =AT24+AU24 -> 0 | AX24: =AW24*19% -> 0 | AY24: =AW24+AX24 -> 0 | BA24: =AZ24*19% -> 0 | BB24: =AZ24+BA24 -> 0
B25: 2.6 | C25: CILINDRO MOTOR | E25: =D25*19% -> 0 | F25: =D25+E25 -> 0 | H25: =G25*19% -> 0 | I25: =G25+H25 -> 0 | K25: =J25*19% -> 0 | L25: =J25+K25 -> 0 | N25: =M25*19% -> 0 | O25: =M25+N25 -> 0 | Q25: =P25*19% -> 0 | R25: =P25+Q25 -> 0 | T25: =S25*19% -> 0 | U25: =S25+T25 -> 0 | W25: =V25*19% -> 0 | X25: =V25+W25 -> 0 | Z25: =Y25*19% -> 0 | AA25: =Y25+Z25 -> 0 | AC25: =AB25*19% -> 0 | AD25: =AB25+AC25 -> 0 | AF25: =AE25*19% -> 0 | AG25: =AE25+AF25 -> 0 | AI25: =AH25*19% -> 0 | AJ25: =AH25+AI25 -> 0 | AL25: =AK25*19% -> 0 | AM25: =AK25+AL25 -> 0 | AO25: =AN25*19% -> 0 | AP25: =AN25+AO25 -> 0 | AR25: =AQ25*19% -> 0 | AS25: =AQ25+AR25 -> 0 | AU25: =AT25*19% -> 0 | AV25: =AT25+AU25 -> 0 | AX25: =AW25*19% -> 0 | AY25: =AW25+AX25 -> 0 | BA25: =AZ25*19% -> 0 | BB25: =AZ25+BA25 -> 0
B26: 2.7 | C26: CULATA | E26: =D26*19% -> 0 | F26: =D26+E26 -> 0 | H26: =G26*19% -> 0 | I26: =G26+H26 -> 0 | K26: =J26*19% -> 0 | L26: =J26+K26 -> 0 | N26: =M26*19% -> 0 | O26: =M26+N26 -> 0 | Q26: =P26*19% -> 0 | R26: =P26+Q26 -> 0 | T26: =S26*19% -> 0 | U26: =S26+T26 -> 0 | W26: =V26*19% -> 0 | X26: =V26+W26 -> 0 | Z26: =Y26*19% -> 0 | AA26: =Y26+Z26 -> 0 | AC26: =AB26*19% -> 0 | AD26: =AB26+AC26 -> 0 | AF26: =AE26*19% -> 0 | AG26: =AE26+AF26 -> 0 | AI26: =AH26*19% -> 0 | AJ26: =AH26+AI26 -> 0 | AL26: =AK26*19% -> 0 | AM26: =AK26+AL26 -> 0 | AO26: =AN26*19% -> 0 | AP26: =AN26+AO26 -> 0 | AR26: =AQ26*19% -> 0 | AS26: =AQ26+AR26 -> 0 | AU26: =AT26*19% -> 0 | AV26: =AT26+AU26 -> 0 | AX26: =AW26*19% -> 0 | AY26: =AW26+AX26 -> 0 | BA26: =AZ26*19% -> 0 | BB26: =AZ26+BA26 -> 0
B27: 2.8 | C27: CULATIN | E27: =D27*19% -> 0 | F27: =D27+E27 -> 0 | H27: =G27*19% -> 0 | I27: =G27+H27 -> 0 | K27: =J27*19% -> 0 | L27: =J27+K27 -> 0 | N27: =M27*19% -> 0 | O27: =M27+N27 -> 0 | Q27: =P27*19% -> 0 | R27: =P27+Q27 -> 0 | T27: =S27*19% -> 0 | U27: =S27+T27 -> 0 | W27: =V27*19% -> 0 | X27: =V27+W27 -> 0 | Z27: =Y27*19% -> 0 | AA27: =Y27+Z27 -> 0 | AC27: =AB27*19% -> 0 | AD27: =AB27+AC27 -> 0 | AF27: =AE27*19% -> 0 | AG27: =AE27+AF27 -> 0 | AI27: =AH27*19% -> 0 | AJ27: =AH27+AI27 -> 0 | AL27: =AK27*19% -> 0 | AM27: =AK27+AL27 -> 0 | AO27: =AN27*19% -> 0 | AP27: =AN27+AO27 -> 0 | AR27: =AQ27*19% -> 0 | AS27: =AQ27+AR27 -> 0 | AU27: =AT27*19% -> 0 | AV27: =AT27+AU27 -> 0 | AX27: =AW27*19% -> 0 | AY27: =AW27+AX27 -> 0 | BA27: =AZ27*19% -> 0 | BB27: =AZ27+BA27 -> 0
B28: 2.9 | C28: EJE DE LEVAS | E28: =D28*19% -> 0 | F28: =D28+E28 -> 0 | H28: =G28*19% -> 0 | I28: =G28+H28 -> 0 | K28: =J28*19% -> 0 | L28: =J28+K28 -> 0 | N28: =M28*19% -> 0 | O28: =M28+N28 -> 0 | Q28: =P28*19% -> 0 | R28: =P28+Q28 -> 0 | T28: =S28*19% -> 0 | U28: =S28+T28 -> 0 | W28: =V28*19% -> 0 | X28: =V28+W28 -> 0 | Z28: =Y28*19% -> 0 | AA28: =Y28+Z28 -> 0 | AC28: =AB28*19% -> 0 | AD28: =AB28+AC28 -> 0 | AF28: =AE28*19% -> 0 | AG28: =AE28+AF28 -> 0 | AI28: =AH28*19% -> 0 | AJ28: =AH28+AI28 -> 0 | AL28: =AK28*19% -> 0 | AM28: =AK28+AL28 -> 0 | AO28: =AN28*19% -> 0 | AP28: =AN28+AO28 -> 0 | AR28: =AQ28*19% -> 0 | AS28: =AQ28+AR28 -> 0 | AU28: =AT28*19% -> 0 | AV28: =AT28+AU28 -> 0 | AX28: =AW28*19% -> 0 | AY28: =AW28+AX28 -> 0 | BA28: =AZ28*19% -> 0 | BB28: =AZ28+BA28 -> 0
B29: 2.10 | C29: EMPAQUE DE CULATA | E29: =D29*19% -> 0 | F29: =D29+E29 -> 0 | H29: =G29*19% -> 0 | I29: =G29+H29 -> 0 | K29: =J29*19% -> 0 | L29: =J29+K29 -> 0 | N29: =M29*19% -> 0 | O29: =M29+N29 -> 0 | Q29: =P29*19% -> 0 | R29: =P29+Q29 -> 0 | T29: =S29*19% -> 0 | U29: =S29+T29 -> 0 | W29: =V29*19% -> 0 | X29: =V29+W29 -> 0 | Z29: =Y29*19% -> 0 | AA29: =Y29+Z29 -> 0 | AC29: =AB29*19% -> 0 | AD29: =AB29+AC29 -> 0 | AF29: =AE29*19% -> 0 | AG29: =AE29+AF29 -> 0 | AI29: =AH29*19% -> 0 | AJ29: =AH29+AI29 -> 0 | AL29: =AK29*19% -> 0 | AM29: =AK29+AL29 -> 0 | AO29: =AN29*19% -> 0 | AP29: =AN29+AO29 -> 0 | AR29: =AQ29*19% -> 0 | AS29: =AQ29+AR29 -> 0 | AU29: =AT29*19% -> 0 | AV29: =AT29+AU29 -> 0 | AX29: =AW29*19% -> 0 | AY29: =AW29+AX29 -> 0 | BA29: =AZ29*19% -> 0 | BB29: =AZ29+BA29 -> 0
B30: 2.11 | C30: EMPAQUETADURA MOTOR | E30: =D30*19% -> 0 | F30: =D30+E30 -> 0 | H30: =G30*19% -> 0 | I30: =G30+H30 -> 0 | K30: =J30*19% -> 0 | L30: =J30+K30 -> 0 | N30: =M30*19% -> 0 | O30: =M30+N30 -> 0 | Q30: =P30*19% -> 0 | R30: =P30+Q30 -> 0 | T30: =S30*19% -> 0 | U30: =S30+T30 -> 0 | W30: =V30*19% -> 0 | X30: =V30+W30 -> 0 | Z30: =Y30*19% -> 0 | AA30: =Y30+Z30 -> 0 | AC30: =AB30*19% -> 0 | AD30: =AB30+AC30 -> 0 | AF30: =AE30*19% -> 0 | AG30: =AE30+AF30 -> 0 | AI30: =AH30*19% -> 0 | AJ30: =AH30+AI30 -> 0 | AL30: =AK30*19% -> 0 | AM30: =AK30+AL30 -> 0 | AO30: =AN30*19% -> 0 | AP30: =AN30+AO30 -> 0 | AR30: =AQ30*19% -> 0 | AS30: =AQ30+AR30 -> 0 | AU30: =AT30*19% -> 0 | AV30: =AT30+AU30 -> 0 | AX30: =AW30*19% -> 0 | AY30: =AW30+AX30 -> 0 | BA30: =AZ30*19% -> 0 | BB30: =AZ30+BA30 -> 0
B31: 2.12 | C31: FILTRO DE ACEITE | E31: =D31*19% -> 0 | F31: =D31+E31 -> 0 | H31: =G31*19% -> 0 | I31: =G31+H31 -> 0 | K31: =J31*19% -> 0 | L31: =J31+K31 -> 0 | N31: =M31*19% -> 0 | O31: =M31+N31 -> 0 | Q31: =P31*19% -> 0 | R31: =P31+Q31 -> 0 | T31: =S31*19% -> 0 | U31: =S31+T31 -> 0 | W31: =V31*19% -> 0 | X31: =V31+W31 -> 0 | Z31: =Y31*19% -> 0 | AA31: =Y31+Z31 -> 0 | AC31: =AB31*19% -> 0 | AD31: =AB31+AC31 -> 0 | AF31: =AE31*19% -> 0 | AG31: =AE31+AF31 -> 0 | AI31: =AH31*19% -> 0 | AJ31: =AH31+AI31 -> 0 | AL31: =AK31*19% -> 0 | AM31: =AK31+AL31 -> 0 | AO31: =AN31*19% -> 0 | AP31: =AN31+AO31 -> 0 | AR31: =AQ31*19% -> 0 | AS31: =AQ31+AR31 -> 0 | AU31: =AT31*19% -> 0 | AV31: =AT31+AU31 -> 0 | AX31: =AW31*19% -> 0 | AY31: =AW31+AX31 -> 0 | BA31: =AZ31*19% -> 0 | BB31: =AZ31+BA31 -> 0
... B37: 2.18 | C37: VALVULAS (JUEGO) | E37: =D37*19% -> 0 | F37: =D37+E37 -> 0 | H37: =G37*19% -> 0 | I37: =G37+H37 -> 0 | K37: =J37*19% -> 0 | L37: =J37+K37 -> 0 | N37: =M37*19% -> 0 | O37: =M37+N37 -> 0 | Q37: =P37*19% -> 0 | R37: =P37+Q37 -> 0 | T37: =S37*19% -> 0 | U37: =S37+T37 -> 0 | W37: =V37*19% -> 0 | X37: =V37+W37 -> 0 | Z37: =Y37*19% -> 0 | AA37: =Y37+Z37 -> 0 | AC37: =AB37*19% -> 0 | AD37: =AB37+AC37 -> 0 | AF37: =AE37*19% -> 0 | AG37: =AE37+AF37 -> 0 | AI37: =AH37*19% -> 0 | AJ37: =AH37+AI37 -> 0 | AL37: =AK37*19% -> 0 | AM37: =AK37+AL37 -> 0 | AO37: =AN37*19% -> 0 | AP37: =AN37+AO37 -> 0 | AR37: =AQ37*19% -> 0 | AS37: =AQ37+AR37 -> 0 | AU37: =AT37*19% -> 0 | AV37: =AT37+AU37 -> 0 | AX37: =AW37*19% -> 0 | AY37: =AW37+AX37 -> 0 | BA37: =AZ37*19% -> 0 | BB37: =AZ37+BA37 -> 0
B38: 3 | C38: SISTEMA DE TRANSFERENCIA | D38: 0 | E38: 0 | F38: 0 | G38: 0 | H38: 0 | I38: 0 | J38: 0 | K38: 0 | L38: 0 | M38: 0 | N38: 0 | O38: 0 | P38: 0 | Q38: 0 | R38: 0 | S38: 0 | T38: 0 | U38: 0 | V38: 0 | W38: 0 | X38: 0 | Y38: 0 | Z38: 0 | AA38: 0 | AB38: 0 | AC38: 0 | AD38: 0 | AE38: 0 | AF38: 0 | AG38: 0 | AH38: 0 | AI38: 0 | AJ38: 0 | AK38: 0 | AL38: 0 | AM38: 0 | AN38: 0 | AO38: 0 | AP38: 0 | AQ38: 0 | AR38: 0 | AS38: 0 | AT38: 0 | AU38: 0 | AV38: 0 | AW38: 0 | AX38: 0 | AY38: 0 | AZ38: 0 | BA38: 0 | BB38: 0
B39: 3.1 | C39: EMPAQUE TAPA EMBRAGUE | E39: =D39*19% -> 0 | F39: =D39+E39 -> 0 | H39: =G39*19% -> 0 | I39: =G39+H39 -> 0 | K39: =J39*19% -> 0 | L39: =J39+K39 -> 0 | N39: =M39*19% -> 0 | O39: =M39+N39 -> 0 | Q39: =P39*19% -> 0 | R39: =P39+Q39 -> 0 | T39: =S39*19% -> 0 | U39: =S39+T39 -> 0 | W39: =V39*19% -> 0 | X39: =V39+W39 -> 0 | Z39: =Y39*19% -> 0 | AA39: =Y39+Z39 -> 0 | AC39: =AB39*19% -> 0 | AD39: =AB39+AC39 -> 0 | AF39: =AE39*19% -> 0 | AG39: =AE39+AF39 -> 0 | AI39: =AH39*19% -> 0 | AJ39: =AH39+AI39 -> 0 | AL39: =AK39*19% -> 0 | AM39: =AK39+AL39 -> 0 | AO39: =AN39*19% -> 0 | AP39: =AN39+AO39 -> 0 | AR39: =AQ39*19% -> 0 | AS39: =AQ39+AR39 -> 0 | AU39: =AT39*19% -> 0 | AV39: =AT39+AU39 -> 0 | AX39: =AW39*19% -> 0 | AY39: =AW39+AX39 -> 0 | BA39: =AZ39*19% -> 0 | BB39: =AZ39+BA39 -> 0
B40: 3.2 | C40: GUAYA EMBREAGUE | E40: =D40*19% -> 0 | F40: =D40+E40 -> 0 | H40: =G40*19% -> 0 | I40: =G40+H40 -> 0 | K40: =J40*19% -> 0 | L40: =J40+K40 -> 0 | N40: =M40*19% -> 0 | O40: =M40+N40 -> 0 | Q40: =P40*19% -> 0 | R40: =P40+Q40 -> 0 | T40: =S40*19% -> 0 | U40: =S40+T40 -> 0 | W40: =V40*19% -> 0 | X40: =V40+W40 -> 0 | Z40: =Y40*19% -> 0 | AA40: =Y40+Z40 -> 0 | AC40: =AB40*19% -> 0 | AD40: =AB40+AC40 -> 0 | AF40: =AE40*19% -> 0 | AG40: =AE40+AF40 -> 0 | AI40: =AH40*19% -> 0 | AJ40: =AH40+AI40 -> 0 | AL40: =AK40*19% -> 0 | AM40: =AK40+AL40 -> 0 | AO40: =AN40*19% -> 0 | AP40: =AN40+AO40 -> 0 | AR40: =AQ40*19% -> 0 | AS40: =AQ40+AR40 -> 0 | AU40: =AT40*19% -> 0 | AV40: =AT40+AU40 -> 0 | AX40: =AW40*19% -> 0 | AY40: =AW40+AX40 -> 0 | BA40: =AZ40*19% -> 0 | BB40: =AZ40+BA40 -> 0
B41: 3.3 | C41: GUAYA VELOCIMETRO | E41: =D41*19% -> 0 | F41: =D41+E41 -> 0 | H41: =G41*19% -> 0 | I41: =G41+H41 -> 0 | K41: =J41*19% -> 0 | L41: =J41+K41 -> 0 | N41: =M41*19% -> 0 | O41: =M41+N41 -> 0 | Q41: =P41*19% -> 0 | R41: =P41+Q41 -> 0 | T41: =S41*19% -> 0 | U41: =S41+T41 -> 0 | W41: =V41*19% -> 0 | X41: =V41+W41 -> 0 | Z41: =Y41*19% -> 0 | AA41: =Y41+Z41 -> 0 | AC41: =AB41*19% -> 0 | AD41: =AB41+AC41 -> 0 | AF41: =AE41*19% -> 0 | AG41: =AE41+AF41 -> 0 | AI41: =AH41*19% -> 0 | AJ41: =AH41+AI41 -> 0 | AL41: =AK41*19% -> 0 | AM41: =AK41+AL41 -> 0 | AO41: =AN41*19% -> 0 | AP41: =AN41+AO41 -> 0 | AR41: =AQ41*19% -> 0 | AS41: =AQ41+AR41 -> 0 | AU41: =AT41*19% -> 0 | AV41: =AT41+AU41 -> 0 | AX41: =AW41*19% -> 0 | AY41: =AW41+AX41 -> 0 | BA41: =AZ41*19% -> 0 | BB41: =AZ41+BA41 -> 0
B42: 3.4 | C42: JUEGO CAUCHOS DE CAMPANA | E42: =D42*19% -> 0 | F42: =D42+E42 -> 0 | H42: =G42*19% -> 0 | I42: =G42+H42 -> 0 | K42: =J42*19% -> 0 | L42: =J42+K42 -> 0 | N42: =M42*19% -> 0 | O42: =M42+N42 -> 0 | Q42: =P42*19% -> 0 | R42: =P42+Q42 -> 0 | T42: =S42*19% -> 0 | U42: =S42+T42 -> 0 | W42: =V42*19% -> 0 | X42: =V42+W42 -> 0 | Z42: =Y42*19% -> 0 | AA42: =Y42+Z42 -> 0 | AC42: =AB42*19% -> 0 | AD42: =AB42+AC42 -> 0 | AF42: =AE42*19% -> 0 | AG42: =AE42+AF42 -> 0 | AI42: =AH42*19% -> 0 | AJ42: =AH42+AI42 -> 0 | AL42: =AK42*19% -> 0 | AM42: =AK42+AL42 -> 0 | AO42: =AN42*19% -> 0 | AP42: =AN42+AO42 -> 0 | AR42: =AQ42*19% -> 0 | AS42: =AQ42+AR42 -> 0 | AU42: =AT42*19% -> 0 | AV42: =AT42+AU42 -> 0 | AX42: =AW42*19% -> 0 | AY42: =AW42+AX42 -> 0 | BA42: =AZ42*19% -> 0 | BB42: =AZ42+BA42 -> 0
B43: 3.5 | C43: KIT DE ARRASTRE | E43: =D43*19% -> 0 | F43: =D43+E43 -> 0 | H43: =G43*19% -> 0 | I43: =G43+H43 -> 0 | K43: =J43*19% -> 0 | L43: =J43+K43 -> 0 | N43: =M43*19% -> 0 | O43: =M43+N43 -> 0 | Q43: =P43*19% -> 0 | R43: =P43+Q43 -> 0 | T43: =S43*19% -> 0 | U43: =S43+T43 -> 0 | W43: =V43*19% -> 0 | X43: =V43+W43 -> 0 | Z43: =Y43*19% -> 0 | AA43: =Y43+Z43 -> 0 | AC43: =AB43*19% -> 0 | AD43: =AB43+AC43 -> 0 | AF43: =AE43*19% -> 0 | AG43: =AE43+AF43 -> 0 | AI43: =AH43*19% -> 0 | AJ43: =AH43+AI43 -> 0 | AL43: =AK43*19% -> 0 | AM43: =AK43+AL43 -> 0 | AO43: =AN43*19% -> 0 | AP43: =AN43+AO43 -> 0 | AR43: =AQ43*19% -> 0 | AS43: =AQ43+AR43 -> 0 | AU43: =AT43*19% -> 0 | AV43: =AT43+AU43 -> 0 | AX43: =AW43*19% -> 0 | AY43: =AW43+AX43 -> 0 | BA43: =AZ43*19% -> 0 | BB43: =AZ43+BA43 -> 0
B44: 3.6 | C44: KIT DE EMBRAGUE | E44: =D44*19% -> 0 | F44: =D44+E44 -> 0 | H44: =G44*19% -> 0 | I44: =G44+H44 -> 0 | K44: =J44*19% -> 0 | L44: =J44+K44 -> 0 | N44: =M44*19% -> 0 | O44: =M44+N44 -> 0 | Q44: =P44*19% -> 0 | R44: =P44+Q44 -> 0 | T44: =S44*19% -> 0 | U44: =S44+T44 -> 0 | W44: =V44*19% -> 0 | X44: =V44+W44 -> 0 | Z44: =Y44*19% -> 0 | AA44: =Y44+Z44 -> 0 | AC44: =AB44*19% -> 0 | AD44: =AB44+AC44 -> 0 | AF44: =AE44*19% -> 0 | AG44: =AE44+AF44 -> 0 | AI44: =AH44*19% -> 0 | AJ44: =AH44+AI44 -> 0 | AL44: =AK44*19% -> 0 | AM44: =AK44+AL44 -> 0 | AO44: =AN44*19% -> 0 | AP44: =AN44+AO44 -> 0 | AR44: =AQ44*19% -> 0 | AS44: =AQ44+AR44 -> 0 | AU44: =AT44*19% -> 0 | AV44: =AT44+AU44 -> 0 | AX44: =AW44*19% -> 0 | AY44: =AW44+AX44 -> 0 | BA44: =AZ44*19% -> 0 | BB44: =AZ44+BA44 -> 0
B45: 3.7 | C45: MANIJA DE EMBRAGUE | E45: =D45*19% -> 0 | F45: =D45+E45 -> 0 | H45: =G45*19% -> 0 | I45: =G45+H45 -> 0 | K45: =J45*19% -> 0 | L45: =J45+K45 -> 0 | N45: =M45*19% -> 0 | O45: =M45+N45 -> 0 | Q45: =P45*19% -> 0 | R45: =P45+Q45 -> 0 | T45: =S45*19% -> 0 | U45: =S45+T45 -> 0 | W45: =V45*19% -> 0 | X45: =V45+W45 -> 0 | Z45: =Y45*19% -> 0 | AA45: =Y45+Z45 -> 0 | AC45: =AB45*19% -> 0 | AD45: =AB45+AC45 -> 0 | AF45: =AE45*19% -> 0 | AG45: =AE45+AF45 -> 0 | AI45: =AH45*19% -> 0 | AJ45: =AH45+AI45 -> 0 | AL45: =AK45*19% -> 0 | AM45: =AK45+AL45 -> 0 | AO45: =AN45*19% -> 0 | AP45: =AN45+AO45 -> 0 | AR45: =AQ45*19% -> 0 | AS45: =AQ45+AR45 -> 0 | AU45: =AT45*19% -> 0 | AV45: =AT45+AU45 -> 0 | AX45: =AW45*19% -> 0 | AY45: =AW45+AX45 -> 0 | BA45: =AZ45*19% -> 0 | BB45: =AZ45+BA45 -> 0
B46: 3.8 | C46: PIÑON VELOCIMETRO | E46: =D46*19% -> 0 | F46: =D46+E46 -> 0 | H46: =G46*19% -> 0 | I46: =G46+H46 -> 0 | K46: =J46*19% -> 0 | L46: =J46+K46 -> 0 | N46: =M46*19% -> 0 | O46: =M46+N46 -> 0 | Q46: =P46*19% -> 0 | R46: =P46+Q46 -> 0 | T46: =S46*19% -> 0 | U46: =S46+T46 -> 0 | W46: =V46*19% -> 0 | X46: =V46+W46 -> 0 | Z46: =Y46*19% -> 0 | AA46: =Y46+Z46 -> 0 | AC46: =AB46*19% -> 0 | AD46: =AB46+AC46 -> 0 | AF46: =AE46*19% -> 0 | AG46: =AE46+AF46 -> 0 | AI46: =AH46*19% -> 0 | AJ46: =AH46+AI46 -> 0 | AL46: =AK46*19% -> 0 | AM46: =AK46+AL46 -> 0 | AO46: =AN46*19% -> 0 | AP46: =AN46+AO46 -> 0 | AR46: =AQ46*19% -> 0 | AS46: =AQ46+AR46 -> 0 | AU46: =AT46*19% -> 0 | AV46: =AT46+AU46 -> 0 | AX46: =AW46*19% -> 0 | AY46: =AW46+AX46 -> 0 | BA46: =AZ46*19% -> 0 | BB46: =AZ46+BA46 -> 0
B47: 3.9 | C47: RETEN CONTROL DE CAMBIO | E47: =D47*19% -> 0 | F47: =D47+E47 -> 0 | H47: =G47*19% -> 0 | I47: =G47+H47 -> 0 | K47: =J47*19% -> 0 | L47: =J47+K47 -> 0 | N47: =M47*19% -> 0 | O47: =M47+N47 -> 0 | Q47: =P47*19% -> 0 | R47: =P47+Q47 -> 0 | T47: =S47*19% -> 0 | U47: =S47+T47 -> 0 | W47: =V47*19% -> 0 | X47: =V47+W47 -> 0 | Z47: =Y47*19% -> 0 | AA47: =Y47+Z47 -> 0 | AC47: =AB47*19% -> 0 | AD47: =AB47+AC47 -> 0 | AF47: =AE47*19% -> 0 | AG47: =AE47+AF47 -> 0 | AI47: =AH47*19% -> 0 | AJ47: =AH47+AI47 -> 0 | AL47: =AK47*19% -> 0 | AM47: =AK47+AL47 -> 0 | AO47: =AN47*19% -> 0 | AP47: =AN47+AO47 -> 0 | AR47: =AQ47*19% -> 0 | AS47: =AQ47+AR47 -> 0 | AU47: =AT47*19% -> 0 | AV47: =AT47+AU47 -> 0 | AX47: =AW47*19% -> 0 | AY47: =AW47+AX47 -> 0 | BA47: =AZ47*19% -> 0 | BB47: =AZ47+BA47 -> 0
...

Sheet REPUESTOS COMUNES
B2: OFERTA ECONÓMICA LOTE No. 3 - NARIÑO | D2: REPUESTOS COMUNES MOTOCICLETAS MULTIMARCA
D4: MANTENIMIENTO MOTOS
D5: *** Incluye Costos Directos e Indirectos
B7: ITEM | C7: DESCRIPCION | D7: PRESENTACION | E7: SUBTOTAL | F7: IVA | G7: VALOR TOTAL
B8: 1 | C8: ACEITE MINERAL | D8: CUARTO | F8: =E8*19% -> 0 | G8: =E8+F8 -> 0
B9: 2 | C9: ACEITE HIDRAULICO | D9: CUARTO | F9: =E9*19% -> 0 | G9: =E9+F9 -> 0
B10: 3 | C10: ACEITE SINTETICO | D10: UNIDAD | F10: =E10*19% -> 0 | G10: =E10+F10 -> 0
B11: 4 | C11: ABRAZADERA METALICA GRANDE | D11: CUARTO | F11: =E11*19% -> 0 | G11: =E11+F11 -> 0
B12: 5 | C12: ABRAZADERA METALICA MEDIANA | D12: CUARTO | F12: =E12*19% -> 0 | G12: =E12+F12 -> 0
B13: 6 | C13: ABRAZADERA METALICA PEQUEÑA | D13: UNIDAD | F13: =E13*19% -> 0 | G13: =E13+F13 -> 0
B14: 7 | C14: ABRAZADERA PLASTICA | D14: UNIDAD | F14: =E14*19% -> 0 | G14: =E14+F14 -> 0
B15: 8 | C15: BOMBILLO DIRECCIONAL | D15: JUEGO | F15: =E15*19% -> 0 | G15: =E15+F15 -> 0
B16: 9 | C16: BOMBILLO FAROLA | D16: UNIDAD | F16: =E16*19% -> 0 | G16: =E16+F16 -> 0
B17: 10 | C17: BOMBILLO MUELA | D17: UNIDAD | F17: =E17*19% -> 0 | G17: =E17+F17 -> 0
B18: 11 | C18: BOMBILLO STOP | D18: UNIDAD | F18: =E18*19% -> 0 | G18: =E18+F18 -> 0
B19: 12 | C19: FLASHER | D19: UNIDAD | F19: =E19*19% -> 0 | G19: =E19+F19 -> 0
... B28: 21 | C28: SOKET RELAY | D28: UNIDAD | F28: =E28*19% -> 0 | G28: =E28+F28 -> 0
D29: TOTALES | E29: =SUM(E8:E28) -> 0 | F29: =SUM(F8:F28) -> 0 | G29: =SUM(G8:G28) -> 0
B32: NOTA 1: La Oferta Económica deberá ser diligenciada de acuerdo a la actividad económica del proponente y cada ítem por valor unitario. NOTA 2: Para el diligenciamiento de la Oferta Económica deberán tenerse en cuentas las causales de rechazo del Pliego de Condiciones. NOTA 3: Los valores que se inlcuyan para cada bien y/o servicio no podrán superar los precios techo contenidos en el documento denominado "Complemento del Estudio del Sector".

Sheet MANO DE OBRA
B2: OFERTA ECONÓMICA LOTE No. 3 - NARIÑO | D2: MANO DE OBRA
D3: MANTENIMIENTO MOTOCICLETAS
D5: *** Incluye Costos Directos e Indirectos
B7: ITEM | D7: CILINDRAJE HASTA 249cc | G7: CILINDRAJE IGUAL O SUPERIOR A 250cc
B8: DESCRIPCION | D8: SUBTOTAL | E8: IVA | F8: TOTAL | G8: SUBTOTAL | H8: IVA | I8: TOTAL
B9: 1 | C9: SINCRONIZACION | D9: 0 | E9: =D9*19% -> 0 | F9: 0 | G9: 0 | H9: 0 | I9: 0
B10: 1.1 | C10: CALIBRAR VALVULAS | E10: =D10*19% -> 0 | F10: =D10+E10 -> 0 | H10: =G10*19% -> 0 | I10: =G10+H10 -> 0
B11: 1.2 | C11: CAMBIO BOBINA IGNICION | E11: =D11*19% -> 0 | F11: =D11+E11 -> 0 | H11: =G11*19% -> 0 | I11: =G11+H11 -> 0
B12: 1.3 | C12: CAMBIO BUJIA | E12: =D12*19% -> 0 | F12: =D12+E12 -> 0 | H12: =G12*19% -> 0 | I12: =G12+H12 -> 0
B13: 1.4 | C13: CAMBIO CDI | E13: =D13*19% -> 0 | F13: =D13+E13 -> 0 | H13: =G13*19% -> 0 | I13: =G13+H13 -> 0
B14: 1.5 | C14: CAMBIO FILTRO AIRE | E14: =D14*19% -> 0 | F14: =D14+E14 -> 0 | H14: =G14*19% -> 0 | I14: =G14+H14 -> 0
B15: 1.6 | C15: CAMBIO GUAYA ACELERADOR | E15: =D15*19% -> 0 | F15: =D15+E15 -> 0 | H15: =G15*19% -> 0 | I15: =G15+H15 -> 0
B16: 1.7 | C16: CAMBIO GUAYA CHOQUE | E16: =D16*19% -> 0 | F16: =D16+E16 -> 0 | H16: =G16*19% -> 0 | I16: =G16+H16 -> 0
B17: 1.8 | C17: CAMBIO LLAVE DE COMBUSTIBLE | E17: =D17*19% -> 0 | F17: =D17+E17 -> 0 | H17: =G17*19% -> 0 | I17: =G17+H17 -> 0
B18: 1.9 | C18: LIMPIEZA CARBURADOR | E18: =D18*19% -> 0 | F18: =D18+E18 -> 0 | H18: =G18*19% -> 0 | I18: =G18+H18 -> 0
B19: 1.10 | C19: SINCRONIZAR MOTOR | E19: =D19*19% -> 0 | F19: =D19+E19 -> 0 | H19: =G19*19% -> 0 | I19: =G19+H19 -> 0
B20: 2 | C20: MOTOR | D20: 0 | E20: 0 | F20: 0 | G20: 0 | H20: 0 | I20: 0
B21: 2.1 | C21: ANILLAR MOTOR | E21: =D21*19% -> 0 | F21: =D21+E21 -> 0 | H21: =G21*19% -> 0 | I21: =G21+H21 -> 0
B22: 2.2 | C22: ASENTAR BANCADA | E22: =D22*19% -> 0 | F22: =D22+E22 -> 0 | H22: =G22*19% -> 0 | I22: =G22+H22 -> 0
B23: 2.3 | C23: ASENTAR VALVULAS | E23: =D23*19% -> 0 | F23: =D23+E23 -> 0 | H23: =G23*19% -> 0 | I23: =G23+H23 -> 0
B24: 2.4 | C24: CALIBRAR VALVULAS | E24: =D24*19% -> 0 | F24: =D24+E24 -> 0 | H24: =G24*19% -> 0 | I24: =G24+H24 -> 0
B25: 2.5 | C25: CAMBIO BALANCINES | E25: =D25*19% -> 0 | F25: =D25+E25 -> 0 | H25: =G25*19% -> 0 | I25: =G25+H25 -> 0
B26: 2.6 | C26: CAMBIO BOMBA DE ACEITE | E26: =D26*19% -> 0 | F26: =D26+E26 -> 0 | H26: =G26*19% -> 0 | I26: =G26+H26 -> 0
B27: 2.7 | C27: CAMBIO EMPAQUE CULATA | E27: =D27*19% -> 0 | F27: =D27+E27 -> 0 | H27: =G27*19% -> 0 | I27: =G27+H27 -> 0
B28: 2.8 | C28: CAMBIO EMPAQUE MULTIPLE | E28: =D28*19% -> 0 | F28: =D28+E28 -> 0 | H28: =G28*19% -> 0 | I28: =G28+H28 -> 0
B29: 2.9 | C29: CAMBIO OBTURADORES | E29: =D29*19% -> 0 | F29: =D29+E29 -> 0 | H29: =G29*19% -> 0 | I29: =G29+H29 -> 0
B30: 2.10 | C30: CAMBIO RETENCIGUEÑAL | E30: =D30*19% -> 0 | F30: =D30+E30 -> 0 | H30: =G30*19% -> 0 | I30: =G30+H30 -> 0
B31: 2.11 | C31: CAMBIO RODAMIENTOS MOTOR | E31: =D31*19% -> 0 | F31: =D31+E31 -> 0 | H31: =G31*19% -> 0 | I31: =G31+H31 -> 0
B32: 2.12 | C32: CEPILLAR CULATA | E32: =D32*19% -> 0 | F32: =D32+E32 -> 0 | H32: =G32*19% -> 0 | I32: =G32+H32 -> 0
... B38: 2.18 | C38: RECTIFICAR GUIAS VALVULAS | E38: =D38*19% -> 0 | F38: =D38+E38 -> 0 | H38: =G38*19% -> 0 | I38: =G38+H38 -> 0
B39: 3 | C39: SISTEMA DE TRANSFERENCIA | D39: 0 | E39: 0 | F39: 0 | G39: 0 | H39: 0 | I39: 0
B40: 3.1 | C40: CAMBIO KIT DE ARRASTRE | E40: =D40*19% -> 0 | F40: =D40+E40 -> 0 | H40: =G40*19% -> 0 | I40: =G40+H40 -> 0
B41: 3.2 | C41: CAMBIO EMPAQUE TAPA EMBRAGUE | E41: =D41*19% -> 0 | F41: =D41+E41 -> 0 | H41: =G41*19% -> 0 | I41: =G41+H41 -> 0
B42: 3.3 | C42: CAMBIO GUAYA EMBRAGUE | E42: =D42*19% -> 0 | F42: =D42+E42 -> 0 | H42: =G42*19% -> 0 | I42: =G42+H42 -> 0
B43: 3.4 | C43: CAMBIO GUAYA VELOCIMETRO | E43: =D43*19% -> 0 | F43: =D43+E43 -> 0 | H43: =G43*19% -> 0 | I43: =G43+H43 -> 0
B44: 3.5 | C44: CAMBIO KIT DISCOS EMBRAGUE | E44: =D44*19% -> 0 | F44: =D44+E44 -> 0 | H44: =G44*19% -> 0 | I44: =G44+H44 -> 0
B45: 3.6 | C45: CAMBIO MANIJA EMBRAGUE | E45: =D45*19% -> 0 | F45: =D45+E45 -> 0 | H45: =G45*19% -> 0 | I45: =G45+H45 -> 0
B46: 3.7 | C46: CAMBIO PERA NEUTRO | E46: =D46*19% -> 0 | F46: =D46+E46 -> 0 | H46: =G46*19% -> 0 | I46: =G46+H46 -> 0
B47: 3.8 | C47: CAMBIO PIÑON VELOCIMETRO | E47: =D47*19% -> 0 | F47: =D47+E47 -> 0 | H47: =G47*19% -> 0 | I47: =G47+H47 -> 0
B48: 3.9 | C48: CAMBIO RETEN SELECTOR DE CAMBIO DE CAMBIOS | E48: =D48*19% -> 0 | F48: =D48+E48 -> 0 | H48: =G48*19% -> 0 | I48: =G48+H48 -> 0
...

Sheet TOTAL PORTAFOLIO
B2: TOTAL PORTAFOLIO DE SERVICIOS Y REPUESTOS
B3: MANTENIMIENTO PARQUE AUTOMOTOR
B4: LOTE No. 3 - NARIÑO
C6: REPUESTOS
B7: ITEM | C7: DESCRIPCIÓN | D7: SUBTOTAL | E7: IVA | F7: VALOR PROPUESTA
B8: 1 | C8: AKT AKT180 | D8: =F8/1.19 -> 0 | E8: =F8-D8 -> 0 | F8: =REPUESTOS!F108 -> 0
B9: 2 | C9: AUTECO BAJAJ P´LATINO | D9: =F9/1.19 -> 0 | E9: =F9-D9 -> 0 | F9: =REPUESTOS!I108 -> 0
B10: 3 | C10: BAJAJ PULSAR 200 | D10: =F10/1.19 -> 0 | E10: =F10-D10 -> 0 | F10: =REPUESTOS!L108 -> 0
B11: 4 | C11: HONDA CB 110 | D11: =F11/1.19 -> 0 | E11: =F11-D11 -> 0 | F11: =REPUESTOS!O108 -> 0
B12: 5 | C12: HONDA CB 150 | D12: =F12/1.19 -> 0 | E12: =F12-D12 -> 0 | F12: =REPUESTOS!R108 -> 0
B13: 6 | C13: HONDA ECODELUX | D13: =F13/1.19 -> 0 | E13: =F13-D13 -> 0 | F13: =REPUESTOS!U108 -> 0
B14: 7 | C14: HONDA ELITE | D14: =F14/1.19 -> 0 | E14: =F14-D14 -> 0 | F14: =REPUESTOS!X108 -> 0
B15: 8 | C15: HONDA XR125 | D15: =F15/1.19 -> 0 | E15: =F15-D15 -> 0 | F15: =REPUESTOS!AA108 -> 0
B16: 9 | C16: KEEWAY RKS150 | D16: =F16/1.19 -> 0 | E16: =F16-D16 -> 0 | F16: =REPUESTOS!AD108 -> 0
B17: 10 | C17: SUZUKI DR200 | D17: =F17/1.19 -> 0 | E17: =F17-D17 -> 0 | F17: =REPUESTOS!AG108 -> 0
B18: 11 | C18: SUZUKI GS-125 | D18: =F18/1.19 -> 0 | E18: =F18-D18 -> 0 | F18: =REPUESTOS!AJ108 -> 0
B19: 12 | C19: YAMAHA FZ15N | D19: =F19/1.19 -> 0 | E19: =F19-D19 -> 0 | F19: =REPUESTOS!AM108 -> 0
B20: 13 | C20: YAMAHA SZ16R | D20: =F20/1.19 -> 0 | E20: =F20-D20 -> 0 | F20: =REPUESTOS!AP108 -> 0
B21: 14 | C21: YAMAHA T115 | D21: =F21/1.19 -> 0 | E21: =F21-D21 -> 0 | F21: =REPUESTOS!AS108 -> 0
B22: 15 | C22: YAMAHA XTZ 125 | D22: =F22/1.19 -> 0 | E22: =F22-D22 -> 0 | F22: =REPUESTOS!AV108 -> 0
B23: 16 | C23: YAMAHA XTZ 225D | D23: =F23/1.19 -> 0 | E23: =F23-D23 -> 0 | F23: =REPUESTOS!AY108 -> 0
B24: 17 | C24: YAMAHA XTZ 250 | D24: =F24/1.19 -> 0 | E24: =F24-D24 -> 0 | F24: =REPUESTOS!BB108 -> 0
B25: TOTAL PORTAFOLIO - REPUESTOS | D25: =SUM(D8:D24) -> 0 | E25: =SUM(E8:E24) -> 0 | F25: =SUM(F8:F24) -> 0
C27: REPUESTOS COMUNES
B28: ITEM | C28: DESCRIPCIÓN | D28: SUBTOTAL | E28: IVA | F28: VALOR PROPUESTA
B29: 1 | C29: REPUESTOS COMUNES | D29: =F29/1.19 -> 0 | E29: =F29-D29 -> 0 | F29: ='REPUESTOS COMUNES'!G29 -> 0
B30: TOTAL PORTAFOLIO - REPUESTOS COMUNES | D30: =D29 -> 0 | E30: =E29 -> 0 | F30: =F29 -> 0
C32: MANO DE OBRA
B33: ITEM | C33: DESCRIPCIÓN | D33: SUBTOTAL | E33: IVA | F33: VALOR PROPUESTA
B34: 1 | C34: CILINDRAJE HASTA 249 CC | D34: =F34/1.19 -> 0 | E34: =F34-D34 -> 0 | F34: ='MANO DE OBRA'!F121 -> 0
B35: 2 | C35: CILINDRAJE IGUAL O SUPERIOR A 250 CC | D35: =F35/1.19 -> 0 | E35: =F35-D35 -> 0 | F35: ='MANO DE OBRA'!I121 -> 0
B36: TOTAL PORTAFOLIO - MANO DE OBRA | D36: =SUM(D34:D35) -> 0 | E36: =SUM(E34:E35) -> 0 | F36: =SUM(F34:F35) -> 0
C38: VALOR TOTAL DEL PORTAFOLIO MANTENIMIENTO MOTOCICLETAS MULTIMARCA | F38: =F25+F30+F36 -> 0
