Workbook

Sheet Inf. básica
A1: MAQUINARIA ALCALDÍA KENNEDY | D1: MARCA | E1: SERIE | F1: MODELO | G1: CLASE COMBUSTIBLE | I1: MAQUINARIA ALCALDÍA KENNEDY | K1: MARCA | L1: SERIE | M1: MODELO | N1: CLASE COMBUSTIBLE
A2: VOLQUETA INTERNATIONAL 4300 PLACA OJX 279 | C2: VOLQUETA INTERNATIONAL DURASTAR 4300 SBA PLACA OJX 279 | D2: INTERNATIONAL | E2: DURASTAR 4300 SBA | F2: 2015 | G2: ACPM | I2: VOLQUETA INTERNATIONAL 4300 PLACA OJX 279 | J2: VOLQUETA INTERNATIONAL DURASTAR 4300 SBA PLACA OJX 279 | K2: INTERNATIONAL | L2: DURASTAR 4300 SBA | M2: 2015 | N2: ACPM
A3: VOLQUETA INTERNATIONAL 4300 PLACA OJX 280 | C3: VOLQUETA INTERNATIONAL DURASTAR 4300 SBA PLACA OJX 280 | D3: INTERNATIONAL | E3: DURASTAR 4300 SBA | F3: 2015 | G3: ACPM | I3: VOLQUETA INTERNATIONAL 4300 PLACA OJX 280 | J3: VOLQUETA INTERNATIONAL DURASTAR 4300 SBA PLACA OJX 280 | K3: INTERNATIONAL | L3: DURASTAR 4300 SBA | M3: 2015 | N3: ACPM
A4: VOLQUETA INTERNATIONAL 4300 PLACA OJX 281 | C4: VOLQUETA INTERNATIONAL DURASTAR 4300 SBA PLACA OJX 281 | D4: INTERNATIONAL | E4: DURASTAR 4300 SBA | F4: 2015 | G4: ACPM | I4: VOLQUETA INTERNATIONAL 4300 PLACA OJX 281 | J4: VOLQUETA INTERNATIONAL DURASTAR 4300 SBA PLACA OJX 281 | K4: INTERNATIONAL | L4: DURASTAR 4300 SBA | M4: 2015 | N4: ACPM
A5: CAMA BAJA | C5: (CAMA BAJA) | D5: N.E | E5: N.E | F5: 2009 | G5: N.A | I5: CAMA BAJA | J5: (CAMA BAJA) | K5: N.E | L5: N.E | M5: 2009 | N5: N.A
A6: RETROEXCAVADORA NEW HOLLAND | C6: RETROEXCAVADORA | D6: NEW HOLLAND | E6: B 95 B | F6: 2009 | G6: ACPM | I6: RETROEXCAVADORA NEW HOLLAND | J6: RETROEXCAVADORA | K6: NEW HOLLAND | L6: B 95 B | M6: 2009 | N6: ACPM
A7: VIBROCOMPACTADOR DINAPAC CA 150 | C7: CILINDRO COMPACTADOR | D7: DYNAPAC | E7: CA 150 | F7: 1990 | G7: ACPM | I7: VIBROCOMPACTADOR DINAPAC CA 150 | J7: CILINDRO COMPACTADOR | K7: DYNAPAC | L7: CA 150 | M7: 1990 | N7: ACPM
A8: MOTONIVELADORA CATERPILLAR 120 G | C8: MOTONIVELADORA | D8: CATERPILLAR | E8: 120 G | F8: 1987 | G8: ACPM | I8: MOTONIVELADORA CATERPILLAR 120 G | J8: MOTONIVELADORA | K8: CATERPILLAR | L8: 120 G | M8: 1987 | N8: ACPM
A9: MOTONIVELADORA CHAMPION 710A | C9: MOTONIVELADORA | D9: CHAMPION | E9: 710A | F9: 1987 | G9: ACPM | I9: MOTONIVELADORA CHAMPION 710A | J9: MOTONIVELADORA | K9: CHAMPION | L9: 710A | M9: 1987 | N9: ACPM
A10: Minicargador New Holland | C10: Minicargador | D10: NEW HOLLAND | E10: L323 | F10: 2023 | G10: ACPM | I10: Minicargador New Holland | J10: Minicargador | K10: NEW HOLLAND | L10: L323 | M10: 2023 | N10: ACPM
A11: BUS JQV-204 | C11: BUS ELECTRICO | D11: DONGFENG | E11: 165 Kw | F11: 2023 | G11: Electrico | I11: BUS JQV-204 | J11: BUS ELECTRICO | K11: DONGFENG | L11: 165 Kw | M11: 2023 | N11: Electrico
A12: VIBRO COMPACTADOR MANUAL | C12: VIBRO COMPACTADOR MANUAL | D12: HONDA | E12: 13 HP | F12: 2010 | G12: GASOLINA | I12: VIBRO COMPACTADOR MANUAL | J12: VIBRO COMPACTADOR MANUAL | K12: HONDA | L12: 13 HP | M12: 2010 | N12: GASOLINA

Sheet ANALISIS INICIAL
D2: VALORES COTIZADOS | H2: PRECIO HISTORICO | J2: VARIACIONES COTIZACIONES CONTRA EL PRECIO HISTORICO O EL MENOR VALOR (CUANDO NO HAY HISTORICO) | M2: MEDIDAS DE TENDENCIA CENTRAL (MTC) | U2: VARIACIONES MTC CONTRA EL PRECIO HISTORICO O EL MENOR VALOR (CUANDO NO HAY HISTORICO) | AJ2: VALORES COTIZADOS
A3: DESCRIPCIÓN DEL SERVICIO | C3: CANTIDAD | D3: CAMIONAUTOS SERVICE SAS | E3: AUTOS MONGUI S.A.S. | F3: MULTISERVICIOS MONACO | G3: CAMIONAUTOS SERVICE SAS | H3: PRECIO TOTAL CPS678-2023 Con IPC | I3: DIFERENCIA CAMIONAUTOS PRIMERA A SEGUNDA COTIZACION | J3: CAMIONAUTOS SERVICE SAS | K3: AUTOS MONGUI S.A.S. | L3: MULTISERVICIOS MONACO | M3: MEDIA GEOMETRICA SOLO COTIZACIONES | N3: PROMEDIO SIMPLE SOLO COTIZACIONES | O3: MEDIA GEOMETRICA Cotizaciones e Histórico | P3: PROMEDIO SIMPLE Cotizaciones e Histórico | Q3: MEDIA GEOMETRICA 3 más bajas | R3: PROMEDIO SIMPLE 3 más bajas | S3: MEDIA GEOMETRICA 2 más bajos | T3: PROMEDIO 2 más bajos | U3: MEDIA GEOMETRICA SOLO COTIZACIONES | V3: PROMEDIO SIMPLE SOLO COTIZACIONES | W3: MEDIA GEOMETRICA Cotizaciones e Histórico | X3: PROMEDIO SIMPLE Cotizaciones e Histórico | Y3: MEDIA GEOMETRICA 3 más bajas | Z3: PROMEDIO SIMPLE 3 más bajas | AA3: MEDIA GEOMETRICA 2 más bajos | AB3: PROMEDIO 2 más bajos | AC3: MENOR VARIACIÓN POSITIVA | AD3: MTC CON MENOR VARIACIÓN POSITIVA | AE3: PRECIO DE REFERENCIA | AF3: PROMEDIO DE LOS DOS VALORES MAS BAJOS | AG3: MEDIO DE DETERMINACION | AJ3: CAMIONAUTOS SERVICE SAS | AL3: PROMEDIO DE LOS DOS VALORES MAS BAJOS
A4: VOLQUETAS INTERNATIONAL 4300 MODELO 2015
B5: ESTADO GENERAL
A6: =1 -> 1 | B6: ENGRASE GENERAL | C6: 1 | D6: 423378.9 | E6: 2152000 | F6: 2235600 | G6: 423379 | H6: =+'678-2024 IPC'!H5 -> 361951.79 | I6: =+D6-G6 -> -0.1 | J6: =+D6/IF($H6<>"",$H6,MIN($D6:$F6))-1 -> 0.16971076 | K6: =+E6/IF($H6<>"",$H6,MIN($D6:$F6))-1 -> 4.9455432 | L6: =+F6/IF($H6<>"",$H6,MIN($D6:$F6))-1 -> 5.1765132 | M6: =ROUND(GEOMEAN(E6:H6),0) -> 926625 | N6: =ROUND(AVERAGE(E6:H6),0) -> 1293233 | O6: =ROUND(GEOMEAN(E6:H6),0) -> 926625 | P6: =ROUND(AVERAGE(E6:H6),0) -> 1293233 | Q6: {=ROUND(GEOMEAN(SMALL(E6:H6,{1;2;3})),0)} -> 690888 | R6: {=ROUND(AVERAGE(SMALL(E6:H6,{1;2;3})),0)} -> 979110 | S6: {=ROUND(GEOMEAN(SMALL(E6:H6,{1;2})),0)} -> 391462 | T6: {=ROUND(AVERAGE(SMALL(E6:H6,{1;2})),0)} -> 392665 | U6: =+M6/IF($H6<>"",$H6,MIN($D6:$F6))-1 -> 1.5600785 | V6: =+N6/IF($H6<>"",$H6,MIN($D6:$F6))-1 -> 2.5729427 | W6: =+O6/IF($H6<>"",$H6,MIN($D6:$F6))-1 -> 1.5600785 | X6: =+P6/IF($H6<>"",$H6,MIN($D6:$F6))-1 -> 2.5729427 | Y6: =+Q6/IF($H6<>"",$H6,MIN($D6:$F6))-1 -> 0.9087846 | Z6: =+R6/IF($H6<>"",$H6,MIN($D6:$F6))-1 -> 1.705084 | AA6: =+S6/IF($H6<>"",$H6,MIN($D6:$F6))-1 -> 0.081530781 | AB6: =+T6/IF($H6<>"",$H6,MIN($D6:$F6))-1 -> 0.084854428 | AC6: {=MIN(IF(U6:AB6>0,U6:AB6))} -> 0.081530781 | AD6: =+IFERROR(_xlfn.XLOOKUP(AC6,U6:AB6,$U$3:$AB$3,,0),"Sin medida de tendencia central") -> MEDIA GEOMETRICA 2 más bajos | AE6: =+IFERROR(_xlfn.XLOOKUP(AD6,$M$3:$T$3,M6:T6,,0),"Pendiente") -> 391462 | AF6: =+AVERAGE(G6:H6) -> 392665.39 | AG6: PROMEDIO IPC - CAMIONAUTOS | AJ6: 423378.9 | AL6: 392665.39
A7: =+A6+1 -> 2 | B7: LIBRA GRASA BASE LITIO MULTIUSOS EP GRADO NLGI:3 PUNTO DE GOTEO MINIMO:160ºC RESISTENTE AL AGUA(LIBRA) | C7: 1 | D7: 112987 | E7: 952000 | F7: 999600 | G7: 112987 | H7: =+'678-2024 IPC'!H6 -> 252269.43 | I7: =+D7-G7 -> 0 | J7: =+D7/IF($H7<>"",$H7,MIN($D7:$F7))-1 -> -0.55211775 | K7: =+E7/IF($H7<>"",$H7,MIN($D7:$F7))-1 -> 2.773743 | L7: =+F7/IF($H7<>"",$H7,MIN($D7:$F7))-1 -> 2.9624302 | M7: =ROUND(GEOMEAN(E7:H7),0) -> 405825 | N7: =ROUND(AVERAGE(E7:H7),0) -> 579214 | O7: =ROUND(GEOMEAN(E7:H7),0) -> 405825 | P7: =ROUND(AVERAGE(E7:H7),0) -> 579214 | Q7: {=ROUND(GEOMEAN(SMALL(E7:H7,{1;2;3})),0)} -> 300499 | R7: {=ROUND(AVERAGE(SMALL(E7:H7,{1;2;3})),0)} -> 439085 | S7: {=ROUND(GEOMEAN(SMALL(E7:H7,{1;2})),0)} -> 168829 | T7: {=ROUND(AVERAGE(SMALL(E7:H7,{1;2})),0)} -> 182628 | U7: =+M7/IF($H7<>"",$H7,MIN($D7:$F7))-1 -> 0.60869671 | V7: =+N7/IF($H7<>"",$H7,MIN($D7:$F7))-1 -> 1.2960135 | W7: =+O7/IF($H7<>"",$H7,MIN($D7:$F7))-1 -> 0.60869671 | X7: =+P7/IF($H7<>"",$H7,MIN($D7:$F7))-1 -> 1.2960135 | Y7: =+Q7/IF($H7<>"",$H7,MIN($D7:$F7))-1 -> 0.19118279 | Z7: =+R7/IF($H7<>"",$H7,MIN($D7:$F7))-1 -> 0.74053988 | AA7: =+S7/IF($H7<>"",$H7,MIN($D7:$F7))-1 -> -0.33075918 | AB7: =+T7/IF($H7<>"",$H7,MIN($D7:$F7))-1 -> -0.27605972 | AC7: {=MIN(IF(U7:AB7>0,U7:AB7))} -> 0.19118279 | AD7: =+IFERROR(_xlfn.XLOOKUP(AC7,U7:AB7,$U$3:$AB$3,,0),"Sin medida de tendencia central") -> MEDIA GEOMETRICA 3 más bajas | AE7: =+IFERROR(_xlfn.XLOOKUP(AD7,$M$3:$T$3,M7:T7,,0),"Pendiente") -> 300499 | AF7: =+AVERAGE(G7:H7) -> 182628.21 | AG7: PROMEDIO IPC - CAMIONAUTOS | AJ7: 112987 | AL7: 182628.21
A8: =+A7+1 -> 3 | B8: LAVADO GENERAL | C8: 1 | D8: 352310 | E8: 1600000 | F8: 1650000 | G8: 352310 | H8: =+'678-2024 IPC'!H7 -> 438729.44 | I8: =+D8-G8 -> 0 | J8: =+D8/IF($H8<>"",$H8,MIN($D8:$F8))-1 -> -0.19697662 | K8: =+E8/IF($H8<>"",$H8,MIN($D8:$F8))-1 -> 2.6468945 | L8: =+F8/IF($H8<>"",$H8,MIN($D8:$F8))-1 -> 2.76086 | M8: =ROUND(GEOMEAN(E8:H8),0) -> 799248 | N8: =ROUND(AVERAGE(E8:H8),0) -> 1010260 | O8: =ROUND(GEOMEAN(E8:H8),0) -> 799248 | P8: =ROUND(AVERAGE(E8:H8),0) -> 1010260 | Q8: {=ROUND(GEOMEAN(SMALL(E8:H8,{1;2;3})),0)} -> 627693 | R8: {=ROUND(AVERAGE(SMALL(E8:H8,{1;2;3})),0)} -> 797013 | S8: {=ROUND(GEOMEAN(SMALL(E8:H8,{1;2})),0)} -> 393152 | T8: {=ROUND(AVERAGE(SMALL(E8:H8,{1;2})),0)} -> 395520 | U8: =+M8/IF($H8<>"",$H8,MIN($D8:$F8))-1 -> 0.82173323 | V8: =+N8/IF($H8<>"",$H8,MIN($D8:$F8))-1 -> 1.3026948 | W8: =+O8/IF($H8<>"",$H8,MIN($D8:$F8))-1 -> 0.82173323 | X8: =+P8/IF($H8<>"",$H8,MIN($D8:$F8))-1 -> 1.3026948 | Y8: =+Q8/IF($H8<>"",$H8,MIN($D8:$F8))-1 -> 0.43070636 | Z8: =+R8/IF($H8<>"",$H8,MIN($D8:$F8))-1 -> 0.81663897 | AA8: =+S8/IF($H8<>"",$H8,MIN($D8:$F8))-1 -> -0.10388507 | AB8: =+T8/IF($H8<>"",$H8,MIN($D8:$F8))-1 -> -0.098487669 | AC8: {=MIN(IF(U8:AB8>0,U8:AB8))} -> 0.43070636 | AD8: =+IFERROR(_xlfn.XLOOKUP(AC8,U8:AB8,$U$3:$AB$3,,0),"Sin medida de tendencia central") -> MEDIA GEOMETRICA 3 más bajas | AE8: =+IFERROR(_xlfn.XLOOKUP(AD8,$M$3:$T$3,M8:T8,,0),"Pendiente") -> 627693 | AF8: =+AVERAGE(G8:H8) -> 395519.72 | AG8: PROMEDIO IPC - CAMIONAUTOS | AJ8: 352310 | AL8: 395519.72
A9: =A8+1 -> 4 | B9: REVISIÓN NIVELES GENERAL | C9: 1 | D9: 152586 | E9: 1052000 | F9: 1085560 | G9: 152586 | H9: =+'678-2024 IPC'!H8 -> 504538.86 | I9: =+D9-G9 -> 0 | J9: =+D9/IF($H9<>"",$H9,MIN($D9:$F9))-1 -> -0.69757334 | K9: =+E9/IF($H9<>"",$H9,MIN($D9:$F9))-1 -> 1.0850723 | L9: =+F9/IF($H9<>"",$H9,MIN($D9:$F9))-1 -> 1.1515885 | M9: =ROUND(GEOMEAN(E9:H9),0) -> 544527 | N9: =ROUND(AVERAGE(E9:H9),0) -> 698671 | O9: =ROUND(GEOMEAN(E9:H9),0) -> 544527 | P9: =ROUND(AVERAGE(E9:H9),0) -> 698671 | Q9: {=ROUND(GEOMEAN(SMALL(E9:H9,{1;2;3})),0)} -> 432655 | R9: {=ROUND(AVERAGE(SMALL(E9:H9,{1;2;3})),0)} -> 569708 | S9: {=ROUND(GEOMEAN(SMALL(E9:H9,{1;2})),0)} -> 277463 | T9: {=ROUND(AVERAGE(SMALL(E9:H9,{1;2})),0)} -> 328562 | U9: =+M9/IF($H9<>"",$H9,MIN($D9:$F9))-1 -> 0.079256817 | V9: =+N9/IF($H9<>"",$H9,MIN($D9:$F9))-1 -> 0.38477144 | W9: =+O9/IF($H9<>"",$H9,MIN($D9:$F9))-1 -> 0.079256817 | X9: =+P9/IF($H9<>"",$H9,MIN($D9:$F9))-1 -> 0.38477144 | Y9: =+Q9/IF($H9<>"",$H9,MIN($D9:$F9))-1 -> -0.14247437 | Z9: =+R9/IF($H9<>"",$H9,MIN($D9:$F9))-1 -> 0.12916576 | AA9: =+S9/IF($H9<>"",$H9,MIN($D9:$F9))-1 -> -0.45006614 | AB9: =+T9/IF($H9<>"",$H9,MIN($D9:$F9))-1 -> -0.34878752 | AC9: {=MIN(IF(U9:AB9>0,U9:AB9))} -> 0.079256817 | AD9: =+IFERROR(_xlfn.XLOOKUP(AC9,U9:AB9,$U$3:$AB$3,,0),"Sin medida de tendencia central") -> MEDIA GEOMETRICA SOLO COTIZACIONES | AE9: =+IFERROR(_xlfn.XLOOKUP(AD9,$M$3:$T$3,M9:T9,,0),"Pendiente") -> 544527 | AF9: =+AVERAGE(G9:H9) -> 328562.43 | AG9: PROMEDIO IPC - CAMIONAUTOS | AJ9: 152586 | AL9: 328562.43
A10: =+A9+1 -> 5 | B10: REVISIÓN GENERAL, LUCES, PITOS, TESTIGOS DE TABLERO | C10: 1 | D10: 211386 | E10: 2000000 | F10: 2062000 | G10: 211386 | H10: =+'678-2024 IPC'!H9 -> 987141.24 | I10: =+D10-G10 -> 0 | J10: =+D10/IF($H10<>"",$H10,MIN($D10:$F10))-1 -> -0.78586043 | K10: =+E10/IF($H10<>"",$H10,MIN($D10:$F10))-1 -> 1.0260525 | L10: =+F10/IF($H10<>"",$H10,MIN($D10:$F10))-1 -> 1.0888602 | M10: =ROUND(GEOMEAN(E10:H10),0) -> 963149 | N10: =ROUND(AVERAGE(E10:H10),0) -> 1315132 | O10: =ROUND(GEOMEAN(E10:H10),0) -> 963149 | P10: =ROUND(AVERAGE(E10:H10),0) -> 1315132 | Q10: {=ROUND(GEOMEAN(SMALL(E10:H10,{1;2;3})),0)} -> 747300 | R10: {=ROUND(AVERAGE(SMALL(E10:H10,{1;2;3})),0)} -> 1066176 | S10: {=ROUND(GEOMEAN(SMALL(E10:H10,{1;2})),0)} -> 456802 | T10: {=ROUND(AVERAGE(SMALL(E10:H10,{1;2})),0)} -> 599264 | U10: =+M10/IF($H10<>"",$H10,MIN($D10:$F10))-1 -> -0.024304769 | V10: =+N10/IF($H10<>"",$H10,MIN($D10:$F10))-1 -> 0.33226325 | W10: =+O10/IF($H10<>"",$H10,MIN($D10:$F10))-1 -> -0.024304769 | X10: =+P10/IF($H10<>"",$H10,MIN($D10:$F10))-1 -> 0.33226325 | Y10: =+Q10/IF($H10<>"",$H10,MIN($D10:$F10))-1 -> -0.24296547 | Z10: =+R10/IF($H10<>"",$H10,MIN($D10:$F10))-1 -> 0.080064287 | AA10: =+S10/IF($H10<>"",$H10,MIN($D10:$F10))-1 -> -0.53724758 | AB10: =+T10/IF($H10<>"",$H10,MIN($D10:$F10))-1 -> -0.39292983 | AC10: {=MIN(IF(U10:AB10>0,U10:AB10))} -> 0.080064287 | AD10: =+IFERROR(_xlfn.XLOOKUP(AC10,U10:AB10,$U$3:$AB$3,,0),"Sin medida de tendencia central") -> PROMEDIO SIMPLE 3 más bajas | AE10: =+IFERROR(_xlfn.XLOOKUP(AD10,$M$3:$T$3,M10:T10,,0),"Pendiente") -> 1066176 | AF10: =+AVERAGE(G10:H10) -> 599263.62 | AG10: PROMEDIO IPC - CAMIONAUTOS | AJ10: 211386 | AL10: 599263.62
A11: =A10+1 -> 6 | B11: REVISIÓN TECNOMECÁNICA | C11: 1 | D11: 614558 | E11: 3100000 | F11: 3195000 | G11: 614558 | H11: =+'678-2024 IPC'!H10 -> 807262.17 | I11: =+D11-G11 -> 0 | J11: =+D11/IF($H11<>"",$H11,MIN($D11:$F11))-1 -> -0.23871324 | K11: =+E11/IF($H11<>"",$H11,MIN($D11:$F11))-1 -> 2.8401403 | L11: =+F11/IF($H11<>"",$H11,MIN($D11:$F11))-1 -> 2.957822 | M11: =ROUND(GEOMEAN(E11:H11),0) -> 1488855 | N11: =ROUND(AVERAGE(E11:H11),0) -> 1929205 | O11: =ROUND(GEOMEAN(E11:H11),0) -> 1488855 | P11: =ROUND(AVERAGE(E11:H11),0) -> 1929205 | Q11: {=ROUND(GEOMEAN(SMALL(E11:H11,{1;2;3})),0)} -> 1154285 | R11: {=ROUND(AVERAGE(SMALL(E11:H11,{1;2;3})),0)} -> 1507273 | S11: {=ROUND(GEOMEAN(SMALL(E11:H11,{1;2})),0)} -> 704350 | T11: {=ROUND(AVERAGE(SMALL(E11:H11,{1;2})),0)} -> 710910 | U11: =+M11/IF($H11<>"",$H11,MIN($D11:$F11))-1 -> 0.84432649 | V11: =+N11/IF($H11<>"",$H11,MIN($D11:$F11))-1 -> 1.3898122 | W11: =+O11/IF($H11<>"",$H11,MIN($D11:$F11))-1 -> 0.84432649 | X11: =+P11/IF($H11<>"",$H11,MIN($D11:$F11))-1 -> 1.3898122 | Y11: =+Q11/IF($H11<>"",$H11,MIN($D11:$F11))-1 -> 0.42987625 | Z11: =+R11/IF($H11<>"",$H11,MIN($D11:$F11))-1 -> 0.86714187 | AA11: =+S11/IF($H11<>"",$H11,MIN($D11:$F11))-1 -> -0.12748296 | AB11: =+T11/IF($H11<>"",$H11,MIN($D11:$F11))-1 -> -0.11935673 | AC11: {=MIN(IF(U11:AB11>0,U11:AB11))} -> 0.42987625 | AD11: =+IFERROR(_xlfn.XLOOKUP(AC11,U11:AB11,$U$3:$AB$3,,0),"Sin medida de tendencia central") -> MEDIA GEOMETRICA 3 más bajas | AE11: =+IFERROR(_xlfn.XLOOKUP(AD11,$M$3:$T$3,M11:T11,,0),"Pendiente") -> 1154285 | AF11: =+AVERAGE(G11:H11) -> 710910.08 | AG11: PROMEDIO IPC - CAMIONAUTOS | AJ11: 614558 | AL11: 710910.08
B12: MOTOR | I12: =+D12-G12 -> 0
A13: =A11+1 -> 7 | B13: FILTRO DE ACEITE | C13: 1 | D13: 742722.8 | E13: 1128000 | F13: 1180400 | G13: 442723 | H13: =+'678-2024 IPC'!H12 -> 337053.89 | I13: =+D13-G13 -> 299999.8 | J13: =+D13/IF($H13<>"",$H13,MIN($D13:$F13))-1 -> 1.2035728 | K13: =+E13/IF($H13<>"",$H13,MIN($D13:$F13))-1 -> 2.3466458 | L13: =+F13/IF($H13<>"",$H13,MIN($D13:$F13))-1 -> 2.5021106 | M13: =ROUND(GEOMEAN(D13:F13),0) -> 996296 | N13: =ROUND(AVERAGE(D13:F13),0) -> 1017041 | O13: =ROUND(GEOMEAN(D13:I13),0) -> 594775 | P13: =ROUND(AVERAGE(D13:I13),0) -> 688483 | Q13: {=ROUND(GEOMEAN(SMALL(D13:I13,{1;2;3})),0)} -> 355073 | R13: {=ROUND(AVERAGE(SMALL(D13:I13,{1;2;3})),0)} -> 359926 | S13: {=ROUND(GEOMEAN(SMALL(D13:I13,{1;2})),0)} -> 317988 | T13: {=ROUND(AVERAGE(SMALL(D13:I13,{1;2})),0)} -> 318527 | U13: =+M13/IF($H13<>"",$H13,MIN($D13:$F13))-1 -> 1.9558953 | V13: =+N13/IF($H13<>"",$H13,MIN($D13:$F13))-1 -> 2.0174433 | W13: =+O13/IF($H13<>"",$H13,MIN($D13:$F13))-1 -> 0.76462878 | X13: =+P13/IF($H13<>"",$H13,MIN($D13:$F13))-1 -> 1.0426496 | Y13: =+Q13/IF($H13<>"",$H13,MIN($D13:$F13))-1 -> 0.053460613 | Z13: =+R13/IF($H13<>"",$H13,MIN($D13:$F13))-1 -> 0.067858904 | AA13: =+S13/IF($H13<>"",$H13,MIN($D13:$F13))-1 -> -0.056566302 | AB13: =+T13/IF($H13<>"",$H13,MIN($D13:$F13))-1 -> -0.054967151 | AC13: {=MIN(IF(U13:AB13>0,U13:AB13))} -> 0.053460613 | AD13: =+IFERROR(_xlfn.XLOOKUP(AC13,U13:AB13,$U$3:$AB$3,,0),"Sin medida de tendencia central") -> MEDIA GEOMETRICA 3 más bajas | AE13: =+IFERROR(_xlfn.XLOOKUP(AD13,$M$3:$T$3,M13:T13,,0),"Pendiente") -> 355073 | AF13: =+AVERAGE(G13:H13) -> 389888.45 | AG13: PROMEDIO IPC - CAMIONAUTOS | AJ13: 742722.8 | AL13: 389888.45
A14: =+A13+1 -> 8 | B14: FILTRO DE AIRE INTERNO | C14: 1 | D14: 833686.4 | E14: 1225000 | F14: 1282250 | G14: 433686 | H14: =+'678-2024 IPC'!H13 -> 379391.28 | I14: =+D14-G14 -> 400000.4 | J14: =+D14/IF($H14<>"",$H14,MIN($D14:$F14))-1 -> 1.1974316 | K14: =+E14/IF($H14<>"",$H14,MIN($D14:$F14))-1 -> 2.2288565 | L14: =+F14/IF($H14<>"",$H14,MIN($D14:$F14))-1 -> 2.3797561 | M14: =ROUND(GEOMEAN(D14:F14),0) -> 1094050 | N14: =ROUND(AVERAGE(D14:F14),0) -> 1113645 | O14: =ROUND(GEOMEAN(D14:I14),0) -> 664619 | P14: =ROUND(AVERAGE(D14:I14),0) -> 759002 | Q14: {=ROUND(GEOMEAN(SMALL(D14:I14,{1;2;3})),0)} -> 403746 | R14: {=ROUND(AVERAGE(SMALL(D14:I14,{1;2;3})),0)} -> 404359 | S14: {=ROUND(GEOMEAN(SMALL(D14:I14,{1;2})),0)} -> 389560 | T14: {=ROUND(AVERAGE(SMALL(D14:I14,{1;2})),0)} -> 389696 | U14: =+M14/IF($H14<>"",$H14,MIN($D14:$F14))-1 -> 1.8836983 | V14: =+N14/IF($H14<>"",$H14,MIN($D14:$F14))-1 -> 1.9353468 | W14: =+O14/IF($H14<>"",$H14,MIN($D14:$F14))-1 -> 0.75180356 | X14: =+P14/IF($H14<>"",$H14,MIN($D14:$F14))-1 -> 1.0005784 | Y14: =+Q14/IF($H14<>"",$H14,MIN($D14:$F14))-1 -> 0.064194192 | Z14: =+R14/IF($H14<>"",$H14,MIN($D14:$F14))-1 -> 0.065809938 | AA14: =+S14/IF($H14<>"",$H14,MIN($D14:$F14))-1 -> 0.026802716 | AB14: =+T14/IF($H14<>"",$H14,MIN($D14:$F14))-1 -> 0.027161185 | AC14: {=MIN(IF(U14:AB14>0,U14:AB14))} -> 0.026802716 | AD14: =+IFERROR(_xlfn.XLOOKUP(AC14,U14:AB14,$U$3:$AB$3,,0),"Sin medida de tendencia central") -> MEDIA GEOMETRICA 2 más bajos | AE14: =+IFERROR(_xlfn.XLOOKUP(AD14,$M$3:$T$3,M14:T14,,0),"Pendiente") -> 389560 | AF14: =+AVERAGE(G14:H14) -> 406538.64 | AG14: PROMEDIO IPC - CAMIONAUTOS | AJ14: 833686.4 | AL14: 406538.64
A15: =+A14+1 -> 9 | B15: FILTRO DE AIRE EXTERNO | C15: 1 | D15: 910655.6 | E15: 1265000 | F15: 1323450 | G15: 510656 | H15: =+'678-2024 IPC'!H14 -> 415696.14 | I15: =+D15-G15 -> 399999.6 | J15: =+D15/IF($H15<>"",$H15,MIN($D15:$F15))-1 -> 1.1906761 | K15: =+E15/IF($H15<>"",$H15,MIN($D15:$F15))-1 -> 2.0430881 | L15: =+F15/IF($H15<>"",$H15,MIN($D15:$F15))-1 -> 2.1836956 | M15: =ROUND(GEOMEAN(D15:F15),0) -> 1150935 | N15: =ROUND(AVERAGE(D15:F15),0) -> 1166369 | O15: =ROUND(GEOMEAN(D15:I15),0) -> 711245 | P15: =ROUND(AVERAGE(D15:I15),0) -> 804243 | Q15: {=ROUND(GEOMEAN(SMALL(D15:I15,{1;2;3})),0)} -> 439529 | R15: {=ROUND(AVERAGE(SMALL(D15:I15,{1;2;3})),0)} -> 442117 | S15: {=ROUND(GEOMEAN(SMALL(D15:I15,{1;2})),0)} -> 407772 | T15: {=ROUND(AVERAGE(SMALL(D15:I15,{1;2})),0)} -> 407848 | U15: =+M15/IF($H15<>"",$H15,MIN($D15:$F15))-1 -> 1.768693 | V15: =+N15/IF($H15<>"",$H15,MIN($D15:$F15))-1 -> 1.8058211 | W15: =+O15/IF($H15<>"",$H15,MIN($D15:$F15))-1 -> 0.71097329 | X15: =+P15/IF($H15<>"",$H15,MIN($D15:$F15))-1 -> 0.93468958 | Y15: =+Q15/IF($H15<>"",$H15,MIN($D15:$F15))-1 -> 0.057332395 | Z15: =+R15/IF($H15<>"",$H15,MIN($D15:$F15))-1 -> 0.063558096 | AA15: =+S15/IF($H15<>"",$H15,MIN($D15:$F15))-1 -> -0.019062348 | AB15: =+T15/IF($H15<>"",$H15,MIN($D15:$F15))-1 -> -0.018879522 | AC15: {=MIN(IF(U15:AB15>0,U15:AB15))} -> 0.057332395 | AD15: =+IFERROR(_xlfn.XLOOKUP(AC15,U15:AB15,$U$3:$AB$3,,0),"Sin medida de tendencia central") -> MEDIA GEOMETRICA 3 más bajas | AE15: =+IFERROR(_xlfn.XLOOKUP(AD15,$M$3:$T$3,M15:T15,,0),"Pendiente") -> 439529 | AF15: =+AVERAGE(G15:H15) -> 463176.07 | AG15: PROMEDIO IPC - CAMIONAUTOS | AJ15: 910655.6 | AL15: 463176.07
A16: =+A15+1 -> 10 | B16: FILTRO DE COMBUSTIBLE PRIMARIO | C16: 1 | D16: 784706 | E16: 1310000 | F16: 1370700 | G16: 384706 | H16: =+'678-2024 IPC'!H15 -> 357016.08 | I16: =+D16-G16 -> 400000 | J16: =+D16/IF($H16<>"",$H16,MIN($D16:$F16))-1 -> 1.197957 | K16: =+E16/IF($H16<>"",$H16,MIN($D16:$F16))-1 -> 2.6693025 | L16: =+F16/IF($H16<>"",$H16,MIN($D16:$F16))-1 -> 2.8393228 | M16: =ROUND(GEOMEAN(D16:F16),0) -> 1121089 | N16: =ROUND(AVERAGE(D16:F16),0) -> 1155135 | O16: =ROUND(GEOMEAN(D16:I16),0) -> 652829 | P16: =ROUND(AVERAGE(D16:I16),0) -> 767855 | Q16: {=ROUND(GEOMEAN(SMALL(D16:I16,{1;2;3})),0)} -> 380153 | R16: {=ROUND(AVERAGE(SMALL(D16:I16,{1;2;3})),0)} -> 380574 | S16: {=ROUND(GEOMEAN(SMALL(D16:I16,{1;2})),0)} -> 370603 | T16: {=ROUND(AVERAGE(SMALL(D16:I16,{1;2})),0)} -> 370861 | U16: =+M16/IF($H16<>"",$H16,MIN($D16:$F16))-1 -> 2.1401639 | V16: =+N16/IF($H16<>"",$H16,MIN($D16:$F16))-1 -> 2.2355265 | W16: =+O16/IF($H16<>"",$H16,MIN($D16:$F16))-1 -> 0.82857029 | X16: =+P16/IF($H16<>"",$H16,MIN($D16:$F16))-1 -> 1.1507575 | Y16: =+Q16/IF($H16<>"",$H16,MIN($D16:$F16))-1 -> 0.064806375 | Z16: =+R16/IF($H16<>"",$H16,MIN($D16:$F16))-1 -> 0.065985594 | AA16: =+S16/IF($H16<>"",$H16,MIN($D16:$F16))-1 -> 0.03805688 | AB16: =+T16/IF($H16<>"",$H16,MIN($D16:$F16))-1 -> 0.038779537 | AC16: {=MIN(IF(U16:AB16>0,U16:AB16))} -> 0.03805688 | AD16: =+IFERROR(_xlfn.XLOOKUP(AC16,U16:AB16,$U$3:$AB$3,,0),"Sin medida de tendencia central") -> MEDIA GEOMETRICA 2 más bajos | AE16: =+IFERROR(_xlfn.XLOOKUP(AD16,$M$3:$T$3,M16:T16,,0),"Pendiente") -> 370603 | AF16: =+AVERAGE(G16:H16) -> 370861.04 | AG16: PROMEDIO IPC - CAMIONAUTOS | AJ16: 784706 | AL16: 370861.04
A17: =+A16+1 -> 11 | B17: FILTRO DE COMBUSTIBLE SECUNDARIO | C17: 1 | D17: 633100 | E17: 1310000 | F17: 1370700 | G17: 433100 | H17: =+'678-2024 IPC'!H16 -> 447723.39 | I17: =+D17-G17 -> 200000 | J17: =+D17/IF($H17<>"",$H17,MIN($D17:$F17))-1 -> 0.41404271 | K17: =+E17/IF($H17<>"",$H17,MIN($D17:$F17))-1 -> 1.9259137 | L17: =+F17/IF($H17<>"",$H17,MIN($D17:$F17))-1 -> 2.0614885 | M17: =ROUND(GEOMEAN(D17:F17),0) -> 1043667 | N17: =ROUND(AVERAGE(D17:F17),0) -> 1104600 | O17: =ROUND(GEOMEAN(D17:I17),0) -> 594364 | P17: =ROUND(AVERAGE(D17:I17),0) -> 732437 | Q17: {=ROUND(GEOMEAN(SMALL(D17:I17,{1;2;3})),0)} -> 338488 | R17: {=ROUND(AVERAGE(SMALL(D17:I17,{1;2;3})),0)} -> 360274 | S17: {=ROUND(GEOMEAN(SMALL(D17:I17,{1;2})),0)} -> 294313 | T17: {=ROUND(AVERAGE(SMALL(D17:I17,{1;2})),0)} -> 316550 | U17: =+M17/IF($H17<>"",$H17,MIN($D17:$F17))-1 -> 1.3310531 | V17: =+N17/IF($H17<>"",$H17,MIN($D17:$F17))-1 -> 1.4671483 | W17: =+O17/IF($H17<>"",$H17,MIN($D17:$F17))-1 -> 0.327525 | X17: =+P17/IF($H17<>"",$H17,MIN($D17:$F17))-1 -> 0.63591407 | Y17: =+Q17/IF($H17<>"",$H17,MIN($D17:$F17))-1 -> -0.24397964 | Z17: =+R17/IF($H17<>"",$H17,MIN($D17:$F17))-1 -> -0.19532013 | AA17: =+S17/IF($H17<>"",$H17,MIN($D17:$F17))-1 -> -0.34264547 | AB17: =+T17/IF($H17<>"",$H17,MIN($D17:$F17))-1 -> -0.29297865 | AC17: {=MIN(IF(U17:AB17>0,U17:AB17))} -> 0.327525 | AD17: =+IFERROR(_xlfn.XLOOKUP(AC17,U17:AB17,$U$3:$AB$3,,0),"Sin medida de tendencia central") -> MEDIA GEOMETRICA Cotizaciones e Histórico | AE17: =+IFERROR(_xlfn.XLOOKUP(AD17,$M$3:$T$3,M17:T17,,0),"Pendiente") -> 594364 | AF17: =+AVERAGE(G17:H17) -> 440411.7 | AG17: PROMEDIO IPC - CAMIONAUTOS | AJ17: 633100 | AL17: 440411.7
A18: =+A17+1 -> 12 | B18: ACEITE DE MOTOR SAE 15W40 Certificado (Galón) | C18: 1 | D18: 446508 | E18: 1370000 | F18: 1436100 | G18: 346508 | H18: =+'678-2024 IPC'!H17 -> 232636.29 | I18: =+D18-G18 -> 100000 | J18: =+D18/IF($H18<>"",$H18,MIN($D18:$F18))-1 -> 0.91933945 | K18: =+E18/IF($H18<>"",$H18,MIN($D18:$F18))-1 -> 4.8890211 | L18: =+F18/IF($H18<>"",$H18,MIN($D18:$F18))-1 -> 5.1731556 | M18: =ROUND(GEOMEAN(D18:F18),0) -> 957734 | N18: =ROUND(AVERAGE(D18:F18),0) -> 1084203 | O18: =ROUND(GEOMEAN(D18:I18),0) -> 438215 | P18: =ROUND(AVERAGE(D18:I18),0) -> 655292 | Q18: {=ROUND(GEOMEAN(SMALL(D18:I18,{1;2;3})),0)} -> 200507 | R18: {=ROUND(AVERAGE(SMALL(D18:I18,{1;2;3})),0)} -> 226381 | S18: {=ROUND(GEOMEAN(SMALL(D18:I18,{1;2})),0)} -> 152524 | T18: {=ROUND(AVERAGE(SMALL(D18:I18,{1;2})),0)} -> 166318 | U18: =+M18/IF($H18<>"",$H18,MIN($D18:$F18))-1 -> 3.1168728 | V18: =+N18/IF($H18<>"",$H18,MIN($D18:$F18))-1 -> 3.6605068 | W18: =+O18/IF($H18<>"",$H18,MIN($D18:$F18))-1 -> 0.88369153 | X18: =+P18/IF($H18<>"",$H18,MIN($D18:$F18))-1 -> 1.8168091 | Y18: =+Q18/IF($H18<>"",$H18,MIN($D18:$F18))-1 -> -0.13810952 | Z18: =+R18/IF($H18<>"",$H18,MIN($D18:$F18))-1 -> -0.026888693 | AA18: =+S18/IF($H18<>"",$H18,MIN($D18:$F18))-1 -> -0.34436711 | AB18: =+T18/IF($H18<>"",$H18,MIN($D18:$F18))-1 -> -0.28507284 | AC18: {=MIN(IF(U18:AB18>0,U18:AB18))} -> 0.88369153 | AD18: =+IFERROR(_xlfn.XLOOKUP(AC18,U18:AB18,$U$3:$AB$3,,0),"Sin medida de tendencia central") -> MEDIA GEOMETRICA Cotizaciones e Histórico | AE18: =+IFERROR(_xlfn.XLOOKUP(AD18,$M$3:$T$3,M18:T18,,0),"Pendiente") -> 438215 | AF18: =+AVERAGE(G18:H18) -> 289572.14 | AG18: PROMEDIO IPC - CAMIONAUTOS | AJ18: 446508 | AL18: 289572.14
A19: =+A18+1 -> 13 | B19: LAVADO DE MOTOR | C19: 1 | D19: 249972 | E19: 900000 | F19: 929000 | G19: 549972 | H19: =+'678-2024 IPC'!H18 -> 573638.74 | I19: =+D19-G19 -> -300000 | J19: =+D19/IF($H19<>"",$H19,MIN($D19:$F19))-1 -> -0.56423445 | K19: =+E19/IF($H19<>"",$H19,MIN($D19:$F19))-1 -> 0.56893169 | L19: =+F19/IF($H19<>"",$H19,MIN($D19:$F19))-1 -> 0.61948615 | M19: =ROUND(GEOMEAN(D19:F19),0) -> 593449 | N19: =ROUND(AVERAGE(D19:F19),0) -> 692991 | O19: =ROUND(GEOMEAN(D19:I19),0) -> #NUM! | P19: =ROUND(AVERAGE(D19:I19),0) -> 483764 | Q19: {=ROUND(GEOMEAN(SMALL(D19:I19,{1;2;3})),0)} -> #NUM! | R19: {=ROUND(AVERAGE(SMALL(D19:I19,{1;2;3})),0)} -> 166648 | S19: {=ROUND(GEOMEAN(SMALL(D19:I19,{1;2})),0)} -> #NUM! | T19: {=ROUND(AVERAGE(SMALL(D19:I19,{1;2})),0)} -> -25014 | U19: =+M19/IF($H19<>"",$H19,MIN($D19:$F19))-1 -> 0.034534378 | V19: =+N19/IF($H19<>"",$H19,MIN($D19:$F19))-1 -> 0.20806171 | W19: =+O19/IF($H19<>"",$H19,MIN($D19:$F19))-1 -> #NUM! | X19: =+P19/IF($H19<>"",$H19,MIN($D19:$F19))-1 -> -0.15667481 | Y19: =+Q19/IF($H19<>"",$H19,MIN($D19:$F19))-1 -> #NUM! | Z19: =+R19/IF($H19<>"",$H19,MIN($D19:$F19))-1 -> -0.70948964 | AA19: =+S19/IF($H19<>"",$H19,MIN($D19:$F19))-1 -> #NUM! | AB19: =+T19/IF($H19<>"",$H19,MIN($D19:$F19))-1 -> -1.0436058 | AC19: {=MIN(IF(U19:AB19>0,U19:AB19))} -> #NUM! | AD19: =+IFERROR(_xlfn.XLOOKUP(AC19,U19:AB19,$U$3:$AB$3,,0),"Sin medida de tendencia central") -> Sin medida de tendencia central | AE19: =+IFERROR(_xlfn.XLOOKUP(AD19,$M$3:$T$3,M19:T19,,0),"Pendiente") -> Pendiente | AF19: =+AVERAGE(G19:H19) -> 561805.37 | AG19: PROMEDIO IPC - CAMIONAUTOS | AJ19: 249972 | AL19: 561805.37
A20: =A19+1 -> 14 | B20: CALIBRACIÓN DE VÁLVULAS | C20: 1 | D20: 790958 | E20: 3250000 | F20: 3352500 | G20: 790958 | H20: =+'678-2024 IPC'!H19 -> 932958.15 | I20: =+D20-G20 -> 0 | J20: =+D20/IF($H20<>"",$H20,MIN($D20:$F20))-1 -> -0.15220421 | K20: =+E20/IF($H20<>"",$H20,MIN($D20:$F20))-1 -> 2.4835432 | L20: =+F20/IF($H20<>"",$H20,MIN($D20:$F20))-1 -> 2.5934088 | M20: =ROUND(GEOMEAN(D20:F20),0) -> 2050227 | N20: =ROUND(AVERAGE(D20:F20),0) -> 2464486 | O20: =ROUND(GEOMEAN(D20:I20),0) -> #NUM! | P20: =ROUND(AVERAGE(D20:I20),0) -> 1519562 | Q20: {=ROUND(GEOMEAN(SMALL(D20:I20,{1;2;3})),0)} -> #NUM! | R20: {=ROUND(AVERAGE(SMALL(D20:I20,{1;2;3})),0)} -> 527305 | S20: {=ROUND(GEOMEAN(SMALL(D20:I20,{1;2})),0)} -> #NUM! | T20: {=ROUND(AVERAGE(SMALL(D20:I20,{1;2})),0)} -> 395479 | U20: =+M20/IF($H20<>"",$H20,MIN($D20:$F20))-1 -> 1.1975552 | V20: =+N20/IF($H20<>"",$H20,MIN($D20:$F20))-1 -> 1.6415826 | W20: =+O20/IF($H20<>"",$H20,MIN($D20:$F20))-1 -> #NUM! | X20: =+P20/IF($H20<>"",$H20,MIN($D20:$F20))-1 -> 0.62875687 | Y20: =+Q20/IF($H20<>"",$H20,MIN($D20:$F20))-1 -> #NUM! | Z20: =+R20/IF($H20<>"",$H20,MIN($D20:$F20))-1 -> -0.43480316 | AA20: =+S20/IF($H20<>"",$H20,MIN($D20:$F20))-1 -> #NUM! | AB20: =+T20/IF($H20<>"",$H20,MIN($D20:$F20))-1 -> -0.5761021 | AC20: {=MIN(IF(U20:AB20>0,U20:AB20))} -> #NUM! | AD20: =+IFERROR(_xlfn.XLOOKUP(AC20,U20:AB20,$U$3:$AB$3,,0),"Sin medida de tendencia central") -> Sin medida de tendencia central | AE20: =+IFERROR(_xlfn.XLOOKUP(AD20,$M$3:$T$3,M20:T20,,0),"Pendiente") -> Pendiente | AF20: =+AVERAGE(G20:H20) -> 861958.08 | AG20: PROMEDIO IPC - CAMIONAUTOS | AJ20: 790958 | AL20: 861958.08
A21: 15 | B21: CAMBIO EMPAQUE DE BOQUILLA | C21: 1 | D21: 420224 | E21: 1325380 | F21: 1374941.4 | G21: 420224 | H21: =+'678-2024 IPC'!H20 -> 156626.41 | I21: =+D21-G21 -> 0 | J21: =+D21/IF($H21<>"",$H21,MIN($D21:$F21))-1 -> 1.6829703 | K21: =+E21/IF($H21<>"",$H21,MIN($D21:$F21))-1 -> 7.4620467 | L21: =+F21/IF($H21<>"",$H21,MIN($D21:$F21))-1 -> 7.7784774 | M21: =ROUND(GEOMEAN(D21:F21),0) -> 914889 | N21: =ROUND(AVERAGE(D21:F21),0) -> 1040182 | O21: =ROUND(GEOMEAN(D21:I21),0) -> #NUM! | P21: =ROUND(AVERAGE(D21:I21),0) -> 616233 | Q21: {=ROUND(GEOMEAN(SMALL(D21:I21,{1;2;3})),0)} -> #NUM! | R21: {=ROUND(AVERAGE(SMALL(D21:I21,{1;2;3})),0)} -> 192283 | S21: {=ROUND(GEOMEAN(SMALL(D21:I21,{1;2})),0)} -> #NUM! | T21: {=ROUND(AVERAGE(SMALL(D21:I21,{1;2})),0)} -> 78313 | U21: =+M21/IF($H21<>"",$H21,MIN($D21:$F21))-1 -> 4.841218 | V21: =+N21/IF($H21<>"",$H21,MIN($D21:$F21))-1 -> 5.6411661 | W21: =+O21/IF($H21<>"",$H21,MIN($D21:$F21))-1 -> #NUM! | X21: =+P21/IF($H21<>"",$H21,MIN($D21:$F21))-1 -> 2.9344131 | Y21: =+Q21/IF($H21<>"",$H21,MIN($D21:$F21))-1 -> #NUM! | Z21: =+R21/IF($H21<>"",$H21,MIN($D21:$F21))-1 -> 0.22765375 | AA21: =+S21/IF($H21<>"",$H21,MIN($D21:$F21))-1 -> #NUM! | AB21: =+T21/IF($H21<>"",$H21,MIN($D21:$F21))-1 -> -0.50000131 | AC21: {=MIN(IF(U21:AB21>0,U21:AB21))} -> #NUM! | AD21: =+IFERROR(_xlfn.XLOOKUP(AC21,U21:AB21,$U$3:$AB$3,,0),"Sin medida de tendencia central") -> Sin medida de tendencia central | AE21: =+IFERROR(_xlfn.XLOOKUP(AD21,$M$3:$T$3,M21:T21,,0),"Pendiente") -> Pendiente | AF21: =+AVERAGE(G21:H21) -> 288425.21 | AG21: PROMEDIO IPC - CAMIONAUTOS | AJ21: 420224 | AL21: 288425.21
B22: SISTEMA DE REFRIGERACIÓN MOTOR | I22: =+D22-G22 -> 0
A23: =A20+1 -> 15 | B23: REFRIGERANTE | C23: 1 | D23: 259578 | E23: 1000000 | F23: 1044000 | G23: 259578 | H23: =+'678-2024 IPC'!H22 -> 190847.31 | I23: =+D23-G23 -> 0 | J23: =+D23/IF($H23<>"",$H23,MIN($D23:$F23))-1 -> 0.36013447 | K23: =+E23/IF($H23<>"",$H23,MIN($D23:$F23))-1 -> 4.239791 | L23: =+F23/IF($H23<>"",$H23,MIN($D23:$F23))-1 -> 4.4703418 | M23: =ROUND(GEOMEAN(D23:F23),0) -> 647127 | N23: =ROUND(AVERAGE(D23:F23),0) -> 767859 | O23: =ROUND(GEOMEAN(D23:I23),0) -> #NUM! | P23: =ROUND(AVERAGE(D23:I23),0) -> 459001 | Q23: {=ROUND(GEOMEAN(SMALL(D23:I23,{1;2;3})),0)} -> #NUM! | R23: {=ROUND(AVERAGE(SMALL(D23:I23,{1;2;3})),0)} -> 150142 | S23: {=ROUND(GEOMEAN(SMALL(D23:I23,{1;2})),0)} -> #NUM! | T23: {=ROUND(AVERAGE(SMALL(D23:I23,{1;2})),0)} -> 95424 | U23: =+M23/IF($H23<>"",$H23,MIN($D23:$F23))-1 -> 2.3908102 | V23: =+N23/IF($H23<>"",$H23,MIN($D23:$F23))-1 -> 3.0234207 | W23: =+O23/IF($H23<>"",$H23,MIN($D23:$F23))-1 -> #NUM! | X23: =+P23/IF($H23<>"",$H23,MIN($D23:$F23))-1 -> 1.4050693 | Y23: =+Q23/IF($H23<>"",$H23,MIN($D23:$F23))-1 -> #NUM! | Z23: =+R23/IF($H23<>"",$H23,MIN($D23:$F23))-1 -> -0.2132873 | AA23: =+S23/IF($H23<>"",$H23,MIN($D23:$F23))-1 -> #NUM! | AB23: =+T23/IF($H23<>"",$H23,MIN($D23:$F23))-1 -> -0.49999818 | AC23: {=MIN(IF(U23:AB23>0,U23:AB23))} -> #NUM! | AD23: =+IFERROR(_xlfn.XLOOKUP(AC23,U23:AB23,$U$3:$AB$3,,0),"Sin medida de tendencia central") -> Sin medida de tendencia central | AE23: =+IFERROR(_xlfn.XLOOKUP(AD23,$M$3:$T$3,M23:T23,,0),"Pendiente") -> Pendiente | AF23: =+AVERAGE(G23:H23) -> 225212.65 | AG23: PROMEDIO IPC - CAMIONAUTOS | AJ23: 259578 | AL23: 225212.65
A24: =+A23+1 -> 16 | B24: MANTENIMIENTO INTERCOOLER | C24: 1 | D24: 929888 | E24: 5990000 | F24: 6193500 | G24: 929888 | H24: =+'678-2024 IPC'!H23 -> 1940061.6 | I24: =+D24-G24 -> 0 | J24: =+D24/IF($H24<>"",$H24,MIN($D24:$F24))-1 -> -0.5206915 | K24: =+E24/IF($H24<>"",$H24,MIN($D24:$F24))-1 -> 2.0875309 | L24: =+F24/IF($H24<>"",$H24,MIN($D24:$F24))-1 -> 2.1924244 | M24: =ROUND(GEOMEAN(D24:F24),0) -> 3255351 | N24: =ROUND(AVERAGE(D24:F24),0) -> 4371129 | O24: =ROUND(GEOMEAN(D24:I24),0) -> #NUM! | P24: =ROUND(AVERAGE(D24:I24),0) -> 2663890 | Q24: {=ROUND(GEOMEAN(SMALL(D24:I24,{1;2;3})),0)} -> #NUM! | R24: {=ROUND(AVERAGE(SMALL(D24:I24,{1;2;3})),0)} -> 619925 | S24: {=ROUND(GEOMEAN(SMALL(D24:I24,{1;2})),0)} -> #NUM! | T24: {=ROUND(AVERAGE(SMALL(D24:I24,{1;2})),0)} -> 464944 | U24: =+M24/IF($H24<>"",$H24,MIN($D24:$F24))-1 -> 0.67796271 | V24: =+N24/IF($H24<>"",$H24,MIN($D24:$F24))-1 -> 1.2530878 | W24: =+O24/IF($H24<>"",$H24,MIN($D24:$F24))-1 -> #NUM! | X24: =+P24/IF($H24<>"",$H24,MIN($D24:$F24))-1 -> 0.37309559 | Y24: =+Q24/IF($H24<>"",$H24,MIN($D24:$F24))-1 -> #NUM! | Z24: =+R24/IF($H24<>"",$H24,MIN($D24:$F24))-1 -> -0.68046117 | AA24: =+S24/IF($H24<>"",$H24,MIN($D24:$F24))-1 -> #NUM! | AB24: =+T24/IF($H24<>"",$H24,MIN($D24:$F24))-1 -> -0.76034575 | AC24: {=MIN(IF(U24:AB24>0,U24:AB24))} -> #NUM! | AD24: =+IFERROR(_xlfn.XLOOKUP(AC24,U24:AB24,$U$3:$AB$3,,0),"Sin medida de tendencia central") -> Sin medida de tendencia central | AE24: =+IFERROR(_xlfn.XLOOKUP(AD24,$M$3:$T$3,M24:T24,,0),"Pendiente") -> Pendiente | AF24: =+AVERAGE(G24:H24) -> 1434974.8 | AG24: PROMEDIO IPC - CAMIONAUTOS | AJ24: 929888 | AL24: 1434974.8
A25: =+A24+1 -> 17 | B25: MANGUERAS DE RADIADOR | C25: 1 | D25: 596232 | E25: 3950000 | F25: 4116500 | G25: 596232 | H25: =+'678-2024 IPC'!H24 -> 647454.97 | I25: =+D25-G25 -> 0 | J25: =+D25/IF($H25<>"",$H25,MIN($D25:$F25))-1 -> -0.079114337 | K25: =+E25/IF($H25<>"",$H25,MIN($D25:$F25))-1 -> 5.1008104 | L25: =+F25/IF($H25<>"",$H25,MIN($D25:$F25))-1 -> 5.3579711 | M25: =ROUND(GEOMEAN(D25:F25),0) -> 2132293 | N25: =ROUND(AVERAGE(D25:F25),0) -> 2887577 | O25: =ROUND(GEOMEAN(D25:I25),0) -> #NUM! | P25: =ROUND(AVERAGE(D25:I25),0) -> 1651070 | Q25: {=ROUND(GEOMEAN(SMALL(D25:I25,{1;2;3})),0)} -> #NUM! | R25: {=ROUND(AVERAGE(SMALL(D25:I25,{1;2;3})),0)} -> 397488 | S25: {=ROUND(GEOMEAN(SMALL(D25:I25,{1;2})),0)} -> #NUM! | T25: {=ROUND(AVERAGE(SMALL(D25:I25,{1;2})),0)} -> 298116 | U25: =+M25/IF($H25<>"",$H25,MIN($D25:$F25))-1 -> 2.2933456 | V25: =+N25/IF($H25<>"",$H25,MIN($D25:$F25))-1 -> 3.4598885 | W25: =+O25/IF($H25<>"",$H25,MIN($D25:$F25))-1 -> #NUM! | X25: =+P25/IF($H25<>"",$H25,MIN($D25:$F25))-1 -> 1.5500924 | Y25: =+Q25/IF($H25<>"",$H25,MIN($D25:$F25))-1 -> #NUM! | Z25: =+R25/IF($H25<>"",$H25,MIN($D25:$F25))-1 -> -0.38607622 | AA25: =+S25/IF($H25<>"",$H25,MIN($D25:$F25))-1 -> #NUM! | AB25: =+T25/IF($H25<>"",$H25,MIN($D25:$F25))-1 -> -0.53955717 | AC25: {=MIN(IF(U25:AB25>0,U25:AB25))} -> #NUM! | AD25: =+IFERROR(_xlfn.XLOOKUP(AC25,U25:AB25,$U$3:$AB$3,,0),"Sin medida de tendencia central") -> Sin medida de tendencia central | AE25: =+IFERROR(_xlfn.XLOOKUP(AD25,$M$3:$T$3,M25:T25,,0),"Pendiente") -> Pendiente | AF25: =+AVERAGE(G25:H25) -> 621843.49 | AG25: PROMEDIO IPC - CAMIONAUTOS | AJ25: 596232 | AL25: 621843.49
A26: =+A25+1 -> 18 | B26: BOMBA DE AGUA | C26: 1 | D26: 2554300 | E26: 10750000 | F26: 11242500 | G26: 2554300 | I26: =+D26-G26 -> 0 | J26: =+D26/IF($H26<>"",$H26,MIN($D26:$F26))-1 -> 0 | K26: =+E26/IF($H26<>"",$H26,MIN($D26:$F26))-1 -> 3.2085894 | L26: =+F26/IF($H26<>"",$H26,MIN($D26:$F26))-1 -> 3.4014016 | M26: =ROUND(GEOMEAN(D26:F26),0) -> 6758460 | N26: =ROUND(AVERAGE(D26:F26),0) -> 8182267 | O26: =ROUND(GEOMEAN(D26:I26),0) -> #NUM! | P26: =ROUND(AVERAGE(D26:I26),0) -> 5420220 | Q26: {=ROUND(GEOMEAN(SMALL(D26:I26,{1;2;3})),0)} -> #NUM! | R26: {=ROUND(AVERAGE(SMALL(D26:I26,{1;2;3})),0)} -> 1702867 | S26: {=ROUND(GEOMEAN(SMALL(D26:I26,{1;2})),0)} -> #NUM! | T26: {=ROUND(AVERAGE(SMALL(D26:I26,{1;2})),0)} -> 1277150 | U26: =+M26/IF($H26<>"",$H26,MIN($D26:$F26))-1 -> 1.6459147 | V26: =+N26/IF($H26<>"",$H26,MIN($D26:$F26))-1 -> 2.2033305 | W26: =+O26/IF($H26<>"",$H26,MIN($D26:$F26))-1 -> #NUM! | X26: =+P26/IF($H26<>"",$H26,MIN($D26:$F26))-1 -> 1.1219982 | Y26: =+Q26/IF($H26<>"",$H26,MIN($D26:$F26))-1 -> #NUM! | Z26: =+R26/IF($H26<>"",$H26,MIN($D26:$F26))-1 -> -0.3333332 | AA26: =+S26/IF($H26<>"",$H26,MIN($D26:$F26))-1 -> #NUM! | AB26: =+T26/IF($H26<>"",$H26,MIN($D26:$F26))-1 -> -0.5 | AC26: {=MIN(IF(U26:AB26>0,U26:AB26))} -> #NUM! | AD26: =+IFERROR(_xlfn.XLOOKUP(AC26,U26:AB26,$U$3:$AB$3,,0),"Sin medida de tendencia central") -> Sin medida de tendencia central | AE26: =+IFERROR(_xlfn.XLOOKUP(AD26,$M$3:$T$3,M26:T26,,0),"Pendiente") -> Pendiente | AF26: =+AVERAGE(G26:H26) -> 2554300 | AG26: MENOR VALOR -SOLO LA DE CAMIONAUTOS | AJ26: 2554300 | AL26: 2554300
A27: =+A26+1 -> 19 | B27: ACOPLE MANGUERA | C27: 1 | D27: 261268 | E27: 2420000 | F27: 2529000 | G27: 261268 | I27: =+D27-G27 -> 0 | J27: =+D27/IF($H27<>"",$H27,MIN($D27:$F27))-1 -> 0 | K27: =+E27/IF($H27<>"",$H27,MIN($D27:$F27))-1 -> 8.2625197 | L27: =+F27/IF($H27<>"",$H27,MIN($D27:$F27))-1 -> 8.6797158 | M27: =ROUND(GEOMEAN(D27:F27),0) -> 1169365 | N27: =ROUND(AVERAGE(D27:F27),0) -> 1736756 | O27: =ROUND(GEOMEAN(D27:I27),0) -> #NUM! | P27: =ROUND(AVERAGE(D27:I27),0) -> 1094307 | Q27: {=ROUND(GEOMEAN(SMALL(D27:I27,{1;2;3})),0)} -> #NUM! | R27: {=ROUND(AVERAGE(SMALL(D27:I27,{1;2;3})),0)} -> 174179 | S27: {=ROUND(GEOMEAN(SMALL(D27:I27,{1;2})),0)} -> #NUM! | T27: {=ROUND(AVERAGE(SMALL(D27:I27,{1;2})),0)} -> 130634 | U27: =+M27/IF($H27<>"",$H27,MIN($D27:$F27))-1 -> 3.4757299 | V27: =+N27/IF($H27<>"",$H27,MIN($D27:$F27))-1 -> 5.6474119 | W27: =+O27/IF($H27<>"",$H27,MIN($D27:$F27))-1 -> #NUM! | X27: =+P27/IF($H27<>"",$H27,MIN($D27:$F27))-1 -> 3.1884463 | Y27: =+Q27/IF($H27<>"",$H27,MIN($D27:$F27))-1 -> #NUM! | Z27: =+R27/IF($H27<>"",$H27,MIN($D27:$F27))-1 -> -0.33333206 | AA27: =+S27/IF($H27<>"",$H27,MIN($D27:$F27))-1 -> #NUM! | AB27: =+T27/IF($H27<>"",$H27,MIN($D27:$F27))-1 -> -0.5 | AC27: {=MIN(IF(U27:AB27>0,U27:AB27))} -> #NUM! | AD27: =+IFERROR(_xlfn.XLOOKUP(AC27,U27:AB27,$U$3:$AB$3,,0),"Sin medida de tendencia central") -> Sin medida de tendencia central | AE27: =+IFERROR(_xlfn.XLOOKUP(AD27,$M$3:$T$3,M27:T27,,0),"Pendiente") -> Pendiente | AF27: =+AVERAGE(G27:H27) -> 261268 | AG27: MENOR VALOR -SOLO LA DE CAMIONAUTOS | AJ27: 261268 | AL27: 261268
A28: =+A27+1 -> 20 | B28: ORING BOMBA DE AGUA | C28: 1 | D28: 552482 | E28: 730000 | F28: 761700 | G28: 552482 | I28: =+D28-G28 -> 0 | J28: =+D28/IF($H28<>"",$H28,MIN($D28:$F28))-1 -> 0 | K28: =+E28/IF($H28<>"",$H28,MIN($D28:$F28))-1 -> 0.32131002 | L28: =+F28/IF($H28<>"",$H28,MIN($D28:$F28))-1 -> 0.37868745 | M28: =ROUND(GEOMEAN(D28:F28),0) -> 674748 | N28: =ROUND(AVERAGE(D28:F28),0) -> 681394 | O28: =ROUND(GEOMEAN(D28:I28),0) -> #NUM! | P28: =ROUND(AVERAGE(D28:I28),0) -> 519333 | Q28: {=ROUND(GEOMEAN(SMALL(D28:I28,{1;2;3})),0)} -> #NUM! | R28: {=ROUND(AVERAGE(SMALL(D28:I28,{1;2;3})),0)} -> 368321 | S28: {=ROUND(GEOMEAN(SMALL(D28:I28,{1;2})),0)} -> #NUM! | T28: {=ROUND(AVERAGE(SMALL(D28:I28,{1;2})),0)} -> 276241 | U28: =+M28/IF($H28<>"",$H28,MIN($D28:$F28))-1 -> 0.22130314 | V28: =+N28/IF($H28<>"",$H28,MIN($D28:$F28))-1 -> 0.23333249 | W28: =+O28/IF($H28<>"",$H28,MIN($D28:$F28))-1 -> #NUM! | X28: =+P28/IF($H28<>"",$H28,MIN($D28:$F28))-1 -> -0.060000145 | Y28: =+Q28/IF($H28<>"",$H28,MIN($D28:$F28))-1 -> #NUM! | Z28: =+R28/IF($H28<>"",$H28,MIN($D28:$F28))-1 -> -0.33333394 | AA28: =+S28/IF($H28<>"",$H28,MIN($D28:$F28))-1 -> #NUM! | AB28: =+T28/IF($H28<>"",$H28,MIN($D28:$F28))-1 -> -0.5 | AC28: {=MIN(IF(U28:AB28>0,U28:AB28))} -> #NUM! | AD28: =+IFERROR(_xlfn.XLOOKUP(AC28,U28:AB28,$U$3:$AB$3,,0),"Sin medida de tendencia central") -> Sin medida de tendencia central | AE28: =+IFERROR(_xlfn.XLOOKUP(AD28,$M$3:$T$3,M28:T28,,0),"Pendiente") -> Pendiente | AF28: =+AVERAGE(G28:H28) -> 552482 | AG28: MENOR VALOR -SOLO LA DE CAMIONAUTOS | AJ28: 552482 | AL28: 552482
B29: SISTEMA DE AIRE | I29: =+D29-G29 -> 0
A30: =+A28+1 -> 21 | B30: EMPAQUETADURA COMPRESOR | C30: 1 | D30: 835450 | E30: 4150000 | F30: 4324500 | G30: 835450 | H30: =+'678-2024 IPC'!H29 -> 1570103 | I30: =+D30-G30 -> 0 | J30: =+D30/IF($H30<>"",$H30,MIN($D30:$F30))-1 -> -0.46790114 | K30: =+E30/IF($H30<>"",$H30,MIN($D30:$F30))-1 -> 1.6431387 | L30: =+F30/IF($H30<>"",$H30,MIN($D30:$F30))-1 -> 1.7542779 | M30: =ROUND(GEOMEAN(D30:F30),0) -> 2465859 | N30: =ROUND(AVERAGE(D30:F30),0) -> 3103317 | O30: =ROUND(GEOMEAN(D30:I30),0) -> #NUM! | P30: =ROUND(AVERAGE(D30:I30),0) -> 1952584 | Q30: {=ROUND(GEOMEAN(SMALL(D30:I30,{1;2;3})),0)} -> #NUM! | R30: {=ROUND(AVERAGE(SMALL(D30:I30,{1;2;3})),0)} -> 556967 | S30: {=ROUND(GEOMEAN(SMALL(D30:I30,{1;2})),0)} -> #NUM! | T30: {=ROUND(AVERAGE(SMALL(D30:I30,{1;2})),0)} -> 417725 | U30: =+M30/IF($H30<>"",$H30,MIN($D30:$F30))-1 -> 0.57050781 | V30: =+N30/IF($H30<>"",$H30,MIN($D30:$F30))-1 -> 0.97650538 | W30: =+O30/IF($H30<>"",$H30,MIN($D30:$F30))-1 -> #NUM! | X30: =+P30/IF($H30<>"",$H30,MIN($D30:$F30))-1 -> 0.2436025 | Y30: =+Q30/IF($H30<>"",$H30,MIN($D30:$F30))-1 -> #NUM! | Z30: =+R30/IF($H30<>"",$H30,MIN($D30:$F30))-1 -> -0.64526722 | AA30: =+S30/IF($H30<>"",$H30,MIN($D30:$F30))-1 -> #NUM! | AB30: =+T30/IF($H30<>"",$H30,MIN($D30:$F30))-1 -> -0.73395057 | AC30: {=MIN(IF(U30:AB30>0,U30:AB30))} -> #NUM! | AD30: =+IFERROR(_xlfn.XLOOKUP(AC30,U30:AB30,$U$3:$AB$3,,0),"Sin medida de tendencia central") -> Sin medida de tendencia central | AE30: =+IFERROR(_xlfn.XLOOKUP(AD30,$M$3:$T$3,M30:T30,,0),"Pendiente") -> Pendiente | AF30: =+AVERAGE(G30:H30) -> 1202776.5 | AG30: PROMEDIO IPC - CAMIONAUTOS | AJ30: 835450 | AL30: 1202776.5
A31: =A30+1 -> 22 | B31: VALVULA GOBERNADOR | C31: 1 | D31: 1062712 | E31: 5200000 | F31: 5436000 | G31: 1062712 | H31: =+'678-2024 IPC'!H30 -> 990102.66 | I31: =+D31-G31 -> 0 | J31: =+D31/IF($H31<>"",$H31,MIN($D31:$F31))-1 -> 0.073335159 | K31: =+E31/IF($H31<>"",$H31,MIN($D31:$F31))-1 -> 4.2519806 | L31: =+F31/IF($H31<>"",$H31,MIN($D31:$F31))-1 -> 4.4903397 | M31: =ROUND(GEOMEAN(D31:F31),0) -> 3108609 | N31: =ROUND(AVERAGE(D31:F31),0) -> 3899571 | O31: =ROUND(GEOMEAN(D31:I31),0) -> #NUM! | P31: =ROUND(AVERAGE(D31:I31),0) -> 2291921 | Q31: {=ROUND(GEOMEAN(SMALL(D31:I31,{1;2;3})),0)} -> #NUM! | R31: {=ROUND(AVERAGE(SMALL(D31:I31,{1;2;3})),0)} -> 684272 | S31: {=ROUND(GEOMEAN(SMALL(D31:I31,{1;2})),0)} -> #NUM! | T31: {=ROUND(AVERAGE(SMALL(D31:I31,{1;2})),0)} -> 495051 | U31: =+M31/IF($H31<>"",$H31,MIN($D31:$F31))-1 -> 2.1396835 | V31: =+N31/IF($H31<>"",$H31,MIN($D31:$F31))-1 -> 2.9385522 | W31: =+O31/IF($H31<>"",$H31,MIN($D31:$F31))-1 -> #NUM! | X31: =+P31/IF($H31<>"",$H31,MIN($D31:$F31))-1 -> 1.3148317 | Y31: =+Q31/IF($H31<>"",$H31,MIN($D31:$F31))-1 -> #NUM! | Z31: =+R31/IF($H31<>"",$H31,MIN($D31:$F31))-1 -> -0.30888783 | AA31: =+S31/IF($H31<>"",$H31,MIN($D31:$F31))-1 -> #NUM! | AB31: =+T31/IF($H31<>"",$H31,MIN($D31:$F31))-1 -> -0.50000034 | AC31: {=MIN(IF(U31:AB31>0,U31:AB31))} -> #NUM! | AD31: =+IFERROR(_xlfn.XLOOKUP(AC31,U31:AB31,$U$3:$AB$3,,0),"Sin medida de tendencia central") -> Sin medida de tendencia central | AE31: =+IFERROR(_xlfn.XLOOKUP(AD31,$M$3:$T$3,M31:T31,,0),"Pendiente") -> Pendiente | AF31: =+AVERAGE(G31:H31) -> 1026407.3 | AG31: PROMEDIO IPC - CAMIONAUTOS | AJ31: 1062712 | AL31: 1026407.3
B32: SISTEMA ELÉCTRICO | I32: =+D32-G32 -> 0
A33: =A31+1 -> 23 | B33: ALTERNADOR | C33: 1 | D33: 3268300 | E33: 18480000 | F33: 19320000 | G33: 4268300 | H33: =+'678-2024 IPC'!H32 -> 2934990.3 | I33: =+D33-G33 -> -1000000 | J33: =+D33/IF($H33<>"",$H33,MIN($D33:$F33))-1 -> 0.11356417 | K33: =+E33/IF($H33<>"",$H33,MIN($D33:$F33))-1 -> 5.2964434 | L33: =+F33/IF($H33<>"",$H33,MIN($D33:$F33))-1 -> 5.5826453 | M33: =ROUND(GEOMEAN(D33:F33),0) -> 10527946 | N33: =ROUND(AVERAGE(D33:F33),0) -> 13689433 | O33: =ROUND(GEOMEAN(D33:I33),0) -> #NUM! | P33: =ROUND(AVERAGE(D33:I33),0) -> 7878598 | Q33: {=ROUND(GEOMEAN(SMALL(D33:I33,{1;2;3})),0)} -> #NUM! | R33: {=ROUND(AVERAGE(SMALL(D33:I33,{1;2;3})),0)} -> 1734430 | S33: {=ROUND(GEOMEAN(SMALL(D33:I33,{1;2})),0)} -> #NUM! | T33: {=ROUND(AVERAGE(SMALL(D33:I33,{1;2})),0)} -> 967495 | U33: =+M33/IF($H33<>"",$H33,MIN($D33:$F33))-1 -> 2.5870463 | V33: =+N33/IF($H33<>"",$H33,MIN($D33:$F33))-1 -> 3.6642175 | W33: =+O33/IF($H33<>"",$H33,MIN($D33:$F33))-1 -> #NUM! | X33: =+P33/IF($H33<>"",$H33,MIN($D33:$F33))-1 -> 1.6843694 | Y33: =+Q33/IF($H33<>"",$H33,MIN($D33:$F33))-1 -> #NUM! | Z33: =+R33/IF($H33<>"",$H33,MIN($D33:$F33))-1 -> -0.40905085 | AA33: =+S33/IF($H33<>"",$H33,MIN($D33:$F33))-1 -> #NUM! | AB33: =+T33/IF($H33<>"",$H33,MIN($D33:$F33))-1 -> -0.67035836 | AC33: {=MIN(IF(U33:AB33>0,U33:AB33))} -> #NUM! | AD33: =+IFERROR(_xlfn.XLOOKUP(AC33,U33:AB33,$U$3:$AB$3,,0),"Sin medida de tendencia central") -> Sin medida de tendencia central | AE33: =+IFERROR(_xlfn.XLOOKUP(AD33,$M$3:$T$3,M33:T33,,0),"Pendiente") -> Pendiente | AF33: =+AVERAGE(G33:H33) -> 3601645.1 | AG33: PROMEDIO IPC - CAMIONAUTOS | AJ33: 3268300 | AL33: 3601645.1
A34: =+A33+1 -> 24 | B34: REGULADOR ALTERNADOR | C34: 1 | D34: 809872 | E34: 4350000 | F34: 4538500 | G34: 809872 | H34: =+'678-2024 IPC'!H33 -> 624750.72 | I34: =+D34-G34 -> 0 | J34: =+D34/IF($H34<>"",$H34,MIN($D34:$F34))-1 -> 0.29631223 | K34: =+E34/IF($H34<>"",$H34,MIN($D34:$F34))-1 -> 5.9627771 | L34: =+F34/IF($H34<>"",$H34,MIN($D34:$F34))-1 -> 6.2644974 | M34: =ROUND(GEOMEAN(D34:F34),0) -> 2519258 | N34: =ROUND(AVERAGE(D34:F34),0) -> 3232791 | O34: =ROUND(GEOMEAN(D34:I34),0) -> #NUM! | P34: =ROUND(AVERAGE(D34:I34),0) -> 1855499 | Q34: {=ROUND(GEOMEAN(SMALL(D34:I34,{1;2;3})),0)} -> #NUM! | R34: {=ROUND(AVERAGE(SMALL(D34:I34,{1;2;3})),0)} -> 478208 | S34: {=ROUND(GEOMEAN(SMALL(D34:I34,{1;2})),0)} -> #NUM! | T34: {=ROUND(AVERAGE(SMALL(D34:I34,{1;2})),0)} -> 312375 | U34: =+M34/IF($H34<>"",$H34,MIN($D34:$F34))-1 -> 3.0324211 | V34: =+N34/IF($H34<>"",$H34,MIN($D34:$F34))-1 -> 4.1745294 | W34: =+O34/IF($H34<>"",$H34,MIN($D34:$F34))-1 -> #NUM! | X34: =+P34/IF($H34<>"",$H34,MIN($D34:$F34))-1 -> 1.969983 | Y34: =+Q34/IF($H34<>"",$H34,MIN($D34:$F34))-1 -> #NUM! | Z34: =+R34/IF($H34<>"",$H34,MIN($D34:$F34))-1 -> -0.23456191 | AA34: =+S34/IF($H34<>"",$H34,MIN($D34:$F34))-1 -> #NUM! | AB34: =+T34/IF($H34<>"",$H34,MIN($D34:$F34))-1 -> -0.50000058 | AC34: {=MIN(IF(U34:AB34>0,U34:AB34))} -> #NUM! | AD34: =+IFERROR(_xlfn.XLOOKUP(AC34,U34:AB34,$U$3:$AB$3,,0),"Sin medida de tendencia central") -> Sin medida de tendencia central | AE34: =+IFERROR(_xlfn.XLOOKUP(AD34,$M$3:$T$3,M34:T34,,0),"Pendiente") -> Pendiente | AF34: =+AVERAGE(G34:H34) -> 717311.36 | AG34: PROMEDIO IPC - CAMIONAUTOS | AJ34: 809872 | AL34: 717311.36
A35: =+A34+1 -> 25 | B35: REVISIÓN/REPARACIÓN MOTOR DE ARRANQUE | C35: 1 | D35: 894250 | E35: 7700000 | F35: 7945000 | G35: 894250 | H35: =+'678-2024 IPC'!H34 -> 2210209.2 | I35: =+D35-G35 -> 0 | J35: =+D35/IF($H35<>"",$H35,MIN($D35:$F35))-1 -> -0.5954003 | K35: =+E35/IF($H35<>"",$H35,MIN($D35:$F35))-1 -> 2.4838331 | L35: =+F35/IF($H35<>"",$H35,MIN($D35:$F35))-1 -> 2.5946823 | M35: =ROUND(GEOMEAN(D35:F35),0) -> 3796189 | N35: =ROUND(AVERAGE(D35:F35),0) -> 5513083 | O35: =ROUND(GEOMEAN(D35:I35),0) -> #NUM! | P35: =ROUND(AVERAGE(D35:I35),0) -> 3273952 | Q35: {=ROUND(GEOMEAN(SMALL(D35:I35,{1;2;3})),0)} -> #NUM! | R35: {=ROUND(AVERAGE(SMALL(D35:I35,{1;2;3})),0)} -> 596167 | S35: {=ROUND(GEOMEAN(SMALL(D35:I35,{1;2})),0)} -> #NUM! | T35: {=ROUND(AVERAGE(SMALL(D35:I35,{1;2})),0)} -> 447125 | U35: =+M35/IF($H35<>"",$H35,MIN($D35:$F35))-1 -> 0.71756996 | V35: =+N35/IF($H35<>"",$H35,MIN($D35:$F35))-1 -> 1.4943715 | W35: =+O35/IF($H35<>"",$H35,MIN($D35:$F35))-1 -> #NUM! | X35: =+P35/IF($H35<>"",$H35,MIN($D35:$F35))-1 -> 0.481286 | Y35: =+Q35/IF($H35<>"",$H35,MIN($D35:$F35))-1 -> #NUM! | Z35: =+R35/IF($H35<>"",$H35,MIN($D35:$F35))-1 -> -0.73026671 | AA35: =+S35/IF($H35<>"",$H35,MIN($D35:$F35))-1 -> #NUM! | AB35: =+T35/IF($H35<>"",$H35,MIN($D35:$F35))-1 -> -0.79770015 | AC35: {=MIN(IF(U35:AB35>0,U35:AB35))} -> #NUM! | AD35: =+IFERROR(_xlfn.XLOOKUP(AC35,U35:AB35,$U$3:$AB$3,,0),"Sin medida de tendencia central") -> Sin medida de tendencia central | AE35: =+IFERROR(_xlfn.XLOOKUP(AD35,$M$3:$T$3,M35:T35,,0),"Pendiente") -> Pendiente | AF35: =+AVERAGE(G35:H35) -> 1552229.6 | AG35: PROMEDIO IPC - CAMIONAUTOS | AJ35: 894250 | AL35: 1552229.6
A36: =+A35+1 -> 26 | B36: MOTOR DE ARRANQUE | C36: 1 | D36: 4007220 | E36: 17860000 | F36: 18729000 | G36: 4007220 | H36: =+'678-2024 IPC'!H35 -> 4470543.3 | I36: =+D36-G36 -> 0 | J36: =+D36/IF($H36<>"",$H36,MIN($D36:$F36))-1 -> -0.10363915 | K36: =+E36/IF($H36<>"",$H36,MIN($D36:$F36))-1 -> 2.9950401 | L36: =+F36/IF($H36<>"",$H36,MIN($D36:$F36))-1 -> 3.1894237 | M36: =ROUND(GEOMEAN(D36:F36),0) -> 11025875 | N36: =ROUND(AVERAGE(D36:F36),0) -> 13532073 | O36: =ROUND(GEOMEAN(D36:I36),0) -> #NUM! | P36: =ROUND(AVERAGE(D36:I36),0) -> 8178997 | Q36: {=ROUND(GEOMEAN(SMALL(D36:I36,{1;2;3})),0)} -> #NUM! | R36: {=ROUND(AVERAGE(SMALL(D36:I36,{1;2;3})),0)} -> 2671480 | S36: {=ROUND(GEOMEAN(SMALL(D36:I36,{1;2})),0)} -> #NUM! | T36: {=ROUND(AVERAGE(SMALL(D36:I36,{1;2})),0)} -> 2003610 | U36: =+M36/IF($H36<>"",$H36,MIN($D36:$F36))-1 -> 1.4663389 | V36: =+N36/IF($H36<>"",$H36,MIN($D36:$F36))-1 -> 2.0269415 | W36: =+O36/IF($H36<>"",$H36,MIN($D36:$F36))-1 -> #NUM! | X36: =+P36/IF($H36<>"",$H36,MIN($D36:$F36))-1 -> 0.82953087 | Y36: =+Q36/IF($H36<>"",$H36,MIN($D36:$F36))-1 -> #NUM! | Z36: =+R36/IF($H36<>"",$H36,MIN($D36:$F36))-1 -> -0.4024261 | AA36: =+S36/IF($H36<>"",$H36,MIN($D36:$F36))-1 -> #NUM! | AB36: =+T36/IF($H36<>"",$H36,MIN($D36:$F36))-1 -> -0.55181958 | AC36: {=MIN(IF(U36:AB36>0,U36:AB36))} -> #NUM! | AD36: =+IFERROR(_xlfn.XLOOKUP(AC36,U36:AB36,$U$3:$AB$3,,0),"Sin medida de tendencia central") -> Sin medida de tendencia central | AE36: =+IFERROR(_xlfn.XLOOKUP(AD36,$M$3:$T$3,M36:T36,,0),"Pendiente") -> Pendiente | AF36: =+AVERAGE(G36:H36) -> 4238881.7 | AG36: PROMEDIO IPC - CAMIONAUTOS | AJ36: 4007220 | AL36: 4238881.7
A37: =A36+1 -> 27 | B37: BOMBILLOS STOP | C37: 1 | D37: 153958 | E37: 490000 | F37: 509700 | G37: 153958 | H37: =+'678-2024 IPC'!H36 -> 42995.485 | I37: =+D37-G37 -> 0 | J37: =+D37/IF($H37<>"",$H37,MIN($D37:$F37))-1 -> 2.5807946 | K37: =+E37/IF($H37<>"",$H37,MIN($D37:$F37))-1 -> 10.396545 | L37: =+F37/IF($H37<>"",$H37,MIN($D37:$F37))-1 -> 10.854733 | M37: =ROUND(GEOMEAN(D37:F37),0) -> 337524 | N37: =ROUND(AVERAGE(D37:F37),0) -> 384553 | O37: =ROUND(GEOMEAN(D37:I37),0) -> #NUM! | P37: =ROUND(AVERAGE(D37:I37),0) -> 225102 | Q37: {=ROUND(GEOMEAN(SMALL(D37:I37,{1;2;3})),0)} -> #NUM! | R37: {=ROUND(AVERAGE(SMALL(D37:I37,{1;2;3})),0)} -> 65651 | S37: {=ROUND(GEOMEAN(SMALL(D37:I37,{1;2})),0)} -> #NUM! | T37: {=ROUND(AVERAGE(SMALL(D37:I37,{1;2})),0)} -> 21498 | U37: =+M37/IF($H37<>"",$H37,MIN($D37:$F37))-1 -> 6.8502196 | V37: =+N37/IF($H37<>"",$H37,MIN($D37:$F37))-1 -> 7.9440321 | W37: =+O37/IF($H37<>"",$H37,MIN($D37:$F37))-1 -> #NUM! | X37: =+P37/IF($H37<>"",$H37,MIN($D37:$F37))-1 -> 4.2354799 | Y37: =+Q37/IF($H37<>"",$H37,MIN($D37:$F37))-1 -> #NUM! | Z37: =+R37/IF($H37<>"",$H37,MIN($D37:$F37))-1 -> 0.52692777 | AA37: =+S37/IF($H37<>"",$H37,MIN($D37:$F37))-1 -> #NUM! | AB37: =+T37/IF($H37<>"",$H37,MIN($D37:$F37))-1 -> -0.49999401 | AC37: {=MIN(IF(U37:AB37>0,U37:AB37))} -> #NUM! | AD37: =+IFERROR(_xlfn.XLOOKUP(AC37,U37:AB37,$U$3:$AB$3,,0),"Sin medida de tendencia central") -> Sin medida de tendencia central | AE37: =+IFERROR(_xlfn.XLOOKUP(AD37,$M$3:$T$3,M37:T37,,0),"Pendiente") -> Pendiente | AF37: =+AVERAGE(G37:H37) -> 98476.743 | AG37: PROMEDIO IPC - CAMIONAUTOS | AJ37: 153958 | AL37: 98476.743
A38: =A37+1 -> 28 | B38: FUSIBLES | C38: 1 | D38: 97510 | E38: 80000 | F38: 83200 | G38: 97510 | H38: =+'678-2024 IPC'!H37 -> 51770.074 | I38: =+D38-G38 -> 0 | J38: =+D38/IF($H38<>"",$H38,MIN($D38:$F38))-1 -> 0.88352059 | K38: =+E38/IF($H38<>"",$H38,MIN($D38:$F38))-1 -> 0.5452943 | L38: =+F38/IF($H38<>"",$H38,MIN($D38:$F38))-1 -> 0.60710607 | M38: =ROUND(GEOMEAN(D38:F38),0) -> 86581 | N38: =ROUND(AVERAGE(D38:F38),0) -> 86903 | O38: =ROUND(GEOMEAN(D38:I38),0) -> #NUM! | P38: =ROUND(AVERAGE(D38:I38),0) -> 68332 | Q38: {=ROUND(GEOMEAN(SMALL(D38:I38,{1;2;3})),0)} -> #NUM! | R38: {=ROUND(AVERAGE(SMALL(D38:I38,{1;2;3})),0)} -> 43923 | S38: {=ROUND(GEOMEAN(SMALL(D38:I38,{1;2})),0)} -> #NUM! | T38: {=ROUND(AVERAGE(SMALL(D38:I38,{1;2})),0)} -> 25885 | U38: =+M38/IF($H38<>"",$H38,MIN($D38:$F38))-1 -> 0.67241407 | V38: =+N38/IF($H38<>"",$H38,MIN($D38:$F38))-1 -> 0.67863388 | W38: =+O38/IF($H38<>"",$H38,MIN($D38:$F38))-1 -> #NUM! | X38: =+P38/IF($H38<>"",$H38,MIN($D38:$F38))-1 -> 0.31991312 | Y38: =+Q38/IF($H38<>"",$H38,MIN($D38:$F38))-1 -> #NUM! | Z38: =+R38/IF($H38<>"",$H38,MIN($D38:$F38))-1 -> -0.15157548 | AA38: =+S38/IF($H38<>"",$H38,MIN($D38:$F38))-1 -> #NUM! | AB38: =+T38/IF($H38<>"",$H38,MIN($D38:$F38))-1 -> -0.50000071 | AC38: {=MIN(IF(U38:AB38>0,U38:AB38))} -> #NUM! | AD38: =+IFERROR(_xlfn.XLOOKUP(AC38,U38:AB38,$U$3:$AB$3,,0),"Sin medida de tendencia central") -> Sin medida de tendencia central | AE38: =+IFERROR(_xlfn.XLOOKUP(AD38,$M$3:$T$3,M38:T38,,0),"Pendiente") -> Pendiente | AF38: =+AVERAGE(G38:H38) -> 74640.037 | AG38: PROMEDIO IPC - CAMIONAUTOS | AJ38: 97510 | AL38: 74640.037
A39: =+A38+1 -> 29 | B39: COCUYOS | C39: 1 | D39: 163758 | E39: 490000 | F39: 509700 | G39: 163758 | H39: =+'678-2024 IPC'!H38 -> 523952.63 | I39: =+D39-G39 -> 0 | J39: =+D39/IF($H39<>"",$H39,MIN($D39:$F39))-1 -> -0.68745648 | K39: =+E39/IF($H39<>"",$H39,MIN($D39:$F39))-1 -> -0.06480096 | L39: =+F39/IF($H39<>"",$H39,MIN($D39:$F39))-1 -> -0.027202142 | M39: =ROUND(GEOMEAN(D39:F39),0) -> 344538 | N39: =ROUND(AVERAGE(D39:F39),0) -> 387819 | O39: =ROUND(GEOMEAN(D39:I39),0) -> #NUM! | P39: =ROUND(AVERAGE(D39:I39),0) -> 308528 | Q39: {=ROUND(GEOMEAN(SMALL(D39:I39,{1;2;3})),0)} -> #NUM! | R39: {=ROUND(AVERAGE(SMALL(D39:I39,{1;2;3})),0)} -> 109172 | S39: {=ROUND(GEOMEAN(SMALL(D39:I39,{1;2})),0)} -> #NUM! | T39: {=ROUND(AVERAGE(SMALL(D39:I39,{1;2})),0)} -> 81879 | U39: =+M39/IF($H39<>"",$H39,MIN($D39:$F39))-1 -> -0.34242529 | V39: =+N39/IF($H39<>"",$H39,MIN($D39:$F39))-1 -> -0.2598205 | W39: =+O39/IF($H39<>"",$H39,MIN($D39:$F39))-1 -> #NUM! | X39: =+P39/IF($H39<>"",$H39,MIN($D39:$F39))-1 -> -0.41115288 | Y39: =+Q39/IF($H39<>"",$H39,MIN($D39:$F39))-1 -> #NUM! | Z39: =+R39/IF($H39<>"",$H39,MIN($D39:$F39))-1 -> -0.79163765 | AA39: =+S39/IF($H39<>"",$H39,MIN($D39:$F39))-1 -> #NUM! | AB39: =+T39/IF($H39<>"",$H39,MIN($D39:$F39))-1 -> -0.84372824 | AC39: {=MIN(IF(U39:AB39>0,U39:AB39))} -> #NUM! | AD39: =+IFERROR(_xlfn.XLOOKUP(AC39,U39:AB39,$U$3:$AB$3,,0),"Sin medida de tendencia central") -> Sin medida de tendencia central | AE39: =+IFERROR(_xlfn.XLOOKUP(AD39,$M$3:$T$3,M39:T39,,0),"Pendiente") -> Pendiente | AF39: =+AVERAGE(G39:H39) -> 343855.32 | AG39: PROMEDIO IPC - CAMIONAUTOS | AJ39: 163758 | AL39: 343855.32
A40: =+A39+1 -> 30 | B40: PITO | C40: 1 | D40: 1481603.2 | E40: 3000000 | F40: 3126000 | G40: 481603 | H40: =+'678-2024 IPC'!H39 -> 623873.26 | I40: =+D40-G40 -> 1000000.2 | J40: =+D40/IF($H40<>"",$H40,MIN($D40:$F40))-1 -> 1.3748464 | K40: =+E40/IF($H40<>"",$H40,MIN($D40:$F40))-1 -> 3.808669 | L40: =+F40/IF($H40<>"",$H40,MIN($D40:$F40))-1 -> 4.0106331 | M40: =ROUND(GEOMEAN(D40:F40),0) -> 2404071 | N40: =ROUND(AVERAGE(D40:F40),0) -> 2535868 | O40: =ROUND(GEOMEAN(D40:I40),0) -> 1268931 | P40: =ROUND(AVERAGE(D40:I40),0) -> 1618847 | Q40: {=ROUND(GEOMEAN(SMALL(D40:I40,{1;2;3})),0)} -> 669774 | R40: {=ROUND(AVERAGE(SMALL(D40:I40,{1;2;3})),0)} -> 701825 | S40: {=ROUND(GEOMEAN(SMALL(D40:I40,{1;2})),0)} -> 548142 | T40: {=ROUND(AVERAGE(SMALL(D40:I40,{1;2})),0)} -> 552738 | U40: =+M40/IF($H40<>"",$H40,MIN($D40:$F40))-1 -> 2.8534605 | V40: =+N40/IF($H40<>"",$H40,MIN($D40:$F40))-1 -> 3.0647166 | W40: =+O40/IF($H40<>"",$H40,MIN($D40:$F40))-1 -> 1.0339564 | X40: =+P40/IF($H40<>"",$H40,MIN($D40:$F40))-1 -> 1.5948331 | Y40: =+Q40/IF($H40<>"",$H40,MIN($D40:$F40))-1 -> 0.073573815 | Z40: =+R40/IF($H40<>"",$H40,MIN($D40:$F40))-1 -> 0.12494803 | AA40: =+S40/IF($H40<>"",$H40,MIN($D40:$F40))-1 -> -0.12138886 | AB40: =+T40/IF($H40<>"",$H40,MIN($D40:$F40))-1 -> -0.11402198 | AC40: {=MIN(IF(U40:AB40>0,U40:AB40))} -> 0.073573815 | AD40: =+IFERROR(_xlfn.XLOOKUP(AC40,U40:AB40,$U$3:$AB$3,,0),"Sin medida de tendencia central") -> MEDIA GEOMETRICA 3 más bajas | AE40: =+IFERROR(_xlfn.XLOOKUP(AD40,$M$3:$T$3,M40:T40,,0),"Pendiente") -> 669774 | AF40: =+AVERAGE(G40:H40) -> 552738.13 | AG40: PROMEDIO IPC - CAMIONAUTOS | AJ40: 1481603.2 | AL40: 552738.13
A41: =+A40+1 -> 31 | B41: REVISIÓN SISTEMA DE CARGA Y ESTADO DE BATERÍAS | C41: 1 | D41: 515550 | E41: 1090000 | F41: 1127500 | G41: 515550 | H41: =+'678-2024 IPC'!H40 -> 548411.8 | I41: =+D41-G41 -> 0 | J41: =+D41/IF($H41<>"",$H41,MIN($D41:$F41))-1 -> -0.05992176 | K41: =+E41/IF($H41<>"",$H41,MIN($D41:$F41))-1 -> 0.98755753 | L41: =+F41/IF($H41<>"",$H41,MIN($D41:$F41))-1 -> 1.0559368 | M41: =ROUND(GEOMEAN(D41:F41),0) -> 858891 | N41: =ROUND(AVERAGE(D41:F41),0) -> 911017 | O41: =ROUND(GEOMEAN(D41:I41),0) -> #NUM! | P41: =ROUND(AVERAGE(D41:I41),0) -> 632835 | Q41: {=ROUND(GEOMEAN(SMALL(D41:I41,{1;2;3})),0)} -> #NUM! | R41: {=ROUND(AVERAGE(SMALL(D41:I41,{1;2;3})),0)} -> 343700 | S41: {=ROUND(GEOMEAN(SMALL(D41:I41,{1;2})),0)} -> #NUM! | T41: {=ROUND(AVERAGE(SMALL(D41:I41,{1;2})),0)} -> 257775 | U41: =+M41/IF($H41<>"",$H41,MIN($D41:$F41))-1 -> 0.56614245 | V41: =+N41/IF($H41<>"",$H41,MIN($D41:$F41))-1 -> 0.66119146 | W41: =+O41/IF($H41<>"",$H41,MIN($D41:$F41))-1 -> #NUM! | X41: =+P41/IF($H41<>"",$H41,MIN($D41:$F41))-1 -> 0.15394125 | Y41: =+Q41/IF($H41<>"",$H41,MIN($D41:$F41))-1 -> #NUM! | Z41: =+R41/IF($H41<>"",$H41,MIN($D41:$F41))-1 -> -0.37328117 | AA41: =+S41/IF($H41<>"",$H41,MIN($D41:$F41))-1 -> #NUM! | AB41: =+T41/IF($H41<>"",$H41,MIN($D41:$F41))-1 -> -0.52996088 | AC41: {=MIN(IF(U41:AB41>0,U41:AB41))} -> #NUM! | AD41: =+IFERROR(_xlfn.XLOOKUP(AC41,U41:AB41,$U$3:$AB$3,,0),"Sin medida de tendencia central") -> Sin medida de tendencia central | AE41: =+IFERROR(_xlfn.XLOOKUP(AD41,$M$3:$T$3,M41:T41,,0),"Pendiente") -> Pendiente | AF41: =+AVERAGE(G41:H41) -> 531980.9 | AG41: PROMEDIO IPC - CAMIONAUTOS | AJ41: 515550 | AL41: 531980.9
...

Sheet 678-2024 IPC
A2: DESCRIPCIÓN DEL SERVICIO | C2: CANTIDAD | D2: PRECIO TOTAL CPS678-2023 | E2: PRECIO TOTAL NP 2025 CPS678-2023 | F2: PRECIO TOTAL CPS678-2023 5,10 % IPC 2025 4,36 % IPC 2026 MAYO | G2: PRECIO TOTAL NP 2025 CPS678-2023 5,10 % IPC 2025 4,36 % IPC 2026 MAYO | H2: PRECIO TOTAL CPS678-2023 Con IPC
A3: VOLQUETAS INTERNATIONAL 4300 MODELO 2015
B4: ESTADO GENERAL
A5: =1 -> 1 | B5: ENGRASE GENERAL | C5: 1 | D5: 330000 | F5: =(D5*(1 + 5.1 %) * (1 + 4.36 %)) -> 361951.79 | H5: =+IF(F5="",G5,F5) -> 361951.79
A6: =+A5+1 -> 2 | B6: LIBRA GRASA BASE LITIO MULTIUSOS EP GRADO NLGI:3 PUNTO DE GOTEO MINIMO:160ºC RESISTENTE AL AGUA(LIBRA) | C6: 1 | D6: 230000 | F6: =(D6*(1 + 5.1 %) * (1 + 4.36 %)) -> 252269.43 | H6: =+IF(F6="",G6,F6) -> 252269.43
A7: =+A6+1 -> 3 | B7: LAVADO GENERAL | C7: 1 | D7: 400000 | F7: =(D7*(1 + 5.1 %) * (1 + 4.36 %)) -> 438729.44 | H7: =+IF(F7="",G7,F7) -> 438729.44
A8: =A7+1 -> 4 | B8: REVISIÓN NIVELES GENERAL | C8: 1 | D8: 460000 | F8: =(D8*(1 + 5.1 %) * (1 + 4.36 %)) -> 504538.86 | H8: =+IF(F8="",G8,F8) -> 504538.86
A9: =+A8+1 -> 5 | B9: REVISIÓN GENERAL, LUCES, PITOS, TESTIGOS DE TABLERO | C9: 1 | D9: 900000 | F9: =(D9*(1 + 5.1 %) * (1 + 4.36 %)) -> 987141.24 | H9: =+IF(F9="",G9,F9) -> 987141.24
A10: =A9+1 -> 6 | B10: REVISIÓN TECNOMECÁNICA | C10: 1 | D10: 736000 | F10: =(D10*(1 + 5.1 %) * (1 + 4.36 %)) -> 807262.17 | H10: =+IF(F10="",G10,F10) -> 807262.17
B11: MOTOR
A12: =A10+1 -> 7 | B12: FILTRO DE ACEITE | C12: 1 | D12: 307300 | F12: =(D12*(1 + 5.1 %) * (1 + 4.36 %)) -> 337053.89 | H12: =+IF(F12="",G12,F12) -> 337053.89
A13: =+A12+1 -> 8 | B13: FILTRO DE AIRE INTERNO | C13: 1 | D13: 345900 | F13: =(D13*(1 + 5.1 %) * (1 + 4.36 %)) -> 379391.28 | H13: =+IF(F13="",G13,F13) -> 379391.28
A14: =+A13+1 -> 9 | B14: FILTRO DE AIRE EXTERNO | C14: 1 | D14: 379000 | F14: =(D14*(1 + 5.1 %) * (1 + 4.36 %)) -> 415696.14 | H14: =+IF(F14="",G14,F14) -> 415696.14
A15: =+A14+1 -> 10 | B15: FILTRO DE COMBUSTIBLE PRIMARIO | C15: 1 | D15: 325500 | F15: =(D15*(1 + 5.1 %) * (1 + 4.36 %)) -> 357016.08 | H15: =+IF(F15="",G15,F15) -> 357016.08
A16: =+A15+1 -> 11 | B16: FILTRO DE COMBUSTIBLE SECUNDARIO | C16: 1 | D16: 408200 | F16: =(D16*(1 + 5.1 %) * (1 + 4.36 %)) -> 447723.39 | H16: =+IF(F16="",G16,F16) -> 447723.39
A17: =+A16+1 -> 12 | B17: ACEITE DE MOTOR SAE 15W40 Certificado (Galón) | C17: 1 | D17: 212100 | F17: =(D17*(1 + 5.1 %) * (1 + 4.36 %)) -> 232636.29 | H17: =+IF(F17="",G17,F17) -> 232636.29
A18: =+A17+1 -> 13 | B18: LAVADO DE MOTOR | C18: 1 | D18: 523000 | F18: =(D18*(1 + 5.1 %) * (1 + 4.36 %)) -> 573638.74 | H18: =+IF(F18="",G18,F18) -> 573638.74
A19: =A18+1 -> 14 | B19: CALIBRACIÓN DE VÁLVULAS | C19: 1 | D19: 850600 | F19: =(D19*(1 + 5.1 %) * (1 + 4.36 %)) -> 932958.15 | H19: =+IF(F19="",G19,F19) -> 932958.15
A20: 15 | B20: CAMBIO EMPAQUE DE BOQUILLA | C20: 1 | E20: 142800 | G20: =(E20*(1 + 5.1 %) * (1 + 4.36 %)) -> 156626.41 | H20: =+IF(F20="",G20,F20) -> 156626.41
B21: SISTEMA DE REFRIGERACIÓN MOTOR
A22: =A19+1 -> 15 | B22: REFRIGERANTE | C22: 1 | D22: 174000 | F22: =(D22*(1 + 5.1 %) * (1 + 4.36 %)) -> 190847.31 | H22: =+IF(F22="",G22,F22) -> 190847.31
