Workbook

Sheet Inf. básica
A1: MAQUINARIA ALCALDÍA KENNEDY | D1: MARCA | E1: SERIE | F1: MODELO | G1: CLASE COMBUSTIBLE | I1: MAQUINARIA ALCALDÍA KENNEDY | K1: MARCA | L1: SERIE | M1: MODELO | N1: CLASE COMBUSTIBLE
A2: VOLQUETA INTERNATIONAL 4300 PLACA OJX 279 | C2: VOLQUETA INTERNATIONAL DURASTAR 4300 SBA PLACA OJX 279 | D2: INTERNATIONAL | E2: DURASTAR 4300 SBA | F2: 2015 | G2: ACPM | I2: VOLQUETA INTERNATIONAL 4300 PLACA OJX 279 | J2: VOLQUETA INTERNATIONAL DURASTAR 4300 SBA PLACA OJX 279 | K2: INTERNATIONAL | L2: DURASTAR 4300 SBA | M2: 2015 | N2: ACPM
A3: VOLQUETA INTERNATIONAL 4300 PLACA OJX 280 | C3: VOLQUETA INTERNATIONAL DURASTAR 4300 SBA PLACA OJX 280 | D3: INTERNATIONAL | E3: DURASTAR 4300 SBA | F3: 2015 | G3: ACPM | I3: VOLQUETA INTERNATIONAL 4300 PLACA OJX 280 | J3: VOLQUETA INTERNATIONAL DURASTAR 4300 SBA PLACA OJX 280 | K3: INTERNATIONAL | L3: DURASTAR 4300 SBA | M3: 2015 | N3: ACPM
A4: VOLQUETA INTERNATIONAL 4300 PLACA OJX 281 | C4: VOLQUETA INTERNATIONAL DURASTAR 4300 SBA PLACA OJX 281 | D4: INTERNATIONAL | E4: DURASTAR 4300 SBA | F4: 2015 | G4: ACPM | I4: VOLQUETA INTERNATIONAL 4300 PLACA OJX 281 | J4: VOLQUETA INTERNATIONAL DURASTAR 4300 SBA PLACA OJX 281 | K4: INTERNATIONAL | L4: DURASTAR 4300 SBA | M4: 2015 | N4: ACPM
A5: CAMA BAJA | C5: (CAMA BAJA) | D5: N.E | E5: N.E | F5: 2009 | G5: N.A | I5: CAMA BAJA | J5: (CAMA BAJA) | K5: N.E | L5: N.E | M5: 2009 | N5: N.A
A6: RETROEXCAVADORA NEW HOLLAND | C6: RETROEXCAVADORA | D6: NEW HOLLAND | E6: B 95 B | F6: 2009 | G6: ACPM | I6: RETROEXCAVADORA NEW HOLLAND | J6: RETROEXCAVADORA | K6: NEW HOLLAND | L6: B 95 B | M6: 2009 | N6: ACPM
A7: VIBROCOMPACTADOR DINAPAC CA 150 | C7: CILINDRO COMPACTADOR | D7: DYNAPAC | E7: CA 150 | F7: 1990 | G7: ACPM | I7: VIBROCOMPACTADOR DINAPAC CA 150 | J7: CILINDRO COMPACTADOR | K7: DYNAPAC | L7: CA 150 | M7: 1990 | N7: ACPM
A8: MOTONIVELADORA CATERPILLAR 120 G | C8: MOTONIVELADORA | D8: CATERPILLAR | E8: 120 G | F8: 1987 | G8: ACPM | I8: MOTONIVELADORA CATERPILLAR 120 G | J8: MOTONIVELADORA | K8: CATERPILLAR | L8: 120 G | M8: 1987 | N8: ACPM
A9: MOTONIVELADORA CHAMPION 710A | C9: MOTONIVELADORA | D9: CHAMPION | E9: 710A | F9: 1987 | G9: ACPM | I9: MOTONIVELADORA CHAMPION 710A | J9: MOTONIVELADORA | K9: CHAMPION | L9: 710A | M9: 1987 | N9: ACPM
A10: Minicargador New Holland | C10: Minicargador | D10: NEW HOLLAND | E10: L323 | F10: 2023 | G10: ACPM | I10: Minicargador New Holland | J10: Minicargador | K10: NEW HOLLAND | L10: L323 | M10: 2023 | N10: ACPM
A11: BUS JQV-204 | C11: BUS ELECTRICO | D11: DONGFENG | E11: 165 Kw | F11: 2023 | G11: Electrico | I11: BUS JQV-204 | J11: BUS ELECTRICO | K11: DONGFENG | L11: 165 Kw | M11: 2023 | N11: Electrico
A12: VIBRO COMPACTADOR MANUAL | C12: VIBRO COMPACTADOR MANUAL | D12: HONDA | E12: 13 HP | F12: 2010 | G12: GASOLINA | I12: VIBRO COMPACTADOR MANUAL | J12: VIBRO COMPACTADOR MANUAL | K12: HONDA | L12: 13 HP | M12: 2010 | N12: GASOLINA

Sheet ANALISIS INICIAL
D2: VALORES COTIZADOS | H2: PRECIO HISTORICO | J2: VARIACIONES COTIZACIONES CONTRA EL PRECIO HISTORICO O EL MENOR VALOR (CUANDO NO HAY HISTORICO) | M2: MEDIDAS DE TENDENCIA CENTRAL (MTC) | U2: VARIACIONES MTC CONTRA EL PRECIO HISTORICO O EL MENOR VALOR (CUANDO NO HAY HISTORICO) | AJ2: VALORES COTIZADOS
A3: DESCRIPCIÓN DEL SERVICIO | C3: CANTIDAD | D3: CAMIONAUTOS SERVICE SAS | E3: AUTOS MONGUI S.A.S. | F3: MULTISERVICIOS MONACO | G3: CAMIONAUTOS SERVICE SAS | H3: PRECIO TOTAL CPS678-2023 Con IPC | I3: DIFERENCIA CAMIONAUTOS PRIMERA A SEGUNDA COTIZACION | J3: CAMIONAUTOS SERVICE SAS | K3: AUTOS MONGUI S.A.S. | L3: MULTISERVICIOS MONACO | M3: MEDIA GEOMETRICA SOLO COTIZACIONES | N3: PROMEDIO SIMPLE SOLO COTIZACIONES | O3: MEDIA GEOMETRICA Cotizaciones e Histórico | P3: PROMEDIO SIMPLE Cotizaciones e Histórico | Q3: MEDIA GEOMETRICA 3 más bajas | R3: PROMEDIO SIMPLE 3 más bajas | S3: MEDIA GEOMETRICA 2 más bajos | T3: PROMEDIO 2 más bajos | U3: MEDIA GEOMETRICA SOLO COTIZACIONES | V3: PROMEDIO SIMPLE SOLO COTIZACIONES | W3: MEDIA GEOMETRICA Cotizaciones e Histórico | X3: PROMEDIO SIMPLE Cotizaciones e Histórico | Y3: MEDIA GEOMETRICA 3 más bajas | Z3: PROMEDIO SIMPLE 3 más bajas | AA3: MEDIA GEOMETRICA 2 más bajos | AB3: PROMEDIO 2 más bajos | AC3: MENOR VARIACIÓN POSITIVA | AD3: MTC CON MENOR VARIACIÓN POSITIVA | AE3: PRECIO DE REFERENCIA | AF3: PROMEDIO DE LOS DOS VALORES MAS BAJOS | AG3: MEDIO DE DETERMINACION | AJ3: CAMIONAUTOS SERVICE SAS | AL3: PROMEDIO DE LOS DOS VALORES MAS BAJOS
A4: VOLQUETAS INTERNATIONAL 4300 MODELO 2015
B5: ESTADO GENERAL
A6: =1 -> 1 | B6: ENGRASE GENERAL | C6: 1 | D6: 423378.9 | E6: 2152000 | F6: 2235600 | G6: 423379 | H6: =+'678-2024 IPC'!H5 -> 361951.79 | I6: =+D6-G6 -> -0.1 | J6: =+D6/IF($H6<>"",$H6,MIN($D6:$F6))-1 -> 0.16971076 | K6: =+E6/IF($H6<>"",$H6,MIN($D6:$F6))-1 -> 4.9455432 | L6: =+F6/IF($H6<>"",$H6,MIN($D6:$F6))-1 -> 5.1765132 | M6: =ROUND(GEOMEAN(E6:H6),0) -> 926625 | N6: =ROUND(AVERAGE(E6:H6),0) -> 1293233 | O6: =ROUND(GEOMEAN(E6:H6),0) -> 926625 | P6: =ROUND(AVERAGE(E6:H6),0) -> 1293233 | Q6: {=ROUND(GEOMEAN(SMALL(E6:H6,{1;2;3})),0)} -> 690888 | R6: {=ROUND(AVERAGE(SMALL(E6:H6,{1;2;3})),0)} -> 979110 | S6: {=ROUND(GEOMEAN(SMALL(E6:H6,{1;2})),0)} -> 391462 | T6: {=ROUND(AVERAGE(SMALL(E6:H6,{1;2})),0)} -> 392665 | U6: =+M6/IF($H6<>"",$H6,MIN($D6:$F6))-1 -> 1.5600785 | V6: =+N6/IF($H6<>"",$H6,MIN($D6:$F6))-1 -> 2.5729427 | W6: =+O6/IF($H6<>"",$H6,MIN($D6:$F6))-1 -> 1.5600785 | X6: =+P6/IF($H6<>"",$H6,MIN($D6:$F6))-1 -> 2.5729427 | Y6: =+Q6/IF($H6<>"",$H6,MIN($D6:$F6))-1 -> 0.9087846 | Z6: =+R6/IF($H6<>"",$H6,MIN($D6:$F6))-1 -> 1.705084 | AA6: =+S6/IF($H6<>"",$H6,MIN($D6:$F6))-1 -> 0.081530781 | AB6: =+T6/IF($H6<>"",$H6,MIN($D6:$F6))-1 -> 0.084854428 | AC6: {=MIN(IF(U6:AB6>0,U6:AB6))} -> 0.081530781 | AD6: =+IFERROR(_xlfn.XLOOKUP(AC6,U6:AB6,$U$3:$AB$3,,0),"Sin medida de tendencia central") -> MEDIA GEOMETRICA 2 más bajos | AE6: =+IFERROR(_xlfn.XLOOKUP(AD6,$M$3:$T$3,M6:T6,,0),"Pendiente") -> 391462 | AF6: =+AVERAGE(G6:H6) -> 392665.39 | AG6: PROMEDIO IPC - CAMIONAUTOS | AJ6: 423378.9 | AL6: 392665.39
A7: =+A6+1 -> 2 | B7: LIBRA GRASA BASE LITIO MULTIUSOS EP GRADO NLGI:3 PUNTO DE GOTEO MINIMO:160ºC RESISTENTE AL AGUA(LIBRA) | C7: 1 | D7: 112987 | E7: 952000 | F7: 999600 | G7: 112987 | H7: =+'678-2024 IPC'!H6 -> 252269.43 | I7: =+D7-G7 -> 0 | J7: =+D7/IF($H7<>"",$H7,MIN($D7:$F7))-1 -> -0.55211775 | K7: =+E7/IF($H7<>"",$H7,MIN($D7:$F7))-1 -> 2.773743 | L7: =+F7/IF($H7<>"",$H7,MIN($D7:$F7))-1 -> 2.9624302 | M7: =ROUND(GEOMEAN(E7:H7),0) -> 405825 | N7: =ROUND(AVERAGE(E7:H7),0) -> 579214 | O7: =ROUND(GEOMEAN(E7:H7),0) -> 405825 | P7: =ROUND(AVERAGE(E7:H7),0) -> 579214 | Q7: {=ROUND(GEOMEAN(SMALL(E7:H7,{1;2;3})),0)} -> 300499 | R7: {=ROUND(AVERAGE(SMALL(E7:H7,{1;2;3})),0)} -> 439085 | S7: {=ROUND(GEOMEAN(SMALL(E7:H7,{1;2})),0)} -> 168829 | T7: {=ROUND(AVERAGE(SMALL(E7:H7,{1;2})),0)} -> 182628 | U7: =+M7/IF($H7<>"",$H7,MIN($D7:$F7))-1 -> 0.60869671 | V7: =+N7/IF($H7<>"",$H7,MIN($D7:$F7))-1 -> 1.2960135 | W7: =+O7/IF($H7<>"",$H7,MIN($D7:$F7))-1 -> 0.60869671 | X7: =+P7/IF($H7<>"",$H7,MIN($D7:$F7))-1 -> 1.2960135 | Y7: =+Q7/IF($H7<>"",$H7,MIN($D7:$F7))-1 -> 0.19118279 | Z7: =+R7/IF($H7<>"",$H7,MIN($D7:$F7))-1 -> 0.74053988 | AA7: =+S7/IF($H7<>"",$H7,MIN($D7:$F7))-1 -> -0.33075918 | AB7: =+T7/IF($H7<>"",$H7,MIN($D7:$F7))-1 -> -0.27605972 | AC7: {=MIN(IF(U7:AB7>0,U7:AB7))} -> 0.19118279 | AD7: =+IFERROR(_xlfn.XLOOKUP(AC7,U7:AB7,$U$3:$AB$3,,0),"Sin medida de tendencia central") -> MEDIA GEOMETRICA 3 más bajas | AE7: =+IFERROR(_xlfn.XLOOKUP(AD7,$M$3:$T$3,M7:T7,,0),"Pendiente") -> 300499 | AF7: =+AVERAGE(G7:H7) -> 182628.21 | AG7: PROMEDIO IPC - CAMIONAUTOS | AJ7: 112987 | AL7: 182628.21
A8: =+A7+1 -> 3 | B8: LAVADO GENERAL | C8: 1 | D8: 352310 | E8: 1600000 | F8: 1650000 | G8: 352310 | H8: =+'678-2024 IPC'!H7 -> 438729.44 | I8: =+D8-G8 -> 0 | J8: =+D8/IF($H8<>"",$H8,MIN($D8:$F8))-1 -> -0.19697662 | K8: =+E8/IF($H8<>"",$H8,MIN($D8:$F8))-1 -> 2.6468945 | L8: =+F8/IF($H8<>"",$H8,MIN($D8:$F8))-1 -> 2.76086 | M8: =ROUND(GEOMEAN(E8:H8),0) -> 799248 | N8: =ROUND(AVERAGE(E8:H8),0) -> 1010260 | O8: =ROUND(GEOMEAN(E8:H8),0) -> 799248 | P8: =ROUND(AVERAGE(E8:H8),0) -> 1010260 | Q8: {=ROUND(GEOMEAN(SMALL(E8:H8,{1;2;3})),0)} -> 627693 | R8: {=ROUND(AVERAGE(SMALL(E8:H8,{1;2;3})),0)} -> 797013 | S8: {=ROUND(GEOMEAN(SMALL(E8:H8,{1;2})),0)} -> 393152 | T8: {=ROUND(AVERAGE(SMALL(E8:H8,{1;2})),0)} -> 395520 | U8: =+M8/IF($H8<>"",$H8,MIN($D8:$F8))-1 -> 0.82173323 | V8: =+N8/IF($H8<>"",$H8,MIN($D8:$F8))-1 -> 1.3026948 | W8: =+O8/IF($H8<>"",$H8,MIN($D8:$F8))-1 -> 0.82173323 | X8: =+P8/IF($H8<>"",$H8,MIN($D8:$F8))-1 -> 1.3026948 | Y8: =+Q8/IF($H8<>"",$H8,MIN($D8:$F8))-1 -> 0.43070636 | Z8: =+R8/IF($H8<>"",$H8,MIN($D8:$F8))-1 -> 0.81663897 | AA8: =+S8/IF($H8<>"",$H8,MIN($D8:$F8))-1 -> -0.10388507 | AB8: =+T8/IF($H8<>"",$H8,MIN($D8:$F8))-1 -> -0.098487669 | AC8: {=MIN(IF(U8:AB8>0,U8:AB8))} -> 0.43070636 | AD8: =+IFERROR(_xlfn.XLOOKUP(AC8,U8:AB8,$U$3:$AB$3,,0),"Sin medida de tendencia central") -> MEDIA GEOMETRICA 3 más bajas | AE8: =+IFERROR(_xlfn.XLOOKUP(AD8,$M$3:$T$3,M8:T8,,0),"Pendiente") -> 627693 | AF8: =+AVERAGE(G8:H8) -> 395519.72 | AG8: PROMEDIO IPC - CAMIONAUTOS | AJ8: 352310 | AL8: 395519.72
A9: =A8+1 -> 4 | B9: REVISIÓN NIVELES GENERAL | C9: 1 | D9: 152586 | E9: 1052000 | F9: 1085560 | G9: 152586 | H9: =+'678-2024 IPC'!H8 -> 504538.86 | I9: =+D9-G9 -> 0 | J9: =+D9/IF($H9<>"",$H9,MIN($D9:$F9))-1 -> -0.69757334 | K9: =+E9/IF($H9<>"",$H9,MIN($D9:$F9))-1 -> 1.0850723 | L9: =+F9/IF($H9<>"",$H9,MIN($D9:$F9))-1 -> 1.1515885 | M9: =ROUND(GEOMEAN(E9:H9),0) -> 544527 | N9: =ROUND(AVERAGE(E9:H9),0) -> 698671 | O9: =ROUND(GEOMEAN(E9:H9),0) -> 544527 | P9: =ROUND(AVERAGE(E9:H9),0) -> 698671 | Q9: {=ROUND(GEOMEAN(SMALL(E9:H9,{1;2;3})),0)} -> 432655 | R9: {=ROUND(AVERAGE(SMALL(E9:H9,{1;2;3})),0)} -> 569708 | S9: {=ROUND(GEOMEAN(SMALL(E9:H9,{1;2})),0)} -> 277463 | T9: {=ROUND(AVERAGE(SMALL(E9:H9,{1;2})),0)} -> 328562 | U9: =+M9/IF($H9<>"",$H9,MIN($D9:$F9))-1 -> 0.079256817 | V9: =+N9/IF($H9<>"",$H9,MIN($D9:$F9))-1 -> 0.38477144 | W9: =+O9/IF($H9<>"",$H9,MIN($D9:$F9))-1 -> 0.079256817 | X9: =+P9/IF($H9<>"",$H9,MIN($D9:$F9))-1 -> 0.38477144 | Y9: =+Q9/IF($H9<>"",$H9,MIN($D9:$F9))-1 -> -0.14247437 | Z9: =+R9/IF($H9<>"",$H9,MIN($D9:$F9))-1 -> 0.12916576 | AA9: =+S9/IF($H9<>"",$H9,MIN($D9:$F9))-1 -> -0.45006614 | AB9: =+T9/IF($H9<>"",$H9,MIN($D9:$F9))-1 -> -0.34878752 | AC9: {=MIN(IF(U9:AB9>0,U9:AB9))} -> 0.079256817 | AD9: =+IFERROR(_xlfn.XLOOKUP(AC9,U9:AB9,$U$3:$AB$3,,0),"Sin medida de tendencia central") -> MEDIA GEOMETRICA SOLO COTIZACIONES | AE9: =+IFERROR(_xlfn.XLOOKUP(AD9,$M$3:$T$3,M9:T9,,0),"Pendiente") -> 544527 | AF9: =+AVERAGE(G9:H9) -> 328562.43 | AG9: PROMEDIO IPC - CAMIONAUTOS | AJ9: 152586 | AL9: 328562.43
A10: =+A9+1 -> 5 | B10: REVISIÓN GENERAL, LUCES, PITOS, TESTIGOS DE TABLERO | C10: 1 | D10: 211386 | E10: 2000000 | F10: 2062000 | G10: 211386 | H10: =+'678-2024 IPC'!H9 -> 987141.24 | I10: =+D10-G10 -> 0 | J10: =+D10/IF($H10<>"",$H10,MIN($D10:$F10))-1 -> -0.78586043 | K10: =+E10/IF($H10<>"",$H10,MIN($D10:$F10))-1 -> 1.0260525 | L10: =+F10/IF($H10<>"",$H10,MIN($D10:$F10))-1 -> 1.0888602 | M10: =ROUND(GEOMEAN(E10:H10),0) -> 963149 | N10: =ROUND(AVERAGE(E10:H10),0) -> 1315132 | O10: =ROUND(GEOMEAN(E10:H10),0) -> 963149 | P10: =ROUND(AVERAGE(E10:H10),0) -> 1315132 | Q10: {=ROUND(GEOMEAN(SMALL(E10:H10,{1;2;3})),0)} -> 747300 | R10: {=ROUND(AVERAGE(SMALL(E10:H10,{1;2;3})),0)} -> 1066176 | S10: {=ROUND(GEOMEAN(SMALL(E10:H10,{1;2})),0)} -> 456802 | T10: {=ROUND(AVERAGE(SMALL(E10:H10,{1;2})),0)} -> 599264 | U10: =+M10/IF($H10<>"",$H10,MIN($D10:$F10))-1 -> -0.024304769 | V10: =+N10/IF($H10<>"",$H10,MIN($D10:$F10))-1 -> 0.33226325 | W10: =+O10/IF($H10<>"",$H10,MIN($D10:$F10))-1 -> -0.024304769 | X10: =+P10/IF($H10<>"",$H10,MIN($D10:$F10))-1 -> 0.33226325 | Y10: =+Q10/IF($H10<>"",$H10,MIN($D10:$F10))-1 -> -0.24296547 | Z10: =+R10/IF($H10<>"",$H10,MIN($D10:$F10))-1 -> 0.080064287 | AA10: =+S10/IF($H10<>"",$H10,MIN($D10:$F10))-1 -> -0.53724758 | AB10: =+T10/IF($H10<>"",$H10,MIN($D10:$F10))-1 -> -0.39292983 | AC10: {=MIN(IF(U10:AB10>0,U10:AB10))} -> 0.080064287 | AD10: =+IFERROR(_xlfn.XLOOKUP(AC10,U10:AB10,$U$3:$AB$3,,0),"Sin medida de tendencia central") -> PROMEDIO SIMPLE 3 más bajas | AE10: =+IFERROR(_xlfn.XLOOKUP(AD10,$M$3:$T$3,M10:T10,,0),"Pendiente") -> 1066176 | AF10: =+AVERAGE(G10:H10) -> 599263.62 | AG10: PROMEDIO IPC - CAMIONAUTOS | AJ10: 211386 | AL10: 599263.62
A11: =A10+1 -> 6 | B11: REVISIÓN TECNOMECÁNICA | C11: 1 | D11: 614558 | E11: 3100000 | F11: 3195000 | G11: 614558 | H11: =+'678-2024 IPC'!H10 -> 807262.17 | I11: =+D11-G11 -> 0 | J11: =+D11/IF($H11<>"",$H11,MIN($D11:$F11))-1 -> -0.23871324 | K11: =+E11/IF($H11<>"",$H11,MIN($D11:$F11))-1 -> 2.8401403 | L11: =+F11/IF($H11<>"",$H11,MIN($D11:$F11))-1 -> 2.957822 | M11: =ROUND(GEOMEAN(E11:H11),0) -> 1488855 | N11: =ROUND(AVERAGE(E11:H11),0) -> 1929205 | O11: =ROUND(GEOMEAN(E11:H11),0) -> 1488855 | P11: =ROUND(AVERAGE(E11:H11),0) -> 1929205 | Q11: {=ROUND(GEOMEAN(SMALL(E11:H11,{1;2;3})),0)} -> 1154285 | R11: {=ROUND(AVERAGE(SMALL(E11:H11,{1;2;3})),0)} -> 1507273 | S11: {=ROUND(GEOMEAN(SMALL(E11:H11,{1;2})),0)} -> 704350 | T11: {=ROUND(AVERAGE(SMALL(E11:H11,{1;2})),0)} -> 710910 | U11: =+M11/IF($H11<>"",$H11,MIN($D11:$F11))-1 -> 0.84432649 | V11: =+N11/IF($H11<>"",$H11,MIN($D11:$F11))-1 -> 1.3898122 | W11: =+O11/IF($H11<>"",$H11,MIN($D11:$F11))-1 -> 0.84432649 | X11: =+P11/IF($H11<>"",$H11,MIN($D11:$F11))-1 -> 1.3898122 | Y11: =+Q11/IF($H11<>"",$H11,MIN($D11:$F11))-1 -> 0.42987625 | Z11: =+R11/IF($H11<>"",$H11,MIN($D11:$F11))-1 -> 0.86714187 | AA11: =+S11/IF($H11<>"",$H11,MIN($D11:$F11))-1 -> -0.12748296 | AB11: =+T11/IF($H11<>"",$H11,MIN($D11:$F11))-1 -> -0.11935673 | AC11: {=MIN(IF(U11:AB11>0,U11:AB11))} -> 0.42987625 | AD11: =+IFERROR(_xlfn.XLOOKUP(AC11,U11:AB11,$U$3:$AB$3,,0),"Sin medida de tendencia central") -> MEDIA GEOMETRICA 3 más bajas | AE11: =+IFERROR(_xlfn.XLOOKUP(AD11,$M$3:$T$3,M11:T11,,0),"Pendiente") -> 1154285 | AF11: =+AVERAGE(G11:H11) -> 710910.08 | AG11: PROMEDIO IPC - CAMIONAUTOS | AJ11: 614558 | AL11: 710910.08
B12: MOTOR | I12: =+D12-G12 -> 0
A13: =A11+1 -> 7 | B13: FILTRO DE ACEITE | C13: 1 | D13: 742722.8 | E13: 1128000 | F13: 1180400 | G13: 442723 | H13: =+'678-2024 IPC'!H12 -> 337053.89 | I13: =+D13-G13 -> 299999.8 | J13: =+D13/IF($H13<>"",$H13,MIN($D13:$F13))-1 -> 1.2035728 | K13: =+E13/IF($H13<>"",$H13,MIN($D13:$F13))-1 -> 2.3466458 | L13: =+F13/IF($H13<>"",$H13,MIN($D13:$F13))-1 -> 2.5021106 | M13: =ROUND(GEOMEAN(D13:F13),0) -> 996296 | N13: =ROUND(AVERAGE(D13:F13),0) -> 1017041 | O13: =ROUND(GEOMEAN(D13:I13),0) -> 594775 | P13: =ROUND(AVERAGE(D13:I13),0) -> 688483 | Q13: {=ROUND(GEOMEAN(SMALL(D13:I13,{1;2;3})),0)} -> 355073 | R13: {=ROUND(AVERAGE(SMALL(D13:I13,{1;2;3})),0)} -> 359926 | S13: {=ROUND(GEOMEAN(SMALL(D13:I13,{1;2})),0)} -> 317988 | T13: {=ROUND(AVERAGE(SMALL(D13:I13,{1;2})),0)} -> 318527 | U13: =+M13/IF($H13<>"",$H13,MIN($D13:$F13))-1 -> 1.9558953 | V13: =+N13/IF($H13<>"",$H13,MIN($D13:$F13))-1 -> 2.0174433 | W13: =+O13/IF($H13<>"",$H13,MIN($D13:$F13))-1 -> 0.76462878 | X13: =+P13/IF($H13<>"",$H13,MIN($D13:$F13))-1 -> 1.0426496 | Y13: =+Q13/IF($H13<>"",$H13,MIN($D13:$F13))-1 -> 0.053460613 | Z13: =+R13/IF($H13<>"",$H13,MIN($D13:$F13))-1 -> 0.067858904 | AA13: =+S13/IF($H13<>"",$H13,MIN($D13:$F13))-1 -> -0.056566302 | AB13: =+T13/IF($H13<>"",$H13,MIN($D13:$F13))-1 -> -0.054967151 | AC13: {=MIN(IF(U13:AB13>0,U13:AB13))} -> 0.053460613 | AD13: =+IFERROR(_xlfn.XLOOKUP(AC13,U13:AB13,$U$3:$AB$3,,0),"Sin medida de tendencia central") -> MEDIA GEOMETRICA 3 más bajas | AE13: =+IFERROR(_xlfn.XLOOKUP(AD13,$M$3:$T$3,M13:T13,,0),"Pendiente") -> 355073 | AF13: =+AVERAGE(G13:H13) -> 389888.45 | AG13: PROMEDIO IPC - CAMIONAUTOS | AJ13: 742722.8 | AL13: 389888.45
A14: =+A13+1 -> 8 | B14: FILTRO DE AIRE INTERNO | C14: 1 | D14: 833686.4 | E14: 1225000 | F14: 1282250 | G14: 433686 | H14: =+'678-2024 IPC'!H13 -> 379391.28 | I14: =+D14-G14 -> 400000.4 | J14: =+D14/IF($H14<>"",$H14,MIN($D14:$F14))-1 -> 1.1974316 | K14: =+E14/IF($H14<>"",$H14,MIN($D14:$F14))-1 -> 2.2288565 | L14: =+F14/IF($H14<>"",$H14,MIN($D14:$F14))-1 -> 2.3797561 | M14: =ROUND(GEOMEAN(D14:F14),0) -> 1094050 | N14: =ROUND(AVERAGE(D14:F14),0) -> 1113645 | O14: =ROUND(GEOMEAN(D14:I14),0) -> 664619 | P14: =ROUND(AVERAGE(D14:I14),0) -> 759002 | Q14: {=ROUND(GEOMEAN(SMALL(D14:I14,{1;2;3})),0)} -> 403746 | R14: {=ROUND(AVERAGE(SMALL(D14:I14,{1;2;3})),0)} -> 404359 | S14: {=ROUND(GEOMEAN(SMALL(D14:I14,{1;2})),0)} -> 389560 | T14: {=ROUND(AVERAGE(SMALL(D14:I14,{1;2})),0)} -> 389696 | U14: =+M14/IF($H14<>"",$H14,MIN($D14:$F14))-1 -> 1.8836983 | V14: =+N14/IF($H14<>"",$H14,MIN($D14:$F14))-1 -> 1.9353468 | W14: =+O14/IF($H14<>"",$H14,MIN($D14:$F14))-1 -> 0.75180356 | X14: =+P14/IF($H14<>"",$H14,MIN($D14:$F14))-1 -> 1.0005784 | Y14: =+Q14/IF($H14<>"",$H14,MIN($D14:$F14))-1 -> 0.064194192 | Z14: =+R14/IF($H14<>"",$H14,MIN($D14:$F14))-1 -> 0.065809938 | AA14: =+S14/IF($H14<>"",$H14,MIN($D14:$F14))-1 -> 0.026802716 | AB14: =+T14/IF($H14<>"",$H14,MIN($D14:$F14))-1 -> 0.027161185 | AC14: {=MIN(IF(U14:AB14>0,U14:AB14))} -> 0.026802716 | AD14: =+IFERROR(_xlfn.XLOOKUP(AC14,U14:AB14,$U$3:$AB$3,,0),"Sin medida de tendencia central") -> MEDIA GEOMETRICA 2 más bajos | AE14: =+IFERROR(_xlfn.XLOOKUP(AD14,$M$3:$T$3,M14:T14,,0),"Pendiente") -> 389560 | AF14: =+AVERAGE(G14:H14) -> 406538.64 | AG14: PROMEDIO IPC - CAMIONAUTOS | AJ14: 833686.4 | AL14: 406538.64
A15: =+A14+1 -> 9 | B15: FILTRO DE AIRE EXTERNO | C15: 1 | D15: 910655.6 | E15: 1265000 | F15: 1323450 | G15: 510656 | H15: =+'678-2024 IPC'!H14 -> 415696.14 | I15: =+D15-G15 -> 399999.6 | J15: =+D15/IF($H15<>"",$H15,MIN($D15:$F15))-1 -> 1.1906761 | K15: =+E15/IF($H15<>"",$H15,MIN($D15:$F15))-1 -> 2.0430881 | L15: =+F15/IF($H15<>"",$H15,MIN($D15:$F15))-1 -> 2.1836956 | M15: =ROUND(GEOMEAN(D15:F15),0) -> 1150935 | N15: =ROUND(AVERAGE(D15:F15),0) -> 1166369 | O15: =ROUND(GEOMEAN(D15:I15),0) -> 711245 | P15: =ROUND(AVERAGE(D15:I15),0) -> 804243 | Q15: {=ROUND(GEOMEAN(SMALL(D15:I15,{1;2;3})),0)} -> 439529 | R15: {=ROUND(AVERAGE(SMALL(D15:I15,{1;2;3})),0)} -> 442117 | S15: {=ROUND(GEOMEAN(SMALL(D15:I15,{1;2})),0)} -> 407772 | T15: {=ROUND(AVERAGE(SMALL(D15:I15,{1;2})),0)} -> 407848 | U15: =+M15/IF($H15<>"",$H15,MIN($D15:$F15))-1 -> 1.768693 | V15: =+N15/IF($H15<>"",$H15,MIN($D15:$F15))-1 -> 1.8058211 | W15: =+O15/IF($H15<>"",$H15,MIN($D15:$F15))-1 -> 0.71097329 | X15: =+P15/IF($H15<>"",$H15,MIN($D15:$F15))-1 -> 0.93468958 | Y15: =+Q15/IF($H15<>"",$H15,MIN($D15:$F15))-1 -> 0.057332395 | Z15: =+R15/IF($H15<>"",$H15,MIN($D15:$F15))-1 -> 0.063558096 | AA15: =+S15/IF($H15<>"",$H15,MIN($D15:$F15))-1 -> -0.019062348 | AB15: =+T15/IF($H15<>"",$H15,MIN($D15:$F15))-1 -> -0.018879522 | AC15: {=MIN(IF(U15:AB15>0,U15:AB15))} -> 0.057332395 | AD15: =+IFERROR(_xlfn.XLOOKUP(AC15,U15:AB15,$U$3:$AB$3,,0),"Sin medida de tendencia central") -> MEDIA GEOMETRICA 3 más bajas | AE15: =+IFERROR(_xlfn.XLOOKUP(AD15,$M$3:$T$3,M15:T15,,0),"Pendiente") -> 439529 | AF15: =+AVERAGE(G15:H15) -> 463176.07 | AG15: PROMEDIO IPC - CAMIONAUTOS | AJ15: 910655.6 | AL15: 463176.07
A16: =+A15+1 -> 10 | B16: FILTRO DE COMBUSTIBLE PRIMARIO | C16: 1 | D16: 784706 | E16: 1310000 | F16: 1370700 | G16: 384706 | H16: =+'678-2024 IPC'!H15 -> 357016.08 | I16: =+D16-G16 -> 400000 | J16: =+D16/IF($H16<>"",$H16,MIN($D16:$F16))-1 -> 1.197957 | K16: =+E16/IF($H16<>"",$H16,MIN($D16:$F16))-1 -> 2.6693025 | L16: =+F16/IF($H16<>"",$H16,MIN($D16:$F16))-1 -> 2.8393228 | M16: =ROUND(GEOMEAN(D16:F16),0) -> 1121089 | N16: =ROUND(AVERAGE(D16:F16),0) -> 1155135 | O16: =ROUND(GEOMEAN(D16:I16),0) -> 652829 | P16: =ROUND(AVERAGE(D16:I16),0) -> 767855 | Q16: {=ROUND(GEOMEAN(SMALL(D16:I16,{1;2;3})),0)} -> 380153 | R16: {=ROUND(AVERAGE(SMALL(D16:I16,{1;2;3})),0)} -> 380574 | S16: {=ROUND(GEOMEAN(SMALL(D16:I16,{1;2})),0)} -> 370603 | T16: {=ROUND(AVERAGE(SMALL(D16:I16,{1;2})),0)} -> 370861 | U16: =+M16/IF($H16<>"",$H16,MIN($D16:$F16))-1 -> 2.1401639 | V16: =+N16/IF($H16<>"",$H16,MIN($D16:$F16))-1 -> 2.2355265 | W16: =+O16/IF($H16<>"",$H16,MIN($D16:$F16))-1 -> 0.82857029 | X16: =+P16/IF($H16<>"",$H16,MIN($D16:$F16))-1 -> 1.1507575 | Y16: =+Q16/IF($H16<>"",$H16,MIN($D16:$F16))-1 -> 0.064806375 | Z16: =+R16/IF($H16<>"",$H16,MIN($D16:$F16))-1 -> 0.065985594 | AA16: =+S16/IF($H16<>"",$H16,MIN($D16:$F16))-1 -> 0.03805688 | AB16: =+T16/IF($H16<>"",$H16,MIN($D16:$F16))-1 -> 0.038779537 | AC16: {=MIN(IF(U16:AB16>0,U16:AB16))} -> 0.03805688 | AD16: =+IFERROR(_xlfn.XLOOKUP(AC16,U16:AB16,$U$3:$AB$3,,0),"Sin medida de tendencia central") -> MEDIA GEOMETRICA 2 más bajos | AE16: =+IFERROR(_xlfn.XLOOKUP(AD16,$M$3:$T$3,M16:T16,,0),"Pendiente") -> 370603 | AF16: =+AVERAGE(G16:H16) -> 370861.04 | AG16: PROMEDIO IPC - CAMIONAUTOS | AJ16: 784706 | AL16: 370861.04
A17: =+A16+1 -> 11 | B17: FILTRO DE COMBUSTIBLE SECUNDARIO | C17: 1 | D17: 633100 | E17: 1310000 | F17: 1370700 | G17: 433100 | H17: =+'678-2024 IPC'!H16 -> 447723.39 | I17: =+D17-G17 -> 200000 | J17: =+D17/IF($H17<>"",$H17,MIN($D17:$F17))-1 -> 0.41404271 | K17: =+E17/IF($H17<>"",$H17,MIN($D17:$F17))-1 -> 1.9259137 | L17: =+F17/IF($H17<>"",$H17,MIN($D17:$F17))-1 -> 2.0614885 | M17: =ROUND(GEOMEAN(D17:F17),0) -> 1043667 | N17: =ROUND(AVERAGE(D17:F17),0) -> 1104600 | O17: =ROUND(GEOMEAN(D17:I17),0) -> 594364 | P17: =ROUND(AVERAGE(D17:I17),0) -> 732437 | Q17: {=ROUND(GEOMEAN(SMALL(D17:I17,{1;2;3})),0)} -> 338488 | R17: {=ROUND(AVERAGE(SMALL(D17:I17,{1;2;3})),0)} -> 360274 | S17: {=ROUND(GEOMEAN(SMALL(D17:I17,{1;2})),0)} -> 294313 | T17: {=ROUND(AVERAGE(SMALL(D17:I17,{1;2})),0)} -> 316550 | U17: =+M17/IF($H17<>"",$H17,MIN($D17:$F17))-1 -> 1.3310531 | V17: =+N17/IF($H17<>"",$H17,MIN($D17:$F17))-1 -> 1.4671483 | W17: =+O17/IF($H17<>"",$H17,MIN($D17:$F17))-1 -> 0.327525 | X17: =+P17/IF($H17<>"",$H17,MIN($D17:$F17))-1 -> 0.63591407 | Y17: =+Q17/IF($H17<>"",$H17,MIN($D17:$F17))-1 -> -0.24397964 | Z17: =+R17/IF($H17<>"",$H17,MIN($D17:$F17))-1 -> -0.19532013 | AA17: =+S17/IF($H17<>"",$H17,MIN($D17:$F17))-1 -> -0.34264547 | AB17: =+T17/IF($H17<>"",$H17,MIN($D17:$F17))-1 -> -0.29297865 | AC17: {=MIN(IF(U17:AB17>0,U17:AB17))} -> 0.327525 | AD17: =+IFERROR(_xlfn.XLOOKUP(AC17,U17:AB17,$U$3:$AB$3,,0),"Sin medida de tendencia central") -> MEDIA GEOMETRICA Cotizaciones e Histórico | AE17: =+IFERROR(_xlfn.XLOOKUP(AD17,$M$3:$T$3,M17:T17,,0),"Pendiente") -> 594364 | AF17: =+AVERAGE(G17:H17) -> 440411.7 | AG17: PROMEDIO IPC - CAMIONAUTOS | AJ17: 633100 | AL17: 440411.7
A18: =+A17+1 -> 12 | B18: ACEITE DE MOTOR SAE 15W40 Certificado (Galón) | C18: 1 | D18: 446508 | E18: 1370000 | F18: 1436100 | G18: 346508 | H18: =+'678-2024 IPC'!H17 -> 232636.29 | I18: =+D18-G18 -> 100000 | J18: =+D18/IF($H18<>"",$H18,MIN($D18:$F18))-1 -> 0.91933945 | K18: =+E18/IF($H18<>"",$H18,MIN($D18:$F18))-1 -> 4.8890211 | L18: =+F18/IF($H18<>"",$H18,MIN($D18:$F18))-1 -> 5.1731556 | M18: =ROUND(GEOMEAN(D18:F18),0) -> 957734 | N18: =ROUND(AVERAGE(D18:F18),0) -> 1084203 | O18: =ROUND(GEOMEAN(D18:I18),0) -> 438215 | P18: =ROUND(AVERAGE(D18:I18),0) -> 655292 | Q18: {=ROUND(GEOMEAN(SMALL(D18:I18,{1;2;3})),0)} -> 200507 | R18: {=ROUND(AVERAGE(SMALL(D18:I18,{1;2;3})),0)} -> 226381 | S18: {=ROUND(GEOMEAN(SMALL(D18:I18,{1;2})),0)} -> 152524 | T18: {=ROUND(AVERAGE(SMALL(D18:I18,{1;2})),0)} -> 166318 | U18: =+M18/IF($H18<>"",$H18,MIN($D18:$F18))-1 -> 3.1168728 | V18: =+N18/IF($H18<>"",$H18,MIN($D18:$F18))-1 -> 3.6605068 | W18: =+O18/IF($H18<>"",$H18,MIN($D18:$F18))-1 -> 0.88369153 | X18: =+P18/IF($H18<>"",$H18,MIN($D18:$F18))-1 -> 1.8168091 | Y18: =+Q18/IF($H18<>"",$H18,MIN($D18:$F18))-1 -> -0.13810952 | Z18: =+R18/IF($H18<>"",$H18,MIN($D18:$F18))-1 -> -0.026888693 | AA18: =+S18/IF($H18<>"",$H18,MIN($D18:$F18))-1 -> -0.34436711 | AB18: =+T18/IF($H18<>"",$H18,MIN($D18:$F18))-1 -> -0.28507284 | AC18: {=MIN(IF(U18:AB18>0,U18:AB18))} -> 0.88369153 | AD18: =+IFERROR(_xlfn.XLOOKUP(AC18,U18:AB18,$U$3:$AB$3,,0),"Sin medida de tendencia central") -> MEDIA GEOMETRICA Cotizaciones e Histórico | AE18: =+IFERROR(_xlfn.XLOOKUP(AD18,$M$3:$T$3,M18:T18,,0),"Pendiente") -> 438215 | AF18: =+AVERAGE(G18:H18) -> 289572.14 | AG18: PROMEDIO IPC - CAMIONAUTOS | AJ18: 446508 | AL18: 289572.14
A19: =+A18+1 -> 13 | B19: LAVADO DE MOTOR | C19: 1 | D19: 249972 | E19: 900000 | F19: 929000 | G19: 549972 | H19: =+'678-2024 IPC'!H18 -> 573638.74 | I19: =+D19-G19 -> -300000 | J19: =+D19/IF($H19<>"",$H19,MIN($D19:$F19))-1 -> -0.56423445 | K19: =+E19/IF($H19<>"",$H19,MIN($D19:$F19))-1 -> 0.56893169 | L19: =+F19/IF($H19<>"",$H19,MIN($D19:$F19))-1 -> 0.61948615 | M19: =ROUND(GEOMEAN(D19:F19),0) -> 593449 | N19: =ROUND(AVERAGE(D19:F19),0) -> 692991 | O19: =ROUND(GEOMEAN(D19:I19),0) -> #NUM! | P19: =ROUND(AVERAGE(D19:I19),0) -> 483764 | Q19: {=ROUND(GEOMEAN(SMALL(D19:I19,{1;2;3})),0)} -> #NUM! | R19: {=ROUND(AVERAGE(SMALL(D19:I19,{1;2;3})),0)} -> 166648 | S19: {=ROUND(GEOMEAN(SMALL(D19:I19,{1;2})),0)} -> #NUM! | T19: {=ROUND(AVERAGE(SMALL(D19:I19,{1;2})),0)} -> -25014 | U19: =+M19/IF($H19<>"",$H19,MIN($D19:$F19))-1 -> 0.034534378 | V19: =+N19/IF($H19<>"",$H19,MIN($D19:$F19))-1 -> 0.20806171 | W19: =+O19/IF($H19<>"",$H19,MIN($D19:$F19))-1 -> #NUM! | X19: =+P19/IF($H19<>"",$H19,MIN($D19:$F19))-1 -> -0.15667481 | Y19: =+Q19/IF($H19<>"",$H19,MIN($D19:$F19))-1 -> #NUM! | Z19: =+R19/IF($H19<>"",$H19,MIN($D19:$F19))-1 -> -0.70948964 | AA19: =+S19/IF($H19<>"",$H19,MIN($D19:$F19))-1 -> #NUM! | AB19: =+T19/IF($H19<>"",$H19,MIN($D19:$F19))-1 -> -1.0436058 | AC19: {=MIN(IF(U19:AB19>0,U19:AB19))} -> #NUM! | AD19: =+IFERROR(_xlfn.XLOOKUP(AC19,U19:AB19,$U$3:$AB$3,,0),"Sin medida de tendencia central") -> Sin medida de tendencia central | AE19: =+IFERROR(_xlfn.XLOOKUP(AD19,$M$3:$T$3,M19:T19,,0),"Pendiente") -> Pendiente | AF19: =+AVERAGE(G19:H19) -> 561805.37 | AG19: PROMEDIO IPC - CAMIONAUTOS | AJ19: 249972 | AL19: 561805.37
A20: =A19+1 -> 14 | B20: CALIBRACIÓN DE VÁLVULAS | C20: 1 | D20: 790958 | E20: 3250000 | F20: 3352500 | G20: 790958 | H20: =+'678-2024 IPC'!H19 -> 932958.15 | I20: =+D20-G20 -> 0 | J20: =+D20/IF($H20<>"",$H20,MIN($D20:$F20))-1 -> -0.15220421 | K20: =+E20/IF($H20<>"",$H20,MIN($D20:$F20))-1 -> 2.4835432 | L20: =+F20/IF($H20<>"",$H20,MIN($D20:$F20))-1 -> 2.5934088 | M20: =ROUND(GEOMEAN(D20:F20),0) -> 2050227 | N20: =ROUND(AVERAGE(D20:F20),0) -> 2464486 | O20: =ROUND(GEOMEAN(D20:I20),0) -> #NUM! | P20: =ROUND(AVERAGE(D20:I20),0) -> 1519562 | Q20: {=ROUND(GEOMEAN(SMALL(D20:I20,{1;2;3})),0)} -> #NUM! | R20: {=ROUND(AVERAGE(SMALL(D20:I20,{1;2;3})),0)} -> 527305 | S20: {=ROUND(GEOMEAN(SMALL(D20:I20,{1;2})),0)} -> #NUM! | T20: {=ROUND(AVERAGE(SMALL(D20:I20,{1;2})),0)} -> 395479 | U20: =+M20/IF($H20<>"",$H20,MIN($D20:$F20))-1 -> 1.1975552 | V20: =+N20/IF($H20<>"",$H20,MIN($D20:$F20))-1 -> 1.6415826 | W20: =+O20/IF($H20<>"",$H20,MIN($D20:$F20))-1 -> #NUM! | X20: =+P20/IF($H20<>"",$H20,MIN($D20:$F20))-1 -> 0.62875687 | Y20: =+Q20/IF($H20<>"",$H20,MIN($D20:$F20))-1 -> #NUM! | Z20: =+R20/IF($H20<>"",$H20,MIN($D20:$F20))-1 -> -0.43480316 | AA20: =+S20/IF($H20<>"",$H20,MIN($D20:$F20))-1 -> #NUM! | AB20: =+T20/IF($H20<>"",$H20,MIN($D20:$F20))-1 -> -0.5761021 | AC20: {=MIN(IF(U20:AB20>0,U20:AB20))} -> #NUM! | AD20: =+IFERROR(_xlfn.XLOOKUP(AC20,U20:AB20,$U$3:$AB$3,,0),"Sin medida de tendencia central") -> Sin medida de tendencia central | AE20: =+IFERROR(_xlfn.XLOOKUP(AD20,$M$3:$T$3,M20:T20,,0),"Pendiente") -> Pendiente | AF20: =+AVERAGE(G20:H20) -> 861958.08 | AG20: PROMEDIO IPC - CAMIONAUTOS | AJ20: 790958 | AL20: 861958.08
A21: 15 | B21: CAMBIO EMPAQUE DE BOQUILLA | C21: 1 | D21: 420224 | E21: 1325380 | F21: 1374941.4 | G21: 420224 | H21: =+'678-2024 IPC'!H20 -> 156626.41 | I21: =+D21-G21 -> 0 | J21: =+D21/IF($H21<>"",$H21,MIN($D21:$F21))-1 -> 1.6829703 | K21: =+E21/IF($H21<>"",$H21,MIN($D21:$F21))-1 -> 7.4620467 | L21: =+F21/IF($H21<>"",$H21,MIN($D21:$F21))-1 -> 7.7784774 | M21: =ROUND(GEOMEAN(D21:F21),0) -> 914889 | N21: =ROUND(AVERAGE(D21:F21),0) -> 1040182 | O21: =ROUND(GEOMEAN(D21:I21),0) -> #NUM! | P21: =ROUND(AVERAGE(D21:I21),0) -> 616233 | Q21: {=ROUND(GEOMEAN(SMALL(D21:I21,{1;2;3})),0)} -> #NUM! | R21: {=ROUND(AVERAGE(SMALL(D21:I21,{1;2;3})),0)} -> 192283 | S21: {=ROUND(GEOMEAN(SMALL(D21:I21,{1;2})),0)} -> #NUM! | T21: {=ROUND(AVERAGE(SMALL(D21:I21,{1;2})),0)} -> 78313 | U21: =+M21/IF($H21<>"",$H21,MIN($D21:$F21))-1 -> 4.841218 | V21: =+N21/IF($H21<>"",$H21,MIN($D21:$F21))-1 -> 5.6411661 | W21: =+O21/IF($H21<>"",$H21,MIN($D21:$F21))-1 -> #NUM! | X21: =+P21/IF($H21<>"",$H21,MIN($D21:$F21))-1 -> 2.9344131 | Y21: =+Q21/IF($H21<>"",$H21,MIN($D21:$F21))-1 -> #NUM! | Z21: =+R21/IF($H21<>"",$H21,MIN($D21:$F21))-1 -> 0.22765375 | AA21: =+S21/IF($H21<>"",$H21,MIN($D21:$F21))-1 -> #NUM! | AB21: =+T21/IF($H21<>"",$H21,MIN($D21:$F21))-1 -> -0.50000131 | AC21: {=MIN(IF(U21:AB21>0,U21:AB21))} -> #NUM! | AD21: =+IFERROR(_xlfn.XLOOKUP(AC21,U21:AB21,$U$3:$AB$3,,0),"Sin medida de tendencia central") -> Sin medida de tendencia central | AE21: =+IFERROR(_xlfn.XLOOKUP(AD21,$M$3:$T$3,M21:T21,,0),"Pendiente") -> Pendiente | AF21: =+AVERAGE(G21:H21) -> 288425.21 | AG21: PROMEDIO IPC - CAMIONAUTOS | AJ21: 420224 | AL21: 288425.21
B22: SISTEMA DE REFRIGERACIÓN MOTOR | I22: =+D22-G22 -> 0
A23: =A20+1 -> 15 | B23: REFRIGERANTE | C23: 1 | D23: 259578 | E23: 1000000 | F23: 1044000 | G23: 259578 | H23: =+'678-2024 IPC'!H22 -> 190847.31 | I23: =+D23-G23 -> 0 | J23: =+D23/IF($H23<>"",$H23,MIN($D23:$F23))-1 -> 0.36013447 | K23: =+E23/IF($H23<>"",$H23,MIN($D23:$F23))-1 -> 4.239791 | L23: =+F23/IF($H23<>"",$H23,MIN($D23:$F23))-1 -> 4.4703418 | M23: =ROUND(GEOMEAN(D23:F23),0) -> 647127 | N23: =ROUND(AVERAGE(D23:F23),0) -> 767859 | O23: =ROUND(GEOMEAN(D23:I23),0) -> #NUM! | P23: =ROUND(AVERAGE(D23:I23),0) -> 459001 | Q23: {=ROUND(GEOMEAN(SMALL(D23:I23,{1;2;3})),0)} -> #NUM! | R23: {=ROUND(AVERAGE(SMALL(D23:I23,{1;2;3})),0)} -> 150142 | S23: {=ROUND(GEOMEAN(SMALL(D23:I23,{1;2})),0)} -> #NUM! | T23: {=ROUND(AVERAGE(SMALL(D23:I23,{1;2})),0)} -> 95424 | U23: =+M23/IF($H23<>"",$H23,MIN($D23:$F23))-1 -> 2.3908102 | V23: =+N23/IF($H23<>"",$H23,MIN($D23:$F23))-1 -> 3.0234207 | W23: =+O23/IF($H23<>"",$H23,MIN($D23:$F23))-1 -> #NUM! | X23: =+P23/IF($H23<>"",$H23,MIN($D23:$F23))-1 -> 1.4050693 | Y23: =+Q23/IF($H23<>"",$H23,MIN($D23:$F23))-1 -> #NUM! | Z23: =+R23/IF($H23<>"",$H23,MIN($D23:$F23))-1 -> -0.2132873 | AA23: =+S23/IF($H23<>"",$H23,MIN($D23:$F23))-1 -> #NUM! | AB23: =+T23/IF($H23<>"",$H23,MIN($D23:$F23))-1 -> -0.49999818 | AC23: {=MIN(IF(U23:AB23>0,U23:AB23))} -> #NUM! | AD23: =+IFERROR(_xlfn.XLOOKUP(AC23,U23:AB23,$U$3:$AB$3,,0),"Sin medida de tendencia central") -> Sin medida de tendencia central | AE23: =+IFERROR(_xlfn.XLOOKUP(AD23,$M$3:$T$3,M23:T23,,0),"Pendiente") -> Pendiente | AF23: =+AVERAGE(G23:H23) -> 225212.65 | AG23: PROMEDIO IPC - CAMIONAUTOS | AJ23: 259578 | AL23: 225212.65
A24: =+A23+1 -> 16 | B24: MANTENIMIENTO INTERCOOLER | C24: 1 | D24: 929888 | E24: 5990000 | F24: 6193500 | G24: 929888 | H24: =+'678-2024 IPC'!H23 -> 1940061.6 | I24: =+D24-G24 -> 0 | J24: =+D24/IF($H24<>"",$H24,MIN($D24:$F24))-1 -> -0.5206915 | K24: =+E24/IF($H24<>"",$H24,MIN($D24:$F24))-1 -> 2.0875309 | L24: =+F24/IF($H24<>"",$H24,MIN($D24:$F24))-1 -> 2.1924244 | M24: =ROUND(GEOMEAN(D24:F24),0) -> 3255351 | N24: =ROUND(AVERAGE(D24:F24),0) -> 4371129 | O24: =ROUND(GEOMEAN(D24:I24),0) -> #NUM! | P24: =ROUND(AVERAGE(D24:I24),0) -> 2663890 | Q24: {=ROUND(GEOMEAN(SMALL(D24:I24,{1;2;3})),0)} -> #NUM! | R24: {=ROUND(AVERAGE(SMALL(D24:I24,{1;2;3})),0)} -> 619925 | S24: {=ROUND(GEOMEAN(SMALL(D24:I24,{1;2})),0)} -> #NUM! | T24: {=ROUND(AVERAGE(SMALL(D24:I24,{1;2})),0)} -> 464944 | U24: =+M24/IF($H24<>"",$H24,MIN($D24:$F24))-1 -> 0.67796271 | V24: =+N24/IF($H24<>"",$H24,MIN($D24:$F24))-1 -> 1.2530878 | W24: =+O24/IF($H24<>"",$H24,MIN($D24:$F24))-1 -> #NUM! | X24: =+P24/IF($H24<>"",$H24,MIN($D24:$F24))-1 -> 0.37309559 | Y24: =+Q24/IF($H24<>"",$H24,MIN($D24:$F24))-1 -> #NUM! | Z24: =+R24/IF($H24<>"",$H24,MIN($D24:$F24))-1 -> -0.68046117 | AA24: =+S24/IF($H24<>"",$H24,MIN($D24:$F24))-1 -> #NUM! | AB24: =+T24/IF($H24<>"",$H24,MIN($D24:$F24))-1 -> -0.76034575 | AC24: {=MIN(IF(U24:AB24>0,U24:AB24))} -> #NUM! | AD24: =+IFERROR(_xlfn.XLOOKUP(AC24,U24:AB24,$U$3:$AB$3,,0),"Sin medida de tendencia central") -> Sin medida de tendencia central | AE24: =+IFERROR(_xlfn.XLOOKUP(AD24,$M$3:$T$3,M24:T24,,0),"Pendiente") -> Pendiente | AF24: =+AVERAGE(G24:H24) -> 1434974.8 | AG24: PROMEDIO IPC - CAMIONAUTOS | AJ24: 929888 | AL24: 1434974.8
A25: =+A24+1 -> 17 | B25: MANGUERAS DE RADIADOR | C25: 1 | D25: 596232 | E25: 3950000 | F25: 4116500 | G25: 596232 | H25: =+'678-2024 IPC'!H24 -> 647454.97 | I25: =+D25-G25 -> 0 | J25: =+D25/IF($H25<>"",$H25,MIN($D25:$F25))-1 -> -0.079114337 | K25: =+E25/IF($H25<>"",$H25,MIN($D25:$F25))-1 -> 5.1008104 | L25: =+F25/IF($H25<>"",$H25,MIN($D25:$F25))-1 -> 5.3579711 | M25: =ROUND(GEOMEAN(D25:F25),0) -> 2132293 | N25: =ROUND(AVERAGE(D25:F25),0) -> 2887577 | O25: =ROUND(GEOMEAN(D25:I25),0) -> #NUM! | P25: =ROUND(AVERAGE(D25:I25),0) -> 1651070 | Q25: {=ROUND(GEOMEAN(SMALL(D25:I25,{1;2;3})),0)} -> #NUM! | R25: {=ROUND(AVERAGE(SMALL(D25:I25,{1;2;3})),0)} -> 397488 | S25: {=ROUND(GEOMEAN(SMALL(D25:I25,{1;2})),0)} -> #NUM! | T25: {=ROUND(AVERAGE(SMALL(D25:I25,{1;2})),0)} -> 298116 | U25: =+M25/IF($H25<>"",$H25,MIN($D25:$F25))-1 -> 2.2933456 | V25: =+N25/IF($H25<>"",$H25,MIN($D25:$F25))-1 -> 3.4598885 | W25: =+O25/IF($H25<>"",$H25,MIN($D25:$F25))-1 -> #NUM! | X25: =+P25/IF($H25<>"",$H25,MIN($D25:$F25))-1 -> 1.5500924 | Y25: =+Q25/IF($H25<>"",$H25,MIN($D25:$F25))-1 -> #NUM! | Z25: =+R25/IF($H25<>"",$H25,MIN($D25:$F25))-1 -> -0.38607622 | AA25: =+S25/IF($H25<>"",$H25,MIN($D25:$F25))-1 -> #NUM! | AB25: =+T25/IF($H25<>"",$H25,MIN($D25:$F25))-1 -> -0.53955717 | AC25: {=MIN(IF(U25:AB25>0,U25:AB25))} -> #NUM! | AD25: =+IFERROR(_xlfn.XLOOKUP(AC25,U25:AB25,$U$3:$AB$3,,0),"Sin medida de tendencia central") -> Sin medida de tendencia central | AE25: =+IFERROR(_xlfn.XLOOKUP(AD25,$M$3:$T$3,M25:T25,,0),"Pendiente") -> Pendiente | AF25: =+AVERAGE(G25:H25) -> 621843.49 | AG25: PROMEDIO IPC - CAMIONAUTOS | AJ25: 596232 | AL25: 621843.49
A26: =+A25+1 -> 18 | B26: BOMBA DE AGUA | C26: 1 | D26: 2554300 | E26: 10750000 | F26: 11242500 | G26: 2554300 | I26: =+D26-G26 -> 0 | J26: =+D26/IF($H26<>"",$H26,MIN($D26:$F26))-1 -> 0 | K26: =+E26/IF($H26<>"",$H26,MIN($D26:$F26))-1 -> 3.2085894 | L26: =+F26/IF($H26<>"",$H26,MIN($D26:$F26))-1 -> 3.4014016 | M26: =ROUND(GEOMEAN(D26:F26),0) -> 6758460 | N26: =ROUND(AVERAGE(D26:F26),0) -> 8182267 | O26: =ROUND(GEOMEAN(D26:I26),0) -> #NUM! | P26: =ROUND(AVERAGE(D26:I26),0) -> 5420220 | Q26: {=ROUND(GEOMEAN(SMALL(D26:I26,{1;2;3})),0)} -> #NUM! | R26: {=ROUND(AVERAGE(SMALL(D26:I26,{1;2;3})),0)} -> 1702867 | S26: {=ROUND(GEOMEAN(SMALL(D26:I26,{1;2})),0)} -> #NUM! | T26: {=ROUND(AVERAGE(SMALL(D26:I26,{1;2})),0)} -> 1277150 | U26: =+M26/IF($H26<>"",$H26,MIN($D26:$F26))-1 -> 1.6459147 | V26: =+N26/IF($H26<>"",$H26,MIN($D26:$F26))-1 -> 2.2033305 | W26: =+O26/IF($H26<>"",$H26,MIN($D26:$F26))-1 -> #NUM! | X26: =+P26/IF($H26<>"",$H26,MIN($D26:$F26))-1 -> 1.1219982 | Y26: =+Q26/IF($H26<>"",$H26,MIN($D26:$F26))-1 -> #NUM! | Z26: =+R26/IF($H26<>"",$H26,MIN($D26:$F26))-1 -> -0.3333332 | AA26: =+S26/IF($H26<>"",$H26,MIN($D26:$F26))-1 -> #NUM! | AB26: =+T26/IF($H26<>"",$H26,MIN($D26:$F26))-1 -> -0.5 | AC26: {=MIN(IF(U26:AB26>0,U26:AB26))} -> #NUM! | AD26: =+IFERROR(_xlfn.XLOOKUP(AC26,U26:AB26,$U$3:$AB$3,,0),"Sin medida de tendencia central") -> Sin medida de tendencia central | AE26: =+IFERROR(_xlfn.XLOOKUP(AD26,$M$3:$T$3,M26:T26,,0),"Pendiente") -> Pendiente | AF26: =+AVERAGE(G26:H26) -> 2554300 | AG26: MENOR VALOR -SOLO LA DE CAMIONAUTOS | AJ26: 2554300 | AL26: 2554300
A27: =+A26+1 -> 19 | B27: ACOPLE MANGUERA | C27: 1 | D27: 261268 | E27: 2420000 | F27: 2529000 | G27: 261268 | I27: =+D27-G27 -> 0 | J27: =+D27/IF($H27<>"",$H27,MIN($D27:$F27))-1 -> 0 | K27: =+E27/IF($H27<>"",$H27,MIN($D27:$F27))-1 -> 8.2625197 | L27: =+F27/IF($H27<>"",$H27,MIN($D27:$F27))-1 -> 8.6797158 | M27: =ROUND(GEOMEAN(D27:F27),0) -> 1169365 | N27: =ROUND(AVERAGE(D27:F27),0) -> 1736756 | O27: =ROUND(GEOMEAN(D27:I27),0) -> #NUM! | P27: =ROUND(AVERAGE(D27:I27),0) -> 1094307 | Q27: {=ROUND(GEOMEAN(SMALL(D27:I27,{1;2;3})),0)} -> #NUM! | R27: {=ROUND(AVERAGE(SMALL(D27:I27,{1;2;3})),0)} -> 174179 | S27: {=ROUND(GEOMEAN(SMALL(D27:I27,{1;2})),0)} -> #NUM! | T27: {=ROUND(AVERAGE(SMALL(D27:I27,{1;2})),0)} -> 130634 | U27: =+M27/IF($H27<>"",$H27,MIN($D27:$F27))-1 -> 3.4757299 | V27: =+N27/IF($H27<>"",$H27,MIN($D27:$F27))-1 -> 5.6474119 | W27: =+O27/IF($H27<>"",$H27,MIN($D27:$F27))-1 -> #NUM! | X27: =+P27/IF($H27<>"",$H27,MIN($D27:$F27))-1 -> 3.1884463 | Y27: =+Q27/IF($H27<>"",$H27,MIN($D27:$F27))-1 -> #NUM! | Z27: =+R27/IF($H27<>"",$H27,MIN($D27:$F27))-1 -> -0.33333206 | AA27: =+S27/IF($H27<>"",$H27,MIN($D27:$F27))-1 -> #NUM! | AB27: =+T27/IF($H27<>"",$H27,MIN($D27:$F27))-1 -> -0.5 | AC27: {=MIN(IF(U27:AB27>0,U27:AB27))} -> #NUM! | AD27: =+IFERROR(_xlfn.XLOOKUP(AC27,U27:AB27,$U$3:$AB$3,,0),"Sin medida de tendencia central") -> Sin medida de tendencia central | AE27: =+IFERROR(_xlfn.XLOOKUP(AD27,$M$3:$T$3,M27:T27,,0),"Pendiente") -> Pendiente | AF27: =+AVERAGE(G27:H27) -> 261268 | AG27: MENOR VALOR -SOLO LA DE CAMIONAUTOS | AJ27: 261268 | AL27: 261268
A28: =+A27+1 -> 20 | B28: ORING BOMBA DE AGUA | C28: 1 | D28: 552482 | E28: 730000 | F28: 761700 | G28: 552482 | I28: =+D28-G28 -> 0 | J28: =+D28/IF($H28<>"",$H28,MIN($D28:$F28))-1 -> 0 | K28: =+E28/IF($H28<>"",$H28,MIN($D28:$F28))-1 -> 0.32131002 | L28: =+F28/IF($H28<>"",$H28,MIN($D28:$F28))-1 -> 0.37868745 | M28: =ROUND(GEOMEAN(D28:F28),0) -> 674748 | N28: =ROUND(AVERAGE(D28:F28),0) -> 681394 | O28: =ROUND(GEOMEAN(D28:I28),0) -> #NUM! | P28: =ROUND(AVERAGE(D28:I28),0) -> 519333 | Q28: {=ROUND(GEOMEAN(SMALL(D28:I28,{1;2;3})),0)} -> #NUM! | R28: {=ROUND(AVERAGE(SMALL(D28:I28,{1;2;3})),0)} -> 368321 | S28: {=ROUND(GEOMEAN(SMALL(D28:I28,{1;2})),0)} -> #NUM! | T28: {=ROUND(AVERAGE(SMALL(D28:I28,{1;2})),0)} -> 276241 | U28: =+M28/IF($H28<>"",$H28,MIN($D28:$F28))-1 -> 0.22130314 | V28: =+N28/IF($H28<>"",$H28,MIN($D28:$F28))-1 -> 0.23333249 | W28: =+O28/IF($H28<>"",$H28,MIN($D28:$F28))-1 -> #NUM! | X28: =+P28/IF($H28<>"",$H28,MIN($D28:$F28))-1 -> -0.060000145 | Y28: =+Q28/IF($H28<>"",$H28,MIN($D28:$F28))-1 -> #NUM! | Z28: =+R28/IF($H28<>"",$H28,MIN($D28:$F28))-1 -> -0.33333394 | AA28: =+S28/IF($H28<>"",$H28,MIN($D28:$F28))-1 -> #NUM! | AB28: =+T28/IF($H28<>"",$H28,MIN($D28:$F28))-1 -> -0.5 | AC28: {=MIN(IF(U28:AB28>0,U28:AB28))} -> #NUM! | AD28: =+IFERROR(_xlfn.XLOOKUP(AC28,U28:AB28,$U$3:$AB$3,,0),"Sin medida de tendencia central") -> Sin medida de tendencia central | AE28: =+IFERROR(_xlfn.XLOOKUP(AD28,$M$3:$T$3,M28:T28,,0),"Pendiente") -> Pendiente | AF28: =+AVERAGE(G28:H28) -> 552482 | AG28: MENOR VALOR -SOLO LA DE CAMIONAUTOS | AJ28: 552482 | AL28: 552482
B29: SISTEMA DE AIRE | I29: =+D29-G29 -> 0
A30: =+A28+1 -> 21 | B30: EMPAQUETADURA COMPRESOR | C30: 1 | D30: 835450 | E30: 4150000 | F30: 4324500 | G30: 835450 | H30: =+'678-2024 IPC'!H29 -> 1570103 | I30: =+D30-G30 -> 0 | J30: =+D30/IF($H30<>"",$H30,MIN($D30:$F30))-1 -> -0.46790114 | K30: =+E30/IF($H30<>"",$H30,MIN($D30:$F30))-1 -> 1.6431387 | L30: =+F30/IF($H30<>"",$H30,MIN($D30:$F30))-1 -> 1.7542779 | M30: =ROUND(GEOMEAN(D30:F30),0) -> 2465859 | N30: =ROUND(AVERAGE(D30:F30),0) -> 3103317 | O30: =ROUND(GEOMEAN(D30:I30),0) -> #NUM! | P30: =ROUND(AVERAGE(D30:I30),0) -> 1952584 | Q30: {=ROUND(GEOMEAN(SMALL(D30:I30,{1;2;3})),0)} -> #NUM! | R30: {=ROUND(AVERAGE(SMALL(D30:I30,{1;2;3})),0)} -> 556967 | S30: {=ROUND(GEOMEAN(SMALL(D30:I30,{1;2})),0)} -> #NUM! | T30: {=ROUND(AVERAGE(SMALL(D30:I30,{1;2})),0)} -> 417725 | U30: =+M30/IF($H30<>"",$H30,MIN($D30:$F30))-1 -> 0.57050781 | V30: =+N30/IF($H30<>"",$H30,MIN($D30:$F30))-1 -> 0.97650538 | W30: =+O30/IF($H30<>"",$H30,MIN($D30:$F30))-1 -> #NUM! | X30: =+P30/IF($H30<>"",$H30,MIN($D30:$F30))-1 -> 0.2436025 | Y30: =+Q30/IF($H30<>"",$H30,MIN($D30:$F30))-1 -> #NUM! | Z30: =+R30/IF($H30<>"",$H30,MIN($D30:$F30))-1 -> -0.64526722 | AA30: =+S30/IF($H30<>"",$H30,MIN($D30:$F30))-1 -> #NUM! | AB30: =+T30/IF($H30<>"",$H30,MIN($D30:$F30))-1 -> -0.73395057 | AC30: {=MIN(IF(U30:AB30>0,U30:AB30))} -> #NUM! | AD30: =+IFERROR(_xlfn.XLOOKUP(AC30,U30:AB30,$U$3:$AB$3,,0),"Sin medida de tendencia central") -> Sin medida de tendencia central | AE30: =+IFERROR(_xlfn.XLOOKUP(AD30,$M$3:$T$3,M30:T30,,0),"Pendiente") -> Pendiente | AF30: =+AVERAGE(G30:H30) -> 1202776.5 | AG30: PROMEDIO IPC - CAMIONAUTOS | AJ30: 835450 | AL30: 1202776.5
A31: =A30+1 -> 22 | B31: VALVULA GOBERNADOR | C31: 1 | D31: 1062712 | E31: 5200000 | F31: 5436000 | G31: 1062712 | H31: =+'678-2024 IPC'!H30 -> 990102.66 | I31: =+D31-G31 -> 0 | J31: =+D31/IF($H31<>"",$H31,MIN($D31:$F31))-1 -> 0.073335159 | K31: =+E31/IF($H31<>"",$H31,MIN($D31:$F31))-1 -> 4.2519806 | L31: =+F31/IF($H31<>"",$H31,MIN($D31:$F31))-1 -> 4.4903397 | M31: =ROUND(GEOMEAN(D31:F31),0) -> 3108609 | N31: =ROUND(AVERAGE(D31:F31),0) -> 3899571 | O31: =ROUND(GEOMEAN(D31:I31),0) -> #NUM! | P31: =ROUND(AVERAGE(D31:I31),0) -> 2291921 | Q31: {=ROUND(GEOMEAN(SMALL(D31:I31,{1;2;3})),0)} -> #NUM! | R31: {=ROUND(AVERAGE(SMALL(D31:I31,{1;2;3})),0)} -> 684272 | S31: {=ROUND(GEOMEAN(SMALL(D31:I31,{1;2})),0)} -> #NUM! | T31: {=ROUND(AVERAGE(SMALL(D31:I31,{1;2})),0)} -> 495051 | U31: =+M31/IF($H31<>"",$H31,MIN($D31:$F31))-1 -> 2.1396835 | V31: =+N31/IF($H31<>"",$H31,MIN($D31:$F31))-1 -> 2.9385522 | W31: =+O31/IF($H31<>"",$H31,MIN($D31:$F31))-1 -> #NUM! | X31: =+P31/IF($H31<>"",$H31,MIN($D31:$F31))-1 -> 1.3148317 | Y31: =+Q31/IF($H31<>"",$H31,MIN($D31:$F31))-1 -> #NUM! | Z31: =+R31/IF($H31<>"",$H31,MIN($D31:$F31))-1 -> -0.30888783 | AA31: =+S31/IF($H31<>"",$H31,MIN($D31:$F31))-1 -> #NUM! | AB31: =+T31/IF($H31<>"",$H31,MIN($D31:$F31))-1 -> -0.50000034 | AC31: {=MIN(IF(U31:AB31>0,U31:AB31))} -> #NUM! | AD31: =+IFERROR(_xlfn.XLOOKUP(AC31,U31:AB31,$U$3:$AB$3,,0),"Sin medida de tendencia central") -> Sin medida de tendencia central | AE31: =+IFERROR(_xlfn.XLOOKUP(AD31,$M$3:$T$3,M31:T31,,0),"Pendiente") -> Pendiente | AF31: =+AVERAGE(G31:H31) -> 1026407.3 | AG31: PROMEDIO IPC - CAMIONAUTOS | AJ31: 1062712 | AL31: 1026407.3
B32: SISTEMA ELÉCTRICO | I32: =+D32-G32 -> 0
A33: =A31+1 -> 23 | B33: ALTERNADOR | C33: 1 | D33: 3268300 | E33: 18480000 | F33: 19320000 | G33: 4268300 | H33: =+'678-2024 IPC'!H32 -> 2934990.3 | I33: =+D33-G33 -> -1000000 | J33: =+D33/IF($H33<>"",$H33,MIN($D33:$F33))-1 -> 0.11356417 | K33: =+E33/IF($H33<>"",$H33,MIN($D33:$F33))-1 -> 5.2964434 | L33: =+F33/IF($H33<>"",$H33,MIN($D33:$F33))-1 -> 5.5826453 | M33: =ROUND(GEOMEAN(D33:F33),0) -> 10527946 | N33: =ROUND(AVERAGE(D33:F33),0) -> 13689433 | O33: =ROUND(GEOMEAN(D33:I33),0) -> #NUM! | P33: =ROUND(AVERAGE(D33:I33),0) -> 7878598 | Q33: {=ROUND(GEOMEAN(SMALL(D33:I33,{1;2;3})),0)} -> #NUM! | R33: {=ROUND(AVERAGE(SMALL(D33:I33,{1;2;3})),0)} -> 1734430 | S33: {=ROUND(GEOMEAN(SMALL(D33:I33,{1;2})),0)} -> #NUM! | T33: {=ROUND(AVERAGE(SMALL(D33:I33,{1;2})),0)} -> 967495 | U33: =+M33/IF($H33<>"",$H33,MIN($D33:$F33))-1 -> 2.5870463 | V33: =+N33/IF($H33<>"",$H33,MIN($D33:$F33))-1 -> 3.6642175 | W33: =+O33/IF($H33<>"",$H33,MIN($D33:$F33))-1 -> #NUM! | X33: =+P33/IF($H33<>"",$H33,MIN($D33:$F33))-1 -> 1.6843694 | Y33: =+Q33/IF($H33<>"",$H33,MIN($D33:$F33))-1 -> #NUM! | Z33: =+R33/IF($H33<>"",$H33,MIN($D33:$F33))-1 -> -0.40905085 | AA33: =+S33/IF($H33<>"",$H33,MIN($D33:$F33))-1 -> #NUM! | AB33: =+T33/IF($H33<>"",$H33,MIN($D33:$F33))-1 -> -0.67035836 | AC33: {=MIN(IF(U33:AB33>0,U33:AB33))} -> #NUM! | AD33: =+IFERROR(_xlfn.XLOOKUP(AC33,U33:AB33,$U$3:$AB$3,,0),"Sin medida de tendencia central") -> Sin medida de tendencia central | AE33: =+IFERROR(_xlfn.XLOOKUP(AD33,$M$3:$T$3,M33:T33,,0),"Pendiente") -> Pendiente | AF33: =+AVERAGE(G33:H33) -> 3601645.1 | AG33: PROMEDIO IPC - CAMIONAUTOS | AJ33: 3268300 | AL33: 3601645.1
A34: =+A33+1 -> 24 | B34: REGULADOR ALTERNADOR | C34: 1 | D34: 809872 | E34: 4350000 | F34: 4538500 | G34: 809872 | H34: =+'678-2024 IPC'!H33 -> 624750.72 | I34: =+D34-G34 -> 0 | J34: =+D34/IF($H34<>"",$H34,MIN($D34:$F34))-1 -> 0.29631223 | K34: =+E34/IF($H34<>"",$H34,MIN($D34:$F34))-1 -> 5.9627771 | L34: =+F34/IF($H34<>"",$H34,MIN($D34:$F34))-1 -> 6.2644974 | M34: =ROUND(GEOMEAN(D34:F34),0) -> 2519258 | N34: =ROUND(AVERAGE(D34:F34),0) -> 3232791 | O34: =ROUND(GEOMEAN(D34:I34),0) -> #NUM! | P34: =ROUND(AVERAGE(D34:I34),0) -> 1855499 | Q34: {=ROUND(GEOMEAN(SMALL(D34:I34,{1;2;3})),0)} -> #NUM! | R34: {=ROUND(AVERAGE(SMALL(D34:I34,{1;2;3})),0)} -> 478208 | S34: {=ROUND(GEOMEAN(SMALL(D34:I34,{1;2})),0)} -> #NUM! | T34: {=ROUND(AVERAGE(SMALL(D34:I34,{1;2})),0)} -> 312375 | U34: =+M34/IF($H34<>"",$H34,MIN($D34:$F34))-1 -> 3.0324211 | V34: =+N34/IF($H34<>"",$H34,MIN($D34:$F34))-1 -> 4.1745294 | W34: =+O34/IF($H34<>"",$H34,MIN($D34:$F34))-1 -> #NUM! | X34: =+P34/IF($H34<>"",$H34,MIN($D34:$F34))-1 -> 1.969983 | Y34: =+Q34/IF($H34<>"",$H34,MIN($D34:$F34))-1 -> #NUM! | Z34: =+R34/IF($H34<>"",$H34,MIN($D34:$F34))-1 -> -0.23456191 | AA34: =+S34/IF($H34<>"",$H34,MIN($D34:$F34))-1 -> #NUM! | AB34: =+T34/IF($H34<>"",$H34,MIN($D34:$F34))-1 -> -0.50000058 | AC34: {=MIN(IF(U34:AB34>0,U34:AB34))} -> #NUM! | AD34: =+IFERROR(_xlfn.XLOOKUP(AC34,U34:AB34,$U$3:$AB$3,,0),"Sin medida de tendencia central") -> Sin medida de tendencia central | AE34: =+IFERROR(_xlfn.XLOOKUP(AD34,$M$3:$T$3,M34:T34,,0),"Pendiente") -> Pendiente | AF34: =+AVERAGE(G34:H34) -> 717311.36 | AG34: PROMEDIO IPC - CAMIONAUTOS | AJ34: 809872 | AL34: 717311.36
A35: =+A34+1 -> 25 | B35: REVISIÓN/REPARACIÓN MOTOR DE ARRANQUE | C35: 1 | D35: 894250 | E35: 7700000 | F35: 7945000 | G35: 894250 | H35: =+'678-2024 IPC'!H34 -> 2210209.2 | I35: =+D35-G35 -> 0 | J35: =+D35/IF($H35<>"",$H35,MIN($D35:$F35))-1 -> -0.5954003 | K35: =+E35/IF($H35<>"",$H35,MIN($D35:$F35))-1 -> 2.4838331 | L35: =+F35/IF($H35<>"",$H35,MIN($D35:$F35))-1 -> 2.5946823 | M35: =ROUND(GEOMEAN(D35:F35),0) -> 3796189 | N35: =ROUND(AVERAGE(D35:F35),0) -> 5513083 | O35: =ROUND(GEOMEAN(D35:I35),0) -> #NUM! | P35: =ROUND(AVERAGE(D35:I35),0) -> 3273952 | Q35: {=ROUND(GEOMEAN(SMALL(D35:I35,{1;2;3})),0)} -> #NUM! | R35: {=ROUND(AVERAGE(SMALL(D35:I35,{1;2;3})),0)} -> 596167 | S35: {=ROUND(GEOMEAN(SMALL(D35:I35,{1;2})),0)} -> #NUM! | T35: {=ROUND(AVERAGE(SMALL(D35:I35,{1;2})),0)} -> 447125 | U35: =+M35/IF($H35<>"",$H35,MIN($D35:$F35))-1 -> 0.71756996 | V35: =+N35/IF($H35<>"",$H35,MIN($D35:$F35))-1 -> 1.4943715 | W35: =+O35/IF($H35<>"",$H35,MIN($D35:$F35))-1 -> #NUM! | X35: =+P35/IF($H35<>"",$H35,MIN($D35:$F35))-1 -> 0.481286 | Y35: =+Q35/IF($H35<>"",$H35,MIN($D35:$F35))-1 -> #NUM! | Z35: =+R35/IF($H35<>"",$H35,MIN($D35:$F35))-1 -> -0.73026671 | AA35: =+S35/IF($H35<>"",$H35,MIN($D35:$F35))-1 -> #NUM! | AB35: =+T35/IF($H35<>"",$H35,MIN($D35:$F35))-1 -> -0.79770015 | AC35: {=MIN(IF(U35:AB35>0,U35:AB35))} -> #NUM! | AD35: =+IFERROR(_xlfn.XLOOKUP(AC35,U35:AB35,$U$3:$AB$3,,0),"Sin medida de tendencia central") -> Sin medida de tendencia central | AE35: =+IFERROR(_xlfn.XLOOKUP(AD35,$M$3:$T$3,M35:T35,,0),"Pendiente") -> Pendiente | AF35: =+AVERAGE(G35:H35) -> 1552229.6 | AG35: PROMEDIO IPC - CAMIONAUTOS | AJ35: 894250 | AL35: 1552229.6
A36: =+A35+1 -> 26 | B36: MOTOR DE ARRANQUE | C36: 1 | D36: 4007220 | E36: 17860000 | F36: 18729000 | G36: 4007220 | H36: =+'678-2024 IPC'!H35 -> 4470543.3 | I36: =+D36-G36 -> 0 | J36: =+D36/IF($H36<>"",$H36,MIN($D36:$F36))-1 -> -0.10363915 | K36: =+E36/IF($H36<>"",$H36,MIN($D36:$F36))-1 -> 2.9950401 | L36: =+F36/IF($H36<>"",$H36,MIN($D36:$F36))-1 -> 3.1894237 | M36: =ROUND(GEOMEAN(D36:F36),0) -> 11025875 | N36: =ROUND(AVERAGE(D36:F36),0) -> 13532073 | O36: =ROUND(GEOMEAN(D36:I36),0) -> #NUM! | P36: =ROUND(AVERAGE(D36:I36),0) -> 8178997 | Q36: {=ROUND(GEOMEAN(SMALL(D36:I36,{1;2;3})),0)} -> #NUM! | R36: {=ROUND(AVERAGE(SMALL(D36:I36,{1;2;3})),0)} -> 2671480 | S36: {=ROUND(GEOMEAN(SMALL(D36:I36,{1;2})),0)} -> #NUM! | T36: {=ROUND(AVERAGE(SMALL(D36:I36,{1;2})),0)} -> 2003610 | U36: =+M36/IF($H36<>"",$H36,MIN($D36:$F36))-1 -> 1.4663389 | V36: =+N36/IF($H36<>"",$H36,MIN($D36:$F36))-1 -> 2.0269415 | W36: =+O36/IF($H36<>"",$H36,MIN($D36:$F36))-1 -> #NUM! | X36: =+P36/IF($H36<>"",$H36,MIN($D36:$F36))-1 -> 0.82953087 | Y36: =+Q36/IF($H36<>"",$H36,MIN($D36:$F36))-1 -> #NUM! | Z36: =+R36/IF($H36<>"",$H36,MIN($D36:$F36))-1 -> -0.4024261 | AA36: =+S36/IF($H36<>"",$H36,MIN($D36:$F36))-1 -> #NUM! | AB36: =+T36/IF($H36<>"",$H36,MIN($D36:$F36))-1 -> -0.55181958 | AC36: {=MIN(IF(U36:AB36>0,U36:AB36))} -> #NUM! | AD36: =+IFERROR(_xlfn.XLOOKUP(AC36,U36:AB36,$U$3:$AB$3,,0),"Sin medida de tendencia central") -> Sin medida de tendencia central | AE36: =+IFERROR(_xlfn.XLOOKUP(AD36,$M$3:$T$3,M36:T36,,0),"Pendiente") -> Pendiente | AF36: =+AVERAGE(G36:H36) -> 4238881.7 | AG36: PROMEDIO IPC - CAMIONAUTOS | AJ36: 4007220 | AL36: 4238881.7
A37: =A36+1 -> 27 | B37: BOMBILLOS STOP | C37: 1 | D37: 153958 | E37: 490000 | F37: 509700 | G37: 153958 | H37: =+'678-2024 IPC'!H36 -> 42995.485 | I37: =+D37-G37 -> 0 | J37: =+D37/IF($H37<>"",$H37,MIN($D37:$F37))-1 -> 2.5807946 | K37: =+E37/IF($H37<>"",$H37,MIN($D37:$F37))-1 -> 10.396545 | L37: =+F37/IF($H37<>"",$H37,MIN($D37:$F37))-1 -> 10.854733 | M37: =ROUND(GEOMEAN(D37:F37),0) -> 337524 | N37: =ROUND(AVERAGE(D37:F37),0) -> 384553 | O37: =ROUND(GEOMEAN(D37:I37),0) -> #NUM! | P37: =ROUND(AVERAGE(D37:I37),0) -> 225102 | Q37: {=ROUND(GEOMEAN(SMALL(D37:I37,{1;2;3})),0)} -> #NUM! | R37: {=ROUND(AVERAGE(SMALL(D37:I37,{1;2;3})),0)} -> 65651 | S37: {=ROUND(GEOMEAN(SMALL(D37:I37,{1;2})),0)} -> #NUM! | T37: {=ROUND(AVERAGE(SMALL(D37:I37,{1;2})),0)} -> 21498 | U37: =+M37/IF($H37<>"",$H37,MIN($D37:$F37))-1 -> 6.8502196 | V37: =+N37/IF($H37<>"",$H37,MIN($D37:$F37))-1 -> 7.9440321 | W37: =+O37/IF($H37<>"",$H37,MIN($D37:$F37))-1 -> #NUM! | X37: =+P37/IF($H37<>"",$H37,MIN($D37:$F37))-1 -> 4.2354799 | Y37: =+Q37/IF($H37<>"",$H37,MIN($D37:$F37))-1 -> #NUM! | Z37: =+R37/IF($H37<>"",$H37,MIN($D37:$F37))-1 -> 0.52692777 | AA37: =+S37/IF($H37<>"",$H37,MIN($D37:$F37))-1 -> #NUM! | AB37: =+T37/IF($H37<>"",$H37,MIN($D37:$F37))-1 -> -0.49999401 | AC37: {=MIN(IF(U37:AB37>0,U37:AB37))} -> #NUM! | AD37: =+IFERROR(_xlfn.XLOOKUP(AC37,U37:AB37,$U$3:$AB$3,,0),"Sin medida de tendencia central") -> Sin medida de tendencia central | AE37: =+IFERROR(_xlfn.XLOOKUP(AD37,$M$3:$T$3,M37:T37,,0),"Pendiente") -> Pendiente | AF37: =+AVERAGE(G37:H37) -> 98476.743 | AG37: PROMEDIO IPC - CAMIONAUTOS | AJ37: 153958 | AL37: 98476.743
A38: =A37+1 -> 28 | B38: FUSIBLES | C38: 1 | D38: 97510 | E38: 80000 | F38: 83200 | G38: 97510 | H38: =+'678-2024 IPC'!H37 -> 51770.074 | I38: =+D38-G38 -> 0 | J38: =+D38/IF($H38<>"",$H38,MIN($D38:$F38))-1 -> 0.88352059 | K38: =+E38/IF($H38<>"",$H38,MIN($D38:$F38))-1 -> 0.5452943 | L38: =+F38/IF($H38<>"",$H38,MIN($D38:$F38))-1 -> 0.60710607 | M38: =ROUND(GEOMEAN(D38:F38),0) -> 86581 | N38: =ROUND(AVERAGE(D38:F38),0) -> 86903 | O38: =ROUND(GEOMEAN(D38:I38),0) -> #NUM! | P38: =ROUND(AVERAGE(D38:I38),0) -> 68332 | Q38: {=ROUND(GEOMEAN(SMALL(D38:I38,{1;2;3})),0)} -> #NUM! | R38: {=ROUND(AVERAGE(SMALL(D38:I38,{1;2;3})),0)} -> 43923 | S38: {=ROUND(GEOMEAN(SMALL(D38:I38,{1;2})),0)} -> #NUM! | T38: {=ROUND(AVERAGE(SMALL(D38:I38,{1;2})),0)} -> 25885 | U38: =+M38/IF($H38<>"",$H38,MIN($D38:$F38))-1 -> 0.67241407 | V38: =+N38/IF($H38<>"",$H38,MIN($D38:$F38))-1 -> 0.67863388 | W38: =+O38/IF($H38<>"",$H38,MIN($D38:$F38))-1 -> #NUM! | X38: =+P38/IF($H38<>"",$H38,MIN($D38:$F38))-1 -> 0.31991312 | Y38: =+Q38/IF($H38<>"",$H38,MIN($D38:$F38))-1 -> #NUM! | Z38: =+R38/IF($H38<>"",$H38,MIN($D38:$F38))-1 -> -0.15157548 | AA38: =+S38/IF($H38<>"",$H38,MIN($D38:$F38))-1 -> #NUM! | AB38: =+T38/IF($H38<>"",$H38,MIN($D38:$F38))-1 -> -0.50000071 | AC38: {=MIN(IF(U38:AB38>0,U38:AB38))} -> #NUM! | AD38: =+IFERROR(_xlfn.XLOOKUP(AC38,U38:AB38,$U$3:$AB$3,,0),"Sin medida de tendencia central") -> Sin medida de tendencia central | AE38: =+IFERROR(_xlfn.XLOOKUP(AD38,$M$3:$T$3,M38:T38,,0),"Pendiente") -> Pendiente | AF38: =+AVERAGE(G38:H38) -> 74640.037 | AG38: PROMEDIO IPC - CAMIONAUTOS | AJ38: 97510 | AL38: 74640.037
A39: =+A38+1 -> 29 | B39: COCUYOS | C39: 1 | D39: 163758 | E39: 490000 | F39: 509700 | G39: 163758 | H39: =+'678-2024 IPC'!H38 -> 523952.63 | I39: =+D39-G39 -> 0 | J39: =+D39/IF($H39<>"",$H39,MIN($D39:$F39))-1 -> -0.68745648 | K39: =+E39/IF($H39<>"",$H39,MIN($D39:$F39))-1 -> -0.06480096 | L39: =+F39/IF($H39<>"",$H39,MIN($D39:$F39))-1 -> -0.027202142 | M39: =ROUND(GEOMEAN(D39:F39),0) -> 344538 | N39: =ROUND(AVERAGE(D39:F39),0) -> 387819 | O39: =ROUND(GEOMEAN(D39:I39),0) -> #NUM! | P39: =ROUND(AVERAGE(D39:I39),0) -> 308528 | Q39: {=ROUND(GEOMEAN(SMALL(D39:I39,{1;2;3})),0)} -> #NUM! | R39: {=ROUND(AVERAGE(SMALL(D39:I39,{1;2;3})),0)} -> 109172 | S39: {=ROUND(GEOMEAN(SMALL(D39:I39,{1;2})),0)} -> #NUM! | T39: {=ROUND(AVERAGE(SMALL(D39:I39,{1;2})),0)} -> 81879 | U39: =+M39/IF($H39<>"",$H39,MIN($D39:$F39))-1 -> -0.34242529 | V39: =+N39/IF($H39<>"",$H39,MIN($D39:$F39))-1 -> -0.2598205 | W39: =+O39/IF($H39<>"",$H39,MIN($D39:$F39))-1 -> #NUM! | X39: =+P39/IF($H39<>"",$H39,MIN($D39:$F39))-1 -> -0.41115288 | Y39: =+Q39/IF($H39<>"",$H39,MIN($D39:$F39))-1 -> #NUM! | Z39: =+R39/IF($H39<>"",$H39,MIN($D39:$F39))-1 -> -0.79163765 | AA39: =+S39/IF($H39<>"",$H39,MIN($D39:$F39))-1 -> #NUM! | AB39: =+T39/IF($H39<>"",$H39,MIN($D39:$F39))-1 -> -0.84372824 | AC39: {=MIN(IF(U39:AB39>0,U39:AB39))} -> #NUM! | AD39: =+IFERROR(_xlfn.XLOOKUP(AC39,U39:AB39,$U$3:$AB$3,,0),"Sin medida de tendencia central") -> Sin medida de tendencia central | AE39: =+IFERROR(_xlfn.XLOOKUP(AD39,$M$3:$T$3,M39:T39,,0),"Pendiente") -> Pendiente | AF39: =+AVERAGE(G39:H39) -> 343855.32 | AG39: PROMEDIO IPC - CAMIONAUTOS | AJ39: 163758 | AL39: 343855.32
A40: =+A39+1 -> 30 | B40: PITO | C40: 1 | D40: 1481603.2 | E40: 3000000 | F40: 3126000 | G40: 481603 | H40: =+'678-2024 IPC'!H39 -> 623873.26 | I40: =+D40-G40 -> 1000000.2 | J40: =+D40/IF($H40<>"",$H40,MIN($D40:$F40))-1 -> 1.3748464 | K40: =+E40/IF($H40<>"",$H40,MIN($D40:$F40))-1 -> 3.808669 | L40: =+F40/IF($H40<>"",$H40,MIN($D40:$F40))-1 -> 4.0106331 | M40: =ROUND(GEOMEAN(D40:F40),0) -> 2404071 | N40: =ROUND(AVERAGE(D40:F40),0) -> 2535868 | O40: =ROUND(GEOMEAN(D40:I40),0) -> 1268931 | P40: =ROUND(AVERAGE(D40:I40),0) -> 1618847 | Q40: {=ROUND(GEOMEAN(SMALL(D40:I40,{1;2;3})),0)} -> 669774 | R40: {=ROUND(AVERAGE(SMALL(D40:I40,{1;2;3})),0)} -> 701825 | S40: {=ROUND(GEOMEAN(SMALL(D40:I40,{1;2})),0)} -> 548142 | T40: {=ROUND(AVERAGE(SMALL(D40:I40,{1;2})),0)} -> 552738 | U40: =+M40/IF($H40<>"",$H40,MIN($D40:$F40))-1 -> 2.8534605 | V40: =+N40/IF($H40<>"",$H40,MIN($D40:$F40))-1 -> 3.0647166 | W40: =+O40/IF($H40<>"",$H40,MIN($D40:$F40))-1 -> 1.0339564 | X40: =+P40/IF($H40<>"",$H40,MIN($D40:$F40))-1 -> 1.5948331 | Y40: =+Q40/IF($H40<>"",$H40,MIN($D40:$F40))-1 -> 0.073573815 | Z40: =+R40/IF($H40<>"",$H40,MIN($D40:$F40))-1 -> 0.12494803 | AA40: =+S40/IF($H40<>"",$H40,MIN($D40:$F40))-1 -> -0.12138886 | AB40: =+T40/IF($H40<>"",$H40,MIN($D40:$F40))-1 -> -0.11402198 | AC40: {=MIN(IF(U40:AB40>0,U40:AB40))} -> 0.073573815 | AD40: =+IFERROR(_xlfn.XLOOKUP(AC40,U40:AB40,$U$3:$AB$3,,0),"Sin medida de tendencia central") -> MEDIA GEOMETRICA 3 más bajas | AE40: =+IFERROR(_xlfn.XLOOKUP(AD40,$M$3:$T$3,M40:T40,,0),"Pendiente") -> 669774 | AF40: =+AVERAGE(G40:H40) -> 552738.13 | AG40: PROMEDIO IPC - CAMIONAUTOS | AJ40: 1481603.2 | AL40: 552738.13
A41: =+A40+1 -> 31 | B41: REVISIÓN SISTEMA DE CARGA Y ESTADO DE BATERÍAS | C41: 1 | D41: 515550 | E41: 1090000 | F41: 1127500 | G41: 515550 | H41: =+'678-2024 IPC'!H40 -> 548411.8 | I41: =+D41-G41 -> 0 | J41: =+D41/IF($H41<>"",$H41,MIN($D41:$F41))-1 -> -0.05992176 | K41: =+E41/IF($H41<>"",$H41,MIN($D41:$F41))-1 -> 0.98755753 | L41: =+F41/IF($H41<>"",$H41,MIN($D41:$F41))-1 -> 1.0559368 | M41: =ROUND(GEOMEAN(D41:F41),0) -> 858891 | N41: =ROUND(AVERAGE(D41:F41),0) -> 911017 | O41: =ROUND(GEOMEAN(D41:I41),0) -> #NUM! | P41: =ROUND(AVERAGE(D41:I41),0) -> 632835 | Q41: {=ROUND(GEOMEAN(SMALL(D41:I41,{1;2;3})),0)} -> #NUM! | R41: {=ROUND(AVERAGE(SMALL(D41:I41,{1;2;3})),0)} -> 343700 | S41: {=ROUND(GEOMEAN(SMALL(D41:I41,{1;2})),0)} -> #NUM! | T41: {=ROUND(AVERAGE(SMALL(D41:I41,{1;2})),0)} -> 257775 | U41: =+M41/IF($H41<>"",$H41,MIN($D41:$F41))-1 -> 0.56614245 | V41: =+N41/IF($H41<>"",$H41,MIN($D41:$F41))-1 -> 0.66119146 | W41: =+O41/IF($H41<>"",$H41,MIN($D41:$F41))-1 -> #NUM! | X41: =+P41/IF($H41<>"",$H41,MIN($D41:$F41))-1 -> 0.15394125 | Y41: =+Q41/IF($H41<>"",$H41,MIN($D41:$F41))-1 -> #NUM! | Z41: =+R41/IF($H41<>"",$H41,MIN($D41:$F41))-1 -> -0.37328117 | AA41: =+S41/IF($H41<>"",$H41,MIN($D41:$F41))-1 -> #NUM! | AB41: =+T41/IF($H41<>"",$H41,MIN($D41:$F41))-1 -> -0.52996088 | AC41: {=MIN(IF(U41:AB41>0,U41:AB41))} -> #NUM! | AD41: =+IFERROR(_xlfn.XLOOKUP(AC41,U41:AB41,$U$3:$AB$3,,0),"Sin medida de tendencia central") -> Sin medida de tendencia central | AE41: =+IFERROR(_xlfn.XLOOKUP(AD41,$M$3:$T$3,M41:T41,,0),"Pendiente") -> Pendiente | AF41: =+AVERAGE(G41:H41) -> 531980.9 | AG41: PROMEDIO IPC - CAMIONAUTOS | AJ41: 515550 | AL41: 531980.9
A42: =A41+1 -> 32 | B42: PLUMILLAS | C42: 1 | D42: 188944 | E42: 940000 | F42: 982200 | G42: 188944 | H42: =+'678-2024 IPC'!H41 -> 312485.04 | I42: =+D42-G42 -> 0 | J42: =+D42/IF($H42<>"",$H42,MIN($D42:$F42))-1 -> -0.39535026 | K42: =+E42/IF($H42<>"",$H42,MIN($D42:$F42))-1 -> 2.008144 | L42: =+F42/IF($H42<>"",$H42,MIN($D42:$F42))-1 -> 2.1431904 | M42: =ROUND(GEOMEAN(D42:F42),0) -> 558754 | N42: =ROUND(AVERAGE(D42:F42),0) -> 703715 | O42: =ROUND(GEOMEAN(D42:I42),0) -> #NUM! | P42: =ROUND(AVERAGE(D42:I42),0) -> 435429 | Q42: {=ROUND(GEOMEAN(SMALL(D42:I42,{1;2;3})),0)} -> #NUM! | R42: {=ROUND(AVERAGE(SMALL(D42:I42,{1;2;3})),0)} -> 125963 | S42: {=ROUND(GEOMEAN(SMALL(D42:I42,{1;2})),0)} -> #NUM! | T42: {=ROUND(AVERAGE(SMALL(D42:I42,{1;2})),0)} -> 94472 | U42: =+M42/IF($H42<>"",$H42,MIN($D42:$F42))-1 -> 0.78809838 | V42: =+N42/IF($H42<>"",$H42,MIN($D42:$F42))-1 -> 1.2519958 | W42: =+O42/IF($H42<>"",$H42,MIN($D42:$F42))-1 -> #NUM! | X42: =+P42/IF($H42<>"",$H42,MIN($D42:$F42))-1 -> 0.39343949 | Y42: =+Q42/IF($H42<>"",$H42,MIN($D42:$F42))-1 -> #NUM! | Z42: =+R42/IF($H42<>"",$H42,MIN($D42:$F42))-1 -> -0.59689911 | AA42: =+S42/IF($H42<>"",$H42,MIN($D42:$F42))-1 -> #NUM! | AB42: =+T42/IF($H42<>"",$H42,MIN($D42:$F42))-1 -> -0.69767513 | AC42: {=MIN(IF(U42:AB42>0,U42:AB42))} -> #NUM! | AD42: =+IFERROR(_xlfn.XLOOKUP(AC42,U42:AB42,$U$3:$AB$3,,0),"Sin medida de tendencia central") -> Sin medida de tendencia central | AE42: =+IFERROR(_xlfn.XLOOKUP(AD42,$M$3:$T$3,M42:T42,,0),"Pendiente") -> Pendiente | AF42: =+AVERAGE(G42:H42) -> 250714.52 | AG42: PROMEDIO IPC - CAMIONAUTOS | AJ42: 188944 | AL42: 250714.52
A43: =A42+1 -> 33 | B43: SERVICIO DE ESCANER | C43: 1 | D43: 613480 | E43: 1690000 | F43: 1745500 | G43: 613480 | H43: =+'678-2024 IPC'!H42 -> 156626.41 | I43: =+D43-G43 -> 0 | J43: =+D43/IF($H43<>"",$H43,MIN($D43:$F43))-1 -> 2.9168362 | K43: =+E43/IF($H43<>"",$H43,MIN($D43:$F43))-1 -> 9.7900066 | L43: =+F43/IF($H43<>"",$H43,MIN($D43:$F43))-1 -> 10.144353 | M43: =ROUND(GEOMEAN(D43:F43),0) -> 1218622 | N43: =ROUND(AVERAGE(D43:F43),0) -> 1349660 | O43: =ROUND(GEOMEAN(D43:I43),0) -> #NUM! | P43: =ROUND(AVERAGE(D43:I43),0) -> 803181 | Q43: {=ROUND(GEOMEAN(SMALL(D43:I43,{1;2;3})),0)} -> #NUM! | R43: {=ROUND(AVERAGE(SMALL(D43:I43,{1;2;3})),0)} -> 256702 | S43: {=ROUND(GEOMEAN(SMALL(D43:I43,{1;2})),0)} -> #NUM! | T43: {=ROUND(AVERAGE(SMALL(D43:I43,{1;2})),0)} -> 78313 | U43: =+M43/IF($H43<>"",$H43,MIN($D43:$F43))-1 -> 6.7804375 | V43: =+N43/IF($H43<>"",$H43,MIN($D43:$F43))-1 -> 7.6170653 | W43: =+O43/IF($H43<>"",$H43,MIN($D43:$F43))-1 -> #NUM! | X43: =+P43/IF($H43<>"",$H43,MIN($D43:$F43))-1 -> 4.1280049 | Y43: =+Q43/IF($H43<>"",$H43,MIN($D43:$F43))-1 -> #NUM! | Z43: =+R43/IF($H43<>"",$H43,MIN($D43:$F43))-1 -> 0.63894454 | AA43: =+S43/IF($H43<>"",$H43,MIN($D43:$F43))-1 -> #NUM! | AB43: =+T43/IF($H43<>"",$H43,MIN($D43:$F43))-1 -> -0.50000131 | AC43: {=MIN(IF(U43:AB43>0,U43:AB43))} -> #NUM! | AD43: =+IFERROR(_xlfn.XLOOKUP(AC43,U43:AB43,$U$3:$AB$3,,0),"Sin medida de tendencia central") -> Sin medida de tendencia central | AE43: =+IFERROR(_xlfn.XLOOKUP(AD43,$M$3:$T$3,M43:T43,,0),"Pendiente") -> Pendiente | AF43: =+AVERAGE(G43:H43) -> 385053.21 | AG43: PROMEDIO IPC - CAMIONAUTOS | AJ43: 613480 | AL43: 385053.21
A44: =A43+1 -> 34 | B44: BATERÍA | C44: 1 | D44: 1864272 | E44: 6140000 | F44: 6438600 | G44: 1864272 | I44: =+D44-G44 -> 0 | J44: =+D44/IF($H44<>"",$H44,MIN($D44:$F44))-1 -> 0 | K44: =+E44/IF($H44<>"",$H44,MIN($D44:$F44))-1 -> 2.2935108 | L44: =+F44/IF($H44<>"",$H44,MIN($D44:$F44))-1 -> 2.4536806 | M44: =ROUND(GEOMEAN(D44:F44),0) -> 4192661 | N44: =ROUND(AVERAGE(D44:F44),0) -> 4814291 | O44: =ROUND(GEOMEAN(D44:I44),0) -> #NUM! | P44: =ROUND(AVERAGE(D44:I44),0) -> 3261429 | Q44: {=ROUND(GEOMEAN(SMALL(D44:I44,{1;2;3})),0)} -> #NUM! | R44: {=ROUND(AVERAGE(SMALL(D44:I44,{1;2;3})),0)} -> 1242848 | S44: {=ROUND(GEOMEAN(SMALL(D44:I44,{1;2})),0)} -> #NUM! | T44: {=ROUND(AVERAGE(SMALL(D44:I44,{1;2})),0)} -> 932136 | U44: =+M44/IF($H44<>"",$H44,MIN($D44:$F44))-1 -> 1.2489535 | V44: =+N44/IF($H44<>"",$H44,MIN($D44:$F44))-1 -> 1.5823973 | W44: =+O44/IF($H44<>"",$H44,MIN($D44:$F44))-1 -> #NUM! | X44: =+P44/IF($H44<>"",$H44,MIN($D44:$F44))-1 -> 0.74943839 | Y44: =+Q44/IF($H44<>"",$H44,MIN($D44:$F44))-1 -> #NUM! | Z44: =+R44/IF($H44<>"",$H44,MIN($D44:$F44))-1 -> -0.33333333 | AA44: =+S44/IF($H44<>"",$H44,MIN($D44:$F44))-1 -> #NUM! | AB44: =+T44/IF($H44<>"",$H44,MIN($D44:$F44))-1 -> -0.5 | AC44: {=MIN(IF(U44:AB44>0,U44:AB44))} -> #NUM! | AD44: =+IFERROR(_xlfn.XLOOKUP(AC44,U44:AB44,$U$3:$AB$3,,0),"Sin medida de tendencia central") -> Sin medida de tendencia central | AE44: =+IFERROR(_xlfn.XLOOKUP(AD44,$M$3:$T$3,M44:T44,,0),"Pendiente") -> Pendiente | AF44: =+AVERAGE(G44:H44) -> 1864272 | AG44: MENOR VALOR -SOLO LA DE CAMIONAUTOS | AJ44: 1864272 | AL44: 1864272
A45: =A44+1 -> 35 | B45: TAPA DE JUEGO DE BATERÍAS. | C45: 1 | D45: 358288 | E45: 5950000 | F45: 6218500 | G45: 358288 | I45: =+D45-G45 -> 0 | J45: =+D45/IF($H45<>"",$H45,MIN($D45:$F45))-1 -> 0 | K45: =+E45/IF($H45<>"",$H45,MIN($D45:$F45))-1 -> 15.606752 | L45: =+F45/IF($H45<>"",$H45,MIN($D45:$F45))-1 -> 16.356149 | M45: =ROUND(GEOMEAN(D45:F45),0) -> 2366710 | N45: =ROUND(AVERAGE(D45:F45),0) -> 4175596 | O45: =ROUND(GEOMEAN(D45:I45),0) -> #NUM! | P45: =ROUND(AVERAGE(D45:I45),0) -> 2577015 | Q45: {=ROUND(GEOMEAN(SMALL(D45:I45,{1;2;3})),0)} -> #NUM! | R45: {=ROUND(AVERAGE(SMALL(D45:I45,{1;2;3})),0)} -> 238859 | S45: {=ROUND(GEOMEAN(SMALL(D45:I45,{1;2})),0)} -> #NUM! | T45: {=ROUND(AVERAGE(SMALL(D45:I45,{1;2})),0)} -> 179144 | U45: =+M45/IF($H45<>"",$H45,MIN($D45:$F45))-1 -> 5.6056078 | V45: =+N45/IF($H45<>"",$H45,MIN($D45:$F45))-1 -> 10.6543 | W45: =+O45/IF($H45<>"",$H45,MIN($D45:$F45))-1 -> #NUM! | X45: =+P45/IF($H45<>"",$H45,MIN($D45:$F45))-1 -> 6.1925797 | Y45: =+Q45/IF($H45<>"",$H45,MIN($D45:$F45))-1 -> #NUM! | Z45: =+R45/IF($H45<>"",$H45,MIN($D45:$F45))-1 -> -0.3333324 | AA45: =+S45/IF($H45<>"",$H45,MIN($D45:$F45))-1 -> #NUM! | AB45: =+T45/IF($H45<>"",$H45,MIN($D45:$F45))-1 -> -0.5 | AC45: {=MIN(IF(U45:AB45>0,U45:AB45))} -> #NUM! | AD45: =+IFERROR(_xlfn.XLOOKUP(AC45,U45:AB45,$U$3:$AB$3,,0),"Sin medida de tendencia central") -> Sin medida de tendencia central | AE45: =+IFERROR(_xlfn.XLOOKUP(AD45,$M$3:$T$3,M45:T45,,0),"Pendiente") -> Pendiente | AF45: =+AVERAGE(G45:H45) -> 358288 | AG45: MENOR VALOR -SOLO LA DE CAMIONAUTOS | AJ45: 358288 | AL45: 358288
B46: SISTEMA DE DIRECCIÓN | I46: =+D46-G46 -> 0
A47: =A45+1 -> 36 | B47: REVISIÓN/ MANTENIMIENTO TERMINALES DE DIRECCIÓN | C47: 1 | D47: 1005872 | E47: 3950000 | F47: 4118500 | G47: 2005872 | H47: =+'678-2024 IPC'!H46 -> 1378268.5 | I47: =+D47-G47 -> -1000000 | J47: =+D47/IF($H47<>"",$H47,MIN($D47:$F47))-1 -> -0.27019157 | K47: =+E47/IF($H47<>"",$H47,MIN($D47:$F47))-1 -> 1.8659147 | L47: =+F47/IF($H47<>"",$H47,MIN($D47:$F47))-1 -> 1.9881695 | M47: =ROUND(GEOMEAN(D47:F47),0) -> 2538787 | N47: =ROUND(AVERAGE(D47:F47),0) -> 3024791 | O47: =ROUND(GEOMEAN(D47:I47),0) -> #NUM! | P47: =ROUND(AVERAGE(D47:I47),0) -> 1909752 | Q47: {=ROUND(GEOMEAN(SMALL(D47:I47,{1;2;3})),0)} -> #NUM! | R47: {=ROUND(AVERAGE(SMALL(D47:I47,{1;2;3})),0)} -> 461380 | S47: {=ROUND(GEOMEAN(SMALL(D47:I47,{1;2})),0)} -> #NUM! | T47: {=ROUND(AVERAGE(SMALL(D47:I47,{1;2})),0)} -> 2936 | U47: =+M47/IF($H47<>"",$H47,MIN($D47:$F47))-1 -> 0.84201187 | V47: =+N47/IF($H47<>"",$H47,MIN($D47:$F47))-1 -> 1.1946311 | W47: =+O47/IF($H47<>"",$H47,MIN($D47:$F47))-1 -> #NUM! | X47: =+P47/IF($H47<>"",$H47,MIN($D47:$F47))-1 -> 0.38561677 | Y47: =+Q47/IF($H47<>"",$H47,MIN($D47:$F47))-1 -> #NUM! | Z47: =+R47/IF($H47<>"",$H47,MIN($D47:$F47))-1 -> -0.66524666 | AA47: =+S47/IF($H47<>"",$H47,MIN($D47:$F47))-1 -> #NUM! | AB47: =+T47/IF($H47<>"",$H47,MIN($D47:$F47))-1 -> -0.99786979 | AC47: {=MIN(IF(U47:AB47>0,U47:AB47))} -> #NUM! | AD47: =+IFERROR(_xlfn.XLOOKUP(AC47,U47:AB47,$U$3:$AB$3,,0),"Sin medida de tendencia central") -> Sin medida de tendencia central | AE47: =+IFERROR(_xlfn.XLOOKUP(AD47,$M$3:$T$3,M47:T47,,0),"Pendiente") -> Pendiente | AF47: =+AVERAGE(G47:H47) -> 1692070.3 | AG47: PROMEDIO IPC - CAMIONAUTOS | AJ47: 1005872 | AL47: 1692070.3
A48: =A47+1 -> 37 | B48: ALINEACION | C48: 1 | D48: 650300 | E48: 1120000 | F48: 1154600 | G48: 650300 | H48: =+'678-2024 IPC'!H47 -> 313252.82 | I48: =+D48-G48 -> 0 | J48: =+D48/IF($H48<>"",$H48,MIN($D48:$F48))-1 -> 1.075959 | K48: =+E48/IF($H48<>"",$H48,MIN($D48:$F48))-1 -> 2.5753868 | L48: =+F48/IF($H48<>"",$H48,MIN($D48:$F48))-1 -> 2.6858407 | M48: =ROUND(GEOMEAN(D48:F48),0) -> 943889 | N48: =ROUND(AVERAGE(D48:F48),0) -> 974967 | O48: =ROUND(GEOMEAN(D48:I48),0) -> #NUM! | P48: =ROUND(AVERAGE(D48:I48),0) -> 648075 | Q48: {=ROUND(GEOMEAN(SMALL(D48:I48,{1;2;3})),0)} -> #NUM! | R48: {=ROUND(AVERAGE(SMALL(D48:I48,{1;2;3})),0)} -> 321184 | S48: {=ROUND(GEOMEAN(SMALL(D48:I48,{1;2})),0)} -> #NUM! | T48: {=ROUND(AVERAGE(SMALL(D48:I48,{1;2})),0)} -> 156626 | U48: =+M48/IF($H48<>"",$H48,MIN($D48:$F48))-1 -> 2.013186 | V48: =+N48/IF($H48<>"",$H48,MIN($D48:$F48))-1 -> 2.1123966 | W48: =+O48/IF($H48<>"",$H48,MIN($D48:$F48))-1 -> #NUM! | X48: =+P48/IF($H48<>"",$H48,MIN($D48:$F48))-1 -> 1.0688561 | Y48: =+Q48/IF($H48<>"",$H48,MIN($D48:$F48))-1 -> #NUM! | Z48: =+R48/IF($H48<>"",$H48,MIN($D48:$F48))-1 -> 0.025318782 | AA48: =+S48/IF($H48<>"",$H48,MIN($D48:$F48))-1 -> #NUM! | AB48: =+T48/IF($H48<>"",$H48,MIN($D48:$F48))-1 -> -0.50000131 | AC48: {=MIN(IF(U48:AB48>0,U48:AB48))} -> #NUM! | AD48: =+IFERROR(_xlfn.XLOOKUP(AC48,U48:AB48,$U$3:$AB$3,,0),"Sin medida de tendencia central") -> Sin medida de tendencia central | AE48: =+IFERROR(_xlfn.XLOOKUP(AD48,$M$3:$T$3,M48:T48,,0),"Pendiente") -> Pendiente | AF48: =+AVERAGE(G48:H48) -> 481776.41 | AG48: PROMEDIO IPC - CAMIONAUTOS | AJ48: 650300 | AL48: 481776.41
B49: SISTEMA HIDRÁULICO | I49: =+D49-G49 -> 0
A50: =A48+1 -> 38 | B50: ACEITE HIDRAUILICO ISO 68 X 1/4 | C50: 1 | D50: 510174 | E50: 920000 | F50: 963600 | G50: 566500 | H50: =+'678-2024 IPC'!H49 -> 119773.14 | I50: =+D50-G50 -> -56326 | J50: =+D50/IF($H50<>"",$H50,MIN($D50:$F50))-1 -> 3.2595027 | K50: =+E50/IF($H50<>"",$H50,MIN($D50:$F50))-1 -> 6.6811881 | L50: =+F50/IF($H50<>"",$H50,MIN($D50:$F50))-1 -> 7.0452097 | M50: =ROUND(GEOMEAN(D50:F50),0) -> 767599 | N50: =ROUND(AVERAGE(D50:F50),0) -> 797925 | O50: =ROUND(GEOMEAN(D50:I50),0) -> #NUM! | P50: =ROUND(AVERAGE(D50:I50),0) -> 503954 | Q50: {=ROUND(GEOMEAN(SMALL(D50:I50,{1;2;3})),0)} -> #NUM! | R50: {=ROUND(AVERAGE(SMALL(D50:I50,{1;2;3})),0)} -> 191207 | S50: {=ROUND(GEOMEAN(SMALL(D50:I50,{1;2})),0)} -> #NUM! | T50: {=ROUND(AVERAGE(SMALL(D50:I50,{1;2})),0)} -> 31724 | U50: =+M50/IF($H50<>"",$H50,MIN($D50:$F50))-1 -> 5.4087743 | V50: =+N50/IF($H50<>"",$H50,MIN($D50:$F50))-1 -> 5.6619696 | W50: =+O50/IF($H50<>"",$H50,MIN($D50:$F50))-1 -> #NUM! | X50: =+P50/IF($H50<>"",$H50,MIN($D50:$F50))-1 -> 3.2075712 | Y50: =+Q50/IF($H50<>"",$H50,MIN($D50:$F50))-1 -> #NUM! | Z50: =+R50/IF($H50<>"",$H50,MIN($D50:$F50))-1 -> 0.59640972 | AA50: =+S50/IF($H50<>"",$H50,MIN($D50:$F50))-1 -> #NUM! | AB50: =+T50/IF($H50<>"",$H50,MIN($D50:$F50))-1 -> -0.7351326 | AC50: {=MIN(IF(U50:AB50>0,U50:AB50))} -> #NUM! | AD50: =+IFERROR(_xlfn.XLOOKUP(AC50,U50:AB50,$U$3:$AB$3,,0),"Sin medida de tendencia central") -> Sin medida de tendencia central | AE50: =+IFERROR(_xlfn.XLOOKUP(AD50,$M$3:$T$3,M50:T50,,0),"Pendiente") -> Pendiente | AF50: =+AVERAGE(G50:H50) -> 343136.57 | AG50: PROMEDIO IPC - CAMIONAUTOS | AJ50: 510174 | AL50: 343136.57
A51: =A50+1 -> 39 | B51: REVISIÓN/ CAMBIO DE MANGUERA HIDRÁULICA | C51: 1 | D51: 596232 | E51: 1570000 | F51: 1619500 | G51: 596232 | H51: =+'678-2024 IPC'!H50 -> 870548.89 | I51: =+D51-G51 -> 0 | J51: =+D51/IF($H51<>"",$H51,MIN($D51:$F51))-1 -> -0.31510797 | K51: =+E51/IF($H51<>"",$H51,MIN($D51:$F51))-1 -> 0.80345988 | L51: =+F51/IF($H51<>"",$H51,MIN($D51:$F51))-1 -> 0.86032056 | M51: =ROUND(GEOMEAN(D51:F51),0) -> 1148767 | N51: =ROUND(AVERAGE(D51:F51),0) -> 1261911 | O51: =ROUND(GEOMEAN(D51:I51),0) -> #NUM! | P51: =ROUND(AVERAGE(D51:I51),0) -> 875419 | Q51: {=ROUND(GEOMEAN(SMALL(D51:I51,{1;2;3})),0)} -> #NUM! | R51: {=ROUND(AVERAGE(SMALL(D51:I51,{1;2;3})),0)} -> 397488 | S51: {=ROUND(GEOMEAN(SMALL(D51:I51,{1;2})),0)} -> #NUM! | T51: {=ROUND(AVERAGE(SMALL(D51:I51,{1;2})),0)} -> 298116 | U51: =+M51/IF($H51<>"",$H51,MIN($D51:$F51))-1 -> 0.3195893 | V51: =+N51/IF($H51<>"",$H51,MIN($D51:$F51))-1 -> 0.44955787 | W51: =+O51/IF($H51<>"",$H51,MIN($D51:$F51))-1 -> #NUM! | X51: =+P51/IF($H51<>"",$H51,MIN($D51:$F51))-1 -> 0.0055942966 | Y51: =+Q51/IF($H51<>"",$H51,MIN($D51:$F51))-1 -> #NUM! | Z51: =+R51/IF($H51<>"",$H51,MIN($D51:$F51))-1 -> -0.54340531 | AA51: =+S51/IF($H51<>"",$H51,MIN($D51:$F51))-1 -> #NUM! | AB51: =+T51/IF($H51<>"",$H51,MIN($D51:$F51))-1 -> -0.65755398 | AC51: {=MIN(IF(U51:AB51>0,U51:AB51))} -> #NUM! | AD51: =+IFERROR(_xlfn.XLOOKUP(AC51,U51:AB51,$U$3:$AB$3,,0),"Sin medida de tendencia central") -> Sin medida de tendencia central | AE51: =+IFERROR(_xlfn.XLOOKUP(AD51,$M$3:$T$3,M51:T51,,0),"Pendiente") -> Pendiente | AF51: =+AVERAGE(G51:H51) -> 733390.45 | AG51: PROMEDIO IPC - CAMIONAUTOS | AJ51: 596232 | AL51: 733390.45
A52: =A51+1 -> 40 | B52: MANGUERA HIDRÁULICA | C52: 1 | D52: 537432 | E52: 1800000 | F52: 1888000 | G52: 537432 | H52: =+'678-2024 IPC'!H51 -> 878116.97 | I52: =+D52-G52 -> 0 | J52: =+D52/IF($H52<>"",$H52,MIN($D52:$F52))-1 -> -0.3879722 | K52: =+E52/IF($H52<>"",$H52,MIN($D52:$F52))-1 -> 1.0498408 | L52: =+F52/IF($H52<>"",$H52,MIN($D52:$F52))-1 -> 1.1500552 | M52: =ROUND(GEOMEAN(D52:F52),0) -> 1222361 | N52: =ROUND(AVERAGE(D52:F52),0) -> 1408477 | O52: =ROUND(GEOMEAN(D52:I52),0) -> #NUM! | P52: =ROUND(AVERAGE(D52:I52),0) -> 940163 | Q52: {=ROUND(GEOMEAN(SMALL(D52:I52,{1;2;3})),0)} -> #NUM! | R52: {=ROUND(AVERAGE(SMALL(D52:I52,{1;2;3})),0)} -> 358288 | S52: {=ROUND(GEOMEAN(SMALL(D52:I52,{1;2})),0)} -> #NUM! | T52: {=ROUND(AVERAGE(SMALL(D52:I52,{1;2})),0)} -> 268716 | U52: =+M52/IF($H52<>"",$H52,MIN($D52:$F52))-1 -> 0.39202525 | V52: =+N52/IF($H52<>"",$H52,MIN($D52:$F52))-1 -> 0.60397423 | W52: =+O52/IF($H52<>"",$H52,MIN($D52:$F52))-1 -> #NUM! | X52: =+P52/IF($H52<>"",$H52,MIN($D52:$F52))-1 -> 0.070658042 | Y52: =+Q52/IF($H52<>"",$H52,MIN($D52:$F52))-1 -> #NUM! | Z52: =+R52/IF($H52<>"",$H52,MIN($D52:$F52))-1 -> -0.59198147 | AA52: =+S52/IF($H52<>"",$H52,MIN($D52:$F52))-1 -> #NUM! | AB52: =+T52/IF($H52<>"",$H52,MIN($D52:$F52))-1 -> -0.6939861 | AC52: {=MIN(IF(U52:AB52>0,U52:AB52))} -> #NUM! | AD52: =+IFERROR(_xlfn.XLOOKUP(AC52,U52:AB52,$U$3:$AB$3,,0),"Sin medida de tendencia central") -> Sin medida de tendencia central | AE52: =+IFERROR(_xlfn.XLOOKUP(AD52,$M$3:$T$3,M52:T52,,0),"Pendiente") -> Pendiente | AF52: =+AVERAGE(G52:H52) -> 707774.49 | AG52: PROMEDIO IPC - CAMIONAUTOS | AJ52: 537432 | AL52: 707774.49
B53: SISTEMA DE ESCAPE | I53: =+D53-G53 -> 0
A54: =A52+1 -> 41 | B54: EMPAQUETADURA DEL MÚLTIPLE | C54: 1 | D54: 561736 | E54: 6600000 | F54: 6842000 | G54: 961736 | H54: =+'678-2024 IPC'!H53 -> 1000522.5 | I54: =+D54-G54 -> -400000 | J54: =+D54/IF($H54<>"",$H54,MIN($D54:$F54))-1 -> -0.43855735 | K54: =+E54/IF($H54<>"",$H54,MIN($D54:$F54))-1 -> 5.5965534 | L54: =+F54/IF($H54<>"",$H54,MIN($D54:$F54))-1 -> 5.838427 | M54: =ROUND(GEOMEAN(D54:F54),0) -> 2938234 | N54: =ROUND(AVERAGE(D54:F54),0) -> 4667912 | O54: =ROUND(GEOMEAN(D54:I54),0) -> #NUM! | P54: =ROUND(AVERAGE(D54:I54),0) -> 2594332 | Q54: {=ROUND(GEOMEAN(SMALL(D54:I54,{1;2;3})),0)} -> #NUM! | R54: {=ROUND(AVERAGE(SMALL(D54:I54,{1;2;3})),0)} -> 374491 | S54: {=ROUND(GEOMEAN(SMALL(D54:I54,{1;2})),0)} -> #NUM! | T54: {=ROUND(AVERAGE(SMALL(D54:I54,{1;2})),0)} -> 80868 | U54: =+M54/IF($H54<>"",$H54,MIN($D54:$F54))-1 -> 1.9366996 | V54: =+N54/IF($H54<>"",$H54,MIN($D54:$F54))-1 -> 3.6654743 | W54: =+O54/IF($H54<>"",$H54,MIN($D54:$F54))-1 -> #NUM! | X54: =+P54/IF($H54<>"",$H54,MIN($D54:$F54))-1 -> 1.5929772 | Y54: =+Q54/IF($H54<>"",$H54,MIN($D54:$F54))-1 -> #NUM! | Z54: =+R54/IF($H54<>"",$H54,MIN($D54:$F54))-1 -> -0.62570456 | AA54: =+S54/IF($H54<>"",$H54,MIN($D54:$F54))-1 -> #NUM! | AB54: =+T54/IF($H54<>"",$H54,MIN($D54:$F54))-1 -> -0.91917423 | AC54: {=MIN(IF(U54:AB54>0,U54:AB54))} -> #NUM! | AD54: =+IFERROR(_xlfn.XLOOKUP(AC54,U54:AB54,$U$3:$AB$3,,0),"Sin medida de tendencia central") -> Sin medida de tendencia central | AE54: =+IFERROR(_xlfn.XLOOKUP(AD54,$M$3:$T$3,M54:T54,,0),"Pendiente") -> Pendiente | AF54: =+AVERAGE(G54:H54) -> 981129.24 | AG54: PROMEDIO IPC - CAMIONAUTOS | AJ54: 561736 | AL54: 981129.24
B55: SISTEMA DE SUSPENSIÓN | I55: =+D55-G55 -> 0
A56: =A54+1 -> 42 | B56: AJUSTE PASADORES Y MUELLES | C56: 1 | D56: 863625 | E56: 4750000 | F56: 4917500 | G56: 863625 | H56: =+'678-2024 IPC'!H55 -> 714251.53 | I56: =+D56-G56 -> 0 | J56: =+D56/IF($H56<>"",$H56,MIN($D56:$F56))-1 -> 0.20913287 | K56: =+E56/IF($H56<>"",$H56,MIN($D56:$F56))-1 -> 5.6503183 | L56: =+F56/IF($H56<>"",$H56,MIN($D56:$F56))-1 -> 5.8848295 | M56: =ROUND(GEOMEAN(D56:F56),0) -> 2722206 | N56: =ROUND(AVERAGE(D56:F56),0) -> 3510375 | O56: =ROUND(GEOMEAN(D56:I56),0) -> #NUM! | P56: =ROUND(AVERAGE(D56:I56),0) -> 2018167 | Q56: {=ROUND(GEOMEAN(SMALL(D56:I56,{1;2;3})),0)} -> #NUM! | R56: {=ROUND(AVERAGE(SMALL(D56:I56,{1;2;3})),0)} -> 525959 | S56: {=ROUND(GEOMEAN(SMALL(D56:I56,{1;2})),0)} -> #NUM! | T56: {=ROUND(AVERAGE(SMALL(D56:I56,{1;2})),0)} -> 357126 | U56: =+M56/IF($H56<>"",$H56,MIN($D56:$F56))-1 -> 2.8112708 | V56: =+N56/IF($H56<>"",$H56,MIN($D56:$F56))-1 -> 3.9147602 | W56: =+O56/IF($H56<>"",$H56,MIN($D56:$F56))-1 -> #NUM! | X56: =+P56/IF($H56<>"",$H56,MIN($D56:$F56))-1 -> 1.825569 | Y56: =+Q56/IF($H56<>"",$H56,MIN($D56:$F56))-1 -> #NUM! | Z56: =+R56/IF($H56<>"",$H56,MIN($D56:$F56))-1 -> -0.26362216 | AA56: =+S56/IF($H56<>"",$H56,MIN($D56:$F56))-1 -> #NUM! | AB56: =+T56/IF($H56<>"",$H56,MIN($D56:$F56))-1 -> -0.49999967 | AC56: {=MIN(IF(U56:AB56>0,U56:AB56))} -> #NUM! | AD56: =+IFERROR(_xlfn.XLOOKUP(AC56,U56:AB56,$U$3:$AB$3,,0),"Sin medida de tendencia central") -> Sin medida de tendencia central | AE56: =+IFERROR(_xlfn.XLOOKUP(AD56,$M$3:$T$3,M56:T56,,0),"Pendiente") -> Pendiente | AF56: =+AVERAGE(G56:H56) -> 788938.26 | AG56: PROMEDIO IPC - CAMIONAUTOS | AJ56: 863625 | AL56: 788938.26
A57: =+A56+1 -> 43 | B57: PASADORES | C57: 1 | D57: 655032 | E57: 5000000 | F57: 5180000 | G57: 655032 | H57: =+'678-2024 IPC'!H56 -> 939758.46 | I57: =+D57-G57 -> 0 | J57: =+D57/IF($H57<>"",$H57,MIN($D57:$F57))-1 -> -0.30297834 | K57: =+E57/IF($H57<>"",$H57,MIN($D57:$F57))-1 -> 4.3205161 | L57: =+F57/IF($H57<>"",$H57,MIN($D57:$F57))-1 -> 4.5120547 | M57: =ROUND(GEOMEAN(D57:F57),0) -> 2569532 | N57: =ROUND(AVERAGE(D57:F57),0) -> 3611677 | O57: =ROUND(GEOMEAN(D57:I57),0) -> #NUM! | P57: =ROUND(AVERAGE(D57:I57),0) -> 2071637 | Q57: {=ROUND(GEOMEAN(SMALL(D57:I57,{1;2;3})),0)} -> #NUM! | R57: {=ROUND(AVERAGE(SMALL(D57:I57,{1;2;3})),0)} -> 436688 | S57: {=ROUND(GEOMEAN(SMALL(D57:I57,{1;2})),0)} -> #NUM! | T57: {=ROUND(AVERAGE(SMALL(D57:I57,{1;2})),0)} -> 327516 | U57: =+M57/IF($H57<>"",$H57,MIN($D57:$F57))-1 -> 1.7342473 | V57: =+N57/IF($H57<>"",$H57,MIN($D57:$F57))-1 -> 2.8431971 | W57: =+O57/IF($H57<>"",$H57,MIN($D57:$F57))-1 -> #NUM! | X57: =+P57/IF($H57<>"",$H57,MIN($D57:$F57))-1 -> 1.2044356 | Y57: =+Q57/IF($H57<>"",$H57,MIN($D57:$F57))-1 -> #NUM! | Z57: =+R57/IF($H57<>"",$H57,MIN($D57:$F57))-1 -> -0.53531889 | AA57: =+S57/IF($H57<>"",$H57,MIN($D57:$F57))-1 -> #NUM! | AB57: =+T57/IF($H57<>"",$H57,MIN($D57:$F57))-1 -> -0.65148917 | AC57: {=MIN(IF(U57:AB57>0,U57:AB57))} -> #NUM! | AD57: =+IFERROR(_xlfn.XLOOKUP(AC57,U57:AB57,$U$3:$AB$3,,0),"Sin medida de tendencia central") -> Sin medida de tendencia central | AE57: =+IFERROR(_xlfn.XLOOKUP(AD57,$M$3:$T$3,M57:T57,,0),"Pendiente") -> Pendiente | AF57: =+AVERAGE(G57:H57) -> 797395.23 | AG57: PROMEDIO IPC - CAMIONAUTOS | AJ57: 655032 | AL57: 797395.23
A58: =+A57+1 -> 44 | B58: HOJA TRASERA | C58: 1 | D58: 1020768 | E58: 11500000 | F58: 11985000 | G58: 1020768 | H58: =+'678-2024 IPC'!H57 -> 1791990.4 | I58: =+D58-G58 -> 0 | J58: =+D58/IF($H58<>"",$H58,MIN($D58:$F58))-1 -> -0.43037195 | K58: =+E58/IF($H58<>"",$H58,MIN($D58:$F58))-1 -> 5.4174451 | L58: =+F58/IF($H58<>"",$H58,MIN($D58:$F58))-1 -> 5.6880939 | M58: =ROUND(GEOMEAN(D58:F58),0) -> 5201009 | N58: =ROUND(AVERAGE(D58:F58),0) -> 8168589 | O58: =ROUND(GEOMEAN(D58:I58),0) -> #NUM! | P58: =ROUND(AVERAGE(D58:I58),0) -> 4553088 | Q58: {=ROUND(GEOMEAN(SMALL(D58:I58,{1;2;3})),0)} -> #NUM! | R58: {=ROUND(AVERAGE(SMALL(D58:I58,{1;2;3})),0)} -> 680512 | S58: {=ROUND(GEOMEAN(SMALL(D58:I58,{1;2})),0)} -> #NUM! | T58: {=ROUND(AVERAGE(SMALL(D58:I58,{1;2})),0)} -> 510384 | U58: =+M58/IF($H58<>"",$H58,MIN($D58:$F58))-1 -> 1.9023643 | V58: =+N58/IF($H58<>"",$H58,MIN($D58:$F58))-1 -> 3.5583888 | W58: =+O58/IF($H58<>"",$H58,MIN($D58:$F58))-1 -> #NUM! | X58: =+P58/IF($H58<>"",$H58,MIN($D58:$F58))-1 -> 1.5407993 | Y58: =+Q58/IF($H58<>"",$H58,MIN($D58:$F58))-1 -> #NUM! | Z58: =+R58/IF($H58<>"",$H58,MIN($D58:$F58))-1 -> -0.62024797 | AA58: =+S58/IF($H58<>"",$H58,MIN($D58:$F58))-1 -> #NUM! | AB58: =+T58/IF($H58<>"",$H58,MIN($D58:$F58))-1 -> -0.71518597 | AC58: {=MIN(IF(U58:AB58>0,U58:AB58))} -> #NUM! | AD58: =+IFERROR(_xlfn.XLOOKUP(AC58,U58:AB58,$U$3:$AB$3,,0),"Sin medida de tendencia central") -> Sin medida de tendencia central | AE58: =+IFERROR(_xlfn.XLOOKUP(AD58,$M$3:$T$3,M58:T58,,0),"Pendiente") -> Pendiente | AF58: =+AVERAGE(G58:H58) -> 1406379.2 | AG58: PROMEDIO IPC - CAMIONAUTOS | AJ58: 1020768 | AL58: 1406379.2
A59: =+A58+1 -> 45 | B59: HOJA DELANTERA | C59: 1 | D59: 974120 | E59: 10500000 | F59: 10935000 | G59: 974120 | H59: =+'678-2024 IPC'!H58 -> 1518223.2 | I59: =+D59-G59 -> 0 | J59: =+D59/IF($H59<>"",$H59,MIN($D59:$F59))-1 -> -0.35838157 | K59: =+E59/IF($H59<>"",$H59,MIN($D59:$F59))-1 -> 5.915979 | L59: =+F59/IF($H59<>"",$H59,MIN($D59:$F59))-1 -> 6.2024982 | M59: =ROUND(GEOMEAN(D59:F59),0) -> 4818075 | N59: =ROUND(AVERAGE(D59:F59),0) -> 7469707 | O59: =ROUND(GEOMEAN(D59:I59),0) -> #NUM! | P59: =ROUND(AVERAGE(D59:I59),0) -> 4150244 | Q59: {=ROUND(GEOMEAN(SMALL(D59:I59,{1;2;3})),0)} -> #NUM! | R59: {=ROUND(AVERAGE(SMALL(D59:I59,{1;2;3})),0)} -> 649413 | S59: {=ROUND(GEOMEAN(SMALL(D59:I59,{1;2})),0)} -> #NUM! | T59: {=ROUND(AVERAGE(SMALL(D59:I59,{1;2})),0)} -> 487060 | U59: =+M59/IF($H59<>"",$H59,MIN($D59:$F59))-1 -> 2.1734958 | V59: =+N59/IF($H59<>"",$H59,MIN($D59:$F59))-1 -> 3.9200321 | W59: =+O59/IF($H59<>"",$H59,MIN($D59:$F59))-1 -> #NUM! | X59: =+P59/IF($H59<>"",$H59,MIN($D59:$F59))-1 -> 1.7336191 | Y59: =+Q59/IF($H59<>"",$H59,MIN($D59:$F59))-1 -> #NUM! | Z59: =+R59/IF($H59<>"",$H59,MIN($D59:$F59))-1 -> -0.5722546 | AA59: =+S59/IF($H59<>"",$H59,MIN($D59:$F59))-1 -> #NUM! | AB59: =+T59/IF($H59<>"",$H59,MIN($D59:$F59))-1 -> -0.67919079 | AC59: {=MIN(IF(U59:AB59>0,U59:AB59))} -> #NUM! | AD59: =+IFERROR(_xlfn.XLOOKUP(AC59,U59:AB59,$U$3:$AB$3,,0),"Sin medida de tendencia central") -> Sin medida de tendencia central | AE59: =+IFERROR(_xlfn.XLOOKUP(AD59,$M$3:$T$3,M59:T59,,0),"Pendiente") -> Pendiente | AF59: =+AVERAGE(G59:H59) -> 1246171.6 | AG59: PROMEDIO IPC - CAMIONAUTOS | AJ59: 974120 | AL59: 1246171.6
A60: =+A59+1 -> 46 | B60: HOJA PRINCIPAL MUELLE DELANTERO | C60: 1 | D60: 1180312 | E60: 11500000 | F60: 11985000 | G60: 1180312 | H60: =+'678-2024 IPC'!H59 -> 1618253.5 | I60: =+D60-G60 -> 0 | J60: =+D60/IF($H60<>"",$H60,MIN($D60:$F60))-1 -> -0.27062604 | K60: =+E60/IF($H60<>"",$H60,MIN($D60:$F60))-1 -> 6.1064266 | L60: =+F60/IF($H60<>"",$H60,MIN($D60:$F60))-1 -> 6.4061324 | M60: =ROUND(GEOMEAN(D60:F60),0) -> 5458972 | N60: =ROUND(AVERAGE(D60:F60),0) -> 8221771 | O60: =ROUND(GEOMEAN(D60:I60),0) -> #NUM! | P60: =ROUND(AVERAGE(D60:I60),0) -> 4577313 | Q60: {=ROUND(GEOMEAN(SMALL(D60:I60,{1;2;3})),0)} -> #NUM! | R60: {=ROUND(AVERAGE(SMALL(D60:I60,{1;2;3})),0)} -> 786875 | S60: {=ROUND(GEOMEAN(SMALL(D60:I60,{1;2})),0)} -> #NUM! | T60: {=ROUND(AVERAGE(SMALL(D60:I60,{1;2})),0)} -> 590156 | U60: =+M60/IF($H60<>"",$H60,MIN($D60:$F60))-1 -> 2.3733725 | V60: =+N60/IF($H60<>"",$H60,MIN($D60:$F60))-1 -> 4.0806445 | W60: =+O60/IF($H60<>"",$H60,MIN($D60:$F60))-1 -> #NUM! | X60: =+P60/IF($H60<>"",$H60,MIN($D60:$F60))-1 -> 1.8285512 | Y60: =+Q60/IF($H60<>"",$H60,MIN($D60:$F60))-1 -> #NUM! | Z60: =+R60/IF($H60<>"",$H60,MIN($D60:$F60))-1 -> -0.51375048 | AA60: =+S60/IF($H60<>"",$H60,MIN($D60:$F60))-1 -> #NUM! | AB60: =+T60/IF($H60<>"",$H60,MIN($D60:$F60))-1 -> -0.63531302 | AC60: {=MIN(IF(U60:AB60>0,U60:AB60))} -> #NUM! | AD60: =+IFERROR(_xlfn.XLOOKUP(AC60,U60:AB60,$U$3:$AB$3,,0),"Sin medida de tendencia central") -> Sin medida de tendencia central | AE60: =+IFERROR(_xlfn.XLOOKUP(AD60,$M$3:$T$3,M60:T60,,0),"Pendiente") -> Pendiente | AF60: =+AVERAGE(G60:H60) -> 1399282.8 | AG60: PROMEDIO IPC - CAMIONAUTOS | AJ60: 1180312 | AL60: 1399282.8
B61: SISTEMA DE ILUMINACIÓN | I61: =+D61-G61 -> 0
A62: =+A60+1 -> 47 | B62: BOMBILLO UNIDAD | C62: 1 | D62: 9283050 | E62: 520000 | F62: 541200 | G62: 283050 | H62: =+'678-2024 IPC'!H61 -> 49598.363 | I62: =+D62-G62 -> 9000000 | J62: =+D62/IF($H62<>"",$H62,MIN($D62:$F62))-1 -> 186.16444 | K62: =+E62/IF($H62<>"",$H62,MIN($D62:$F62))-1 -> 9.4842169 | L62: =+F62/IF($H62<>"",$H62,MIN($D62:$F62))-1 -> 9.9116504 | M62: =ROUND(GEOMEAN(D62:F62),0) -> 1377264 | N62: =ROUND(AVERAGE(D62:F62),0) -> 3448083 | O62: =ROUND(GEOMEAN(D62:I62),0) -> 831325 | P62: =ROUND(AVERAGE(D62:I62),0) -> 3279483 | Q62: {=ROUND(GEOMEAN(SMALL(D62:I62,{1;2;3})),0)} -> 193989 | R62: {=ROUND(AVERAGE(SMALL(D62:I62,{1;2;3})),0)} -> 284216 | S62: {=ROUND(GEOMEAN(SMALL(D62:I62,{1;2})),0)} -> 118486 | T62: {=ROUND(AVERAGE(SMALL(D62:I62,{1;2})),0)} -> 166324 | U62: =+M62/IF($H62<>"",$H62,MIN($D62:$F62))-1 -> 26.768336 | V62: =+N62/IF($H62<>"",$H62,MIN($D62:$F62))-1 -> 68.520097 | W62: =+O62/IF($H62<>"",$H62,MIN($D62:$F62))-1 -> 15.761138 | X62: =+P62/IF($H62<>"",$H62,MIN($D62:$F62))-1 -> 65.120791 | Y62: =+Q62/IF($H62<>"",$H62,MIN($D62:$F62))-1 -> 2.9111976 | Z62: =+R62/IF($H62<>"",$H62,MIN($D62:$F62))-1 -> 4.7303504 | AA62: =+S62/IF($H62<>"",$H62,MIN($D62:$F62))-1 -> 1.3889095 | AB62: =+T62/IF($H62<>"",$H62,MIN($D62:$F62))-1 -> 2.3534171 | AC62: {=MIN(IF(U62:AB62>0,U62:AB62))} -> 1.3889095 | AD62: =+IFERROR(_xlfn.XLOOKUP(AC62,U62:AB62,$U$3:$AB$3,,0),"Sin medida de tendencia central") -> MEDIA GEOMETRICA 2 más bajos | AE62: =+IFERROR(_xlfn.XLOOKUP(AD62,$M$3:$T$3,M62:T62,,0),"Pendiente") -> 118486 | AF62: =+AVERAGE(G62:H62) -> 166324.18 | AG62: PROMEDIO IPC - CAMIONAUTOS | AJ62: 9283050 | AL62: 166324.18
A63: =+A62+1 -> 48 | B63: BOMBILLO DIRECCIONAL DELANTERO | C63: 1 | D63: 187082 | E63: 440000 | F63: 457200 | G63: 187082 | I63: =+D63-G63 -> 0 | J63: =+D63/IF($H63<>"",$H63,MIN($D63:$F63))-1 -> 0 | K63: =+E63/IF($H63<>"",$H63,MIN($D63:$F63))-1 -> 1.3519099 | L63: =+F63/IF($H63<>"",$H63,MIN($D63:$F63))-1 -> 1.4438482 | M63: =ROUND(GEOMEAN(D63:F63),0) -> 335117 | N63: =ROUND(AVERAGE(D63:F63),0) -> 361427 | O63: =ROUND(GEOMEAN(D63:I63),0) -> #NUM! | P63: =ROUND(AVERAGE(D63:I63),0) -> 254273 | Q63: {=ROUND(GEOMEAN(SMALL(D63:I63,{1;2;3})),0)} -> #NUM! | R63: {=ROUND(AVERAGE(SMALL(D63:I63,{1;2;3})),0)} -> 124721 | S63: {=ROUND(GEOMEAN(SMALL(D63:I63,{1;2})),0)} -> #NUM! | T63: {=ROUND(AVERAGE(SMALL(D63:I63,{1;2})),0)} -> 93541 | U63: =+M63/IF($H63<>"",$H63,MIN($D63:$F63))-1 -> 0.79128404 | V63: =+N63/IF($H63<>"",$H63,MIN($D63:$F63))-1 -> 0.93191755 | W63: =+O63/IF($H63<>"",$H63,MIN($D63:$F63))-1 -> #NUM! | X63: =+P63/IF($H63<>"",$H63,MIN($D63:$F63))-1 -> 0.35915267 | Y63: =+Q63/IF($H63<>"",$H63,MIN($D63:$F63))-1 -> #NUM! | Z63: =+R63/IF($H63<>"",$H63,MIN($D63:$F63))-1 -> -0.33333512 | AA63: =+S63/IF($H63<>"",$H63,MIN($D63:$F63))-1 -> #NUM! | AB63: =+T63/IF($H63<>"",$H63,MIN($D63:$F63))-1 -> -0.5 | AC63: {=MIN(IF(U63:AB63>0,U63:AB63))} -> #NUM! | AD63: =+IFERROR(_xlfn.XLOOKUP(AC63,U63:AB63,$U$3:$AB$3,,0),"Sin medida de tendencia central") -> Sin medida de tendencia central | AE63: =+IFERROR(_xlfn.XLOOKUP(AD63,$M$3:$T$3,M63:T63,,0),"Pendiente") -> Pendiente | AF63: =+AVERAGE(G63:H63) -> 187082 | AG63: MENOR VALOR -SOLO LA DE CAMIONAUTOS | AJ63: 187082 | AL63: 187082
A64: =+A63+1 -> 49 | B64: BOMBILLO DE STOP | C64: 1 | D64: 153958 | E64: 490000 | F64: 509700 | G64: 153958 | I64: =+D64-G64 -> 0 | J64: =+D64/IF($H64<>"",$H64,MIN($D64:$F64))-1 -> 0 | K64: =+E64/IF($H64<>"",$H64,MIN($D64:$F64))-1 -> 2.1826862 | L64: =+F64/IF($H64<>"",$H64,MIN($D64:$F64))-1 -> 2.3106432 | M64: =ROUND(GEOMEAN(D64:F64),0) -> 337524 | N64: =ROUND(AVERAGE(D64:F64),0) -> 384553 | O64: =ROUND(GEOMEAN(D64:I64),0) -> #NUM! | P64: =ROUND(AVERAGE(D64:I64),0) -> 261523 | Q64: {=ROUND(GEOMEAN(SMALL(D64:I64,{1;2;3})),0)} -> #NUM! | R64: {=ROUND(AVERAGE(SMALL(D64:I64,{1;2;3})),0)} -> 102639 | S64: {=ROUND(GEOMEAN(SMALL(D64:I64,{1;2})),0)} -> #NUM! | T64: {=ROUND(AVERAGE(SMALL(D64:I64,{1;2})),0)} -> 76979 | U64: =+M64/IF($H64<>"",$H64,MIN($D64:$F64))-1 -> 1.1923122 | V64: =+N64/IF($H64<>"",$H64,MIN($D64:$F64))-1 -> 1.4977786 | W64: =+O64/IF($H64<>"",$H64,MIN($D64:$F64))-1 -> #NUM! | X64: =+P64/IF($H64<>"",$H64,MIN($D64:$F64))-1 -> 0.69866457 | Y64: =+Q64/IF($H64<>"",$H64,MIN($D64:$F64))-1 -> #NUM! | Z64: =+R64/IF($H64<>"",$H64,MIN($D64:$F64))-1 -> -0.33333117 | AA64: =+S64/IF($H64<>"",$H64,MIN($D64:$F64))-1 -> #NUM! | AB64: =+T64/IF($H64<>"",$H64,MIN($D64:$F64))-1 -> -0.5 | AC64: {=MIN(IF(U64:AB64>0,U64:AB64))} -> #NUM! | AD64: =+IFERROR(_xlfn.XLOOKUP(AC64,U64:AB64,$U$3:$AB$3,,0),"Sin medida de tendencia central") -> Sin medida de tendencia central | AE64: =+IFERROR(_xlfn.XLOOKUP(AD64,$M$3:$T$3,M64:T64,,0),"Pendiente") -> Pendiente | AF64: =+AVERAGE(G64:H64) -> 153958 | AG64: MENOR VALOR -SOLO LA DE CAMIONAUTOS | AJ64: 153958 | AL64: 153958
A65: =+A64+1 -> 50 | B65: CINTA REFLECTIVA (METRO) | C65: 1 | D65: 71383.2 | E65: 540000 | F65: 562200 | G65: 71383 | H65: =+'678-2024 IPC'!H64 -> 13704.811 | I65: =+D65-G65 -> 0.2 | J65: =+D65/IF($H65<>"",$H65,MIN($D65:$F65))-1 -> 4.2086235 | K65: =+E65/IF($H65<>"",$H65,MIN($D65:$F65))-1 -> 38.402222 | L65: =+F65/IF($H65<>"",$H65,MIN($D65:$F65))-1 -> 40.022091 | M65: =ROUND(GEOMEAN(D65:F65),0) -> 278800 | N65: =ROUND(AVERAGE(D65:F65),0) -> 391194 | O65: =ROUND(GEOMEAN(D65:I65),0) -> 12722 | P65: =ROUND(AVERAGE(D65:I65),0) -> 209779 | Q65: {=ROUND(GEOMEAN(SMALL(D65:I65,{1;2;3})),0)} -> 581 | R65: {=ROUND(AVERAGE(SMALL(D65:I65,{1;2;3})),0)} -> 28363 | S65: {=ROUND(GEOMEAN(SMALL(D65:I65,{1;2})),0)} -> 52 | T65: {=ROUND(AVERAGE(SMALL(D65:I65,{1;2})),0)} -> 6853 | U65: =+M65/IF($H65<>"",$H65,MIN($D65:$F65))-1 -> 19.343221 | V65: =+N65/IF($H65<>"",$H65,MIN($D65:$F65))-1 -> 27.544283 | W65: =+O65/IF($H65<>"",$H65,MIN($D65:$F65))-1 -> -0.071712838 | X65: =+P65/IF($H65<>"",$H65,MIN($D65:$F65))-1 -> 14.306961 | Y65: =+Q65/IF($H65<>"",$H65,MIN($D65:$F65))-1 -> -0.95760613 | Z65: =+R65/IF($H65<>"",$H65,MIN($D65:$F65))-1 -> 1.0695652 | AA65: =+S65/IF($H65<>"",$H65,MIN($D65:$F65))-1 -> -0.99620571 | AB65: =+T65/IF($H65<>"",$H65,MIN($D65:$F65))-1 -> -0.49995662 | AC65: {=MIN(IF(U65:AB65>0,U65:AB65))} -> 1.0695652 | AD65: =+IFERROR(_xlfn.XLOOKUP(AC65,U65:AB65,$U$3:$AB$3,,0),"Sin medida de tendencia central") -> PROMEDIO SIMPLE 3 más bajas | AE65: =+IFERROR(_xlfn.XLOOKUP(AD65,$M$3:$T$3,M65:T65,,0),"Pendiente") -> 28363 | AF65: =+AVERAGE(G65:H65) -> 42543.905 | AG65: PROMEDIO IPC - CAMIONAUTOS | AJ65: 71383.2 | AL65: 42543.905
B66: SISTEMA DE TRANSMISIÓN | I66: =+D66-G66 -> 0
A67: =+A65+1 -> 51 | B67: KIT EMBRAGUE | C67: 1 | D67: 4080980 | E67: 23000000 | F67: 23970000 | G67: 5080980 | H67: =+'678-2024 IPC'!H66 -> 3236945.8 | I67: =+D67-G67 -> -1000000 | J67: =+D67/IF($H67<>"",$H67,MIN($D67:$F67))-1 -> 0.26075018 | K67: =+E67/IF($H67<>"",$H67,MIN($D67:$F67))-1 -> 6.1054634 | L67: =+F67/IF($H67<>"",$H67,MIN($D67:$F67))-1 -> 6.4051286 | M67: =ROUND(GEOMEAN(D67:F67),0) -> 13103484 | N67: =ROUND(AVERAGE(D67:F67),0) -> 17016993 | O67: =ROUND(GEOMEAN(D67:I67),0) -> #NUM! | P67: =ROUND(AVERAGE(D67:I67),0) -> 9728151 | Q67: {=ROUND(GEOMEAN(SMALL(D67:I67,{1;2;3})),0)} -> #NUM! | R67: {=ROUND(AVERAGE(SMALL(D67:I67,{1;2;3})),0)} -> 2105975 | S67: {=ROUND(GEOMEAN(SMALL(D67:I67,{1;2})),0)} -> #NUM! | T67: {=ROUND(AVERAGE(SMALL(D67:I67,{1;2})),0)} -> 1118473 | U67: =+M67/IF($H67<>"",$H67,MIN($D67:$F67))-1 -> 3.0481011 | V67: =+N67/IF($H67<>"",$H67,MIN($D67:$F67))-1 -> 4.257114 | W67: =+O67/IF($H67<>"",$H67,MIN($D67:$F67))-1 -> #NUM! | X67: =+P67/IF($H67<>"",$H67,MIN($D67:$F67))-1 -> 2.0053487 | Y67: =+Q67/IF($H67<>"",$H67,MIN($D67:$F67))-1 -> #NUM! | Z67: =+R67/IF($H67<>"",$H67,MIN($D67:$F67))-1 -> -0.34939442 | AA67: =+S67/IF($H67<>"",$H67,MIN($D67:$F67))-1 -> #NUM! | AB67: =+T67/IF($H67<>"",$H67,MIN($D67:$F67))-1 -> -0.65446657 | AC67: {=MIN(IF(U67:AB67>0,U67:AB67))} -> #NUM! | AD67: =+IFERROR(_xlfn.XLOOKUP(AC67,U67:AB67,$U$3:$AB$3,,0),"Sin medida de tendencia central") -> Sin medida de tendencia central | AE67: =+IFERROR(_xlfn.XLOOKUP(AD67,$M$3:$T$3,M67:T67,,0),"Pendiente") -> Pendiente | AF67: =+AVERAGE(G67:H67) -> 4158962.9 | AG67: PROMEDIO IPC - CAMIONAUTOS | AJ67: 4080980 | AL67: 4158962.9
A68: =+A67+1 -> 52 | B68: BALINERA VOLANTE | C68: 1 | D68: 655032 | E68: 9000000 | F68: 9390000 | G68: 655032 | H68: =+'678-2024 IPC'!H67 -> 62650.564 | I68: =+D68-G68 -> 0 | J68: =+D68/IF($H68<>"",$H68,MIN($D68:$F68))-1 -> 9.4553249 | K68: =+E68/IF($H68<>"",$H68,MIN($D68:$F68))-1 -> 142.65393 | L68: =+F68/IF($H68<>"",$H68,MIN($D68:$F68))-1 -> 148.87894 | M68: =ROUND(GEOMEAN(D68:F68),0) -> 3811157 | N68: =ROUND(AVERAGE(D68:F68),0) -> 6348344 | O68: =ROUND(GEOMEAN(D68:I68),0) -> #NUM! | P68: =ROUND(AVERAGE(D68:I68),0) -> 3293786 | Q68: {=ROUND(GEOMEAN(SMALL(D68:I68,{1;2;3})),0)} -> #NUM! | R68: {=ROUND(AVERAGE(SMALL(D68:I68,{1;2;3})),0)} -> 239228 | S68: {=ROUND(GEOMEAN(SMALL(D68:I68,{1;2})),0)} -> #NUM! | T68: {=ROUND(AVERAGE(SMALL(D68:I68,{1;2})),0)} -> 31325 | U68: =+M68/IF($H68<>"",$H68,MIN($D68:$F68))-1 -> 59.831966 | V68: =+N68/IF($H68<>"",$H68,MIN($D68:$F68))-1 -> 100.3294 | W68: =+O68/IF($H68<>"",$H68,MIN($D68:$F68))-1 -> #NUM! | X68: =+P68/IF($H68<>"",$H68,MIN($D68:$F68))-1 -> 51.573924 | Y68: =+Q68/IF($H68<>"",$H68,MIN($D68:$F68))-1 -> #NUM! | Z68: =+R68/IF($H68<>"",$H68,MIN($D68:$F68))-1 -> 2.8184493 | AA68: =+S68/IF($H68<>"",$H68,MIN($D68:$F68))-1 -> #NUM! | AB68: =+T68/IF($H68<>"",$H68,MIN($D68:$F68))-1 -> -0.5000045 | AC68: {=MIN(IF(U68:AB68>0,U68:AB68))} -> #NUM! | AD68: =+IFERROR(_xlfn.XLOOKUP(AC68,U68:AB68,$U$3:$AB$3,,0),"Sin medida de tendencia central") -> Sin medida de tendencia central | AE68: =+IFERROR(_xlfn.XLOOKUP(AD68,$M$3:$T$3,M68:T68,,0),"Pendiente") -> Pendiente | AF68: =+AVERAGE(G68:H68) -> 358841.28 | AG68: PROMEDIO IPC - CAMIONAUTOS | AJ68: 655032 | AL68: 358841.28
A69: =+A68+1 -> 53 | B69: RECTIFICAR VOLANTE | C69: 1 | D69: 686000 | E69: 3620000 | F69: 3731000 | G69: 686000 | H69: =+'678-2024 IPC'!H68 -> 313252.82 | I69: =+D69-G69 -> 0 | J69: =+D69/IF($H69<>"",$H69,MIN($D69:$F69))-1 -> 1.1899244 | K69: =+E69/IF($H69<>"",$H69,MIN($D69:$F69))-1 -> 10.556161 | L69: =+F69/IF($H69<>"",$H69,MIN($D69:$F69))-1 -> 10.910507 | M69: =ROUND(GEOMEAN(D69:F69),0) -> 2100322 | N69: =ROUND(AVERAGE(D69:F69),0) -> 2679000 | O69: =ROUND(GEOMEAN(D69:I69),0) -> #NUM! | P69: =ROUND(AVERAGE(D69:I69),0) -> 1506042 | Q69: {=ROUND(GEOMEAN(SMALL(D69:I69,{1;2;3})),0)} -> #NUM! | R69: {=ROUND(AVERAGE(SMALL(D69:I69,{1;2;3})),0)} -> 333084 | S69: {=ROUND(GEOMEAN(SMALL(D69:I69,{1;2})),0)} -> #NUM! | T69: {=ROUND(AVERAGE(SMALL(D69:I69,{1;2})),0)} -> 156626 | U69: =+M69/IF($H69<>"",$H69,MIN($D69:$F69))-1 -> 5.7048782 | V69: =+N69/IF($H69<>"",$H69,MIN($D69:$F69))-1 -> 7.5521975 | W69: =+O69/IF($H69<>"",$H69,MIN($D69:$F69))-1 -> #NUM! | X69: =+P69/IF($H69<>"",$H69,MIN($D69:$F69))-1 -> 3.8077524 | Y69: =+Q69/IF($H69<>"",$H69,MIN($D69:$F69))-1 -> #NUM! | Z69: =+R69/IF($H69<>"",$H69,MIN($D69:$F69))-1 -> 0.063307267 | AA69: =+S69/IF($H69<>"",$H69,MIN($D69:$F69))-1 -> #NUM! | AB69: =+T69/IF($H69<>"",$H69,MIN($D69:$F69))-1 -> -0.50000131 | AC69: {=MIN(IF(U69:AB69>0,U69:AB69))} -> #NUM! | AD69: =+IFERROR(_xlfn.XLOOKUP(AC69,U69:AB69,$U$3:$AB$3,,0),"Sin medida de tendencia central") -> Sin medida de tendencia central | AE69: =+IFERROR(_xlfn.XLOOKUP(AD69,$M$3:$T$3,M69:T69,,0),"Pendiente") -> Pendiente | AF69: =+AVERAGE(G69:H69) -> 499626.41 | AG69: PROMEDIO IPC - CAMIONAUTOS | AJ69: 686000 | AL69: 499626.41
A70: =+A69+1 -> 54 | B70: DESMONTE Y MONTE CAJA DE VELOCIDADES | C70: 1 | D70: 2105810 | E70: 5620000 | F70: 5791000 | G70: 2105810 | H70: =+'678-2024 IPC'!H69 -> 1018071.7 | I70: =+D70-G70 -> 0 | J70: =+D70/IF($H70<>"",$H70,MIN($D70:$F70))-1 -> 1.06843 | K70: =+E70/IF($H70<>"",$H70,MIN($D70:$F70))-1 -> 4.5202401 | L70: =+F70/IF($H70<>"",$H70,MIN($D70:$F70))-1 -> 4.6882047 | M70: =ROUND(GEOMEAN(D70:F70),0) -> 4092321 | N70: =ROUND(AVERAGE(D70:F70),0) -> 4505603 | O70: =ROUND(GEOMEAN(D70:I70),0) -> #NUM! | P70: =ROUND(AVERAGE(D70:I70),0) -> 2773449 | Q70: {=ROUND(GEOMEAN(SMALL(D70:I70,{1;2;3})),0)} -> #NUM! | R70: {=ROUND(AVERAGE(SMALL(D70:I70,{1;2;3})),0)} -> 1041294 | S70: {=ROUND(GEOMEAN(SMALL(D70:I70,{1;2})),0)} -> #NUM! | T70: {=ROUND(AVERAGE(SMALL(D70:I70,{1;2})),0)} -> 509036 | U70: =+M70/IF($H70<>"",$H70,MIN($D70:$F70))-1 -> 3.0196787 | V70: =+N70/IF($H70<>"",$H70,MIN($D70:$F70))-1 -> 3.4256246 | W70: =+O70/IF($H70<>"",$H70,MIN($D70:$F70))-1 -> #NUM! | X70: =+P70/IF($H70<>"",$H70,MIN($D70:$F70))-1 -> 1.7242178 | Y70: =+Q70/IF($H70<>"",$H70,MIN($D70:$F70))-1 -> #NUM! | Z70: =+R70/IF($H70<>"",$H70,MIN($D70:$F70))-1 -> 0.022810118 | AA70: =+S70/IF($H70<>"",$H70,MIN($D70:$F70))-1 -> #NUM! | AB70: =+T70/IF($H70<>"",$H70,MIN($D70:$F70))-1 -> -0.49999984 | AC70: {=MIN(IF(U70:AB70>0,U70:AB70))} -> #NUM! | AD70: =+IFERROR(_xlfn.XLOOKUP(AC70,U70:AB70,$U$3:$AB$3,,0),"Sin medida de tendencia central") -> Sin medida de tendencia central | AE70: =+IFERROR(_xlfn.XLOOKUP(AD70,$M$3:$T$3,M70:T70,,0),"Pendiente") -> Pendiente | AF70: =+AVERAGE(G70:H70) -> 1561940.8 | AG70: PROMEDIO IPC - CAMIONAUTOS | AJ70: 2105810 | AL70: 1561940.8
B71: LLANTAS | I71: =+D71-G71 -> 0
A72: =+A70+1 -> 55 | B72: CALIBRACION DE LLANTAS Y VERIFICACION DE ESTADO | C72: 1 | D72: 125988.8 | E72: 720000 | F72: 744000 | G72: 125989 | H72: =+'678-2024 IPC'!H71 -> 135018.99 | I72: =+D72-G72 -> -0.2 | J72: =+D72/IF($H72<>"",$H72,MIN($D72:$F72))-1 -> -0.066880855 | K72: =+E72/IF($H72<>"",$H72,MIN($D72:$F72))-1 -> 4.3325834 | L72: =+F72/IF($H72<>"",$H72,MIN($D72:$F72))-1 -> 4.5103362 | M72: =ROUND(GEOMEAN(D72:F72),0) -> 407142 | N72: =ROUND(AVERAGE(D72:F72),0) -> 529996 | O72: =ROUND(GEOMEAN(D72:I72),0) -> #NUM! | P72: =ROUND(AVERAGE(D72:I72),0) -> 308499 | Q72: {=ROUND(GEOMEAN(SMALL(D72:I72,{1;2;3})),0)} -> #NUM! | R72: {=ROUND(AVERAGE(SMALL(D72:I72,{1;2;3})),0)} -> 83993 | S72: {=ROUND(GEOMEAN(SMALL(D72:I72,{1;2})),0)} -> #NUM! | T72: {=ROUND(AVERAGE(SMALL(D72:I72,{1;2})),0)} -> 62994 | U72: =+M72/IF($H72<>"",$H72,MIN($D72:$F72))-1 -> 2.0154426 | V72: =+N72/IF($H72<>"",$H72,MIN($D72:$F72))-1 -> 2.9253443 | W72: =+O72/IF($H72<>"",$H72,MIN($D72:$F72))-1 -> #NUM! | X72: =+P72/IF($H72<>"",$H72,MIN($D72:$F72))-1 -> 1.2848565 | Y72: =+Q72/IF($H72<>"",$H72,MIN($D72:$F72))-1 -> #NUM! | Z72: =+R72/IF($H72<>"",$H72,MIN($D72:$F72))-1 -> -0.37791711 | AA72: =+S72/IF($H72<>"",$H72,MIN($D72:$F72))-1 -> #NUM! | AB72: =+T72/IF($H72<>"",$H72,MIN($D72:$F72))-1 -> -0.53344339 | AC72: {=MIN(IF(U72:AB72>0,U72:AB72))} -> #NUM! | AD72: =+IFERROR(_xlfn.XLOOKUP(AC72,U72:AB72,$U$3:$AB$3,,0),"Sin medida de tendencia central") -> Sin medida de tendencia central | AE72: =+IFERROR(_xlfn.XLOOKUP(AD72,$M$3:$T$3,M72:T72,,0),"Pendiente") -> Pendiente | AF72: =+AVERAGE(G72:H72) -> 130503.99 | AG72: PROMEDIO IPC - CAMIONAUTOS | AJ72: 125988.8 | AL72: 130503.99
A73: =+A72+1 -> 56 | B73: LLANTAS DIRECCIONALES | C73: 1 | D73: 4393340 | E73: 8400000 | F73: 8812000 | G73: 3393340 | H73: =+'678-2024 IPC'!H72 -> 2193647.2 | I73: =+D73-G73 -> 1000000 | J73: =+D73/IF($H73<>"",$H73,MIN($D73:$F73))-1 -> 1.002756 | K73: =+E73/IF($H73<>"",$H73,MIN($D73:$F73))-1 -> 2.8292393 | L73: =+F73/IF($H73<>"",$H73,MIN($D73:$F73))-1 -> 3.0170543 | M73: =ROUND(GEOMEAN(D73:F73),0) -> 6876744 | N73: =ROUND(AVERAGE(D73:F73),0) -> 7201780 | O73: =ROUND(GEOMEAN(D73:I73),0) -> 3664295 | P73: =ROUND(AVERAGE(D73:I73),0) -> 4698721 | Q73: {=ROUND(GEOMEAN(SMALL(D73:I73,{1;2;3})),0)} -> 1952532 | R73: {=ROUND(AVERAGE(SMALL(D73:I73,{1;2;3})),0)} -> 2195662 | S73: {=ROUND(GEOMEAN(SMALL(D73:I73,{1;2})),0)} -> 1481097 | T73: {=ROUND(AVERAGE(SMALL(D73:I73,{1;2})),0)} -> 1596824 | U73: =+M73/IF($H73<>"",$H73,MIN($D73:$F73))-1 -> 2.134845 | V73: =+N73/IF($H73<>"",$H73,MIN($D73:$F73))-1 -> 2.2830165 | W73: =+O73/IF($H73<>"",$H73,MIN($D73:$F73))-1 -> 0.67041218 | X73: =+P73/IF($H73<>"",$H73,MIN($D73:$F73))-1 -> 1.1419675 | Y73: =+Q73/IF($H73<>"",$H73,MIN($D73:$F73))-1 -> -0.10991521 | Z73: =+R73/IF($H73<>"",$H73,MIN($D73:$F73))-1 -> 0.00091847039 | AA73: =+S73/IF($H73<>"",$H73,MIN($D73:$F73))-1 -> -0.32482443 | AB73: =+T73/IF($H73<>"",$H73,MIN($D73:$F73))-1 -> -0.27206891 | AC73: {=MIN(IF(U73:AB73>0,U73:AB73))} -> 0.00091847039 | AD73: =+IFERROR(_xlfn.XLOOKUP(AC73,U73:AB73,$U$3:$AB$3,,0),"Sin medida de tendencia central") -> PROMEDIO SIMPLE 3 más bajas | AE73: =+IFERROR(_xlfn.XLOOKUP(AD73,$M$3:$T$3,M73:T73,,0),"Pendiente") -> 2195662 | AF73: =+AVERAGE(G73:H73) -> 2793493.6 | AG73: PROMEDIO IPC - CAMIONAUTOS | AJ73: 4393340 | AL73: 2793493.6
A74: =+A73+1 -> 57 | B74: LLANTAS DE TRACCION | C74: 1 | D74: 4976440 | E74: 8400000 | F74: 8812000 | G74: 3976440 | H74: =+'678-2024 IPC'!H73 -> 2193647.2 | I74: =+D74-G74 -> 1000000 | J74: =+D74/IF($H74<>"",$H74,MIN($D74:$F74))-1 -> 1.268569 | K74: =+E74/IF($H74<>"",$H74,MIN($D74:$F74))-1 -> 2.8292393 | L74: =+F74/IF($H74<>"",$H74,MIN($D74:$F74))-1 -> 3.0170543 | M74: =ROUND(GEOMEAN(D74:F74),0) -> 7168432 | N74: =ROUND(AVERAGE(D74:F74),0) -> 7396147 | O74: =ROUND(GEOMEAN(D74:I74),0) -> 3841395 | P74: =ROUND(AVERAGE(D74:I74),0) -> 4893088 | Q74: {=ROUND(GEOMEAN(SMALL(D74:I74,{1;2;3})),0)} -> 2058514 | R74: {=ROUND(AVERAGE(SMALL(D74:I74,{1;2;3})),0)} -> 2390029 | S74: {=ROUND(GEOMEAN(SMALL(D74:I74,{1;2})),0)} -> 1481097 | T74: {=ROUND(AVERAGE(SMALL(D74:I74,{1;2})),0)} -> 1596824 | U74: =+M74/IF($H74<>"",$H74,MIN($D74:$F74))-1 -> 2.2678144 | V74: =+N74/IF($H74<>"",$H74,MIN($D74:$F74))-1 -> 2.371621 | W74: =+O74/IF($H74<>"",$H74,MIN($D74:$F74))-1 -> 0.75114531 | X74: =+P74/IF($H74<>"",$H74,MIN($D74:$F74))-1 -> 1.230572 | Y74: =+Q74/IF($H74<>"",$H74,MIN($D74:$F74))-1 -> -0.061602066 | Z74: =+R74/IF($H74<>"",$H74,MIN($D74:$F74))-1 -> 0.089522964 | AA74: =+S74/IF($H74<>"",$H74,MIN($D74:$F74))-1 -> -0.32482443 | AB74: =+T74/IF($H74<>"",$H74,MIN($D74:$F74))-1 -> -0.27206891 | AC74: {=MIN(IF(U74:AB74>0,U74:AB74))} -> 0.089522964 | AD74: =+IFERROR(_xlfn.XLOOKUP(AC74,U74:AB74,$U$3:$AB$3,,0),"Sin medida de tendencia central") -> PROMEDIO SIMPLE 3 más bajas | AE74: =+IFERROR(_xlfn.XLOOKUP(AD74,$M$3:$T$3,M74:T74,,0),"Pendiente") -> 2390029 | AF74: =+AVERAGE(G74:H74) -> 3085043.6 | AG74: PROMEDIO IPC - CAMIONAUTOS | AJ74: 4976440 | AL74: 3085043.6
A75: =+A74+1 -> 58 | B75: DESPINCHE | C75: 1 | D75: 356510 | E75: 550000 | F75: 569500 | G75: 356510 | H75: =+'678-2024 IPC'!H74 -> 162878.3 | I75: =+D75-G75 -> 0 | J75: =+D75/IF($H75<>"",$H75,MIN($D75:$F75))-1 -> 1.1888121 | K75: =+E75/IF($H75<>"",$H75,MIN($D75:$F75))-1 -> 2.3767542 | L75: =+F75/IF($H75<>"",$H75,MIN($D75:$F75))-1 -> 2.4964755 | M75: =ROUND(GEOMEAN(D75:F75),0) -> 481551 | N75: =ROUND(AVERAGE(D75:F75),0) -> 492003 | O75: =ROUND(GEOMEAN(D75:I75),0) -> #NUM! | P75: =ROUND(AVERAGE(D75:I75),0) -> 332566 | Q75: {=ROUND(GEOMEAN(SMALL(D75:I75,{1;2;3})),0)} -> #NUM! | R75: {=ROUND(AVERAGE(SMALL(D75:I75,{1;2;3})),0)} -> 173129 | S75: {=ROUND(GEOMEAN(SMALL(D75:I75,{1;2})),0)} -> #NUM! | T75: {=ROUND(AVERAGE(SMALL(D75:I75,{1;2})),0)} -> 81439 | U75: =+M75/IF($H75<>"",$H75,MIN($D75:$F75))-1 -> 1.9565079 | V75: =+N75/IF($H75<>"",$H75,MIN($D75:$F75))-1 -> 2.0206785 | W75: =+O75/IF($H75<>"",$H75,MIN($D75:$F75))-1 -> #NUM! | X75: =+P75/IF($H75<>"",$H75,MIN($D75:$F75))-1 -> 1.0418066 | Y75: =+Q75/IF($H75<>"",$H75,MIN($D75:$F75))-1 -> #NUM! | Z75: =+R75/IF($H75<>"",$H75,MIN($D75:$F75))-1 -> 0.062934689 | AA75: =+S75/IF($H75<>"",$H75,MIN($D75:$F75))-1 -> #NUM! | AB75: =+T75/IF($H75<>"",$H75,MIN($D75:$F75))-1 -> -0.50000094 | AC75: {=MIN(IF(U75:AB75>0,U75:AB75))} -> #NUM! | AD75: =+IFERROR(_xlfn.XLOOKUP(AC75,U75:AB75,$U$3:$AB$3,,0),"Sin medida de tendencia central") -> Sin medida de tendencia central | AE75: =+IFERROR(_xlfn.XLOOKUP(AD75,$M$3:$T$3,M75:T75,,0),"Pendiente") -> Pendiente | AF75: =+AVERAGE(G75:H75) -> 259694.15 | AG75: PROMEDIO IPC - CAMIONAUTOS | AJ75: 356510 | AL75: 259694.15
A76: =+A75+1 -> 59 | B76: BALANCEO | C76: 1 | D76: 171745 | E76: 1170000 | F76: 1207100 | G76: 171745 | H76: =+'678-2024 IPC'!H75 -> 313252.82 | I76: =+D76-G76 -> 0 | J76: =+D76/IF($H76<>"",$H76,MIN($D76:$F76))-1 -> -0.45173678 | K76: =+E76/IF($H76<>"",$H76,MIN($D76:$F76))-1 -> 2.7350023 | L76: =+F76/IF($H76<>"",$H76,MIN($D76:$F76))-1 -> 2.853437 | M76: =ROUND(GEOMEAN(D76:F76),0) -> 623645 | N76: =ROUND(AVERAGE(D76:F76),0) -> 849615 | O76: =ROUND(GEOMEAN(D76:I76),0) -> #NUM! | P76: =ROUND(AVERAGE(D76:I76),0) -> 505640 | Q76: {=ROUND(GEOMEAN(SMALL(D76:I76,{1;2;3})),0)} -> #NUM! | R76: {=ROUND(AVERAGE(SMALL(D76:I76,{1;2;3})),0)} -> 114497 | S76: {=ROUND(GEOMEAN(SMALL(D76:I76,{1;2})),0)} -> #NUM! | T76: {=ROUND(AVERAGE(SMALL(D76:I76,{1;2})),0)} -> 85873 | U76: =+M76/IF($H76<>"",$H76,MIN($D76:$F76))-1 -> 0.99086795 | V76: =+N76/IF($H76<>"",$H76,MIN($D76:$F76))-1 -> 1.7122342 | W76: =+O76/IF($H76<>"",$H76,MIN($D76:$F76))-1 -> #NUM! | X76: =+P76/IF($H76<>"",$H76,MIN($D76:$F76))-1 -> 0.61415945 | Y76: =+Q76/IF($H76<>"",$H76,MIN($D76:$F76))-1 -> #NUM! | Z76: =+R76/IF($H76<>"",$H76,MIN($D76:$F76))-1 -> -0.63449012 | AA76: =+S76/IF($H76<>"",$H76,MIN($D76:$F76))-1 -> #NUM! | AB76: =+T76/IF($H76<>"",$H76,MIN($D76:$F76))-1 -> -0.72586679 | AC76: {=MIN(IF(U76:AB76>0,U76:AB76))} -> #NUM! | AD76: =+IFERROR(_xlfn.XLOOKUP(AC76,U76:AB76,$U$3:$AB$3,,0),"Sin medida de tendencia central") -> Sin medida de tendencia central | AE76: =+IFERROR(_xlfn.XLOOKUP(AD76,$M$3:$T$3,M76:T76,,0),"Pendiente") -> Pendiente | AF76: =+AVERAGE(G76:H76) -> 242498.91 | AG76: PROMEDIO IPC - CAMIONAUTOS | AJ76: 171745 | AL76: 242498.91
A77: =+A76+1 -> 60 | B77: ROTACIÓN DE LLANTAS | C77: 1 | D77: 350400 | E77: 1950000 | F77: 2013500 | G77: 350400 | H77: =+'678-2024 IPC'!H76 -> 153555.3 | I77: =+D77-G77 -> 0 | J77: =+D77/IF($H77<>"",$H77,MIN($D77:$F77))-1 -> 1.281914 | K77: =+E77/IF($H77<>"",$H77,MIN($D77:$F77))-1 -> 11.699008 | L77: =+F77/IF($H77<>"",$H77,MIN($D77:$F77))-1 -> 12.11254 | M77: =ROUND(GEOMEAN(D77:F77),0) -> 1112201 | N77: =ROUND(AVERAGE(D77:F77),0) -> 1437967 | O77: =ROUND(GEOMEAN(D77:I77),0) -> #NUM! | P77: =ROUND(AVERAGE(D77:I77),0) -> 802976 | Q77: {=ROUND(GEOMEAN(SMALL(D77:I77,{1;2;3})),0)} -> #NUM! | R77: {=ROUND(AVERAGE(SMALL(D77:I77,{1;2;3})),0)} -> 167985 | S77: {=ROUND(GEOMEAN(SMALL(D77:I77,{1;2})),0)} -> #NUM! | T77: {=ROUND(AVERAGE(SMALL(D77:I77,{1;2})),0)} -> 76778 | U77: =+M77/IF($H77<>"",$H77,MIN($D77:$F77))-1 -> 6.2429996 | V77: =+N77/IF($H77<>"",$H77,MIN($D77:$F77))-1 -> 8.3644893 | W77: =+O77/IF($H77<>"",$H77,MIN($D77:$F77))-1 -> #NUM! | X77: =+P77/IF($H77<>"",$H77,MIN($D77:$F77))-1 -> 4.22923 | Y77: =+Q77/IF($H77<>"",$H77,MIN($D77:$F77))-1 -> #NUM! | Z77: =+R77/IF($H77<>"",$H77,MIN($D77:$F77))-1 -> 0.093970678 | AA77: =+S77/IF($H77<>"",$H77,MIN($D77:$F77))-1 -> #NUM! | AB77: =+T77/IF($H77<>"",$H77,MIN($D77:$F77))-1 -> -0.49999773 | AC77: {=MIN(IF(U77:AB77>0,U77:AB77))} -> #NUM! | AD77: =+IFERROR(_xlfn.XLOOKUP(AC77,U77:AB77,$U$3:$AB$3,,0),"Sin medida de tendencia central") -> Sin medida de tendencia central | AE77: =+IFERROR(_xlfn.XLOOKUP(AD77,$M$3:$T$3,M77:T77,,0),"Pendiente") -> Pendiente | AF77: =+AVERAGE(G77:H77) -> 251977.65 | AG77: PROMEDIO IPC - CAMIONAUTOS | AJ77: 350400 | AL77: 251977.65
B78: SISTEMA FRENOS | I78: =+D78-G78 -> 0
A79: =+A77+1 -> 61 | B79: BANDAS DE FRENO TRASEROS | C79: 1 | D79: 1332408 | E79: 12300000 | F79: 12839000 | G79: 1332408 | H79: =+'678-2024 IPC'!H78 -> 1201021.8 | I79: =+D79-G79 -> 0 | J79: =+D79/IF($H79<>"",$H79,MIN($D79:$F79))-1 -> 0.10939531 | K79: =+E79/IF($H79<>"",$H79,MIN($D79:$F79))-1 -> 9.2412792 | L79: =+F79/IF($H79<>"",$H79,MIN($D79:$F79))-1 -> 9.6900637 | M79: =ROUND(GEOMEAN(D79:F79),0) -> 5947820 | N79: =ROUND(AVERAGE(D79:F79),0) -> 8823803 | O79: =ROUND(GEOMEAN(D79:I79),0) -> #NUM! | P79: =ROUND(AVERAGE(D79:I79),0) -> 4834140 | Q79: {=ROUND(GEOMEAN(SMALL(D79:I79,{1;2;3})),0)} -> #NUM! | R79: {=ROUND(AVERAGE(SMALL(D79:I79,{1;2;3})),0)} -> 844477 | S79: {=ROUND(GEOMEAN(SMALL(D79:I79,{1;2})),0)} -> #NUM! | T79: {=ROUND(AVERAGE(SMALL(D79:I79,{1;2})),0)} -> 600511 | U79: =+M79/IF($H79<>"",$H79,MIN($D79:$F79))-1 -> 3.9522996 | V79: =+N79/IF($H79<>"",$H79,MIN($D79:$F79))-1 -> 6.346913 | W79: =+O79/IF($H79<>"",$H79,MIN($D79:$F79))-1 -> #NUM! | X79: =+P79/IF($H79<>"",$H79,MIN($D79:$F79))-1 -> 3.0250226 | Y79: =+Q79/IF($H79<>"",$H79,MIN($D79:$F79))-1 -> #NUM! | Z79: =+R79/IF($H79<>"",$H79,MIN($D79:$F79))-1 -> -0.29686791 | AA79: =+S79/IF($H79<>"",$H79,MIN($D79:$F79))-1 -> #NUM! | AB79: =+T79/IF($H79<>"",$H79,MIN($D79:$F79))-1 -> -0.49999993 | AC79: {=MIN(IF(U79:AB79>0,U79:AB79))} -> #NUM! | AD79: =+IFERROR(_xlfn.XLOOKUP(AC79,U79:AB79,$U$3:$AB$3,,0),"Sin medida de tendencia central") -> Sin medida de tendencia central | AE79: =+IFERROR(_xlfn.XLOOKUP(AD79,$M$3:$T$3,M79:T79,,0),"Pendiente") -> Pendiente | AF79: =+AVERAGE(G79:H79) -> 1266714.9 | AG79: PROMEDIO IPC - CAMIONAUTOS | AJ79: 1332408 | AL79: 1266714.9
A80: =+A79+1 -> 62 | B80: MANTENIMIENTO/AJUSTE FRENOS INCLUYE DESARME, LIMPIEZA, AJUSTE, GRADUACIÓN (GLOBAL) | C80: 1 | D80: 912800 | E80: 5100000 | F80: 5265000 | G80: 912800 | H80: =+'678-2024 IPC'!H79 -> 987141.24 | I80: =+D80-G80 -> 0 | J80: =+D80/IF($H80<>"",$H80,MIN($D80:$F80))-1 -> -0.075309628 | K80: =+E80/IF($H80<>"",$H80,MIN($D80:$F80))-1 -> 4.1664339 | L80: =+F80/IF($H80<>"",$H80,MIN($D80:$F80))-1 -> 4.3335833 | M80: =ROUND(GEOMEAN(D80:F80),0) -> 2904790 | N80: =ROUND(AVERAGE(D80:F80),0) -> 3759267 | O80: =ROUND(GEOMEAN(D80:I80),0) -> #NUM! | P80: =ROUND(AVERAGE(D80:I80),0) -> 2196290 | Q80: {=ROUND(GEOMEAN(SMALL(D80:I80,{1;2;3})),0)} -> #NUM! | R80: {=ROUND(AVERAGE(SMALL(D80:I80,{1;2;3})),0)} -> 608533 | S80: {=ROUND(GEOMEAN(SMALL(D80:I80,{1;2})),0)} -> #NUM! | T80: {=ROUND(AVERAGE(SMALL(D80:I80,{1;2})),0)} -> 456400 | U80: =+M80/IF($H80<>"",$H80,MIN($D80:$F80))-1 -> 1.9426286 | V80: =+N80/IF($H80<>"",$H80,MIN($D80:$F80))-1 -> 2.8082362 | W80: =+O80/IF($H80<>"",$H80,MIN($D80:$F80))-1 -> #NUM! | X80: =+P80/IF($H80<>"",$H80,MIN($D80:$F80))-1 -> 1.2248994 | Y80: =+Q80/IF($H80<>"",$H80,MIN($D80:$F80))-1 -> #NUM! | Z80: =+R80/IF($H80<>"",$H80,MIN($D80:$F80))-1 -> -0.38354009 | AA80: =+S80/IF($H80<>"",$H80,MIN($D80:$F80))-1 -> #NUM! | AB80: =+T80/IF($H80<>"",$H80,MIN($D80:$F80))-1 -> -0.53765481 | AC80: {=MIN(IF(U80:AB80>0,U80:AB80))} -> #NUM! | AD80: =+IFERROR(_xlfn.XLOOKUP(AC80,U80:AB80,$U$3:$AB$3,,0),"Sin medida de tendencia central") -> Sin medida de tendencia central | AE80: =+IFERROR(_xlfn.XLOOKUP(AD80,$M$3:$T$3,M80:T80,,0),"Pendiente") -> Pendiente | AF80: =+AVERAGE(G80:H80) -> 949970.62 | AG80: PROMEDIO IPC - CAMIONAUTOS | AJ80: 912800 | AL80: 949970.62
A81: =+A80+1 -> 63 | B81: RAPARACION Y MANTENIMIENTO FRENO DE AHOGO | C81: 1 | D81: 878220 | E81: 4570000 | F81: 4728500 | G81: 1878220 | H81: =+'678-2024 IPC'!H80 -> 391566.03 | I81: =+D81-G81 -> -1000000 | J81: =+D81/IF($H81<>"",$H81,MIN($D81:$F81))-1 -> 1.2428401 | K81: =+E81/IF($H81<>"",$H81,MIN($D81:$F81))-1 -> 10.671084 | L81: =+F81/IF($H81<>"",$H81,MIN($D81:$F81))-1 -> 11.075869 | M81: =ROUND(GEOMEAN(D81:F81),0) -> 2667356 | N81: =ROUND(AVERAGE(D81:F81),0) -> 3392240 | O81: =ROUND(GEOMEAN(D81:I81),0) -> #NUM! | P81: =ROUND(AVERAGE(D81:I81),0) -> 1907751 | Q81: {=ROUND(GEOMEAN(SMALL(D81:I81,{1;2;3})),0)} -> #NUM! | R81: {=ROUND(AVERAGE(SMALL(D81:I81,{1;2;3})),0)} -> 89929 | S81: {=ROUND(GEOMEAN(SMALL(D81:I81,{1;2})),0)} -> #NUM! | T81: {=ROUND(AVERAGE(SMALL(D81:I81,{1;2})),0)} -> -304217 | U81: =+M81/IF($H81<>"",$H81,MIN($D81:$F81))-1 -> 5.812021 | V81: =+N81/IF($H81<>"",$H81,MIN($D81:$F81))-1 -> 7.6632644 | W81: =+O81/IF($H81<>"",$H81,MIN($D81:$F81))-1 -> #NUM! | X81: =+P81/IF($H81<>"",$H81,MIN($D81:$F81))-1 -> 3.8721055 | Y81: =+Q81/IF($H81<>"",$H81,MIN($D81:$F81))-1 -> #NUM! | Z81: =+R81/IF($H81<>"",$H81,MIN($D81:$F81))-1 -> -0.77033503 | AA81: =+S81/IF($H81<>"",$H81,MIN($D81:$F81))-1 -> #NUM! | AB81: =+T81/IF($H81<>"",$H81,MIN($D81:$F81))-1 -> -1.7769239 | AC81: {=MIN(IF(U81:AB81>0,U81:AB81))} -> #NUM! | AD81: =+IFERROR(_xlfn.XLOOKUP(AC81,U81:AB81,$U$3:$AB$3,,0),"Sin medida de tendencia central") -> Sin medida de tendencia central | AE81: =+IFERROR(_xlfn.XLOOKUP(AD81,$M$3:$T$3,M81:T81,,0),"Pendiente") -> Pendiente | AF81: =+AVERAGE(G81:H81) -> 1134893 | AG81: PROMEDIO IPC - CAMIONAUTOS | AJ81: 878220 | AL81: 1134893
A82: =+A81+1 -> 64 | B82: GRADUACION FRENO DE EMERGENCIA | C82: 1 | D82: 415310 | E82: 1320000 | F82: 1361600 | G82: 415310 | H82: =+'678-2024 IPC'!H81 -> 195783.01 | I82: =+D82-G82 -> 0 | J82: =+D82/IF($H82<>"",$H82,MIN($D82:$F82))-1 -> 1.121277 | K82: =+E82/IF($H82<>"",$H82,MIN($D82:$F82))-1 -> 5.742158 | L82: =+F82/IF($H82<>"",$H82,MIN($D82:$F82))-1 -> 5.9546381 | M82: =ROUND(GEOMEAN(D82:F82),0) -> 907121 | N82: =ROUND(AVERAGE(D82:F82),0) -> 1032303 | O82: =ROUND(GEOMEAN(D82:I82),0) -> #NUM! | P82: =ROUND(AVERAGE(D82:I82),0) -> 618001 | Q82: {=ROUND(GEOMEAN(SMALL(D82:I82,{1;2;3})),0)} -> #NUM! | R82: {=ROUND(AVERAGE(SMALL(D82:I82,{1;2;3})),0)} -> 203698 | S82: {=ROUND(GEOMEAN(SMALL(D82:I82,{1;2})),0)} -> #NUM! | T82: {=ROUND(AVERAGE(SMALL(D82:I82,{1;2})),0)} -> 97892 | U82: =+M82/IF($H82<>"",$H82,MIN($D82:$F82))-1 -> 3.6332978 | V82: =+N82/IF($H82<>"",$H82,MIN($D82:$F82))-1 -> 4.2726893 | W82: =+O82/IF($H82<>"",$H82,MIN($D82:$F82))-1 -> #NUM! | X82: =+P82/IF($H82<>"",$H82,MIN($D82:$F82))-1 -> 2.1565609 | Y82: =+Q82/IF($H82<>"",$H82,MIN($D82:$F82))-1 -> #NUM! | Z82: =+R82/IF($H82<>"",$H82,MIN($D82:$F82))-1 -> 0.040427345 | AA82: =+S82/IF($H82<>"",$H82,MIN($D82:$F82))-1 -> #NUM! | AB82: =+T82/IF($H82<>"",$H82,MIN($D82:$F82))-1 -> -0.49999748 | AC82: {=MIN(IF(U82:AB82>0,U82:AB82))} -> #NUM! | AD82: =+IFERROR(_xlfn.XLOOKUP(AC82,U82:AB82,$U$3:$AB$3,,0),"Sin medida de tendencia central") -> Sin medida de tendencia central | AE82: =+IFERROR(_xlfn.XLOOKUP(AD82,$M$3:$T$3,M82:T82,,0),"Pendiente") -> Pendiente | AF82: =+AVERAGE(G82:H82) -> 305546.51 | AG82: PROMEDIO IPC - CAMIONAUTOS | AJ82: 415310 | AL82: 305546.51
A83: =+A82+1 -> 65 | B83: REPARACION BOOSTER (D/M, KIT REPARACION, RECTIFICACION (SI SE REQUIERE), PRUEBAS, AJUSTE Y LIMPIEZA) | C83: 1 | D83: 2366560 | E83: 7300000 | F83: 7555000 | G83: 2366560 | H83: =+'678-2024 IPC'!H82 -> 1005019.5 | I83: =+D83-G83 -> 0 | J83: =+D83/IF($H83<>"",$H83,MIN($D83:$F83))-1 -> 1.3547405 | K83: =+E83/IF($H83<>"",$H83,MIN($D83:$F83))-1 -> 6.2635409 | L83: =+F83/IF($H83<>"",$H83,MIN($D83:$F83))-1 -> 6.5172673 | M83: =ROUND(GEOMEAN(D83:F83),0) -> 5072534 | N83: =ROUND(AVERAGE(D83:F83),0) -> 5740520 | O83: =ROUND(GEOMEAN(D83:I83),0) -> #NUM! | P83: =ROUND(AVERAGE(D83:I83),0) -> 3432190 | Q83: {=ROUND(GEOMEAN(SMALL(D83:I83,{1;2;3})),0)} -> #NUM! | R83: {=ROUND(AVERAGE(SMALL(D83:I83,{1;2;3})),0)} -> 1123860 | S83: {=ROUND(GEOMEAN(SMALL(D83:I83,{1;2})),0)} -> #NUM! | T83: {=ROUND(AVERAGE(SMALL(D83:I83,{1;2})),0)} -> 502510 | U83: =+M83/IF($H83<>"",$H83,MIN($D83:$F83))-1 -> 4.0471998 | V83: =+N83/IF($H83<>"",$H83,MIN($D83:$F83))-1 -> 4.7118496 | W83: =+O83/IF($H83<>"",$H83,MIN($D83:$F83))-1 -> #NUM! | X83: =+P83/IF($H83<>"",$H83,MIN($D83:$F83))-1 -> 2.4150483 | Y83: =+Q83/IF($H83<>"",$H83,MIN($D83:$F83))-1 -> #NUM! | Z83: =+R83/IF($H83<>"",$H83,MIN($D83:$F83))-1 -> 0.118247 | AA83: =+S83/IF($H83<>"",$H83,MIN($D83:$F83))-1 -> #NUM! | AB83: =+T83/IF($H83<>"",$H83,MIN($D83:$F83))-1 -> -0.49999973 | AC83: {=MIN(IF(U83:AB83>0,U83:AB83))} -> #NUM! | AD83: =+IFERROR(_xlfn.XLOOKUP(AC83,U83:AB83,$U$3:$AB$3,,0),"Sin medida de tendencia central") -> Sin medida de tendencia central | AE83: =+IFERROR(_xlfn.XLOOKUP(AD83,$M$3:$T$3,M83:T83,,0),"Pendiente") -> Pendiente | AF83: =+AVERAGE(G83:H83) -> 1685789.7 | AG83: PROMEDIO IPC - CAMIONAUTOS | AJ83: 2366560 | AL83: 1685789.7
A84: =+A83+1 -> 66 | B84: BANDAS DE FRENO DELANTERAS | C84: 1 | D84: 1332408 | E84: 12300000 | F84: 12839000 | G84: 1332408 | I84: =+D84-G84 -> 0 | J84: =+D84/IF($H84<>"",$H84,MIN($D84:$F84))-1 -> 0 | K84: =+E84/IF($H84<>"",$H84,MIN($D84:$F84))-1 -> 8.2314066 | L84: =+F84/IF($H84<>"",$H84,MIN($D84:$F84))-1 -> 8.6359373 | M84: =ROUND(GEOMEAN(D84:F84),0) -> 5947820 | N84: =ROUND(AVERAGE(D84:F84),0) -> 8823803 | O84: =ROUND(GEOMEAN(D84:I84),0) -> #NUM! | P84: =ROUND(AVERAGE(D84:I84),0) -> 5560763 | Q84: {=ROUND(GEOMEAN(SMALL(D84:I84,{1;2;3})),0)} -> #NUM! | R84: {=ROUND(AVERAGE(SMALL(D84:I84,{1;2;3})),0)} -> 888272 | S84: {=ROUND(GEOMEAN(SMALL(D84:I84,{1;2})),0)} -> #NUM! | T84: {=ROUND(AVERAGE(SMALL(D84:I84,{1;2})),0)} -> 666204 | U84: =+M84/IF($H84<>"",$H84,MIN($D84:$F84))-1 -> 3.463963 | V84: =+N84/IF($H84<>"",$H84,MIN($D84:$F84))-1 -> 5.6224482 | W84: =+O84/IF($H84<>"",$H84,MIN($D84:$F84))-1 -> #NUM! | X84: =+P84/IF($H84<>"",$H84,MIN($D84:$F84))-1 -> 3.1734686 | Y84: =+Q84/IF($H84<>"",$H84,MIN($D84:$F84))-1 -> #NUM! | Z84: =+R84/IF($H84<>"",$H84,MIN($D84:$F84))-1 -> -0.33333333 | AA84: =+S84/IF($H84<>"",$H84,MIN($D84:$F84))-1 -> #NUM! | AB84: =+T84/IF($H84<>"",$H84,MIN($D84:$F84))-1 -> -0.5 | AC84: {=MIN(IF(U84:AB84>0,U84:AB84))} -> #NUM! | AD84: =+IFERROR(_xlfn.XLOOKUP(AC84,U84:AB84,$U$3:$AB$3,,0),"Sin medida de tendencia central") -> Sin medida de tendencia central | AE84: =+IFERROR(_xlfn.XLOOKUP(AD84,$M$3:$T$3,M84:T84,,0),"Pendiente") -> Pendiente | AF84: =+AVERAGE(G84:H84) -> 1332408 | AG84: MENOR VALOR -SOLO LA DE CAMIONAUTOS | AJ84: 1332408 | AL84: 1332408
A85: CAMABAJA | I85: =+D85-G85 -> 0
B86: ESTADO GENERAL | I86: =+D86-G86 -> 0
A87: 1 | B87: LAVADO GENERAL | C87: 1 | D87: 352310 | E87: 1600000 | F87: 1650000 | G87: 352310 | H87: =+'678-2024 IPC'!H86 -> 388385.24 | I87: =+D87-G87 -> 0 | J87: =+D87/IF($H87<>"",$H87,MIN($D87:$F87))-1 -> -0.092885191 | K87: =+E87/IF($H87<>"",$H87,MIN($D87:$F87))-1 -> 3.1196211 | L87: =+F87/IF($H87<>"",$H87,MIN($D87:$F87))-1 -> 3.2483592 | M87: =ROUND(GEOMEAN(D87:F87),0) -> 976134 | N87: =ROUND(AVERAGE(D87:F87),0) -> 1200770 | O87: =ROUND(GEOMEAN(D87:I87),0) -> #NUM! | P87: =ROUND(AVERAGE(D87:I87),0) -> 723834 | Q87: {=ROUND(GEOMEAN(SMALL(D87:I87,{1;2;3})),0)} -> #NUM! | R87: {=ROUND(AVERAGE(SMALL(D87:I87,{1;2;3})),0)} -> 234873 | S87: {=ROUND(GEOMEAN(SMALL(D87:I87,{1;2})),0)} -> #NUM! | T87: {=ROUND(AVERAGE(SMALL(D87:I87,{1;2})),0)} -> 176155 | U87: =+M87/IF($H87<>"",$H87,MIN($D87:$F87))-1 -> 1.5133139 | V87: =+N87/IF($H87<>"",$H87,MIN($D87:$F87))-1 -> 2.0916984 | W87: =+O87/IF($H87<>"",$H87,MIN($D87:$F87))-1 -> #NUM! | X87: =+P87/IF($H87<>"",$H87,MIN($D87:$F87))-1 -> 0.86370112 | Y87: =+Q87/IF($H87<>"",$H87,MIN($D87:$F87))-1 -> #NUM! | Z87: =+R87/IF($H87<>"",$H87,MIN($D87:$F87))-1 -> -0.39525765 | AA87: =+S87/IF($H87<>"",$H87,MIN($D87:$F87))-1 -> #NUM! | AB87: =+T87/IF($H87<>"",$H87,MIN($D87:$F87))-1 -> -0.5464426 | AC87: {=MIN(IF(U87:AB87>0,U87:AB87))} -> #NUM! | AD87: =+IFERROR(_xlfn.XLOOKUP(AC87,U87:AB87,$U$3:$AB$3,,0),"Sin medida de tendencia central") -> Sin medida de tendencia central | AE87: =+IFERROR(_xlfn.XLOOKUP(AD87,$M$3:$T$3,M87:T87,,0),"Pendiente") -> Pendiente | AF87: =+AVERAGE(G87:H87) -> 370347.62 | AG87: PROMEDIO IPC - CAMIONAUTOS | AJ87: 352310 | AL87: 370347.62
A88: =+A87+1 -> 2 | B88: ENGRASE GENERAL | C88: 1 | D88: 411110 | E88: 2152000 | F88: 2235600 | G88: 411110 | H88: =+'678-2024 IPC'!H87 -> 300749.03 | I88: =+D88-G88 -> 0 | J88: =+D88/IF($H88<>"",$H88,MIN($D88:$F88))-1 -> 0.3669537 | K88: =+E88/IF($H88<>"",$H88,MIN($D88:$F88))-1 -> 6.1554678 | L88: =+F88/IF($H88<>"",$H88,MIN($D88:$F88))-1 -> 6.4334404 | M88: =ROUND(GEOMEAN(D88:F88),0) -> 1255254 | N88: =ROUND(AVERAGE(D88:F88),0) -> 1599570 | O88: =ROUND(GEOMEAN(D88:I88),0) -> #NUM! | P88: =ROUND(AVERAGE(D88:I88),0) -> 918428 | Q88: {=ROUND(GEOMEAN(SMALL(D88:I88,{1;2;3})),0)} -> #NUM! | R88: {=ROUND(AVERAGE(SMALL(D88:I88,{1;2;3})),0)} -> 237286 | S88: {=ROUND(GEOMEAN(SMALL(D88:I88,{1;2})),0)} -> #NUM! | T88: {=ROUND(AVERAGE(SMALL(D88:I88,{1;2})),0)} -> 150375 | U88: =+M88/IF($H88<>"",$H88,MIN($D88:$F88))-1 -> 3.1737591 | V88: =+N88/IF($H88<>"",$H88,MIN($D88:$F88))-1 -> 4.3186206 | W88: =+O88/IF($H88<>"",$H88,MIN($D88:$F88))-1 -> #NUM! | X88: =+P88/IF($H88<>"",$H88,MIN($D88:$F88))-1 -> 2.053802 | Y88: =+Q88/IF($H88<>"",$H88,MIN($D88:$F88))-1 -> #NUM! | Z88: =+R88/IF($H88<>"",$H88,MIN($D88:$F88))-1 -> -0.21101658 | AA88: =+S88/IF($H88<>"",$H88,MIN($D88:$F88))-1 -> #NUM! | AB88: =+T88/IF($H88<>"",$H88,MIN($D88:$F88))-1 -> -0.49999839 | AC88: {=MIN(IF(U88:AB88>0,U88:AB88))} -> #NUM! | AD88: =+IFERROR(_xlfn.XLOOKUP(AC88,U88:AB88,$U$3:$AB$3,,0),"Sin medida de tendencia central") -> Sin medida de tendencia central | AE88: =+IFERROR(_xlfn.XLOOKUP(AD88,$M$3:$T$3,M88:T88,,0),"Pendiente") -> Pendiente | AF88: =+AVERAGE(G88:H88) -> 355929.52 | AG88: PROMEDIO IPC - CAMIONAUTOS | AJ88: 411110 | AL88: 355929.52
A89: =+A88+1 -> 3 | B89: REVISION SISTEMA ELECTRICO EN GENERAL | C89: 1 | D89: 387296 | E89: 2000000 | F89: 2062000 | G89: 387296 | H89: =+'678-2024 IPC'!H88 -> 614001.85 | I89: =+D89-G89 -> 0 | J89: =+D89/IF($H89<>"",$H89,MIN($D89:$F89))-1 -> -0.36922666 | K89: =+E89/IF($H89<>"",$H89,MIN($D89:$F89))-1 -> 2.2573192 | L89: =+F89/IF($H89<>"",$H89,MIN($D89:$F89))-1 -> 2.3582961 | M89: =ROUND(GEOMEAN(D89:F89),0) -> 1168927 | N89: =ROUND(AVERAGE(D89:F89),0) -> 1483099 | O89: =ROUND(GEOMEAN(D89:I89),0) -> #NUM! | P89: =ROUND(AVERAGE(D89:I89),0) -> 908432 | Q89: {=ROUND(GEOMEAN(SMALL(D89:I89,{1;2;3})),0)} -> #NUM! | R89: {=ROUND(AVERAGE(SMALL(D89:I89,{1;2;3})),0)} -> 258197 | S89: {=ROUND(GEOMEAN(SMALL(D89:I89,{1;2})),0)} -> #NUM! | T89: {=ROUND(AVERAGE(SMALL(D89:I89,{1;2})),0)} -> 193648 | U89: =+M89/IF($H89<>"",$H89,MIN($D89:$F89))-1 -> 0.90378416 | V89: =+N89/IF($H89<>"",$H89,MIN($D89:$F89))-1 -> 1.4154634 | W89: =+O89/IF($H89<>"",$H89,MIN($D89:$F89))-1 -> #NUM! | X89: =+P89/IF($H89<>"",$H89,MIN($D89:$F89))-1 -> 0.47952648 | Y89: =+Q89/IF($H89<>"",$H89,MIN($D89:$F89))-1 -> #NUM! | Z89: =+R89/IF($H89<>"",$H89,MIN($D89:$F89))-1 -> -0.57948498 | AA89: =+S89/IF($H89<>"",$H89,MIN($D89:$F89))-1 -> #NUM! | AB89: =+T89/IF($H89<>"",$H89,MIN($D89:$F89))-1 -> -0.68461333 | AC89: {=MIN(IF(U89:AB89>0,U89:AB89))} -> #NUM! | AD89: =+IFERROR(_xlfn.XLOOKUP(AC89,U89:AB89,$U$3:$AB$3,,0),"Sin medida de tendencia central") -> Sin medida de tendencia central | AE89: =+IFERROR(_xlfn.XLOOKUP(AD89,$M$3:$T$3,M89:T89,,0),"Pendiente") -> Pendiente | AF89: =+AVERAGE(G89:H89) -> 500648.93 | AG89: PROMEDIO IPC - CAMIONAUTOS | AJ89: 387296 | AL89: 500648.93
A90: =+A89+1 -> 4 | B90: REVISION DE FRENOS EN GENERAL Y GRADUACION | C90: 1 | D90: 492744 | E90: 3100000 | F90: 3195000 | G90: 492744 | H90: =+'678-2024 IPC'!H89 -> 987141.24 | I90: =+D90-G90 -> 0 | J90: =+D90/IF($H90<>"",$H90,MIN($D90:$F90))-1 -> -0.50083739 | K90: =+E90/IF($H90<>"",$H90,MIN($D90:$F90))-1 -> 2.1403814 | L90: =+F90/IF($H90<>"",$H90,MIN($D90:$F90))-1 -> 2.2366189 | M90: =ROUND(GEOMEAN(D90:F90),0) -> 1696230 | N90: =ROUND(AVERAGE(D90:F90),0) -> 2262581 | O90: =ROUND(GEOMEAN(D90:I90),0) -> #NUM! | P90: =ROUND(AVERAGE(D90:I90),0) -> 1377938 | Q90: {=ROUND(GEOMEAN(SMALL(D90:I90,{1;2;3})),0)} -> #NUM! | R90: {=ROUND(AVERAGE(SMALL(D90:I90,{1;2;3})),0)} -> 328496 | S90: {=ROUND(GEOMEAN(SMALL(D90:I90,{1;2})),0)} -> #NUM! | T90: {=ROUND(AVERAGE(SMALL(D90:I90,{1;2})),0)} -> 246372 | U90: =+M90/IF($H90<>"",$H90,MIN($D90:$F90))-1 -> 0.71832554 | V90: =+N90/IF($H90<>"",$H90,MIN($D90:$F90))-1 -> 1.292054 | W90: =+O90/IF($H90<>"",$H90,MIN($D90:$F90))-1 -> #NUM! | X90: =+P90/IF($H90<>"",$H90,MIN($D90:$F90))-1 -> 0.39588738 | Y90: =+Q90/IF($H90<>"",$H90,MIN($D90:$F90))-1 -> #NUM! | Z90: =+R90/IF($H90<>"",$H90,MIN($D90:$F90))-1 -> -0.66722493 | AA90: =+S90/IF($H90<>"",$H90,MIN($D90:$F90))-1 -> #NUM! | AB90: =+T90/IF($H90<>"",$H90,MIN($D90:$F90))-1 -> -0.75041869 | AC90: {=MIN(IF(U90:AB90>0,U90:AB90))} -> #NUM! | AD90: =+IFERROR(_xlfn.XLOOKUP(AC90,U90:AB90,$U$3:$AB$3,,0),"Sin medida de tendencia central") -> Sin medida de tendencia central | AE90: =+IFERROR(_xlfn.XLOOKUP(AD90,$M$3:$T$3,M90:T90,,0),"Pendiente") -> Pendiente | AF90: =+AVERAGE(G90:H90) -> 739942.62 | AG90: PROMEDIO IPC - CAMIONAUTOS | AJ90: 492744 | AL90: 739942.62
A91: =+A90+1 -> 5 | B91: ACOPLE DE AIRE DE ENGANCHE DEL REMOLQUE | C91: 1 | D91: 599832 | E91: 1720000 | F91: 1800000 | G91: 599832 | H91: =+'678-2024 IPC'!H90 -> 689134.27 | I91: =+D91-G91 -> 0 | J91: =+D91/IF($H91<>"",$H91,MIN($D91:$F91))-1 -> -0.12958617 | K91: =+E91/IF($H91<>"",$H91,MIN($D91:$F91))-1 -> 1.4958852 | L91: =+F91/IF($H91<>"",$H91,MIN($D91:$F91))-1 -> 1.6119729 | M91: =ROUND(GEOMEAN(D91:F91),0) -> 1229165 | N91: =ROUND(AVERAGE(D91:F91),0) -> 1373277 | O91: =ROUND(GEOMEAN(D91:I91),0) -> #NUM! | P91: =ROUND(AVERAGE(D91:I91),0) -> 901466 | Q91: {=ROUND(GEOMEAN(SMALL(D91:I91,{1;2;3})),0)} -> #NUM! | R91: {=ROUND(AVERAGE(SMALL(D91:I91,{1;2;3})),0)} -> 399888 | S91: {=ROUND(GEOMEAN(SMALL(D91:I91,{1;2})),0)} -> #NUM! | T91: {=ROUND(AVERAGE(SMALL(D91:I91,{1;2})),0)} -> 299916 | U91: =+M91/IF($H91<>"",$H91,MIN($D91:$F91))-1 -> 0.78363645 | V91: =+N91/IF($H91<>"",$H91,MIN($D91:$F91))-1 -> 0.9927568 | W91: =+O91/IF($H91<>"",$H91,MIN($D91:$F91))-1 -> #NUM! | X91: =+P91/IF($H91<>"",$H91,MIN($D91:$F91))-1 -> 0.30811373 | Y91: =+Q91/IF($H91<>"",$H91,MIN($D91:$F91))-1 -> #NUM! | Z91: =+R91/IF($H91<>"",$H91,MIN($D91:$F91))-1 -> -0.41972411 | AA91: =+S91/IF($H91<>"",$H91,MIN($D91:$F91))-1 -> #NUM! | AB91: =+T91/IF($H91<>"",$H91,MIN($D91:$F91))-1 -> -0.56479308 | AC91: {=MIN(IF(U91:AB91>0,U91:AB91))} -> #NUM! | AD91: =+IFERROR(_xlfn.XLOOKUP(AC91,U91:AB91,$U$3:$AB$3,,0),"Sin medida de tendencia central") -> Sin medida de tendencia central | AE91: =+IFERROR(_xlfn.XLOOKUP(AD91,$M$3:$T$3,M91:T91,,0),"Pendiente") -> Pendiente | AF91: =+AVERAGE(G91:H91) -> 644483.13 | AG91: PROMEDIO IPC - CAMIONAUTOS | AJ91: 599832 | AL91: 644483.13
A92: =+A91+1 -> 6 | B92: ROTACIÓN DE LLANTAS | C92: 1 | D92: 350400 | E92: 1950000 | F92: 2013500 | G92: 350400 | H92: =+'678-2024 IPC'!H91 -> 153555.3 | I92: =+D92-G92 -> 0 | J92: =+D92/IF($H92<>"",$H92,MIN($D92:$F92))-1 -> 1.281914 | K92: =+E92/IF($H92<>"",$H92,MIN($D92:$F92))-1 -> 11.699008 | L92: =+F92/IF($H92<>"",$H92,MIN($D92:$F92))-1 -> 12.11254 | M92: =ROUND(GEOMEAN(D92:F92),0) -> 1112201 | N92: =ROUND(AVERAGE(D92:F92),0) -> 1437967 | O92: =ROUND(GEOMEAN(D92:I92),0) -> #NUM! | P92: =ROUND(AVERAGE(D92:I92),0) -> 802976 | Q92: {=ROUND(GEOMEAN(SMALL(D92:I92,{1;2;3})),0)} -> #NUM! | R92: {=ROUND(AVERAGE(SMALL(D92:I92,{1;2;3})),0)} -> 167985 | S92: {=ROUND(GEOMEAN(SMALL(D92:I92,{1;2})),0)} -> #NUM! | T92: {=ROUND(AVERAGE(SMALL(D92:I92,{1;2})),0)} -> 76778 | U92: =+M92/IF($H92<>"",$H92,MIN($D92:$F92))-1 -> 6.2429996 | V92: =+N92/IF($H92<>"",$H92,MIN($D92:$F92))-1 -> 8.3644893 | W92: =+O92/IF($H92<>"",$H92,MIN($D92:$F92))-1 -> #NUM! | X92: =+P92/IF($H92<>"",$H92,MIN($D92:$F92))-1 -> 4.22923 | Y92: =+Q92/IF($H92<>"",$H92,MIN($D92:$F92))-1 -> #NUM! | Z92: =+R92/IF($H92<>"",$H92,MIN($D92:$F92))-1 -> 0.093970678 | AA92: =+S92/IF($H92<>"",$H92,MIN($D92:$F92))-1 -> #NUM! | AB92: =+T92/IF($H92<>"",$H92,MIN($D92:$F92))-1 -> -0.49999773 | AC92: {=MIN(IF(U92:AB92>0,U92:AB92))} -> #NUM! | AD92: =+IFERROR(_xlfn.XLOOKUP(AC92,U92:AB92,$U$3:$AB$3,,0),"Sin medida de tendencia central") -> Sin medida de tendencia central | AE92: =+IFERROR(_xlfn.XLOOKUP(AD92,$M$3:$T$3,M92:T92,,0),"Pendiente") -> Pendiente | AF92: =+AVERAGE(G92:H92) -> 251977.65 | AG92: PROMEDIO IPC - CAMIONAUTOS | AJ92: 350400 | AL92: 251977.65
A93: =+A92+1 -> 7 | B93: LLANTAS DIRECCIONALES | C93: 1 | D93: 4393340 | E93: 8400000 | F93: 8812000 | G93: 4393340 | H93: =+'678-2024 IPC'!H92 -> 1206506 | I93: =+D93-G93 -> 0 | J93: =+D93/IF($H93<>"",$H93,MIN($D93:$F93))-1 -> 2.6413745 | K93: =+E93/IF($H93<>"",$H93,MIN($D93:$F93))-1 -> 5.9622532 | L93: =+F93/IF($H93<>"",$H93,MIN($D93:$F93))-1 -> 6.3037352 | M93: =ROUND(GEOMEAN(D93:F93),0) -> 6876744 | N93: =ROUND(AVERAGE(D93:F93),0) -> 7201780 | O93: =ROUND(GEOMEAN(D93:I93),0) -> #NUM! | P93: =ROUND(AVERAGE(D93:I93),0) -> 4534198 | Q93: {=ROUND(GEOMEAN(SMALL(D93:I93,{1;2;3})),0)} -> #NUM! | R93: {=ROUND(AVERAGE(SMALL(D93:I93,{1;2;3})),0)} -> 1866615 | S93: {=ROUND(GEOMEAN(SMALL(D93:I93,{1;2})),0)} -> #NUM! | T93: {=ROUND(AVERAGE(SMALL(D93:I93,{1;2})),0)} -> 603253 | U93: =+M93/IF($H93<>"",$H93,MIN($D93:$F93))-1 -> 4.6997182 | V93: =+N93/IF($H93<>"",$H93,MIN($D93:$F93))-1 -> 4.9691209 | W93: =+O93/IF($H93<>"",$H93,MIN($D93:$F93))-1 -> #NUM! | X93: =+P93/IF($H93<>"",$H93,MIN($D93:$F93))-1 -> 2.7581232 | Y93: =+Q93/IF($H93<>"",$H93,MIN($D93:$F93))-1 -> #NUM! | Z93: =+R93/IF($H93<>"",$H93,MIN($D93:$F93))-1 -> 0.54712456 | AA93: =+S93/IF($H93<>"",$H93,MIN($D93:$F93))-1 -> #NUM! | AB93: =+T93/IF($H93<>"",$H93,MIN($D93:$F93))-1 -> -0.49999998 | AC93: {=MIN(IF(U93:AB93>0,U93:AB93))} -> #NUM! | AD93: =+IFERROR(_xlfn.XLOOKUP(AC93,U93:AB93,$U$3:$AB$3,,0),"Sin medida de tendencia central") -> Sin medida de tendencia central | AE93: =+IFERROR(_xlfn.XLOOKUP(AD93,$M$3:$T$3,M93:T93,,0),"Pendiente") -> Pendiente | AF93: =+AVERAGE(G93:H93) -> 2799923 | AG93: PROMEDIO IPC - CAMIONAUTOS | AJ93: 4393340 | AL93: 2799923
A94: =+A93+1 -> 8 | B94: SERVICIO DE DESPINCHE | C94: 1 | D94: 356510 | E94: 550000 | F94: 569500 | G94: 356510 | H94: =+'678-2024 IPC'!H93 -> 119005.36 | I94: =+D94-G94 -> 0 | J94: =+D94/IF($H94<>"",$H94,MIN($D94:$F94))-1 -> 1.9957474 | K94: =+E94/IF($H94<>"",$H94,MIN($D94:$F94))-1 -> 3.6216405 | L94: =+F94/IF($H94<>"",$H94,MIN($D94:$F94))-1 -> 3.7854987 | M94: =ROUND(GEOMEAN(D94:F94),0) -> 481551 | N94: =ROUND(AVERAGE(D94:F94),0) -> 492003 | O94: =ROUND(GEOMEAN(D94:I94),0) -> #NUM! | P94: =ROUND(AVERAGE(D94:I94),0) -> 325254 | Q94: {=ROUND(GEOMEAN(SMALL(D94:I94,{1;2;3})),0)} -> #NUM! | R94: {=ROUND(AVERAGE(SMALL(D94:I94,{1;2;3})),0)} -> 158505 | S94: {=ROUND(GEOMEAN(SMALL(D94:I94,{1;2})),0)} -> #NUM! | T94: {=ROUND(AVERAGE(SMALL(D94:I94,{1;2})),0)} -> 59503 | U94: =+M94/IF($H94<>"",$H94,MIN($D94:$F94))-1 -> 3.0464648 | V94: =+N94/IF($H94<>"",$H94,MIN($D94:$F94))-1 -> 3.1342928 | W94: =+O94/IF($H94<>"",$H94,MIN($D94:$F94))-1 -> #NUM! | X94: =+P94/IF($H94<>"",$H94,MIN($D94:$F94))-1 -> 1.7331038 | Y94: =+Q94/IF($H94<>"",$H94,MIN($D94:$F94))-1 -> #NUM! | Z94: =+R94/IF($H94<>"",$H94,MIN($D94:$F94))-1 -> 0.33191479 | AA94: =+S94/IF($H94<>"",$H94,MIN($D94:$F94))-1 -> #NUM! | AB94: =+T94/IF($H94<>"",$H94,MIN($D94:$F94))-1 -> -0.49999731 | AC94: {=MIN(IF(U94:AB94>0,U94:AB94))} -> #NUM! | AD94: =+IFERROR(_xlfn.XLOOKUP(AC94,U94:AB94,$U$3:$AB$3,,0),"Sin medida de tendencia central") -> Sin medida de tendencia central | AE94: =+IFERROR(_xlfn.XLOOKUP(AD94,$M$3:$T$3,M94:T94,,0),"Pendiente") -> Pendiente | AF94: =+AVERAGE(G94:H94) -> 237757.68 | AG94: PROMEDIO IPC - CAMIONAUTOS | AJ94: 356510 | AL94: 237757.68
A95: =+A94+1 -> 9 | B95: KIT BANDAS DE FRENO | C95: 1 | D95: 1472352 | E95: 8800000 | F95: 9164000 | G95: 1472352 | H95: =+'678-2024 IPC'!H94 -> 783132.05 | I95: =+D95-G95 -> 0 | J95: =+D95/IF($H95<>"",$H95,MIN($D95:$F95))-1 -> 0.8800814 | K95: =+E95/IF($H95<>"",$H95,MIN($D95:$F95))-1 -> 10.23693 | L95: =+F95/IF($H95<>"",$H95,MIN($D95:$F95))-1 -> 10.70173 | M95: =ROUND(GEOMEAN(D95:F95),0) -> 4915033 | N95: =ROUND(AVERAGE(D95:F95),0) -> 6478784 | O95: =ROUND(GEOMEAN(D95:I95),0) -> #NUM! | P95: =ROUND(AVERAGE(D95:I95),0) -> 3615306 | Q95: {=ROUND(GEOMEAN(SMALL(D95:I95,{1;2;3})),0)} -> #NUM! | R95: {=ROUND(AVERAGE(SMALL(D95:I95,{1;2;3})),0)} -> 751828 | S95: {=ROUND(GEOMEAN(SMALL(D95:I95,{1;2})),0)} -> #NUM! | T95: {=ROUND(AVERAGE(SMALL(D95:I95,{1;2})),0)} -> 391566 | U95: =+M95/IF($H95<>"",$H95,MIN($D95:$F95))-1 -> 5.2761229 | V95: =+N95/IF($H95<>"",$H95,MIN($D95:$F95))-1 -> 7.2729139 | W95: =+O95/IF($H95<>"",$H95,MIN($D95:$F95))-1 -> #NUM! | X95: =+P95/IF($H95<>"",$H95,MIN($D95:$F95))-1 -> 3.6164705 | Y95: =+Q95/IF($H95<>"",$H95,MIN($D95:$F95))-1 -> #NUM! | Z95: =+R95/IF($H95<>"",$H95,MIN($D95:$F95))-1 -> -0.039972889 | AA95: =+S95/IF($H95<>"",$H95,MIN($D95:$F95))-1 -> #NUM! | AB95: =+T95/IF($H95<>"",$H95,MIN($D95:$F95))-1 -> -0.50000003 | AC95: {=MIN(IF(U95:AB95>0,U95:AB95))} -> #NUM! | AD95: =+IFERROR(_xlfn.XLOOKUP(AC95,U95:AB95,$U$3:$AB$3,,0),"Sin medida de tendencia central") -> Sin medida de tendencia central | AE95: =+IFERROR(_xlfn.XLOOKUP(AD95,$M$3:$T$3,M95:T95,,0),"Pendiente") -> Pendiente | AF95: =+AVERAGE(G95:H95) -> 1127742 | AG95: PROMEDIO IPC - CAMIONAUTOS | AJ95: 1472352 | AL95: 1127742
A96: =+A95+1 -> 10 | B96: BOMBILLO DE STOP | C96: 1 | D96: 153958 | E96: 490000 | F96: 509700 | G96: 153958 | I96: =+D96-G96 -> 0 | J96: =+D96/IF($H96<>"",$H96,MIN($D96:$F96))-1 -> 0 | K96: =+E96/IF($H96<>"",$H96,MIN($D96:$F96))-1 -> 2.1826862 | L96: =+F96/IF($H96<>"",$H96,MIN($D96:$F96))-1 -> 2.3106432 | M96: =ROUND(GEOMEAN(D96:F96),0) -> 337524 | N96: =ROUND(AVERAGE(D96:F96),0) -> 384553 | O96: =ROUND(GEOMEAN(D96:I96),0) -> #NUM! | P96: =ROUND(AVERAGE(D96:I96),0) -> 261523 | Q96: {=ROUND(GEOMEAN(SMALL(D96:I96,{1;2;3})),0)} -> #NUM! | R96: {=ROUND(AVERAGE(SMALL(D96:I96,{1;2;3})),0)} -> 102639 | S96: {=ROUND(GEOMEAN(SMALL(D96:I96,{1;2})),0)} -> #NUM! | T96: {=ROUND(AVERAGE(SMALL(D96:I96,{1;2})),0)} -> 76979 | U96: =+M96/IF($H96<>"",$H96,MIN($D96:$F96))-1 -> 1.1923122 | V96: =+N96/IF($H96<>"",$H96,MIN($D96:$F96))-1 -> 1.4977786 | W96: =+O96/IF($H96<>"",$H96,MIN($D96:$F96))-1 -> #NUM! | X96: =+P96/IF($H96<>"",$H96,MIN($D96:$F96))-1 -> 0.69866457 | Y96: =+Q96/IF($H96<>"",$H96,MIN($D96:$F96))-1 -> #NUM! | Z96: =+R96/IF($H96<>"",$H96,MIN($D96:$F96))-1 -> -0.33333117 | AA96: =+S96/IF($H96<>"",$H96,MIN($D96:$F96))-1 -> #NUM! | AB96: =+T96/IF($H96<>"",$H96,MIN($D96:$F96))-1 -> -0.5 | AC96: {=MIN(IF(U96:AB96>0,U96:AB96))} -> #NUM! | AD96: =+IFERROR(_xlfn.XLOOKUP(AC96,U96:AB96,$U$3:$AB$3,,0),"Sin medida de tendencia central") -> Sin medida de tendencia central | AE96: =+IFERROR(_xlfn.XLOOKUP(AD96,$M$3:$T$3,M96:T96,,0),"Pendiente") -> Pendiente | AF96: =+AVERAGE(G96:H96) -> 153958 | AG96: MENOR VALOR -SOLO LA DE CAMIONAUTOS | AJ96: 153958 | AL96: 153958
A97: =+A96+1 -> 11 | B97: MANGUERA NEUMÁTICA DE ACOPLE | C97: 1 | D97: 436688 | E97: 1720000 | F97: 1800000 | G97: 436688 | I97: =+D97-G97 -> 0 | J97: =+D97/IF($H97<>"",$H97,MIN($D97:$F97))-1 -> 0 | K97: =+E97/IF($H97<>"",$H97,MIN($D97:$F97))-1 -> 2.9387389 | L97: =+F97/IF($H97<>"",$H97,MIN($D97:$F97))-1 -> 3.121936 | M97: =ROUND(GEOMEAN(D97:F97),0) -> 1105751 | N97: =ROUND(AVERAGE(D97:F97),0) -> 1318896 | O97: =ROUND(GEOMEAN(D97:I97),0) -> #NUM! | P97: =ROUND(AVERAGE(D97:I97),0) -> 878675 | Q97: {=ROUND(GEOMEAN(SMALL(D97:I97,{1;2;3})),0)} -> #NUM! | R97: {=ROUND(AVERAGE(SMALL(D97:I97,{1;2;3})),0)} -> 291125 | S97: {=ROUND(GEOMEAN(SMALL(D97:I97,{1;2})),0)} -> #NUM! | T97: {=ROUND(AVERAGE(SMALL(D97:I97,{1;2})),0)} -> 218344 | U97: =+M97/IF($H97<>"",$H97,MIN($D97:$F97))-1 -> 1.5321305 | V97: =+N97/IF($H97<>"",$H97,MIN($D97:$F97))-1 -> 2.020225 | W97: =+O97/IF($H97<>"",$H97,MIN($D97:$F97))-1 -> #NUM! | X97: =+P97/IF($H97<>"",$H97,MIN($D97:$F97))-1 -> 1.0121345 | Y97: =+Q97/IF($H97<>"",$H97,MIN($D97:$F97))-1 -> #NUM! | Z97: =+R97/IF($H97<>"",$H97,MIN($D97:$F97))-1 -> -0.3333341 | AA97: =+S97/IF($H97<>"",$H97,MIN($D97:$F97))-1 -> #NUM! | AB97: =+T97/IF($H97<>"",$H97,MIN($D97:$F97))-1 -> -0.5 | AC97: {=MIN(IF(U97:AB97>0,U97:AB97))} -> #NUM! | AD97: =+IFERROR(_xlfn.XLOOKUP(AC97,U97:AB97,$U$3:$AB$3,,0),"Sin medida de tendencia central") -> Sin medida de tendencia central | AE97: =+IFERROR(_xlfn.XLOOKUP(AD97,$M$3:$T$3,M97:T97,,0),"Pendiente") -> Pendiente | AF97: =+AVERAGE(G97:H97) -> 436688 | AG97: MENOR VALOR -SOLO LA DE CAMIONAUTOS | AJ97: 436688 | AL97: 436688
A98: =+A97+1 -> 12 | B98: MANTENIMIENTO GENERAL PATAS DE ANCLAJE | C98: 1 | D98: 711088 | E98: 7400000 | F98: 7650000 | G98: 711088 | H98: =+'678-2024 IPC'!H97 -> 783132.05 | I98: =+D98-G98 -> 0 | J98: =+D98/IF($H98<>"",$H98,MIN($D98:$F98))-1 -> -0.091994767 | K98: =+E98/IF($H98<>"",$H98,MIN($D98:$F98))-1 -> 8.4492366 | L98: =+F98/IF($H98<>"",$H98,MIN($D98:$F98))-1 -> 8.7684675 | M98: =ROUND(GEOMEAN(D98:F98),0) -> 3427195 | N98: =ROUND(AVERAGE(D98:F98),0) -> 5253696 | O98: =ROUND(GEOMEAN(D98:I98),0) -> #NUM! | P98: =ROUND(AVERAGE(D98:I98),0) -> 2875885 | Q98: {=ROUND(GEOMEAN(SMALL(D98:I98,{1;2;3})),0)} -> #NUM! | R98: {=ROUND(AVERAGE(SMALL(D98:I98,{1;2;3})),0)} -> 474059 | S98: {=ROUND(GEOMEAN(SMALL(D98:I98,{1;2})),0)} -> #NUM! | T98: {=ROUND(AVERAGE(SMALL(D98:I98,{1;2})),0)} -> 355544 | U98: =+M98/IF($H98<>"",$H98,MIN($D98:$F98))-1 -> 3.3762671 | V98: =+N98/IF($H98<>"",$H98,MIN($D98:$F98))-1 -> 5.7085698 | W98: =+O98/IF($H98<>"",$H98,MIN($D98:$F98))-1 -> #NUM! | X98: =+P98/IF($H98<>"",$H98,MIN($D98:$F98))-1 -> 2.6722862 | Y98: =+Q98/IF($H98<>"",$H98,MIN($D98:$F98))-1 -> #NUM! | Z98: =+R98/IF($H98<>"",$H98,MIN($D98:$F98))-1 -> -0.39466275 | AA98: =+S98/IF($H98<>"",$H98,MIN($D98:$F98))-1 -> #NUM! | AB98: =+T98/IF($H98<>"",$H98,MIN($D98:$F98))-1 -> -0.54599738 | AC98: {=MIN(IF(U98:AB98>0,U98:AB98))} -> #NUM! | AD98: =+IFERROR(_xlfn.XLOOKUP(AC98,U98:AB98,$U$3:$AB$3,,0),"Sin medida de tendencia central") -> Sin medida de tendencia central | AE98: =+IFERROR(_xlfn.XLOOKUP(AD98,$M$3:$T$3,M98:T98,,0),"Pendiente") -> Pendiente | AF98: =+AVERAGE(G98:H98) -> 747110.03 | AG98: PROMEDIO IPC - CAMIONAUTOS | AJ98: 711088 | AL98: 747110.03
A99: MOTONIVELADORA CATERPILLAR PLACA 120 G | I99: =+D99-G99 -> 0
B100: MOTOR | I100: =+D100-G100 -> 0
A101: 1 | B101: FILTRO DE ACEITE | C101: 1 | D101: 469832 | E101: 1650000 | F101: 1728500 | G101: 469832 | H101: =+'678-2024 IPC'!H100 -> 451452.59 | I101: =+D101-G101 -> 0 | J101: =+D101/IF($H101<>"",$H101,MIN($D101:$F101))-1 -> 0.040711708 | K101: =+E101/IF($H101<>"",$H101,MIN($D101:$F101))-1 -> 2.6548688 | L101: =+F101/IF($H101<>"",$H101,MIN($D101:$F101))-1 -> 2.828752 | M101: =ROUND(GEOMEAN(D101:F101),0) -> 1102466 | N101: =ROUND(AVERAGE(D101:F101),0) -> 1282777 | O101: =ROUND(GEOMEAN(D101:I101),0) -> #NUM! | P101: =ROUND(AVERAGE(D101:I101),0) -> 794936 | Q101: {=ROUND(GEOMEAN(SMALL(D101:I101,{1;2;3})),0)} -> #NUM! | R101: {=ROUND(AVERAGE(SMALL(D101:I101,{1;2;3})),0)} -> 307095 | S101: {=ROUND(GEOMEAN(SMALL(D101:I101,{1;2})),0)} -> #NUM! | T101: {=ROUND(AVERAGE(SMALL(D101:I101,{1;2})),0)} -> 225726 | U101: =+M101/IF($H101<>"",$H101,MIN($D101:$F101))-1 -> 1.4420416 | V101: =+N101/IF($H101<>"",$H101,MIN($D101:$F101))-1 -> 1.8414434 | W101: =+O101/IF($H101<>"",$H101,MIN($D101:$F101))-1 -> #NUM! | X101: =+P101/IF($H101<>"",$H101,MIN($D101:$F101))-1 -> 0.76084048 | Y101: =+Q101/IF($H101<>"",$H101,MIN($D101:$F101))-1 -> #NUM! | Z101: =+R101/IF($H101<>"",$H101,MIN($D101:$F101))-1 -> -0.31976246 | AA101: =+S101/IF($H101<>"",$H101,MIN($D101:$F101))-1 -> #NUM! | AB101: =+T101/IF($H101<>"",$H101,MIN($D101:$F101))-1 -> -0.50000066 | AC101: {=MIN(IF(U101:AB101>0,U101:AB101))} -> #NUM! | AD101: =+IFERROR(_xlfn.XLOOKUP(AC101,U101:AB101,$U$3:$AB$3,,0),"Sin medida de tendencia central") -> Sin medida de tendencia central | AE101: =+IFERROR(_xlfn.XLOOKUP(AD101,$M$3:$T$3,M101:T101,,0),"Pendiente") -> Pendiente | AF101: =+AVERAGE(G101:H101) -> 460642.3 | AG101: PROMEDIO IPC - CAMIONAUTOS | AJ101: 469832 | AL101: 460642.3
...

Sheet 678-2024 IPC
A2: DESCRIPCIÓN DEL SERVICIO | C2: CANTIDAD | D2: PRECIO TOTAL CPS678-2023 | E2: PRECIO TOTAL NP 2025 CPS678-2023 | F2: PRECIO TOTAL CPS678-2023 5,10 % IPC 2025 4,36 % IPC 2026 MAYO | G2: PRECIO TOTAL NP 2025 CPS678-2023 5,10 % IPC 2025 4,36 % IPC 2026 MAYO | H2: PRECIO TOTAL CPS678-2023 Con IPC
A3: VOLQUETAS INTERNATIONAL 4300 MODELO 2015
B4: ESTADO GENERAL
A5: =1 -> 1 | B5: ENGRASE GENERAL | C5: 1 | D5: 330000 | F5: =(D5*(1 + 5.1 %) * (1 + 4.36 %)) -> 361951.79 | H5: =+IF(F5="",G5,F5) -> 361951.79
A6: =+A5+1 -> 2 | B6: LIBRA GRASA BASE LITIO MULTIUSOS EP GRADO NLGI:3 PUNTO DE GOTEO MINIMO:160ºC RESISTENTE AL AGUA(LIBRA) | C6: 1 | D6: 230000 | F6: =(D6*(1 + 5.1 %) * (1 + 4.36 %)) -> 252269.43 | H6: =+IF(F6="",G6,F6) -> 252269.43
A7: =+A6+1 -> 3 | B7: LAVADO GENERAL | C7: 1 | D7: 400000 | F7: =(D7*(1 + 5.1 %) * (1 + 4.36 %)) -> 438729.44 | H7: =+IF(F7="",G7,F7) -> 438729.44
A8: =A7+1 -> 4 | B8: REVISIÓN NIVELES GENERAL | C8: 1 | D8: 460000 | F8: =(D8*(1 + 5.1 %) * (1 + 4.36 %)) -> 504538.86 | H8: =+IF(F8="",G8,F8) -> 504538.86
A9: =+A8+1 -> 5 | B9: REVISIÓN GENERAL, LUCES, PITOS, TESTIGOS DE TABLERO | C9: 1 | D9: 900000 | F9: =(D9*(1 + 5.1 %) * (1 + 4.36 %)) -> 987141.24 | H9: =+IF(F9="",G9,F9) -> 987141.24
A10: =A9+1 -> 6 | B10: REVISIÓN TECNOMECÁNICA | C10: 1 | D10: 736000 | F10: =(D10*(1 + 5.1 %) * (1 + 4.36 %)) -> 807262.17 | H10: =+IF(F10="",G10,F10) -> 807262.17
B11: MOTOR
A12: =A10+1 -> 7 | B12: FILTRO DE ACEITE | C12: 1 | D12: 307300 | F12: =(D12*(1 + 5.1 %) * (1 + 4.36 %)) -> 337053.89 | H12: =+IF(F12="",G12,F12) -> 337053.89
A13: =+A12+1 -> 8 | B13: FILTRO DE AIRE INTERNO | C13: 1 | D13: 345900 | F13: =(D13*(1 + 5.1 %) * (1 + 4.36 %)) -> 379391.28 | H13: =+IF(F13="",G13,F13) -> 379391.28
A14: =+A13+1 -> 9 | B14: FILTRO DE AIRE EXTERNO | C14: 1 | D14: 379000 | F14: =(D14*(1 + 5.1 %) * (1 + 4.36 %)) -> 415696.14 | H14: =+IF(F14="",G14,F14) -> 415696.14
A15: =+A14+1 -> 10 | B15: FILTRO DE COMBUSTIBLE PRIMARIO | C15: 1 | D15: 325500 | F15: =(D15*(1 + 5.1 %) * (1 + 4.36 %)) -> 357016.08 | H15: =+IF(F15="",G15,F15) -> 357016.08
A16: =+A15+1 -> 11 | B16: FILTRO DE COMBUSTIBLE SECUNDARIO | C16: 1 | D16: 408200 | F16: =(D16*(1 + 5.1 %) * (1 + 4.36 %)) -> 447723.39 | H16: =+IF(F16="",G16,F16) -> 447723.39
A17: =+A16+1 -> 12 | B17: ACEITE DE MOTOR SAE 15W40 Certificado (Galón) | C17: 1 | D17: 212100 | F17: =(D17*(1 + 5.1 %) * (1 + 4.36 %)) -> 232636.29 | H17: =+IF(F17="",G17,F17) -> 232636.29
A18: =+A17+1 -> 13 | B18: LAVADO DE MOTOR | C18: 1 | D18: 523000 | F18: =(D18*(1 + 5.1 %) * (1 + 4.36 %)) -> 573638.74 | H18: =+IF(F18="",G18,F18) -> 573638.74
A19: =A18+1 -> 14 | B19: CALIBRACIÓN DE VÁLVULAS | C19: 1 | D19: 850600 | F19: =(D19*(1 + 5.1 %) * (1 + 4.36 %)) -> 932958.15 | H19: =+IF(F19="",G19,F19) -> 932958.15
A20: 15 | B20: CAMBIO EMPAQUE DE BOQUILLA | C20: 1 | E20: 142800 | G20: =(E20*(1 + 5.1 %) * (1 + 4.36 %)) -> 156626.41 | H20: =+IF(F20="",G20,F20) -> 156626.41
B21: SISTEMA DE REFRIGERACIÓN MOTOR
A22: =A19+1 -> 15 | B22: REFRIGERANTE | C22: 1 | D22: 174000 | F22: =(D22*(1 + 5.1 %) * (1 + 4.36 %)) -> 190847.31 | H22: =+IF(F22="",G22,F22) -> 190847.31
A23: =+A22+1 -> 16 | B23: MANTENIMIENTO INTERCOOLER | C23: 1 | D23: 1768800 | F23: =(D23*(1 + 5.1 %) * (1 + 4.36 %)) -> 1940061.6 | H23: =+IF(F23="",G23,F23) -> 1940061.6
A24: =+A23+1 -> 17 | B24: MANGUERAS DE RADIADOR | C24: 1 | D24: 590300 | F24: =(D24*(1 + 5.1 %) * (1 + 4.36 %)) -> 647454.97 | H24: =+IF(F24="",G24,F24) -> 647454.97
A25: =+A24+1 -> 18 | B25: BOMBA DE AGUA | C25: 1 | H25: =+IF(F25="",G25,F25) -> 0
A26: =+A25+1 -> 19 | B26: ACOPLE MANGUERA | C26: 1 | H26: =+IF(F26="",G26,F26) -> 0
A27: =+A26+1 -> 20 | B27: ORING BOMBA DE AGUA | C27: 1 | H27: =+IF(F27="",G27,F27) -> 0
B28: SISTEMA DE AIRE
A29: =+A27+1 -> 21 | B29: EMPAQUETADURA COMPRESOR | C29: 1 | D29: 1431500 | F29: =(D29*(1 + 5.1 %) * (1 + 4.36 %)) -> 1570103 | H29: =+IF(F29="",G29,F29) -> 1570103
A30: =A29+1 -> 22 | B30: VALVULA GOBERNADOR | C30: 1 | D30: 902700 | F30: =(D30*(1 + 5.1 %) * (1 + 4.36 %)) -> 990102.66 | H30: =+IF(F30="",G30,F30) -> 990102.66
B31: SISTEMA ELÉCTRICO
A32: =A30+1 -> 23 | B32: ALTERNADOR | C32: 1 | D32: 2675900 | F32: =(D32*(1 + 5.1 %) * (1 + 4.36 %)) -> 2934990.3 | H32: =+IF(F32="",G32,F32) -> 2934990.3
A33: =+A32+1 -> 24 | B33: REGULADOR ALTERNADOR | C33: 1 | D33: 569600 | F33: =(D33*(1 + 5.1 %) * (1 + 4.36 %)) -> 624750.72 | H33: =+IF(F33="",G33,F33) -> 624750.72
A34: =+A33+1 -> 25 | B34: REVISIÓN/REPARACIÓN MOTOR DE ARRANQUE | C34: 1 | D34: 2015100 | F34: =(D34*(1 + 5.1 %) * (1 + 4.36 %)) -> 2210209.2 | H34: =+IF(F34="",G34,F34) -> 2210209.2
A35: =+A34+1 -> 26 | B35: MOTOR DE ARRANQUE | C35: 1 | D35: 4075900 | F35: =(D35*(1 + 5.1 %) * (1 + 4.36 %)) -> 4470543.3 | H35: =+IF(F35="",G35,F35) -> 4470543.3
A36: =A35+1 -> 27 | B36: BOMBILLOS STOP | C36: 1 | D36: 39200 | F36: =(D36*(1 + 5.1 %) * (1 + 4.36 %)) -> 42995.485 | H36: =+IF(F36="",G36,F36) -> 42995.485
A37: =A36+1 -> 28 | B37: FUSIBLES | C37: 1 | D37: 47200 | F37: =(D37*(1 + 5.1 %) * (1 + 4.36 %)) -> 51770.074 | H37: =+IF(F37="",G37,F37) -> 51770.074
A38: =+A37+1 -> 29 | B38: COCUYOS | C38: 1 | D38: 477700 | F38: =(D38*(1 + 5.1 %) * (1 + 4.36 %)) -> 523952.63 | H38: =+IF(F38="",G38,F38) -> 523952.63
A39: =+A38+1 -> 30 | B39: PITO | C39: 1 | D39: 568800 | F39: =(D39*(1 + 5.1 %) * (1 + 4.36 %)) -> 623873.26 | H39: =+IF(F39="",G39,F39) -> 623873.26
A40: =+A39+1 -> 31 | B40: REVISIÓN SISTEMA DE CARGA Y ESTADO DE BATERÍAS | C40: 1 | D40: 500000 | F40: =(D40*(1 + 5.1 %) * (1 + 4.36 %)) -> 548411.8 | H40: =+IF(F40="",G40,F40) -> 548411.8
A41: =A40+1 -> 32 | B41: PLUMILLAS | C41: 1 | D41: 284900 | F41: =(D41*(1 + 5.1 %) * (1 + 4.36 %)) -> 312485.04 | H41: =+IF(F41="",G41,F41) -> 312485.04
A42: =A41+1 -> 33 | B42: SERVICIO DE ESCANER | C42: 1 | E42: 142800 | G42: =(E42*(1 + 5.1 %) * (1 + 4.36 %)) -> 156626.41 | H42: =+IF(F42="",G42,F42) -> 156626.41
A43: =A42+1 -> 34 | B43: BATERÍA | C43: 1 | H43: =+IF(F43="",G43,F43) -> 0
A44: =A43+1 -> 35 | B44: TAPA DE JUEGO DE BATERÍAS. | C44: 1 | H44: =+IF(F44="",G44,F44) -> 0
B45: SISTEMA DE DIRECCIÓN
A46: =A44+1 -> 36 | B46: REVISIÓN/ MANTENIMIENTO TERMINALES DE DIRECCIÓN | C46: 1 | D46: 1256600 | F46: =(D46*(1 + 5.1 %) * (1 + 4.36 %)) -> 1378268.5 | H46: =+IF(F46="",G46,F46) -> 1378268.5
A47: =A46+1 -> 37 | B47: ALINEACION | C47: 1 | D47: 285600 | F47: =(D47*(1 + 5.1 %) * (1 + 4.36 %)) -> 313252.82 | H47: =+IF(F47="",G47,F47) -> 313252.82
B48: SISTEMA HIDRÁULICO
A49: =A47+1 -> 38 | B49: ACEITE HIDRAUILICO ISO 68 X 1/4 | C49: 1 | D49: 109200 | F49: =(D49*(1 + 5.1 %) * (1 + 4.36 %)) -> 119773.14 | H49: =+IF(F49="",G49,F49) -> 119773.14
A50: =A49+1 -> 39 | B50: REVISIÓN/ CAMBIO DE MANGUERA HIDRÁULICA | C50: 1 | D50: 793700 | F50: =(D50*(1 + 5.1 %) * (1 + 4.36 %)) -> 870548.89 | H50: =+IF(F50="",G50,F50) -> 870548.89
A51: =A50+1 -> 40 | B51: MANGUERA HIDRÁULICA | C51: 1 | D51: 800600 | F51: =(D51*(1 + 5.1 %) * (1 + 4.36 %)) -> 878116.97 | H51: =+IF(F51="",G51,F51) -> 878116.97
B52: SISTEMA DE ESCAPE
A53: =A51+1 -> 41 | B53: EMPAQUETADURA DEL MÚLTIPLE | C53: 1 | D53: 912200 | F53: =(D53*(1 + 5.1 %) * (1 + 4.36 %)) -> 1000522.5 | H53: =+IF(F53="",G53,F53) -> 1000522.5
B54: SISTEMA DE SUSPENSIÓN
A55: =A53+1 -> 42 | B55: AJUSTE PASADORES Y MUELLES | C55: 1 | D55: 651200 | F55: =(D55*(1 + 5.1 %) * (1 + 4.36 %)) -> 714251.53 | H55: =+IF(F55="",G55,F55) -> 714251.53
A56: =+A55+1 -> 43 | B56: PASADORES | C56: 1 | D56: 856800 | F56: =(D56*(1 + 5.1 %) * (1 + 4.36 %)) -> 939758.46 | H56: =+IF(F56="",G56,F56) -> 939758.46
A57: =+A56+1 -> 44 | B57: HOJA TRASERA | C57: 1 | D57: 1633800 | F57: =(D57*(1 + 5.1 %) * (1 + 4.36 %)) -> 1791990.4 | H57: =+IF(F57="",G57,F57) -> 1791990.4
A58: =+A57+1 -> 45 | B58: HOJA DELANTERA | C58: 1 | D58: 1384200 | F58: =(D58*(1 + 5.1 %) * (1 + 4.36 %)) -> 1518223.2 | H58: =+IF(F58="",G58,F58) -> 1518223.2
A59: =+A58+1 -> 46 | B59: HOJA PRINCIPAL MUELLE DELANTERO | C59: 1 | D59: 1475400 | F59: =(D59*(1 + 5.1 %) * (1 + 4.36 %)) -> 1618253.5 | H59: =+IF(F59="",G59,F59) -> 1618253.5
B60: SISTEMA DE ILUMINACIÓN
A61: =+A59+1 -> 47 | B61: BOMBILLO UNIDAD | C61: 1 | E61: 45220 | G61: =(E61*(1 + 5.1 %) * (1 + 4.36 %)) -> 49598.363 | H61: =+IF(F61="",G61,F61) -> 49598.363
A62: =+A61+1 -> 48 | B62: BOMBILLO DIRECCIONAL DELANTERO | C62: 1 | H62: =+IF(F62="",G62,F62) -> 0
A63: =+A62+1 -> 49 | B63: BOMBILLO DE STOP | C63: 1 | H63: =+IF(F63="",G63,F63) -> 0
A64: =+A63+1 -> 50 | B64: CINTA REFLECTIVA (METRO) | C64: 1 | E64: 12495 | G64: =(E64*(1 + 5.1 %) * (1 + 4.36 %)) -> 13704.811 | H64: =+IF(F64="",G64,F64) -> 13704.811
B65: SISTEMA DE TRANSMISIÓN
A66: =+A64+1 -> 51 | B66: KIT EMBRAGUE | C66: 1 | E66: 2951200 | G66: =(E66*(1 + 5.1 %) * (1 + 4.36 %)) -> 3236945.8 | H66: =+IF(F66="",G66,F66) -> 3236945.8
A67: =+A66+1 -> 52 | B67: BALINERA VOLANTE | C67: 1 | E67: 57120 | G67: =(E67*(1 + 5.1 %) * (1 + 4.36 %)) -> 62650.564 | H67: =+IF(F67="",G67,F67) -> 62650.564
A68: =+A67+1 -> 53 | B68: RECTIFICAR VOLANTE | C68: 1 | E68: 285600 | G68: =(E68*(1 + 5.1 %) * (1 + 4.36 %)) -> 313252.82 | H68: =+IF(F68="",G68,F68) -> 313252.82
A69: =+A68+1 -> 54 | B69: DESMONTE Y MONTE CAJA DE VELOCIDADES | C69: 1 | E69: 928200 | G69: =(E69*(1 + 5.1 %) * (1 + 4.36 %)) -> 1018071.7 | H69: =+IF(F69="",G69,F69) -> 1018071.7
B70: LLANTAS
A71: =+A69+1 -> 55 | B71: CALIBRACION DE LLANTAS Y VERIFICACION DE ESTADO | C71: 1 | D71: 123100 | F71: =(D71*(1 + 5.1 %) * (1 + 4.36 %)) -> 135018.99 | H71: =+IF(F71="",G71,F71) -> 135018.99
A72: =+A71+1 -> 56 | B72: LLANTAS DIRECCIONALES | C72: 1 | D72: 2000000 | F72: =(D72*(1 + 5.1 %) * (1 + 4.36 %)) -> 2193647.2 | H72: =+IF(F72="",G72,F72) -> 2193647.2
A73: =+A72+1 -> 57 | B73: LLANTAS DE TRACCION | C73: 1 | D73: 2000000 | F73: =(D73*(1 + 5.1 %) * (1 + 4.36 %)) -> 2193647.2 | H73: =+IF(F73="",G73,F73) -> 2193647.2
A74: =+A73+1 -> 58 | B74: DESPINCHE | C74: 1 | D74: 148500 | F74: =(D74*(1 + 5.1 %) * (1 + 4.36 %)) -> 162878.3 | H74: =+IF(F74="",G74,F74) -> 162878.3
A75: =+A74+1 -> 59 | B75: BALANCEO | C75: 1 | D75: 285600 | F75: =(D75*(1 + 5.1 %) * (1 + 4.36 %)) -> 313252.82 | H75: =+IF(F75="",G75,F75) -> 313252.82
A76: =+A75+1 -> 60 | B76: ROTACIÓN DE LLANTAS | C76: 1 | D76: 140000 | F76: =(D76*(1 + 5.1 %) * (1 + 4.36 %)) -> 153555.3 | H76: =+IF(F76="",G76,F76) -> 153555.3
B77: SISTEMA FRENOS
A78: =+A76+1 -> 61 | B78: BANDAS DE FRENO TRASEROS | C78: 1 | D78: 1095000 | F78: =(D78*(1 + 5.1 %) * (1 + 4.36 %)) -> 1201021.8 | H78: =+IF(F78="",G78,F78) -> 1201021.8
A79: =+A78+1 -> 62 | B79: MANTENIMIENTO/AJUSTE FRENOS INCLUYE DESARME, LIMPIEZA, AJUSTE, GRADUACIÓN (GLOBAL) | C79: 1 | D79: 900000 | F79: =(D79*(1 + 5.1 %) * (1 + 4.36 %)) -> 987141.24 | H79: =+IF(F79="",G79,F79) -> 987141.24
A80: =+A79+1 -> 63 | B80: RAPARACION Y MANTENIMIENTO FRENO DE AHOGO | C80: 1 | E80: 357000 | G80: =(E80*(1 + 5.1 %) * (1 + 4.36 %)) -> 391566.03 | H80: =+IF(F80="",G80,F80) -> 391566.03
A81: =+A80+1 -> 64 | B81: GRADUACION FRENO DE EMERGENCIA | C81: 1 | E81: 178500 | G81: =(E81*(1 + 5.1 %) * (1 + 4.36 %)) -> 195783.01 | H81: =+IF(F81="",G81,F81) -> 195783.01
A82: =+A81+1 -> 65 | B82: REPARACION BOOSTER (D/M, KIT REPARACION, RECTIFICACION (SI SE REQUIERE), PRUEBAS, AJUSTE Y LIMPIEZA) | C82: 1 | E82: 916300 | G82: =(E82*(1 + 5.1 %) * (1 + 4.36 %)) -> 1005019.5 | H82: =+IF(F82="",G82,F82) -> 1005019.5
A83: =+A82+1 -> 66 | B83: BANDAS DE FRENO DELANTERAS | C83: 1 | H83: =+IF(F83="",G83,F83) -> 0
A84: CAMABAJA
B85: ESTADO GENERAL
A86: 1 | B86: LAVADO GENERAL | C86: 1 | D86: 354100 | F86: =(D86*(1 + 5.1 %) * (1 + 4.36 %)) -> 388385.24 | H86: =+IF(F86="",G86,F86) -> 388385.24
A87: =+A86+1 -> 2 | B87: ENGRASE GENERAL | C87: 1 | D87: 274200 | F87: =(D87*(1 + 5.1 %) * (1 + 4.36 %)) -> 300749.03 | H87: =+IF(F87="",G87,F87) -> 300749.03
A88: =+A87+1 -> 3 | B88: REVISION SISTEMA ELECTRICO EN GENERAL | C88: 1 | D88: 559800 | F88: =(D88*(1 + 5.1 %) * (1 + 4.36 %)) -> 614001.85 | H88: =+IF(F88="",G88,F88) -> 614001.85
A89: =+A88+1 -> 4 | B89: REVISION DE FRENOS EN GENERAL Y GRADUACION | C89: 1 | D89: 900000 | F89: =(D89*(1 + 5.1 %) * (1 + 4.36 %)) -> 987141.24 | H89: =+IF(F89="",G89,F89) -> 987141.24
A90: =+A89+1 -> 5 | B90: ACOPLE DE AIRE DE ENGANCHE DEL REMOLQUE | C90: 1 | D90: 628300 | F90: =(D90*(1 + 5.1 %) * (1 + 4.36 %)) -> 689134.27 | H90: =+IF(F90="",G90,F90) -> 689134.27
A91: =+A90+1 -> 6 | B91: ROTACIÓN DE LLANTAS | C91: 1 | D91: 140000 | F91: =(D91*(1 + 5.1 %) * (1 + 4.36 %)) -> 153555.3 | H91: =+IF(F91="",G91,F91) -> 153555.3
A92: =+A91+1 -> 7 | B92: LLANTAS DIRECCIONALES | C92: 1 | D92: 1100000 | F92: =(D92*(1 + 5.1 %) * (1 + 4.36 %)) -> 1206506 | H92: =+IF(F92="",G92,F92) -> 1206506
A93: =+A92+1 -> 8 | B93: SERVICIO DE DESPINCHE | C93: 1 | D93: 108500 | F93: =(D93*(1 + 5.1 %) * (1 + 4.36 %)) -> 119005.36 | H93: =+IF(F93="",G93,F93) -> 119005.36
A94: =+A93+1 -> 9 | B94: KIT BANDAS DE FRENO | C94: 1 | E94: 714000 | G94: =(E94*(1 + 5.1 %) * (1 + 4.36 %)) -> 783132.05 | H94: =+IF(F94="",G94,F94) -> 783132.05
A95: =+A94+1 -> 10 | B95: BOMBILLO DE STOP | C95: 1 | H95: =+IF(F95="",G95,F95) -> 0
A96: =+A95+1 -> 11 | B96: MANGUERA NEUMÁTICA DE ACOPLE | C96: 1 | H96: =+IF(F96="",G96,F96) -> 0
A97: =+A96+1 -> 12 | B97: MANTENIMIENTO GENERAL PATAS DE ANCLAJE | C97: 1 | E97: 714000 | G97: =(E97*(1 + 5.1 %) * (1 + 4.36 %)) -> 783132.05 | H97: =+IF(F97="",G97,F97) -> 783132.05
A98: MOTONIVELADORA CATERPILLAR PLACA 120 G
B99: MOTOR
A100: 1 | B100: FILTRO DE ACEITE | C100: 1 | D100: 411600 | F100: =(D100*(1 + 5.1 %) * (1 + 4.36 %)) -> 451452.59 | H100: =+IF(F100="",G100,F100) -> 451452.59
A101: =+A100+1 -> 2 | B101: FILTRO DE AIRE | C101: 1 | D101: 623100 | F101: =(D101*(1 + 5.1 %) * (1 + 4.36 %)) -> 683430.79 | H101: =+IF(F101="",G101,F101) -> 683430.79
...

Sheet CONSOLIDADO DE COTIZACIONES
G2: PRECIO HISTORICO
A3: DESCRIPCIÓN DEL SERVICIO | C3: CANTIDAD | D3: AUTOS MONGUI S.A.S. | E3: MULTISERVICIOS MONACO | F3: CAMIONAUTOS SERVICE SAS | G3: PRECIO TOTAL CPS678-2023 Con IPC | H3: PRECIO TECHO | I3: MEDIO DE DETERMINACION
A4: VOLQUETAS INTERNATIONAL 4300 MODELO 2015
B5: ESTADO GENERAL
A6: =1 -> 1 | B6: ENGRASE GENERAL | C6: 1 | D6: 2152000 | E6: 2235600 | F6: 423379 | G6: =+'678-2024 IPC'!H5 -> 361951.79 | H6: =ROUND(AVERAGE(F6:G6),0) -> 392665 | I6: PROMEDIO HISTORICO CON IPC - CAMIONAUTOS
A7: =+A6+1 -> 2 | B7: LIBRA GRASA BASE LITIO MULTIUSOS EP GRADO NLGI:3 PUNTO DE GOTEO MINIMO:160ºC RESISTENTE AL AGUA(LIBRA) | C7: 1 | D7: 952000 | E7: 999600 | F7: 112987 | G7: =+'678-2024 IPC'!H6 -> 252269.43 | H7: =ROUND(AVERAGE(F7:G7),0) -> 182628 | I7: PROMEDIO HISTORICO CON IPC - CAMIONAUTOS
A8: =+A7+1 -> 3 | B8: LAVADO GENERAL | C8: 1 | D8: 1600000 | E8: 1650000 | F8: 352310 | G8: =+'678-2024 IPC'!H7 -> 438729.44 | H8: =ROUND(AVERAGE(F8:G8),0) -> 395520 | I8: PROMEDIO HISTORICO CON IPC - CAMIONAUTOS
A9: =A8+1 -> 4 | B9: REVISIÓN NIVELES GENERAL | C9: 1 | D9: 1052000 | E9: 1085560 | F9: 152586 | G9: =+'678-2024 IPC'!H8 -> 504538.86 | H9: =ROUND(AVERAGE(F9:G9),0) -> 328562 | I9: PROMEDIO HISTORICO CON IPC - CAMIONAUTOS
A10: =+A9+1 -> 5 | B10: REVISIÓN GENERAL, LUCES, PITOS, TESTIGOS DE TABLERO | C10: 1 | D10: 2000000 | E10: 2062000 | F10: 211386 | G10: =+'678-2024 IPC'!H9 -> 987141.24 | H10: =ROUND(AVERAGE(F10:G10),0) -> 599264 | I10: PROMEDIO HISTORICO CON IPC - CAMIONAUTOS
A11: =A10+1 -> 6 | B11: REVISIÓN TECNOMECÁNICA | C11: 1 | D11: 3100000 | E11: 3195000 | F11: 614558 | G11: =+'678-2024 IPC'!H10 -> 807262.17 | H11: =ROUND(AVERAGE(F11:G11),0) -> 710910 | I11: PROMEDIO HISTORICO CON IPC - CAMIONAUTOS
B12: MOTOR
A13: =A11+1 -> 7 | B13: FILTRO DE ACEITE | C13: 1 | D13: 1128000 | E13: 1180400 | F13: 442723 | G13: =+'678-2024 IPC'!H12 -> 337053.89 | H13: =ROUND(AVERAGE(F13:G13),0) -> 389888 | I13: PROMEDIO HISTORICO CON IPC - CAMIONAUTOS
A14: =+A13+1 -> 8 | B14: FILTRO DE AIRE INTERNO | C14: 1 | D14: 1225000 | E14: 1282250 | F14: 433686 | G14: =+'678-2024 IPC'!H13 -> 379391.28 | H14: =ROUND(AVERAGE(F14:G14),0) -> 406539 | I14: PROMEDIO HISTORICO CON IPC - CAMIONAUTOS
A15: =+A14+1 -> 9 | B15: FILTRO DE AIRE EXTERNO | C15: 1 | D15: 1265000 | E15: 1323450 | F15: 510656 | G15: =+'678-2024 IPC'!H14 -> 415696.14 | H15: =ROUND(AVERAGE(F15:G15),0) -> 463176 | I15: PROMEDIO HISTORICO CON IPC - CAMIONAUTOS
A16: =+A15+1 -> 10 | B16: FILTRO DE COMBUSTIBLE PRIMARIO | C16: 1 | D16: 1310000 | E16: 1370700 | F16: 384706 | G16: =+'678-2024 IPC'!H15 -> 357016.08 | H16: =ROUND(AVERAGE(F16:G16),0) -> 370861 | I16: PROMEDIO HISTORICO CON IPC - CAMIONAUTOS
A17: =+A16+1 -> 11 | B17: FILTRO DE COMBUSTIBLE SECUNDARIO | C17: 1 | D17: 1310000 | E17: 1370700 | F17: 433100 | G17: =+'678-2024 IPC'!H16 -> 447723.39 | H17: =ROUND(AVERAGE(F17:G17),0) -> 440412 | I17: PROMEDIO HISTORICO CON IPC - CAMIONAUTOS
A18: =+A17+1 -> 12 | B18: ACEITE DE MOTOR SAE 15W40 Certificado (Galón) | C18: 1 | D18: 1370000 | E18: 1436100 | F18: 346508 | G18: =+'678-2024 IPC'!H17 -> 232636.29 | H18: =ROUND(AVERAGE(F18:G18),0) -> 289572 | I18: PROMEDIO HISTORICO CON IPC - CAMIONAUTOS
A19: =+A18+1 -> 13 | B19: LAVADO DE MOTOR | C19: 1 | D19: 900000 | E19: 929000 | F19: 549972 | G19: =+'678-2024 IPC'!H18 -> 573638.74 | H19: =ROUND(AVERAGE(F19:G19),0) -> 561805 | I19: PROMEDIO HISTORICO CON IPC - CAMIONAUTOS
A20: =A19+1 -> 14 | B20: CALIBRACIÓN DE VÁLVULAS | C20: 1 | D20: 3250000 | E20: 3352500 | F20: 790958 | G20: =+'678-2024 IPC'!H19 -> 932958.15 | H20: =ROUND(AVERAGE(F20:G20),0) -> 861958 | I20: PROMEDIO HISTORICO CON IPC - CAMIONAUTOS
A21: 15 | B21: CAMBIO EMPAQUE DE BOQUILLA | C21: 1 | D21: 1325380 | E21: 1374941.4 | F21: 420224 | G21: =+'678-2024 IPC'!H20 -> 156626.41 | H21: =ROUND(AVERAGE(F21:G21),0) -> 288425 | I21: PROMEDIO HISTORICO CON IPC - CAMIONAUTOS
B22: SISTEMA DE REFRIGERACIÓN MOTOR
A23: =A20+1 -> 15 | B23: REFRIGERANTE | C23: 1 | D23: 1000000 | E23: 1044000 | F23: 259578 | G23: =+'678-2024 IPC'!H22 -> 190847.31 | H23: =ROUND(AVERAGE(F23:G23),0) -> 225213 | I23: PROMEDIO HISTORICO CON IPC - CAMIONAUTOS
A24: =+A23+1 -> 16 | B24: MANTENIMIENTO INTERCOOLER | C24: 1 | D24: 5990000 | E24: 6193500 | F24: 929888 | G24: =+'678-2024 IPC'!H23 -> 1940061.6 | H24: =ROUND(AVERAGE(F24:G24),0) -> 1434975 | I24: PROMEDIO HISTORICO CON IPC - CAMIONAUTOS
A25: =+A24+1 -> 17 | B25: MANGUERAS DE RADIADOR | C25: 1 | D25: 3950000 | E25: 4116500 | F25: 596232 | G25: =+'678-2024 IPC'!H24 -> 647454.97 | H25: =ROUND(AVERAGE(F25:G25),0) -> 621843 | I25: PROMEDIO HISTORICO CON IPC - CAMIONAUTOS
A26: =+A25+1 -> 18 | B26: BOMBA DE AGUA | C26: 1 | D26: 10750000 | E26: 11242500 | F26: 2554300 | H26: =+F26 -> 2554300 | I26: MENOR VALOR - CAMIONAUTOS
A27: =+A26+1 -> 19 | B27: ACOPLE MANGUERA | C27: 1 | D27: 2420000 | E27: 2529000 | F27: 261268 | H27: =+F27 -> 261268 | I27: MENOR VALOR - CAMIONAUTOS
A28: =+A27+1 -> 20 | B28: ORING BOMBA DE AGUA | C28: 1 | D28: 730000 | E28: 761700 | F28: 552482 | H28: =+F28 -> 552482 | I28: MENOR VALOR - CAMIONAUTOS
B29: SISTEMA DE AIRE
A30: =+A28+1 -> 21 | B30: EMPAQUETADURA COMPRESOR | C30: 1 | D30: 4150000 | E30: 4324500 | F30: 835450 | G30: =+'678-2024 IPC'!H29 -> 1570103 | H30: =ROUND(AVERAGE(F30:G30),0) -> 1202776 | I30: PROMEDIO HISTORICO CON IPC - CAMIONAUTOS
A31: =A30+1 -> 22 | B31: VALVULA GOBERNADOR | C31: 1 | D31: 5200000 | E31: 5436000 | F31: 1062712 | G31: =+'678-2024 IPC'!H30 -> 990102.66 | H31: =ROUND(AVERAGE(F31:G31),0) -> 1026407 | I31: PROMEDIO HISTORICO CON IPC - CAMIONAUTOS
B32: SISTEMA ELÉCTRICO
A33: =A31+1 -> 23 | B33: ALTERNADOR | C33: 1 | D33: 18480000 | E33: 19320000 | F33: 4268300 | G33: =+'678-2024 IPC'!H32 -> 2934990.3 | H33: =ROUND(AVERAGE(F33:G33),0) -> 3601645 | I33: PROMEDIO HISTORICO CON IPC - CAMIONAUTOS
A34: =+A33+1 -> 24 | B34: REGULADOR ALTERNADOR | C34: 1 | D34: 4350000 | E34: 4538500 | F34: 809872 | G34: =+'678-2024 IPC'!H33 -> 624750.72 | H34: =ROUND(AVERAGE(F34:G34),0) -> 717311 | I34: PROMEDIO HISTORICO CON IPC - CAMIONAUTOS
A35: =+A34+1 -> 25 | B35: REVISIÓN/REPARACIÓN MOTOR DE ARRANQUE | C35: 1 | D35: 7700000 | E35: 7945000 | F35: 894250 | G35: =+'678-2024 IPC'!H34 -> 2210209.2 | H35: =ROUND(AVERAGE(F35:G35),0) -> 1552230 | I35: PROMEDIO HISTORICO CON IPC - CAMIONAUTOS
A36: =+A35+1 -> 26 | B36: MOTOR DE ARRANQUE | C36: 1 | D36: 17860000 | E36: 18729000 | F36: 4007220 | G36: =+'678-2024 IPC'!H35 -> 4470543.3 | H36: =ROUND(AVERAGE(F36:G36),0) -> 4238882 | I36: PROMEDIO HISTORICO CON IPC - CAMIONAUTOS
A37: =A36+1 -> 27 | B37: BOMBILLOS STOP | C37: 1 | D37: 490000 | E37: 509700 | F37: 153958 | G37: =+'678-2024 IPC'!H36 -> 42995.485 | H37: =ROUND(AVERAGE(F37:G37),0) -> 98477 | I37: PROMEDIO HISTORICO CON IPC - CAMIONAUTOS
A38: =A37+1 -> 28 | B38: FUSIBLES | C38: 1 | D38: 80000 | E38: 83200 | F38: 97510 | G38: =+'678-2024 IPC'!H37 -> 51770.074 | H38: =ROUND(AVERAGE(F38:G38),0) -> 74640 | I38: PROMEDIO HISTORICO CON IPC - CAMIONAUTOS
A39: =+A38+1 -> 29 | B39: COCUYOS | C39: 1 | D39: 490000 | E39: 509700 | F39: 163758 | G39: =+'678-2024 IPC'!H38 -> 523952.63 | H39: =ROUND(AVERAGE(F39:G39),0) -> 343855 | I39: PROMEDIO HISTORICO CON IPC - CAMIONAUTOS
A40: =+A39+1 -> 30 | B40: PITO | C40: 1 | D40: 3000000 | E40: 3126000 | F40: 481603 | G40: =+'678-2024 IPC'!H39 -> 623873.26 | H40: =ROUND(AVERAGE(F40:G40),0) -> 552738 | I40: PROMEDIO HISTORICO CON IPC - CAMIONAUTOS
A41: =+A40+1 -> 31 | B41: REVISIÓN SISTEMA DE CARGA Y ESTADO DE BATERÍAS | C41: 1 | D41: 1090000 | E41: 1127500 | F41: 515550 | G41: =+'678-2024 IPC'!H40 -> 548411.8 | H41: =ROUND(AVERAGE(F41:G41),0) -> 531981 | I41: PROMEDIO HISTORICO CON IPC - CAMIONAUTOS
A42: =A41+1 -> 32 | B42: PLUMILLAS | C42: 1 | D42: 940000 | E42: 982200 | F42: 188944 | G42: =+'678-2024 IPC'!H41 -> 312485.04 | H42: =ROUND(AVERAGE(F42:G42),0) -> 250715 | I42: PROMEDIO HISTORICO CON IPC - CAMIONAUTOS
A43: =A42+1 -> 33 | B43: SERVICIO DE ESCANER | C43: 1 | D43: 1690000 | E43: 1745500 | F43: 613480 | G43: =+'678-2024 IPC'!H42 -> 156626.41 | H43: =ROUND(AVERAGE(F43:G43),0) -> 385053 | I43: PROMEDIO HISTORICO CON IPC - CAMIONAUTOS
A44: =A43+1 -> 34 | B44: BATERÍA | C44: 1 | D44: 6140000 | E44: 6438600 | F44: 1864272 | H44: =+F44 -> 1864272 | I44: MENOR VALOR - CAMIONAUTOS
A45: =A44+1 -> 35 | B45: TAPA DE JUEGO DE BATERÍAS. | C45: 1 | D45: 5950000 | E45: 6218500 | F45: 358288 | H45: =+F45 -> 358288 | I45: MENOR VALOR - CAMIONAUTOS
B46: SISTEMA DE DIRECCIÓN
A47: =A45+1 -> 36 | B47: REVISIÓN/ MANTENIMIENTO TERMINALES DE DIRECCIÓN | C47: 1 | D47: 3950000 | E47: 4118500 | F47: 2005872 | G47: =+'678-2024 IPC'!H46 -> 1378268.5 | H47: =ROUND(AVERAGE(F47:G47),0) -> 1692070 | I47: PROMEDIO HISTORICO CON IPC - CAMIONAUTOS
A48: =A47+1 -> 37 | B48: ALINEACION | C48: 1 | D48: 1120000 | E48: 1154600 | F48: 650300 | G48: =+'678-2024 IPC'!H47 -> 313252.82 | H48: =ROUND(AVERAGE(F48:G48),0) -> 481776 | I48: PROMEDIO HISTORICO CON IPC - CAMIONAUTOS
B49: SISTEMA HIDRÁULICO
A50: =A48+1 -> 38 | B50: ACEITE HIDRAUILICO ISO 68 X 1/4 | C50: 1 | D50: 920000 | E50: 963600 | F50: 566500 | G50: =+'678-2024 IPC'!H49 -> 119773.14 | H50: =ROUND(AVERAGE(F50:G50),0) -> 343137 | I50: PROMEDIO HISTORICO CON IPC - CAMIONAUTOS
A51: =A50+1 -> 39 | B51: REVISIÓN/ CAMBIO DE MANGUERA HIDRÁULICA | C51: 1 | D51: 1570000 | E51: 1619500 | F51: 596232 | G51: =+'678-2024 IPC'!H50 -> 870548.89 | H51: =ROUND(AVERAGE(F51:G51),0) -> 733390 | I51: PROMEDIO HISTORICO CON IPC - CAMIONAUTOS
A52: =A51+1 -> 40 | B52: MANGUERA HIDRÁULICA | C52: 1 | D52: 1800000 | E52: 1888000 | F52: 537432 | G52: =+'678-2024 IPC'!H51 -> 878116.97 | H52: =ROUND(AVERAGE(F52:G52),0) -> 707774 | I52: PROMEDIO HISTORICO CON IPC - CAMIONAUTOS
B53: SISTEMA DE ESCAPE
A54: =A52+1 -> 41 | B54: EMPAQUETADURA DEL MÚLTIPLE | C54: 1 | D54: 6600000 | E54: 6842000 | F54: 961736 | G54: =+'678-2024 IPC'!H53 -> 1000522.5 | H54: =ROUND(AVERAGE(F54:G54),0) -> 981129 | I54: PROMEDIO HISTORICO CON IPC - CAMIONAUTOS
B55: SISTEMA DE SUSPENSIÓN
A56: =A54+1 -> 42 | B56: AJUSTE PASADORES Y MUELLES | C56: 1 | D56: 4750000 | E56: 4917500 | F56: 863625 | G56: =+'678-2024 IPC'!H55 -> 714251.53 | H56: =ROUND(AVERAGE(F56:G56),0) -> 788938 | I56: PROMEDIO HISTORICO CON IPC - CAMIONAUTOS
A57: =+A56+1 -> 43 | B57: PASADORES | C57: 1 | D57: 5000000 | E57: 5180000 | F57: 655032 | G57: =+'678-2024 IPC'!H56 -> 939758.46 | H57: =ROUND(AVERAGE(F57:G57),0) -> 797395 | I57: PROMEDIO HISTORICO CON IPC - CAMIONAUTOS
A58: =+A57+1 -> 44 | B58: HOJA TRASERA | C58: 1 | D58: 11500000 | E58: 11985000 | F58: 1020768 | G58: =+'678-2024 IPC'!H57 -> 1791990.4 | H58: =ROUND(AVERAGE(F58:G58),0) -> 1406379 | I58: PROMEDIO HISTORICO CON IPC - CAMIONAUTOS
A59: =+A58+1 -> 45 | B59: HOJA DELANTERA | C59: 1 | D59: 10500000 | E59: 10935000 | F59: 974120 | G59: =+'678-2024 IPC'!H58 -> 1518223.2 | H59: =ROUND(AVERAGE(F59:G59),0) -> 1246172 | I59: PROMEDIO HISTORICO CON IPC - CAMIONAUTOS
A60: =+A59+1 -> 46 | B60: HOJA PRINCIPAL MUELLE DELANTERO | C60: 1 | D60: 11500000 | E60: 11985000 | F60: 1180312 | G60: =+'678-2024 IPC'!H59 -> 1618253.5 | H60: =ROUND(AVERAGE(F60:G60),0) -> 1399283 | I60: PROMEDIO HISTORICO CON IPC - CAMIONAUTOS
B61: SISTEMA DE ILUMINACIÓN
A62: =+A60+1 -> 47 | B62: BOMBILLO UNIDAD | C62: 1 | D62: 520000 | E62: 541200 | F62: 283050 | G62: =+'678-2024 IPC'!H61 -> 49598.363 | H62: =ROUND(AVERAGE(F62:G62),0) -> 166324 | I62: PROMEDIO HISTORICO CON IPC - CAMIONAUTOS
A63: =+A62+1 -> 48 | B63: BOMBILLO DIRECCIONAL DELANTERO | C63: 1 | D63: 440000 | E63: 457200 | F63: 187082 | H63: =+F63 -> 187082 | I63: MENOR VALOR - CAMIONAUTOS
A64: =+A63+1 -> 49 | B64: BOMBILLO DE STOP | C64: 1 | D64: 490000 | E64: 509700 | F64: 153958 | H64: =+F64 -> 153958 | I64: MENOR VALOR - CAMIONAUTOS
A65: =+A64+1 -> 50 | B65: CINTA REFLECTIVA (METRO) | C65: 1 | D65: 540000 | E65: 562200 | F65: 71383 | G65: =+'678-2024 IPC'!H64 -> 13704.811 | H65: =ROUND(AVERAGE(F65:G65),0) -> 42544 | I65: PROMEDIO HISTORICO CON IPC - CAMIONAUTOS
B66: SISTEMA DE TRANSMISIÓN
A67: =+A65+1 -> 51 | B67: KIT EMBRAGUE | C67: 1 | D67: 23000000 | E67: 23970000 | F67: 5080980 | G67: =+'678-2024 IPC'!H66 -> 3236945.8 | H67: =ROUND(AVERAGE(F67:G67),0) -> 4158963 | I67: PROMEDIO HISTORICO CON IPC - CAMIONAUTOS
A68: =+A67+1 -> 52 | B68: BALINERA VOLANTE | C68: 1 | D68: 9000000 | E68: 9390000 | F68: 655032 | G68: =+'678-2024 IPC'!H67 -> 62650.564 | H68: =ROUND(AVERAGE(F68:G68),0) -> 358841 | I68: PROMEDIO HISTORICO CON IPC - CAMIONAUTOS
A69: =+A68+1 -> 53 | B69: RECTIFICAR VOLANTE | C69: 1 | D69: 3620000 | E69: 3731000 | F69: 686000 | G69: =+'678-2024 IPC'!H68 -> 313252.82 | H69: =ROUND(AVERAGE(F69:G69),0) -> 499626 | I69: PROMEDIO HISTORICO CON IPC - CAMIONAUTOS
A70: =+A69+1 -> 54 | B70: DESMONTE Y MONTE CAJA DE VELOCIDADES | C70: 1 | D70: 5620000 | E70: 5791000 | F70: 2105810 | G70: =+'678-2024 IPC'!H69 -> 1018071.7 | H70: =ROUND(AVERAGE(F70:G70),0) -> 1561941 | I70: PROMEDIO HISTORICO CON IPC - CAMIONAUTOS
B71: LLANTAS
A72: =+A70+1 -> 55 | B72: CALIBRACION DE LLANTAS Y VERIFICACION DE ESTADO | C72: 1 | D72: 720000 | E72: 744000 | F72: 125989 | G72: =+'678-2024 IPC'!H71 -> 135018.99 | H72: =ROUND(AVERAGE(F72:G72),0) -> 130504 | I72: PROMEDIO HISTORICO CON IPC - CAMIONAUTOS
A73: =+A72+1 -> 56 | B73: LLANTAS DIRECCIONALES | C73: 1 | D73: 8400000 | E73: 8812000 | F73: 3393340 | G73: =+'678-2024 IPC'!H72 -> 2193647.2 | H73: =ROUND(AVERAGE(F73:G73),0) -> 2793494 | I73: PROMEDIO HISTORICO CON IPC - CAMIONAUTOS
A74: =+A73+1 -> 57 | B74: LLANTAS DE TRACCION | C74: 1 | D74: 8400000 | E74: 8812000 | F74: 3976440 | G74: =+'678-2024 IPC'!H73 -> 2193647.2 | H74: =ROUND(AVERAGE(F74:G74),0) -> 3085044 | I74: PROMEDIO HISTORICO CON IPC - CAMIONAUTOS
A75: =+A74+1 -> 58 | B75: DESPINCHE | C75: 1 | D75: 550000 | E75: 569500 | F75: 356510 | G75: =+'678-2024 IPC'!H74 -> 162878.3 | H75: =ROUND(AVERAGE(F75:G75),0) -> 259694 | I75: PROMEDIO HISTORICO CON IPC - CAMIONAUTOS
A76: =+A75+1 -> 59 | B76: BALANCEO | C76: 1 | D76: 1170000 | E76: 1207100 | F76: 171745 | G76: =+'678-2024 IPC'!H75 -> 313252.82 | H76: =ROUND(AVERAGE(F76:G76),0) -> 242499 | I76: PROMEDIO HISTORICO CON IPC - CAMIONAUTOS
A77: =+A76+1 -> 60 | B77: ROTACIÓN DE LLANTAS | C77: 1 | D77: 1950000 | E77: 2013500 | F77: 350400 | G77: =+'678-2024 IPC'!H76 -> 153555.3 | H77: =ROUND(AVERAGE(F77:G77),0) -> 251978 | I77: PROMEDIO HISTORICO CON IPC - CAMIONAUTOS
B78: SISTEMA FRENOS
A79: =+A77+1 -> 61 | B79: BANDAS DE FRENO TRASEROS | C79: 1 | D79: 12300000 | E79: 12839000 | F79: 1332408 | G79: =+'678-2024 IPC'!H78 -> 1201021.8 | H79: =ROUND(AVERAGE(F79:G79),0) -> 1266715 | I79: PROMEDIO HISTORICO CON IPC - CAMIONAUTOS
A80: =+A79+1 -> 62 | B80: MANTENIMIENTO/AJUSTE FRENOS INCLUYE DESARME, LIMPIEZA, AJUSTE, GRADUACIÓN (GLOBAL) | C80: 1 | D80: 5100000 | E80: 5265000 | F80: 912800 | G80: =+'678-2024 IPC'!H79 -> 987141.24 | H80: =ROUND(AVERAGE(F80:G80),0) -> 949971 | I80: PROMEDIO HISTORICO CON IPC - CAMIONAUTOS
A81: =+A80+1 -> 63 | B81: RAPARACION Y MANTENIMIENTO FRENO DE AHOGO | C81: 1 | D81: 4570000 | E81: 4728500 | F81: 1878220 | G81: =+'678-2024 IPC'!H80 -> 391566.03 | H81: =ROUND(AVERAGE(F81:G81),0) -> 1134893 | I81: PROMEDIO HISTORICO CON IPC - CAMIONAUTOS
A82: =+A81+1 -> 64 | B82: GRADUACION FRENO DE EMERGENCIA | C82: 1 | D82: 1320000 | E82: 1361600 | F82: 415310 | G82: =+'678-2024 IPC'!H81 -> 195783.01 | H82: =ROUND(AVERAGE(F82:G82),0) -> 305547 | I82: PROMEDIO HISTORICO CON IPC - CAMIONAUTOS
A83: =+A82+1 -> 65 | B83: REPARACION BOOSTER (D/M, KIT REPARACION, RECTIFICACION (SI SE REQUIERE), PRUEBAS, AJUSTE Y LIMPIEZA) | C83: 1 | D83: 7300000 | E83: 7555000 | F83: 2366560 | G83: =+'678-2024 IPC'!H82 -> 1005019.5 | H83: =ROUND(AVERAGE(F83:G83),0) -> 1685790 | I83: PROMEDIO HISTORICO CON IPC - CAMIONAUTOS
A84: =+A83+1 -> 66 | B84: BANDAS DE FRENO DELANTERAS | C84: 1 | D84: 12300000 | E84: 12839000 | F84: 1332408 | H84: =+F84 -> 1332408 | I84: MENOR VALOR - CAMIONAUTOS
A85: CAMABAJA
B86: ESTADO GENERAL
A87: 1 | B87: LAVADO GENERAL | C87: 1 | D87: 1600000 | E87: 1650000 | F87: 352310 | G87: =+'678-2024 IPC'!H86 -> 388385.24 | H87: =ROUND(AVERAGE(F87:G87),0) -> 370348 | I87: PROMEDIO HISTORICO CON IPC - CAMIONAUTOS
A88: =+A87+1 -> 2 | B88: ENGRASE GENERAL | C88: 1 | D88: 2152000 | E88: 2235600 | F88: 411110 | G88: =+'678-2024 IPC'!H87 -> 300749.03 | H88: =ROUND(AVERAGE(F88:G88),0) -> 355930 | I88: PROMEDIO HISTORICO CON IPC - CAMIONAUTOS
A89: =+A88+1 -> 3 | B89: REVISION SISTEMA ELECTRICO EN GENERAL | C89: 1 | D89: 2000000 | E89: 2062000 | F89: 387296 | G89: =+'678-2024 IPC'!H88 -> 614001.85 | H89: =ROUND(AVERAGE(F89:G89),0) -> 500649 | I89: PROMEDIO HISTORICO CON IPC - CAMIONAUTOS
A90: =+A89+1 -> 4 | B90: REVISION DE FRENOS EN GENERAL Y GRADUACION | C90: 1 | D90: 3100000 | E90: 3195000 | F90: 492744 | G90: =+'678-2024 IPC'!H89 -> 987141.24 | H90: =ROUND(AVERAGE(F90:G90),0) -> 739943 | I90: PROMEDIO HISTORICO CON IPC - CAMIONAUTOS
A91: =+A90+1 -> 5 | B91: ACOPLE DE AIRE DE ENGANCHE DEL REMOLQUE | C91: 1 | D91: 1720000 | E91: 1800000 | F91: 599832 | G91: =+'678-2024 IPC'!H90 -> 689134.27 | H91: =ROUND(AVERAGE(F91:G91),0) -> 644483 | I91: PROMEDIO HISTORICO CON IPC - CAMIONAUTOS
A92: =+A91+1 -> 6 | B92: ROTACIÓN DE LLANTAS | C92: 1 | D92: 1950000 | E92: 2013500 | F92: 350400 | G92: =+'678-2024 IPC'!H91 -> 153555.3 | H92: =ROUND(AVERAGE(F92:G92),0) -> 251978 | I92: PROMEDIO HISTORICO CON IPC - CAMIONAUTOS
A93: =+A92+1 -> 7 | B93: LLANTAS DIRECCIONALES | C93: 1 | D93: 8400000 | E93: 8812000 | F93: 4393340 | G93: =+'678-2024 IPC'!H92 -> 1206506 | H93: =ROUND(AVERAGE(F93:G93),0) -> 2799923 | I93: PROMEDIO HISTORICO CON IPC - CAMIONAUTOS
A94: =+A93+1 -> 8 | B94: SERVICIO DE DESPINCHE | C94: 1 | D94: 550000 | E94: 569500 | F94: 356510 | G94: =+'678-2024 IPC'!H93 -> 119005.36 | H94: =ROUND(AVERAGE(F94:G94),0) -> 237758 | I94: PROMEDIO HISTORICO CON IPC - CAMIONAUTOS
A95: =+A94+1 -> 9 | B95: KIT BANDAS DE FRENO | C95: 1 | D95: 8800000 | E95: 9164000 | F95: 1472352 | G95: =+'678-2024 IPC'!H94 -> 783132.05 | H95: =ROUND(AVERAGE(F95:G95),0) -> 1127742 | I95: PROMEDIO HISTORICO CON IPC - CAMIONAUTOS
A96: =+A95+1 -> 10 | B96: BOMBILLO DE STOP | C96: 1 | D96: 490000 | E96: 509700 | F96: 153958 | H96: =+F96 -> 153958 | I96: MENOR VALOR - CAMIONAUTOS
A97: =+A96+1 -> 11 | B97: MANGUERA NEUMÁTICA DE ACOPLE | C97: 1 | D97: 1720000 | E97: 1800000 | F97: 436688 | H97: =+F97 -> 436688 | I97: MENOR VALOR - CAMIONAUTOS
A98: =+A97+1 -> 12 | B98: MANTENIMIENTO GENERAL PATAS DE ANCLAJE | C98: 1 | D98: 7400000 | E98: 7650000 | F98: 711088 | G98: =+'678-2024 IPC'!H97 -> 783132.05 | H98: =ROUND(AVERAGE(F98:G98),0) -> 747110 | I98: PROMEDIO HISTORICO CON IPC - CAMIONAUTOS
A99: MOTONIVELADORA CATERPILLAR PLACA 120 G
B100: MOTOR
A101: 1 | B101: FILTRO DE ACEITE | C101: 1 | D101: 1650000 | E101: 1728500 | F101: 469832 | G101: =+'678-2024 IPC'!H100 -> 451452.59 | H101: =ROUND(AVERAGE(F101:G101),0) -> 460642 | I101: PROMEDIO HISTORICO CON IPC - CAMIONAUTOS
...

Sheet Vol. OJX279
A3: PLACA | B3: OJX279
A5: ITEM | B5: CANTIDAD | C5: DESCRIPCION | D5: REPUESTO | E5: MANO DE OBRA | F5: VALOR TOTAL
A6: 6 | B6: 1 | C6: ENGRASE GENERAL | D6: $ - | E6: 277310.92 | F6: =+E6 -> 277310.92
D7: $ -
G8: TM033 | H8: DIFERENCIA
E9: SUB TOTAL | F9: =+SUM(F6:F8) -> 277310.92 | G9: 277310.92 | H9: =G9-F9 -> 0
E10: IVA | F10: =F9*0.19 -> 52689.075 | G10: =G9*0.19 -> 52689.075 | H10: =G10-F10 -> 0
E11: TOTAL | F11: =+F9+F10 -> 329999.99 | G11: =+G9+G10 -> 329999.99 | H11: =G11-F11 -> 0
A17: ITEM | B17: CANTIDAD | C17: DESCRIPCION | D17: REPUESTO | E17: MANO DE OBRA | F17: VALOR TOTAL | J17: MONACO | L17: TRACTOPESADOS
B18: 2 | C18: BOMBILLO UNIDAD | D18: 38000 | F18: =B18*D18 -> 76000 | I18: Cotización | J18: 85000 | K18: =D18-J18 -> -47000 | L18: 90000 | M18: =D18-L18 -> -52000
B19: 1 | C19: CAMBIO DE BOMBILLOS | E19: 26000 | F19: =B19*E19 -> 26000 | I19: Cotización | J19: 32000 | K19: =D19-J19 -> -32000 | L19: 30000 | M19: =D19-L19 -> -30000
A20: 44 | B20: 1 | C20: DESPINCHE | E20: 124789.92 | F20: =B20*E20 -> 124789.92 | G20: TM042 | H20: DIFERENCIA
E21: SUB TOTAL | F21: =+SUM(F18:F20) -> 226789.92 | G21: 248200 | H21: =G21-F21 -> 21410.08
E22: IVA | F22: =F21*0.19 -> 43090.085 | G22: =G21*0.19 -> 47158 | H22: =G22-F22 -> 4067.9152
E23: TOTAL | F23: =+F21+F22 -> 269880 | G23: =+G21+G22 -> 295358 | H23: =G23-F23 -> 25477.995
F27: 4694560
F28: 202300
F29: =+F27+F28 -> 4896860
A32: ITEM | B32: CANTIDAD | C32: DESCRIPCION | D32: REPUESTO | E32: MANO DE OBRA | F32: VALOR TOTAL | J32: MONACO | L32: TRACTOPESADOS
A33: AD | B33: 1 | C33: SUMINISTRO E INSTALACION TIRO DE ARRASTRE TIPO PESADO | D33: 0 | E33: 1700000 | F33: =+(D33+E33)*B33 -> 1700000 | J33: 1800000 | K33: =+F33-J33 -> -100000 | L33: 1850000 | M33: =+F33-L33 -> -150000
A34: 7 | B34: 1 | C34: FILTRO DE ACEITE | D34: 249831.93 | E34: 8403.36 | F34: =+(D34+E34)*B34 -> 258235.29
A35: 8 | B35: 1 | C35: FILTRO DE AIRE INTERNO | D35: 282268.91 | E35: 8403.36 | F35: =+(D35+E35)*B35 -> 290672.27
A36: 9 | B36: 1 | C36: FILTRO DE AIRE EXTERNO | D36: 310084.03 | E36: 8403.36 | F36: =+(D36+E36)*B36 -> 318487.39
A37: 10 | B37: 1 | C37: FILTRO DE COMBUSTIBLE PRIMARIO | D37: 265126.05 | E37: 8403.36 | F37: =+(D37+E37)*B37 -> 273529.41
A38: 12 | B38: 8 | C38: ACEITE DE MOTOR SAE 15W40 Certificado (Galón) | D38: 169831.93 | E38: 8403.36 | F38: =+(D38+E38)*B38 -> 1425882.3 | G38: =+D38+E38 -> 178235.29
D39: 0 | F39: =+(D39+E39)*B39 -> 0 | G39: TM052
E40: SUB TOTAL | F40: =+SUM(F33:F39) -> 4266806.7 | J40: =+SUM(J33:J39) -> 1800000 | L40: =+SUM(L33:L39) -> 1850000
E41: IVA | F41: =F40*0.19 -> 810693.27 | J41: =J40*0.19 -> 342000 | L41: =L40*0.19 -> 351500
E42: TOTAL | F42: =+F40+F41 -> 5077499.9 | J42: =+J40+J41 -> 2142000 | L42: =+L40+L41 -> 2201500

Sheet Vol. OJX280
A3: PLACA | B3: OJX280
A5: ITEM | B5: CANTIDAD | C5: DESCRIPCION | D5: REPUESTO | E5: MANO DE OBRA | F5: VALOR TOTAL | J5: TRACTO PESADO | K5: Diferencia | L5: MONACO | M5: Diferencia
B6: 1 | C6: RAPARACION Y MANTENIMIENTO FRENO DE AHOGO | E6: 300000 | F6: =B6*D6+E6 -> 300000 | I6: Cotización | J6: 350000 | K6: =E6-J6 -> -50000 | L6: 374100 | M6: =+E6-L6 -> -74100
B7: 1 | C7: CAMBIO EMPAQUE DE BOQUILLA | E7: 120000 | F7: =B7*D7+E7 -> 120000 | I7: Cotización | J7: 142500 | K7: =E7-J7 -> -22500 | L7: 135800 | M7: =+E7-L7 -> -15800
F8: =B8*D8+E8 -> 0
G9: TM034 | H9: DIFERENCIA
E10: SUB TOTAL | F10: =+SUM(F6:F9) -> 420000 | G10: 830000 | H10: =G10-F10 -> 410000
E11: IVA | F11: =F10*0.19 -> 79800 | G11: =G10*0.19 -> 157700 | H11: =G11-F11 -> 77900
E12: TOTAL | F12: =+F10+F11 -> 499800 | G12: =+G10+G11 -> 987700 | H12: =G12-F12 -> 487900
A15: ITEM | B15: CANTIDAD | C15: DESCRIPCION | D15: REPUESTO | E15: MANO DE OBRA | F15: VALOR TOTAL
A16: 44 | B16: 1 | C16: DESPINCHE | D16: 124789.92 | F16: =B16*D16+E16 -> 124789.92
B21: 5
G22: TM46 | H22: DIFERENCIA
E23: SUB TOTAL | F23: =+SUM(F16:F22) -> 124789.92 | H23: =G23-F23 -> -124789.92
E24: IVA | F24: =F23*0.19 -> 23710.085 | H24: =G24-F24 -> -23710.085
E25: TOTAL | F25: =+F23+F24 -> 148500 | H25: =G25-F25 -> -148500

Sheet Vol. OJX281
A2: VOLQUETA INTERNATIONAL DURASTAR
A3: PLACA | B3: OJX281
A5: ITEM | B5: CANTIDAD | C5: DESCRIPCION | D5: REPUESTO | E5: MANO DE OBRA | F5: VALOR TOTAL | J5: MONACO | L5: TRACTOPESADOS
F6: =+B6*D6+E6 -> 0
F7: =+B7*D7+E7 -> 0
F8: =+B8*D8+E8 -> 0
F9: =+B9*D9+A6 -> 0
F10: =+B10*D10+E10 -> 0
A11: 7 | B11: 1 | C11: FILTRO DE ACEITE | D11: $ 258.235,29 | F11: =+B11*D11+E11 -> 258235.29
A12: 9 | B12: 1 | C12: FILTRO DE AIRE EXTERNO | D12: $ 318.487,39 | F12: =+B12*D12+E12 -> 318487.39
A13: 8 | B13: 1 | C13: FILTRO DE AIRE INTERNO | D13: $ 290.672,27 | F13: =+B13*D13+E13 -> 290672.27
A14: 12 | B14: 5 | C14: ACEITE MOTOR 15W40 - GALON | D14: 178235.29 | F14: =+B14*D14+E14 -> 891176.45
B15: 1 | C15: REVISION FALLA MOTOR SERVICIO Y TESTIGO MOTOR | E15: 300000 | F15: =+B15*D15+E15 -> 300000 | I15: Cotización | J15: 400000 | K15: =E15-J15 -> -100000 | L15: 350000 | M15: =E15-L15 -> -50000
F16: =+B16*D16+E16 -> 0
A17: 10 | B17: 1 | C17: FILTRO DE AIRE PRIMERO | E17: 273529.41 | F17: =+B17*D17+E17 -> 273529.41
F18: =+E18 -> 0 | G18: TM035 | H18: DIFERENCIA | J18: 2248876.4
E19: SUB TOTAL | F19: =+SUM(F6:F18) -> 2332100.8 | G19: 3774747.8 | H19: =G19-F19 -> 1442647 | J19: 357000
E20: IVA | F20: =F19*0.19-G14 -> 443099.15 | G20: =G19*0.19 -> 717202.09 | H20: =G20-F20 -> 274102.94 | J20: =+J18+J19 -> 2605876.4
E21: TOTAL | F21: =+F19+F20 -> 2775200 | G21: =+G19+G20 -> 4491949.9 | H21: =G21-F21 -> 1716750
A24: PLACA | B24: OJX281
A26: ITEM | B26: CANTIDAD | C26: DESCRIPCION | D26: REPUESTO | E26: MANO DE OBRA | F26: VALOR TOTAL | J26: MONACO | L26: TRACTOPESADOS
A27: 44 | B27: 1 | C27: DESPINCHE | E27: 124789.92 | F27: =+B27*D27+E27 -> 124789.92
B28: 1 | C28: MANTENIMIENTO EMBRAGUE (DESMONTE Y MONTE, LIMPIEZA, GRADUACION, AJUSTE Y PURGA DE SISTEMA) | E28: 300000 | F28: =+B28*D28+E28 -> 300000 | J28: 355800 | K28: =E28-J28 -> -55800 | L28: 360000 | M28: =E28-L28 -> -60000
B29: 1 | C29: CAMBIO PITO | E29: 150000 | F29: =+B29*D29+E29 -> 150000
A30: 27 | B30: 1 | C30: PITO | D30: 477983.19 | F30: =+B30*D30 -> 477983.19
A31: 1 | B31: 1 | C31: ENGRASE GENERAL | E31: 277310.92 | F31: =+B31*D31+E31 -> 277310.92
B32: 1 | C32: GRADUACION FRENO DE EMERGENCIA | E32: 150000 | F32: =+B32*D32+E32 -> 150000 | J32: 200000 | K32: =E32-J32 -> -50000 | L32: 190000 | M32: =E32-L32 -> -40000
B33: 1 | C33: SERVICIO DE ESCANER | E33: 120000 | F33: =+B33*D33+E33 -> 120000 | J33: 180000 | K33: =E33-J33 -> -60000 | L33: 200000 | M33: =E33-L33 -> -80000
B34: 1 | C34: RAPARACION Y MANTENIMIENTO FRENO DE AHOGO | E34: 300000 | F34: =+B34*D34+E34 -> 300000 | J34: 350000 | K34: =E34-J34 -> -50000 | L34: 375000 | M34: =E34-L34 -> -75000
B35: 1 | C35: REPARACION BOOSTER (D/M, KIT REPARACION, RECTIFICACION (SI SE REQUIERE), PRUEBAS, AJUSTE Y LIMPIEZA) | E35: 770000 | F35: =+B35*D35+E35 -> 770000 | J35: 800000 | K35: =E35-J35 -> -30000 | L35: 900000 | M35: =E35-L35 -> -130000
B36: 1 | C36: CAMBIO PITO | I36: Cotización | J36: 200000 | K36: =E36-J36 -> -200000 | L36: 205000 | M36: =E36-L36 -> -205000
F37: =+E37 -> 0 | G37: TM039 | H37: DIFERENCIA
E38: SUB TOTAL | F38: =+SUM(F27:F37) -> 2670084 | H38: =G38-F38 -> -2670084
E39: IVA | F39: =F38*0.19 -> 507315.97 | H39: =G39-F39 -> -507315.97
E40: TOTAL | F40: =+F38+F39 -> 3177400 | H40: =G40-F40 -> -3177400
A42: PLACA | B42: OJX281
A44: ITEM | B44: CANTIDAD | C44: DESCRIPCION | D44: REPUESTO | E44: MANO DE OBRA | F44: VALOR TOTAL | J44: TRACTOPESADOS | L44: MONACO
B46: 1 | C46: SERVICIO DE ESCANER | E46: 120000 | F46: =+B46*D46+E46 -> 120000 | J46: 180000 | K46: =+F46-J46 -> -60000 | L46: 200000 | M46: =+F46-L46 -> -80000
F47: =+E47 -> 0 | G47: TM047 | H47: DIFERENCIA
E48: SUB TOTAL | F48: =+SUM(F45:F47) -> 120000 | H48: =G48-F48 -> -120000
E49: IVA | F49: =F48*0.19 -> 22800 | H49: =G49-F49 -> -22800
E50: TOTAL | F50: =+F48+F49 -> 142800 | H50: =G50-F50 -> -142800

Sheet MOTO CATER.
A3: PLACA | B3: MOTONIVELADORA CATERPILLAR
A5: ITEM | B5: CANTIDAD | C5: DESCRIPCION | D5: REPUESTO | E5: MANO DE OBRA | F5: VALOR TOTAL | J5: Tracto Pesado | L5: Monaco
A6: IMP | B6: 8 | C6: SUMINISTRO E INSTALACION STRIP-WEAR 5T | D6: 255000 | E6: 50000 | F6: =+(D6+E6)*B6 -> 2440000 | I6: Cotización | J6: 3600000 | K6: =+F6-J6 -> -1160000 | L6: 3600000 | M6: =+F6-L6 -> -1160000
A7: IMP | B7: 1 | C7: SUMINSITRO E INSTALACION GUIA CIRCULO TORNAMESA | D7: 1750000 | E7: 350000 | F7: =+(D7+E7)*B7 -> 2100000 | I7: Cotización | J7: 2300000 | K7: =+F7-J7 -> -200000 | L7: 2425000 | M7: =+F7-L7 -> -325000
A8: IMP | B8: 1 | C8: SUMINISTRO E INSTALACION RACOR BOMBA B127 | D8: 45000 | E8: 15000 | F8: =+(D8+E8)*B8 -> 60000 | I8: Cotización | J8: 65000 | K8: =+F8-J8 -> -5000 | L8: 70000 | M8: =+F8-L8 -> -10000
A9: IMP | B9: 2 | C9: SUMINISTRO E INSTALACION RACOR BOMBA B69 | D9: 30000 | E9: 15000 | F9: =+(D9+E9)*B9 -> 90000 | I9: Cotización | J9: 110000 | K9: =+F9-J9 -> -20000 | L9: 100000 | M9: =+F9-L9 -> -10000
A10: IMP | B10: 2 | C10: SUMINISTRO E INSTALACION RACOR BOMBA B10 | D10: 30000 | E10: 15000 | F10: =+(D10+E10)*B10 -> 90000 | I10: Cotización | J10: 120000 | K10: =+F10-J10 -> -30000 | L10: 100000 | M10: =+F10-L10 -> -10000
A11: IMP | B11: 2 | C11: SUMINISTRO E INSTALACION RACOR BOMBA B110 | D11: 45000 | E11: 15000 | F11: =+(D11+E11)*B11 -> 120000 | I11: Cotización | J11: 140000 | K11: =+F11-J11 -> -20000 | L11: 150000 | M11: =+F11-L11 -> -30000
A12: IMP | B12: 21 | C12: TORNILLERIA | D12: 3500 | E12: 0 | F12: =+(D12+E12)*B12 -> 73500 | I12: Cotización | J12: 115500 | K12: =+F12-J12 -> -42000 | L12: 126000 | M12: =+F12-L12 -> -52500
A13: IMP | B13: 13 | C13: ARANDELAS | D13: 650 | E13: 0 | F13: =+(D13+E13)*B13 -> 8450 | I13: Cotización | J13: 8710 | K13: =+F13-J13 -> -260 | L13: 9100 | M13: =+F13-L13 -> -650
A14: IMP | B14: 2 | C14: SUMINISTRO E INSTALACION BARREDOR FLEXIBLE | D14: 70000 | E14: 40000 | F14: =+(D14+E14)*B14 -> 220000 | I14: Cotización | J14: 311800 | K14: =+F14-J14 -> -91800 | L14: 341800 | M14: =+F14-L14 -> -121800
A15: IMP | B15: 2 | C15: SELLOS S/M | D15: 65000 | E15: 0 | F15: =+(D15+E15)*B15 -> 130000 | I15: Cotización | J15: 140000 | K15: =+F15-J15 -> -10000 | L15: 140000 | M15: =+F15-L15 -> -10000
A16: IMP | B16: 4 | C16: SELLOS PISTON | D16: 75000 | E16: 0 | F16: =+(D16+E16)*B16 -> 300000 | I16: Cotización | J16: 311400 | K16: =+F16-J16 -> -11400 | L16: 320000 | M16: =+F16-L16 -> -20000
A17: IMP | B17: 2 | C17: ORING DE TAPA | D17: 9000 | E17: 0 | F17: =+(D17+E17)*B17 -> 18000 | I17: Cotización | J17: 19900 | K17: =+F17-J17 -> -1900 | L17: 20500 | M17: =+F17-L17 -> -2500
... A21: IMP | B21: 1 | C21: SUMINISTRO E INSTALACION VALVULA DE FRENO | D21: 1200000 | E21: 200000 | F21: =+(D21+E21)*B21 -> 1400000 | I21: Cotización | J21: 1440000 | K21: =+F21-J21 -> -40000 | L21: 1500000 | M21: =+F21-L21 -> -100000
F22: TM048 | H22: DIFERENCIA
E23: SUB TOTAL | F23: =+SUM(F6:F21) -> 8469950 | H23: =G23-F23 -> -8469950 | J23: =+SUM(J6:J21) -> 10431610 | L23: =+SUM(L6:L21) -> 10787500
E24: IVA | F24: =F23*0.19 -> 1609290.5 | H24: =G24-F24 -> -1609290.5 | J24: =J23*0.19 -> 1982005.9 | L24: =L23*0.19 -> 2049625
E25: TOTAL | F25: =+F23+F24 -> 10079240 | H25: =G25-F25 -> -10079240 | J25: =+J23+J24 -> 12413616 | L25: =+L23+L24 -> 12837125
