Workbook
Name \0: #REF!
Name \00: #REF!
Name \a: #REF!
Name \a: #REF!
Name \a: #REF!
Name \a: #REF!
Name \a: #REF!
Name \a: #REF!
Name \a: #REF!
Name \a: #REF!
Name \a: #REF!
Name \a: #REF!
Name \a: #REF!
Name \a: #REF!
Name \a: #REF!
Name \a: #REF!
Name \a: #REF!
Name \a: #REF!
Name \a: #REF!
Name \a: #REF!
Name \a: #REF!
Name \a: #REF!
Name \a: #REF!
Name \AA: #REF!
Name \b: #REF!
Name \bb: #REF!
Name \E: #REF!
Name \EE: #REF!
Name \G: #REF!
Name \k: #REF!
Name \l: #REF!
Name \M: #REF!
Name \ñ: #REF!
Name \P: #REF!
Name \R: #REF!
Name \s: #REF!
Name \s: #REF!
Name \s: #REF!
Name \s: #REF!
Name \s: #REF!
Name \s: #REF!
Name \s: #REF!
Name \s: #REF!
Name \s: #REF!
Name \s: #REF!
Name \s: #REF!
Name \s: #REF!
Name \s: #REF!
Name \s: #REF!
Name \s: #REF!
Name \s: #REF!
Name \s: #REF!
Name \s: #REF!
Name \s: #REF!
Name \s: #REF!
Name \s: #REF!
Name \V: #REF!
Name \X: 'APU CAP #'!ERR
Name \X: 'APU CAP 10'!ERR
Name \X: 'APU CAP 11'!ERR

Sheet RESUMEN PRESUPUESTO
B3: PRESUPUESTO VALORES POR CAPITULOS
B6: =PRESUPUESTO!C13 -> CONSTRUCCIÓN DEL CENTRO DE DESARROLLO INFANTIL BRISAS DEL MUNICIPIO DE MOSQUERA, CUNDINAMARCA
B9: VALOR TOTAL PROYECTO | C9: =PRESUPUESTO!K378 -> 0
B11: CAPITULOS | C11: NOMBRE DEL CAPITULO | D11: VALOR TOTAL CAPITULO | E11: PORCENTAJE RESPECTO AL TOTAL DEL PROYECTO
B12: CAPITULO 1 | C12: =PRESUPUESTO!C14 -> 1- PRELIMINARES, DEMOLICIONES Y DESMONTE | D12: =PRESUPUESTO!K21 -> 0 | E12: =+D12/$C$9 -> #DIV/0!
B13: CAPITULO 2 | C13: =PRESUPUESTO!C22 -> 2- EXCAVACIONES Y RELLENOS | D13: =PRESUPUESTO!K27 -> 0 | E13: =+D13/$C$9 -> #DIV/0!
B14: CAPITULO 3 | C14: =PRESUPUESTO!C28 -> 3- CIMENTACIONES EN CONCRETO | D14: =PRESUPUESTO!K39 -> 0 | E14: =+D14/$C$9 -> #DIV/0!
B15: CAPITULO 4 | C15: =PRESUPUESTO!C40 -> 4- ESTRUCTURA | D15: =PRESUPUESTO!K53 -> 0 | E15: =+D15/$C$9 -> #DIV/0!
B16: CAPITULO 5 | C16: =PRESUPUESTO!C54 -> 5- INSTALACIONES ELÉCTRICAS | D16: =PRESUPUESTO!K158 -> 0 | E16: =+D16/$C$9 -> #DIV/0!
B17: CAPITULO 6 | C17: =PRESUPUESTO!C159 -> 6- ESTRUCTURA METALICA | D17: =PRESUPUESTO!K161 -> 0 | E17: =+D17/$C$9 -> #DIV/0!
B18: CAPITULO 7 | C18: =PRESUPUESTO!C162 -> 7- INSTALACIONES HIDROSANITARIAS | D18: =PRESUPUESTO!K223 -> 0 | E18: =+D18/$C$9 -> #DIV/0!
B19: CAPITULO 8 | C19: =PRESUPUESTO!C224 -> 8-CUBIERTA E IMPERMEABILIZACIONES | D19: =PRESUPUESTO!K237 -> 0 | E19: =+D19/$C$9 -> #DIV/0!
B20: CAPITULO 9 | C20: =PRESUPUESTO!C238 -> 9- PISOS Y BASES | D20: =PRESUPUESTO!K241 -> 0 | E20: =+D20/$C$9 -> #DIV/0!
B21: CAPITULO 10 | C21: =PRESUPUESTO!C242 -> 10- MUROS, MAMPOSTERÍA Y PAÑETES | D21: =PRESUPUESTO!K258 -> 0 | E21: =+D21/$C$9 -> #DIV/0!
B22: CAPITULO 11 | C22: =PRESUPUESTO!C259 -> 11- ACABADO DE PISOS | D22: =PRESUPUESTO!K272 -> 0 | E22: =+D22/$C$9 -> #DIV/0!
B23: CAPITULO 12 | C23: =PRESUPUESTO!C273 -> 12- ACABADOS DE MURO | D23: =PRESUPUESTO!K279 -> 0 | E23: =+D23/$C$9 -> #DIV/0!
B24: CAPITULO 13 | C24: =PRESUPUESTO!C280 -> 13- PINTURAS | D24: =PRESUPUESTO!K284 -> 0 | E24: =+D24/$C$9 -> #DIV/0!
B25: CAPITULO 14 | C25: =PRESUPUESTO!C285 -> 14- CIELO RASOS | D25: =PRESUPUESTO!K291 -> 0 | E25: =+D25/$C$9 -> #DIV/0!
B26: CAPITULO 15 | C26: =PRESUPUESTO!C292 -> 15- APARATOS SANITARIOS, MESONES Y ACCESORIOS | D26: =PRESUPUESTO!K310 -> 0 | E26: =+D26/$C$9 -> #DIV/0!
B27: CAPITULO 16 | C27: =PRESUPUESTO!C311 -> 16- CARPINTERÍA EN ALUMINIO Y METÁLICA | D27: =PRESUPUESTO!K329 -> 0 | E27: =+D27/$C$9 -> #DIV/0!
B28: CAPITULO 17 | C28: =PRESUPUESTO!C330 -> 17- CARPINTERÍA EN MADERA | D28: =PRESUPUESTO!K334 -> 0 | E28: =+D28/$C$9 -> #DIV/0!
B29: CAPITULO 18 | C29: =PRESUPUESTO!C335 -> 18- OBRAS EXTERIORES, URBANISMO Y CERRAMIENTO | D29: =PRESUPUESTO!K350 -> 0 | E29: =+D29/$C$9 -> #DIV/0!
B30: CAPITULO 19 | C30: =PRESUPUESTO!C351 -> 19- ELEMENTOS DE IMAGEN DE FACHADA | D30: =PRESUPUESTO!K353 -> 0 | E30: =+D30/$C$9 -> #DIV/0!
B31: CAPITULO 20 | C31: =PRESUPUESTO!C354 -> 20- SEÑALIZACION | D31: =PRESUPUESTO!K358 -> 0 | E31: =+D31/$C$9 -> #DIV/0!
B32: CAPITULO 21 | C32: 21- EQUIPOS | D32: =PRESUPUESTO!K361 -> 0 | E32: =+D32/$C$9 -> #DIV/0!
B33: CAPITULO 22 | C33: =PRESUPUESTO!C362 -> 22- ASEO | D33: =PRESUPUESTO!K365 -> 0 | E33: =+D33/$C$9 -> #DIV/0!
B34: CAPITULO 23 | C34: =PRESUPUESTO!C368 -> 23- TRAMITES, CERTIFICACIONES Y PRUEBAS | D34: =PRESUPUESTO!K374 -> 0 | E34: =+D34/$C$9 -> #DIV/0!
D35: TOTAL | E35: =+SUM(E12:E34) -> #DIV/0!

Sheet PRESUPUESTO
C3: Formulario 1 - Propuesta económica - Licitación de obra pública de infraestructura social
C4: Código | D4: CCE-EICP-FM-116 | E4: Versión | F4: 1
C6: PRESUPUESTO OFICIAL
C7: [La Entidad puede utilizar este Formulario de detalle del Presupuesto Oficial para determinar las condiciones bajo las cuales los Proponentes analizarán y presentarán su propuesta económica de forma detallada, sin perjuicio que la Entidad pueda modificarlo o establecer la presentación de la oferta económica con un Formulario distinto al indicado.]
C9: Adicionalmente, cuando el Proceso de Contratación es estructurado por Precios Unitarios, la Entidad debe aplicar las notas 1, 2 y 3 del presente Formulario y las casillas de "Descripción", "Porcentaje" de la Administración, Imprevisto, Utilidad y total A.I.U. resaltadas en color amarillo. Tratándose de otras modalidades de precio, la Entidad puede o no configurar los mismos aspectos.
C11: Nº | D11: ÍTEM DE PAGO | E11: ESPECIFICACIONES | G11: DESCRIPCIÓN | H11: UND | I11: CANTIDAD | J11: VALOR UNITARIO | K11: VALOR TOTAL
E12: GENERAL | F12: ICCU
C13: CONSTRUCCIÓN DEL CENTRO DE DESARROLLO INFANTIL BRISAS DEL MUNICIPIO DE MOSQUERA, CUNDINAMARCA
C14: 1- PRELIMINARES, DEMOLICIONES Y DESMONTE
C15: 1.01 | D15: =IFERROR(VLOOKUP(G15,'LISTA ICCU 2026'!$D$6:$G$1065,4,FALSE),"APU - "&C15) -> 1,1 - C | E15: =C15 -> 1.01 | F15: =IF(OR(TRIM(D15)="APU - "&SUBSTITUTE(TEXT(C15,"0,00"),",","."),TRIM(D15)="APU - "&TEXT(C15,"0,00")),"N/A",IFERROR(VLOOKUP(G15,'LISTA ICCU 2026'!$D$6:$G$1065,4,FALSE),"APU - "&SUBSTITUTE(TEXT(C15,"0,00"),",","."))) -> 1,1 - C | G15: CAMPAMENTO 18M2 EN TABLA, TEJA DE ETERNIT, INC. TRANS, MATERIALES | H15: =IFERROR(VLOOKUP(G15,'LISTA ICCU 2026'!$D$6:$H$1065,2,FALSE),"NO ") -> UN | I15: 2
C16: =C15+0.01 -> 1.02 | D16: =IFERROR(VLOOKUP(G16,'LISTA ICCU 2026'!$D$6:$G$1065,4,FALSE),"APU - "&C16) -> 1,8 - C | E16: =C16 -> 1.02 | F16: =IF(OR(TRIM(D16)="APU - "&SUBSTITUTE(TEXT(C16,"0,00"),",","."),TRIM(D16)="APU - "&TEXT(C16,"0,00")),"N/A",IFERROR(VLOOKUP(G16,'LISTA ICCU 2026'!$D$6:$G$1065,4,FALSE),"APU - "&SUBSTITUTE(TEXT(C16,"0,00"),",","."))) -> 1,8 - C | G16: CERCA EN TELA VERDE H = 2.10 M | H16: =IFERROR(VLOOKUP(G16,'LISTA ICCU 2026'!$D$6:$H$1065,2,FALSE),"NO ") -> ML | I16: 157.73
C17: =C16+0.01 -> 1.03 | D17: =IFERROR(VLOOKUP(G17,'LISTA ICCU 2026'!$D$6:$G$1065,4,FALSE),"APU - "&C17) -> 1.30 - C | E17: =C17 -> 1.03 | F17: =IF(OR(TRIM(D17)="APU - "&SUBSTITUTE(TEXT(C17,"0,00"),",","."),TRIM(D17)="APU - "&TEXT(C17,"0,00")),"N/A",IFERROR(VLOOKUP(G17,'LISTA ICCU 2026'!$D$6:$G$1065,4,FALSE),"APU - "&SUBSTITUTE(TEXT(C17,"0,00"),",","."))) -> 1.30 - C | G17: DESCAPOTE A MAQUINA E=0.20 M, INC RETIRO | H17: =IFERROR(VLOOKUP(G17,'LISTA ICCU 2026'!$D$6:$H$1065,2,FALSE),"NO ") -> M2 | I17: 1474.92
C18: =C17+0.01 -> 1.04 | D18: =IFERROR(VLOOKUP(G18,'LISTA ICCU 2026'!$D$6:$G$1065,4,FALSE),"APU - "&C18) -> 1,41 - C | E18: =C18 -> 1.04 | F18: =IF(OR(TRIM(D18)="APU - "&SUBSTITUTE(TEXT(C18,"0,00"),",","."),TRIM(D18)="APU - "&TEXT(C18,"0,00")),"N/A",IFERROR(VLOOKUP(G18,'LISTA ICCU 2026'!$D$6:$G$1065,4,FALSE),"APU - "&SUBSTITUTE(TEXT(C18,"0,00"),",","."))) -> 1,41 - C | G18: LOCALIZACIÓN Y REPLANTEO DE CIMIENTOS CON ELEMENTOS DE PRESICIÓN | H18: =IFERROR(VLOOKUP(G18,'LISTA ICCU 2026'!$D$6:$H$1065,2,FALSE),"NO ") -> M2 | I18: 778.2
C19: =C18+0.01 -> 1.05 | D19: =IFERROR(VLOOKUP(G19,'LISTA ICCU 2026'!$D$6:$G$1065,4,FALSE),"APU - "&C19) -> 1,43 - C | E19: =C19 -> 1.05 | F19: =IF(OR(TRIM(D19)="APU - "&SUBSTITUTE(TEXT(C19,"0,00"),",","."),TRIM(D19)="APU - "&TEXT(C19,"0,00")),"N/A",IFERROR(VLOOKUP(G19,'LISTA ICCU 2026'!$D$6:$G$1065,4,FALSE),"APU - "&SUBSTITUTE(TEXT(C19,"0,00"),",","."))) -> 1,43 - C | G19: RED ELÉCTRICA PROVISIONAL L=50M | H19: =IFERROR(VLOOKUP(G19,'LISTA ICCU 2026'!$D$6:$H$1065,2,FALSE),"NO ") -> UN | I19: 1
C20: =C19+0.01 -> 1.06 | D20: =IFERROR(VLOOKUP(G20,'LISTA ICCU 2026'!$D$6:$G$1065,4,FALSE),"APU - "&C20) -> 11,1 - C | E20: =C20 -> 1.06 | F20: =IF(OR(TRIM(D20)="APU - "&SUBSTITUTE(TEXT(C20,"0,00"),",","."),TRIM(D20)="APU - "&TEXT(C20,"0,00")),"N/A",IFERROR(VLOOKUP(G20,'LISTA ICCU 2026'!$D$6:$G$1065,4,FALSE),"APU - "&SUBSTITUTE(TEXT(C20,"0,00"),",","."))) -> 11,1 - C | G20: ACOMETIDA EN PVC 1/2" 5M. INC CHEQUE , REGISTRO, ACCESORIOS | H20: =IFERROR(VLOOKUP(G20,'LISTA ICCU 2026'!$D$6:$H$1065,2,FALSE),"NO ") -> UN | I20: 1
C22: 2- EXCAVACIONES Y RELLENOS
C23: 2.01 | D23: =IFERROR(VLOOKUP(G23,'LISTA ICCU 2026'!$D$6:$G$1065,4,FALSE),"APU - "&C23) -> 16,2 - C | E23: =C23 -> 2.01 | F23: =IF(OR(TRIM(D23)="APU - "&SUBSTITUTE(TEXT(C23,"0,00"),",","."),TRIM(D23)="APU - "&TEXT(C23,"0,00")),"N/A",IFERROR(VLOOKUP(G23,'LISTA ICCU 2026'!$D$6:$G$1065,4,FALSE),"APU - "&SUBSTITUTE(TEXT(C23,"0,00"),",","."))) -> 16,2 - C | G23: EXCAVACIONES VARIAS A MÁQUINA SIN CLASIFICAR (INCLUYE RETIRO DE SOBRANTES A UNA DISTANCIA MENOR DE 5 KM) | H23: =IFERROR(VLOOKUP(G23,'LISTA ICCU 2026'!$D$6:$H$1065,2,FALSE),"NO ") -> M3 | I23: 622.57
C24: =C23+0.01 -> 2.02 | D24: =IFERROR(VLOOKUP(G24,'LISTA ICCU 2026'!$D$6:$G$1065,4,FALSE),"APU - "&C24) -> 16,5 - C | E24: =C24 -> 2.02 | F24: =IF(OR(TRIM(D24)="APU - "&SUBSTITUTE(TEXT(C24,"0,00"),",","."),TRIM(D24)="APU - "&TEXT(C24,"0,00")),"N/A",IFERROR(VLOOKUP(G24,'LISTA ICCU 2026'!$D$6:$G$1065,4,FALSE),"APU - "&SUBSTITUTE(TEXT(C24,"0,00"),",","."))) -> 16,5 - C | G24: EXCAVACIÓN MANUAL EN CONGLOMERADO H=0.0-2.0 M (INCLUYE RETIRO DE SOBRANTES A UNA DISTANCIA MENOR DE 5 KM) | H24: =IFERROR(VLOOKUP(G24,'LISTA ICCU 2026'!$D$6:$H$1065,2,FALSE),"NO ") -> M3 | I24: 134.71
C25: =C24+0.01 -> 2.03 | D25: =IFERROR(VLOOKUP(G25,'LISTA ICCU 2026'!$D$6:$G$1065,4,FALSE),"APU - "&C25) -> 16,8 - C | E25: =C25 -> 2.03 | F25: =IF(OR(TRIM(D25)="APU - "&SUBSTITUTE(TEXT(C25,"0,00"),",","."),TRIM(D25)="APU - "&TEXT(C25,"0,00")),"N/A",IFERROR(VLOOKUP(G25,'LISTA ICCU 2026'!$D$6:$G$1065,4,FALSE),"APU - "&SUBSTITUTE(TEXT(C25,"0,00"),",","."))) -> 16,8 - C | G25: RELLENO EN RECEBO COMÚN COMPACTADO MECÁNICAMENTE | H25: =IFERROR(VLOOKUP(G25,'LISTA ICCU 2026'!$D$6:$H$1065,2,FALSE),"NO ") -> M3 | I25: 156.86
C26: =C25+0.01 -> 2.04 | D26: =IFERROR(VLOOKUP(G26,'LISTA ICCU 2026'!$D$6:$G$1065,4,FALSE),"APU - "&C26) -> 1,6 - V | E26: =C26 -> 2.04 | F26: =IF(OR(TRIM(D26)="APU - "&SUBSTITUTE(TEXT(C26,"0,00"),",","."),TRIM(D26)="APU - "&TEXT(C26,"0,00")),"N/A",IFERROR(VLOOKUP(G26,'LISTA ICCU 2026'!$D$6:$G$1065,4,FALSE),"APU - "&SUBSTITUTE(TEXT(C26,"0,00"),",","."))) -> 1,6 - V | G26: TRANSPORTE DE MATERIALES PROV. DE EXPLANACIÓN, CANALES, PRESTAMOS, SOBREACARREOS Y DERRUMBES | H26: =IFERROR(VLOOKUP(G26,'LISTA ICCU 2026'!$D$6:$H$1065,2,FALSE),"NO ") -> M3-KM | I26: 7572.72
C27: Subtotal
C28: 3- CIMENTACIONES EN CONCRETO
C29: 3.01 | D29: =IFERROR(VLOOKUP(G29,'LISTA ICCU 2026'!$D$6:$G$1065,4,FALSE),"APU - "&C29) -> 4,29 - C | E29: =C29 -> 3.01 | F29: =IF(OR(TRIM(D29)="APU - "&SUBSTITUTE(TEXT(C29,"0,00"),",","."),TRIM(D29)="APU - "&TEXT(C29,"0,00")),"N/A",IFERROR(VLOOKUP(G29,'LISTA ICCU 2026'!$D$6:$G$1065,4,FALSE),"APU - "&SUBSTITUTE(TEXT(C29,"0,00"),",","."))) -> 4,29 - C | G29: BASE EN CONCRETO POBRE 1500 PSI | H29: =IFERROR(VLOOKUP(G29,'LISTA ICCU 2026'!$D$6:$H$1065,2,FALSE),"NO ") -> M3 | I29: 12.68
C30: =C29+0.01 -> 3.02 | D30: =IFERROR(VLOOKUP(G30,'LISTA ICCU 2026'!$D$6:$G$1065,4,FALSE),"APU - "&C30) -> APU - 3.02 | E30: =C30 -> 3.02 | F30: =IF(OR(TRIM(D30)="APU - "&SUBSTITUTE(TEXT(C30,"0,00"),",","."),TRIM(D30)="APU - "&TEXT(C30,"0,00")),"N/A",IFERROR(VLOOKUP(G30,'LISTA ICCU 2026'!$D$6:$G$1065,4,FALSE),"APU - "&SUBSTITUTE(TEXT(C30,"0,00"),",","."))) -> APU - 003 | G30: SUMINISTRO Y TENDIDA DE POLIETILENO NEGRO CALIBRE 7, INCLUYE CORTE, TRASLAPE Y FIJACIÓN | H30: M2 | I30: 766.51
C31: =C30+0.01 -> 3.03 | D31: =IFERROR(VLOOKUP(G31,'LISTA ICCU 2026'!$D$6:$G$1065,4,FALSE),"APU - "&C31) -> 2,7 - C | E31: =C31 -> 3.03 | F31: =IF(OR(TRIM(D31)="APU - "&SUBSTITUTE(TEXT(C31,"0,00"),",","."),TRIM(D31)="APU - "&TEXT(C31,"0,00")),"N/A",IFERROR(VLOOKUP(G31,'LISTA ICCU 2026'!$D$6:$G$1065,4,FALSE),"APU - "&SUBSTITUTE(TEXT(C31,"0,00"),",","."))) -> 2,7 - C | G31: VIGA DE AMARRE EN CONCRETO 3500 PSI | H31: =IFERROR(VLOOKUP(G31,'LISTA ICCU 2026'!$D$6:$H$1065,2,FALSE),"NO ") -> M3 | I31: 44.26
C32: =C31+0.01 -> 3.04 | D32: =IFERROR(VLOOKUP(G32,'LISTA ICCU 2026'!$D$6:$G$1065,4,FALSE),"APU - "&C32) -> 2,8 - C | E32: =C32 -> 3.04 | F32: =IF(OR(TRIM(D32)="APU - "&SUBSTITUTE(TEXT(C32,"0,00"),",","."),TRIM(D32)="APU - "&TEXT(C32,"0,00")),"N/A",IFERROR(VLOOKUP(G32,'LISTA ICCU 2026'!$D$6:$G$1065,4,FALSE),"APU - "&SUBSTITUTE(TEXT(C32,"0,00"),",","."))) -> 2,8 - C | G32: ZAPATAS EN CONCRETO 3500 PSI | H32: =IFERROR(VLOOKUP(G32,'LISTA ICCU 2026'!$D$6:$H$1065,2,FALSE),"NO ") -> M3 | I32: 65.76
C33: =C32+0.01 -> 3.05 | D33: =IFERROR(VLOOKUP(G33,'LISTA ICCU 2026'!$D$6:$G$1065,4,FALSE),"APU - "&C33) -> 4,22 - C | E33: =C33 -> 3.05 | F33: =IF(OR(TRIM(D33)="APU - "&SUBSTITUTE(TEXT(C33,"0,00"),",","."),TRIM(D33)="APU - "&TEXT(C33,"0,00")),"N/A",IFERROR(VLOOKUP(G33,'LISTA ICCU 2026'!$D$6:$G$1065,4,FALSE),"APU - "&SUBSTITUTE(TEXT(C33,"0,00"),",","."))) -> 4,22 - C | G33: ACERO FIGURADO 60000 PSI | H33: =IFERROR(VLOOKUP(G33,'LISTA ICCU 2026'!$D$6:$H$1065,2,FALSE),"NO ") -> KG | I33: 13115.27
C34: =C33+0.01 -> 3.06 | D34: =IFERROR(VLOOKUP(G34,'LISTA ICCU 2026'!$D$6:$G$1065,4,FALSE),"APU - "&C34) -> 4,23 - C | E34: =C34 -> 3.06 | F34: =IF(OR(TRIM(D34)="APU - "&SUBSTITUTE(TEXT(C34,"0,00"),",","."),TRIM(D34)="APU - "&TEXT(C34,"0,00")),"N/A",IFERROR(VLOOKUP(G34,'LISTA ICCU 2026'!$D$6:$G$1065,4,FALSE),"APU - "&SUBSTITUTE(TEXT(C34,"0,00"),",","."))) -> 4,23 - C | G34: REFUERZO MALLA ELECTROSOLDADA | H34: =IFERROR(VLOOKUP(G34,'LISTA ICCU 2026'!$D$6:$H$1065,2,FALSE),"NO ") -> KG | I34: 2957.96
C35: =C34+0.01 -> 3.07 | D35: =IFERROR(VLOOKUP(G35,'LISTA ICCU 2026'!$D$6:$G$1065,4,FALSE),"APU - "&C35) -> 13,14 - C | E35: =C35 -> 3.07 | F35: =IF(OR(TRIM(D35)="APU - "&SUBSTITUTE(TEXT(C35,"0,00"),",","."),TRIM(D35)="APU - "&TEXT(C35,"0,00")),"N/A",IFERROR(VLOOKUP(G35,'LISTA ICCU 2026'!$D$6:$G$1065,4,FALSE),"APU - "&SUBSTITUTE(TEXT(C35,"0,00"),",","."))) -> 13,14 - C | G35: PLACA BASE CONCRETO 0.15 2500 PSI | H35: =IFERROR(VLOOKUP(G35,'LISTA ICCU 2026'!$D$6:$H$1065,2,FALSE),"NO ") -> M2 | I35: 766.31
C36: =C35+0.01 -> 3.08 | D36: =IFERROR(VLOOKUP(G36,'LISTA ICCU 2026'!$D$6:$G$1065,4,FALSE),"APU - "&C36) -> APU - 3.08 | E36: =C36 -> 3.08 | F36: =IF(OR(TRIM(D36)="APU - "&SUBSTITUTE(TEXT(C36,"0,00"),",","."),TRIM(D36)="APU - "&TEXT(C36,"0,00")),"N/A",IFERROR(VLOOKUP(G36,'LISTA ICCU 2026'!$D$6:$G$1065,4,FALSE),"APU - "&SUBSTITUTE(TEXT(C36,"0,00"),",","."))) -> APU - 003 | G36: TANQUE EN CONCRETO 4000PSI | H36: M3 | I36: 20.23
C37: =C36+0.01 -> 3.09 | D37: =IFERROR(VLOOKUP(G37,'LISTA ICCU 2026'!$D$6:$G$1065,4,FALSE),"APU - "&C37) -> APU - 3.09 | E37: =C37 -> 3.09 | F37: =IF(OR(TRIM(D37)="APU - "&SUBSTITUTE(TEXT(C37,"0,00"),",","."),TRIM(D37)="APU - "&TEXT(C37,"0,00")),"N/A",IFERROR(VLOOKUP(G37,'LISTA ICCU 2026'!$D$6:$G$1065,4,FALSE),"APU - "&SUBSTITUTE(TEXT(C37,"0,00"),",","."))) -> APU - 003 | G37: BOMBEO DE CONCRETO PREMEZCLADO | H37: M3 | I37: 245.2
C38: =C37+0.01 -> 3.1 | D38: =IFERROR(VLOOKUP(G38,'LISTA ICCU 2026'!$D$6:$G$1065,4,FALSE),"APU - "&C38) -> 2,12 - C | E38: =C38 -> 3.1 | F38: =IF(OR(TRIM(D38)="APU - "&SUBSTITUTE(TEXT(C38,"0,00"),",","."),TRIM(D38)="APU - "&TEXT(C38,"0,00")),"N/A",IFERROR(VLOOKUP(G38,'LISTA ICCU 2026'!$D$6:$G$1065,4,FALSE),"APU - "&SUBSTITUTE(TEXT(C38,"0,00"),",","."))) -> 2,12 - C | G38: PILOTE PRE EXCAVADO D=40 CM (INCLUYE RETIRO DE SOBRANTES A UNA DISTANCIA MENOR DE 5 KM), INC. BOMBA | H38: =IFERROR(VLOOKUP(G38,'LISTA ICCU 2026'!$D$6:$H$1065,2,FALSE),"NO ") -> ML | I38: 53.3
C39: Subtotal
C40: 4- ESTRUCTURA
C41: 4.01 | D41: =IFERROR(VLOOKUP(G41,'LISTA ICCU 2026'!$D$6:$G$1065,4,FALSE),"APU - "&C41) -> 4,3 - C | E41: =C41 -> 4.01 | F41: =IF(OR(TRIM(D41)="APU - "&SUBSTITUTE(TEXT(C41,"0,00"),",","."),TRIM(D41)="APU - "&TEXT(C41,"0,00")),"N/A",IFERROR(VLOOKUP(G41,'LISTA ICCU 2026'!$D$6:$G$1065,4,FALSE),"APU - "&SUBSTITUTE(TEXT(C41,"0,00"),",","."))) -> 4,3 - C | G41: COLUMNAS 3500 PSI | H41: =IFERROR(VLOOKUP(G41,'LISTA ICCU 2026'!$D$6:$H$1065,2,FALSE),"NO ") -> M3 | I41: 18.61
C42: =C41+0.01 -> 4.02 | D42: =IFERROR(VLOOKUP(G42,'LISTA ICCU 2026'!$D$6:$G$1065,4,FALSE),"APU - "&C42) -> APU - 4.02 | E42: =C42 -> 4.02 | F42: =IF(OR(TRIM(D42)="APU - "&SUBSTITUTE(TEXT(C42,"0,00"),",","."),TRIM(D42)="APU - "&TEXT(C42,"0,00")),"N/A",IFERROR(VLOOKUP(G42,'LISTA ICCU 2026'!$D$6:$G$1065,4,FALSE),"APU - "&SUBSTITUTE(TEXT(C42,"0,00"),",","."))) -> APU - 004 | G42: MURO PANTALLA EN CONCRETO 3500 PSI E= 15CM | H42: M3 | I42: 14.9
C43: =C42+0.01 -> 4.03 | D43: =IFERROR(VLOOKUP(G43,'LISTA ICCU 2026'!$D$6:$G$1065,4,FALSE),"APU - "&C43) -> 4,27 - C | E43: =C43 -> 4.03 | F43: =IF(OR(TRIM(D43)="APU - "&SUBSTITUTE(TEXT(C43,"0,00"),",","."),TRIM(D43)="APU - "&TEXT(C43,"0,00")),"N/A",IFERROR(VLOOKUP(G43,'LISTA ICCU 2026'!$D$6:$G$1065,4,FALSE),"APU - "&SUBSTITUTE(TEXT(C43,"0,00"),",","."))) -> 4,27 - C | G43: VIGA CINTA 3500 PSI | H43: =IFERROR(VLOOKUP(G43,'LISTA ICCU 2026'!$D$6:$H$1065,2,FALSE),"NO ") -> M3 | I43: 47.57
C44: =C43+0.01 -> 4.04 | D44: =IFERROR(VLOOKUP(G44,'LISTA ICCU 2026'!$D$6:$G$1065,4,FALSE),"APU - "&C44) -> 4,22 - C | E44: =C44 -> 4.04 | F44: =IF(OR(TRIM(D44)="APU - "&SUBSTITUTE(TEXT(C44,"0,00"),",","."),TRIM(D44)="APU - "&TEXT(C44,"0,00")),"N/A",IFERROR(VLOOKUP(G44,'LISTA ICCU 2026'!$D$6:$G$1065,4,FALSE),"APU - "&SUBSTITUTE(TEXT(C44,"0,00"),",","."))) -> 4,22 - C | G44: ACERO FIGURADO 60000 PSI | H44: =IFERROR(VLOOKUP(G44,'LISTA ICCU 2026'!$D$6:$H$1065,2,FALSE),"NO ") -> KG | I44: 12726
C45: =C44+0.01 -> 4.05 | D45: =IFERROR(VLOOKUP(G45,'LISTA ICCU 2026'!$D$6:$G$1065,4,FALSE),"APU - "&C45) -> 4,26 - C | E45: =C45 -> 4.05 | F45: =IF(OR(TRIM(D45)="APU - "&SUBSTITUTE(TEXT(C45,"0,00"),",","."),TRIM(D45)="APU - "&TEXT(C45,"0,00")),"N/A",IFERROR(VLOOKUP(G45,'LISTA ICCU 2026'!$D$6:$G$1065,4,FALSE),"APU - "&SUBSTITUTE(TEXT(C45,"0,00"),",","."))) -> 4,26 - C | G45: VIGA AÉREA 3500 PSI | H45: =IFERROR(VLOOKUP(G45,'LISTA ICCU 2026'!$D$6:$H$1065,2,FALSE),"NO ") -> M3 | I45: 7.53
C46: =C45+0.01 -> 4.06 | D46: =IFERROR(VLOOKUP(G46,'LISTA ICCU 2026'!$D$6:$G$1065,4,FALSE),"APU - "&C46) -> 4,28 - C | E46: =C46 -> 4.06 | F46: =IF(OR(TRIM(D46)="APU - "&SUBSTITUTE(TEXT(C46,"0,00"),",","."),TRIM(D46)="APU - "&TEXT(C46,"0,00")),"N/A",IFERROR(VLOOKUP(G46,'LISTA ICCU 2026'!$D$6:$G$1065,4,FALSE),"APU - "&SUBSTITUTE(TEXT(C46,"0,00"),",","."))) -> 4,28 - C | G46: VIGA CANAL EN CONCRETO 3500 PSI | H46: =IFERROR(VLOOKUP(G46,'LISTA ICCU 2026'!$D$6:$H$1065,2,FALSE),"NO ") -> M3 | I46: 30.74
...

Sheet APU CAP 3
C2: Formulario 1 - Propuesta económica - Licitación de obra pública de infraestructura social
C3: Código | D3: CCE-EICP-FM-116 | E3: Versión | F3: 1
C5: [La Entidad podrá utilizar este Formato para la presentación de los análisis de Precios Unitarios del Contratista en la oportunidad prevista en el numeral 8.1. del Documento Base]
C7: #VALUE!
D8: =PRESUPUESTO!C13 -> CONSTRUCCIÓN DEL CENTRO DE DESARROLLO INFANTIL BRISAS DEL MUNICIPIO DE MOSQUERA, CUNDINAMARCA
L9: VERSIÓN
L10: PÁGINA | M10: 1 | N10: DE | O10: 1
D11: ALCALDÍA DE MUNICIPAL DE MOSQUERA
L14: FECHA | M14: DD | N14: MM | O14: AA
C15: ESTUDIOS, DISEÑOS A DETALLE, PERMISOS Y LICENCIAMIENTO DE LOS DIFERENTES EQUIPAMIENTOS PÚBLICOS PARA EL MUNICIPIO DE MOSQUERA CUNDINAMARCA
C18: DATOS ESPECÍFICOS
C19: ÍTEM | D19: DESCRIPCIÓN | M19: UNIDAD | O19: CANTIDAD
C20: =PRESUPUESTO!C30 -> 3.02 | D20: =IFERROR(VLOOKUP(C20,PRESUPUESTO!$C$11:$K$366,5,FALSE)," ") -> SUMINISTRO Y TENDIDA DE POLIETILENO NEGRO CALIBRE 7, INCLUYE CORTE, TRASLAPE Y FIJACIÓN | M20: =IFERROR(VLOOKUP(C20,PRESUPUESTO!$C$11:$K$366,6,FALSE)," ") -> M2 | O20: =IFERROR(VLOOKUP(C20,PRESUPUESTO!$C$11:$K$366,7,FALSE)," ") -> 766.51
C24: DESCRIPCIÓN | H24: MARCA | J24: TIPO | L24: TARIFA/HORA | M24: RENDIMIENTO | O24: Vr. UNITARIO
C25: HERRAMIENTA MENOR | J25: =IFERROR(VLOOKUP(C25,EQUIPOS!$C$13:$G$80,2,FALSE)," ") -> % | L25: =O63 -> 6342.1667 | M25: 0.05 | O25: =IFERROR(M25*L25,0) -> 317.10833
J26: =IFERROR(VLOOKUP(C26,EQUIPOS!$C$13:$G$80,2,FALSE)," ") | L26: =IFERROR(VLOOKUP(C26,EQUIPOS!$C$13:$G$80,5,FALSE)," ") | O26: =IFERROR(L26/M26,0) -> 0
J27: =IFERROR(VLOOKUP(C27,EQUIPOS!$C$13:$G$80,2,FALSE)," ") | L27: =IFERROR(VLOOKUP(C27,EQUIPOS!$C$13:$G$80,5,FALSE)," ") | O27: =IFERROR(L27/M27,0) -> 0
J28: =IFERROR(VLOOKUP(C28,EQUIPOS!$C$13:$G$80,2,FALSE)," ") | L28: =IFERROR(VLOOKUP(C28,EQUIPOS!$C$13:$G$80,5,FALSE)," ") | O28: =IFERROR(L28/M28,0) -> 0
J29: =IFERROR(VLOOKUP(C29,EQUIPOS!$C$13:$G$80,2,FALSE)," ") | L29: =IFERROR(VLOOKUP(C29,EQUIPOS!$C$13:$G$80,5,FALSE)," ") | O29: =IFERROR(L29/M29,0) -> 0
C30: SUBTOTAL | O30: =SUM(O25:O29) -> 317.10833
C31: II. MATERIALES
C34: DESCRIPCIÓN | K34: UNIDAD | L34: CANTIDAD | M34: PRECIO UNIT. | O34: Vr. UNITARIO
C35: POLIETILENO NEGRO CAL 7 | K35: =IFERROR(VLOOKUP(C35,MATERIALES!$C$13:$G$2486,2,FALSE)," ") -> M2 | L35: 1.15 | M35: =IFERROR(VLOOKUP(C35,MATERIALES!$C$13:$G$2486,5,FALSE)," ") -> 2920 | O35: =IFERROR(M35*L35,0) -> 3358
C36: HILO 100% POLIÉSTER PARA COSTURA GEOTEXTIL | K36: =IFERROR(VLOOKUP(C36,MATERIALES!$C$13:$G$2486,2,FALSE)," ") -> ML | L36: 2 | M36: =IFERROR(VLOOKUP(C36,MATERIALES!$C$13:$G$2486,5,FALSE)," ") -> 28 | O36: =IFERROR(M36*L36,0) -> 56
K37: =IFERROR(VLOOKUP(C37,MATERIALES!$C$13:$G$2486,2,FALSE)," ") | M37: =IFERROR(VLOOKUP(C37,MATERIALES!$C$13:$G$2486,5,FALSE)," ") | O37: =IFERROR(M37*L37,0) -> 0
K38: =IFERROR(VLOOKUP(C38,MATERIALES!$C$13:$G$2486,2,FALSE)," ") | M38: =IFERROR(VLOOKUP(C38,MATERIALES!$C$13:$G$2486,5,FALSE)," ") | O38: =IFERROR(M38*L38,0) -> 0
K39: =IFERROR(VLOOKUP(C39,MATERIALES!$C$13:$G$2486,2,FALSE)," ") | M39: =IFERROR(VLOOKUP(C39,MATERIALES!$C$13:$G$2486,5,FALSE)," ") | O39: =IFERROR(M39*L39,0) -> 0
K40: =IFERROR(VLOOKUP(C40,MATERIALES!$C$13:$G$2486,2,FALSE)," ") | M40: =IFERROR(VLOOKUP(C40,MATERIALES!$C$13:$G$2486,5,FALSE)," ") | O40: =IFERROR(M40*L40,0) -> 0
K41: =IFERROR(VLOOKUP(C41,MATERIALES!$C$13:$G$2486,2,FALSE)," ") | M41: =IFERROR(VLOOKUP(C41,MATERIALES!$C$13:$G$2486,5,FALSE)," ") | O41: =IFERROR(M41*L41,0) -> 0
K42: =IFERROR(VLOOKUP(C42,MATERIALES!$C$13:$G$2486,2,FALSE)," ") | M42: =IFERROR(VLOOKUP(C42,MATERIALES!$C$13:$G$2486,5,FALSE)," ") | O42: =IFERROR(M42*L42,0) -> 0
K43: =IFERROR(VLOOKUP(C43,MATERIALES!$C$13:$G$2486,2,FALSE)," ") | M43: =IFERROR(VLOOKUP(C43,MATERIALES!$C$13:$G$2486,5,FALSE)," ") | O43: =IFERROR(M43*L43,0) -> 0
K44: =IFERROR(VLOOKUP(C44,MATERIALES!$C$13:$G$2486,2,FALSE)," ") | M44: =IFERROR(VLOOKUP(C44,MATERIALES!$C$13:$G$2486,5,FALSE)," ") | O44: =IFERROR(M44*L44,0) -> 0
K45: =IFERROR(VLOOKUP(C45,MATERIALES!$C$13:$G$2486,2,FALSE)," ") | M45: =IFERROR(VLOOKUP(C45,MATERIALES!$C$13:$G$2486,5,FALSE)," ") | O45: =IFERROR(M45*L45,0) -> 0
K46: =IFERROR(VLOOKUP(C46,MATERIALES!$C$13:$G$2486,2,FALSE)," ") | M46: =IFERROR(VLOOKUP(C46,MATERIALES!$C$13:$G$2486,5,FALSE)," ") | O46: =IFERROR(M46*L46,0) -> 0
C47: SUBTOTAL | O47: =SUM(O35:O46) -> 3414
C48: III. TRANSPORTES
C51: MATERIAL | J51: VOL. o PESO | K51: DISTANCIA | L51: M3 o Ton/Km | M51: TARIFA | O51: Vr. UNITARIO
C52: CAMIONETA | J52: 1e-05 | K52: 25.1 | L52: =K52*J52 -> 0.000251 | M52: =IFERROR(VLOOKUP(C52,TRANSPORTE!$C$14:$G$28,5,FALSE)," ") -> 514637 | O52: =IFERROR(M52*L52,0) -> 129.17389
O53: =IFERROR(M53*L53,0) -> 0
C54: SUBTOTAL | O54: =+SUM(O52:O53) -> 129.17389
...

Sheet APU CAP 4
C2: Formulario 1 - Propuesta económica - Licitación de obra pública de infraestructura social
C3: Código | D3: CCE-EICP-FM-116 | E3: Versión | F3: 1
C5: [La Entidad podrá utilizar este Formato para la presentación de los análisis de Precios Unitarios del Contratista en la oportunidad prevista en el numeral 8.1. del Documento Base]
C7: #VALUE!
D8: =PRESUPUESTO!C13 -> CONSTRUCCIÓN DEL CENTRO DE DESARROLLO INFANTIL BRISAS DEL MUNICIPIO DE MOSQUERA, CUNDINAMARCA
L9: VERSIÓN
L10: PÁGINA | M10: 1 | N10: DE | O10: 1
D11: ALCALDÍA DE MUNICIPAL DE MOSQUERA
L14: FECHA | M14: DD | N14: MM | O14: AA
C15: ESTUDIOS, DISEÑOS A DETALLE, PERMISOS Y LICENCIAMIENTO DE LOS DIFERENTES EQUIPAMIENTOS PÚBLICOS PARA EL MUNICIPIO DE MOSQUERA CUNDINAMARCA
C18: DATOS ESPECÍFICOS
C19: ÍTEM | D19: DESCRIPCIÓN | M19: UNIDAD | O19: CANTIDAD
C20: =PRESUPUESTO!C42 -> 4.02 | D20: =IFERROR(VLOOKUP(C20,PRESUPUESTO!$C$11:$K$366,5,FALSE)," ") -> MURO PANTALLA EN CONCRETO 3500 PSI E= 15CM | M20: =IFERROR(VLOOKUP(C20,PRESUPUESTO!$C$11:$K$366,6,FALSE)," ") -> M3 | O20: =IFERROR(VLOOKUP(C20,PRESUPUESTO!$C$11:$K$366,7,FALSE)," ") -> 14.9
C24: DESCRIPCIÓN | H24: MARCA | J24: TIPO | L24: TARIFA/HORA | M24: RENDIMIENTO | O24: Vr. UNITARIO
C25: HERRAMIENTA MENOR | J25: =IFERROR(VLOOKUP(C25,EQUIPOS!$C$13:$G$80,2,FALSE)," ") -> % | L25: =O63 -> 507373.33 | M25: 0.05 | O25: =IFERROR(M25*L25,0) -> 25368.667
C26: VIBRADOR PARA CONCRETO | J26: =IFERROR(VLOOKUP(C26,EQUIPOS!$C$13:$G$80,2,FALSE)," ") -> D | L26: =IFERROR(VLOOKUP(C26,EQUIPOS!$C$13:$G$80,5,FALSE)," ") -> 86639 | M26: 25 | O26: =IFERROR(L26/M26,0) -> 3465.56
C27: SECCION DE 1,4 POR 1,4 H=2,0 - ANDAMIO CERTIFICADO BASE PLANA ACCESOINTERNO | J27: =IFERROR(VLOOKUP(C27,EQUIPOS!$C$13:$G$80,2,FALSE)," ") -> D | L27: =IFERROR(VLOOKUP(C27,EQUIPOS!$C$13:$G$80,5,FALSE)," ") -> 30496 | M27: 2.25 | O27: =IFERROR(L27/M27,0) -> 13553.778
C28: FORMALETA CONCRETO | J28: =IFERROR(VLOOKUP(C28,EQUIPOS!$C$13:$G$80,2,FALSE)," ") -> D | L28: =IFERROR(VLOOKUP(C28,EQUIPOS!$C$13:$G$80,5,FALSE)," ") -> 10397 | M28: 1 | O28: =IFERROR(L28/M28,0) -> 10397
J29: =IFERROR(VLOOKUP(C29,EQUIPOS!$C$13:$G$80,2,FALSE)," ") | L29: =IFERROR(VLOOKUP(C29,EQUIPOS!$C$13:$G$80,5,FALSE)," ") | O29: =IFERROR(L29/M29,0) -> 0
C30: SUBTOTAL | O30: =SUM(O25:O29) -> 52785.004
C31: II. MATERIALES
C34: DESCRIPCIÓN | K34: UNIDAD | L34: CANTIDAD | M34: PRECIO UNIT. | O34: Vr. UNITARIO
C35: CONCRETO 3500 PSI | K35: =IFERROR(VLOOKUP(C35,MATERIALES!$C$13:$G$2486,2,FALSE)," ") -> M3 | L35: 1.03 | M35: =IFERROR(VLOOKUP(C35,MATERIALES!$C$13:$G$2486,5,FALSE)," ") -> 568493 | O35: =IFERROR(M35*L35,0) -> 585547.79
C36: PUNTILLA CON CABEZA 2" | K36: =IFERROR(VLOOKUP(C36,MATERIALES!$C$13:$G$2486,2,FALSE)," ") -> LB | L36: 2.12 | M36: =IFERROR(VLOOKUP(C36,MATERIALES!$C$13:$G$2486,5,FALSE)," ") -> 6669 | O36: =IFERROR(M36*L36,0) -> 14138.28
C37: REPISA EN ORDINARIO | K37: =IFERROR(VLOOKUP(C37,MATERIALES!$C$13:$G$2486,2,FALSE)," ") -> ML | L37: 1.97 | M37: =IFERROR(VLOOKUP(C37,MATERIALES!$C$13:$G$2486,5,FALSE)," ") -> 4088 | O37: =IFERROR(M37*L37,0) -> 8053.36
C38: TABLA BURRA ORDINARIO 0.30 | K38: =IFERROR(VLOOKUP(C38,MATERIALES!$C$13:$G$2486,2,FALSE)," ") -> ML | L38: 4.34 | M38: =IFERROR(VLOOKUP(C38,MATERIALES!$C$13:$G$2486,5,FALSE)," ") -> 7990 | O38: =IFERROR(M38*L38,0) -> 34676.6
C39: VARA CLAVO | K39: =IFERROR(VLOOKUP(C39,MATERIALES!$C$13:$G$2486,2,FALSE)," ") -> ML | L39: 2.56 | M39: =IFERROR(VLOOKUP(C39,MATERIALES!$C$13:$G$2486,5,FALSE)," ") -> 2973 | O39: =IFERROR(M39*L39,0) -> 7610.88
K40: =IFERROR(VLOOKUP(C40,MATERIALES!$C$13:$G$2486,2,FALSE)," ") | M40: =IFERROR(VLOOKUP(C40,MATERIALES!$C$13:$G$2486,5,FALSE)," ") | O40: =IFERROR(M40*L40,0) -> 0
K41: =IFERROR(VLOOKUP(C41,MATERIALES!$C$13:$G$2486,2,FALSE)," ") | M41: =IFERROR(VLOOKUP(C41,MATERIALES!$C$13:$G$2486,5,FALSE)," ") | O41: =IFERROR(M41*L41,0) -> 0
K42: =IFERROR(VLOOKUP(C42,MATERIALES!$C$13:$G$2486,2,FALSE)," ") | M42: =IFERROR(VLOOKUP(C42,MATERIALES!$C$13:$G$2486,5,FALSE)," ") | O42: =IFERROR(M42*L42,0) -> 0
K43: =IFERROR(VLOOKUP(C43,MATERIALES!$C$13:$G$2486,2,FALSE)," ") | M43: =IFERROR(VLOOKUP(C43,MATERIALES!$C$13:$G$2486,5,FALSE)," ") | O43: =IFERROR(M43*L43,0) -> 0
K44: =IFERROR(VLOOKUP(C44,MATERIALES!$C$13:$G$2486,2,FALSE)," ") | M44: =IFERROR(VLOOKUP(C44,MATERIALES!$C$13:$G$2486,5,FALSE)," ") | O44: =IFERROR(M44*L44,0) -> 0
K45: =IFERROR(VLOOKUP(C45,MATERIALES!$C$13:$G$2486,2,FALSE)," ") | M45: =IFERROR(VLOOKUP(C45,MATERIALES!$C$13:$G$2486,5,FALSE)," ") | O45: =IFERROR(M45*L45,0) -> 0
K46: =IFERROR(VLOOKUP(C46,MATERIALES!$C$13:$G$2486,2,FALSE)," ") | M46: =IFERROR(VLOOKUP(C46,MATERIALES!$C$13:$G$2486,5,FALSE)," ") | O46: =IFERROR(M46*L46,0) -> 0
C47: SUBTOTAL | O47: =SUM(O35:O46) -> 650026.91
C48: III. TRANSPORTES
C51: MATERIAL | J51: VOL. o PESO | K51: DISTANCIA | L51: M3 o Ton/Km | M51: TARIFA | O51: Vr. UNITARIO
M52: =IFERROR(VLOOKUP(C52,TRANSPORTE!$C$14:$G$28,5,FALSE)," ") | O52: =IFERROR(M52*L52,0) -> 0
O53: =IFERROR(M53*L53,0) -> 0
C54: SUBTOTAL | O54: =+SUM(O52:O53) -> 0
...

Sheet APU CAP 5
C2: Formulario 1 - Propuesta económica - Licitación de obra pública de infraestructura social
C3: Código | D3: CCE-EICP-FM-116 | E3: Versión | F3: 1
C5: [La Entidad podrá utilizar este Formato para la presentación de los análisis de Precios Unitarios del Contratista en la oportunidad prevista en el numeral 8.1. del Documento Base]
C7: #VALUE!
D8: =PRESUPUESTO!C13 -> CONSTRUCCIÓN DEL CENTRO DE DESARROLLO INFANTIL BRISAS DEL MUNICIPIO DE MOSQUERA, CUNDINAMARCA
L9: VERSIÓN
L10: PÁGINA | M10: 1 | N10: DE | O10: 1
D11: ALCALDÍA DE MUNICIPAL DE MOSQUERA
L14: FECHA | M14: DD | N14: MM | O14: AA
C15: ESTUDIOS, DISEÑOS A DETALLE, PERMISOS Y LICENCIAMIENTO DE LOS DIFERENTES EQUIPAMIENTOS PÚBLICOS PARA EL MUNICIPIO DE MOSQUERA CUNDINAMARCA
C18: DATOS ESPECÍFICOS
C19: ÍTEM | D19: DESCRIPCIÓN | M19: UNIDAD | O19: CANTIDAD
C20: =PRESUPUESTO!C66 -> 5.1.7 | D20: =IFERROR(VLOOKUP(C20,PRESUPUESTO!$C$11:$K$366,5,FALSE)," ") -> SUMINISTRO E INSTALACION BANDEJA TIPO DUCTO CERRADO 200X100 INCLUYE SOPORTE TIPO PELDAÑO, SOPORTE OMEGA UNIVERSAL, TORNILLO DE FIJACIÓN DUCTO, PLATINA DE UNIÓN DUCTO FORMA EN C. PERNOS EXPANSIVOS, PERNOS DE OJO ABIERTO Y DEMÁS ACCESORIOS DE MONTAJE. | M20: =IFERROR(VLOOKUP(C20,PRESUPUESTO!$C$11:$K$366,6,FALSE)," ") -> ML | O20: =IFERROR(VLOOKUP(C20,PRESUPUESTO!$C$11:$K$366,7,FALSE)," ") -> 65
C24: DESCRIPCIÓN | H24: MARCA | J24: TIPO | L24: TARIFA/HORA | M24: RENDIMIENTO | O24: Vr. UNITARIO
C25: HERRAMIENTA MENOR | J25: =IFERROR(VLOOKUP(C25,EQUIPOS!$C$13:$G$80,2,FALSE)," ") -> % | L25: =O63 -> 14197.933 | M25: 0.05 | O25: =IFERROR(M25*L25,0) -> 709.89667
J26: =IFERROR(VLOOKUP(C26,EQUIPOS!$C$13:$G$80,2,FALSE)," ") | L26: =IFERROR(VLOOKUP(C26,EQUIPOS!$C$13:$G$80,5,FALSE)," ") | O26: =IFERROR(L26/M26,0) -> 0
J27: =IFERROR(VLOOKUP(C27,EQUIPOS!$C$13:$G$80,2,FALSE)," ") | L27: =IFERROR(VLOOKUP(C27,EQUIPOS!$C$13:$G$80,5,FALSE)," ") | O27: =IFERROR(L27/M27,0) -> 0
J28: =IFERROR(VLOOKUP(C28,EQUIPOS!$C$13:$G$80,2,FALSE)," ") | L28: =IFERROR(VLOOKUP(C28,EQUIPOS!$C$13:$G$80,5,FALSE)," ") | O28: =IFERROR(L28/M28,0) -> 0
J29: =IFERROR(VLOOKUP(C29,EQUIPOS!$C$13:$G$80,2,FALSE)," ") | L29: =IFERROR(VLOOKUP(C29,EQUIPOS!$C$13:$G$80,5,FALSE)," ") | O29: =IFERROR(L29/M29,0) -> 0
C30: SUBTOTAL | O30: =SUM(O25:O29) -> 709.89667
C31: II. MATERIALES
C34: DESCRIPCIÓN | K34: UNIDAD | L34: CANTIDAD | M34: PRECIO UNIT. | O34: Vr. UNITARIO
C35: Bandeja tipo Ducto cerrado 20x10cm | K35: =IFERROR(VLOOKUP(C35,MATERIALES!$C$13:$G$2486,2,FALSE)," ") -> ML | L35: 1 | M35: =IFERROR(VLOOKUP(C35,MATERIALES!$C$13:$G$2486,5,FALSE)," ") -> 89650 | O35: =IFERROR(M35*L35,0) -> 89650
C36: Riel channel DIN | K36: =IFERROR(VLOOKUP(C36,MATERIALES!$C$13:$G$2486,2,FALSE)," ") -> ML | L36: 0.5 | M36: =IFERROR(VLOOKUP(C36,MATERIALES!$C$13:$G$2486,5,FALSE)," ") -> 5400 | O36: =IFERROR(M36*L36,0) -> 2700
C37: Varilla roscada | K37: =IFERROR(VLOOKUP(C37,MATERIALES!$C$13:$G$2486,2,FALSE)," ") -> UN | L37: 1.5 | M37: =IFERROR(VLOOKUP(C37,MATERIALES!$C$13:$G$2486,5,FALSE)," ") -> 3000 | O37: =IFERROR(M37*L37,0) -> 4500
C38: Cable 4 AWG para tierra | K38: =IFERROR(VLOOKUP(C38,MATERIALES!$C$13:$G$2486,2,FALSE)," ") -> ML | L38: 0.1 | M38: =IFERROR(VLOOKUP(C38,MATERIALES!$C$13:$G$2486,5,FALSE)," ") -> 16600 | O38: =IFERROR(M38*L38,0) -> 1660
C39: Elementos de fijacion | K39: =IFERROR(VLOOKUP(C39,MATERIALES!$C$13:$G$2486,2,FALSE)," ") -> UN | L39: 0.3 | M39: =IFERROR(VLOOKUP(C39,MATERIALES!$C$13:$G$2486,5,FALSE)," ") -> 10800 | O39: =IFERROR(M39*L39,0) -> 3240
K40: =IFERROR(VLOOKUP(C40,MATERIALES!$C$13:$G$2486,2,FALSE)," ") | M40: =IFERROR(VLOOKUP(C40,MATERIALES!$C$13:$G$2486,5,FALSE)," ") | O40: =IFERROR(M40*L40,0) -> 0
K41: =IFERROR(VLOOKUP(C41,MATERIALES!$C$13:$G$2486,2,FALSE)," ") | M41: =IFERROR(VLOOKUP(C41,MATERIALES!$C$13:$G$2486,5,FALSE)," ") | O41: =IFERROR(M41*L41,0) -> 0
K42: =IFERROR(VLOOKUP(C42,MATERIALES!$C$13:$G$2486,2,FALSE)," ") | M42: =IFERROR(VLOOKUP(C42,MATERIALES!$C$13:$G$2486,5,FALSE)," ") | O42: =IFERROR(M42*L42,0) -> 0
K43: =IFERROR(VLOOKUP(C43,MATERIALES!$C$13:$G$2486,2,FALSE)," ") | M43: =IFERROR(VLOOKUP(C43,MATERIALES!$C$13:$G$2486,5,FALSE)," ") | O43: =IFERROR(M43*L43,0) -> 0
K44: =IFERROR(VLOOKUP(C44,MATERIALES!$C$13:$G$2486,2,FALSE)," ") | M44: =IFERROR(VLOOKUP(C44,MATERIALES!$C$13:$G$2486,5,FALSE)," ") | O44: =IFERROR(M44*L44,0) -> 0
K45: =IFERROR(VLOOKUP(C45,MATERIALES!$C$13:$G$2486,2,FALSE)," ") | M45: =IFERROR(VLOOKUP(C45,MATERIALES!$C$13:$G$2486,5,FALSE)," ") | O45: =IFERROR(M45*L45,0) -> 0
K46: =IFERROR(VLOOKUP(C46,MATERIALES!$C$13:$G$2486,2,FALSE)," ") | M46: =IFERROR(VLOOKUP(C46,MATERIALES!$C$13:$G$2486,5,FALSE)," ") | O46: =IFERROR(M46*L46,0) -> 0
C47: SUBTOTAL | O47: =SUM(O35:O46) -> 101750
C48: III. TRANSPORTES
C51: MATERIAL | J51: VOL. o PESO | K51: DISTANCIA | L51: M3 o Ton/Km | M51: TARIFA | O51: Vr. UNITARIO
C52: CAMIONETA | J52: 0.0001 | K52: 25.1 | L52: =K52*J52 -> 0.00251 | M52: =IFERROR(VLOOKUP(C52,TRANSPORTE!$C$14:$G$28,5,FALSE)," ") -> 514637 | O52: =IFERROR(M52*L52,0) -> 1291.7389
O53: =IFERROR(M53*L53,0) -> 0
C54: SUBTOTAL | O54: =+SUM(O52:O53) -> 1291.7389
...

Sheet APU CAP 7
C2: Formulario 1 - Propuesta económica - Licitación de obra pública de infraestructura social
C3: Código | D3: CCE-EICP-FM-116 | E3: Versión | F3: 1
C5: [La Entidad podrá utilizar este Formato para la presentación de los análisis de Precios Unitarios del Contratista en la oportunidad prevista en el numeral 8.1. del Documento Base]
C7: #VALUE!
D8: =PRESUPUESTO!C13 -> CONSTRUCCIÓN DEL CENTRO DE DESARROLLO INFANTIL BRISAS DEL MUNICIPIO DE MOSQUERA, CUNDINAMARCA
L9: VERSIÓN
L10: PÁGINA | M10: 1 | N10: DE | O10: 1
D11: ALCALDÍA DE MUNICIPAL DE MOSQUERA
L14: FECHA | M14: DD | N14: MM | O14: AA
C15: ESTUDIOS, DISEÑOS A DETALLE, PERMISOS Y LICENCIAMIENTO DE LOS DIFERENTES EQUIPAMIENTOS PÚBLICOS PARA EL MUNICIPIO DE MOSQUERA CUNDINAMARCA
C18: DATOS ESPECÍFICOS
C19: ÍTEM | D19: DESCRIPCIÓN | M19: UNIDAD | O19: CANTIDAD
C20: =PRESUPUESTO!C167 -> 7.1.4 | D20: =IFERROR(VLOOKUP(C20,PRESUPUESTO!$C$11:$K$366,5,FALSE)," ") -> SUMINISTRO E INSTALACIÓN DE TUBERÍA PVC RDE 21 DE 1 1/4" | M20: =IFERROR(VLOOKUP(C20,PRESUPUESTO!$C$11:$K$366,6,FALSE)," ") -> ML | O20: =IFERROR(VLOOKUP(C20,PRESUPUESTO!$C$11:$K$366,7,FALSE)," ") -> 48
C24: DESCRIPCIÓN | H24: MARCA | J24: TIPO | L24: TARIFA/HORA | M24: RENDIMIENTO | O24: Vr. UNITARIO
C25: HERRAMIENTA MENOR | J25: =IFERROR(VLOOKUP(C25,EQUIPOS!$C$13:$G$80,2,FALSE)," ") -> % | L25: =O63 -> 7950.0048 | M25: 0.05 | O25: =IFERROR(M25*L25,0) -> 397.50024
J26: =IFERROR(VLOOKUP(C26,EQUIPOS!$C$13:$G$80,2,FALSE)," ") | L26: =IFERROR(VLOOKUP(C26,EQUIPOS!$C$13:$G$80,5,FALSE)," ") | O26: =IFERROR(L26/M26,0) -> 0
J27: =IFERROR(VLOOKUP(C27,EQUIPOS!$C$13:$G$80,2,FALSE)," ") | L27: =IFERROR(VLOOKUP(C27,EQUIPOS!$C$13:$G$80,5,FALSE)," ") | O27: =IFERROR(L27/M27,0) -> 0
J28: =IFERROR(VLOOKUP(C28,EQUIPOS!$C$13:$G$80,2,FALSE)," ") | L28: =IFERROR(VLOOKUP(C28,EQUIPOS!$C$13:$G$80,5,FALSE)," ") | O28: =IFERROR(L28/M28,0) -> 0
J29: =IFERROR(VLOOKUP(C29,EQUIPOS!$C$13:$G$80,2,FALSE)," ") | L29: =IFERROR(VLOOKUP(C29,EQUIPOS!$C$13:$G$80,5,FALSE)," ") | O29: =IFERROR(L29/M29,0) -> 0
C30: SUBTOTAL | O30: =SUM(O25:O29) -> 397.50024
C31: II. MATERIALES
C34: DESCRIPCIÓN | K34: UNIDAD | L34: CANTIDAD | M34: PRECIO UNIT. | O34: Vr. UNITARIO
C35: TUBO PVC-P 1 1/4" RDE 21 | D35: TUBO PVC-P 1 1/4" RDE 21 | E35: TUBO PVC-P 1 1/4" RDE 21 | F35: TUBO PVC-P 1 1/4" RDE 21 | G35: TUBO PVC-P 1 1/4" RDE 21 | H35: TUBO PVC-P 1 1/4" RDE 21 | I35: TUBO PVC-P 1 1/4" RDE 21 | J35: TUBO PVC-P 1 1/4" RDE 21 | K35: =IFERROR(VLOOKUP(C35,MATERIALES!$C$13:$G$2486,2,FALSE)," ") -> ML | L35: 1.02 | M35: =IFERROR(VLOOKUP(C35,MATERIALES!$C$13:$G$2486,5,FALSE)," ") -> 12209 | O35: =IFERROR(M35*L35,0) -> 12453.18
C36: CODO 90° PVC-P 1 1/4" | D36: CODO PRESIÓN PVC 90° 1 1/4" | E36: CODO PRESIÓN PVC 90° 1 1/4" | F36: CODO PRESIÓN PVC 90° 1 1/4" | G36: CODO PRESIÓN PVC 90° 1 1/4" | H36: CODO PRESIÓN PVC 90° 1 1/4" | I36: CODO PRESIÓN PVC 90° 1 1/4" | J36: CODO PRESIÓN PVC 90° 1 1/4" | K36: =IFERROR(VLOOKUP(C36,MATERIALES!$C$13:$G$2486,2,FALSE)," ") -> UN | L36: 0.33 | M36: =IFERROR(VLOOKUP(C36,MATERIALES!$C$13:$G$2486,5,FALSE)," ") -> 4710 | O36: =IFERROR(M36*L36,0) -> 1554.3
C37: UNION 1-1/4" | D37: UNION 1-1/4" | E37: UNION 1-1/4" | F37: UNION 1-1/4" | G37: UNION 1-1/4" | H37: UNION 1-1/4" | I37: UNION 1-1/4" | J37: UNION 1-1/4" | K37: =IFERROR(VLOOKUP(C37,MATERIALES!$C$13:$G$2486,2,FALSE)," ") -> UN | L37: 0.17 | M37: =IFERROR(VLOOKUP(C37,MATERIALES!$C$13:$G$2486,5,FALSE)," ") -> 4350 | O37: =IFERROR(M37*L37,0) -> 739.5
C38: SOLDADURA PVC LÍQUIDA 1/4 | D38: SOLDADURA PVC LÍQUIDA 1/4 | E38: SOLDADURA PVC LÍQUIDA 1/4 | F38: SOLDADURA PVC LÍQUIDA 1/4 | G38: SOLDADURA PVC LÍQUIDA 1/4 | H38: SOLDADURA PVC LÍQUIDA 1/4 | I38: SOLDADURA PVC LÍQUIDA 1/4 | J38: SOLDADURA PVC LÍQUIDA 1/4 | K38: =IFERROR(VLOOKUP(C38,MATERIALES!$C$13:$G$2486,2,FALSE)," ") -> UN | L38: 0.01 | M38: =IFERROR(VLOOKUP(C38,MATERIALES!$C$13:$G$2486,5,FALSE)," ") -> 89010 | O38: =IFERROR(M38*L38,0) -> 890.1
C39: LIMPIADOR PVC 1/4 | D39: LIMPIADOR PVC 1/4 | E39: LIMPIADOR PVC 1/4 | F39: LIMPIADOR PVC 1/4 | G39: LIMPIADOR PVC 1/4 | H39: LIMPIADOR PVC 1/4 | I39: LIMPIADOR PVC 1/4 | J39: LIMPIADOR PVC 1/4 | K39: =IFERROR(VLOOKUP(C39,MATERIALES!$C$13:$G$2486,2,FALSE)," ") -> UN | L39: 0.01 | M39: =IFERROR(VLOOKUP(C39,MATERIALES!$C$13:$G$2486,5,FALSE)," ") -> 64435 | O39: =IFERROR(M39*L39,0) -> 644.35
K40: =IFERROR(VLOOKUP(C40,MATERIALES!$C$13:$G$2486,2,FALSE)," ") | M40: =IFERROR(VLOOKUP(C40,MATERIALES!$C$13:$G$2486,5,FALSE)," ") | O40: =IFERROR(M40*L40,0) -> 0
K41: =IFERROR(VLOOKUP(C41,MATERIALES!$C$13:$G$2486,2,FALSE)," ") | M41: =IFERROR(VLOOKUP(C41,MATERIALES!$C$13:$G$2486,5,FALSE)," ") | O41: =IFERROR(M41*L41,0) -> 0
K42: =IFERROR(VLOOKUP(C42,MATERIALES!$C$13:$G$2486,2,FALSE)," ") | M42: =IFERROR(VLOOKUP(C42,MATERIALES!$C$13:$G$2486,5,FALSE)," ") | O42: =IFERROR(M42*L42,0) -> 0
K43: =IFERROR(VLOOKUP(C43,MATERIALES!$C$13:$G$2486,2,FALSE)," ") | M43: =IFERROR(VLOOKUP(C43,MATERIALES!$C$13:$G$2486,5,FALSE)," ") | O43: =IFERROR(M43*L43,0) -> 0
K44: =IFERROR(VLOOKUP(C44,MATERIALES!$C$13:$G$2486,2,FALSE)," ") | M44: =IFERROR(VLOOKUP(C44,MATERIALES!$C$13:$G$2486,5,FALSE)," ") | O44: =IFERROR(M44*L44,0) -> 0
K45: =IFERROR(VLOOKUP(C45,MATERIALES!$C$13:$G$2486,2,FALSE)," ") | M45: =IFERROR(VLOOKUP(C45,MATERIALES!$C$13:$G$2486,5,FALSE)," ") | O45: =IFERROR(M45*L45,0) -> 0
K46: =IFERROR(VLOOKUP(C46,MATERIALES!$C$13:$G$2486,2,FALSE)," ") | M46: =IFERROR(VLOOKUP(C46,MATERIALES!$C$13:$G$2486,5,FALSE)," ") | O46: =IFERROR(M46*L46,0) -> 0
C47: SUBTOTAL | O47: =SUM(O35:O46) -> 16281.43
C48: III. TRANSPORTES
C51: MATERIAL | J51: VOL. o PESO | K51: DISTANCIA | L51: M3 o Ton/Km | M51: TARIFA | O51: Vr. UNITARIO
C52: CAMIONETA | J52: 5e-05 | K52: 25.1 | L52: =K52*J52 -> 0.001255 | M52: =IFERROR(VLOOKUP(C52,TRANSPORTE!$C$14:$G$28,5,FALSE)," ") -> 514637 | O52: =IFERROR(M52*L52,0) -> 645.86944
O53: =IFERROR(M53*L53,0) -> 0
C54: SUBTOTAL | O54: =+SUM(O52:O53) -> 645.86944
...

Sheet APU CAP 8
C2: Formulario 1 - Propuesta económica - Licitación de obra pública de infraestructura social
C3: Código | D3: CCE-EICP-FM-116 | E3: Versión | F3: 1
C5: [La Entidad podrá utilizar este Formato para la presentación de los análisis de Precios Unitarios del Contratista en la oportunidad prevista en el numeral 8.1. del Documento Base]
C7: #VALUE!
D8: =PRESUPUESTO!C13 -> CONSTRUCCIÓN DEL CENTRO DE DESARROLLO INFANTIL BRISAS DEL MUNICIPIO DE MOSQUERA, CUNDINAMARCA
L9: VERSIÓN
L10: PÁGINA | M10: 1 | N10: DE | O10: 1
D11: ALCALDÍA DE MUNICIPAL DE MOSQUERA
L14: FECHA | M14: DD | N14: MM | O14: AA
C15: ESTUDIOS, DISEÑOS A DETALLE, PERMISOS Y LICENCIAMIENTO DE LOS DIFERENTES EQUIPAMIENTOS PÚBLICOS PARA EL MUNICIPIO DE MOSQUERA CUNDINAMARCA
C18: DATOS ESPECÍFICOS
C19: ÍTEM | D19: DESCRIPCIÓN | M19: UNIDAD | O19: CANTIDAD
C20: =PRESUPUESTO!C226 -> 8.02 | D20: =IFERROR(VLOOKUP(C20,PRESUPUESTO!$C$11:$K$366,5,FALSE)," ") -> REMATE PERIMETRAL EN LÁMINA DE ACERO GALVANIZADO CALIBRE 26 PARA CUBIERTA TIPO SÁNDWICH DE 30 MM. | M20: =IFERROR(VLOOKUP(C20,PRESUPUESTO!$C$11:$K$366,6,FALSE)," ") -> ML | O20: =IFERROR(VLOOKUP(C20,PRESUPUESTO!$C$11:$K$366,7,FALSE)," ") -> 95.84
C24: DESCRIPCIÓN | H24: MARCA | J24: TIPO | L24: TARIFA/HORA | M24: RENDIMIENTO | O24: Vr. UNITARIO
C25: HERRAMIENTA MENOR | J25: =IFERROR(VLOOKUP(C25,EQUIPOS!$C$13:$G$80,2,FALSE)," ") -> % | L25: =O63 -> 15221.2 | M25: 0.05 | O25: =IFERROR(M25*L25,0) -> 761.06
C26: SECCION DE 1,4 POR 1,4 H=2,0 - ANDAMIO CERTIFICADO BASE PLANA ACCESOINTERNO | J26: =IFERROR(VLOOKUP(C26,EQUIPOS!$C$13:$G$80,2,FALSE)," ") -> D | L26: =IFERROR(VLOOKUP(C26,EQUIPOS!$C$13:$G$80,5,FALSE)," ") -> 30496 | M26: 3 | O26: =IFERROR(L26/M26,0) -> 10165.333
J27: =IFERROR(VLOOKUP(C27,EQUIPOS!$C$13:$G$80,2,FALSE)," ") | L27: =IFERROR(VLOOKUP(C27,EQUIPOS!$C$13:$G$80,5,FALSE)," ") | O27: =IFERROR(L27/M27,0) -> 0
J28: =IFERROR(VLOOKUP(C28,EQUIPOS!$C$13:$G$80,2,FALSE)," ") | L28: =IFERROR(VLOOKUP(C28,EQUIPOS!$C$13:$G$80,5,FALSE)," ") | O28: =IFERROR(L28/M28,0) -> 0
J29: =IFERROR(VLOOKUP(C29,EQUIPOS!$C$13:$G$80,2,FALSE)," ") | L29: =IFERROR(VLOOKUP(C29,EQUIPOS!$C$13:$G$80,5,FALSE)," ") | O29: =IFERROR(L29/M29,0) -> 0
C30: SUBTOTAL | O30: =SUM(O25:O29) -> 10926.393
C31: II. MATERIALES
C34: DESCRIPCIÓN | K34: UNIDAD | L34: CANTIDAD | M34: PRECIO UNIT. | O34: Vr. UNITARIO
C35: CUBIERTA 525-C SANDWICH, CAL 26 | K35: =IFERROR(VLOOKUP(C35,MATERIALES!$C$13:$G$2486,2,FALSE)," ") -> ML | L35: 0.1 | M35: =IFERROR(VLOOKUP(C35,MATERIALES!$C$13:$G$2486,5,FALSE)," ") -> 35957 | O35: =IFERROR(M35*L35,0) -> 3595.7
C36: TORNILLO AUTOPERFORANTE | K36: =IFERROR(VLOOKUP(C36,MATERIALES!$C$13:$G$2486,2,FALSE)," ") -> UN | L36: 4 | M36: =IFERROR(VLOOKUP(C36,MATERIALES!$C$13:$G$2486,5,FALSE)," ") -> 186 | O36: =IFERROR(M36*L36,0) -> 744
C37: GANCHO TIPO CLIP | K37: =IFERROR(VLOOKUP(C37,MATERIALES!$C$13:$G$2486,2,FALSE)," ") -> UN | L37: 3 | M37: =IFERROR(VLOOKUP(C37,MATERIALES!$C$13:$G$2486,5,FALSE)," ") -> 2687 | O37: =IFERROR(M37*L37,0) -> 8061
K38: =IFERROR(VLOOKUP(C38,MATERIALES!$C$13:$G$2486,2,FALSE)," ") | M38: =IFERROR(VLOOKUP(C38,MATERIALES!$C$13:$G$2486,5,FALSE)," ") | O38: =IFERROR(M38*L38,0) -> 0
K39: =IFERROR(VLOOKUP(C39,MATERIALES!$C$13:$G$2486,2,FALSE)," ") | M39: =IFERROR(VLOOKUP(C39,MATERIALES!$C$13:$G$2486,5,FALSE)," ") | O39: =IFERROR(M39*L39,0) -> 0
K40: =IFERROR(VLOOKUP(C40,MATERIALES!$C$13:$G$2486,2,FALSE)," ") | M40: =IFERROR(VLOOKUP(C40,MATERIALES!$C$13:$G$2486,5,FALSE)," ") | O40: =IFERROR(M40*L40,0) -> 0
K41: =IFERROR(VLOOKUP(C41,MATERIALES!$C$13:$G$2486,2,FALSE)," ") | M41: =IFERROR(VLOOKUP(C41,MATERIALES!$C$13:$G$2486,5,FALSE)," ") | O41: =IFERROR(M41*L41,0) -> 0
K42: =IFERROR(VLOOKUP(C42,MATERIALES!$C$13:$G$2486,2,FALSE)," ") | M42: =IFERROR(VLOOKUP(C42,MATERIALES!$C$13:$G$2486,5,FALSE)," ") | O42: =IFERROR(M42*L42,0) -> 0
K43: =IFERROR(VLOOKUP(C43,MATERIALES!$C$13:$G$2486,2,FALSE)," ") | M43: =IFERROR(VLOOKUP(C43,MATERIALES!$C$13:$G$2486,5,FALSE)," ") | O43: =IFERROR(M43*L43,0) -> 0
K44: =IFERROR(VLOOKUP(C44,MATERIALES!$C$13:$G$2486,2,FALSE)," ") | M44: =IFERROR(VLOOKUP(C44,MATERIALES!$C$13:$G$2486,5,FALSE)," ") | O44: =IFERROR(M44*L44,0) -> 0
K45: =IFERROR(VLOOKUP(C45,MATERIALES!$C$13:$G$2486,2,FALSE)," ") | M45: =IFERROR(VLOOKUP(C45,MATERIALES!$C$13:$G$2486,5,FALSE)," ") | O45: =IFERROR(M45*L45,0) -> 0
K46: =IFERROR(VLOOKUP(C46,MATERIALES!$C$13:$G$2486,2,FALSE)," ") | M46: =IFERROR(VLOOKUP(C46,MATERIALES!$C$13:$G$2486,5,FALSE)," ") | O46: =IFERROR(M46*L46,0) -> 0
C47: SUBTOTAL | O47: =SUM(O35:O46) -> 12400.7
C48: III. TRANSPORTES
C51: MATERIAL | J51: VOL. o PESO | K51: DISTANCIA | L51: M3 o Ton/Km | M51: TARIFA | O51: Vr. UNITARIO
C52: CAMIONETA | J52: 0.0001 | K52: 25.1 | L52: =K52*J52 -> 0.00251 | M52: =IFERROR(VLOOKUP(C52,TRANSPORTE!$C$14:$G$28,5,FALSE)," ") -> 514637 | O52: =IFERROR(M52*L52,0) -> 1291.7389
O53: =IFERROR(M53*L53,0) -> 0
C54: SUBTOTAL | O54: =+SUM(O52:O53) -> 1291.7389
...

Sheet APU CAP 10
C2: Formulario 1 - Propuesta económica - Licitación de obra pública de infraestructura social
C3: Código | D3: CCE-EICP-FM-116 | E3: Versión | F3: 1
C5: [La Entidad podrá utilizar este Formato para la presentación de los análisis de Precios Unitarios del Contratista en la oportunidad prevista en el numeral 8.1. del Documento Base]
C7: #VALUE!
D8: =PRESUPUESTO!C13 -> CONSTRUCCIÓN DEL CENTRO DE DESARROLLO INFANTIL BRISAS DEL MUNICIPIO DE MOSQUERA, CUNDINAMARCA
L9: VERSIÓN
L10: PÁGINA | M10: 1 | N10: DE | O10: 1
D11: ALCALDÍA DE MUNICIPAL DE MOSQUERA
L14: FECHA | M14: DD | N14: MM | O14: AA
C15: ESTUDIOS, DISEÑOS A DETALLE, PERMISOS Y LICENCIAMIENTO DE LOS DIFERENTES EQUIPAMIENTOS PÚBLICOS PARA EL MUNICIPIO DE MOSQUERA CUNDINAMARCA
C18: DATOS ESPECÍFICOS
C19: ÍTEM | D19: DESCRIPCIÓN | M19: UNIDAD | O19: CANTIDAD
C20: =PRESUPUESTO!C243 -> 10.01 | D20: =IFERROR(VLOOKUP(C20,PRESUPUESTO!$C$11:$K$366,5,FALSE)," ") -> CONSTRUCCIÓN DE MURO EN LADRILLO ESTRUCTURAL DE PERFORACIÓN VERTICAL COLOR CAPUCHINO PREHIDROFUGADO O SIMILAR, TIPO 306, DE DIMENSIONES 29 × 6 × 14,5 CM, INCLUYENDO MORTERO DE PEGA Y RELLENO, REFUERZO EN GRAFIL SEGÚN ESPECIFICACIONES ESTRUCTURALES | M20: =IFERROR(VLOOKUP(C20,PRESUPUESTO!$C$11:$K$366,6,FALSE)," ") -> M2 | O20: =IFERROR(VLOOKUP(C20,PRESUPUESTO!$C$11:$K$366,7,FALSE)," ") -> 844.23
C24: DESCRIPCIÓN | H24: MARCA | J24: TIPO | L24: TARIFA/HORA | M24: RENDIMIENTO | O24: Vr. UNITARIO
C25: HERRAMIENTA MENOR | J25: =IFERROR(VLOOKUP(C25,EQUIPOS!$C$13:$G$80,2,FALSE)," ") -> % | L25: =O63 -> 19296.653 | M25: 0.05 | O25: =IFERROR(M25*L25,0) -> 964.83266
C26: SECCION DE 1,4 POR 1,4 H=2,0 - ANDAMIO CERTIFICADO BASE PLANA ACCESOINTERNO | J26: =IFERROR(VLOOKUP(C26,EQUIPOS!$C$13:$G$80,2,FALSE)," ") -> D | L26: =IFERROR(VLOOKUP(C26,EQUIPOS!$C$13:$G$80,5,FALSE)," ") -> 30496 | M26: 10 | O26: =IFERROR(L26/M26,0) -> 3049.6
J27: =IFERROR(VLOOKUP(C27,EQUIPOS!$C$13:$G$80,2,FALSE)," ") | L27: =IFERROR(VLOOKUP(C27,EQUIPOS!$C$13:$G$80,5,FALSE)," ") | O27: =IFERROR(L27/M27,0) -> 0
J28: =IFERROR(VLOOKUP(C28,EQUIPOS!$C$13:$G$80,2,FALSE)," ") | L28: =IFERROR(VLOOKUP(C28,EQUIPOS!$C$13:$G$80,5,FALSE)," ") | O28: =IFERROR(L28/M28,0) -> 0
J29: =IFERROR(VLOOKUP(C29,EQUIPOS!$C$13:$G$80,2,FALSE)," ") | L29: =IFERROR(VLOOKUP(C29,EQUIPOS!$C$13:$G$80,5,FALSE)," ") | O29: =IFERROR(L29/M29,0) -> 0
C30: SUBTOTAL | O30: =SUM(O25:O29) -> 4014.4327
C31: II. MATERIALES
C34: DESCRIPCIÓN | K34: UNIDAD | L34: CANTIDAD | M34: PRECIO UNIT. | O34: Vr. UNITARIO
C35: LADRILLO PORTANTE 306 CAPUCHINO PREHIDROFUGADO 24.5X12X6 | K35: =IFERROR(VLOOKUP(C35,MATERIALES!$C$13:$G$2486,2,FALSE)," ") -> UN | L35: 47.62 | M35: =IFERROR(VLOOKUP(C35,MATERIALES!$C$13:$G$2486,5,FALSE)," ") -> 1987 | O35: =IFERROR(M35*L35,0) -> 94620.94
C36: ACERO FIGURADO 60000 PSI | K36: =IFERROR(VLOOKUP(C36,MATERIALES!$C$13:$G$2486,2,FALSE)," ") -> KG | L36: 3 | M36: =IFERROR(VLOOKUP(C36,MATERIALES!$C$13:$G$2486,5,FALSE)," ") -> 8453 | O36: =IFERROR(M36*L36,0) -> 25359
C37: MORTERO 1:4 ARENA LAVADA DE PEÑA | K37: =IFERROR(VLOOKUP(C37,MATERIALES!$C$13:$G$2486,2,FALSE)," ") -> M3 | L37: 0.03 | M37: =IFERROR(VLOOKUP(C37,MATERIALES!$C$13:$G$2486,5,FALSE)," ") -> 542652 | O37: =IFERROR(M37*L37,0) -> 16279.56
K38: =IFERROR(VLOOKUP(C38,MATERIALES!$C$13:$G$2486,2,FALSE)," ") | M38: =IFERROR(VLOOKUP(C38,MATERIALES!$C$13:$G$2486,5,FALSE)," ") | O38: =IFERROR(M38*L38,0) -> 0
K39: =IFERROR(VLOOKUP(C39,MATERIALES!$C$13:$G$2486,2,FALSE)," ") | M39: =IFERROR(VLOOKUP(C39,MATERIALES!$C$13:$G$2486,5,FALSE)," ") | O39: =IFERROR(M39*L39,0) -> 0
K40: =IFERROR(VLOOKUP(C40,MATERIALES!$C$13:$G$2486,2,FALSE)," ") | M40: =IFERROR(VLOOKUP(C40,MATERIALES!$C$13:$G$2486,5,FALSE)," ") | O40: =IFERROR(M40*L40,0) -> 0
K41: =IFERROR(VLOOKUP(C41,MATERIALES!$C$13:$G$2486,2,FALSE)," ") | M41: =IFERROR(VLOOKUP(C41,MATERIALES!$C$13:$G$2486,5,FALSE)," ") | O41: =IFERROR(M41*L41,0) -> 0
K42: =IFERROR(VLOOKUP(C42,MATERIALES!$C$13:$G$2486,2,FALSE)," ") | M42: =IFERROR(VLOOKUP(C42,MATERIALES!$C$13:$G$2486,5,FALSE)," ") | O42: =IFERROR(M42*L42,0) -> 0
K43: =IFERROR(VLOOKUP(C43,MATERIALES!$C$13:$G$2486,2,FALSE)," ") | M43: =IFERROR(VLOOKUP(C43,MATERIALES!$C$13:$G$2486,5,FALSE)," ") | O43: =IFERROR(M43*L43,0) -> 0
K44: =IFERROR(VLOOKUP(C44,MATERIALES!$C$13:$G$2486,2,FALSE)," ") | M44: =IFERROR(VLOOKUP(C44,MATERIALES!$C$13:$G$2486,5,FALSE)," ") | O44: =IFERROR(M44*L44,0) -> 0
K45: =IFERROR(VLOOKUP(C45,MATERIALES!$C$13:$G$2486,2,FALSE)," ") | M45: =IFERROR(VLOOKUP(C45,MATERIALES!$C$13:$G$2486,5,FALSE)," ") | O45: =IFERROR(M45*L45,0) -> 0
K46: =IFERROR(VLOOKUP(C46,MATERIALES!$C$13:$G$2486,2,FALSE)," ") | M46: =IFERROR(VLOOKUP(C46,MATERIALES!$C$13:$G$2486,5,FALSE)," ") | O46: =IFERROR(M46*L46,0) -> 0
C47: SUBTOTAL | O47: =SUM(O35:O46) -> 136259.5
C48: III. TRANSPORTES
C51: MATERIAL | J51: VOL. o PESO | K51: DISTANCIA | L51: M3 o Ton/Km | M51: TARIFA | O51: Vr. UNITARIO
M52: =IFERROR(VLOOKUP(C52,TRANSPORTE!$C$14:$G$28,5,FALSE)," ") | O52: =IFERROR(M52*L52,0) -> 0
O53: =IFERROR(M53*L53,0) -> 0
C54: SUBTOTAL | O54: =+SUM(O52:O53) -> 0
...

Sheet APU CAP 11
C2: Formulario 1 - Propuesta económica - Licitación de obra pública de infraestructura social
C3: Código | D3: CCE-EICP-FM-116 | E3: Versión | F3: 1
C5: [La Entidad podrá utilizar este Formato para la presentación de los análisis de Precios Unitarios del Contratista en la oportunidad prevista en el numeral 8.1. del Documento Base]
C7: #VALUE!
D8: =PRESUPUESTO!C13 -> CONSTRUCCIÓN DEL CENTRO DE DESARROLLO INFANTIL BRISAS DEL MUNICIPIO DE MOSQUERA, CUNDINAMARCA
L9: VERSIÓN
L10: PÁGINA | M10: 1 | N10: DE | O10: 1
D11: ALCALDÍA DE MUNICIPAL DE MOSQUERA
L14: FECHA | M14: DD | N14: MM | O14: AA
C15: ESTUDIOS, DISEÑOS A DETALLE, PERMISOS Y LICENCIAMIENTO DE LOS DIFERENTES EQUIPAMIENTOS PÚBLICOS PARA EL MUNICIPIO DE MOSQUERA CUNDINAMARCA
C18: DATOS ESPECÍFICOS
C19: ÍTEM | D19: DESCRIPCIÓN | M19: UNIDAD | O19: CANTIDAD
C20: =PRESUPUESTO!C260 -> 11.01 | D20: =IFERROR(VLOOKUP(C20,PRESUPUESTO!$C$11:$K$366,5,FALSE)," ") -> SUMINISTRO E INSTALACIÓN DE PISO EN GRES TABLÓN COLOR SAHARA O SIMILAR, FORMATO 30 × 30 CM, INCLUYE PREPARACIÓN DE SUPERFICIE, CORTES, ADHESIVO, BOQUILLAS Y LIMPIEZA FINAL. | M20: =IFERROR(VLOOKUP(C20,PRESUPUESTO!$C$11:$K$366,6,FALSE)," ") -> M2 | O20: =IFERROR(VLOOKUP(C20,PRESUPUESTO!$C$11:$K$366,7,FALSE)," ") -> 3.54
C24: DESCRIPCIÓN | H24: MARCA | J24: TIPO | L24: TARIFA/HORA | M24: RENDIMIENTO | O24: Vr. UNITARIO
C25: HERRAMIENTA MENOR | J25: =IFERROR(VLOOKUP(C25,EQUIPOS!$C$13:$G$80,2,FALSE)," ") -> % | L25: =O63 -> 23486.985 | M25: 0.05 | O25: =IFERROR(M25*L25,0) -> 1174.3493
J26: =IFERROR(VLOOKUP(C26,EQUIPOS!$C$13:$G$80,2,FALSE)," ") | L26: =IFERROR(VLOOKUP(C26,EQUIPOS!$C$13:$G$80,5,FALSE)," ") | O26: =IFERROR(L26/M26,0) -> 0
J27: =IFERROR(VLOOKUP(C27,EQUIPOS!$C$13:$G$80,2,FALSE)," ") | L27: =IFERROR(VLOOKUP(C27,EQUIPOS!$C$13:$G$80,5,FALSE)," ") | O27: =IFERROR(L27/M27,0) -> 0
J28: =IFERROR(VLOOKUP(C28,EQUIPOS!$C$13:$G$80,2,FALSE)," ") | L28: =IFERROR(VLOOKUP(C28,EQUIPOS!$C$13:$G$80,5,FALSE)," ") | O28: =IFERROR(L28/M28,0) -> 0
J29: =IFERROR(VLOOKUP(C29,EQUIPOS!$C$13:$G$80,2,FALSE)," ") | L29: =IFERROR(VLOOKUP(C29,EQUIPOS!$C$13:$G$80,5,FALSE)," ") | O29: =IFERROR(L29/M29,0) -> 0
C30: SUBTOTAL | O30: =SUM(O25:O29) -> 1174.3493
C31: II. MATERIALES
C34: DESCRIPCIÓN | K34: UNIDAD | L34: CANTIDAD | M34: PRECIO UNIT. | O34: Vr. UNITARIO
C35: TABLON TRADICIONAL LONG 30,5X30,5X SAHARA | K35: =IFERROR(VLOOKUP(C35,MATERIALES!$C$13:$G$2486,2,FALSE)," ") -> M2 | L35: 1.05 | M35: =IFERROR(VLOOKUP(C35,MATERIALES!$C$13:$G$2486,5,FALSE)," ") -> 49900 | O35: =IFERROR(M35*L35,0) -> 52395
C36: PEGACOR MAX BLANCO | K36: =IFERROR(VLOOKUP(C36,MATERIALES!$C$13:$G$2486,2,FALSE)," ") -> KG | L36: 4.5 | M36: =IFERROR(VLOOKUP(C36,MATERIALES!$C$13:$G$2486,5,FALSE)," ") -> 3620 | O36: =IFERROR(M36*L36,0) -> 16290
C37: AGUA | K37: =IFERROR(VLOOKUP(C37,MATERIALES!$C$13:$G$2486,2,FALSE)," ") -> LT | L37: 1.5 | M37: =IFERROR(VLOOKUP(C37,MATERIALES!$C$13:$G$2486,5,FALSE)," ") -> 74 | O37: =IFERROR(M37*L37,0) -> 111
C38: BOQUILLA JUNTA ANCHA | K38: =IFERROR(VLOOKUP(C38,MATERIALES!$C$13:$G$2486,2,FALSE)," ") -> KG | L38: 0.3 | M38: =IFERROR(VLOOKUP(C38,MATERIALES!$C$13:$G$2486,5,FALSE)," ") -> 7580.4 | O38: =IFERROR(M38*L38,0) -> 2274.12
C39: CRUCETAS JUNTAS 3 MM | K39: =IFERROR(VLOOKUP(C39,MATERIALES!$C$13:$G$2486,2,FALSE)," ") -> UN | L39: 25 | M39: =IFERROR(VLOOKUP(C39,MATERIALES!$C$13:$G$2486,5,FALSE)," ") -> 54 | O39: =IFERROR(M39*L39,0) -> 1350
K40: =IFERROR(VLOOKUP(C40,MATERIALES!$C$13:$G$2486,2,FALSE)," ") | M40: =IFERROR(VLOOKUP(C40,MATERIALES!$C$13:$G$2486,5,FALSE)," ") | O40: =IFERROR(M40*L40,0) -> 0
K41: =IFERROR(VLOOKUP(C41,MATERIALES!$C$13:$G$2486,2,FALSE)," ") | M41: =IFERROR(VLOOKUP(C41,MATERIALES!$C$13:$G$2486,5,FALSE)," ") | O41: =IFERROR(M41*L41,0) -> 0
K42: =IFERROR(VLOOKUP(C42,MATERIALES!$C$13:$G$2486,2,FALSE)," ") | M42: =IFERROR(VLOOKUP(C42,MATERIALES!$C$13:$G$2486,5,FALSE)," ") | O42: =IFERROR(M42*L42,0) -> 0
K43: =IFERROR(VLOOKUP(C43,MATERIALES!$C$13:$G$2486,2,FALSE)," ") | M43: =IFERROR(VLOOKUP(C43,MATERIALES!$C$13:$G$2486,5,FALSE)," ") | O43: =IFERROR(M43*L43,0) -> 0
K44: =IFERROR(VLOOKUP(C44,MATERIALES!$C$13:$G$2486,2,FALSE)," ") | M44: =IFERROR(VLOOKUP(C44,MATERIALES!$C$13:$G$2486,5,FALSE)," ") | O44: =IFERROR(M44*L44,0) -> 0
K45: =IFERROR(VLOOKUP(C45,MATERIALES!$C$13:$G$2486,2,FALSE)," ") | M45: =IFERROR(VLOOKUP(C45,MATERIALES!$C$13:$G$2486,5,FALSE)," ") | O45: =IFERROR(M45*L45,0) -> 0
K46: =IFERROR(VLOOKUP(C46,MATERIALES!$C$13:$G$2486,2,FALSE)," ") | M46: =IFERROR(VLOOKUP(C46,MATERIALES!$C$13:$G$2486,5,FALSE)," ") | O46: =IFERROR(M46*L46,0) -> 0
C47: SUBTOTAL | O47: =SUM(O35:O46) -> 72420.12
C48: III. TRANSPORTES
C51: MATERIAL | J51: VOL. o PESO | K51: DISTANCIA | L51: M3 o Ton/Km | M51: TARIFA | O51: Vr. UNITARIO
L52: =K52*J52 -> 0 | M52: =IFERROR(VLOOKUP(C52,TRANSPORTE!$C$14:$G$28,5,FALSE)," ") | O52: =IFERROR(M52*L52,0) -> 0
O53: =IFERROR(M53*L53,0) -> 0
C54: SUBTOTAL | O54: =+SUM(O52:O53) -> 0
...

Sheet APU CAP 12
C2: Formulario 1 - Propuesta económica - Licitación de obra pública de infraestructura social
C3: Código | D3: CCE-EICP-FM-116 | E3: Versión | F3: 1
C5: [La Entidad podrá utilizar este Formato para la presentación de los análisis de Precios Unitarios del Contratista en la oportunidad prevista en el numeral 8.1. del Documento Base]
C7: #VALUE!
D8: =PRESUPUESTO!C13 -> CONSTRUCCIÓN DEL CENTRO DE DESARROLLO INFANTIL BRISAS DEL MUNICIPIO DE MOSQUERA, CUNDINAMARCA
L9: VERSIÓN
L10: PÁGINA | M10: 1 | N10: DE | O10: 1
D11: ALCALDÍA DE MUNICIPAL DE MOSQUERA
L14: FECHA | M14: DD | N14: MM | O14: AA
C15: ESTUDIOS, DISEÑOS A DETALLE, PERMISOS Y LICENCIAMIENTO DE LOS DIFERENTES EQUIPAMIENTOS PÚBLICOS PARA EL MUNICIPIO DE MOSQUERA CUNDINAMARCA
C18: DATOS ESPECÍFICOS
C19: ÍTEM | D19: DESCRIPCIÓN | M19: UNIDAD | O19: CANTIDAD
C20: =PRESUPUESTO!C274 -> 12.01 | D20: =IFERROR(VLOOKUP(C20,PRESUPUESTO!$C$11:$K$366,5,FALSE)," ") -> SUMINISTRO E INSTALACIÓN DE ENCHAPE CERÁMICO PARA MURO, REFERENCIA NATAL BLANCO CARA ÚNICA O SIMILAR, FORMATO 30 × 60 CM. INCLUYE PREPARACIÓN DE SUPERFICIE, CORTES, ADHESIVO CERÁMICO BLANCO, BOQUILLA BLANCA Y LIMPIEZA FINAL. | M20: =IFERROR(VLOOKUP(C20,PRESUPUESTO!$C$11:$K$366,6,FALSE)," ") -> M2 | O20: =IFERROR(VLOOKUP(C20,PRESUPUESTO!$C$11:$K$366,7,FALSE)," ") -> 186.53
C24: DESCRIPCIÓN | H24: MARCA | J24: TIPO | L24: TARIFA/HORA | M24: RENDIMIENTO | O24: Vr. UNITARIO
C25: HERRAMIENTA MENOR | J25: =IFERROR(VLOOKUP(C25,EQUIPOS!$C$13:$G$80,2,FALSE)," ") -> % | L25: =O63 -> 30442.4 | M25: 0.05 | O25: =IFERROR(M25*L25,0) -> 1522.12
C26: PULIDORA MANUAL | J26: =IFERROR(VLOOKUP(C26,EQUIPOS!$C$13:$G$80,2,FALSE)," ") -> D | L26: =IFERROR(VLOOKUP(C26,EQUIPOS!$C$13:$G$80,5,FALSE)," ") -> 53716 | M26: =1/0.025 -> 40 | O26: =IFERROR(L26/M26,0) -> 1342.9
J27: =IFERROR(VLOOKUP(C27,EQUIPOS!$C$13:$G$80,2,FALSE)," ") | L27: =IFERROR(VLOOKUP(C27,EQUIPOS!$C$13:$G$80,5,FALSE)," ") | O27: =IFERROR(L27/M27,0) -> 0
J28: =IFERROR(VLOOKUP(C28,EQUIPOS!$C$13:$G$80,2,FALSE)," ") | L28: =IFERROR(VLOOKUP(C28,EQUIPOS!$C$13:$G$80,5,FALSE)," ") | O28: =IFERROR(L28/M28,0) -> 0
J29: =IFERROR(VLOOKUP(C29,EQUIPOS!$C$13:$G$80,2,FALSE)," ") | L29: =IFERROR(VLOOKUP(C29,EQUIPOS!$C$13:$G$80,5,FALSE)," ") | O29: =IFERROR(L29/M29,0) -> 0
C30: SUBTOTAL | O30: =SUM(O25:O29) -> 2865.02
C31: II. MATERIALES
C34: DESCRIPCIÓN | K34: UNIDAD | L34: CANTIDAD | M34: PRECIO UNIT. | O34: Vr. UNITARIO
C35: PISO PARED NATAL BLANCO CARA ÚNICA 30X60 | K35: =IFERROR(VLOOKUP(C35,MATERIALES!$C$13:$G$2486,2,FALSE)," ") -> M2 | L35: 1.05 | M35: =IFERROR(VLOOKUP(C35,MATERIALES!$C$13:$G$2486,5,FALSE)," ") -> 34500 | O35: =IFERROR(M35*L35,0) -> 36225
C36: PEGACOR MAX BLANCO | K36: =IFERROR(VLOOKUP(C36,MATERIALES!$C$13:$G$2486,2,FALSE)," ") -> KG | L36: 4.5 | M36: =IFERROR(VLOOKUP(C36,MATERIALES!$C$13:$G$2486,5,FALSE)," ") -> 3620 | O36: =IFERROR(M36*L36,0) -> 16290
C37: BOQUILLA BLANCA JUNTA ESTRECHA | K37: =IFERROR(VLOOKUP(C37,MATERIALES!$C$13:$G$2486,2,FALSE)," ") -> KG | L37: 0.2 | M37: =IFERROR(VLOOKUP(C37,MATERIALES!$C$13:$G$2486,5,FALSE)," ") -> 6980 | O37: =IFERROR(M37*L37,0) -> 1396
C38: CRUCETAS JUNTAS 3 MM | K38: =IFERROR(VLOOKUP(C38,MATERIALES!$C$13:$G$2486,2,FALSE)," ") -> UN | L38: 6 | M38: =IFERROR(VLOOKUP(C38,MATERIALES!$C$13:$G$2486,5,FALSE)," ") -> 54 | O38: =IFERROR(M38*L38,0) -> 324
C39: AGUA | K39: =IFERROR(VLOOKUP(C39,MATERIALES!$C$13:$G$2486,2,FALSE)," ") -> LT | L39: 1.5 | M39: =IFERROR(VLOOKUP(C39,MATERIALES!$C$13:$G$2486,5,FALSE)," ") -> 74 | O39: =IFERROR(M39*L39,0) -> 111
K40: =IFERROR(VLOOKUP(C40,MATERIALES!$C$13:$G$2486,2,FALSE)," ") | M40: =IFERROR(VLOOKUP(C40,MATERIALES!$C$13:$G$2486,5,FALSE)," ") | O40: =IFERROR(M40*L40,0) -> 0
K41: =IFERROR(VLOOKUP(C41,MATERIALES!$C$13:$G$2486,2,FALSE)," ") | M41: =IFERROR(VLOOKUP(C41,MATERIALES!$C$13:$G$2486,5,FALSE)," ") | O41: =IFERROR(M41*L41,0) -> 0
K42: =IFERROR(VLOOKUP(C42,MATERIALES!$C$13:$G$2486,2,FALSE)," ") | M42: =IFERROR(VLOOKUP(C42,MATERIALES!$C$13:$G$2486,5,FALSE)," ") | O42: =IFERROR(M42*L42,0) -> 0
K43: =IFERROR(VLOOKUP(C43,MATERIALES!$C$13:$G$2486,2,FALSE)," ") | M43: =IFERROR(VLOOKUP(C43,MATERIALES!$C$13:$G$2486,5,FALSE)," ") | O43: =IFERROR(M43*L43,0) -> 0
K44: =IFERROR(VLOOKUP(C44,MATERIALES!$C$13:$G$2486,2,FALSE)," ") | M44: =IFERROR(VLOOKUP(C44,MATERIALES!$C$13:$G$2486,5,FALSE)," ") | O44: =IFERROR(M44*L44,0) -> 0
K45: =IFERROR(VLOOKUP(C45,MATERIALES!$C$13:$G$2486,2,FALSE)," ") | M45: =IFERROR(VLOOKUP(C45,MATERIALES!$C$13:$G$2486,5,FALSE)," ") | O45: =IFERROR(M45*L45,0) -> 0
K46: =IFERROR(VLOOKUP(C46,MATERIALES!$C$13:$G$2486,2,FALSE)," ") | M46: =IFERROR(VLOOKUP(C46,MATERIALES!$C$13:$G$2486,5,FALSE)," ") | O46: =IFERROR(M46*L46,0) -> 0
C47: SUBTOTAL | O47: =SUM(O35:O46) -> 54346
C48: III. TRANSPORTES
C51: MATERIAL | J51: VOL. o PESO | K51: DISTANCIA | L51: M3 o Ton/Km | M51: TARIFA | O51: Vr. UNITARIO
K52: 25.1 | L52: =K52*J52 -> 0 | M52: =IFERROR(VLOOKUP(C52,TRANSPORTE!$C$14:$G$28,5,FALSE)," ") | O52: =IFERROR(M52*L52,0) -> 0
O53: =IFERROR(M53*L53,0) -> 0
C54: SUBTOTAL | O54: =+SUM(O52:O53) -> 0
...

Sheet APU CAP 13
C2: Formulario 1 - Propuesta económica - Licitación de obra pública de infraestructura social
C3: Código | D3: CCE-EICP-FM-116 | E3: Versión | F3: 1
C5: [La Entidad podrá utilizar este Formato para la presentación de los análisis de Precios Unitarios del Contratista en la oportunidad prevista en el numeral 8.1. del Documento Base]
C7: #VALUE!
D8: =PRESUPUESTO!C13 -> CONSTRUCCIÓN DEL CENTRO DE DESARROLLO INFANTIL BRISAS DEL MUNICIPIO DE MOSQUERA, CUNDINAMARCA
L9: VERSIÓN
L10: PÁGINA | M10: 1 | N10: DE | O10: 1
