Workbook
Name _1: #REF!
Name _2: #REF!
Name A: #REF!
Name A_impresión_IM: #REF!
Name aaa: #REF!
Name Auxiliarjal: #REF!
Name B: #REF!
Name basecaro: #REF!
Name basejuliet1: #REF!
Name basemetroabril2017: #REF!
Name basemetroabril2017final: #REF!
Name BLOQUE: #REF!
Name cargo: #REF!
Name CLASE: #REF!
Name correoelectronico: #REF!
Name COSTOM2: #REF!
Name Dólar: #REF!
Name epsypension: #REF!
Name Factor: #REF!
Name JJJJ: #REF!
Name lineainstitucional: #REF!
Name mesabril: #REF!
Name nuevosoi: #REF!
Name origenaux: #REF!
Name pagojuliethjunio: #REF!
Name Profesional: #REF!
Name profesionaljal: #REF!
Name SVASFD: #REF!
Name TCRM: #REF!
Name TCRM_al_03_MAYO_2000: #REF!
Name Títulos_a_imprimir_IM: #REF!
Name TOP: #REF!
Name TRM: #REF!

Sheet METODOLOGÍA DE EVALUACIÓN
B2: PARQUES NACIONALES NATURALES DE COLOMBIA - PNNC
B4: FORMATO No. 3 EVALUACIÓN DE LAS CONDICIONES TÉCNICAS ADICIONALES
B5: METODOLOGÍA DE EVALUACIÓN - APLICABLE A TODAS LAS PÓLIZAS
B6: El Asegurado precisa que las condiciones, coberturas, cláusulas, límites y/o plazo indicados a continuación no son de obligatorio ofrecimiento y las aseguradoras participantes tienen la postedad de decidir su ofrecimiento. Para su evaluación se considerarán los siguientes criterios que corresponden a los generales aplicables, por lo tanto en el caso que se estipulen criterios particulares dentro del contenido de las condiciones, estos primarán sobre los generales: Las aseguradoras deben tener en cuenta que el ofrecimiento de condiciones que presten beneficio a la Entidad adicionales a las relacionadas en cada póliza pero que son en exceso a las mismas; no serán objeto de asignación de puntaje adicional a esos exceso y solo evaluables con base en los criterios que esten definidos en cada condición, no obstante la presentación de éstas obliga a la Aseguradora a su otorgamiento en caso de que el contrato le sea adjudicado y el oferente con la firma de la propuesta acepta esta condición.
B7: CONDICIONES ADICIONALES QUE CONTIENEN SOLO TEXTO: | D7: Se otorgará el máximo puntaje asignado a las propuestas que las ofrezcan con el mismo texto y bajo las mismas condiciones o en condiciones superiores en beneficio de la Entidad. Las propuestas que modifiquen el texto, sin que ello conlleve a la pérdida de la aplicabilidad y/u operatividad de la condición, se le asignará el 50% del puntaje y las propuestas que no las ofrezcan se calificarán con cero (0) puntos.
B8: CONDICIONES ADICIONALES QUE APLIQUEN PARA OFERTAS DE LÍMITES Y/O VALORES FIJOS QUE SE REGISTREN EN TABLAS Y/O CONTENGAN RANGOS Y/O VALORES CON BASE EN LOS CUALES SE DEBE EFECTUAR EL OFRECIMIENTO. | D8: Las aseguradoras deben tener en cuenta: 1. Para acceder a calificación, el oferente deberá registrar en forma expresa y de manera clara, el valor y/o límite que ofrece. En aquellos casos que se exprese valores en COL$ o en SMMLV para realizar una evaluación equitativa, se podrá homologar el ofrecimiento a alguna de las dos constantes COL$ o SMMLV. 2. Se otorga el máximo puntaje a la propuesta que dentro del rango o tabla se aproxime al máximo sublímite o plazo requerido y las demas ofertas se calificaran en forma proporcional a la propuesta calificada con el máximo puntaje. 3. En el caso de presentar propuesta por un valor y/o límite diferente al establecido en los rangos de la tabla, se tomará para la asignación de puntaje, el monto y/o límite del rango inmediatamente anterior al del valor ofrecido y el oferente acepta esta condición con la firma de la oferta y, de ser adjudicada la propuesta, expedirá la póliza con el valor indicado en la propuesta.
B9: CONDICIONES ADICIONALES | D9: NOTA: Las aseguradoras deben señalar expresamente en su propuesta las Condiciones Adicionales que ofrece especificando los límites, periodos y demás información necesaria para su evaluación de acuerdo con las condiciones de cada una de ellas, en caso que manifieste "SE OTORGA" ó "SI" u otra expresión que implica que si esta otorgando la condición, pero no está especificado, se entenderá que las mismas fueron ofrecidas al máximo límite, sublímite o periodos o plazos y por lo tanto se asignará el mayor puntaje de esta condición, al límite, sublímite o períodos o plazos requerido y de ser adjudicada la propuesta, la aseguradora expedirá la póliza con las condiciones máximas exigidas de ese criterio en particular.
B10: By: Tiger | G10: VERSIÓN: SEP 2026

Sheet G1. COND ADIC. TRDMC
B3: =+'METODOLOGÍA DE EVALUACIÓN'!B2:G2 -> PARQUES NACIONALES NATURALES DE COLOMBIA - PNNC
B5: FORMATO No. 09 CONDICIONES TÉCNICAS ADICIONALES
B6: GRUPO No. 1
B7: 1. SEGURO DE TODO RIESGO DAÑOS MATERIALES COMBINADOS
B8: OBJETO DEL SEGURO
B9: Amparar, bajo la modalidad de Todo Riesgo Daños Materiales, las pérdidas, daños materiales o desaparición que sufran los bienes e intereses de propiedad de PARQUES NACIONALES NATURALES DE COLOMBIA, así como aquellos por los cuales sean o lleguen a ser legalmente responsables, ubicados en cualquier parte de territorio nacional o internacional, por cualquier causa no expresamente excluida en este Anexo Técnico. Las exclusiones serán taxativas y de interpretación restrictiva.
B10: INFORMACIÓN GENERAL:
B11: TOMADOR: | C11: =+B3 -> PARQUES NACIONALES NATURALES DE COLOMBIA - PNNC | G11: NIT | H11: 830.016.624-7
B12: ASEGURADO: | C12: =+C11 -> PARQUES NACIONALES NATURALES DE COLOMBIA - PNNC | G12: =+G11 -> NIT | H12: =+H11 -> 830.016.624-7
B13: BENEFICIARIO: | C13: =+C11 -> PARQUES NACIONALES NATURALES DE COLOMBIA - PNNC | G13: =+G12 -> NIT | H13: =+H11 -> 830.016.624-7
B14: NOTA: | C14: LOS SUBLÍMITES Y GASTOS INDICADOS APLICAN DE MANERA COMBINADA PARA LA TOTALIDAD DE LOS BIENES ASEGURADOS Y SE ENTIENDEN COMPRENDIDOS DENTRO DEL VALOR ASEGURADO. SE EXCEPTÚAN LOS GASTOS ADICIONALES Y LOS EXTRAORDINARIOS, LOS CUALES OPERARÁN EN EXCESO DE DICHA SUMA.
B15: CRITERIOS DE EVALUACIÓN:
B16: CONDICIÓN REQUERIDA PARA EVALUACIÓN | E16: CRITERIO DE EVALUACIÓN | F16: PUNTAJE ESTABLECIDO | G16: NOMBRE DELPROPONENTE
G17: OFRECIMIENTO DEL PROPONENTE | H17: PUNTAJE OBTENIDO
B18: ACTOS MAL INTENCIONADOS DE TERCEROS ASONADA, MOTÍN, CONMOCIÓN CIVIL O POPULAR Y HUELGA (INCLUIDO TERRORISMO Y SABOTAJE). Sublímite de $10.000.000.000 (vigencia 1.4.3. ANEXO 1). NOTA 1: Solo se acepta propuesta en los límites señados en los siguientes rangos. Ofrecimientos de otros valores diferentes serán evaluados con cero (0) puntos), excepto que sea superior al último rango. NOTA 2: Se otorga el máximo puntaje a la propuesta que dentro del rango se aproxime al máximo sublímite requerido y las demas ofertas se calificaran en forma proporcional a la propuesta calificada con el máximo puntaje. | D18: PUNTOS AL MAYOR VALOR DENTRO DEL RANGO | E18: Se califica el aumento adicional del sublímite Hasta un monto total de $20.000.000.000 incluido el básico | F18: =+D21 -> 10
B19: Límite adicional al básico mayor a $1.000.000.000 y hasta $2.000.000.000: | D19: 2
B20: Límite adicional al básico mayor a $4.000.000.000 y hasta $6.000.000.000: | D20: 5
B21: Límite adicional al básico mayor a $8.000.000.000 y hasta $10.000.000.000: | D21: 10
B22: HURTO Y HURTO CALIFICADO Sublímite de $4.000.000.000 (vigencia 1.4.3. ANEXO 1). NOTA 1: Solo se acepta propuesta en los límites señados en los siguientes rangos. Ofrecimientos de otros valores diferentes serán evaluados con cero (0) puntos), excepto que sea superior al último rango. NOTA 2: Se otorga el máximo puntaje a la propuesta que dentro del rango se aproxime al máximo sublímite requerido y las demas ofertas se calificaran en forma proporcional a la propuesta calificada con el máximo puntaje. | D22: PUNTOS AL MAYOR VALOR DENTRO DEL RANGO | E22: Se califica el aumento adicional del sublímite Hasta un monto total de $14.000.000.000 incluido el básico | F22: =+D25 -> 6
B23: Límite adicional al básico mayor a $5.000.000.000 y hasta $1.000.000.000: | D23: 1
B24: Límite adicional al básico mayor a $2.000.000.000 y hasta $5.000.000.000: | D24: 3
B25: Límite adicional al básico mayor a $5.000.000.000 y hasta $10.000.000.000: | D25: 6
B26: GASTOS ADICIONALES. Sublímite por la suma de $13.000.000.000 (vigencia 1.4.3. ANEXO 1), en exceso del valor asegurado, sin aplicación de deducible y combinado para los gastos relacionados en en Anexo No. 1. NOTA 1: Solo se acepta propuesta en los límites señados en los siguientes rangos. Ofrecimientos de otros valores diferentes serán evaluados con cero (0) puntos), excepto que sea superior al último rango. NOTA 2: Se otorga el máximo puntaje a la propuesta que dentro del rango se aproxime al máximo sublímite requerido y las demas ofertas se calificaran en forma proporcional a la propuesta calificada con el máximo puntaje. | D26: PUNTOS AL MAYOR VALOR DENTRO DEL RANGO | E26: Se califica el aumento adicional del sublímite Hasta un monto total de $23.000.000.000 incluido el básico | F26: =+D29 -> 6
B27: Límite adicional al básico mayor a $500.000.000 y hasta $2.000.000.000: | D27: 1
B28: Límite adicional al básico mayor a $3.000.000.000 y hasta $5.00.000.000: | D28: 3
B29: Límite adicional al básico mayor a $6.000.000.000 y hasta $10.000.000.000: | D29: 6
B30: RENUNCIA A LA APLICACIÓN DE SEGURO INSUFICIENTE Y/O INFRASEGURO Siempre y cuando la diferencia entre el valor asegurado y el valor asegurable no sea superior al 25%. | E30: Se califica en Condiciones Adicionales el aumento adicional del porcentaje ofrecido. Hasta un máximo del 40% incluido el básico | F30: 3
B31: CLÁUSULA DE NO TASACIÓN EN CASO DE SINIESTRO Sublímite de hasta $500.000.000, por siniestro. NOTA 1: Solo se acepta propuesta en los límites señados en los siguientes rangos. Ofrecimientos de otros valores diferentes serán evaluados con cero (0) puntos), excepto que sea superior al último rango. NOTA 2: Se otorga el máximo puntaje a la propuesta que dentro del rango se aproxime al máximo sublímite requerido y las demas ofertas se calificaran en forma proporcional a la propuesta calificada con el máximo puntaje. | D31: PUNTOS AL MAYOR VALOR DENTRO DEL RANGO | E31: Se califica el aumento adicional del sublímite Hasta un monto total de $900.000.000 incluido el básico | F31: =+D34 -> 3
B32: Límite adicional al básico mayor a $25.000.000 y hasta $50.000.000: | D32: 1
B33: Límite adicional al básico mayor a $100.000.000 y hasta $150.000.000: | D33: 2
B34: Límite adicional al básico mayor a $200.000.000 y hasta $400.000.000: | D34: 3
B35: AUTORIZACIÓN EXPRESA AL ASEGURADO PARA ATENCIÓN DE DAÑOS POR SINIESTROS CUYO VALOR NO EXCEDA $150.000.000. NOTA 1: Solo se acepta propuesta en los límites señados en los siguientes rangos. Ofrecimientos de otros valores diferentes serán evaluados con cero (0) puntos), excepto que sea superior al último rango. NOTA 2: Se otorga el máximo puntaje a la propuesta que dentro del rango se aproxime al máximo sublímite requerido y las demas ofertas se calificaran en forma proporcional a la propuesta calificada con el máximo puntaje. | D35: PUNTOS AL MAYOR VALOR DENTRO DEL RANGO | E35: Se califica el aumento adicional del sublímite para la autorización expresa para la atención de siniestros. Hasta un monto total de $650.000.000 incluido el básico | F35: =+D38 -> 2
B36: Límite adicional al básico mayor a $75.000.000 y hasta $100.000.000: | D36: 0.5
B37: Límite adicional al básico mayor a $200.000.000 y hasta $300.000.000: | D37: 1
B38: Límite adicional al básico mayor a $400.000.000 y hasta $500.000.000: | D38: 2
B39: MÁXIMO CALIFICACIÓN | F39: =SUM(F18:F38) -> 30 | G39: PUNTAJE TOTAL | H39: =SUM(H18:H35) -> 0
B40: By: Tiger | H40: =+'METODOLOGÍA DE EVALUACIÓN'!G10 -> VERSIÓN: SEP 2026

Sheet G1. COND ADIC. MANEJO GLOBAL
B3: =+'G1. COND ADIC. TRDMC'!B3:H3 -> PARQUES NACIONALES NATURALES DE COLOMBIA - PNNC
B5: FORMATO No. 09 CONDICIONES TÉCNICAS ADICIONALES
B6: GRUPO No. 1
B7: 2. SEGURO GLOBAL DE MANEJO PARA ENTIDADES OFICIALES
B8: OBJETO DEL SEGURO
B9: Amparar el menoscabo que sufran los fondos, valores y bienes de PARQUES NACIONALES NATURALES DE COLOMBIA - PNNC, ocasionado por empleados, funcionarios, servidores, sus reemplazos y demás personas comprendidas en la definición de trabajador o empleado de esta póliza, por actos que se tipifiquen como delitos contra la administración pública o fallos con responsabilidad fiscal, de conformidad con las coberturas y condiciones del presente anexo. La cobertura no estará condicionada a la existencia de sentencia penal o fallo fiscal cuando la ocurrencia y cuantía de la pérdida se encuentren acreditadas conforme al contrato y a la ley.
B10: INFORMACIÓN GENERAL:
B11: TOMADOR: | C11: =+B3 -> PARQUES NACIONALES NATURALES DE COLOMBIA - PNNC | G11: NIT. | H11: =+'G1. COND ADIC. TRDMC'!H11 -> 830.016.624-7
B12: ASEGURADO: | C12: =+C11 -> PARQUES NACIONALES NATURALES DE COLOMBIA - PNNC | G12: NIT. | H12: =+H11 -> 830.016.624-7
B13: BENEFICIARIO: | C13: =+C11 -> PARQUES NACIONALES NATURALES DE COLOMBIA - PNNC | G13: NIT. | H13: =+H11 -> 830.016.624-7
B14: NOTA: | C14: CADA SUBLÍMITE O GASTOS OFRECIDOS EN FORMA ADICIONAL QUEDA CONTEMPLADO DENTRO DEL LÍMITE ASEGURADO.
B15: CRITERIOS DE EVALUACIÓN:
B16: CONDICIÓN REQUERIDA PARA EVALUACIÓN | E16: CRITERIO DE EVALUACIÓN | F16: PUNTAJE ESTABLECIDO | G16: =+'G1. COND ADIC. TRDMC'!$G$16 -> NOMBRE DELPROPONENTE
G17: OFRECIMIENTO DEL OFERENTE | H17: PUNTAJE OBTENIDO
B18: INCREMENTO DEL LÍMITE BÁSICO PARA LA COBERTURA DE MANEJO GLOBAL. LÍMITE $800.000.000 (vigencia 2.3.2. ANEXO 1). NOTA 1: Solo se acepta propuesta en los límites señados en los siguientes rangos. Ofrecimientos de otros valores diferentes serán evaluados con cero (0) puntos), excepto que sea superior al último rango. NOTA 2: Se otorga el máximo puntaje a la propuesta que dentro del rango se aproxime al máximo sublímite requerido y las demas ofertas se calificaran en forma proporcional a la propuesta calificada con el máximo puntaje. | D18: PUNTOS AL MAYOR VALOR DENTRO DEL RANGO | E18: Se califica el aumento adicional del límite asegurado. Hasta un monto total de $1.500.000.000 incluido el básico SIN COBRO DE PRIMA | F18: =+D22 -> 18
B19: Límite adicional al básico mayor a $50.000.000 y hasta $100.000.000 | D19: 4
B20: Límite adicional al básico mayor a $120.000.000 y hasta $200.000.000 | D20: 6
B21: Límite adicional al básico mayor a $300.000.000 y hasta $500.000.000 | D21: 12
B22: Límite adicional al básico mayor a $600.000.000 y hasta $700.000.00 | D22: 18
B23: GASTOS ADICIONALES Sublímite 10% del límite asegurado (vigencia 2.3.2. ANEXO No.1) NOTA 1: Solo se acepta propuesta en los límites señados en los siguientes rangos. Ofrecimientos de otros valores diferentes serán evaluados con cero (0) puntos). NOTA 2: Se otorga el máximo puntaje a la propuesta que dentro del rango se aproxime al máximo porcentaje requerido y las demas ofertas se calificaran en forma proporcional a la propuesta calificada con el máximo puntaje. | D23: PUNTOS AL MAYOR VALOR DENTRO DEL RANGO | E23: Se califica el aumento adicional del porcentaje ofrecido. Bajo la definición del texto de la condición obligatoria | F23: =+D27 -> 3
B24: Límite adicional al básico mayor al 15% y hasta el 20%. | D24: 1.5
B25: Límite adicional al básico mayor al 30% y hasta el 50%. | D25: 2
B26: Límite adicional al básico mayor al 60% y hasta el 80%. | D26: 2.5
B27: Límite adicional al básico mayor al 90% y hasta el 100%. | D27: 3
B28: HONORARIOS PROFESIONALES DE ABOGADOS, CONSULTORES, AUDITORES, INTERVENTORES, ETC. Sublímite 20% del límite asegurado (vigencia 2.3.2. ANEXO No.1) NOTA 1: Solo se acepta propuesta en los límites señados en los siguientes rangos. Ofrecimientos de otros valores diferentes serán evaluados con cero (0) puntos). NOTA 2: Se otorga el máximo puntaje a la propuesta que dentro del rango se aproxime al máximo porcentaje requerido y las demas ofertas se calificaran en forma proporcional a la propuesta calificada con el máximo puntaje. | D28: PUNTOS AL MAYOR VALOR DENTRO DEL RANGO | E28: Se califica el aumento adicional del porcentaje ofrecido. Bajo la definición del texto de la condición obligatoria | F28: =+D32 -> 3
B29: Límite adicional al básico mayor al 25% y hasta el 30%. | D29: 1.5
B30: Límite adicional al básico mayor al 40% y hasta el 50%. | D30: 2
B31: Límite adicional al básico mayor al 60% y hasta el 80%. | D31: 2.5
B32: Límite adicional al básico mayor al 90% y hasta el 100%. | D32: 3
B33: COSTAS EN JUICIO, HONORARIOS PROFESIONALES Y SELECCIÓN DE PROFESIONALES PARA LA DEFENSA. Sublímite 10% del límite asegurado (vigencia 2.3.2. ANEXO No.1) NOTA 1: Solo se acepta propuesta en los límites señados en los siguientes rangos. Ofrecimientos de otros valores diferentes serán evaluados con cero (0) puntos). NOTA 2: Se otorga el máximo puntaje a la propuesta que dentro del rango se aproxime al máximo porcentaje requerido y las demas ofertas se calificaran en forma proporcional a la propuesta calificada con el máximo puntaje. | D33: PUNTOS AL MAYOR VALOR DENTRO DEL RANGO | E33: Se califica el aumento adicional del porcentaje ofrecido. Bajo la definición del texto de la condición obligatoria | F33: =+D37 -> 3
B34: Límite adicional al básico mayor al 15% y hasta el 20%. | D34: 1.5
B35: Límite adicional al básico mayor al 30% y hasta el 50%. | D35: 2
B36: Límite adicional al básico mayor al 60% y hasta el 80%. | D36: 2.5
B37: Límite adicional al básico mayor al 90% y hasta el 100%. | D37: 3
B38: FALTANTES DE INVENTARIOS 50% DEL LÍMITE ASEGURADO NOTA: Si el aumento adicional del porcentaje de anticipo es condicionado a la demostración de la ocurrencia y cuantía, se califica con cero (0) puntos este factor. | E38: Se califica el aumento adicional del porcentaje ofrecido. | F38: 3
B39: MÁXIMO CALIFICACIÓN | F39: =SUM(F18:F38) -> 30 | G39: PUNTAJE TOTAL | H39: =SUM(H18:H38) -> 0
B40: By: Tiger | H40: =+'METODOLOGÍA DE EVALUACIÓN'!G10 -> VERSIÓN: SEP 2026

Sheet G1. COND ADIC. RCE
B4: =+'METODOLOGÍA DE EVALUACIÓN'!B2:G2 -> PARQUES NACIONALES NATURALES DE COLOMBIA - PNNC
B6: FORMATO No. 09 CONDICIONES TÉCNICAS ADICIONALES
B7: GRUPO No. 1
B8: 3. SEGURO DE RESPONSABILIDAD CIVIL EXTRACONTRACTUAL
B9: OBJETO DEL SEGURO
B10: Amparar los perjuicios patrimoniales y extrapatrimoniales que cause PARQUES NACIONALES NATURALES DE COLOMBIA - PNNC, como consecuencia de la Responsabilidad Civil Extracontractual originada dentro o fuera de sus instalaciones, en el desarrollo de sus actividades o en lo relacionado con ella, lo mismo que los actos de sus empleados y funcionarios o el personal para el apoyo a la gestión administrativa dentro y fuera del territorio nacional o por bienes que se encuentren bajo tenencia, control y/o responsabilidad . NOTA: Se entenderán como terceros todos los servidores públicos, empleados y funcionarios (permanentes o temporales), estudiantes en práctica o pasantía, contratistas, subcontratistas y personal voluntario que presten servicios al asegurado, incluyendo a los miembros de sus juntas directivas. Asimismo, se considerará tercero a cualquier persona natural que circule, ingrese, acceda o se encuentre en los predios del asegurado, con independencia de si este le presta o no un servicio ligado a su objeto social. Esta condición aplicará en oficinas, en los Parques Nacionales Naturales, Santuarios de Flora y Fauna, Distritos Nacionales de Manejo Integrado, Reservas Nacionales, Áreas Naturales Únicas, Vías Parque y, en general, en cualquier predio, zona o sitio bajo la responsabilidad o custodia de Parques Nacionales Naturales de Colombia (PNNC).
B11: INFORMACIÓN GENERAL:
B12: TOMADOR: | C12: =+B4 -> PARQUES NACIONALES NATURALES DE COLOMBIA - PNNC | G12: NIT. | H12: =+'G1. COND ADIC. TRDMC'!H11 -> 830.016.624-7
B13: ASEGURADO: | C13: =+C12 -> PARQUES NACIONALES NATURALES DE COLOMBIA - PNNC | G13: NIT. | H13: =+H12 -> 830.016.624-7
B14: BENEFICIARIOS: | C14: TERCEROS AFECTADOS
B15: NOTA: | C15: CADA SUBLÍMITE INDICADOS ESTAN CONTEMPLADOS DENTRO DEL LÍMITE ASEGURADO. EXCEPTO LAS CLÁUSULAS DE GASTOS QUE SON EN EXCESO DEL LÍMITE ASEGURADO
B16: CRITERIOS DE EVALUACIÓN:
B17: CONDICIÓN REQUERIDA PARA EVALUACIÓN | E17: CRITERIO DE EVALUACIÓN | F17: PUNTAJE ESTABLECIDO | G17: =+'G1. COND ADIC. MANEJO GLOBAL'!G16 -> NOMBRE DELPROPONENTE
G18: OFRECIMIENTO DEL OFERENTE | H18: PUNTAJE OBTENIDO
B19: INCREMENTO DEL LÍMITE BÁSICO PARA LA COBERTURA DE RESPONSABILIDAD CIVIL EXTRACONTRACTUAL $6.000.000.000 (vigencia 3.4.1. ANEXO 1). NOTA 1: Solo se acepta propuesta en los límites señados en los siguientes rangos. Ofrecimientos de otros valores diferentes serán evaluados con cero (0) puntos), excepto que sea superior al último rango. NOTA 2: Se otorga el máximo puntaje a la propuesta que dentro del rango se aproxime al máximo sublímite requerido y las demas ofertas se calificaran en forma proporcional a la propuesta calificada con el máximo puntaje. | E19: Se califica el aumento adicional del límite asegurado. Hasta un monto total de $10.000.000.000 incluido el básico SIN COBRO DE PRIMA | F19: =+D24 -> 18
B20: Rangos para el aumento del límite | D20: PUNTOS AL MAYOR VALOR DENTRO DEL RANGO
B21: Límite adicional al básico mayor a $300.000.000 y hasta $500.000.000 | D21: 5
B22: Límite adicional al básico mayor a $600.000.000 y hasta $1.000.000.000 | D22: 7
B23: Límite adicional al básico mayor a $1.500.000.000 y hasta $2.000.000.000 | D23: 10
B24: Límite adicional al básico mayor a $3.500.000.000 y hasta $4.000.000.000 | D24: 18
B25: GASTOS MÉDICOS (sin aplicación de deducibles). Sublímite $100.000.000 persona / $650.000.000 (vigencia 3.4.1. ANEXO 1). NOTA 1: Solo se acepta propuesta en los límites señados en los siguientes rangos. Ofrecimientos de otros valores diferentes serán evaluados con cero (0) puntos), excepto que sea superior al último rango. NOTA 2: Se otorga el máximo puntaje a la propuesta que dentro del rango se aproxime al máximo sublímite requerido y las demas ofertas se calificaran en forma proporcional a la propuesta calificada con el máximo puntaje. | E25: Se califica el aumento adicional del límite asegurado. SIN COBRO DE PRIMA, así:
B26: Rangos para el sublímite por persona | D26: PUNTOS AL MAYOR VALOR DENTRO DEL RANGO | E26: Se califica el aumento adicional del sublímite por persona. | F26: =+D29 -> 3
B27: Límite adicional al básico mayor a $30.000.000 y hasta $50.000.000 | D27: 1.5
B28: Límite adicional al básico mayor a $70.000.000 y hasta $90.000.000 | D28: 2.4
B29: Límite adicional al básico mayor a $100.000.000 y hasta $120.000.000 | D29: 3
B30: Rangos para el sublímite por (vigencia 3.4.1 ANEXO 1). | D30: PUNTOS AL MAYOR VALOR DENTRO DEL RANGO | E30: Se califica el aumento adicional del sublímite (vigencia 3.4.1. ANEXO 1). | F30: =+D33 -> 3
B31: Límite adicional al básico mayor a $300.000.000 y hasta $400.000.000 | D31: 1.5
B32: Límite adicional al básico mayor a $500.000.000 y hasta $700.000.000 | D32: 2.4
B33: Límite adicional al básico mayor a $800.000.000 y hasta $1.000.000.000 | D33: 3
B34: RESPONSABILIDAD CIVIL DERIVADA DE ACTOS TERRORISTAS La aseguradora bajo este amparo se obliga a cubrir los perjuicios patrimoniales y extrapatrimoniales derivados de actos terroristas que le sea imputable por su misionalidad y que causen perjuicios a terceros. | E34: Se califica el del porcentaje del sublímite otorgado | F34: 3
B35: Sublímite mayor al 15% y hasta el 30%: | D35: 1.5
B36: Sublímite mayor al 40% y hasta el 60%: | D36: =1.125*2 -> 2.25
B37: Sublímite mayor al 70% y hasta el 100%: | D37: 3
B38: RESPONSABILIDAD CIVIL DERIVADA DE ACTOS DE LA NATURALEZA La aseguradora bajo este amparo se obliga a cubrir los perjuicios patrimoniales y extrapatrimoniales derivados de actos de la naturaleza. | E38: Se califica el del porcentaje del sublímite otorgado | F38: 3
B39: Sublímite mayor al 15% y hasta el 30%: | D39: 1.5
B40: Sublímite mayor al 40% y hasta el 60%: | D40: =1.125*2 -> 2.25
B41: Sublímite mayor al 70% y hasta el 100%: | D41: 3
B42: MÁXIMO CALIFICACIÓN | F42: =SUM(F19:F41) -> 30 | G42: PUNTAJE TOTAL | H42: =SUM(H19:H34) -> 0
B43: By: Tiger | H43: =+'METODOLOGÍA DE EVALUACIÓN'!G10 -> VERSIÓN: SEP 2026

Sheet G1. COND ADIC. TRANSP VALORES
B3: =+'METODOLOGÍA DE EVALUACIÓN'!B2:G2 -> PARQUES NACIONALES NATURALES DE COLOMBIA - PNNC
B5: FORMATO No. 09 CONDICIONES TÉCNICAS ADICIONALES
B6: GRUPO No. 1
B7: 4. SEGURO DE TRANSPORTE DE VALORES
B8: OBJETO DEL SEGURO
B9: Amparar las pérdidas y los daños materiales causados como consecuencia de los eventos que constituyen los amparos mencionados, por el transporte de dineros en efectivo, títulos valores, cheques, y cualquier otro documento de propiedad del asegurado que pueda ser convertido fácilmente en dinero en efectivo, incluyendo las movilizaciones de dinero en efectivo realizadas por los los funcionarios en comisión y delegados del manejo de las cajas menoresy demás títulos valores, por los cuales PARQUES NACIONALES NATURALES DE COLOMBIA - PNNC, sea o deba ser legalmente responsable.
B10: INFORMACIÓN GENERAL:
B11: TOMADOR: | C11: =+B3 -> PARQUES NACIONALES NATURALES DE COLOMBIA - PNNC | F11: NIT. | G11: =+'G1. COND ADIC. TRDMC'!H11 -> 830.016.624-7
B12: ASEGURADO: | C12: =+C11 -> PARQUES NACIONALES NATURALES DE COLOMBIA - PNNC | F12: NIT. | G12: =+G11 -> 830.016.624-7
B13: BENEFICIARIO: | C13: =+C11 -> PARQUES NACIONALES NATURALES DE COLOMBIA - PNNC | F13: NIT. | G13: =+G11 -> 830.016.624-7
B14: NOTA: | C14: CADA SUBLÍMITE INDICADOS ESTAN CONTEMPLADOS DENTRO DEL LÍMITE ASEGURADO. EXCEPTO LAS CLÁUSULAS DE GASTOS QUE SON EN EXCESO DEL LÍMITE ASEGURADO
B15: CRITERIOS DE EVALUACIÓN:
B16: CONDICIÓN REQUERIDA PARA EVALUACIÓN | D16: CRITERIO DE EVALUACIÓN | E16: PUNTAJE ESTABLECIDO | F16: =+'G1. COND ADIC. RCE'!G17 -> NOMBRE DELPROPONENTE
F17: OFRECIMIENTO DEL OFERENTE | G17: PUNTAJE OBTENIDO
B18: LÍMITE ASEGURADO POR DESPACHO $30.000.000 | D18: Se califica el aumento adicional del límite asegurado sin cobro de prima adicional. | E18: 15 | G18: 15
B19: COMPROMISO PARA EL PAGO DE LAS INDEMNIZACIONES Plazo de diez (10) días hábiles. | D19: Se califica el menor número de días hábiles una vez demostrada ocurrencia y cuantía. | E19: 15 | G19: 15
B20: MÁXIMO CALIFICACIÓN | E20: =SUM(E18:E19) -> 30 | F20: PUNTAJE TOTAL | G20: =SUM(G18:G19) -> 30
B21: By: Tiger | G21: =+'METODOLOGÍA DE EVALUACIÓN'!G10 -> VERSIÓN: SEP 2026

Sheet G1. COND ADIC. TRANSP MCÍAS
B3: =+'METODOLOGÍA DE EVALUACIÓN'!B2:G2 -> PARQUES NACIONALES NATURALES DE COLOMBIA - PNNC
B4: FORMATO No. 09 CONDICIONES TÉCNICAS ADICIONALES
B5: GRUPO No. 1
B6: 5. SEGURO DE TRANSPORTE DE MERCANCÍAS
B7: OBJETO DEL SEGURO
B8: Amparar las pérdidas y los daños materiales causados como consecuencia de los eventos que constituyen los amparos mencionados, en el transporte de cualquier tipo de mercancías nuevas y usadas incluida maquinaría, por cualquier medio de transporte, de los bienes de su propiedad, bajo tenencia, responsabilidad y/o control; propios del giro normal de las actividades de PARQUES NACIONALES NATURALES DE COLOMBIA - PNNC.
B9: INFORMACIÓN GENERAL:
B10: TOMADOR: | C10: =+B3 -> PARQUES NACIONALES NATURALES DE COLOMBIA - PNNC | F10: NIT. | G10: =+'G1. COND ADIC. TRDMC'!H11 -> 830.016.624-7
B11: ASEGURADO: | C11: =+B3 -> PARQUES NACIONALES NATURALES DE COLOMBIA - PNNC | F11: NIT. | G11: =+G10 -> 830.016.624-7
B12: BENEFICIARIO: | C12: =+B3 -> PARQUES NACIONALES NATURALES DE COLOMBIA - PNNC | F12: NIT. | G12: =+G10 -> 830.016.624-7
B13: NOTA: | C13: CADA SUBLÍMITE INDICADOS ESTAN CONTEMPLADOS DENTRO DEL LÍMITE ASEGURADO. EXCEPTO LAS CLÁUSULAS DE GASTOS QUE SON EN EXCESO DEL LÍMITE ASEGURADO
B14: CRITERIOS DE EVALUACIÓN:
B15: CONDICIÓN REQUERIDA PARA EVALUACIÓN | D15: CRITERIO DE EVALUACIÓN | E15: PUNTAJE ESTABLECIDO | F15: =+'G1. COND ADIC. TRANSP VALORES'!F16 -> NOMBRE DELPROPONENTE
F16: OFRECIMIENTO DEL OFERENTE | G16: PUNTAJE OBTENIDO
B17: LÍMITE ASEGURADO POR DESPACHO $80.000.000 | D17: Se califica el aumento adicional del límite asegurado sin cobro de prima adicional. | E17: 15
B18: COMPROMISO PARA EL PAGO DE LAS INDEMNIZACIONES Plazo de diez (10) días hábiles. | D18: Se califica el menor número de días hábiles una vez demostrada ocurrencia y cuantía. | E18: 15
B19: MÁXIMO CALIFICACIÓN | E19: =SUM(E17:E18) -> 30 | F19: PUNTAJE TOTAL | G19: =SUM(G17:G18) -> 0
B20: By: Tiger | G20: =+'G2 COND ADIC. AUTOMÓVILES'!H27 -> VERSIÓN: SEP 2026

Sheet G1. ADICIONALES TR. EQ. Y MAQ.
B3: =+'METODOLOGÍA DE EVALUACIÓN'!B2:G2 -> PARQUES NACIONALES NATURALES DE COLOMBIA - PNNC
B5: FORMATO No. 09 CONDICIONES TÉCNICAS ADICIONALESLES
B6: GRUPO No. 1
B8: 6. SEGURO DE TODO RIESGO EQUIPO Y MAQUINARÍA
B9: OBJETO DEL SEGURO
B10: Amparar las pérdidas o daños materiales que afecten a los Equipos y Maquinarías de propiedad de PARQUES NACIONALES NATURALES DE COLOMBIA - PNNC, o aquellos que se encuentren bajo su control, tenencia, responsabilidad o custodia, ubicados en el territorio nacional contra los daños o pérdidas materiales a consecuencia de cualquier riesgo, tanto por eventos internos o externos, incluyendo las pérdidas consecuenciales por todo concepto dentro o fuera de las instalaciones del asegurado y/o en predios de terceros y los utilizados en desarrollo del objeto social de PARQUES NACIONALES NATURALES DE COLOMBIA - PNNC.
B11: INFORMACIÓN GENERAL:
B12: TOMADOR: | C12: =+B3 -> PARQUES NACIONALES NATURALES DE COLOMBIA - PNNC | G12: NIT. | H12: =+'G1. COND ADIC. TRDMC'!H11 -> 830.016.624-7
B13: ASEGURADO: | C13: =+C12 -> PARQUES NACIONALES NATURALES DE COLOMBIA - PNNC | G13: NIT. | H13: =+H12 -> 830.016.624-7
B14: BENEFICIARIO: | C14: =+C12 -> PARQUES NACIONALES NATURALES DE COLOMBIA - PNNC | G14: NIT. | H14: =+H13 -> 830.016.624-7
B15: NOTA: | C15: CADA SUBLÍMITE INDICADOS ESTAN CONTEMPLADOS DENTRO DEL LÍMITE ASEGURADO. EXCEPTO LAS CLÁUSULAS DE GASTOS QUE SON EN EXCESO DEL LÍMITE ASEGURADO
B16: CRITERIOS DE EVALUACIÓN:
B17: CONDICIÓN REQUERIDA PARA EVALUACIÓN | E17: CRITERIO DE EVALUACIÓN | F17: PUNTAJE ESTABLECIDO | G17: =+'G1. COND ADIC. TRANSP MCÍAS'!F15 -> NOMBRE DELPROPONENTE
H18: PUNTAJE OBTENIDO
B19: GASTOS ADICIONALES. Sublímite por la suma de $100.000.000, en exceso del valor asegurado, sin aplicación de deducible y combinado para los siguientes gastos y coberturas. | E19: Se califica el aumento adicional del sublímite sin cobro de prima adicional y a partir de $20.000.000 adicionales. | F19: 10
B20: RENUNCIA A LA APLICACIÓN DE SEGURO INSUFICIENTE Y/O INFRASEGURO Siempre y cuando la diferencia entre el valor asegurado y el valor asegurable no sea superior al 25%. | E20: Se califica en Condiciones Adicionales el aumento adicional del porcentaje ofrecido. Hasta un máximo del 40% | F20: 10 | G20: |ZSDFAFD
B21: CLÁUSULA DE NO TASACIÓN EN CASO DE SINIESTRO Sublímite de hasta $100.000.000, por siniestro. | E21: Se califica el aumento adicional del sublímite Hasta un monto total de $200.000.000. Incluido el básico | F21: 10
B22: MÁXIMO CALIFICACIÓN | F22: =SUM(F19:F21) -> 30 | G22: PUNTAJE TOTAL | H22: =SUM(H19:H21) -> 0
B23: By: Tiger | H23: =+'METODOLOGÍA DE EVALUACIÓN'!G10 -> VERSIÓN: SEP 2026

Sheet G1. CASCO BARCO
B3: =+'METODOLOGÍA DE EVALUACIÓN'!B2:G2 -> PARQUES NACIONALES NATURALES DE COLOMBIA - PNNC
B5: FORMATO No. 09 CONDICIONES TÉCNICAS ADICIONALES
B6: GRUPO No. 1
B7: 7. SEGURO DE CASCO BARCO
B8: OBJETO DEL SEGURO
B9: Amparar los daños y/o pérdidas y gastos en que tenga que incurrir PARQUES NACIONALES NATURALES DE COLOMBIA - PNNC, a consecuencia de los riesgos a que está expuesta en el giro de las actividades desarrolladas con el equipo marítimo y fluvial y demás embarcaciones incluyendo sus equipos y accesorios, de su propiedad, bajo tenencia o control o por las que sea legalmente responsable la Entidad, así como los daños a bienes y/o lesiones y/o muerte de terceros, por causa de accidentes en el giro propio de su misionalidad.
B10: INFORMACIÓN GENERAL:
B11: TOMADOR: | C11: =+B3 -> PARQUES NACIONALES NATURALES DE COLOMBIA - PNNC | G11: NIT. | H11: =+'G1. COND ADIC. TRDMC'!H11 -> 830.016.624-7
B12: ASEGURADO: | C12: =+C11 -> PARQUES NACIONALES NATURALES DE COLOMBIA - PNNC | G12: NIT. | H12: =+H11 -> 830.016.624-7
B13: BENEFICIARIOS: | C13: TERCEROS AFECTADOS
B14: NOTA: | C14: CADA SUBLÍMITE INDICADOS ESTAN CONTEMPLADOS DENTRO DEL LÍMITE ASEGURADO. EXCEPTO LAS CLÁUSULAS DE GASTOS QUE SON EN EXCESO DEL LÍMITE ASEGURADO
B15: CRITERIOS DE EVALUACIÓN:
B16: CONDICIÓN REQUERIDA PARA EVALUACIÓN | E16: CRITERIO DE EVALUACIÓN | F16: PUNTAJE ESTABLECIDO | G16: =+'G1. ADICIONALES TR. EQ. Y MAQ.'!G17 -> NOMBRE DELPROPONENTE
G17: OFRECIMIENTO DEL OFERENTE | H17: PUNTAJE OBTENIDO
B18: PANDI. $1.005.000.000 (vigencia 8.4. ANEXO 1). | E18: Se califica el aumento adicional del límite asegurado. A partir de un monto mínimo de $50.000.000 SIN COBRO DE PRIMA | F18: 15
B19: GASTOS MÉDICOS (sin aplicación de deducibles). Sublímite $50.000.000 evento / $150.000.000 (vigencia 8.4. ANEXO 1). NOTA 1: Solo se acepta propuesta en los límites señados en los siguientes rangos. Ofrecimientos de otros valores diferentes serán evaluados con cero (0) puntos), excepto que sea superior al último rango. NOTA 2: Se otorga el máximo puntaje a la propuesta que dentro del rango se aproxime al máximo sublímite requerido y las demas ofertas se calificaran en forma proporcional a la propuesta calificada con el máximo puntaje. | E19: Se califica el aumento adicional del límite asegurado. SIN COBRO DE PRIMA, así:
B20: Rangos para el sublímite por evento | D20: PUNTOS AL MAYOR VALOR DENTRO DEL RANGO | E20: Se califica el aumento adicional del sublímite por evento. | F20: =+D23 -> 5 | G20: |ZSDFAFD
B21: Límite adicional al básico mayor a $10.000.000 y hasta $15.000.000 | D21: 1
B22: Límite adicional al básico mayor a $20.000.000 y hasta $30.000.000 | D22: 3
B23: Límite adicional al básico mayor a $40.000.000 y hasta $50.000.000 | D23: 5
B24: Rangos para el sublímite por (vigencia 8.4. ANEXO 1). | D24: PUNTOS AL MAYOR VALOR DENTRO DEL RANGO | E24: Se califica el aumento adicional del sublímite (vigencia 8.4. ANEXO 1). | F24: =+D27 -> 5
B25: Límite adicional al básico mayor a $30.000.000 y hasta $40.000.000 | D25: 1
B26: Límite adicional al básico mayor a $50.000.000 y hasta $60.000.000 | D26: 3
B27: Límite adicional al básico mayor a $70.000.000 y hasta $80.000.000 | D27: 5
B28: RENUNCIA A LA APLICACIÓN DE SEGURO INSUFICIENTE Y/O INFRASEGURO Siempre y cuando la diferencia entre el valor asegurado y el valor asegurable no sea superior al 15%. | E28: Se califica en Condiciones Adicionales el aumento adicional del porcentaje ofrecido. Hasta un máximo del 40% incluido el básico | F28: 5
B29: MÁXIMO CALIFICACIÓN | F29: =SUM(F18:F28) -> 30 | G29: PUNTAJE TOTAL | H29: =SUM(H18:H28) -> 0
B30: By: Tiger | H30: =+'METODOLOGÍA DE EVALUACIÓN'!G10 -> VERSIÓN: SEP 2026

Sheet G2 COND ADIC. AUTOMÓVILES
B4: =+'METODOLOGÍA DE EVALUACIÓN'!B2:G2 -> PARQUES NACIONALES NATURALES DE COLOMBIA - PNNC
B6: FORMATO No. 09 CONDICIONES TÉCNICAS ADICIONALES
B7: GRUPO No. 2
B8: 8. SEGURO DE AUTOMÓVILES
B9: OBJETO DEL SEGURO
B10: Amparar a PARQUES NACIONALES NATURALES DE COLOMBIA - PNNC, por los perjuicios que cause patrimonial (daños materiales incluyendo daño emergente y lucro cesante) y extrapatrimonialmnte (incluidos el daño moral, daño fisiológico y daño a la vida en relación), al igual que los daños a bienes o lesiones o muerte a terceros. De igual forma se amparan los daños y/o pérdidas que afecten a los vehículos de su propiedad, bajo tenencia, control o por los que sea legalmente responsable o incluidos aquellos recibidos por parte de otras entidades para el desarrollo misional de PNNC.
B11: INFORMACIÓN GENERAL:
B12: TOMADOR: | C12: =+B4 -> PARQUES NACIONALES NATURALES DE COLOMBIA - PNNC | G12: NIT. | H12: =+'G1. COND ADIC. TRDMC'!H11 -> 830.016.624-7
B13: ASEGURADO: | C13: =+C12 -> PARQUES NACIONALES NATURALES DE COLOMBIA - PNNC | G13: NIT. | H13: =+H12 -> 830.016.624-7
B14: BENEFICIARIO: | C14: =+C12 -> PARQUES NACIONALES NATURALES DE COLOMBIA - PNNC | G14: NIT. | H14: =+H12 -> 830.016.624-7
B15: NOTA: | C15: CADA SUBLÍMITE INDICADOS ESTAN CONTEMPLADOS DENTRO DEL LÍMITE ASEGURADO. EXCEPTO LAS CLÁUSULAS DE GASTOS QUE SON EN EXCESO DEL LÍMITE ASEGURADO.
B16: CRITERIOS DE EVALUACIÓN:
B17: CONDICIÓN REQUERIDA PARA EVALUACIÓN | E17: CRITERIO DE EVALUACIÓN | F17: PUNTAJE ESTABLECIDO | G17: =+'G1. CASCO BARCO'!G16 -> NOMBRE DELPROPONENTE
G18: OFRECIMIENTO DEL OFERENTE | H18: PUNTAJE OBTENIDO
B19: INCREMENTO DEL LÍMITE BÁSICO PARA LA COBERTURA DE RESPONSABILIDAD CIVIL EXTRACONTRACTUAL $4.300.000.000 (vigencia 7.4. ANEXO 1). NOTA: Se califica a partir de un límite adicional de $500.000.000 | E19: Se califica el aumento adicional del límite asegurado. SIN COBRO DE PRIMA | F19: 12
B20: GASTOS DE TRANSPORTE POR PÉRDIDAS TOTALES (Daños y/o Hurto) (esta condición no aplica para motos y vehiculos pesados.) Limite de $40.000 diarios y hasta (90) días | E20: Se califica el aumento adicional del monto de los gastos de transporte. | F20: 3
B21: GASTOS DE BODEGAJE Limite de $5.000.000 | E21: Se califica el aumento adicional del monto de los gastos de bodegaje. | F21: 4
B22: Límite mínimo adicional al básico mayor a $500.000
B23: ANTICIPO DE INDEMNIZACIÓN DEL 80%. NOTA: Si el aumento adicional del porcentaje de anticipo es condicionado a la demostración de la ocurrencia y cuantía, se califica con cero (0) puntos este factor. | E23: Se califica el aumento adicional del porcentaje ofrecido. Bajo la definición del texto de la condición obligatoria y sin estar condicionada a la demostración de ocurrencia y cuantía. | F23: 5
B24: GASTOS DE GRÚA PARA VEHÍCULOS DE TERCEROS, AFECTADOS EN ACCIDENTES EN LOS CUALES SEA EVIDENTE LA RESPONSABILIDAD DEL ASEGURADO. Se paga por rembolso el servicio prestado de grúa al tercero. | E24: Se califica el otorgamiento de este servicio. | F24: 4
B25: VERIFICACIÓN CARACTERÍSTICAS DE LOS VEHÍCULOS ASEGURADOS FRENTE A CÓDIGO FASECOLDA Queda entendido, convenido y aceptado que la aseguradora se obliga a validar las características del vehículo asegurado en forma directa o a través de una firma externa especializada en reconocimiento de los vehículos relacionados por la Entidad, con expertos en la materia, tales como: marca, modelo, cilindraje o capacidad, carrocería, líneas, cabinas, y demás que consideren pertinentes, de tal forma que correspondan en un todo con el código exacto de FASECOLDA. Esta condición no aplica para vehículos con valor admitido. | E25: Se califica el ofrecimiento de este servicio | F25: 2
B26: MÁXIMO CALIFICACIÓN | F26: =SUM(F19:F25) -> 30 | G26: PUNTAJE TOTAL | H26: =SUM(H19:H25) -> 0
B27: By: Tiger | H27: =+'G1. COND ADIC. RCE'!H43 -> VERSIÓN: SEP 2026

Sheet G3 . COND ADIC. RCSP
B3: =+'METODOLOGÍA DE EVALUACIÓN'!B2:G2 -> PARQUES NACIONALES NATURALES DE COLOMBIA - PNNC
B5: FORMATO No. 09 CONDICIONES TÉCNICAS ADICIONALES
B6: GRUPO No. 3
B7: 9. SEGURO DE RESPONSABILIDAD CIVIL SERVIDORES PÚBLICOS
B8: OBJETO DEL SEGURO
B9: Amparar los perjuicios patrimoniales causados a terceros y/o a PARQUES NACIONALES NATURALES DE COLOMBIA, provenientes de la responsabilidad civil de los servidores públicos y/o funcionarios con regímenes de responsabilidad similares a los de los servidores públicos, en el desempeño de las funciones de los cargos asegurados, por toda acción u omisión, correcta o incorrecta, culposa, real o presunta, así como los perjuicios que les sean imputable y los ocasionados por juicios de responsabilidad fiscal.
B10: Amparar los gastos de defensa (tales como, pero sin limitarse a: honorarios profesionales de abogados defensores, gastos y costas procesales y cauciones judiciales) según los límites por etapas procesales establecidos en este documento, en todo tipo de procesos, incluidos, pero sin limitarse a: procesos fiscales, procesos disciplinarios, procesos penales siempre que se trate de delitos no dolosos, procesos civiles, procesos administrativos (incluidos los de reparación directa); indagaciones, investigaciones preliminares, procesos internos y cualquier otro en los que se discuta la responsabilidad correspondiente a los cargos asegurados y en general los incurridos para defenderse en cualquier tipo de investigación o proceso adelantados por organismos oficial de vigilancia y control o entes de investigación según los límites por: tipos de procesos y etapas procesales establecidos en este documento.
B11: INFORMACIÓN GENERAL:
B12: TOMADOR: | C12: =+B3 -> PARQUES NACIONALES NATURALES DE COLOMBIA - PNNC | G12: NIT. | H12: =+'G1. COND ADIC. TRDMC'!H11 -> 830.016.624-7
B13: ASEGURADO: | C13: PARQUES NACIONALES NATURALES DE COLOMBIA Y/O CARGOS ASEGURADOS | G13: NIT. | H13: =+H12 -> 830.016.624-7
B14: BENEFICIARIO: | C14: PARQUES NACIONALES NATURALES DE COLOMBIA Y/O CARGOS ASEGURADOS Y/O TERCEROS AFECTADOS | G14: NIT. | H14: =+H12 -> 830.016.624-7
B15: CRITERIOS DE EVALUACIÓN:
B16: CONDICIÓN REQUERIDA PARA EVALUACIÓN | E16: CRITERIO DE EVALUACIÓN | F16: PUNTAJE ESTABLECIDO | G16: =+'G2 COND ADIC. AUTOMÓVILES'!G17 -> NOMBRE DELPROPONENTE
G17: OFRECIMIENTO DEL OFERENTE | H17: PUNTAJE OBTENIDO
B18: INCREMENTO DEL LÍMITE BÁSICO PARA LA COBERTURA DE PERJUICIOS O DETRIMENTO PATRIMONIAL. | E18: Se califica el aumento adicional del límite asegurado, únicamente relacionados en la tabla de rangos en la condición requerida para la evaluación. SIN COBRO DE PRIMA | F18: =+D23 -> 3
B19: Límite de $2.600.000.000 (vigencia 9.4. ANEXO 1). Incluido los Gastos de Defensa. NOTA: Solo se acepta propuesta en los límites señados en los siguientes rangos. Ofrecimientos de otros valores diferentes serán evaluados con cero (0) puntos), excepto que sea superior al último rango. | D19: PUNTOS
B20: Ofrecimiento adicional superior a $400.000.000 y hasta $600.000.000 | D20: 0.5
B21: Ofrecimiento adicional superior a $700.000.000 y hasta $1.000.000.000 | D21: 1
B22: Ofrecimiento adicional superior a $1.5000.000.000 y hasta $2.000.000.000 | D22: 2
B23: Ofrecimiento adicional superior a $3.000.000.000 y hasta $5.000.000.000 | D23: 3
B24: INCREMENTO DEL LÍMITE BÁSICO PARA LA COBERTURA DE GASTOS DE DEFENSA. Incluidos en el límite de Perjuicios o Detrimento Patrimonial sin cobro de prima. NOTA: Solo se acepta propuesta en los límites señados en los siguientes rangos. Ofrecimientos de otros valores diferentes serán evaluados con cero (0) puntos), excepto que sea superior al último rango. | E24: Se califica el aumento adicional del límite asegurado, únicamente relacionados en la tabla de rangos en la condición requerida para la evaluación. SIN COBRO DE PRIMA | F24: =+D30 -> 10
B25: Límite de $1.705.000.000 (vigencia 9.4. ANEXO 1). Incluidos en el límite de Perjuicios o Detrimento Patrimonial sin cobro de prima. | D25: PUNTOS
B26: Ofrecimiento adicional de $100.000.000 al límite básico. | D26: 2
B27: Ofrecimiento adicional de $300.000.000 al límite básico. | D27: 5
B28: Ofrecimiento adicional de $500.000.000 al límite básico. | D28: 6
B29: Ofrecimiento adicional de $800.000.000 al límite básico. | D29: 8
B30: Ofrecimiento adicional de $1.000.000.000 al límite básico. | D30: 10
B31: INCREMENTO DEL SUBLÍMITE DE GASTOS DE DEFENSA EN LOS PROCESOS DE INDAGACIÓN O INVESTIGACIONES PRELIMINARES o INDAGACIONES PREVIAS Y EN LA VINCULACIÓN PROCESAL HASTA FALLO QUE HAGA TRANSITO A COSA JUZGADA Incluidos en el límite de Perjuicios o Detrimento Patrimonial sin cobro de prima. NOTA 1: Solo se acepta propuesta en los límites señados en los siguientes rangos. Ofrecimientos de otros valores diferentes serán evaluados con cero (0) puntos), excepto que sea superior al último rango. | E31: Se califica el aumento adicional del límite asegurado conforme los valores indicados en los rangos. Salvo que sea superior al último rango para lo cual se calificara con el mayor puntaje del rango y los demás por regla de tres SIN COBRO DE PRIMA | F31: =+D36 -> 8
B32: SUBLÍMITE POR CARGO ASEGURADO
B33: El sublímite ofertado debe ser una cifra única aplicable para cada uno de los cargos asegurados | D33: PUNTOS
B34: Límite adicional al básico: superior a $20.000.000 y hasta $40.000.000 | D34: 2
B35: Límite adicional al básico: superior a $45.000.000 y hasta $60.000.000 | D35: 4
B36: Límite adicional al básico: superior a $65.000.000 y hasta $100.000.000 | D36: 8
B37: ANTICIPO DE INDEMNIZACIÓN PARA EL PAGO DE HONORARIOS DEL 50%. NOTA: Si el aumento adicional del porcentaje de anticipo es condicionado a la demostración de la ocurrencia y cuantía, se califica con cero (0) puntos este factor. | E37: Se califica el aumento adicional del porcentaje ofrecido. Bajo la definición del texto de la condición obligatoria y sin estar condicionada a la demostración de ocurrencia y cuantía. | F37: 3
B38: NOTIFICACIÓN DE HECHOS O CIRCUNSTANCIAS. Si durante la vigencia de la póliza o del periodo extendido de reclamaciones, un asegurado o la entidad tomadora tuvieren conocimiento de cualquier hecho o circunstancia que razonablemente pudiera dar lugar en el futuro, a un siniestro o a generar una reclamación, los asegurados y/o la entidad tomadora, según fuere el caso, darán aviso a la compañía de seguros antes de la terminación de la vigencia de la póliza. En caso que con posterioridad a la terminación de la vigencia de la póliza efectivamente se formalice una reclamación derivada de los hechos o circunstancias que fueron notificados a la compañía de seguros en la forma establecida en esta cláusula, dicha reclamación se considerará presentada por primera vez en el mismo momento en que los hechos y circunstancias que la originaron fueron debidamente notificados o avisados a la aseguradora, razón por la cual la cobertura procederá bajo la póliza que se encontraba vigente en ese momento. | E38: Se califica el otorgamiento de esta condición | F38: 2
B39: EXTENSIÓN DE COBERTURA PARA PAGO DE MULTAS Y SANCIONES ADMINISTRATIVAS O TRIBUTARIAS (incluido en el límite de detrimento patrimonial) Se amparan los pagos de multas y sanciones de carácter administrativo o tributarias o indemnizaciones impuestas por cualquier organismo de control, siempre que la acción que da origen a la multa o sanción administrativa, tributaria o indemnización, que se derive de un acto incorrecto (error, omisión o negligencia) cometido sin dolo. Se extiende esta condición a los gastos en los que se discuta la imposición de multas y sanciones de carácter administrativo y tributario contra algún funcionario asegurado. | E39: Se califica el otorgamiento de esta condición | F39: 2
B40: Ofrecimiento de un sublímite de $50.000.000 evento /a gregado anual | D40: 0.5
B41: Ofrecimiento de un sublímite de $75.000.000 evento /a gregado anual | D41: 1
B42: Ofrecimiento de un sublímite de $100.000.000 evento /a gregado anual | D42: 1.5
B43: Ofrecimiento de un sublímite de $150.000.000 evento /a gregado anual | D43: 1.75
...

Sheet G4. COND ADIC. DRONES
B3: =+'METODOLOGÍA DE EVALUACIÓN'!B2:G2 -> PARQUES NACIONALES NATURALES DE COLOMBIA - PNNC
B5: =+'G2 COND ADIC. AUTOMÓVILES'!B6:H6 -> FORMATO No. 09 CONDICIONES TÉCNICAS ADICIONALES
B6: GRUPO No. 4 | I6: .
B7: 10. SEGURO DE CASCO AVIACIÓN (DRONES)
B8: OBJETO DEL SEGURO
B9: Bajo esta póliza se otorga amparo en la modalidad de todo riesgo por las pérdidas y/o daños materiales (incluida la desaparición) de las aeronaves no tripuladas-Drones (en operación o reposo) de su propiedad o de aquellas que esten bajo su responsabilidad, tenencia y/o control, y en general los recibidos a cualquier titulo y/o por los que tenga algún interés asegurable, al igual que la responsabilidad civil causada frente a terceros, dentro del territorio nacional o en el exterior. Acorde con las disposiciones legales que se encuentran en la Resolución que rige la aeronavegabilidad de los Drones en Colombia es la RAC 100, que fue adoptado mediante Resolución número 01983 del 27 de septiembre 2023 y publicada en el Diario Oficial No. 52.531 del 27 de septiembre de 2023, y se incorpora a los Reglamentos Aeronáuticos de Colombia – RAC
B10: INFORMACIÓN GENERAL:
B11: TOMADOR: | C11: =+B3 -> PARQUES NACIONALES NATURALES DE COLOMBIA - PNNC | G11: NIT. | H11: =+'G2 COND ADIC. AUTOMÓVILES'!H12 -> 830.016.624-7
B12: ASEGURADO: | C12: =+C11 -> PARQUES NACIONALES NATURALES DE COLOMBIA - PNNC | G12: NIT. | H12: =+H11 -> 830.016.624-7
B13: BENEFICIARIO: | C13: =+C12 -> PARQUES NACIONALES NATURALES DE COLOMBIA - PNNC | G13: NIT. | H13: =+H11 -> 830.016.624-7
B14: NOTA: | C14: CADA SUBLÍMITE OFRECIDO EN FORMA ADICIONAL QUEDA CONTEMPLADO DENTRO DEL LÍMITE ASEGURADO.
B15: CRITERIOS DE EVALUACIÓN:
B16: CONDICIÓN REQUERIDA PARA EVALUACIÓN | E16: CRITERIO DE EVALUACIÓN | F16: PUNTAJE ESTABLECIDO | G16: =+'G3 . COND ADIC. RCSP'!G16 -> NOMBRE DELPROPONENTE
G17: OFRECIMIENTO DEL OFERENTE | H17: PUNTAJE OBTENIDO
B18: LÍMITE AGREGADO DE INDEMNIZACIÓN Sublímite de $100.000.000 (vigencia 10.7. ANEXO 1) El cual se aplicará como agregado en las reclamaciones presentadas bajo esta póliza (excepto para Terremoto, HMACC, AMIT Y Sabotaje) es decir, la aseguradora indemnizará los montos de los deducibles a cargo del límite ofertado, hasta agotar el mismo. El límite de los $100.000.000 se agota así: (i) Para los siniestros que son superiores al valor del deducible, con los valores de los deducibles que se habrían aplicado en caso de no otorgarse esta cobertura. (ii) Para los siniestros que son inferiores al valor del deducible, con el valor indemnizado por la compañía de seguros. Una vez agotado el límite, la aseguradora aplicará los deducibles establecidos para los amparos correspondientes. | E18: Se califica el ofrecimiento de esta cláusula | F18: 15
B19: NO APLICACIÓN DE GARANTÍAS Queda expresamente acordado y aceptado que la cobertura otorgada bajo la presente póliza no queda sujeta al cumplimiento de ningún tipo de garantía por parte de la entidad asegurada. | E19: Se califica el ofrecimiento de esta condición | F19: 15
B20: MÁXIMO CALIFICACIÓN | F20: =SUM(F18:F19) -> 30 | G20: PUNTAJE TOTAL | H20: =SUM(H18:H19) -> 0
B21: By: Tiger | H21: =+'G2 COND ADIC. AUTOMÓVILES'!H27 -> VERSIÓN: SEP 2026

Sheet G5 . COND ADIC. AP 
B3: =+'G1. CASCO BARCO'!B3:H3 -> PARQUES NACIONALES NATURALES DE COLOMBIA - PNNC
B5: FORMATO No. 09 CONDICIONES TÉCNICAS ADICIONALES
B6: GRUPO No. 5
B7: 12. SEGURO DE ACCIDENTES PERSONALES
B8: OBJETO DEL SEGURO
B9: Seguro colectivo que ampara a los Guardaparques Voluntarios y Comunitarios al servicios de PARQUES NACIONALES NATURALES DE COLOMBIA-PNNC, los 365 dias de cobertura de la póliza durante las 24 horas del día. El alcance de esta póliza del programa de PNNC en el cual participan en forma espontánea con voluntad de servicio las personas que desean aportar desde sus conocimientos, habilidades y cualidades a la construcción de país, además de propiciar un ejercicio de convivencia y solidaridad cque se proyecta hacia la paz como forma de vida y sensibiliza frente a la necesidad de conservar los ecosistemas representativos de la nación.
B10: INFORMACIÓN GENERAL:
B11: TOMADOR: | C11: =+B3 -> PARQUES NACIONALES NATURALES DE COLOMBIA - PNNC | F11: NIT. | G11: =+'G4. COND ADIC. DRONES'!$H$11 -> 830.016.624-7
B12: ASEGURADO: | C12: GUARDAPARQUES VOLUNTARIOS Y COMUNITARIOS DE LOS PARQUES NACIONALES NATURALES DE COLOMBIA | F12: NIT. | G12: VARIOS
B13: BENEFICIARIO: | C13: LOS DESIGNADOS POR EL ASEGURADO / EN SU DEFECTO LOS DE LEY | F13: NIT. | G13: VARIOS
B14: NOTA: | C14: CADA SUBLÍMITE O GASTOS OFRECIDOS EN FORMA ADICIONAL QUEDA CONTEMPLADO DENTRO DEL LÍMITE ASEGURADO.
B15: CRITERIOS DE EVALUACIÓN:
B16: CONDICIÓN REQUERIDA PARA EVALUACIÓN | D16: CRITERIO DE EVALUACIÓN | E16: PUNTAJE ESTABLECIDO | F16: =+'G4. COND ADIC. DRONES'!G16 -> NOMBRE DELPROPONENTE
F17: OFRECIMIENTO DEL OFERENTE | G17: PUNTAJE OBTENIDO
B18: MUERTE ACCIDENTAL POR CUALQUIER CAUSA Limite $59.000.000 por asegurado | D18: Se califica el aumento adicional del límite asegurado. SIN COBRO DE PRIMA | E18: 5
B19: INCAPACIDAD TOTAL Y PERMANENTE ACCIDENTAL Límite asegurado: $59.000.000 | D19: Se califica el aumento adicional del límite asegurado. SIN COBRO DE PRIMA | E19: 5
B20: GASTOS MÉDICOS, QUIRURGICOS, FARMACÉUTICOS Y HOSPITALARIOS POR ACCIDENTE INCLUIDOS EN EL EXTERIOR DEL PAÍS Límite asegurado: $20.000.000 | D20: Se califica el aumento adicional del límite asegurado. SIN COBRO DE PRIMA | E20: 5
B21: GASTOS DE TRASLADO POR ACCIDENTE Límite asegurado: $20.000.000 | D21: Se califica el aumento adicional del límite asegurado. SIN COBRO DE PRIMA | E21: 5
B22: AUXILIO FUNERARIO POR MUERTE ACCIDENTAL Límite asegurado: $15.000.000 | D22: Se califica el aumento adicional del límite asegurado. SIN COBRO DE PRIMA | E22: 4
B23: REHABILITACIÓN INTEGRAL POR INVALIDEZ DE ORIGEN ACCIDENTAL Límite asegurado: $9.000.000 | D23: Se califica el aumento adicional del límite asegurado. SIN COBRO DE PRIMA | E23: 4
B24: RIESGO BIOLÓGICO Límite asegurado: $20.000.000 | D24: Se califica el aumento adicional del límite asegurado. SIN COBRO DE PRIMA | E24: 2
B25: MÁXIMO CALIFICACIÓN | E25: =SUM(E18:E24) -> 30 | F25: PUNTAJE TOTAL | G25: =SUM(G18:G24) -> 0
B26: By: Tiger | G26: =+'G3 . COND ADIC. RCSP'!H50 -> VERSIÓN: SEP 2026
