Workbook

Sheet G1. CALIF. DEDUCIBLES TRDM
B2: PARQUES NACIONALES NATURALES DE COLOMBIA - PNNC
B3: FORMATO No. 11 EVALUACIÓN DE DEDUCIBLES
B4: GRUPO No. 1
B5: 1. SEGURO DE TODO RIESGO DAÑOS MATERIALES COMBINADOS
B6: OBJETO DEL SEGURO
B7: Amparar, bajo la modalidad de Todo Riesgo Daños Materiales, las pérdidas, daños materiales o desaparición que sufran los bienes e intereses de propiedad de PARQUES NACIONALES NATURALES DE COLOMBIA, así como aquellos por los cuales sean o lleguen a ser legalmente responsables, ubicados en cualquier parte de territorio nacional o internacional, por cualquier causa no expresamente excluida en este Anexo Técnico. Las exclusiones serán taxativas y de interpretación restrictiva.
B8: INFORMACIÓN GENERAL:
B9: TOMADOR: | C9: =+B2 -> PARQUES NACIONALES NATURALES DE COLOMBIA - PNNC | I9: NIT. | J9: 830.016.624-7
B10: ASEGURADO: | C10: =+C9 -> PARQUES NACIONALES NATURALES DE COLOMBIA - PNNC | I10: NIT. | J10: =+J9 -> 830.016.624-7
B11: BENEFICIARIO: | C11: =+C9 -> PARQUES NACIONALES NATURALES DE COLOMBIA - PNNC | I11: NIT. | J11: =+J9 -> 830.016.624-7
B12: CRITERIOS DE EVALUACIÓN:
B13: Los criterios establecidos tienen como objeto que la Entidad pueda obtener los mejores deducibles que le permitan lograr la mayor indemnización posible, frente a las pérdidas que pueda sufrir derivadas de un evento súbito e imprevisto que no depende de la voluntad del asegurado.
B14: DEDUCIBLES ACTUALES Y MÁXIMOS ACEPTABLES:
B15: Actualmente PARQUES NACIONALES NATURALES DE COLOMBIA, tiene únicamente los siguientes deducibles aplicables:
B16: TERREMOTO, TEMBLOR, ERUPCION VOLCANICA: | E16: 4,0% DEL VALOR DE LA PÉRDIDA MÍNIMO 5 SMMLV
B17: ACTOS MAL INTENCIONADOS DE TERCEROS ASONADA, MOTÍN, CONMOCIÓN CIVIL O POPULAR Y HUELGA (INCLUIDO TERRORISMO Y SABOTAJE). | E17: 2,0% DEL VALOR DE LA PÉRDIDA MÍNIMO 10 SMMLV
B18: HURTO Y HURTO CALIFICADO | E18: 2,0% DEL VALOR DE LA PÉRDIDA MÍNIMO 10 SMMLV
B19: ROTURA DE MAQUINARÍA | E19: 2,0% DEL VALOR DE LA PÉRDIDA MÍNIMO 8 SMMLV
B20: DEMÁS EVENTOS Y/O AMPAROS | E20: 4,0% DEL VALOR DE LA PÉRDIDA MÍNIMO 10 SMMLV
B21: PARÁMETROS PARA LA CALIFICACIÓN
B22: Para calificación del deducible se realizará aplicando los criterios aquí indicados y los puntajes señalados en las tablas de rangos relacionadas en estas.
B23: CALIFICACIÓN APLICABLE AL AMPARO DE TERREMOTO, TEMBLOR Y/O ERUPCIÓN VOLCÁNICA
B24: Las aseguradoras deben presentar únicamente propuestas de deducibles aplicables sobre el valor asegurado y/o valor asegurable, DEL ITEM AFECTADO DENTRO DEL PREDIO ASEGURADO para el amparo de Terremoto, temblor y/o erupción volcánica; propuestas que ofrezcan sobre el valor asegurado TOTAL y/o valor asegurable TOTAL, SERÁN OBJETO DE RECHAZO.
B25: De acuerdo con lo anterior y para los fines pertinentes de deducible y a efectos de la determinación del “valor asegurado o asegurable del ITEM AFECTADO DENTRO DEL PREDIO ASEGURADO”, se considerarán las siguientes definiciones:
B26: DEFINICIONES (AJUSTAR SEGÚN LAS CARACTERÍSTICAS DE LOS BIENES A ASEGURAR) | E26: PREDIO ASEGURADO Es el sitio de ocurrencia del siniestro donde la Entidad lleva a cabo actividades y en el cual se encuentran contenidos los bienes asegurados, ya sea en uno o varios edificios o a la intemperie, si están diseñados para ello.
E27: ÍTEM AFECTADO Corresponde a la agrupación de bienes de iguales o similares características, tales como: Edificios, bienes muebles, equipos eléctricos, equipos electrónicos, maquinaria, equipo, mercancías, dineros y otros bienes de la Entidad en alcance de la definición establecida en las Anexo No. 1 Condiciones Obligatorias (Mínimas Técnicas).
E28: VALOR ASEGURADO O ASEGURABLE DEL ITEM AFECTADO DENTRO DEL PREDIO ASEGURADO Corresponde al monto asegurado o asegurable de los bienes contenidos en cada predio; es decir, los bienes correspondientes a los ítems de: Edificios, bienes muebles, equipos eléctricos, equipos electrónicos, maquinaria, equipo, mercancías, dineros y otros bienes de la Entidad en alcance de la definición establecida en las Anexo No. 1 Condiciones Obligatorias (Mínimas Técnicas).
E29: Se aclara que en caso de siniestro por pérdida o daño, que afecte solo algunos de los items antes citados, el valor asegurado o valor asegurable considerado para la aplicación del deducible corresponderá solamente al item o ítems correspondientes a los bienes afectados.
B30: TABLA DE CALIFICACIÓN
B32: Para efectos de la evaluación, se tendrán los siguientes ítems y puntajes: | F32: PUNTOS
B33: TERREMOTO, TEMBLOR Y/O ERUPCIÓN VOLCÁNICA: | F33: 1
B34: ACTOS MAL INTENCIONADOS DE TERCEROS ASONADA, MOTÍN, CONMOCIÓN CIVIL O POPULAR Y HUELGA (INCLUIDO TERRORISMO Y SABOTAJE). | E34: 4 | F34: 1
B35: HURTO Y HURTO CALIFICADO | E35: 2 | F35: 4
B36: ROTURA DE MAQUINARÍA | E36: 2 | F36: 2
B37: DEMÁS EVENTOS Y/O AMPAROS | E37: 2 | F37: 2
B38: TOTAL PUNTOS | F38: =SUM(F33:J37) -> 10
B39: NOTA: Para efectos de la evaluación y en aquellas tablas en los cuales se tengan rangos, en caso que el oferente indique "SE OTORGA" ó "SI" u otra expresión que implica que si esta otorgando el deducible, la Entidad entenderá que estos deducibles fueron ofrecidos con el valor del MÍNIMO RANGO y por lo tanto se asignará el puntaje respectivo de este rango y la aseguradora en caso de ser adjudicada su propuesta, expedirá la póliza con las condiciones mínimas de ese criterio en particular.
B40: 1- TERREMOTO, TEMBLOR Y/O ERUPCIÓN VOLCÁNICA: un (1) punto | I40: NOMBRE DEL PROPONENTE
B41: RANGO DEL DEDUCIBLES PORCENTUAL | E41: PUNTAJE SOBRE EL VALOR DE LA PERDIDA | I41: DEDUCIBLE OFERTADO | J41: PUNTOS OBTENIDOS
B42: Sin deducible | E42: 0,75 Puntos | I42: (INDICAR EL DEDUCIBLE OFERTADO)
...

Sheet G1. CALIF. DEDUCIBLES MANEJO
B2: =+'G1. CALIF. DEDUCIBLES TRDM'!B2 -> PARQUES NACIONALES NATURALES DE COLOMBIA - PNNC
B3: FORMATO No. 11 EVALUACIÓN DE DEDUCIBLES
B4: GRUPO No. 1
B5: 2. PÓLIZA DE SEGURO GLOBAL DE MANEJO PARA ENTIDADES OFICIALES
B6: OBJETO DEL SEGURO
B7: Amparar el menoscabo que sufran los fondos, valores y bienes de PARQUES NACIONALES NATURALES DE COLOMBIA - PNNC, ocasionado por empleados, funcionarios, servidores, sus reemplazos y demás personas comprendidas en la definición de trabajador o empleado de esta póliza, por actos que se tipifiquen como delitos contra la administración pública o fallos con responsabilidad fiscal, de conformidad con las coberturas y condiciones del presente anexo. La cobertura no estará condicionada a la existencia de sentencia penal o fallo fiscal cuando la ocurrencia y cuantía de la pérdida se encuentren acreditadas conforme al contrato y a la ley.
B8: INFORMACIÓN GENERAL:
B9: TOMADOR: | C9: =+'G1. CALIF. DEDUCIBLES TRDM'!C9 -> PARQUES NACIONALES NATURALES DE COLOMBIA - PNNC | I9: NIT. | J9: =+'G1. CALIF. DEDUCIBLES TRDM'!J9 -> 830.016.624-7
B10: ASEGURADO: | C10: =+C9 -> PARQUES NACIONALES NATURALES DE COLOMBIA - PNNC | I10: NIT. | J10: =+J9 -> 830.016.624-7
B11: BENEFICIARIO: | C11: =+C9 -> PARQUES NACIONALES NATURALES DE COLOMBIA - PNNC | I11: NIT. | J11: =+J9 -> 830.016.624-7
B12: CRITERIOS DE EVALUACIÓN:
B13: Los criterios establecidos tienen como objeto que la Entidad pueda obtener los mejores deducibles que le permitan lograr la mayor indemnización posible, frente a las pérdidas que pueda sufrir derivadas de un evento súbito e imprevisto que no depende de la voluntad del asegurado.
B14: DEDUCIBLES ACTUALES Y MÁXIMOS ACEPTABLES:
B15: Actualmente PARQUES NACIONALES NATURALES DE COLOMBIA - PNN, tiene únicamente los siguientes deducibles aplicables:
B16: EMPLEADOS NO IDENTIFICADOS | E16: 2,0% del valor de la pérdida mínimo 5 SMMLV
B17: CAJA MENORES Y DEMÁS EVENTOS Y/O AMPAROS | E17: SIN DEDUCIBLE
B18: TABLA DE CALIFICACIÓN
B19: Para efectos de la evaluación, se tendrán los siguientes ítems y puntajes: | F19: PUNTOS
B20: TODA Y CADA PÉRDIDA | F20: 10
B21: TOTAL PUNTOS | F21: =SUM(F20) -> 10
B22: NOTA: Para efectos de la evaluación y en aquellas tablas en los cuales se tengan rangos, en caso que el oferente indique "SE OTORGA" ó "SI" u otra expresión que implica que si esta otorgando el deducible, la Entidad entenderá que estos deducibles fueron ofrecidos con el valor del MÍNIMO RANGO y por lo tanto se asignará el puntaje respectivo de este rango y la aseguradora en caso de ser adjudicada su propuesta, expedirá la póliza con las condiciones mínimas de ese criterio en particular.
B23: 1- EMPLEADOS NO IDENTIFICADOS: diez (10) puntos | I23: =+'G1. CALIF. DEDUCIBLES TRDM'!I40 -> NOMBRE DEL PROPONENTE
B24: RANGO DE DEDUCIBLES PORCENTUAL | E24: PUNTAJE SOBRE EL VALOR DE LA PERDIDA | I24: DEDUCIBLE OFERTADO | J24: PUNTOS OBTENIDOS
B25: Sin deducible | E25: 2,00 Puntos | I25: (INDICAR EL DEDUCIBLE OFERTADO)
B26: Superior a 0,0% y hasta 0,5% | E26: 1,50 Puntos
B27: Superior a 0,5% y hasta 1,0% | E27: 1,00 Puntos
B28: Superior a 1,0% y hasta 1,5% | E28: 0,50 Puntos
B29: Superior a 1,5% y hasta 2,0% | E29: 0,10 Puntos
B30: Superior a 2,0% | E30: SE RECHAZA LA OFERTA
B31: RANGO DEL DEDUCIBLES MÍNIMOS | E31: PUNTAJE SOBRE EL VALOR DE LA PERDIDA | I31: DEDUCIBLE OFERTADO | J31: PUNTOS OBTENIDOS
B32: Sin deducible | E32: 8,00 Puntos | I32: (INDICAR EL DEDUCIBLE OFERTADO)
B33: Superior a 0,0 SMMLV y hasta 1,0 SMMLV | E33: 7,00 Puntos
B34: Superior a 1,0 SMMLV y hasta 2,00 SMMLV | E34: 6,00 Puntos
B35: Superior a 2,0 SMMLV y hasta 3,00 SMMLV | E35: 3,00 Puntos
B36: Superior a 3,0 SMMLV y hasta 4,00 SMMLV | E36: 1,00 Puntos
B37: Superior a 4,0 SMMLV y hasta 5,00 SMMLV | E37: 0,50 Puntos
B38: Superior a 5,00 SMMLV | E38: SE RECHAZA LA OFERTA
I39: PUNTAJE TOTAL
B40: By: Tiger | J40: =+'G1. CALIF. DEDUCIBLES TRDM'!J134 -> VERSIÓN: SEP 2026

Sheet G1. CALIF. DEDUCIBLES RCE
B2: =+'G1. CALIF. DEDUCIBLES TRDM'!B2 -> PARQUES NACIONALES NATURALES DE COLOMBIA - PNNC
B3: FORMATO No. 11 EVALUACIÓN DE DEDUCIBLES
B4: GRUPO No. 1
B5: 3. PÓLIZA DE SEGURO DE RESPONSABILIDAD CIVIL EXTRACONTRACTUAL
B6: OBJETO DEL SEGURO
B7: Amparar los perjuicios patrimoniales y extrapatrimoniales que cause PARQUES NACIONALES NATURALES DE COLOMBIA - PNNC, como consecuencia de la Responsabilidad Civil Extracontractual originada dentro o fuera de sus instalaciones, en el desarrollo de sus actividades o en lo relacionado con ella, lo mismo que los actos de sus empleados y funcionarios o el personal para el apoyo a la gestión administrativa dentro y fuera del territorio nacional o por bienes que se encuentren bajo tenencia, control y/o responsabilidad . NOTA: Se entenderán como terceros todos los servidores públicos, empleados y funcionarios (permanentes o temporales), estudiantes en práctica o pasantía, contratistas, subcontratistas y personal voluntario que presten servicios al asegurado, incluyendo a los miembros de sus juntas directivas. Asimismo, se considerará tercero a cualquier persona natural que circule, ingrese, acceda o se encuentre en los predios del asegurado, con independencia de si este le presta o no un servicio ligado a su objeto social. Esta condición aplicará en oficinas, en los Parques Nacionales Naturales, Santuarios de Flora y Fauna, Distritos Nacionales de Manejo Integrado, Reservas Nacionales, Áreas Naturales Únicas, Vías Parque y, en general, en cualquier predio, zona o sitio bajo la responsabilidad o custodia de Parques Nacionales Naturales de Colombia (PNNC).
B8: INFORMACIÓN GENERAL:
B9: TOMADOR: | C9: =+'G1. CALIF. DEDUCIBLES TRDM'!C9 -> PARQUES NACIONALES NATURALES DE COLOMBIA - PNNC | I9: NIT. | J9: =+'G1. CALIF. DEDUCIBLES TRDM'!J9 -> 830.016.624-7
B10: ASEGURADO: | C10: =+C9 -> PARQUES NACIONALES NATURALES DE COLOMBIA - PNNC | I10: NIT. | J10: =+J9 -> 830.016.624-7
B11: BENEFICIARIO: | C11: TERCEROS AFECTADOS | I11: NIT.
B12: CRITERIOS DE EVALUACIÓN:
B13: Los criterios establecidos tienen como objeto que la Entidad pueda obtener los mejores deducibles que le permitan lograr la mayor indemnización posible, frente a las pérdidas que pueda sufrir derivadas de un evento súbito e imprevisto que no depende de la voluntad del asegurado.
B14: DEDUCIBLES ACTUALES Y MÁXIMOS ACEPTABLES:
B15: Actualmente PARQUES NACIONALES NATURALES DE COLOMBIA - PNNC, tiene únicamente los siguientes deducibles aplicables:
B16: TODA Y CADA PÉRDIDA Y/O PERJUICIO | E16: 4,0% del valor sobre el valor asegurable, mínimo 15 SMMLV
B17: TABLA DE CALIFICACIÓN
B19: Para efectos de la evaluación, se tendrán los siguientes ítems y puntajes: | F19: PUNTOS
B20: TODA Y CADA PÉRDIDA Y/O PERJUICIO | F20: 10
B21: TOTAL PUNTOS | F21: =SUM(F20) -> 10
B22: NOTA: Para efectos de la evaluación y en aquellas tablas en los cuales se tengan rangos, en caso que el oferente indique "SE OTORGA" ó "SI" u otra expresión que implica que si esta otorgando el deducible, la Entidad entenderá que estos deducibles fueron ofrecidos con el valor del MÍNIMO RANGO y por lo tanto se asignará el puntaje respectivo de este rango y la aseguradora en caso de ser adjudicada su propuesta, expedirá la póliza con las condiciones mínimas de ese criterio en particular.
B23: 1- TODA Y CADA PÉRDIDA Y/O PERJUICIO: diez (10) puntos | I23: =+'G1. CALIF. DEDUCIBLES MANEJO'!I23 -> NOMBRE DEL PROPONENTE
B24: RANGO DE DEDUCIBLES PORCENTUAL | E24: PUNTAJE SOBRE EL VALOR DE LA PERDIDA | I24: DEDUCIBLE OFERTADO | J24: PUNTOS OBTENIDOS
B25: Sin deducible | E25: 3,00 Puntos | I25: (INDICAR EL DEDUCIBLE OFERTADO)
B26: Superior a 0,0% y hasta 1,0% | E26: 2,50 Puntos
B27: Superior a 1,0% y hasta 2,0% | E27: 2,00 Puntos
B28: Superior a 2,0% y hasta 3,0% | E28: 1,00 Puntos
B29: Superior a 3,0% y hasta 4,0% | E29: 0,50 Puntos
B30: Superior a 4,0% | E30: SE RECHAZA LA OFERTA
B31: RANGO DEL DEDUCIBLES MÍNIMOS | E31: PUNTAJE SOBRE EL VALOR DE LA PERDIDA | I31: DEDUCIBLE OFERTADO | J31: PUNTOS OBTENIDOS
B32: Sin deducible | E32: 7,00 Puntos | I32: (INDICAR EL DEDUCIBLE OFERTADO)
B33: Superior a 0,00 SMMLV y hasta 3,00 SMMLV | E33: 6,50 Puntos
B34: Superior a 3,00 SMMLV y hasta 6,00 SMMLV | E34: 6,00 Puntos
B35: Superior a 6,00 SMMLV y hasta 9,00 SMMLV | E35: 3,00 Puntos
B36: Superior a 9,00 SMMLV y hasta 12,00 SMMLV | E36: 1,00 Puntos
B37: Superior a 12,00 SMMLV y hasta 15,00 SMMLV | E37: 0,50 Puntos
B38: Superior a 15,00 SMMLV | E38: SE RECHAZA LA OFERTA
I39: PUNTAJE TOTAL
B40: By: Tiger | J40: =+'G1. CALIF. DEDUCIBLES TRDM'!J134 -> VERSIÓN: SEP 2026

Sheet G3. CALIF DEDUCIBLES CASCO BARC
B2: =+'G1. CALIF. DEDUCIBLES TRDM'!B2 -> PARQUES NACIONALES NATURALES DE COLOMBIA - PNNC
B3: FORMATO No. 11 EVALUACIÓN DE DEDUCIBLES
B4: GRUPO No. 1
B5: 4. PÓLIZA DE CASCO BARCO
B6: OBJETO DEL SEGURO
B7: Amparar los daños y/o pérdidas y gastos en que tenga que incurrir PARQUES NACIONALES NATURALES DE COLOMBIA - PNNC, a consecuencia de los riesgos a que está expuesta en el giro de las actividades desarrolladas con el equipo marítimo y fluvial y demás embarcaciones incluyendo sus equipos y accesorios, de su propiedad, bajo tenencia o control o por las que sea legalmente responsable la Entidad, así como los daños a bienes y/o lesiones y/o muerte de terceros, por causa de accidentes en el giro propio de su misionalidad.
B8: INFORMACIÓN GENERAL:
B9: TOMADOR: | C9: =+B2 -> PARQUES NACIONALES NATURALES DE COLOMBIA - PNNC | I9: NIT. | J9: =+'G1. CALIF. DEDUCIBLES TRDM'!J9 -> 830.016.624-7
B10: ASEGURADO: | C10: =+B2 -> PARQUES NACIONALES NATURALES DE COLOMBIA - PNNC | I10: NIT. | J10: =+J9 -> 830.016.624-7
B11: BENEFICIARIO: | C11: =+B2 -> PARQUES NACIONALES NATURALES DE COLOMBIA - PNNC | I11: NIT. | J11: =+J9 -> 830.016.624-7
B12: CRITERIOS DE EVALUACIÓN:
B13: Los criterios establecidos tienen como objeto que la Entidad pueda obtener los mejores deducibles que le permitan lograr la mayor indemnización posible, frente a las pérdidas que pueda sufrir derivadas de un evento súbito e imprevisto que no depende de la voluntad del asegurado.
B14: DEDUCIBLES ACTUALES Y MÁXIMOS ACEPTABLES:
B15: Actualmente PARQUES NACIONALES NATURALES DE COLOMBIA - PNNC, tiene únicamente el siguiente deducible aplicable:
B16: RESPONSABILIDAD CIVIL (PANDI). | E16: 2% sobre el valor de la pérdida, mínimo 5 SMMLV.
B17: CASCO TODO RIESGO | E17: 2% sobre el valor de la pérdida, mínimo 5 SMMLV.
B18: NOTA: Para efectos de la evaluación y en aquellas tablas en los cuales se tengan rangos, en caso que el oferente indique "SE OTORGA" ó "SI" u otra expresión que implica que si esta otorgando el deducible, la Entidad entenderá que estos deducibles fueron ofrecidos con el valor del MÍNIMO RANGO y por lo tanto se asignará el puntaje respectivo de este rango y la aseguradora en caso de ser adjudicada su propuesta, expedirá la póliza con las condiciones mínimas de ese criterio en particular.
B19: TABLA DE CALIFICACIÓN
B21: Para efectos de la evaluación, se tendrán los siguientes ítems y puntajes: | F21: PUNTOS
B22: =+B16 -> RESPONSABILIDAD CIVIL (PANDI). | F22: 5
B23: =+B17 -> CASCO TODO RIESGO | F23: 5
B24: TOTAL PUNTOS | F24: =SUM(F22) -> 5
B25: TABLA DE CALIFICACIÓN
B27: 1- RESPONSABILIDAD CIVIL (PANDI): cinco (5) puntos | I27: =+'G1. CALIF. DEDUCIBLES RCE'!I23 -> NOMBRE DEL PROPONENTE
B28: RANGO DE DEDUCIBLES PORCENTUAL | E28: PUNTAJE SOBRE EL VALOR DE LA PERDIDA | I28: DEDUCIBLE OFERTADO | J28: PUNTOS OBTENIDOS
B29: Sin deducible | E29: 1,00 Puntos | I29: (INDICAR EL DEDUCIBLE OFERTADO)
B30: Superior a 0,0% y hasta 0,50% | E30: 0,50 Puntos
B31: Superior a 0,50% y hasta 1,00% | E31: 0,25 Puntos
B32: Superior a 1,00% y hasta 1,50% | E32: 0,10 Puntos
B33: Superior a 1,50% y hasta 2,00% | E33: 0,05 Puntos
B34: Superior a 2,00% | E34: SE RECHAZA LA OFERTA
B35: RANGO DEL DEDUCIBLES MÍNIMOS | E35: PUNTAJE SOBRE EL VALOR DE LA PERDIDA | I35: DEDUCIBLE OFERTADO | J35: PUNTOS OBTENIDOS
B36: Sin deducible | E36: 4,00 Puntos | I36: (INDICAR EL DEDUCIBLE OFERTADO)
B37: Superior a 0,0 SMMLV y hasta 2,0 SMMLV | E37: 3,00 Puntos
B38: Superior a 2,0 SMMLV y hasta 3,00 SMMLV | E38: 2,00 Puntos
B39: Superior a 3,0 SMMLV y hasta 4,00 SMMLV | E39: 1,00 Puntos
B40: Superior a 4,0 SMMLV y hasta 5,00 SMMLV | E40: 0,50 Puntos
B41: Superior a 5,00 SMMLV | E41: SE RECHAZA LA OFERTA
B42: 2- CASCO TODO RIESGO: cinco (5) puntos
B43: RANGO DE DEDUCIBLES PORCENTUAL | E43: PUNTAJE SOBRE EL VALOR DE LA PERDIDA | I43: DEDUCIBLE OFERTADO | J43: PUNTOS OBTENIDOS
...
