Workbook
Name \a: #N/A
Name \b: #REF!
Name \c: #REF!
Name \h: #REF!
Name \m: #REF!
Name \p: #REF!
Name \r: #REF!
Name \s: #REF!
Name _____DOS1: #REF!
Name _____RC: #REF!
Name _____UNO1: #REF!
Name ____DIA1: #REF!
Name ____DIA2: #REF!
Name ____DOS1: #REF!
Name ____EE1: #REF!
Name ____GT1: #REF!
Name ____GTO1: #REF!
Name ____INC1: #REF!
Name ____INI1: #REF!
Name ____MA1: #REF!
Name ____MES1: #REF!
Name ____RC: #REF!
Name ____UNO1: #REF!
Name ___DAT1: #REF!
Name ___DIA1: #REF!
Name ___DIA2: #REF!
Name ___DOS1: #REF!
Name ___EE1: #REF!
Name ___GT1: #REF!
Name ___GTO1: #REF!
Name ___INC1: #REF!
Name ___INI1: #REF!
Name ___MA1: #REF!
Name ___MES1: #REF!
Name ___RC: #REF!
Name ___UNO1: #REF!
Name ___xlnm._FilterDatabase: #REF!
Name ___xlnm._FilterDatabase_2: #REF!
Name ___xlnm.Print_Area: #REF!
Name ___xlnm.Print_Titles: #REF!
Name __1Excel_BuiltIn_Print_Area_1_1: #REF!
Name __DAT1: #REF!
Name __DIA1: #REF!
Name __DIA2: #REF!
Name __DOS1: #REF!
Name __EE1: #REF!
Name __GT1: #REF!
Name __GTO1: #REF!
Name __INC1: #REF!
Name __INI1: #REF!
Name __MA1: #REF!
Name __MES1: #REF!
Name __RC: #REF!
Name __TaI7: #REF!
Name __UNO1: #REF!
Name __xlnm._FilterDatabase: #REF!
Name __xlnm._FilterDatabase_2: #REF!
Name __xlnm.Print_Area: #REF!
Name __xlnm.Print_Titles: #REF!
Name _1: #N/A

Sheet 1.RESUMEN VF
B4: PARQUES NACIONALES NATURALES DE COLOMBIA
B6: COSTOS POR VIGENCIA FISCAL
L30: TOTAL TOTAL CTO | M30: =+E31+G31+I31+K31 -> 14053599342
B31: TOTAL CONTATACIÓN POR VIGENCIA FISCAL | D31: =+D67 -> 2026 | E31: =+E67 -> 2.1108775e+08 | F31: =+F67 -> 2027 | G31: =+G67 -> 4.5944215e+09 | H31: =+H67 -> 2028 | I31: =+I67 -> 4.6915637e+09 | J31: =+J67 -> 2029 | K31: =+K67 -> 4.5565264e+09 | L31: TOTAL VF | M31: =+E31+G31+I31+K31 -> 14053599342
C32: DIAS DE COBERTURA GRUPOS 1, 2 Y 4 | D32: =+'3.VIGENCIA 2026'!D10 -> 16 | F32: =+'4.VIGENCIA 2027'!D10 -> 365 | H32: =+'5.VIGENCIA 2028'!D10 -> 366 | J32: =+'6.VIGENCIA 2029'!D10 -> 349 | L32: =+D32+F32+H32+J32 -> 1096
C33: DIAS DE COBERTURA GRUPOS 3 Y 5 | D33: =+'3.VIGENCIA 2026'!E10 -> 25 | F33: =+F32 -> 365 | H33: =+H32 -> 366 | J33: =+J32 -> 349 | L33: =+D33+F33+H33+J33 -> 1105
B35: GRUPO | C35: RAMO | D35: 2026 | F35: 2027 | H35: 2028 | J35: 2029 | L35: TOTAL CONTRATACION
D36: Valor Fijo | E36: Remanentes | F36: Valor Fijo | G36: Remanentes | H36: Valor Fijo | I36: Remanentes | J36: Valor Fijo | K36: Remanentes | L36: Valor Fijo | M36: Remanentes
B37: 1 | C37: TODO RIESGO DAÑOS MATERIALES | D37: =+'3.VIGENCIA 2026'!M14 -> 100682191 | E37: =+'3.VIGENCIA 2026'!M15 -> 3020466 | F37: =+'4.VIGENCIA 2027'!M14 -> 2338341362 | G37: =+'4.VIGENCIA 2027'!M15 -> 70150241 | H37: =+'5.VIGENCIA 2028'!M14 -> 2426537776 | I37: =+'5.VIGENCIA 2028'!M15 -> 72796133 | J37: =+'6.VIGENCIA 2029'!M14 -> 2393996572 | K37: =+'6.VIGENCIA 2029'!M15 -> 71819897 | L37: =+D37+F37+H37+J37 -> 7259557901 | M37: =+E37+G37+I37+K37 -> 2.1778674e+08
C38: MANEJO GLOBAL ENTIDADES ESTATALES | D38: =+'3.VIGENCIA 2026'!M16 -> 8191452 | F38: =+'4.VIGENCIA 2027'!M16 -> 186867499 | H38: =+'5.VIGENCIA 2028'!M16 -> 187379465 | J38: =+'6.VIGENCIA 2029'!M16 -> 178676047 | L38: =+D38+F38+H38+J38 -> 561114463 | M38: =+E38+G38+I38+K38 -> 0
C39: RESPONSABILIDAD CIVIL EXTRACONTRACTUAL | D39: =+'3.VIGENCIA 2026'!M17 -> 8614199 | F39: =+'4.VIGENCIA 2027'!M17 -> 196511421 | H39: =+'5.VIGENCIA 2028'!M17 -> 197049808 | J39: =+'6.VIGENCIA 2029'!M17 -> 187897222 | L39: =+D39+F39+H39+J39 -> 590072650 | M39: =+E39+G39+I39+K39 -> 0
C40: TRANSPORTE DE VALORES | D40: =+'3.VIGENCIA 2026'!M18 -> 328880 | F40: =+'4.VIGENCIA 2027'!M18 -> 7502573 | H40: =+'5.VIGENCIA 2028'!M18 -> 7523128 | J40: =+'6.VIGENCIA 2029'!M18 -> 7173692 | L40: =+D40+F40+H40+J40 -> 22528273 | M40: =+E40+G40+I40+K40 -> 0
C41: TRANSPORTE DE MERCANCIAS | D41: =+'3.VIGENCIA 2026'!M19 -> 95461 | F41: =+'4.VIGENCIA 2027'!M19 -> 2177700 | H41: =+'5.VIGENCIA 2028'!M19 -> 2183667 | J41: =+'6.VIGENCIA 2029'!M19 -> 2082239 | L41: =+D41+F41+H41+J41 -> 6539067 | M41: =+E41+G41+I41+K41 -> 0
C42: MAQUINARIA Y EQUIPO | D42: =+'3.VIGENCIA 2026'!M20 -> 265108 | F42: =+'4.VIGENCIA 2027'!M20 -> 6205775 | H42: =+'5.VIGENCIA 2028'!M20 -> 6533915 | J42: =+'6.VIGENCIA 2029'!M20 -> 6535392 | L42: =+D42+F42+H42+J42 -> 19540190 | M42: =+E42+G42+I42+K42 -> 0
C43: CASCO BARCO | D43: =+'3.VIGENCIA 2026'!M21 -> 18102047 | F43: =+'4.VIGENCIA 2027'!M21 -> 412952929 | H43: =+'5.VIGENCIA 2028'!M21 -> 414084307 | J43: =+'6.VIGENCIA 2029'!M21 -> 394850882 | L43: =+D43+F43+H43+J43 -> 1239990165 | M43: =+E43+G43+I43+K43 -> 0
B44: TOTAL GRUPO No. 1 | D44: =SUM(D37:D43) -> 136279338 | E44: =SUM(E37:E43) -> 3020466 | F44: =SUM(F37:F43) -> 3150559259 | G44: =SUM(G37:G43) -> 70150241 | H44: =SUM(H37:H43) -> 3241292066 | I44: =SUM(I37:I43) -> 72796133 | J44: =SUM(J37:J43) -> 3171212046 | K44: =SUM(K37:K43) -> 71819897 | ... M44: =SUM(M37:M43) -> 2.1778674e+08
B45: TOTAL VIGENCIA FISCAL | D45: 2026 | E45: =+D44+E44 -> 139299804 | F45: =+F35 -> 2027 | G45: =+F44+G44 -> 3.2207095e+09 | H45: =+H35 -> 2028 | I45: =+H44+I44 -> 3.3140882e+09 | J45: =+J35 -> 2029 | K45: =+J44+K44 -> 3.2430319e+09 | L45: TOTAL CONTRATACION | M45: =+L44+M44 -> 9.9171294e+09
B47: GRUPO | C47: RAMO | D47: 2026 | F47: 2027 | H47: 2028 | J47: 2029 | L47: TOTAL CONTRATACION
D48: Valor Fijo | E48: Remanentes | F48: Valor Fijo | G48: Remanentes | H48: Valor Fijo | I48: Remanentes | J48: Valor Fijo | K48: Remanentes | L48: Valor Fijo | M48: Remanentes
B49: 2 | C49: AUTOMÓVILES | D49: =+'3.VIGENCIA 2026'!M26 -> 21705451 | E49: =+'3.VIGENCIA 2026'!M27 -> 2170545 | F49: =+'4.VIGENCIA 2027'!M26 -> 495155607 | G49: =+'4.VIGENCIA 2027'!M27 -> 49515561 | H49: =+'5.VIGENCIA 2028'!M26 -> 496512198 | I49: =+'5.VIGENCIA 2028'!M27 -> 49651220 | J49: =+'6.VIGENCIA 2029'!M26 -> 473450156 | K49: =+'6.VIGENCIA 2029'!M27 -> 47345016 | L49: =+D49+F49+H49+J49 -> 1486823412 | M49: =+E49+G49+I49+K49 -> 1.4868234e+08
B50: TOTAL VIGENCIA FISCAL GRUPO No. 2 | D50: 2026 | E50: =+D49+E49 -> 23875996 | F50: =+F47 -> 2027 | G50: =+F49+G49 -> 5.4467117e+08 | H50: =+H47 -> 2028 | I50: =+H49+I49 -> 5.4616342e+08 | J50: =+J47 -> 2029 | K50: =+J49+K49 -> 5.2079517e+08 | L50: TOTAL CONTRATACION | M50: =+L49+M49 -> 1.6355058e+09
B52: GRUPO | C52: RAMO | D52: 2026 | F52: 2027 | H52: 2028 | J52: 2029 | L52: TOTAL CONTRATACION
D53: Valor Fijo | E53: Remanentes | F53: Valor Fijo | G53: Remanentes | H53: Valor Fijo | I53: Remanentes | J53: Valor Fijo | K53: Remanentes | L53: Valor Fijo | M53: Remanentes
B54: 3 | C54: =+'3.VIGENCIA 2026'!C32 -> RESPONSABILIDAD CIVIL SERVIDORES PUBLICOS | D54: =+'3.VIGENCIA 2026'!M33 -> 31298134 | F54: =+'4.VIGENCIA 2027'!M33 -> 456952758 | H54: =+'5.VIGENCIA 2028'!M33 -> 458204683 | J54: =+'6.VIGENCIA 2029'!M33 -> 436921952 | L54: =+D54+F54+H54+J54 -> 1383377527 | M54: =+E54+G54+I54+K54 -> 0
B55: TOTAL VIGENCIA FISCAL GRUPO No. 3 | D55: 2026 | E55: =+D54 -> 31298134 | F55: =+F52 -> 2027 | G55: =+F54 -> 456952758 | H55: =+H52 -> 2028 | I55: =+H54 -> 458204683 | J55: =+J52 -> 2029 | K55: =+J54 -> 436921952 | L55: TOTAL CONTRATACION | M55: =+L54 -> 1383377527
B57: GRUPO | C57: RAMO | D57: 2026 | F57: 2027 | H57: 2028 | J57: 2029 | L57: TOTAL CONTRATACION
D58: Valor Fijo | E58: Remanentes | F58: Valor Fijo | G58: Remanentes | H58: Valor Fijo | I58: Remanentes | J58: Valor Fijo | K58: Remanentes | L58: Valor Fijo | M58: Remanentes
B59: 4 | C59: CASCO AVIACIÓN (DRONES) | D59: =+'3.VIGENCIA 2026'!M39 -> 12343181 | F59: =+'4.VIGENCIA 2027'!M37+'4.VIGENCIA 2027'!M38 -> 281578852 | G59: =+'4.VIGENCIA 2027'!M39 -> 28157885 | H59: =+'5.VIGENCIA 2028'!M37+'5.VIGENCIA 2028'!M38 -> 282350302 | I59: =+'5.VIGENCIA 2028'!M39 -> 28235030 | J59: =+'6.VIGENCIA 2029'!M37+'6.VIGENCIA 2029'!M38 -> 269235669 | K59: =+'6.VIGENCIA 2029'!M39 -> 26923567 | L59: =+D59+F59+H59+J59 -> 8.45508e+08 | M59: =+E59+G59+I59+K59 -> 83316482
B60: TOTAL VIGENCIA FISCAL GRUPO No. 4 | D60: 2026 | E60: =+D59 -> 12343181 | F60: =+F57 -> 2027 | G60: =+F59+G59 -> 3.0973674e+08 | H60: =+H57 -> 2028 | I60: =+H59+I59 -> 3.1058533e+08 | J60: =+J57 -> 2029 | K60: =+J59+K59 -> 2.9615924e+08 | L60: TOTAL CONTRATACION | M60: =+L59+M59 -> 9.2882449e+08
B62: GRUPO | C62: RAMO | D62: 2026 | F62: 2027 | H62: 2028 | J62: 2029 | L62: TOTAL CONTRATACION
D63: Valor Fijo | E63: Remanentes | F63: Valor Fijo | G63: Remanentes | H63: Valor Fijo | I63: Remanentes | J63: Valor Fijo | K63: Remanentes | L63: Valor Fijo | M63: Remanentes
B64: 5 | C64: =+'3.VIGENCIA 2026'!C43 -> ACCIDENTES PERSONALES (GUARDABOSQUES) | D64: =+'3.VIGENCIA 2026'!M44 -> 4270636 | F64: =+'4.VIGENCIA 2027'!M45 -> 62351291 | H64: =+'5.VIGENCIA 2028'!M45 -> 62522117 | J64: =+'6.VIGENCIA 2029'!M45 -> 59618085 | L64: =+D64+F64+H64+J64 -> 188762129 | M64: =+E64+G64+I64+K64 -> 0
B65: TOTAL VIGENCIA FISCAL GRUPO No. 5 | D65: 2026 | E65: =+D64 -> 4270636 | F65: =+F62 -> 2027 | G65: =+F64+G64 -> 62351291 | H65: =+H62 -> 2028 | I65: =+H64+I64 -> 62522117 | J65: =+J62 -> 2029 | K65: =+J64+K64 -> 59618085 | L65: TOTAL CONTRATACION | M65: =+L64+M64 -> 188762129
B67: TOTAL CONTATACIÓN POR VIGENCIA FISCAL | D67: =+D65 -> 2026 | E67: =+E65+E60+E55+E50+E45 -> 2.1108775e+08 | F67: =+F65 -> 2027 | G67: =+G65+G60+G55+G50+G45 -> 4.5944215e+09 | H67: =+H65 -> 2028 | I67: =+I65+I60+I55+I50+I45 -> 4.6915637e+09 | J67: =+J65 -> 2029 | K67: =+K65+K60+K55+K50+K45 -> 4.5565264e+09 | L67: TOTAL CONTRATACION | M67: =+E67+G67+I67+K67 -> 14053599342

Sheet ESTIMACIÓN_PRESUPUESTO PNN
B2: PARQUES NACIONALES NATURALES DE COLOMBIA
B3: ESTUDIO DE MERCADO
B4: DETERMINACION TASAS PROMEDIO
B7: GRUPO No. 1
B8: ENTIDAD | C8: No. PROCESO CONTRACTUAL | D8: TASAS | E8: IPC 2023 | F8: IPC 2024 | G8: IPC 2025 | H8: TASAS CON INDEXACIÓN | I8: RAMO | J8: TASAS CON INDEXACIÓN | K8: PROMEDIO TASAS
E9: 0.0928 | F9: 0.052 | G9: 0.051 | K9: MEDIA.ACOTADA TASA MERCADO | L9: TIPO DE TASA %
B10: PARQUES NACIONALES NATURALES DE COLOMBIA | C10: LICITACIÓN PÚBLICA No. LP-NC-001-2026 | D10: 12 | H10: =+D10 -> 12 | I10: Todo Riesgo Daños Materiales | J10: =+H10 -> 12 | K10: =TRIMMEAN((J10:J14),0) -> 10.301684 | L10: %
B11: SANTIAGO DE CALI DISTRITO ESPECIAL- UNIDAD | C11: 4181.010.26.1.364.-2026 - TASA ADJUDICADA | D11: 9.21 | H11: =+D11 -> 9.21 | J11: =+H11 -> 9.21
B12: AREA METROPOLITANA DE BUCARAMANGA | C12: AMB-SAF-LP-001-2025 - TASA ADJUDICADA | D12: 8.85 | G12: =+D12*G$9+D12 -> 9.30135 | H12: =+G12 -> 9.30135 | J12: =+H12 -> 9.30135
B13: DEPARTAMENTO ADMINISTRATIVO NACIONAL DE ESTADISTICA DANE | C13: LP-002-2023 (tasa vigencia 2026) | D13: 12.13 | E13: =+D13*E$9+D13 -> 13.255664 | F13: =+E13*F$9+E13 -> 13.944959 | G13: =+F13*G$9+F13 -> 14.656151 | H13: =+G13 -> 14.656151 | J13: =+H13 -> 14.656151
B14: SENADO DE LA REPÚBLICA | C14: LP-SEN-001-2026 | D14: 6.34092 | H14: =+D14 -> 6.34092 | J14: =+H14 -> 6.34092
B15: PARQUES NACIONALES NATURALES DE COLOMBIA | C15: LICITACIÓN PÚBLICA No. LP-NC-001-2026 | D15: 25 | H15: =+D15 -> 25 | I15: Manejo Global Entidades Estatales | J15: =+H15 -> 25 | K15: =TRIMMEAN((J15:J18),0) -> 19.628939 | L15: %
B16: SENADO DE LA REPÚBLICA | C16: LP-SEN-001-2026 | D16: 11.42598 | H16: =+D16 -> 11.42598 | J16: =+H16 -> 11.42598
B17: FONDO NACIONAL DE ESTUPEFACIENTES | C17: FNE-MC-010-2026 | D17: 15.04 | H17: =+D17 -> 15.04 | J17: =+H17 -> 15.04
B18: SECRETARIA DISTRITAL DE MOVILIDAD | C18: SDM - LP -6-2024 | D18: 24.465 | F18: =+D18*F$9+D18 -> 25.73718 | G18: =+F18*G$9+F18 -> 27.049776 | H18: =+G18 -> 27.049776 | J18: =+H18 -> 27.049776
B19: PARQUES NACIONALES NATURALES DE COLOMBIA | C19: LICITACIÓN PÚBLICA No. LP-NC-001-2026 | D19: 2.5 | H19: =+D19 -> 2.5 | I19: Responsabilidad Civil Extracontractual | J19: =+H19 -> 2.5 | K19: =TRIMMEAN((J19:J23),0) -> 2.7522608 | L19: %
B20: AGENCIA LOGISTICA DE LAS FUERZA MILITARES | C20: LICITACIÓN PÚBLICA No. 002-046-2026 | D20: 2.55 | H20: =+D20 -> 2.55 | J20: =+H20 -> 2.55
B21: CONTRALORIA GENERAL DE CALDAS -CGC | C21: SELECCIÓN ABREVIADA DE MENOR CUANTÍA No. SAMC-CGC-02-2025 | D21: 2 | F21: =+D21*F$9+D21 -> 2.104 | G21: =+F21*G$9+F21 -> 2.211304 | H21: =+G21 -> 2.211304 | J21: =+H21 -> 2.211304
B22: EMPRESA DE DESARROLLO Y RENOVACIÓN URBANA DE CALI (EDRU) | C22: EDRU-IS-0001-2026 | D22: 2 | H22: =+D22 -> 2 | J22: =+H22 -> 2
B23: SENADO DE LA REPÚBLICA | C23: LP-SEN-001-2026 | D23: 4.5 | H23: =+D23 -> 4.5 | J23: =+H23 -> 4.5
B24: PARQUES NACIONALES NATURALES DE COLOMBIA | C24: LICITACIÓN PÚBLICA No. LP-NC-001-2026 | D24: 0.8 | H24: =+D24 -> 0.8 | I24: Transporte de Valores | J24: =+H24 -> 0.8 | K24: =TRIMMEAN((J24:J28),0) -> 0.96995123 | L24: %
B25: DEPARTAMENTO ADMINISTRATIVO DEL SERVICIO CIVIL DISTRITAL | C25: PE - LP-002-2025 | D25: 1.2 | F25: =+D25*F$9+D25 -> 1.2624 | G25: =+F25*G$9+F25 -> 1.3267824 | H25: =+G25 -> 1.3267824 | J25: =+H25 -> 1.3267824
B26: INSTITUTO NACIONAL DE SALUD | C26: LP-002-2026 | D26: 1 | H26: =+D26 -> 1 | J26: =+H26 -> 1
B27: UNIDAD DE INFORMACIÓN Y ANÁLISIS FINANCIERO - UIAF | C27: CONTRATACIÓN DIRECTA QUE REQUIEREN DE RESERVA | D27: 0.75 | H27: =+D27 -> 0.75 | J27: =+H27 -> 0.75
B28: COMPUTADORES PARA EDUCAR | C28: LICITACIÓN PÚBLICA No. 01 DE 2025 | D28: 0.88 | F28: =+D28*F$9+D28 -> 0.92576 | G28: =+F28*G$9+F28 -> 0.97297376 | H28: =+G28 -> 0.97297376 | J28: =+H28 -> 0.97297376
B29: PARQUES NACIONALES NATURALES DE COLOMBIA | C29: LICITACIÓN PÚBLICA No. LP-NC-001-2026 | D29: 0.8 | H29: =+D29 -> 0.8 | I29: Transporte de Mercancías | J29: =+H29 -> 0.8 | K29: =TRIMMEAN((J29:J34),0) -> 0.61 | L29: %
B30: CONTRALORÍA DE BOGOTA | C30: CB-LP-001-2026 | D30: 0.5 | H30: =+D30 -> 0.5 | J30: =+H30 -> 0.5
B31: FONDO NACIONAL DE ESTUPEFACIENTES | C31: FNE-MC-010-2026 | D31: 0.7 | H31: =+D31 -> 0.7 | J31: =+H31 -> 0.7
B32: INSTITUTO NACIONAL DE SALUD | C32: LP-002-2026 | D32: 0.5 | H32: =+D32 -> 0.5 | J32: =+H32 -> 0.5
B33: SUPERINTENDENCIA DE INDUSTRIA Y COMERCIO | C33: LP- SIC 8 DE 2026 | D33: 0.58 | H33: =+D33 -> 0.58 | J33: =+H33 -> 0.58
B34: AGENCIA LOGISTICA DE LAS FUERZA MILITARES | C34: LICITACIÓN PÚBLICA No. 002-046-2026 | D34: 0.58 | H34: =+D34 -> 0.58 | J34: =+H34 -> 0.58
B35: PARQUES NACIONALES NATURALES DE COLOMBIA | C35: LICITACIÓN PÚBLICA No. LP-NC-001-2026 | D35: 10 | H35: =+D35 -> 10 | I35: Maquinaria y Equipo | J35: =+H35 -> 10 | K35: =TRIMMEAN((J35:J39),0) -> 9.247765 | L35: %
B36: AGENCIA LOGISTICA DE LAS FUERZA MILITARES | C36: LICITACIÓN PÚBLICA No. 002-046-2026 | D36: 12.5 | H36: =+D36 -> 12.5 | J36: =+H36 -> 12.5
B37: AGENCIA DE DESARROLLO RURAL | C37: SELECCION ABREVIADA DE MENOR CUANTIA SAMC-03-2026 | D37: 10.1 | H37: =+D37 -> 10.1 | J37: =+H37 -> 10.1
B38: INSTITUTO NACIONAL DE SALUD | C38: PROCESO INS-LP-002-2026 | D38: 8 | H38: =+D38 -> 8 | J38: =+H38 -> 8
B39: UNIVERSIDAD NACIONAL DE COLOMBIA VIGENCIA 2026 | C39: INVITACION PUBLICA 19-2025-NAL | D39: 5.1 | F39: =+D39*F$9+D39 -> 5.3652 | G39: =+F39*G$9+F39 -> 5.6388252 | H39: =+G39 -> 5.6388252 | J39: =+H39 -> 5.6388252
B40: PARQUES NACIONALES NATURALES DE COLOMBIA | C40: LICITACIÓN PÚBLICA No. LP-NC-001-2026 | D40: 1.5 | H40: =+D40 -> 1.5 | I40: Casco Barco | J40: =+H40 -> 1.5 | K40: =TRIMMEAN((J40:J44),0) -> 4.400412 | L40: %
B41: AGENCIA LOGISTICA DE LAS FUERZA MILITARES | C41: LICITACIÓN PÚBLICA No. 002-046-2026 | D41: 5.5 | H41: =+D41 -> 5.5 | J41: =+H41 -> 5.5
B42: DEPARTAMENTO DE CUNDINAMARCA | C42: LICITACIÓN PÚBLICA SG-LP-001-2025 | D42: 5.374 | F42: =+D42*F$9+D42 -> 5.653448 | G42: =+F42*G$9+F42 -> 5.9417738 | H42: =+G42 -> 5.9417738 | J42: =+H42 -> 5.9417738
B43: UNIVERSIDAD NACIONAL DE COLOMBIA VIGENCIA 2026 | C43: INVITACION PUBLICA 19-2025-NAL | D43: 4.12 | F43: =+D43*F$9+D43 -> 4.33424 | G43: =+F43*G$9+F43 -> 4.5552862 | H43: =+G43 -> 4.5552862 | J43: =+H43 -> 4.5552862
...

Sheet 2.TASAS PROMEDIO
B2: PARQUES NACIONALES NATURALES DE COLOMBIA
B3: ESTUDIO DE MERCADO
B4: DETERMINACION TASAS PROMEDIO
B7: GRUPO No. 1
B8: ENTIDAD | C8: No. PROCESO CONTRACTUAL | D8: TASAS | E8: IPC 2023 | F8: IPC 2024 | G8: IPC 2025 | H8: TASAS CON INDEXACIÓN | I8: RAMO | J8: TASAS CON INDEXACIÓN | K8: PROMEDIO TASAS
E9: 0.0928 | F9: 0.052 | G9: 0.051 | K9: MEDIA.ACOTADA TASA MERCADO | L9: TIPO DE TASA %
B10: PARQUES NACIONALES NATURALES DE COLOMBIA | C10: LICITACIÓN PÚBLICA No. LP-NC-001-2026 | D10: 12 | H10: =+D10 -> 12 | I10: Todo Riesgo Daños Materiales | J10: =+H10 -> 12 | K10: =TRIMMEAN((J10:J14),0) -> 10.301684 | L10: %
B11: SANTIAGO DE CALI DISTRITO ESPECIAL- UNIDAD | C11: 4181.010.26.1.364.-2026 - TASA ADJUDICADA | D11: 9.21 | H11: =+D11 -> 9.21 | J11: =+H11 -> 9.21
B12: AREA METROPOLITANA DE BUCARAMANGA | C12: AMB-SAF-LP-001-2025 - TASA ADJUDICADA | D12: 8.85 | G12: =+D12*G$9+D12 -> 9.30135 | H12: =+G12 -> 9.30135 | J12: =+H12 -> 9.30135
B13: DEPARTAMENTO ADMINISTRATIVO NACIONAL DE ESTADISTICA DANE | C13: LP-002-2023 (tasa vigencia 2026) | D13: 12.13 | E13: =+D13*E$9+D13 -> 13.255664 | F13: =+E13*F$9+E13 -> 13.944959 | G13: =+F13*G$9+F13 -> 14.656151 | H13: =+G13 -> 14.656151 | J13: =+H13 -> 14.656151
B14: SENADO DE LA REPÚBLICA | C14: LP-SEN-001-2026 | D14: 6.34092 | H14: =+D14 -> 6.34092 | J14: =+H14 -> 6.34092
B15: PARQUES NACIONALES NATURALES DE COLOMBIA | C15: LICITACIÓN PÚBLICA No. LP-NC-001-2026 | D15: 25 | H15: =+D15 -> 25 | I15: Manejo Global Entidades Estatales | J15: =+H15 -> 25 | K15: =TRIMMEAN((J15:J18),0) -> 19.628939 | L15: %
B16: SENADO DE LA REPÚBLICA | C16: LP-SEN-001-2026 | D16: 11.42598 | H16: =+D16 -> 11.42598 | J16: =+H16 -> 11.42598
B17: FONDO NACIONAL DE ESTUPEFACIENTES | C17: FNE-MC-010-2026 | D17: 15.04 | H17: =+D17 -> 15.04 | J17: =+H17 -> 15.04
B18: SECRETARIA DISTRITAL DE MOVILIDAD | C18: SDM - LP -6-2024 | D18: 24.465 | F18: =+D18*F$9+D18 -> 25.73718 | G18: =+F18*G$9+F18 -> 27.049776 | H18: =+G18 -> 27.049776 | J18: =+H18 -> 27.049776
B19: PARQUES NACIONALES NATURALES DE COLOMBIA | C19: LICITACIÓN PÚBLICA No. LP-NC-001-2026 | D19: 2.5 | H19: =+D19 -> 2.5 | I19: Responsabilidad Civil Extracontractual | J19: =+H19 -> 2.5 | K19: =TRIMMEAN((J19:J23),0) -> 2.7522608 | L19: %
B20: AGENCIA LOGISTICA DE LAS FUERZA MILITARES | C20: LICITACIÓN PÚBLICA No. 002-046-2026 | D20: 2.55 | H20: =+D20 -> 2.55 | J20: =+H20 -> 2.55
B21: CONTRALORIA GENERAL DE CALDAS -CGC | C21: SELECCIÓN ABREVIADA DE MENOR CUANTÍA No. SAMC-CGC-02-2025 | D21: 2 | F21: =+D21*F$9+D21 -> 2.104 | G21: =+F21*G$9+F21 -> 2.211304 | H21: =+G21 -> 2.211304 | J21: =+H21 -> 2.211304
B22: EMPRESA DE DESARROLLO Y RENOVACIÓN URBANA DE CALI (EDRU) | C22: EDRU-IS-0001-2026 | D22: 2 | H22: =+D22 -> 2 | J22: =+H22 -> 2
B23: SENADO DE LA REPÚBLICA | C23: LP-SEN-001-2026 | D23: 4.5 | H23: =+D23 -> 4.5 | J23: =+H23 -> 4.5
B24: PARQUES NACIONALES NATURALES DE COLOMBIA | C24: LICITACIÓN PÚBLICA No. LP-NC-001-2026 | D24: 0.8 | H24: =+D24 -> 0.8 | I24: Transporte de Valores | J24: =+H24 -> 0.8 | K24: =TRIMMEAN((J24:J28),0) -> 0.96995123 | L24: %
B25: DEPARTAMENTO ADMINISTRATIVO DEL SERVICIO CIVIL DISTRITAL | C25: PE - LP-002-2025 | D25: 1.2 | F25: =+D25*F$9+D25 -> 1.2624 | G25: =+F25*G$9+F25 -> 1.3267824 | H25: =+G25 -> 1.3267824 | J25: =+H25 -> 1.3267824
B26: INSTITUTO NACIONAL DE SALUD | C26: LP-002-2026 | D26: 1 | H26: =+D26 -> 1 | J26: =+H26 -> 1
B27: UNIDAD DE INFORMACIÓN Y ANÁLISIS FINANCIERO - UIAF | C27: CONTRATACIÓN DIRECTA QUE REQUIEREN DE RESERVA | D27: 0.75 | H27: =+D27 -> 0.75 | J27: =+H27 -> 0.75
B28: COMPUTADORES PARA EDUCAR | C28: LICITACIÓN PÚBLICA No. 01 DE 2025 | D28: 0.88 | F28: =+D28*F$9+D28 -> 0.92576 | G28: =+F28*G$9+F28 -> 0.97297376 | H28: =+G28 -> 0.97297376 | J28: =+H28 -> 0.97297376
B29: PARQUES NACIONALES NATURALES DE COLOMBIA | C29: LICITACIÓN PÚBLICA No. LP-NC-001-2026 | D29: 0.8 | H29: =+D29 -> 0.8 | I29: Transporte de Mercancías | J29: =+H29 -> 0.8 | K29: =TRIMMEAN((J29:J34),0) -> 0.61 | L29: %
B30: CONTRALORÍA DE BOGOTA | C30: CB-LP-001-2026 | D30: 0.5 | H30: =+D30 -> 0.5 | J30: =+H30 -> 0.5
B31: FONDO NACIONAL DE ESTUPEFACIENTES | C31: FNE-MC-010-2026 | D31: 0.7 | H31: =+D31 -> 0.7 | J31: =+H31 -> 0.7
B32: INSTITUTO NACIONAL DE SALUD | C32: LP-002-2026 | D32: 0.5 | H32: =+D32 -> 0.5 | J32: =+H32 -> 0.5
B33: SUPERINTENDENCIA DE INDUSTRIA Y COMERCIO | C33: LP- SIC 8 DE 2026 | D33: 0.58 | H33: =+D33 -> 0.58 | J33: =+H33 -> 0.58
B34: AGENCIA LOGISTICA DE LAS FUERZA MILITARES | C34: LICITACIÓN PÚBLICA No. 002-046-2026 | D34: 0.58 | H34: =+D34 -> 0.58 | J34: =+H34 -> 0.58
B35: PARQUES NACIONALES NATURALES DE COLOMBIA | C35: LICITACIÓN PÚBLICA No. LP-NC-001-2026 | D35: 10 | H35: =+D35 -> 10 | I35: Maquinaria y Equipo | J35: =+H35 -> 10 | K35: =TRIMMEAN((J35:J39),0) -> 9.247765 | L35: %
B36: AGENCIA LOGISTICA DE LAS FUERZA MILITARES | C36: LICITACIÓN PÚBLICA No. 002-046-2026 | D36: 12.5 | H36: =+D36 -> 12.5 | J36: =+H36 -> 12.5
B37: AGENCIA DE DESARROLLO RURAL | C37: SELECCION ABREVIADA DE MENOR CUANTIA SAMC-03-2026 | D37: 10.1 | H37: =+D37 -> 10.1 | J37: =+H37 -> 10.1
B38: INSTITUTO NACIONAL DE SALUD | C38: PROCESO INS-LP-002-2026 | D38: 8 | H38: =+D38 -> 8 | J38: =+H38 -> 8
B39: UNIVERSIDAD NACIONAL DE COLOMBIA VIGENCIA 2026 | C39: INVITACION PUBLICA 19-2025-NAL | D39: 5.1 | F39: =+D39*F$9+D39 -> 5.3652 | G39: =+F39*G$9+F39 -> 5.6388252 | H39: =+G39 -> 5.6388252 | J39: =+H39 -> 5.6388252
B40: PARQUES NACIONALES NATURALES DE COLOMBIA | C40: LICITACIÓN PÚBLICA No. LP-NC-001-2026 | D40: 1.5 | H40: =+D40 -> 1.5 | I40: Casco Barco | J40: =+H40 -> 1.5 | K40: =TRIMMEAN((J40:J44),0) -> 4.400412 | L40: %
B41: AGENCIA LOGISTICA DE LAS FUERZA MILITARES | C41: LICITACIÓN PÚBLICA No. 002-046-2026 | D41: 5.5 | H41: =+D41 -> 5.5 | J41: =+H41 -> 5.5
B42: DEPARTAMENTO DE CUNDINAMARCA | C42: LICITACIÓN PÚBLICA SG-LP-001-2025 | D42: 5.374 | F42: =+D42*F$9+D42 -> 5.653448 | G42: =+F42*G$9+F42 -> 5.9417738 | H42: =+G42 -> 5.9417738 | J42: =+H42 -> 5.9417738
B43: UNIVERSIDAD NACIONAL DE COLOMBIA VIGENCIA 2026 | C43: INVITACION PUBLICA 19-2025-NAL | D43: 4.12 | F43: =+D43*F$9+D43 -> 4.33424 | G43: =+F43*G$9+F43 -> 4.5552862 | H43: =+G43 -> 4.5552862 | J43: =+H43 -> 4.5552862
...

Sheet 3.VIGENCIA 2026
C2: PARQUES NACIONALES NATURALES DE COLOMBIA
C3: ESTUDIO DE MERCADO
C4: CALCULO VALORES APROXIMADOS DE PRIMA VIGENCIA 2026 HASTA 2029
C7: VIGENCIA | D7: GRUPO No. 1, 2 y 4 | E7: GRUPO No. 3 | G7: GRUPO No. 5
C8: DESDE LAS 00:00 HORAS | D8: 46372 | E8: 46363 | G8: 46363
C9: HASTA LAS 00:00 HORAS | D9: 46388 | E9: 46388 | G9: 46388
C10: DIAS DE COBERTURA | D10: =+D9-D8 -> 16 | E10: =+E9-E8 -> 25 | G10: =+G9-G8 -> 25
C11: PRESUPUESTO | D11: =+M22+M28+M39 -> 1.7551898e+08 | E11: =+M33 -> 31298134 | G11: =+M44 -> 4270636 | I11: =+D11+E11+G11 -> 2.1108775e+08
B13: GRUPO No. 1 | C13: RAMO | D13: VALOR ASEGURADO | E13: VALOR ASEGURADO INDICE VARIABLE | F13: TIPO TASA | G13: TASA ANUAL | H13: TASA IND. VAR. | I13: SUBTOTAL PRIMA ANUAL | J13: PRIMA IND. VAR. ANUAL | K13: PRIMA PERIODO | L13: IVA | M13: TOTAL
C14: TODO RIESGO DAÑOS MATERIALES | D14: =+'7.VRES ASEGURADOS TRDM'!C19 -> 1.8721522e+11 | E14: =+'7.VRES ASEGURADOS TRDM'!D19 -> 2.8392864e+08 | F14: % | G14: =+'2.TASAS PROMEDIO'!K10 -> 10.301684 | H14: =+G14/2 -> 5.1508421 | I14: =ROUND((+D14*G14/1000),0) -> 1928632041 | J14: =ROUND((+E14*H14/1000),0) -> 1462472 | K14: =ROUND((I14+J14)/365*D10,0) -> 84606883 | L14: =ROUND((+K14*0.19),0) -> 16075308 | M14: =+K14+L14 -> 100682191
C15: VALOR FIJO PARA NUEVAS INCLUSIONES POLIZA TODO RIESGO DAÑOS MATERIALES | M15: =ROUND((+M14*3%),0) -> 3020466
C16: MANEJO GLOBAL ENTIDADES ESTATALES | D16: 800000000 | F16: % | G16: ='2.TASAS PROMEDIO'!K15 -> 19.628939 | H16: N/A | I16: =ROUND((+D16*G16/100),0) -> 157031512 | K16: =ROUND((I16+J16)/365*$D$10,0) -> 6883573 | L16: =ROUND((+K16*0.19),0) -> 1307879 | M16: =+K16+L16 -> 8191452
C17: RESPONSABILIDAD CIVIL EXTRACONTRACTUAL | D17: 6000000000 | F17: % | G17: ='2.TASAS PROMEDIO'!K19 -> 2.7522608 | H17: N/A | I17: =ROUND((+D17*G17/100),0) -> 165135648 | K17: =ROUND((I17+J17)/365*$D$10,0) -> 7238823 | L17: =ROUND((+K17*0.19),0) -> 1375376 | M17: =+K17+L17 -> 8614199
C18: TRANSPORTE DE VALORES | D18: 650000000 | F18: % | G18: ='2.TASAS PROMEDIO'!K24 -> 0.96995123 | H18: N/A | I18: =ROUND((+D18*G18/100),0) -> 6304683 | K18: =ROUND((I18+J18)/365*$D$10,0) -> 276370 | L18: =ROUND((+K18*0.19),0) -> 52510 | M18: =+K18+L18 -> 328880
C19: TRANSPORTE DE MERCANCIAS | D19: 300000000 | F19: % | G19: =+'2.TASAS PROMEDIO'!K29 -> 0.61 | H19: N/A | I19: =ROUND((+D19*G19/100),0) -> 1830000 | K19: =ROUND((I19+J19)/365*$D$10,0) -> 80219 | L19: =ROUND((+K19*0.19),0) -> 15242 | M19: =+K19+L19 -> 95461
C20: MAQUINARIA Y EQUIPO | D20: =+'8.VRES ASEGURADOS E&M '!C9 -> 548956000 | E20: =+'8.VRES ASEGURADOS E&M '!D9 -> 1203191.2 | F20: % | G20: =+'2.TASAS PROMEDIO'!K35 -> 9.247765 | H20: =+G20/2 -> 4.6238825 | I20: =ROUND((+D20*G20/1000),0) -> 5076616 | J20: =ROUND((+E20*H20/1000),0) -> 5563 | K20: =ROUND((I20+J20)/365*$D$10,0) -> 222780 | L20: =ROUND((+K20*0.19),0) -> 42328 | M20: =+K20+L20 -> 265108
C21: CASCO BARCO | D21: =+'9.CASCO BARCO'!I323 -> 7.8860631e+09 | F21: % | G21: =+'2.TASAS PROMEDIO'!K40 -> 4.400412 | H21: N/A | I21: =ROUND((+D21*G21/100),0) -> 347019268 | K21: =ROUND((I21+J21)/365*$D$10,0) -> 15211804 | L21: =ROUND((+K21*0.19),0) -> 2890243 | M21: =+K21+L21 -> 18102047
C22: TOTAL PROGRAMA DE SEGUROS GRUPO NO. 1 | M22: =SUM(M14:M21) -> 139299804
B25: GRUPO No. 2 | C25: RAMO | D25: VALOR ASEGURADO | F25: TASA ANUAL | H25: TIPO TASA | I25: SUBTOTAL PRIMA ANUAL | K25: PRIMA PERIODO | L25: IVA | M25: TOTAL
C26: AUTOMOVILES | D26: =+'10.PARQUE AUTOMOR 31-08-26 437'!Q439 -> 17942800000 | F26: % | G26: =+'2.TASAS PROMEDIO'!K50 -> 2.3190202 | H26: N/A | I26: =ROUND((+D26*G26/100),0) -> 416097149 | K26: =ROUND((I26+J26)/365*$D$10,0) -> 18239875 | L26: =ROUND((+K26*0.19),0) -> 3465576 | M26: =+K26+L26 -> 21705451
C27: REMANENTE POR AJUSTE POR CAMBIOS TARIFA FASECOLDA (NUEVAS INCLUSIONES) | M27: =ROUND((+M26*10%),0) -> 2170545
C28: TOTAL PROGRAMA DE SEGUROS GRUPO No. 2 | M28: =SUM(M26:M27) -> 23875996
B31: GRUPO No. 3 | C31: RAMO | D31: VALOR ASEGURADO | F31: TASA ANUAL | H31: TIPO TASA | I31: SUBTOTAL PRIMA ANUAL | K31: PRIMA PERIODO | L31: IVA | M31: TOTAL
C32: RESPONSABILIDAD CIVIL SERVIDORES PUBLICOS | D32: 2600000000 | F32: =+'2.TASAS PROMEDIO'!K60 -> 14.768997 | H32: % | I32: =ROUND((+D32*F32/100),0) -> 383993914 | K32: =ROUND((I32+J32)/365*$E$10,0) -> 26300953 | L32: =ROUND((+K32*0.19),0) -> 4997181 | M32: =+K32+L32 -> 31298134
C33: TOTAL PROGRAMA DE SEGUROS GRUPO No. 3 | M33: =SUM(M32:M32) -> 31298134
B36: GRUPO No. 4 | C36: RAMO | D36: VALOR ASEGURADO | F36: TASA ANUAL | H36: TIPO TASA | I36: SUBTOTAL PRIMA ANUAL | K36: PRIMA PERIODO | L36: IVA | M36: TOTAL
C37: CASCO AVIACIÓN (DRONES) | D37: =+'11.DRONES'!I23 -> 824021468 | F37: =+'2.TASAS PROMEDIO'!K69 -> 18.895593 | H37: % | I37: =+D37*F37/100 -> 1.5570374e+08 | K37: =ROUND((I37+J37)/365*$D$10,0) -> 6825369 | L37: =ROUND((+K37*0.19),0) -> 1296820 | M37: =+K37+L37 -> 8122189
C38: RCE LÍMITE DE $14.162.616.372,42 POR DRONE) EQUIVALENTE A 33,333 GRAMOS ORO (RAC100) POR $424.882,74 | D38: =(33333*424882.74)*17 -> 2.4076448e+11 | F38: =+'2.TASAS PROMEDIO'!J70 -> 4759832 | I38: =F38*17 -> 80917144 | K38: =ROUND((I38+J38)/365*$D$10,0) -> 3547053 | L38: =ROUND((+K38*0.19),0)-0.7 -> 673939.3 | M38: =+K38+L38 -> 4220992.3
C39: TOTAL PROGRAMA DE SEGUROS GRUPO No. 4 | M39: =SUM(M37:M38) -> 12343181
B42: GRUPO No. 5 | C42: RAMO | D42: VALOR ASEGURADO | F42: TASA ANUAL | H42: TIPO TASA | I42: SUBTOTAL PRIMA ANUAL | K42: PRIMA PERIODO | L42: IVA | M42: TOTAL
C43: ACCIDENTES PERSONALES (GUARDABOSQUES) | D43: =59000000*100 -> 5900000000 | F43: =+'2.TASAS PROMEDIO'!K79 -> 8.8806853 | H43: %o | I43: =+D43*F43/1000 -> 52396043 | K43: =ROUND((I43+J43)/365*$G$10,0) -> 3588770 | L43: =ROUND((+K43*0.19),0) -> 681866 | M43: =+K43+L43 -> 4270636
C44: TOTAL PROGRAMA DE SEGUROS GRUPO No. 5 | M44: =SUM(M43:M43) -> 4270636
B46: TOTAL PROGRAMA DE SEGUROS | M46: =+M44+M39+M33+M28+M22 -> 2.1108775e+08

Sheet 4.VIGENCIA 2027
C2: PARQUES NACIONALES NATURALES DE COLOMBIA
C3: ESTUDIO DE MERCADO
C4: CALCULO VALORES APROXIMADOS DE PRIMA VIGENCIA 2026 HASTA 2029
C7: VIGENCIA | D7: GRUPO No. 1 AL 5
C8: DESDE LAS 00:00 HORAS | D8: 46388
C9: HASTA LAS 00:00 HORAS | D9: 46753
C10: DIAS DE COBERTURA | D10: =+D9-D8 -> 365
C11: PRESUPUESTO | D11: =+M47 -> 4.5944215e+09
B13: GRUPO No. 1 | C13: RAMO | D13: VALOR ASEGURADO | E13: VALOR ASEGURADO INDICE VARIABLE | F13: TIPO TASA | G13: TASA ANUAL | H13: TASA IND. VAR. | I13: SUBTOTAL PRIMA ANUAL | J13: PRIMA IND. VAR. ANUAL | K13: PRIMA PERIODO | L13: IVA | M13: TOTAL
C14: TODO RIESGO DAÑOS MATERIALES | D14: =+'7.VRES ASEGURADOS TRDM'!F19 -> 1.8749914e+11 | E14: =+'7.VRES ASEGURADOS TRDM'!G19 -> 6.4913185e+09 | F14: % | G14: =+'2.TASAS PROMEDIO'!K10 -> 10.301684 | H14: =+G14/2 -> 5.1508421 | I14: =ROUND((+D14*G14/1000),0) -> 1931556984 | J14: =ROUND((+E14*H14/1000),0) -> 33435757 | K14: =ROUND((I14+J14)/365*D10,0) -> 1964992741 | L14: =ROUND((+K14*0.19),0) -> 373348621 | M14: =+K14+L14 -> 2338341362
C15: VALOR FIJO PARA NUEVAS INCLUSIONES POLIZA TODO RIESGO DAÑOS MATERIALES | M15: =+M14*3% -> 70150241
C16: MANEJO GLOBAL ENTIDADES ESTATALES | D16: 800000000 | F16: % | G16: ='2.TASAS PROMEDIO'!K15 -> 19.628939 | H16: N/A | I16: =ROUND((+D16*G16/100),0) -> 157031512 | K16: =ROUND((I16+J16)/365*$D$10,0) -> 157031512 | L16: =ROUND((+K16*0.19),0) -> 29835987 | M16: =+K16+L16 -> 186867499
C17: RESPONSABILIDAD CIVIL EXTRACONTRACTUAL | D17: 6000000000 | F17: % | G17: ='2.TASAS PROMEDIO'!K19 -> 2.7522608 | H17: N/A | I17: =ROUND((+D17*G17/100),0) -> 165135648 | K17: =ROUND((I17+J17)/365*$D$10,0) -> 165135648 | L17: =ROUND((+K17*0.19),0) -> 31375773 | M17: =+K17+L17 -> 196511421
C18: TRANSPORTE DE VALORES | D18: 650000000 | F18: % | G18: ='2.TASAS PROMEDIO'!K24 -> 0.96995123 | H18: N/A | I18: =ROUND((+D18*G18/100),0) -> 6304683 | K18: =ROUND((I18+J18)/365*$D$10,0) -> 6304683 | L18: =ROUND((+K18*0.19),0) -> 1197890 | M18: =+K18+L18 -> 7502573
C19: TRANSPORTE DE MERCANCIAS | D19: 300000000 | F19: % | G19: =+'2.TASAS PROMEDIO'!K29 -> 0.61 | H19: N/A | I19: =ROUND((+D19*G19/100),0) -> 1830000 | K19: =ROUND((I19+J19)/365*$D$10,0) -> 1830000 | L19: =ROUND((+K19*0.19),0) -> 347700 | M19: =+K19+L19 -> 2177700
C20: MAQUINARIA Y EQUIPO | D20: =+'8.VRES ASEGURADOS E&M '!F9 -> 5.5015919e+08 | E20: =+'8.VRES ASEGURADOS E&M '!G9 -> 27507960 | F20: % | G20: =+'2.TASAS PROMEDIO'!K35 -> 9.247765 | H20: =+G20/2 -> 4.6238825 | I20: =ROUND((+D20*G20/1000),0) -> 5087743 | J20: =ROUND((+E20*H20/1000),0) -> 127194 | K20: =ROUND((I20+J20)/365*$D$10,0) -> 5214937 | L20: =ROUND((+K20*0.19),0) -> 990838 | M20: =+K20+L20 -> 6205775
C21: CASCO BARCO | D21: =+'9.CASCO BARCO'!I323 -> 7.8860631e+09 | F21: % | G21: =+'2.TASAS PROMEDIO'!K40 -> 4.400412 | H21: N/A | I21: =ROUND((+D21*G21/100),0) -> 347019268 | K21: =ROUND((I21+J21)/365*$D$10,0) -> 347019268 | L21: =ROUND((+K21*0.19),0) -> 65933661 | M21: =+K21+L21 -> 412952929
C22: TOTAL PROGRAMA DE SEGUROS GRUPO NO. 1 | M22: =SUM(M14:M21) -> 3.2207095e+09
B25: GRUPO No. 2 | C25: RAMO | D25: VALOR ASEGURADO | F25: TASA ANUAL | H25: TIPO TASA | I25: SUBTOTAL PRIMA ANUAL | K25: PRIMA PERIODO | L25: IVA | M25: TOTAL
C26: AUTOMOVILES | D26: =+'10.PARQUE AUTOMOR 31-08-26 437'!Q439 -> 17942800000 | F26: % | G26: =+'2.TASAS PROMEDIO'!K50 -> 2.3190202 | H26: N/A | I26: =ROUND((+D26*G26/100),0) -> 416097149 | K26: =ROUND((I26+J26)/365*$D$10,0) -> 416097149 | L26: =ROUND((+K26*0.19),0) -> 79058458 | M26: =+K26+L26 -> 495155607
C27: REMANENTE POR AJUSTE POR CAMBIOS TARIFA FASECOLDA (NUEVAS INCLUSIONES) | M27: =+M26*10% -> 49515561
C28: TOTAL PROGRAMA DE SEGUROS GRUPO No. 2 | M28: =SUM(M26:M27) -> 5.4467117e+08
B31: GRUPO No. 3 | C31: RAMO | D31: VALOR ASEGURADO | F31: TASA ANUAL | H31: TIPO TASA | I31: SUBTOTAL PRIMA ANUAL | K31: PRIMA PERIODO | L31: IVA | M31: TOTAL
C32: RESPONSABILIDAD CIVIL SERVIDORES PUBLICOS | D32: 2600000000 | F32: =+'2.TASAS PROMEDIO'!K60 -> 14.768997 | H32: % | I32: =+D32*F32/100 -> 3.8399391e+08 | K32: =ROUND((I32+J32)/365*$D$10,0) -> 383993914 | L32: =ROUND((+K32*0.19),0) -> 72958844 | M32: =+K32+L32 -> 456952758
C33: TOTAL PROGRAMA DE SEGUROS GRUPO No. 3 | M33: =SUM(M32:M32) -> 456952758
B36: GRUPO No. 4 | C36: RAMO | D36: VALOR ASEGURADO | F36: TASA ANUAL | H36: TIPO TASA | I36: SUBTOTAL PRIMA ANUAL | K36: PRIMA PERIODO | L36: IVA | M36: TOTAL
C37: CASCO AVIACIÓN (DRONES) | D37: =+'11.DRONES'!I23 -> 824021468 | F37: =+'2.TASAS PROMEDIO'!K69 -> 18.895593 | H37: % | I37: =+D37*F37/100 -> 1.5570374e+08 | K37: =ROUND((I37+J37)/365*$D$10,0) -> 155703740 | L37: =ROUND((+K37*0.19),0) -> 29583711 | M37: =+K37+L37 -> 185287451
C38: =+'3.VIGENCIA 2026'!C38 -> RCE LÍMITE DE $14.162.616.372,42 POR DRONE) EQUIVALENTE A 33,333 GRAMOS ORO (RAC100) POR $424.882,74 | D38: =+'3.VIGENCIA 2026'!D38 -> 2.4076448e+11 | F38: =+'3.VIGENCIA 2026'!F38 -> 4759832 | I38: =+F38*17 -> 80917144 | K38: =ROUND((I38+J38)/365*$D$10,0) -> 80917144 | L38: =ROUND((+K38*0.19),0) -> 15374257 | M38: =+K38+L38 -> 96291401
C39: REMANENTE (NUEVAS INCLUSIONES) | M39: =(+M37+M38)*10% -> 28157885
C40: TOTAL PROGRAMA DE SEGUROS GRUPO No. 4 | M40: =SUM(M37:M39) -> 3.0973674e+08
B43: GRUPO No. 5 | C43: RAMO | D43: VALOR ASEGURADO | F43: TASA ANUAL | H43: TIPO TASA | I43: SUBTOTAL PRIMA ANUAL | K43: PRIMA PERIODO | L43: IVA | M43: TOTAL
C44: ACCIDENTES PERSONALES (GUARDABOSQUES) | D44: =59000000*100 -> 5900000000 | F44: =+'2.TASAS PROMEDIO'!K79 -> 8.8806853 | H44: %o | I44: =+D44*F44/1000 -> 52396043 | K44: =ROUND((I44+J44)/365*$D$10,0) -> 52396043 | L44: =ROUND((+K44*0.19),0) -> 9955248 | M44: =+K44+L44 -> 62351291
C45: TOTAL PROGRAMA DE SEGUROS GRUPO No. 5 | M45: =SUM(M44:M44) -> 62351291
B47: TOTAL PROGRAMA DE SEGUROS | M47: =+M45+M40+M33+M28+M22 -> 4.5944215e+09

Sheet 5.VIGENCIA 2028
C2: PARQUES NACIONALES NATURALES DE COLOMBIA
C3: ESTUDIO DE MERCADO
C4: CALCULO VALORES APROXIMADOS DE PRIMA VIGENCIA 2026 HASTA 2029
C7: VIGENCIA | D7: GRUPO No. 1 AL 5
C8: DESDE LAS 00:00 HORAS | D8: 46753
C9: HASTA LAS 00:00 HORAS | D9: 47119
C10: DIAS DE COBERTURA | D10: =+D9-D8 -> 366
C11: PRESUPUESTO | D11: =+M47 -> 4.6915637e+09
B13: GRUPO No. 1 | C13: RAMO | D13: VALOR ASEGURADO | E13: VALOR ASEGURADO INDICE VARIABLE | F13: TIPO TASA | G13: TASA ANUAL | H13: TASA IND. VAR. | I13: SUBTOTAL PRIMA ANUAL | J13: PRIMA IND. VAR. ANUAL | K13: PRIMA PERIODO | L13: IVA | M13: TOTAL
C14: TODO RIESGO DAÑOS MATERIALES | D14: =+'7.VRES ASEGURADOS TRDM'!I19 -> 1.9399046e+11 | E14: =+'7.VRES ASEGURADOS TRDM'!J19 -> 6.8158844e+09 | F14: %o | G14: =+'2.TASAS PROMEDIO'!K10 -> 10.301684 | H14: =+G14/2 -> 5.1508421 | I14: =ROUND((+D14*G14/1000),0) -> 1998428498 | J14: =ROUND((+E14*H14/1000),0) -> 35107545 | K14: =ROUND((I14+J14)/365*$D$10,0) -> 2039107375 | L14: =ROUND((+K14*0.19),0) -> 387430401 | M14: =+K14+L14 -> 2426537776
C15: VALOR FIJO PARA NUEVAS INCLUSIONES POLIZA TODO RIESGO DAÑOS MATERIALES | M15: =+M14*3% -> 72796133
C16: MANEJO GLOBAL ENTIDADES ESTATALES | D16: 800000000 | F16: % | G16: ='2.TASAS PROMEDIO'!K15 -> 19.628939 | H16: N/A | I16: =ROUND((+D16*G16/100),0) -> 157031512 | K16: =ROUND((I16+J16)/365*$D$10,0) -> 157461735 | L16: =ROUND((+K16*0.19),0) -> 29917730 | M16: =+K16+L16 -> 187379465
C17: RESPONSABILIDAD CIVIL EXTRACONTRACTUAL | D17: 6000000000 | F17: % | G17: ='2.TASAS PROMEDIO'!K19 -> 2.7522608 | H17: N/A | I17: =ROUND((+D17*G17/100),0) -> 165135648 | K17: =ROUND((I17+J17)/365*$D$10,0) -> 165588074 | L17: =ROUND((+K17*0.19),0) -> 31461734 | M17: =+K17+L17 -> 197049808
C18: TRANSPORTE DE VALORES | D18: 650000000 | F18: % | G18: ='2.TASAS PROMEDIO'!K24 -> 0.96995123 | H18: N/A | I18: =ROUND((+D18*G18/100),0) -> 6304683 | K18: =ROUND((I18+J18)/365*$D$10,0) -> 6321956 | L18: =ROUND((+K18*0.19),0) -> 1201172 | M18: =+K18+L18 -> 7523128
C19: TRANSPORTE DE MERCANCIAS | D19: 300000000 | F19: % | G19: =+'2.TASAS PROMEDIO'!K29 -> 0.61 | H19: N/A | I19: =ROUND((+D19*G19/100),0) -> 1830000 | K19: =ROUND((I19+J19)/365*$D$10,0) -> 1835014 | L19: =ROUND((+K19*0.19),0) -> 348653 | M19: =+K19+L19 -> 2183667
C20: MAQUINARIA Y EQUIPO | D20: =+'8.VRES ASEGURADOS E&M '!I9 -> 5.7766715e+08 | E20: =+'8.VRES ASEGURADOS E&M '!J9 -> 28883358 | F20: %o | G20: =+'2.TASAS PROMEDIO'!K35 -> 9.247765 | H20: =+G20/2 -> 4.6238825 | I20: =ROUND((+D20*G20/1000),0) -> 5342130 | J20: =ROUND((+E20*H20/1000),0) -> 133553 | K20: =ROUND((I20+J20)/365*$D$10,0) -> 5490685 | L20: =ROUND((+K20*0.19),0) -> 1043230 | M20: =+K20+L20 -> 6533915
C21: CASCO BARCO | D21: =+'9.CASCO BARCO'!I323 -> 7.8860631e+09 | F21: % | G21: =+'2.TASAS PROMEDIO'!K40 -> 4.400412 | H21: N/A | I21: =ROUND((+D21*G21/100),0) -> 347019268 | K21: =ROUND((I21+J21)/365*$D$10,0) -> 347970006 | L21: =ROUND((+K21*0.19),0) -> 66114301 | M21: =+K21+L21 -> 414084307
C22: TOTAL PROGRAMA DE SEGUROS GRUPO NO. 1 | M22: =SUM(M14:M21) -> 3.3140882e+09
B25: GRUPO No. 2 | C25: RAMO | D25: VALOR ASEGURADO | F25: TASA ANUAL | H25: TIPO TASA | I25: SUBTOTAL PRIMA ANUAL | K25: PRIMA PERIODO | L25: IVA | M25: TOTAL
C26: AUTOMOVILES | D26: =+'10.PARQUE AUTOMOR 31-08-26 437'!Q439 -> 17942800000 | F26: % | G26: =+'2.TASAS PROMEDIO'!K50 -> 2.3190202 | H26: N/A | I26: =ROUND((+D26*G26/100),0) -> 416097149 | K26: =ROUND((I26+J26)/365*$D$10,0) -> 417237141 | L26: =ROUND((+K26*0.19),0) -> 79275057 | M26: =+K26+L26 -> 496512198
C27: REMANENTE POR AJUSTE POR CAMBIOS TARIFA FASECOLDA (NUEVAS INCLUSIONES) | M27: =+M26*10% -> 49651220
C28: TOTAL PROGRAMA DE SEGUROS GRUPO No. 2 | M28: =SUM(M26:M27) -> 5.4616342e+08
B31: GRUPO No. 3 | C31: RAMO | D31: VALOR ASEGURADO | F31: TASA ANUAL | H31: TIPO TASA | I31: SUBTOTAL PRIMA ANUAL | K31: PRIMA PERIODO | L31: IVA | M31: TOTAL
C32: RESPONSABILIDAD CIVIL SERVIDORES PUBLICOS | D32: 2600000000 | F32: =+'2.TASAS PROMEDIO'!K60 -> 14.768997 | H32: % | I32: =+D32*F32/100 -> 3.8399391e+08 | K32: =ROUND((I32+J32)/365*$D$10,0) -> 385045952 | L32: =ROUND((+K32*0.19),0) -> 73158731 | M32: =+K32+L32 -> 458204683
C33: TOTAL PROGRAMA DE SEGUROS GRUPO No. 3 | M33: =SUM(M32:M32) -> 458204683
B36: GRUPO No. 4 | C36: RAMO | D36: VALOR ASEGURADO | F36: TASA ANUAL | H36: TIPO TASA | I36: SUBTOTAL PRIMA ANUAL | K36: PRIMA PERIODO | L36: IVA | M36: TOTAL
C37: CASCO AVIACIÓN (DRONES) | D37: =+'11.DRONES'!I23 -> 824021468 | F37: =+'2.TASAS PROMEDIO'!K69 -> 18.895593 | H37: % | I37: =+D37*F37/100 -> 1.5570374e+08 | K37: =ROUND((I37+J37)/365*$D$10,0) -> 156130326 | L37: =ROUND((+K37*0.19),0) -> 29664762 | M37: =+K37+L37 -> 185795088
C38: CASCO AVIACIÓN (DRONES) RCE $4,305,000 X DRONE) | D38: =+((441898.63)*33333)*17 -> 2.5040672e+11 | F38: =+'2.TASAS PROMEDIO'!H70 -> 4759832 | I38: =+F38*17 -> 80917144 | K38: =ROUND((I38+J38)/365*$D$10,0) -> 81138835 | L38: =ROUND((+K38*0.19),0) -> 15416379 | M38: =+K38+L38 -> 96555214
C39: REMANENTE (NUEVAS INCLUSIONES) | M39: =(+M37+M38)*10% -> 28235030
C40: TOTAL PROGRAMA DE SEGUROS GRUPO No. 4 | M40: =SUM(M37:M39) -> 3.1058533e+08
B43: GRUPO No. 5 | C43: RAMO | D43: VALOR ASEGURADO | F43: TASA ANUAL | H43: TIPO TASA | I43: SUBTOTAL PRIMA ANUAL | K43: PRIMA PERIODO | L43: IVA | M43: TOTAL
C44: ACCIDENTES PERSONALES (GUARDABOSQUES) | D44: =59000000*100 -> 5900000000 | F44: =+'2.TASAS PROMEDIO'!K79 -> 8.8806853 | H44: %o | I44: =+D44*F44/1000 -> 52396043 | K44: =ROUND((I44+J44)/365*$D$10,0) -> 52539594 | L44: =ROUND((+K44*0.19),0) -> 9982523 | M44: =+K44+L44 -> 62522117
C45: TOTAL PROGRAMA DE SEGUROS GRUPO No. 5 | M45: =SUM(M44:M44) -> 62522117
B47: TOTAL PROGRAMA DE SEGUROS | M47: =+M45+M40+M33+M28+M22 -> 4.6915637e+09

Sheet 6.VIGENCIA 2029
C2: PARQUES NACIONALES NATURALES DE COLOMBIA
C3: ESTUDIO DE MERCADO
C4: CALCULO VALORES APROXIMADOS DE PRIMA VIGENCIA 2026 HASTA 2029
C7: VIGENCIA | D7: GRUPO No. 1 AL 5
C8: DESDE LAS 00:00 HORAS | D8: 47119
C9: HASTA LAS 00:00 HORAS | D9: 47468
C10: DIAS DE COBERTURA | D10: =+D9-D8 -> 349
C11: PRESUPUESTO | D11: =+M47 -> 4.5565264e+09
B13: GRUPO No. 1 | C13: RAMO | D13: VALOR ASEGURADO | E13: VALOR ASEGURADO INDICE VARIABLE | F13: TIPO TASA | G13: TASA ANUAL | H13: TASA IND. VAR. | I13: SUBTOTAL PRIMA ANUAL | J13: PRIMA IND. VAR. ANUAL | K13: PRIMA PERIODO | L13: IVA | M13: TOTAL
C14: TODO RIESGO DAÑOS MATERIALES | D14: =+'7.VRES ASEGURADOS TRDM'!L19 -> 2.0080635e+11 | E14: =+'7.VRES ASEGURADOS TRDM'!M19 -> 6.8625686e+09 | F14: %o | G14: =+'2.TASAS PROMEDIO'!K10 -> 10.301684 | H14: =+G14/2 -> 5.1508421 | I14: =ROUND((+D14*G14/1000),0) -> 2068643587 | J14: =ROUND((+E14*H14/1000),0) -> 35348007 | K14: =ROUND((I14+J14)/365*D10,0) -> 2011761825 | L14: =ROUND((+K14*0.19),0) -> 382234747 | M14: =+K14+L14 -> 2393996572
C15: VALOR FIJO PARA NUEVAS INCLUSIONES POLIZA TODO RIESGO DAÑOS MATERIALES | M15: =+M14*3% -> 71819897
C16: MANEJO GLOBAL ENTIDADES ESTATALES | D16: 800000000 | F16: % | G16: ='2.TASAS PROMEDIO'!K15 -> 19.628939 | H16: N/A | I16: =ROUND((+D16*G16/100),0) -> 157031512 | K16: =ROUND((I16+J16)/365*$D$10,0) -> 150147939 | L16: =ROUND((+K16*0.19),0) -> 28528108 | M16: =+K16+L16 -> 178676047
C17: RESPONSABILIDAD CIVIL EXTRACONTRACTUAL | D17: 6000000000 | F17: % | G17: ='2.TASAS PROMEDIO'!K19 -> 2.7522608 | H17: N/A | I17: =ROUND((+D17*G17/100),0) -> 165135648 | K17: =ROUND((I17+J17)/365*$D$10,0) -> 157896825 | L17: =ROUND((+K17*0.19),0) -> 30000397 | M17: =+K17+L17 -> 187897222
C18: TRANSPORTE DE VALORES | D18: 650000000 | F18: % | G18: ='2.TASAS PROMEDIO'!K24 -> 0.96995123 | H18: N/A | I18: =ROUND((+D18*G18/100),0) -> 6304683 | K18: =ROUND((I18+J18)/365*$D$10,0) -> 6028313 | L18: =ROUND((+K18*0.19),0) -> 1145379 | M18: =+K18+L18 -> 7173692
C19: TRANSPORTE DE MERCANCIAS | D19: 300000000 | F19: % | G19: =+'2.TASAS PROMEDIO'!K29 -> 0.61 | H19: N/A | I19: =ROUND((+D19*G19/100),0) -> 1830000 | K19: =ROUND((I19+J19)/365*$D$10,0) -> 1749781 | L19: =ROUND((+K19*0.19),0) -> 332458 | M19: =+K19+L19 -> 2082239
C20: MAQUINARIA Y EQUIPO | D20: =+'8.VRES ASEGURADOS E&M '!L9 -> 6.0655051e+08 | E20: =+'8.VRES ASEGURADOS E&M '!M9 -> 29081189 | F20: %o | G20: =+'2.TASAS PROMEDIO'!K35 -> 9.247765 | H20: =+G20/2 -> 4.6238825 | I20: =ROUND((+D20*G20/1000),0) -> 5609237 | J20: =ROUND((+E20*H20/1000),0) -> 134468 | K20: =ROUND((I20+J20)/365*$D$10,0) -> 5491926 | L20: =ROUND((+K20*0.19),0) -> 1043466 | M20: =+K20+L20 -> 6535392
C21: CASCO BARCO | D21: =+'9.CASCO BARCO'!I323 -> 7.8860631e+09 | F21: % | G21: =+'2.TASAS PROMEDIO'!K40 -> 4.400412 | H21: N/A | I21: =ROUND((+D21*G21/100),0) -> 347019268 | K21: =ROUND((I21+J21)/365*$D$10,0) -> 331807464 | L21: =ROUND((+K21*0.19),0) -> 63043418 | M21: =+K21+L21 -> 394850882
C22: TOTAL PROGRAMA DE SEGUROS GRUPO NO. 1 | M22: =SUM(M14:M21) -> 3.2430319e+09
B25: GRUPO No. 2 | C25: RAMO | D25: VALOR ASEGURADO | F25: TASA ANUAL | H25: TIPO TASA | I25: SUBTOTAL PRIMA ANUAL | K25: PRIMA PERIODO | L25: IVA | M25: TOTAL
C26: AUTOMOVILES | D26: =+'10.PARQUE AUTOMOR 31-08-26 437'!Q439 -> 17942800000 | F26: % | G26: =+'2.TASAS PROMEDIO'!K50 -> 2.3190202 | H26: N/A | I26: =ROUND((+D26*G26/100),0) -> 416097149 | K26: =ROUND((I26+J26)/365*$D$10,0) -> 397857274 | L26: =ROUND((+K26*0.19),0) -> 75592882 | M26: =+K26+L26 -> 473450156
C27: REMANENTE POR AJUSTE POR CAMBIOS TARIFA FASECOLDA (NUEVAS INCLUSIONES) | M27: =+M26*10% -> 47345016
C28: TOTAL PROGRAMA DE SEGUROS GRUPO No. 2 | M28: =SUM(M26:M27) -> 5.2079517e+08
B31: GRUPO No. 3 | C31: RAMO | D31: VALOR ASEGURADO | F31: TASA ANUAL | H31: TIPO TASA | I31: SUBTOTAL PRIMA ANUAL | K31: PRIMA PERIODO | L31: IVA | M31: TOTAL
C32: RESPONSABILIDAD CIVIL SERVIDORES PUBLICOS | D32: 2600000000 | F32: =+'2.TASAS PROMEDIO'!K60 -> 14.768997 | H32: % | I32: =+D32*F32/100 -> 3.8399391e+08 | K32: =ROUND((I32+J32)/365*$D$10,0) -> 367161304 | L32: =ROUND((+K32*0.19),0) -> 69760648 | M32: =+K32+L32 -> 436921952
C33: TOTAL PROGRAMA DE SEGUROS GRUPO No. 3 | M33: =SUM(M32:M32) -> 436921952
B36: GRUPO No. 4 | C36: RAMO | D36: VALOR ASEGURADO | F36: TASA ANUAL | H36: TIPO TASA | I36: SUBTOTAL PRIMA ANUAL | K36: PRIMA PERIODO | L36: IVA | M36: TOTAL
C37: CASCO AVIACIÓN (DRONES) | D37: =+'11.DRONES'!I23 -> 824021468 | F37: =+'2.TASAS PROMEDIO'!K69 -> 18.895593 | H37: % | I37: =+D37*F37/100 -> 1.5570374e+08 | K37: =ROUND((I37+J37)/365*$D$10,0) -> 148878371 | L37: =ROUND((+K37*0.19),0) -> 28286890 | M37: =+K37+L37 -> 177165261
C38: CASCO AVIACIÓN (DRONES) RCE $4,305,000 X DRONE) | D38: =+((441898.63)*33333)*17 -> 2.5040672e+11 | F38: =+'2.TASAS PROMEDIO'!H70 -> 4759832 | I38: =+F38*17 -> 80917144 | K38: =ROUND((I38+J38)/365*$D$10,0) -> 77370091 | L38: =ROUND((+K38*0.19),0) -> 14700317 | M38: =+K38+L38 -> 92070408
C39: REMANENTE (NUEVAS INCLUSIONES) | M39: =(+M37+M38)*10% -> 26923567
C40: TOTAL PROGRAMA DE SEGUROS GRUPO No. 4 | M40: =SUM(M37:M39) -> 2.9615924e+08
B43: GRUPO No. 5 | C43: RAMO | D43: VALOR ASEGURADO | F43: TASA ANUAL | H43: TIPO TASA | I43: SUBTOTAL PRIMA ANUAL | K43: PRIMA PERIODO | L43: IVA | M43: TOTAL
C44: ACCIDENTES PERSONALES (GUARDABOSQUES) | D44: =59000000*100 -> 5900000000 | F44: =+'2.TASAS PROMEDIO'!K79 -> 8.8806853 | H44: %o | I44: =+D44*F44/1000 -> 52396043 | K44: =ROUND((I44+J44)/365*$D$10,0) -> 50099231 | L44: =ROUND((+K44*0.19),0) -> 9518854 | M44: =+K44+L44 -> 59618085
C45: TOTAL PROGRAMA DE SEGUROS GRUPO No. 5 | M45: =SUM(M44:M44) -> 59618085
B47: TOTAL PROGRAMA DE SEGUROS | M47: =+M45+M40+M33+M28+M22 -> 4.5565264e+09

Sheet 7.VRES ASEGURADOS TRDM
B2: ANEXO No. XX- RELACION BIENES Y VALORES ASEGURADOS TRDM
B4: BIENES ASEGURADOS | C4: VIGENCIA 2026 | F4: VIGENCIA 2027 | I4: VIGENCIA 2028 | L4: VIGENCIA 2029
C5: VALOR ASEGURADO | D5: INDICE VARIABLE 5% | E5: TOTAL | F5: VALOR ASEGURADO | G5: INDICE VARIABLE 5% | H5: TOTAL | I5: VALOR ASEGURADO | J5: INDICE VARIABLE 5% | K5: TOTAL | L5: VALOR ASEGURADO | M5: INDICE VARIABLE 5% | N5: TOTAL
B6: EDIFICIOS (INCLUYE MEJORAS LOCATIVAS) A NIVEL NACIONAL | C6: 8.8479084e+10 | D6: =(+C6*5%)/365*16 -> 1.9392676e+08 | E6: =+C6+D6 -> 8.8673011e+10 | F6: =+E6 -> 8.8673011e+10 | G6: =+F6*5% -> 4.4336506e+09 | H6: =+F6+G6 -> 9.3106662e+10 | I6: =+H6 -> 9.3106662e+10 | J6: =+I6*5% -> 4.6553331e+09 | K6: =+I6+J6 -> 9.7761995e+10 | L6: =+K6 -> 9.7761995e+10 | M6: =(+L6*5%)/365*350 -> 4.6872189e+09 | N6: =+L6+M6 -> 1.0244921e+11
B7: A2. Edificios en Comodato | C7: 3225145441 | D7: =(+C7*5%)/365*16 -> 7068811.9 | E7: =+C7+D7 -> 3.2322143e+09 | F7: =+E7 -> 3.2322143e+09 | G7: =+F7*5% -> 1.6161071e+08 | H7: =+F7+G7 -> 3.393825e+09 | I7: =+H7 -> 3.393825e+09 | J7: =+I7*5% -> 1.6969125e+08 | K7: =+I7+J7 -> 3.5635162e+09 | L7: =+K7 -> 3.5635162e+09 | M7: =(+L7*5%)/365*350 -> 1.7085352e+08 | N7: =+L7+M7 -> 3.7343697e+09
B8: TOTAL EDIFICIOS | C8: =SUM(C6:C7) -> 9.170423e+10 | D8: =SUM(D6:D7) -> 2.0099557e+08 | E8: =SUM(E6:E7) -> 9.1905225e+10 | F8: =SUM(F6:F7) -> 9.1905225e+10 | G8: =SUM(G6:G7) -> 4.5952613e+09 | H8: =SUM(H6:H7) -> 9.6500487e+10 | I8: =SUM(I6:I7) -> 9.6500487e+10 | J8: =SUM(J6:J7) -> 4.8250243e+09 | ... N8: =SUM(N6:N7) -> 1.0618358e+11
B9: CONTENIDOS, MUEBLES Y ENSERES | C9: 4.1892847e+09 | E9: =+C9+D9 -> 4.1892847e+09 | F9: 4.1892847e+09 | H9: =+F9+G9 -> 4.1892847e+09 | I9: 4.1892847e+09 | K9: =+I9+J9 -> 4.1892847e+09 | L9: 4.1892847e+09 | N9: =+L9+M9 -> 4.1892847e+09
B10: EQUIPO ELECTRICO Y ELECTRONICO Y DE COMUNICACIÓN (Incluido equipos móviles y portátiltes, software, licencias, cámaras, antenas, paneles solares, etc) | C10: 3.7838212e+10 | D10: =(+C10*5%)/365*16 -> 82933066 | E10: =+C10+D10 -> 3.7921145e+10 | F10: =+E10 -> 3.7921145e+10 | G10: =+F10*5% -> 1.8960572e+09 | H10: =+F10+G10 -> 3.9817202e+10 | I10: =+H10 -> 3.9817202e+10 | J10: =+I10*5% -> 1.9908601e+09 | K10: =+I10+J10 -> 4.1808062e+10 | L10: =+K10 -> 4.1808062e+10 | M10: =(+L10*5%)/365*350 -> 2.0044961e+09 | N10: =+L10+M10 -> 4.3812558e+10
B11: EQUIPO Y MAQUINARIA | C11: 7.9447714e+09 | E11: =+C11+D11 -> 7.9447714e+09 | F11: 7.9447714e+09 | H11: =+F11+G11 -> 7.9447714e+09 | I11: 7.9447714e+09 | K11: =+I11+J11 -> 7.9447714e+09 | L11: 7.9447714e+09 | N11: =+L11+M11 -> 7.9447714e+09
B12: SEMOVIENTES | C12: 1.152605e+08 | E12: =+C12+D12 -> 1.152605e+08 | F12: 1.152605e+08 | H12: =+F12+G12 -> 1.152605e+08 | I12: 1.152605e+08 | K12: =+I12+J12 -> 1.152605e+08 | L12: 1.152605e+08 | N12: =+L12+M12 -> 1.152605e+08
B13: DINEROS Y TITULOS VALORES (DENTRO Y FUERA DE CAJA FUERTE) | C13: 700000000 | E13: =+C13+D13 -> 700000000 | F13: 700000000 | H13: =+F13+G13 -> 700000000 | I13: 700000000 | K13: =+I13+J13 -> 700000000 | L13: 700000000 | N13: =+L13+M13 -> 700000000
B14: MERCANCIAS (BIENES DE CONSUMO: Papelería, Aseo, entre otros) | C14: 500000000 | E14: =+C14+D14 -> 500000000 | F14: 500000000 | H14: =+F14+G14 -> 500000000 | I14: 500000000 | K14: =+I14+J14 -> 500000000 | L14: 500000000 | N14: =+L14+M14 -> 500000000
B15: BIENES EN REPOSO | C15: 1.2882612e+10 | E15: =+C15+D15 -> 1.2882612e+10 | F15: 1.2882612e+10 | H15: =+F15+G15 -> 1.2882612e+10 | I15: 1.2882612e+10 | K15: =+I15+J15 -> 1.2882612e+10 | L15: 1.2882612e+10 | N15: =+L15+M15 -> 1.2882612e+10
B16: ADECUACION DE CONSTRUCCIONES A LAS NORMAS SISMORESISTENTES | C16: 9.170423e+09 | E16: =+C16+D16 -> 9.170423e+09 | F16: 9.170423e+09 | H16: =+F16+G16 -> 9.170423e+09 | I16: 9.170423e+09 | K16: =+I16+J16 -> 9.170423e+09 | L16: 9.170423e+09 | N16: =+L16+M16 -> 9.170423e+09
B17: COBERTURA PARA TERRENOS | C17: 9.170423e+09 | E17: =+C17+D17 -> 9.170423e+09 | F17: 9.170423e+09 | H17: =+F17+G17 -> 9.170423e+09 | I17: 9.170423e+09 | K17: =+I17+J17 -> 9.170423e+09 | L17: 9.170423e+09 | N17: =+L17+M17 -> 9.170423e+09
B18: GASTOS ADICIONALES | C18: 13000000000 | E18: =+C18+D18 -> 13000000000 | F18: 13000000000 | H18: =+F18+G18 -> 13000000000 | I18: 13000000000 | K18: =+I18+J18 -> 13000000000 | L18: 13000000000 | N18: =+L18+M18 -> 13000000000
B19: TOTAL TRDM | C19: =SUM(C8:C18) -> 1.8721522e+11 | D19: =SUM(D8:D18) -> 2.8392864e+08 | E19: =SUM(E8:E18) -> 1.8749914e+11 | F19: =SUM(F8:F18) -> 1.8749914e+11 | G19: =SUM(G8:G18) -> 6.4913185e+09 | H19: =SUM(H8:H18) -> 1.9399046e+11 | I19: =SUM(I8:I18) -> 1.9399046e+11 | J19: =SUM(J8:J18) -> 6.8158844e+09 | ... N19: =SUM(N8:N18) -> 2.0766892e+11

Sheet 8.VRES ASEGURADOS E&M 
B2: ANEXO No. XX- RELACION BIENES Y VALORES ASEGURADOS TR EQUIPO Y MAQUINARIA
B4: BIENES ASEGURADOS | C4: VIGENCIA 2026 | F4: VIGENCIA 2027 | I4: VIGENCIA 2028 | L4: VIGENCIA 2029
C5: VALOR ASEGURADO | D5: INDICE VARIABLE 5% | E5: TOTAL | F5: VALOR ASEGURADO | G5: INDICE VARIABLE 5% | H5: TOTAL | I5: VALOR ASEGURADO | J5: INDICE VARIABLE 5% | K5: TOTAL | L5: VALOR ASEGURADO | M5: INDICE VARIABLE 5% | N5: TOTAL
B6: TRACTOR MARCA NEW HOLLAND TT.75 75Hp 12X3 PLATAFORMADO 4WD BRASIL MOD 2022 COLOR AZUL SERIE TSD8R500003 CHASIS HCCZTT75TNCN46312 MOTOR 8035.45.741-366419 No.REGISTRO MA752140 TIPO AGRICOLA. MODELO 2025 - SEDE DIR. TERRITORIAL ORINOQUIA | C6: 199000000 | D6: =(+C6*5%)/365*16 -> 436164.38 | E6: =+C6+D6 -> 1.9943616e+08 | F6: =+E6 -> 1.9943616e+08 | G6: =+F6*5% -> 9971808.2 | H6: =+F6+G6 -> 2.0940797e+08 | I6: =+H6 -> 2.0940797e+08 | J6: =+I6*5% -> 10470399 | K6: =+I6+J6 -> 2.1987837e+08 | L6: =+K6 -> 2.1987837e+08 | M6: =(+L6*5%)/365*350 -> 10542114 | N6: =+L6+M6 -> 2.3042048e+08
B7: TRACTOR MARCA NEW HOLLAND TT.75 75Hp 12X3 PLATAFORMADO 4WD BRASIL MOD 2022 COLOR AZUL SERIE TSD8R500207 CHASIS HCCZTT75ENCN50566 MOTOR 8035,45,741-378002 No.REGISTRO MA752143 TIPO AGRICOLA MODELO 2025 - DIR. TERRITORIAL ORINOQUIA | C7: 199000000 | D7: =(+C7*5%)/365*16 -> 436164.38 | E7: =+C7+D7 -> 1.9943616e+08 | F7: =+E7 -> 1.9943616e+08 | G7: =+F7*5% -> 9971808.2 | H7: =+F7+G7 -> 2.0940797e+08 | I7: =+H7 -> 2.0940797e+08 | J7: =+I7*5% -> 10470399 | K7: =+I7+J7 -> 2.1987837e+08 | L7: =+K7 -> 2.1987837e+08 | M7: =(+L7*5%)/365*350 -> 10542114 | N7: =+L7+M7 -> 2.3042048e+08
B8: TRACTOR AGRICOLA MARCA KUBOTA M7040 DT - MODELO 2024 DIR. TERRITORIAL PACÍFICO | C8: 150956000 | D8: =(+C8*5%)/365*16 -> 330862.47 | E8: =+C8+D8 -> 1.5128686e+08 | F8: =+E8 -> 1.5128686e+08 | G8: =+F8*5% -> 7564343.1 | H8: =+F8+G8 -> 1.5885121e+08 | I8: =+H8 -> 1.5885121e+08 | J8: =+I8*5% -> 7942560.3 | K8: =+I8+J8 -> 1.6679377e+08 | L8: =+K8 -> 1.6679377e+08 | M8: =(+L8*5%)/365*350 -> 7996961.4 | N8: =+L8+M8 -> 1.7479073e+08
B9: TOTAL TRDM | C9: =SUM(C6:C8) -> 548956000 | D9: =SUM(D6:D8) -> 1203191.2 | E9: =SUM(E6:E8) -> 5.5015919e+08 | F9: =SUM(F6:F8) -> 5.5015919e+08 | G9: =SUM(G6:G8) -> 27507960 | H9: =SUM(H6:H8) -> 5.7766715e+08 | I9: =SUM(I6:I8) -> 5.7766715e+08 | J9: =SUM(J6:J8) -> 28883358 | ... N9: =SUM(N6:N8) -> 6.356317e+08

Sheet 9.CASCO BARCO
B4: ITEM | C4: SEDE | D4: DEPENDENCIA/GRUPO/AP | E4: CATEGORIA | F4: PLACA | G4: CARACTERISTICA | H4: FECHA ADQUISICIÓN | I4: VALOR A DEPRECIAR | J4: CLASIFICACIÓN | K4: NOTA
B5: 1 | C5: DIR TERRITORIAL CARIBE PARQUES | D5: TAYRONA | E5: 201330 | F5: 77074 | G5: EMBARCACION DE 22 PIES EN PRV CAPACIDAD 8 PERSONAS | H5: 45272 | I5: 29870001 | J5: PROPIO Y EN SERVICIO | K5: ASEGURAR
B6: 2 | C6: DIR TERRITORIAL CARIBE PARQUES | D6: TAYRONA | E6: 201330 | F6: 76984 | G6: Jet SkitRotax con casco en Polypec con plataforma ligera | H6: 45170 | I6: 95990000 | J6: PROPIO Y EN SERVICIO | K6: ASEGURAR
B7: 3 | C7: DIR TERRITORIAL CARIBE PARQUES | D7: TAYRONA | E7: 201330 | F7: 77079 | G7: MOTOR F/B 15HP - 2 TIEMPOS - PATA LARGA | H7: 45272 | I7: 16228000 | J7: PROPIO Y EN SERVICIO | K7: ASEGURAR
B8: 4 | C8: DIR. TERRITORIAL ORINOQUIA PARQUES | D8: EL TUPARRO | E8: 201330 | F8: 39991 | G8: BONGO METALICO (MOTOCANOA), ESLORA 12,0 MTS, MANGA 1,64 MTS, PUNTAL COSTADO 0,52MTS, CON SUPERESTRUCTURA TECHO DE 3 CAMAR DE SEGURIDAD Y REFUERZOS LONGITUDINAL Y TRANSVERSAL, MATERIAL LAMINA DE 2,5MM | H8: 41536 | I8: 6786000 | J8: PROPIO Y EN SERVICIO | K8: ASEGURAR
B9: 5 | C9: DIR. TERRITORIAL PACÍFICO PARQUES | D9: GORGONA | E9: 201330 | F9: 58508 | G9: Bote Pesqquero 22 pies 225 en fibra de vidrio SULA | H9: 41611 | I9: 16775920 | J9: PROPIO Y EN SERVICIO | K9: ASEGURAR
B10: 6 | C10: DIR TERRITORIAL CARIBE PARQUES | D10: CIÉNAGA GRANDE DE SANTA MARTA | E10: 201330 | F10: 28686 | G10: Bote taxi en fibra de vidrio, de 120; Ref. E12A08, Serie No. FMF08B130D3762. | H10: 28686 | I10: 5365000 | J10: PROPIO Y EN SERVICIO | K10: ASEGURAR
B11: 7 | C11: DIR. TERRITORIAL AMAZONIA PARQUES | D11: SERRANÍA DE CHIRIBIQUETE | E11: 201330 | F11: 22042 | G11: BOTE 150cc EN FIBRA DE VIDRIO CON ACCESORIOS, COLOR BLANCO, REFERENCIA E15ACB, SERIE No FME74A13G3763 | H11: 41516 | I11: 11439920 | J11: PROPIO Y EN SERVICIO | K11: ASEGURAR
B12: 8 | C12: DIR. TERRITORIAL PACÍFICO PARQUES | D12: DNMI CABO MANGLARES BAJO MIRA Y FRONTERA | E12: 201330 | F12: 58512 | G12: Bote 180C en fibra de vidrio (LA YUBARTA 1) Matrícula: CP01-2739-A. | H12: 41611 | I12: 12998960 | J12: PROPIO Y EN SERVICIO | K12: ASEGURAR
B13: 9 | C13: DIR. TERRITORIAL PACÍFICO PARQUES | D13: UTRIA | E13: 201330 | F13: 58511 | G13: Bote 180C en fibra de vidrio YUBARTA Matricula CP-10-0727-B | H13: 41611 | I13: 15923320 | J13: PROPIO Y EN SERVICIO | K13: ASEGURAR
B14: 10 | C14: DIR. TERRITORIAL PACÍFICO PARQUES | D14: FARALLONES DE CALI | E14: 201330 | F14: 58510 | G14: Bote 230C en fibra de vidrio LA MINGA. Matrícula CP01-2740-A | H14: 41611 | I14: 15923320 | J14: PROPIO Y EN SERVICIO | K14: ASEGURAR
B15: 11 | C15: DIR. TERRITORIAL PACÍFICO PARQUES | D15: GORGONA | E15: 201330 | F15: 53870 | G15: BOTE 26 PIES CON ACCESORIOS. | H15: 43531 | I15: 22962713 | J15: PROPIO Y EN SERVICIO | K15: ASEGURAR
B16: 12 | C16: DIR. TERRITORIAL PACÍFICO PARQUES | D16: GORGONA | E16: 201330 | F16: 67159 | G16: BOTE 26 PIES SLORA 7.95 MANGA 2.15 PUNTAL 1. NIC MSB85A18B3762 | H16: 43830 | I16: 27370000 | J16: PROPIO Y EN SERVICIO | K16: ASEGURAR
... B322: 318 | C322: DIR. TERRITORIAL AMAZONIA PARQUES | D322: LA PAYA | E322: 201330 | F322: 21113 | G322: Un (1) motor fuera de borda Yamaha de origen japonés, 40hp, 2 tiempos pata corta. SERIE 6F6K S 1042336H | H322: 39884 | I322: 9260000 | J322: PROPIO Y EN SERVICIO | K322: ASEGURAR
H323: TOTAL | I323: =SUM(I5:I322) -> 7.8860631e+09

Sheet 10.PARQUE AUTOMOR 31-08-26 437
A1: No. | B1: Placa | C1: Marca | D1: CLASE | E1: TIPO | F1: Cilindraje | G1: MODELO | H1: No de motor | I1: No. De chasis | J1: No. De Póliza SOAT | K1: Fecha de Inicio (Desde las 00Horas) | L1: Fecha Vencimiento (Hasta las 24Horas) | M1: SERVICIO | N1: dirección territorial | O1: ÁREA PROTEGIDA | P1: CODIGO FASECOLDA | Q1: FASECOLDA 362
A2: 1 | B2: CIR70G | C2: YAMAHA | D2: MOTOCICLETA | F2: 149 | G2: 2023 | H2: G3E9E0137342 | I2: 9FKRG2174P2137342 | J2: 15681500018920 | K2: 46392 | L2: 46756 | M2: OFICIAL | N2: DTPA | O2: URAMBA BAHÍA MALAGA | P2: 09857072 | Q2: 9800000
A3: =+A2+1 -> 2 | B3: JYP729 | C3: CHEVROLET | D3: CAMIONETA | F3: 2776 | G3: 2023 | H3: LWNF222211105 | I3: 9BG148PK0PC418533 | J3: 15681500018930 | K3: 46392 | L3: 46756 | M3: OFICIAL | N3: DTAO | O3: TATAMA | P3: 01642042 | Q3: 142700000
A4: =+A3+1 -> 3 | B4: OKZ055 | C4: CHEVROLET | D4: CAMIONETA | F4: 2776 | G4: 2023 | H4: LWNF222371114 | I4: 9BG148MK0PC421595 | J4: 15681500018940 | K4: 46392 | L4: 46756 | M4: OFICIAL | N4: DTPA | O4: PNN FARALLONES DE CALI | P4: 01646023 | Q4: 126200000
A5: =+A4+1 -> 4 | B5: OKZ056 | C5: CHEVROLET | D5: CAMIONETA | F5: 2776 | G5: 2023 | H5: LWNF222371100 | I5: 9BG148MK0PC421447 | J5: 15681500018950 | K5: 46392 | L5: 46756 | M5: OFICIAL | N5: DTPA | O5: PNN FARALLONES DE CALI | P5: 01646023 | Q5: 126200000
A6: =+A5+1 -> 5 | B6: OKZ057 | C6: CHEVROLET | D6: CAMIONETA | F6: 2776 | G6: 2023 | H6: LWNF222371103 | I6: 9BG148MK0PC421450 | J6: 15681500018960 | K6: 46392 | L6: 46756 | M6: OFICIAL | N6: DTPA | O6: PNN FARALLONES DE CALI | P6: 01646023 | Q6: 126200000
A7: =+A6+1 -> 6 | B7: VWB65F | C7: YAMAHA | D7: MOTOCICLETA | F7: 249 | G7: 2023 | H7: G3F2E032431 | I7: 9FKDG2829P2032431 | J7: 15681500018970 | K7: 46392 | L7: 46756 | M7: OFICIAL | N7: DTAO | O7: LAS HERMOSAS | P7: 09854042 | Q7: 20500000
A8: =+A7+1 -> 7 | B8: VWB66F | C8: YAMAHA | D8: MOTOCICLETA | F8: 249 | G8: 2023 | H8: G3F2E032232 | I8: 9FKDG2823P2032232 | J8: 15681500018980 | K8: 46392 | L8: 46756 | M8: OFICIAL | N8: DTAO | O8: COMPLEJO VOLCÁNICO DOÑA JUANA | P8: 09854042 | Q8: 20500000
A9: =+A8+1 -> 8 | B9: FMU14G | C9: HONDA | D9: MOTOCICLETA | F9: 184 | G9: 2023 | H9: MD42E0P000148 | I9: 9C2MD4200PR000126 | J9: 15681500018990 | K9: 46392 | L9: 46756 | M9: OFICIAL | N9: DTPA | O9: PNN FARALLONES DE CALI | P9: 03454037 | Q9: 14300000
A10: =+A9+1 -> 9 | B10: FMU15G | C10: HONDA | D10: MOTOCICLETA | F10: 184 | G10: 2023 | H10: MD42E0P000671 | I10: 9C2MD4200PR000645 | J10: 15681500019000 | K10: 46392 | L10: 46756 | M10: OFICIAL | N10: DTPA | O10: PNN FARALLONES DE CALI | P10: 03454037 | Q10: 14300000
A11: =+A10+1 -> 10 | B11: FMU16G | C11: HONDA | D11: MOTOCICLETA | F11: 184 | G11: 2023 | H11: MD42E0P000818 | I11: 9C2MD4200PR000881 | J11: 15681500019010 | K11: 46392 | L11: 46756 | M11: OFICIAL | N11: DTPA | O11: PNN FARALLONES DE CALI | P11: 03454037 | Q11: 14300000
A12: =+A11+1 -> 11 | B12: FMU17G | C12: HONDA | D12: MOTOCICLETA | F12: 184 | G12: 2023 | H12: MD42E0P001427 | I12: 9C2MD4200PR001411 | J12: 15681500019020 | K12: 46392 | L12: 46756 | M12: OFICIAL | N12: DTPA | O12: PNN FARALLONES DE CALI | P12: 03454037 | Q12: 14300000
A13: =+A12+1 -> 12 | B13: VWB87F | C13: YAMAHA | D13: MOTOCICLETA | F13: 249 | G13: 2024 | H13: GEF2E036765 | I13: 9FKDG2848R2036765 | J13: 15681500019030 | K13: 46397 | L13: 46761.999 | M13: OFICIAL | N13: DTAO | O13: SELVAS DE FLORENCIA | P13: 09854042 | Q13: 22500000
A14: =+A13+1 -> 13 | B14: VWB88F | C14: YAMAHA | D14: MOTOCICLETA | F14: 249 | G14: 2024 | H14: GEF2E036786 | I14: 9FKDG2845R2036786 | J14: 15681500019040 | K14: 46397 | L14: 46761.999 | M14: OFICIAL | N14: DTAO | O14: LAS HERMOSAS | P14: 09854042 | Q14: 22500000
... A65: =+A64+1 -> 64 | B65: OJY112 | C65: TOYOTA | D65: CAMIONETA | F65: 2494 | G65: 2015 | H65: 2KD-U714056 | I65: 8AJFR22G8F4578661 | J65: 15681500018730 | K65: 46416 | L65: 46780.999 | M65: OFICIAL | N65: DTAM | O65: NUKAK | P65: 09042035 | Q65: 119300000
A66: =+A65+1 -> 65 | B66: OKZ216 | C66: CHEVROLET | D66: CAMIONETA | F66: 2500 | G66: 2016 | H66: NK4796 | I66: 8LBETF3W8G0383020 | J66: 15681500018740 | K66: 46416 | L66: 46780.999 | M66: OFICIAL | N66: DTAN | O66: CATATUMBO BARI | P66: 01642032 | Q66: 88400000
A67: =+A66+1 -> 66 | B67: OQE791 | C67: CHEVROLET | D67: CAMIONETA | F67: 2500 | G67: 2015 | H67: ME4269 | I67: 8LBETF3W9F0280431 | J67: 15681500019140 | K67: 46416 | L67: 46780.999 | M67: OFICIAL | N67: DTCA | O67: BAHÍA PORTETE KAURRELE | P67: 01642030 | Q67: 84500000
