Workbook

Sheet PRECIO HISTORICO
B1: MANTENIMIENTO EQUIPO AUTOMOTOR "MOTOCICLETAS Y CUATRIMOTOS MULTIMARCA"
B3: ESTUDIO DE MERCADO
B5: NOTA: todos los valores aquí observados, poseen el Iva y la mano de obra incluida.
B8: 1. SUZUKI DR 200
A9: IT | B9: MANTENIMIENTO A TODO COSTO DEL SISTEMA DE FRENOS – INCLUYENDO REPUESTOS
B10: DESCRIPCION
A11: 1 | B11: Mantenimiento preventivo y/o correctivo a todo costo al sistema de frenos que incluye lo siguiente: | C11: VALOR CONTRATADO 93-7-10037-26 | D11: VALOR PRECIO HISTORICO
B12: arandela cobre | C12: 59242.635 | D12: =C12 -> 59242.635
B13: arandela leva pedal freno | C13: 59185.843 | D13: =C13 -> 59185.843
B14: arandela resorte varilla freno | C14: 59185.843 | D14: =C14 -> 59185.843
B15: arandela seguridad pasador | C15: 59185.843 | D15: =C15 -> 59185.843
B16: buje caucho calipér freno delantero | C16: 128543.89 | D16: =C16 -> 128543.89
B17: caliper freno delantero | C17: 274825.37 | D17: =C17 -> 274825.37
B18: cambio liquido de freno(incluye liquido y mano de obra) | C18: 120061.02 | D18: =C18 -> 120061.02
B19: cilindro maestro o bomba freno | C19: 365770.46 | D19: =C19 -> 365770.46
B20: conjunto de pistón caliper delantero | C20: 189451.45 | D20: =C20 -> 189451.45
B21: conjunto sellos pistón caliper delantero | C21: 298489.11 | D21: =C21 -> 298489.11
B22: conjunto varilla freno trasero | C22: 561112.67 | D22: =C22 -> 561112.67
B23: disco freno delantero | C23: 550872.02 | D23: =C23 -> 550872.02
... B46: tuerca resorte varilla de freno | C46: 38135.08 | D46: =C46 -> 38135.08
A47: IT | B47: MANTENIMIENTO A TODO COSTO AL SISTEMA DE RODAMIENTO, INCLUYENDO REPUESTOS | C47: VALOR CONTRATADO 93-7-10037-26 | D47: VALOR PRECIO HISTORICO
B48: DESCRIPCION
A49: 2 | B49: Mantenimiento preventivo y/o correctivo a todo costo al sistema de rodamiento que incluye lo siguiente:
B50: ajustador cadena derecho | C50: 190247.01 | D50: =C50 -> 190247.01
B51: ajustador cadena izquierdo | C51: 190247.01 | D51: =C51 -> 190247.01
B52: cadena did 520 oring | C52: 364459.93 | D52: =C52 -> 364459.93
B53: conjunto engranaje del velocímetro | C53: 651225.28 | D53: =C53 -> 651225.28
B54: cubo o manzana rueda delantera | C54: 729424.94 | D54: =C54 -> 729424.94
B55: cubo o manzana rueda trasera | C55: 729424.94 | D55: =C55 -> 729424.94
B56: eje delantero | C56: 607938.3 | D56: =C56 -> 607938.3
B57: eje trasero | C57: 607938.3 | D57: =C57 -> 607938.3
B58: enderezado y cambio rallos ruedas del/tra | C58: 190317.48 | D58: =C58 -> 190317.48
B59: espaciador ajustador cadena derecho | C59: 125230.96 | D59: =C59 -> 125230.96
B60: espaciador ajustador cadena izquierdo | C60: 125230.96 | D60: =C60 -> 125230.96
B61: espaciador eje lado derecho | C61: 125230.96 | D61: =C61 -> 125230.96
... B75: tornillo sujeción sprocket o piñon | C75: 57787.277 | D75: =C75 -> 57787.277
A76: IT | B76: MANTENIMIENTO A TODO COSTO AL SISTEMA DE SUSPENSION, INCLUYENDO REPUESTOS | C76: VALOR CONTRATADO 93-7-10037-26 | D76: VALOR PRECIO HISTORICO
B77: DESCRIPCION
A78: 3 | B78: Mantenimiento preventivo y/o correctivo a todo costo al sistema de Suspensión que incluye lo siguiente:
B79: abrazadera inferior | C79: 78267.636 | D79: =C79 -> 78267.636
...

Sheet PRECIO DE MERCADO 
B1: MANTENIMIENTO EQUIPO AUTOMOTOR "MOTOCICLETAS Y CUATRIMOTOS MULTIMARCA" | C1: COTIZACION NO. 1 MAQUIMOTOS | D1: COTIZACION NO. 2 DISTRI UNIVERSAL AUTOPARTES S.A.S | E1: COTIZACION NO. 3 INGEMARK | F1: COTIZACION NO. 4 DIAGNOSTICAMOS | G1: MENOR VALOR COTIZADO
B3: ESTUDIO DE MERCADO
B5: NOTA: todos los valores aquí observados, poseen el Iva y la mano de obra incluida.
B8: 1. SUZUKI DR 200
A9: IT | B9: MANTENIMIENTO A TODO COSTO DEL SISTEMA DE FRENOS – INCLUYENDO REPUESTOS | C9: VALOR IVA INCLUIDO Y MANO DE OBRA | D9: VALOR IVA INCLUIDO Y MANO DE OBRA | E9: VALOR IVA INCLUIDO Y MANO DE OBRA | F9: VALOR IVA INCLUIDO Y MANO DE OBRA | G9: VALOR IVA INCLUIDO Y MANO DE OBRA
B10: DESCRIPCION
A11: 1 | B11: Mantenimiento preventivo y/o correctivo a todo costo al sistema de frenos que incluye lo siguiente:
B12: arandela cobre | C12: 96000 | D12: 93000 | E12: 96700 | F12: 63240 | G12: =SMALL(C12:F12,1) -> 63240
B13: arandela leva pedal freno | C13: 96000 | D13: 93000 | E13: 96700 | F13: 63240 | G13: =SMALL(C13:F13,1) -> 63240
B14: arandela resorte varilla freno | C14: 96000 | D14: 93000 | E14: 96700 | F14: 63240 | G14: =SMALL(C14:F14,1) -> 63240
B15: arandela seguridad pasador | C15: 96000 | D15: 93000 | E15: 96700 | F15: 63240 | G15: =SMALL(C15:F15,1) -> 63240
B16: buje caucho calipér freno delantero | C16: 208000 | D16: 202000 | E16: 210100 | F16: 137360 | G16: =SMALL(C16:F16,1) -> 137360
B17: caliper freno delantero | C17: 445000 | D17: 432000 | E17: 449300 | F17: 293760 | G17: =SMALL(C17:F17,1) -> 293760
B18: cambio liquido de freno(incluye liquido y mano de obra) | C18: 195000 | D18: 189000 | E18: 196600 | F18: 128520 | G18: =SMALL(C18:F18,1) -> 128520
B19: cilindro maestro o bomba freno | C19: 592000 | D19: 575000 | E19: 598000 | F19: 391000 | G19: =SMALL(C19:F19,1) -> 391000
B20: conjunto de pistón caliper delantero | C20: 307000 | D20: 298000 | E20: 309900 | F20: 202640 | G20: =SMALL(C20:F20,1) -> 202640
B21: conjunto sellos pistón caliper delantero | C21: 483000 | D21: 469000 | E21: 487800 | F21: 318920 | G21: =SMALL(C21:F21,1) -> 318920
B22: conjunto varilla freno trasero | C22: 908000 | D22: 882000 | E22: 917300 | F22: 599760 | G22: =SMALL(C22:F22,1) -> 599760
B23: disco freno delantero | C23: 892000 | D23: 866000 | E23: 900600 | F23: 588880 | G23: =SMALL(C23:F23,1) -> 588880
... B46: tuerca resorte varilla de freno | C46: 62000 | D46: 60000 | E46: 62400 | F46: 40800 | G46: =SMALL(C46:F46,1) -> 40800
A47: IT | B47: MANTENIMIENTO A TODO COSTO AL SISTEMA DE RODAMIENTO, INCLUYENDO REPUESTOS | C47: VALOR IVA INCLUIDO Y MANO DE OBRA | D47: VALOR IVA INCLUIDO Y MANO DE OBRA | E47: VALOR IVA INCLUIDO Y MANO DE OBRA | F47: VALOR IVA INCLUIDO Y MANO DE OBRA | G47: VALOR IVA INCLUIDO Y MANO DE OBRA
B48: DESCRIPCION
A49: 2 | B49: Mantenimiento preventivo y/o correctivo a todo costo al sistema de rodamiento que incluye lo siguiente:
B50: ajustador cadena derecho | C50: 308000 | D50: 299000 | E50: 311000 | F50: 203320 | G50: =SMALL(C50:F50,1) -> 203320
B51: ajustador cadena izquierdo | C51: 308000 | D51: 299000 | E51: 311000 | F51: 203320 | G51: =SMALL(C51:F51,1) -> 203320
B52: cadena did 520 oring | C52: 590000 | D52: 573000 | E52: 595900 | F52: 389640 | G52: =SMALL(C52:F52,1) -> 389640
B53: conjunto engranaje del velocímetro | C53: 1055000 | D53: 1024000 | E53: 1065000 | F53: 696320 | G53: =SMALL(C53:F53,1) -> 696320
B54: cubo o manzana rueda delantera | C54: 1181000 | D54: 1147000 | E54: 1192900 | F54: 779960 | G54: =SMALL(C54:F54,1) -> 779960
B55: cubo o manzana rueda trasera | C55: 1181000 | D55: 1147000 | E55: 1192900 | F55: 779960 | G55: =SMALL(C55:F55,1) -> 779960
B56: eje delantero | C56: 985000 | D56: 956000 | E56: 994200 | F56: 650080 | G56: =SMALL(C56:F56,1) -> 650080
B57: eje trasero | C57: 985000 | D57: 956000 | E57: 994200 | F57: 650080 | G57: =SMALL(C57:F57,1) -> 650080
B58: enderezado y cambio rallos ruedas del/tra | C58: 308000 | D58: 299000 | E58: 311000 | F58: 203320 | G58: =SMALL(C58:F58,1) -> 203320
B59: espaciador ajustador cadena derecho | C59: 203000 | D59: 197000 | E59: 204900 | F59: 133960 | G59: =SMALL(C59:F59,1) -> 133960
B60: espaciador ajustador cadena izquierdo | C60: 203000 | D60: 197000 | E60: 204900 | F60: 133960 | G60: =SMALL(C60:F60,1) -> 133960
B61: espaciador eje lado derecho | C61: 203000 | D61: 197000 | E61: 204900 | F61: 133960 | G61: =SMALL(C61:F61,1) -> 133960
... B75: tornillo sujeción sprocket o piñon | C75: 94000 | D75: 91000 | E75: 94600 | F75: 61880 | G75: =SMALL(C75:F75,1) -> 61880
A76: IT | B76: MANTENIMIENTO A TODO COSTO AL SISTEMA DE SUSPENSION, INCLUYENDO REPUESTOS | C76: VALOR IVA INCLUIDO Y MANO DE OBRA | D76: VALOR IVA INCLUIDO Y MANO DE OBRA | E76: VALOR IVA INCLUIDO Y MANO DE OBRA | F76: VALOR IVA INCLUIDO Y MANO DE OBRA | G76: VALOR IVA INCLUIDO Y MANO DE OBRA
B77: DESCRIPCION
A78: 3 | B78: Mantenimiento preventivo y/o correctivo a todo costo al sistema de Suspensión que incluye lo siguiente:
B79: abrazadera inferior | C79: 127000 | D79: 123000 | E79: 127900 | F79: 83640 | G79: =SMALL(C79:F79,1) -> 83640
...

Sheet VALOR ESTIMADO 
B1: MANTENIMIENTO EQUIPO AUTOMOTOR "MOTOCICLETAS Y CUATRIMOTOS MULTIMARCA" | E1: VALOR SOBRE EL CUAL SE APLICARA EL PORCENTAJE DE DESCUENTO OFERTADO.
B3: ESTUDIO DE MERCADO
B5: NOTA: todos los valores aquí observados, poseen el Iva y la mano de obra incluida.
B8: 1. SUZUKI DR 200
A9: IT | B9: MANTENIMIENTO A TODO COSTO DEL SISTEMA DE FRENOS – INCLUYENDO REPUESTOS | C9: PRECIO HISTORICO 2026 IVA INCLUIDO Y MANO DE OBRA | D9: PRECIO DE MERCADO IVA INCLUIDO Y MANO DE OBRA | E9: VALOR ESTIMADO IVA INCLUIDO Y MANO DE OBRA
B10: DESCRIPCION
A11: 1 | B11: Mantenimiento preventivo y/o correctivo a todo costo al sistema de frenos que incluye lo siguiente:
B12: arandela cobre | C12: ='PRECIO HISTORICO'!D12 -> 59242.635 | D12: ='PRECIO DE MERCADO '!G12 -> 63240 | E12: =AVERAGE(C12:D12) -> 61241.317
B13: arandela leva pedal freno | C13: ='PRECIO HISTORICO'!D13 -> 59185.843 | D13: ='PRECIO DE MERCADO '!G13 -> 63240 | E13: =AVERAGE(C13:D13) -> 61212.922
B14: arandela resorte varilla freno | C14: ='PRECIO HISTORICO'!D14 -> 59185.843 | D14: ='PRECIO DE MERCADO '!G14 -> 63240 | E14: =AVERAGE(C14:D14) -> 61212.922
B15: arandela seguridad pasador | C15: ='PRECIO HISTORICO'!D15 -> 59185.843 | D15: ='PRECIO DE MERCADO '!G15 -> 63240 | E15: =AVERAGE(C15:D15) -> 61212.922
B16: buje caucho calipér freno delantero | C16: ='PRECIO HISTORICO'!D16 -> 128543.89 | D16: ='PRECIO DE MERCADO '!G16 -> 137360 | E16: =AVERAGE(C16:D16) -> 132951.95
B17: caliper freno delantero | C17: ='PRECIO HISTORICO'!D17 -> 274825.37 | D17: ='PRECIO DE MERCADO '!G17 -> 293760 | E17: =AVERAGE(C17:D17) -> 284292.69
B18: cambio liquido de freno(incluye liquido y mano de obra) | C18: ='PRECIO HISTORICO'!D18 -> 120061.02 | D18: ='PRECIO DE MERCADO '!G18 -> 128520 | E18: =AVERAGE(C18:D18) -> 124290.51
B19: cilindro maestro o bomba freno | C19: ='PRECIO HISTORICO'!D19 -> 365770.46 | D19: ='PRECIO DE MERCADO '!G19 -> 391000 | E19: =AVERAGE(C19:D19) -> 378385.23
B20: conjunto de pistón caliper delantero | C20: ='PRECIO HISTORICO'!D20 -> 189451.45 | D20: ='PRECIO DE MERCADO '!G20 -> 202640 | E20: =AVERAGE(C20:D20) -> 196045.73
B21: conjunto sellos pistón caliper delantero | C21: ='PRECIO HISTORICO'!D21 -> 298489.11 | D21: ='PRECIO DE MERCADO '!G21 -> 318920 | E21: =AVERAGE(C21:D21) -> 308704.55
B22: conjunto varilla freno trasero | C22: ='PRECIO HISTORICO'!D22 -> 561112.67 | D22: ='PRECIO DE MERCADO '!G22 -> 599760 | E22: =AVERAGE(C22:D22) -> 580436.33
B23: disco freno delantero | C23: ='PRECIO HISTORICO'!D23 -> 550872.02 | D23: ='PRECIO DE MERCADO '!G23 -> 588880 | E23: =AVERAGE(C23:D23) -> 569876.01
... B46: tuerca resorte varilla de freno | C46: ='PRECIO HISTORICO'!D46 -> 38135.08 | D46: ='PRECIO DE MERCADO '!G46 -> 40800 | E46: =AVERAGE(C46:D46) -> 39467.54
A47: IT | B47: MANTENIMIENTO A TODO COSTO AL SISTEMA DE RODAMIENTO, INCLUYENDO REPUESTOS | C47: PRECIO HISTORICO 2026 IVA INCLUIDO Y MANO DE OBRA | D47: PRECIO DE MERCADO IVA INCLUIDO Y MANO DE OBRA | E47: VALOR ESTIMADO IVA INCLUIDO Y MANO DE OBRA
B48: DESCRIPCION
A49: 2 | B49: Mantenimiento preventivo y/o correctivo a todo costo al sistema de rodamiento que incluye lo siguiente:
B50: ajustador cadena derecho | C50: ='PRECIO HISTORICO'!D50 -> 190247.01 | D50: ='PRECIO DE MERCADO '!G50 -> 203320 | E50: =AVERAGE(C50:D50) -> 196783.51
B51: ajustador cadena izquierdo | C51: ='PRECIO HISTORICO'!D51 -> 190247.01 | D51: ='PRECIO DE MERCADO '!G51 -> 203320 | E51: =AVERAGE(C51:D51) -> 196783.51
B52: cadena did 520 oring | C52: ='PRECIO HISTORICO'!D52 -> 364459.93 | D52: ='PRECIO DE MERCADO '!G52 -> 389640 | E52: =AVERAGE(C52:D52) -> 377049.97
B53: conjunto engranaje del velocímetro | C53: ='PRECIO HISTORICO'!D53 -> 651225.28 | D53: ='PRECIO DE MERCADO '!G53 -> 696320 | E53: =AVERAGE(C53:D53) -> 673772.64
B54: cubo o manzana rueda delantera | C54: ='PRECIO HISTORICO'!D54 -> 729424.94 | D54: ='PRECIO DE MERCADO '!G54 -> 779960 | E54: =AVERAGE(C54:D54) -> 754692.47
B55: cubo o manzana rueda trasera | C55: ='PRECIO HISTORICO'!D55 -> 729424.94 | D55: ='PRECIO DE MERCADO '!G55 -> 779960 | E55: =AVERAGE(C55:D55) -> 754692.47
B56: eje delantero | C56: ='PRECIO HISTORICO'!D56 -> 607938.3 | D56: ='PRECIO DE MERCADO '!G56 -> 650080 | E56: =AVERAGE(C56:D56) -> 629009.15
B57: eje trasero | C57: ='PRECIO HISTORICO'!D57 -> 607938.3 | D57: ='PRECIO DE MERCADO '!G57 -> 650080 | E57: =AVERAGE(C57:D57) -> 629009.15
B58: enderezado y cambio rallos ruedas del/tra | C58: ='PRECIO HISTORICO'!D58 -> 190317.48 | D58: ='PRECIO DE MERCADO '!G58 -> 203320 | E58: =AVERAGE(C58:D58) -> 196818.74
B59: espaciador ajustador cadena derecho | C59: ='PRECIO HISTORICO'!D59 -> 125230.96 | D59: ='PRECIO DE MERCADO '!G59 -> 133960 | E59: =AVERAGE(C59:D59) -> 129595.48
B60: espaciador ajustador cadena izquierdo | C60: ='PRECIO HISTORICO'!D60 -> 125230.96 | D60: ='PRECIO DE MERCADO '!G60 -> 133960 | E60: =AVERAGE(C60:D60) -> 129595.48
B61: espaciador eje lado derecho | C61: ='PRECIO HISTORICO'!D61 -> 125230.96 | D61: ='PRECIO DE MERCADO '!G61 -> 133960 | E61: =AVERAGE(C61:D61) -> 129595.48
... B75: tornillo sujeción sprocket o piñon | C75: ='PRECIO HISTORICO'!D75 -> 57787.277 | D75: ='PRECIO DE MERCADO '!G75 -> 61880 | E75: =AVERAGE(C75:D75) -> 59833.639
A76: IT | B76: MANTENIMIENTO A TODO COSTO AL SISTEMA DE SUSPENSION, INCLUYENDO REPUESTOS | C76: PRECIO HISTORICO 2026 IVA INCLUIDO Y MANO DE OBRA | D76: PRECIO DE MERCADO IVA INCLUIDO Y MANO DE OBRA | E76: VALOR ESTIMADO IVA INCLUIDO Y MANO DE OBRA
B77: DESCRIPCION
A78: 3 | B78: Mantenimiento preventivo y/o correctivo a todo costo al sistema de Suspensión que incluye lo siguiente:
B79: abrazadera inferior | C79: ='PRECIO HISTORICO'!D79 -> 78267.636 | D79: ='PRECIO DE MERCADO '!G79 -> 83640 | E79: =AVERAGE(C79:D79) -> 80953.818
...
