Workbook
Name _________________________________________________i1: #REF!
Name _________________________________________________i1: #REF!
Name _________________________________________________i1: #REF!
Name _________________________________________________i1: #REF!
Name _________________________________________________i1: #REF!
Name _________________________________________________i1: #REF!
Name _________________________________________________i1: #REF!
Name ________________________________________________i1: #REF!
Name ________________________________________________i1: #REF!
Name ________________________________________________i1: #REF!
Name ________________________________________________i1: #REF!
Name ________________________________________________i1: #REF!
Name ________________________________________________i1: #REF!
Name ________________________________________________i1: #REF!
Name _______________________________________________i1: #REF!
Name _______________________________________________i1: #REF!
Name _______________________________________________i1: #REF!
Name _______________________________________________i1: #REF!
Name _______________________________________________i1: #REF!
Name _______________________________________________i1: #REF!
Name _______________________________________________i1: #REF!
Name ______________________________________________i1: #REF!
Name _____________________________________________i1: #REF!
Name ____________________________________________i1: #REF!
Name ___________________________________________i1: #REF!
Name __________________________________________i1: #REF!
Name _________________________________________i1: #REF!
Name ________________________________________i1: #REF!
Name _______________________________________i1: #REF!
Name ______________________________________i1: #REF!
Name _____________________________________i1: #REF!
Name ____________________________________i1: #REF!
Name ___________________________________i1: #REF!
Name __________________________________i1: #REF!
Name _________________________________i1: #REF!
Name ________________________________i1: #REF!
Name _______________________________i1: #REF!
Name ______________________________i1: #REF!
Name _____________________________i1: #REF!
Name ____________________________i1: #REF!
Name ___________________________i1: #REF!
Name __________________________i1: #REF!
Name _________________________i1: #REF!
Name ________________________i1: #REF!
Name _______________________i1: #REF!
Name ______________________i1: #REF!
Name _____________________i1: #REF!
Name ____________________i1: #REF!
Name ___________________i1: #REF!
Name __________________A1: IF(CARACTERIZACIÓN!Values_Entered,[0]!Header_Row+CARACTERIZACIÓN!Number_of_Payments,[0]!Header_Row)
Name __________________A1: IF('FM '!Values_Entered,[0]!Header_Row+'FM '!Number_of_Payments,[0]!Header_Row)
Name __________________A1: IF(FP!Values_Entered,[0]!Header_Row+FP!Number_of_Payments,[0]!Header_Row)
Name __________________A1: IF(PMA!Values_Entered,[0]!Header_Row+PMA!Number_of_Payments,[0]!Header_Row)
Name __________________A1: IF(PMT!Values_Entered,[0]!Header_Row+PMT!Number_of_Payments,[0]!Header_Row)
Name __________________A1: IF('PPTO INTERVENTORIA '!Values_Entered,[0]!Header_Row+'PPTO INTERVENTORIA '!Number_of_Payments,[0]!Header_Row)
Name __________________A1: IF([0]!Values_Entered,[0]!Header_Row+[0]!Number_of_Payments,[0]!Header_Row)
Name __________________A17000: #REF!
Name __________________A17000: #REF!
Name __________________A17000: #REF!
Name __________________A17000: #REF!

Sheet PORTADA
A9: MEMORIA DE CÁLCULO DE CANTIDADES DE OBRA
A12: RESGURADO INDIGENA MUISCA DE COTA
A16: MEJORAMIENTO DE VIAS RURALES EN EL MUNICIPIO DE COTA CUNDINAMARCA BPIN 2025I00010028
A520: ELABORADO POR:
A543: VICTOR JULIO GUAYAMBUCO QUINTERO
A544: INGENIERO CIVIL
A545: Matrícula Profesional No.: 252021-16054 CND
A551: 46023

Sheet PRESUPUESTO GENERAL
A1: PRESUPUESTO GENERAL
A2: =+PORTADA!A16 -> MEJORAMIENTO DE VIAS RURALES EN EL MUNICIPIO DE COTA CUNDINAMARCA BPIN 2025I00010028
A3: SECCIÓN 1 - ITEMS DE OBRA - ACTIVIDADES DE MEJORAMIENTO
A4: No | B4: ESPECIFICACIONES | C4: DESCRIPCION | E4: UNIDAD | F4: CANTIDAD | G4: VALOR UNITARIO | H4: VALOR TOTAL
B5: GENERAL ENERO 2026
A7: I. CONSTRUIR PAVIMENTO EN CONCRETO HIDRAULICO MR3.8 MPA
A8: CONSTRUCCIÓN | C8: METROS DE PAVIMENTO EN CONCRETO HIDRAULICO MR3.8 MPA
A9: 1.1 | C9: Excavaciones varias en material común en seco. 0 - 2 m (Incluye Transporte) | E9: m3 | F9: =+'M.C 1.1'!W32 -> 1069 | G9: =+'APU 1.1'!N35 -> 153471 | H9: =ROUND(F9*G9,0) -> 164060499
A10: 1.2 | C10: Conformación de la calzada existente | E10: m2 | F10: =+'M.C 1.2'!W21 -> 8309 | G10: =+'APU 1.2'!N35 -> 3199 | H10: =ROUND(F10*G10,0) -> 26580491
A11: 1.3 | C11: Subbase Granular Clase C. | E11: m3 | F11: =+'M.C 1.3'!W23 -> 1160 | G11: =+'APU 1.3'!N35 -> 274841 | H11: =ROUND(F11*G11,0) -> 318815560
A12: 1.4 | C12: Afirmado | E12: m3 | F12: =+'M.C 1.4'!W22 -> 2493 | G12: =+'APU 1.4'!N35 -> 260376 | H12: =ROUND(F12*G12,0) -> 649117368
A13: 1.5 | C13: Pavimento de concreto hidraulico módulo de rotura 3.8 MPa | E13: m3 | F13: =+'M.C 1.5'!W22 -> 1382 | G13: =+'APU 1.5'!N40 -> 1126153 | H13: =ROUND(F13*G13,0) -> 1556343446
A14: 1.6 | C14: Concreto clase C (210 kg/cm2 ó 3000 PSI) | E14: m3 | F14: =+'M.C 1.6'!W26 -> 560 | G14: =+'APU 1.6'!N40 -> 910078 | H14: =ROUND(F14*G14,0) -> 509643680
A15: 1.7 | C15: Elaboración de juntas de construcción ( incluye corte, limpieza, polímero y sellador de junta) | E15: m | F15: =+'M.C 1.7'!W22 -> 3284 | G15: =+'APU 1.7'!N39 -> 43902 | H15: =ROUND(F15*G15,0) -> 144174168
A16: 1.8 | C16: Acero de refuerzo de FY = 4.200 Kg/cm 2 (60.000 PSI). | E16: kg | F16: =+'M.C 1.8'!W29 -> 82360 | G16: =+'APU 1.8'!N34 -> 8990 | H16: =ROUND(F16*G16,0) -> 740416400
A17: Subtotal | H17: =+SUM(H9:I16) -> 4109151612
A18: II. CONSTRUIR ESTRUCTURAS DE DRENAJE
A19: CONSTRUCCIÓN | C19: METROS FILTRO
A20: 2.1 | C20: Excavaciones varias sin clasificar. (Incluye Transporte) | E20: m3 | F20: =+'M.C 2.1'!W24 -> 1109.8 | G20: =+'APU 2.1'!M33 -> 100386 | H20: =ROUND(F20*G20,0) -> 111408383
A21: 2.2 | C21: Material Granular Drenante | E21: m3 | F21: =+'M.C 2.2'!W22 -> 720 | G21: =+'APU 2.2'!N35 -> 300255 | H21: =ROUND(F21*G21,0) -> 216183600
A22: 2.3 | C22: Tubería de Plástico de Diametro 100mm | E22: m | F22: =+'M.C 2.3'!W22 -> 1200 | G22: =+'APU 2.3'!M33 -> 30607 | H22: =ROUND(F22*G22,0) -> 36728400
A23: 2.4 | C23: Geotextil no tejido tipo NT2500 para separacion de suelos | E23: m2 | F23: =+'M.C 2.4'!W22 -> 4200 | G23: =+'APU 2.4'!M33 -> 28387 | H23: =ROUND(F23*G23,0) -> 119225400
A24: 2.5 | C24: Excavaciones varias sin clasificar (sin transporte) | E24: m3 | F24: =+'M.C 2.5'!W22 -> 225 | G24: =+'APU 2.5'!M32 -> 38531 | H24: =ROUND(F24*G24,0) -> 8669475
A25: 2.6 | C25: Tubería de concreto reforzado clase D, de 900 mm de diámetro interior | E25: m | F25: =+'M.C 2.6'!W22 -> 30 | G25: =+'APU 2.6'!M33 -> 1192986 | H25: =ROUND(F25*G25,0) -> 35789580
A26: 2.7 | C26: Concreto clase F (140 kg/cm2 ó 2000 PSI) | E26: m3 | F26: =+'M.C 2.7'!W24 -> 12 | G26: =+'APU 2.7'!M34 -> 726411 | H26: =ROUND(F26*G26,0) -> 8716932
A27: 2.8 | C27: Relleno para Estructuras con material del sitio | E27: m3 | F27: =+'M.C 2.8'!W22 -> 40 | G27: =+'APU 2.8'!M30 -> 43749 | H27: =ROUND(F27*G27,0) -> 1749960
A28: Subtotal | H28: =+SUM(H20:I27) -> 538471730
A29: III. CONSTRUIR ESTRUCTURAS REDES DE ALCANTARILLADO SANITARIO
A30: CONSTRUCCIÓN | C30: METROS DE ALCANTARILLADO SANITARIO TUB D160mm - D200mm
A31: 3.1 | C31: Excavación En Zanja a mano en material común h <=2 m (Incluye Transporte) | E31: m3 | F31: =+'MC. 3.1'!W23 -> 743 | G31: =+'APU 3.1'!N35 -> 189647 | H31: =ROUND(F31*G31,0) -> 140907721
A32: 3.2 | C32: Suministro transporte e Instalación Tub PVCcorru ext,lisa int, PS57psi, D160mm | E32: m | F32: =+'M.C 3.2'!W18 -> 120 | G32: =+'APU 3.2'!M33 -> 106436 | H32: =ROUND(F32*G32,0) -> 12772320
A33: 3.3 | C33: Suministro transporte e Instalación Tub PVCcorru ext,lisa int, PS57psi, D200mm | E33: m | F33: =+'M.C 3.3'!W19 -> 198.55 | G33: =+'APU 3.3'!M33 -> 136272 | H33: =ROUND(F33*G33,0) -> 27056806
A34: 3.4 | C34: Suministro, transporte e instalación material seleccionado proveniente excavación | E34: m3 | F34: =+'M.C 3.4'!W20 -> 91.6 | G34: =+'APU 3.4'!M30 -> 43749 | H34: =ROUND(F34*G34,0) -> 4007408
A35: 3.5 | C35: Relleno para Estructuras con recebo | E35: m3 | F35: =+'M.C 3.5'!W48 -> 1352 | G35: =+'APU 3.5'!N33 -> 241956 | H35: =ROUND(F35*G35,0) -> 327124512
A36: 3.6 | C36: Suministro, transporte e instalación cama de Arena | E36: m3 | F36: =+'M.C 3.6'!W20 -> 109.4 | G36: =+'APU 3.6'!N33 -> 225263 | H36: =ROUND(F36*G36,0) -> 24643772
A37: 3.7 | C37: Suministro e Instalación Silla yee PVC,alcant.,D200 x 160 mm | E37: und | F37: =+'M.C 3.7'!W20 -> 12 | G37: =+'APU 3.7'!M33 -> 405222 | H37: =ROUND(F37*G37,0) -> 4862664
A38: 3.8 | C38: Caja para conexion domiciliaria alcantarillado en mampostería 0.6x0.6x0.6m | E38: und | F38: =+'M.C 3.8'!W20 -> 12 | G38: =+'APU 3.8'!M34 -> 647572 | H38: =ROUND(F38*G38,0) -> 7770864
A39: 3.9 | C39: Cilindro para pozo insp en mampostería D1.20m e=0.25m | E39: und | F39: =+'M.C 3.9'!W22 -> 6 | G39: =+'APU 3.9'!M34 -> 1224823 | H39: =ROUND(F39*G39,0) -> 7348938
A40: 3.1 | C40: Construcción Base y cañuela | E40: und | F40: =+'M.C 3.10'!W22 -> 6 | G40: =+'APU 3.10'!N39 -> 1029201 | H40: =ROUND(F40*G40,0) -> 6175206
A41: 3.11 | C41: Suministro transporte e Instalación Cono reduc Prefabr CR 28Mpa Pozo Insp | E41: und | F41: =+'M.C 3.11'!W22 -> 6 | G41: =+'APU 3.11'!M33 -> 1202423 | H41: =ROUND(F41*G41,0) -> 7214538
...

Sheet PRESUPUESTO POR INSUMOS
A1: PRESUPUESTO GENERAL
A2: =+PORTADA!A16 -> MEJORAMIENTO DE VIAS RURALES EN EL MUNICIPIO DE COTA CUNDINAMARCA BPIN 2025I00010028
A3: SECCIÓN 1 - ITEMS DE OBRA - ACTIVIDADES DE MEJORAMIENTO
A4: No | B4: ESPECIFICACIONES | C4: DESCRIPCION | E4: UNIDAD | F4: CANTIDAD | G4: VALOR UNITARIO | H4: VALOR TOTAL | J4: % AIU | K4: AIU | L4: M.O CALIFICADA | M4: M.O NO CALIFICADA | N4: MATERIALES | O4: EQUIPOS | P4: TRANSPORTE | Q4: SUBTOTAL | R4: TOTAL
B5: GENERAL ENERO 2026
A7: I. CONSTRUIR PAVIMENTO EN CONCRETO HIDRAULICO MR3.8
A8: CONSTRUCCIÓN | C8: METROS DE PAVIMENTO EN CONCRETO HIDRAULICO MR3.8 | J8: =+(H17*100%)/$H$50 -> 0.77403827 | K8: =ROUND(+J8*J51,0) -> 694702306
A9: 1.1 | C9: Excavaciones varias en material común en seco. 0 - 2 m (Incluye Transporte) | E9: m3 | F9: =+'M.C 1.1'!W32 -> 1069 | G9: =+'APU 1.1'!N35 -> 153471 | H9: =+F9*G9 -> 164060499 | J9: =+(H9*100%)/$H$17 -> 0.039925638 | K9: =ROUND(+J9*$K$8,0) -> 27736433 | L9: =+K9 -> 27736433 | M9: =+F9*'APU 1.1'!N33 -> 73660514 | N9: =+F9*'APU 1.1'!N23 -> 0 | O9: =+F9*'APU 1.1'!N19 -> 3682705 | P9: =+F9*'APU 1.1'!N28 -> 86717280 | Q9: =SUM(M9:P9) -> 164060499 | R9: =SUM(L9:P9) -> 191796932
A10: 1.2 | C10: Conformación de la calzada existente | E10: m2 | F10: =+'M.C 1.2'!W21 -> 8309 | G10: =+'APU 1.2'!N35 -> 3199 | H10: =+F10*G10 -> 26580491 | J10: =+(H10*100%)/$H$17 -> 0.006468608 | K10: =ROUND(+J10*$K$8,0) -> 4493757 | L10: =+K10 -> 4493757 | M10: =+F10*'APU 1.2'!N33 -> 6638891 | N10: =+F10*'APU 1.2'!N23 -> 2991240 | O10: =+F10*'APU 1.2'!N19 -> 16950360 | P10: =+F10*'APU 1.2'!N28 -> 0 | Q10: =SUM(M10:P10) -> 26580491 | R10: =SUM(L10:P10) -> 31074248
A11: 1.3 | C11: Subbase Granular Clase C. | E11: m3 | F11: =+'M.C 1.3'!W23 -> 1160 | G11: =+'APU 1.3'!N35 -> 274841 | H11: =+F11*G11 -> 318815560 | J11: =+(H11*100%)/$H$17 -> 0.077586711 | K11: =ROUND(+J11*$K$8,0) -> 53899667 | L11: =+K11 -> 53899667 | M11: =+F11*'APU 1.3'!N33 -> 18535640 | N11: =+F11*'APU 1.3'!N24 -> 151018080 | O11: =+F11*'APU 1.3'!N19 -> 58926840 | P11: =+F11*'APU 1.3'!N28 -> 90335000 | Q11: =SUM(M11:P11) -> 318815560 | R11: =SUM(L11:P11) -> 372715227
A12: 1.4 | C12: Afirmado | E12: m3 | F12: =+'M.C 1.4'!W22 -> 2493 | G12: =+'APU 1.4'!N35 -> 260376 | H12: =+F12*G12 -> 649117368 | J12: =+(H12*100%)/$H$17 -> 0.15796871 | K12: =ROUND(+J12*$K$8,0) -> 109741225 | L12: =+K12 -> 109741225 | M12: =+F12*'APU 1.4'!N33 -> 39835647 | N12: =ROUND(+F12*'APU 1.4'!N24,0) -> 288497439 | O12: =+F12*'APU 1.4'!N19 -> 126641907 | P12: =+F12*'APU 1.4'!N28 -> 194142375 | Q12: =SUM(M12:P12) -> 649117368 | R12: =SUM(L12:P12) -> 758858593
A13: 1.5 | C13: Pavimento de concreto hidraulico módulo de rotura 38 MPa | E13: m3 | F13: =+'M.C 1.5'!W22 -> 1382 | G13: =+'APU 1.5'!N40 -> 1126153 | H13: =+F13*G13 -> 1556343446 | J13: =+(H13*100%)/$H$17 -> 0.37875055 | K13: =ROUND(+J13*$K$8,0) -> 263118883 | L13: =+K13 -> 263118883 | M13: =+F13*'APU 1.5'!N38 -> 322821380 | N13: =+F13*'APU 1.5'!N28 -> 1101957048 | O13: =ROUND(+F13*'APU 1.5'!N22,0) -> 48777690 | P13: =+F13*'APU 1.5'!N33 -> 82787328 | Q13: =SUM(M13:P13) -> 1556343446 | R13: =SUM(L13:P13) -> 1819462329
A14: 1.6 | C14: Concreto clase C (210 kg/cm2 ó 3000 PSI) | E14: m3 | F14: =+'M.C 1.6'!W26 -> 560 | G14: =+'APU 1.6'!N40 -> 910078 | H14: =+F14*G14 -> 509643680 | J14: =+(H14*100%)/$H$17 -> 0.1240265 | K14: =ROUND(+J14*$K$8,0) -> 86161493 | L14: =+K14 -> 86161493 | M14: =+F14*'APU 1.6'!N38 -> 163509920 | N14: =+F14*'APU 1.6'!N28 -> 284736480 | O14: =+F14*'APU 1.6'!N19 -> 15175440 | P14: =+F14*'APU 1.6'!N33 -> 46221840 | Q14: =SUM(M14:P14) -> 509643680 | R14: =SUM(L14:P14) -> 595805173
A15: 1.7 | C15: Elaboración de juntas de construcción ( incluye corte, limpieza, polímero y sellador de junta) | E15: m | F15: =+'M.C 1.7'!W22 -> 3284 | G15: =+'APU 1.7'!N39 -> 43902 | H15: =+F15*G15 -> 144174168 | J15: =+(H15*100%)/$H$17 -> 0.035086115 | K15: =ROUNDUP(+J15*$K$8,0) -> 24374406 | L15: =+K15 -> 24374406 | M15: =+F15*'APU 1.7'!N37 -> 88477528 | N15: =+F15*'APU 1.7'!N27 -> 29227600 | O15: =ROUND(+F15*'APU 1.7'!N20,0) -> 26469040 | P15: =+F15*'APU 1.7'!N32 -> 0 | Q15: =SUM(M15:P15) -> 144174168 | R15: =SUM(L15:P15) -> 168548574
A16: 1.8 | C16: Acero de refuerzo de FY = 4.200 Kg/cm 2 (60.000 PSI). | E16: kg | F16: =+'M.C 1.8'!W29 -> 82360 | G16: =+'APU 1.8'!N34 -> 8990 | H16: =+F16*G16 -> 740416400 | J16: =+(H16*100%)/$H$17 -> 0.18018717 | K16: =ROUND(+J16*$K$8,0) -> 125176442 | L16: =+K16 -> 125176442 | M16: =+F16*'APU 1.8'!N32 -> 162578640 | N16: =+F16*'APU 1.8'!N23 -> 565154320 | O16: =+F16*'APU 1.8'!N18 -> 10542080 | P16: =+F16*'APU 1.8'!N27 -> 2141360 | Q16: =SUM(M16:P16) -> 740416400 | R16: =SUM(L16:P16) -> 865592842
A17: Subtotal | H17: =+SUM(H9:H16) -> 4109151612 | K17: =+SUM(K9:K16) -> 694702306 | L17: =+SUM(L9:L16) -> 694702306 | M17: =+SUM(M9:M16) -> 876058160 | N17: =+SUM(N9:N16) -> 2423582207 | O17: =+SUM(O9:O16) -> 307166062 | P17: =+SUM(P9:P16) -> 502345183 | Q17: =+SUM(Q9:Q16) -> 4109151612 | R17: =+SUM(R9:R16) -> 4803853918
A18: II. CONSTRUIR ESTRUCTURAS DE DRENAJE
A19: CONSTRUCCIÓN | J19: =+(H28*100%)/$H$50 -> 0.10143158 | K19: =ROUND(+J19*$J$51,0) -> 91035228
A20: 2.1 | C20: Excavaciones varias sin clasificar. (Incluye Transporte) | E20: m3 | F20: =+'M.C 2.1'!W24 -> 1109.8 | G20: =+'APU 2.1'!M33 -> 100386 | H20: =ROUND(F20*G20,0) -> 111408383 | J20: =+(H20*100%)/$H$28 -> 0.20689737 | K20: =ROUND(+J20*$K$19,0) -> 18834949 | L20: =+K20 -> 18834949 | M20: =ROUND(+F20*'APU 2.1'!M31,0) -> 14778097 | N20: =+F20*'APU 2.1'!M21 -> 0 | O20: =+F20*'APU 2.1'!M17 -> 6603310 | P20: =ROUNDDOWN(+F20*'APU 2.1'!M26,0) -> 90026976 | Q20: =SUM(M20:P20) -> 111408383 | R20: =SUM(L20:P20) -> 130243332
A21: 2.2 | C21: Material Granular Drenante | E21: m3 | F21: =+'M.C 2.2'!W22 -> 720 | G21: =+'APU 2.2'!N35 -> 300255 | H21: =ROUND(F21*G21,0) -> 216183600 | J21: =+(H21*100%)/$H$28 -> 0.40147623 | K21: =ROUND(+J21*$K$19,0) -> 36548480 | L21: =+K21 -> 36548480 | M21: =+F21*'APU 2.2'!N33 -> 72408240 | N21: =+F21*'APU 2.2'!N24 -> 84085200 | O21: =+F21*'APU 2.2'!N19 -> 3620160 | P21: =+F21*'APU 2.2'!N28 -> 56070000 | Q21: =SUM(M21:P21) -> 216183600 | R21: =SUM(L21:P21) -> 252732080
A22: 2.3 | C22: Tubería de Plástico de Diametro 100mm | E22: m | F22: =+'M.C 2.3'!W22 -> 1200 | G22: =+'APU 2.3'!M33 -> 30607 | H22: =ROUND(F22*G22,0) -> 36728400 | J22: =+(H22*100%)/$H$28 -> 0.068208595 | K22: =ROUND(+J22*$K$19,0) -> 6209385 | L22: =+K22 -> 6209385 | M22: =+F22*'APU 2.3'!M31 -> 8044800 | N22: =+F22*'APU 2.3'!M21 -> 27000000 | O22: =+F22*'APU 2.3'!M15 -> 402000 | P22: =+F22*'APU 2.3'!M26 -> 1281600 | Q22: =SUM(M22:P22) -> 36728400 | R22: =SUM(L22:P22) -> 42937785
A23: 2.4 | C23: Geotextil no tejido tipo NT2500 para separacion de suelos | E23: m2 | F23: =+'M.C 2.4'!W22 -> 4200 | G23: =+'APU 2.4'!M33 -> 28387 | H23: =ROUND(F23*G23,0) -> 119225400 | J23: =+(H23*100%)/$H$28 -> 0.22141441 | K23: =ROUND(+J23*$K$19,0) -> 20156511 | L23: =+K23 -> 20156511 | M23: =+F23*'APU 2.4'!M31 -> 84474600 | N23: =+F23*'APU 2.4'!M21 -> 26040000 | O23: =+F23*'APU 2.4'!M15 -> 4225200 | P23: =+F23*'APU 2.4'!M26 -> 4485600 | Q23: =SUM(M23:P23) -> 119225400 | R23: =SUM(L23:P23) -> 139381911
A24: 2.5 | C24: Excavaciones varias sin clasificar (sin transporte) | E24: m3 | F24: =+'M.C 2.5'!W22 -> 225 | G24: =+'APU 2.5'!M32 -> 38531 | H24: =ROUND(F24*G24,0) -> 8669475 | J24: =+(H24*100%)/$H$28 -> 0.016100149 | K24: =ROUND(+J24*$K$19,0) -> 1465681 | L24: =+K24 -> 1465681 | M24: =+F24*'APU 2.5'!M30 -> 5991975 | N24: =+F24*'APU 2.5'!M20 -> 0 | O24: =+F24*'APU 2.5'!M16 -> 2677500 | P24: =+F24*'APU 2.5'!M24 -> 0 | Q24: =SUM(M24:P24) -> 8669475 | R24: =SUM(L24:P24) -> 10135156
A25: 2.6 | C25: Tubería de concreto reforzado clase D, de 900 mm de diámetro interior | E25: m | F25: =+'M.C 2.6'!W22 -> 30 | G25: =+'APU 2.6'!M33 -> 1192986 | H25: =ROUND(F25*G25,0) -> 35789580 | J25: =+(H25*100%)/$H$28 -> 0.066465105 | K25: =ROUND(+J25*$K$19,0) -> 6050666 | L25: =+K25 -> 6050666 | M25: =+F25*'APU 2.6'!M31 -> 2597940 | N25: =+F25*'APU 2.6'!M21 -> 29753970 | O25: =+F25*'APU 2.6'!M15 -> 909030 | P25: =+F25*'APU 2.6'!M26 -> 2528640 | Q25: =SUM(M25:P25) -> 35789580 | R25: =SUM(L25:P25) -> 41840246
A26: 2.7 | C26: Concreto clase F (140 kg/cm2 ó 2000 PSI) | E26: m3 | F26: =+'M.C 2.7'!W24 -> 12 | G26: =+'APU 2.7'!M34 -> 726411 | H26: =ROUND(F26*G26,0) -> 8716932 | J26: =+(H26*100%)/$H$28 -> 0.016188282 | K26: =ROUND(+J26*$K$19,0) -> 1473704 | L26: =+K26 -> 1473704 | M26: =+F26*'APU 2.7'!M32 -> 3058884 | N26: =+F26*'APU 2.7'!M22 -> 4388400 | O26: =+F26*'APU 2.7'!M15 -> 212940 | P26: =+F26*'APU 2.7'!M27 -> 1056708 | Q26: =SUM(M26:P26) -> 8716932 | R26: =SUM(L26:P26) -> 10190636
A27: 2.8 | C27: Relleno para Estructuras con material del sitio | E27: m3 | F27: =+'M.C 2.8'!W22 -> 40 | G27: =+'APU 2.8'!M30 -> 43749 | H27: =ROUND(F27*G27,0) -> 1749960 | J27: =+(H27*100%)/$H$28 -> 0.0032498642 | K27: =ROUND(+J27*$K$19,0) -> 295852 | L27: =+K27 -> 295852 | M27: =+F27*'APU 2.8'!M28 -> 1240320 | N27: =+F27*'APU 2.8'!M20 -> 144000 | O27: =+F27*'APU 2.8'!M15 -> 238920 | P27: =+F27*'APU 2.8'!M24 -> 126720 | Q27: =SUM(M27:P27) -> 1749960 | R27: =SUM(L27:P27) -> 2045812
A28: Subtotal | H28: =+SUM(H20:H27) -> 538471730 | K28: =+SUM(K20:K27) -> 91035228 | L28: =+SUM(L24:L27) -> 9285903 | M28: =+SUM(M20:M27) -> 192594856 | N28: =+SUM(N20:N27) -> 171411570 | O28: =+SUM(O20:O27) -> 18889060 | P28: =+SUM(P20:P27) -> 155576244 | Q28: =+SUM(Q20:Q27) -> 538471730 | R28: =+SUM(R20:R27) -> 629506958
A29: III. CONSTRUIR ESTRUCTURAS REDES DE ALCANTARILLADO SANITARIO
A30: CONSTRUCCIÓN | C30: METROS DE ALCANTARILLADO SANITARIO TUB D160mm - D200mm | J30: =+(H44*100%)/$H$50 -> 0.10977031 | K30: =ROUND(+J30*$J$51,0) -> 98519271
A31: 3.1 | C31: Excavación En Zanja a mano en material común h <=2 m (Incluye Transporte) | E31: m3 | F31: =+'MC. 3.1'!W23 -> 743 | G31: =+'APU 3.1'!N35 -> 189647 | H31: =ROUND(F31*G31,0) -> 140907721 | J31: =+(H31*100%)/$H$44 -> 0.24180216 | K31: =ROUND(+J31*$K$30,0) -> 23822172 | L31: =+K31 -> 23822172 | M31: =+F31*'APU 3.1'!N33 -> 76795737 | N31: =+F31*'APU 3.1'!N23 -> 0 | O31: =+F31*'APU 3.1'!N19 -> 3839824 | P31: =+F31*'APU 3.1'!N28 -> 60272160 | Q31: =SUM(M31:P31) -> 140907721 | R31: =SUM(L31:P31) -> 164729893
A32: 3.2 | C32: Suministro transporte e Instalación Tub PVCcorru ext,lisa int, PS57psi, D160mm | E32: m | F32: =+'M.C 3.2'!W18 -> 120 | G32: =+'APU 3.2'!M33 -> 106436 | H32: =ROUND(F32*G32,0) -> 12772320 | J32: =+(H32*100%)/$H$44 -> 0.02191771 | K32: =ROUND(+J32*$K$30,0) -> 2159317 | L32: =+K32 -> 2159317 | M32: =+F32*'APU 3.2'!M31 -> 5676360 | N32: =+F32*'APU 3.2'!M21 -> 6684000 | O32: =+F32*'APU 3.2'!M15 -> 283800 | P32: =+F32*'APU 3.2'!M26 -> 128160 | Q32: =SUM(M32:P32) -> 12772320 | R32: =SUM(L32:P32) -> 14931637
A33: 3.3 | C33: Suministro transporte e Instalación Tub PVCcorru ext,lisa int, PS57psi, D200mm | E33: m | F33: =+'M.C 3.3'!W19 -> 198.55 | G33: =+'APU 3.3'!M33 -> 136272 | H33: =ROUND(F33*G33,0) -> 27056806 | J33: =+(H33*100%)/$H$44 -> 0.046430345 | K33: =ROUND(+J33*$K$30,0) -> 4574284 | L33: =+K33 -> 4574284 | M33: =ROUND(+F33*'APU 3.3'!M31,0) -> 14088314 | N33: =+F33*'APU 3.3'!M21 -> 12051985 | O33: =ROUND(+F33*'APU 3.3'!M15,0) -> 704455 | P33: =ROUND(+F33*'APU 3.3'!M26,0) -> 212051 | Q33: =SUM(M33:P33) -> 27056805 | R33: =SUM(L33:P33) -> 31631089
A34: 3.4 | C34: Suministro, transporte e instalación material seleccionado proveniente excavación | E34: m3 | F34: =+'M.C 3.4'!W20 -> 91.6 | G34: =+'APU 3.4'!M30 -> 43749 | H34: =ROUND(F34*G34,0) -> 4007408 | J34: =+(H34*100%)/$H$44 -> 0.0068768404 | K34: =ROUND(+J34*$K$30,0) -> 677501 | L34: =+K34 -> 677501 | M34: =ROUND(+F34*'APU 3.4'!M28,0) -> 2840333 | N34: =+F34*'APU 3.4'!M20 -> 329760 | O34: =ROUND(+F34*'APU 3.4'!M15,0) -> 547127 | P34: =ROUND(+F34*'APU 3.4'!M24,0) -> 290189 | Q34: =SUM(M34:P34) -> 4007409 | R34: =SUM(L34:P34) -> 4684910
A35: 3.5 | C35: Relleno para Estructuras con recebo | E35: m3 | F35: =+'M.C 3.5'!W48 -> 1352 | G35: =+'APU 3.5'!N33 -> 241956 | H35: =ROUND(F35*G35,0) -> 327124512 | J35: =+(H35*100%)/$H$44 -> 0.56135613 | K35: =ROUND(+J35*$K$30,0) -> 55304397 | L35: =+K35 -> 55304397 | M35: =+F35*'APU 3.5'!N31 -> 41922816 | N35: =+F35*'APU 3.5'!N23 -> 171839200 | O35: =+F35*'APU 3.5'!N18 -> 8075496 | P35: =+F35*'APU 3.5'!N27 -> 105287000 | Q35: =SUM(M35:P35) -> 327124512 | R35: =SUM(L35:P35) -> 382428909
A36: 3.6 | C36: Suministro, transporte e instalación cama de Arena | E36: m3 | F36: =+'M.C 3.6'!W20 -> 109.4 | G36: =+'APU 3.6'!N33 -> 225263 | H36: =ROUND(F36*G36,0) -> 24643772 | J36: =+(H36*100%)/$H$44 -> 0.042289502 | K36: =ROUND(+J36*$K$30,0) -> 4166331 | L36: =+K36 -> 4166331 | M36: =ROUND(+F36*'APU 3.6'!N31,0) -> 3392275 | N36: =ROUND(+F36*'APU 3.6'!N23,0) -> 13389247 | O36: =ROUND(+F36*'APU 3.6'!N18,0) -> 653446 | P36: =ROUND(+F36*'APU 3.6'!N27,0) -> 7208804 | Q36: =SUM(M36:P36) -> 24643772 | R36: =SUM(L36:P36) -> 28810103
A37: 3.7 | C37: Suministro e Instalación Silla yee PVC,alcant.,D200 x 160 mm | E37: und | F37: =+'M.C 3.7'!W20 -> 12 | G37: =+'APU 3.7'!M33 -> 405222 | H37: =ROUND(F37*G37,0) -> 4862664 | J37: =+(H37*100%)/$H$44 -> 0.0083444871 | K37: =ROUND(+J37*$K$30,0) -> 822093 | L37: =+K37 -> 822093 | M37: =+F37*'APU 3.7'!M31 -> 3017004 | N37: =+F37*'APU 3.7'!M21 -> 1688400 | O37: =+F37*'APU 3.7'!M15 -> 150852 | P37: =+F37*'APU 3.7'!M26 -> 6408 | Q37: =SUM(M37:P37) -> 4862664 | R37: =SUM(L37:P37) -> 5684757
A38: 3.8 | C38: Caja para conexion domiciliaria alcantarillado en mampostería 0.6x0.6x0.6m | E38: und | F38: =+'M.C 3.8'!W20 -> 12 | G38: =+'APU 3.8'!M34 -> 647572 | H38: =ROUND(F38*G38,0) -> 7770864 | J38: =+(H38*100%)/$H$44 -> 0.013335051 | K38: =ROUND(+J38*$K$30,0) -> 1313760 | L38: =+K38 -> 1313760 | M38: =+F38*'APU 3.8'!M32 -> 1917468 | N38: =+F38*'APU 3.8'!M22 -> 5052960 | O38: =+F38*'APU 3.8'!M15 -> 95868 | P38: =+F38*'APU 3.8'!M27 -> 704568 | Q38: =SUM(M38:P38) -> 7770864 | R38: =SUM(L38:P38) -> 9084624
A39: 3.9 | C39: Cilindro para pozo insp en mampostería D1.20m e=0.25m | E39: und | F39: =+'M.C 3.9'!W22 -> 6 | G39: =+'APU 3.9'!M34 -> 1224823 | H39: =ROUND(F39*G39,0) -> 7348938 | J39: =+(H39*100%)/$H$44 -> 0.012611013 | K39: =ROUND(+J39*$K$30,0) -> 1242428 | L39: =+K39 -> 1242428 | M39: =+F39*'APU 3.9'!M32 -> 4257306 | N39: =+F39*'APU 3.9'!M22 -> 2526480 | O39: =+F39*'APU 3.9'!M15 -> 212868 | P39: =+F39*'APU 3.9'!M27 -> 352284 | Q39: =SUM(M39:P39) -> 7348938 | R39: =SUM(L39:P39) -> 8591366
A40: 3.1 | C40: Construcción Base y cañuela | E40: und | F40: =+'M.C 3.10'!W22 -> 6 | G40: =+'APU 3.10'!N39 -> 1029201 | H40: =ROUND(F40*G40,0) -> 6175206 | J40: =+(H40*100%)/$H$44 -> 0.010596851 | K40: =ROUND(+J40*$K$30,0) -> 1043994 | L40: =+K40 -> 1043994 | M40: =+F40*'APU 3.10'!N37 -> 2838210 | N40: =+F40*'APU 3.10'!N27 -> 2606112 | O40: =+F40*'APU 3.10'!N19 -> 216912 | P40: =+F40*'APU 3.10'!N32 -> 513972 | Q40: =SUM(M40:P40) -> 6175206 | R40: =SUM(L40:P40) -> 7219200
A41: 3.11 | C41: Suministro transporte e Instalación Cono reduc Prefabr CR 28Mpa Pozo Insp | E41: und | F41: =+'M.C 3.11'!W22 -> 6 | G41: =+'APU 3.11'!M33 -> 1202423 | H41: =ROUND(F41*G41,0) -> 7214538 | J41: =+(H41*100%)/$H$44 -> 0.012380378 | K41: =ROUNDDOWN(+J41*$K$30,0) -> 1219705 | L41: =+K41 -> 1219705 | M41: =+F41*'APU 3.11'!M31 -> 2838210 | N41: =+F41*'APU 3.11'!M21 -> 3914160 | O41: =+F41*'APU 3.11'!M15 -> 141912 | P41: =+F41*'APU 3.11'!M26 -> 320256 | Q41: =SUM(M41:P41) -> 7214538 | R41: =SUM(L41:P41) -> 8434243
...

Sheet AIU
A1: AIU
A2: PROYECTO | B2: =+'PRESUPUESTO GENERAL'!A2 -> MEJORAMIENTO DE VIAS RURALES EN EL MUNICIPIO DE COTA CUNDINAMARCA BPIN 2025I00010028
A3: FECHA | B3: ENERO DEL 2026
B4: COSTO DIRECTO TOTAL | I4: {=+'PRESUPUESTO GENERAL'!H50:I50} -> 5308718924 | J4: 0
A6: N° | B6: DESCRIPCION | C6: UNIDAD | D6: CANTIDAD | E6: MESES | F6: % DE PARTICIPACIÓN | G6: FACTOR DE ANALISIS PRESTACIONAL | H6: VALOR UNITARIO | I6: VALOR TOTAL
A8: 1 | B8: PERSONAL DE OBRA
A9: 1.1 | B9: Director de Obra | C9: Mes | D9: 1 | E9: 6 | F9: 0.5 | G9: =+FP!C20 -> 1.5829 | H9: 9500000 | I9: =+D9*E9*F9*G9*H9 -> 45112650
A10: 1.2 | B10: Residente Obra | C10: Mes | D10: 1 | E10: 6 | F10: 1 | G10: =+FP!C20 -> 1.5829 | H10: 5800000 | I10: =+D10*E10*F10*G10*H10 -> 55084920
A11: 1.3 | B11: Inspector de Obra | C11: Mes | D11: 2 | E11: 6 | F11: 1 | G11: =+FP!F20 -> 1.7669 | H11: 2500000 | I11: =+D11*E11*F11*G11*H11 -> 53007000
A12: 1.4 | B12: Residente Siso | C12: Mes | D12: 1 | E12: 6 | F12: 1 | G12: =+FP!F20 -> 1.7669 | H12: 2300000 | I12: =+D12*E12*F12*G12*H12 -> 24383220
A13: 1.5 | B13: Contador | C13: Mes | D13: 1 | E13: 6 | F13: 0.3 | G13: =+FP!F40 -> 1.5186 | H13: 5800000 | I13: =+D13*E13*F13*G13*H13 -> 15854184
A14: 1.6 | B14: Abogado | C14: Mes | D14: 1 | E14: 6 | F14: 0.3 | G14: =+FP!F40 -> 1.5186 | H14: 5800000 | I14: =+D14*E14*F14*G14*H14 -> 15854184 | K14: =+H14*F14 -> 1740000
A15: 1.8 | B15: Secretaria | C15: Mes | D15: 1 | E15: 6 | F15: 1 | G15: =+FP!C40 -> 1.7078 | H15: 2000000 | I15: =+D15*E15*F15*G15*H15 -> 20493600
A16: 1.9 | B16: Topógrafo (Incluye equipos topograficos) | C16: Mes | D16: 2 | E16: 6 | F16: 1 | G16: =+FP!C20 -> 1.5829 | H16: 5750000 | I16: =+D16*E16*F16*G16*H16 -> 1.092201e+08
A17: 1.10 | B17: Cadenero | C17: Mes | D17: 2 | E17: 6 | F17: 1 | G17: =+FP!F20 -> 1.7669 | H17: 2090000 | I17: =+D17*E17*F17*G17*H17 -> 44313852
A18: 1.11 | B18: Vigilante | C18: Mes | D18: 2 | E18: 6 | F18: 1 | G18: =+FP!F20 -> 1.7669 | H18: 2090000 | I18: =+D18*E18*F18*G18*H18 -> 44313852
A19: 1.12 | B19: Almacenista | C19: Mes | D19: 1 | E19: 6 | F19: 1 | G19: =+FP!F20 -> 1.7669 | H19: 2090000 | I19: =+D19*E19*F19*G19*H19 -> 22156926
B20: TOTAL PERSONAL DE OBRA | I20: =SUM(I9:I19) -> 449794488 | J20: =+PMA!J11 -> 89384460 | K20: =+PMT!I20 -> 1.272168e+08 | L20: =+I20+J20+K20 -> 666395748
A21: 2 | B21: COSTOS DE SERVICIOS PUBLICOS
A22: 2.1 | B22: Energía | C22: Mes | D22: 1 | E22: 6 | H22: 70000 | I22: =+E22*H22 -> 420000
A23: 2.2 | B23: Agua | C23: Mes | D23: 1 | E23: 6 | H23: 70000 | I23: =+E23*H23 -> 420000
A24: 2.3 | B24: Internet y telefonia | C24: Mes | D24: 1 | E24: 6 | H24: 150000 | I24: =+E24*H24 -> 900000
B25: TOTAL COSTOS DE SERVICIOS PUBLICOS: | I25: =SUM(I22:I24) -> 1740000
A26: 3 | B26: COSTOS DE DOTACION CAMPAMENTO E INSTALACIONES PROVISIONALES
A27: 3.1 | B27: Campamento | C27: mes | D27: 1 | E27: 6 | H27: 900000 | I27: =+E27*H27 -> 5400000
A28: 3.2 | B28: Computador - muebles | C28: mes | D28: 1 | E28: 6 | H28: 300000 | I28: =+E28*H28 -> 1800000
A29: 3.3 | B29: Instalaciones provisionales de energía | C29: Und | D29: 1 | E29: 1 | H29: 1000000 | I29: =+E29*H29 -> 1000000
A30: 3.4 | B30: Instalaciones provisionales de acueducto | C30: Und | D30: 1 | E30: 1 | H30: 700000 | I30: =+E30*H30 -> 700000
B31: TOTAL COSTOS DE DOTACION CAMPAMENTO: | I31: =SUM(I27:I30) -> 8900000
A32: 4 | B32: OTROS - GASTOS GENERALES
A33: 4.1 | B33: Ensayos en control de calidad para materiales granulares | C33: un | D33: 1 | E33: 1 | H33: =SUM(I34:I38) -> 9143000 | I33: =+E33*H33 -> 9143000
A34: 4.1.1 | B34: GRANULOMETRÍA | C34: un | D34: 41 | H34: 60000 | I34: =+D34*H34 -> 2460000
A35: 4.1.2 | B35: LIMTE LIQUIDO | C35: Und | D35: 41 | H35: 24000 | I35: =+D35*H35 -> 984000
A36: 4.1.3 | B36: ÍNDICE DE PLASTICIDAD | C36: und | D36: 41 | H36: 24000 | I36: =+D36*H36 -> 984000
A37: 4.1.4 | B37: EQUIVALENTE DE ARENA | C37: und | D37: 41 | H37: 60000 | I37: =+D37*H37 -> 2460000
A38: 4.1.5 | B38: ENSAYO MODIFICADO DE COMPACTACIÓN | C38: und | D38: 41 | H38: 55000 | I38: =+D38*H38 -> 2255000
A39: 4.2 | B39: Ensayos en control de calidad para concretos | C39: un | D39: 1 | E39: 1 | H39: =SUM(I40:I42) -> 1440000 | I39: =+E39*H39 -> 1440000
A40: 4.2.1 | B40: CONCRETO RESISTENCIA 21 MPA CLASE D (PARA OBRAS MENORES) | C40: un | D40: 30 | H40: 16000 | I40: =+H40*D40 -> 480000
A41: 4.2.2 | B41: PAVIMENTO EN CONCRETO HIDRAULICO | C41: un | D41: 30 | H41: 16000 | I41: =+H41*D41 -> 480000
A42: 4.2.3 | B42: CONCRETO RESISTENCIA 21 MPA CLASE D (PARA BERMA CUNETA) | C42: un | D42: 30 | H42: 16000 | I42: =+H42*D42 -> 480000
...

Sheet PMA
B3: PRESUPUESTO PLAN DE MANEJO AMBIENTAL PMA
B4: =+'PRESUPUESTO GENERAL'!A2 -> MEJORAMIENTO DE VIAS RURALES EN EL MUNICIPIO DE COTA CUNDINAMARCA BPIN 2025I00010028
B5: CONFORMACION GRUPO GESTION AMBIENTAL
B6: ENERO DEL 2026
B7: ITEM | C7: DESCRIPCION | D7: UNIDAD | E7: CANTIDAD | F7: PLAZO | G7: % Participación | H7: Factor prestacional | I7: VALOR UNITARIO | J7: VALOR TOTAL
B8: PERSONAL - COSTO DIRECTO
B9: 1.1 | C9: Residente ambiental | D9: mes | E9: 1 | F9: 6 | G9: 1 | H9: =+FP!C20 -> 1.5829 | I9: 4500000 | J9: =+E9*F9*G9*H9*I9 -> 42738300
B10: 1.2 | C10: Auxiliar ambiental | D10: mes | E10: 2 | F10: =+F9 -> 6 | G10: 1 | H10: =+FP!F20 -> 1.7669 | I10: 2200000 | J10: =+E10*F10*G10*H10*I10 -> 46646160
C11: Subtotal | J11: =SUM(J9:J10) -> 89384460
B12: COSTO INDIRECTO
B13: 2.1 | C13: Papelería y copias | D13: mes | E13: 1 | F13: =+F9 -> 6 | I13: 150000 | J13: =+I13*F13*E13 -> 900000
B14: 2.2 | C14: Cursos para personal de obra (cuidado personal, uso EPP, trabajo en equipo, manejo de conflicto) refrigerio | D14: mes | E14: 1 | F14: =+F13 -> 6 | I14: 350000 | J14: =+I14*F14*E14 -> 2100000
B15: 2.3 | C15: Alquiler e instalación de unidades sanitarias portatiles | D15: mes | E15: 2 | F15: =+F13 -> 6 | I15: 420000 | J15: =+I15*F15*E15 -> 5040000
B16: 2.4 | C16: Plástico negro o polietileno de grueso calibre (100m, cal 3,5 ancho 4m) | D16: rollo | E16: 20 | I16: 620000 | J16: =+I16*E16 -> 12400000
B17: 2.5 | C17: Juego de tres recipientes de 55 gal | D17: und | E17: 1 | I17: 413500 | J17: =+I17*E17 -> 413500
B18: 2.6 | C18: camilla rígida en polietileno con arnes tipo araña e inmobilizador de cuello | D18: und | E18: 2 | I18: 350000 | J18: =+I18*E18 -> 700000
B19: 2.7 | C19: extintor multiproposito amarillo 20 lbs | D19: und | E19: =+E18 -> 2 | I19: 125000 | J19: =+I19*E19 -> 250000
B20: 2.8 | C20: botiquin | D20: und | E20: =+E18 -> 2 | I20: 120000 | J20: =+I20*E20 -> 240000
C21: Subtotal | J21: =SUM(J13:J20) -> 22043500
C22: TOTAL | J22: =+J21+J11 -> 111427960

Sheet PMT
B3: PRESUPUESTO PLAN DE MANEJO DE TRÁNSITO PMT
B4: =+'PRESUPUESTO GENERAL'!A2 -> MEJORAMIENTO DE VIAS RURALES EN EL MUNICIPIO DE COTA CUNDINAMARCA BPIN 2025I00010028
B5: ENERO DEL 2026
B6: ITEM | C6: DESCRIPCION | D6: UNIDAD | E6: CANTIDAD | F6: PLAZO | G6: Factor prestacional | H6: VALOR UNITARIO | I6: VALOR TOTAL
B7: DISPOSITIVOS DE CONTROL
B8: 1.1 | C8: Barricadas | D8: und | E8: 12 | H8: 650000 | I8: =ROUND(E8*H8,0) -> 7800000
B9: 1.2 | C9: paletas de pare y siga | D9: und | E9: 6 | H9: 31513 | I9: =ROUND(E9*H9,0) -> 189078
B10: 1.3 | C10: delineadores tubulares (colombinas) | D10: und | E10: 30 | H10: 49900 | I10: =ROUND(E10*H10,0) -> 1497000
B11: 1.4 | C11: cinta plástica peligro NO PASE | D11: m | E11: 1500 | H11: 199 | I11: =ROUND(E11*H11,0) -> 298500 | M11: =59900/500 -> 119.8
B12: SEÑALIZACION
B13: 2.1 | C13: Señal vetical de primer y segundo nivel | D13: und | E13: 18 | H13: 250000 | I13: =ROUND(E13*H13,0) -> 4500000
B14: 2.2 | C14: señales moviles de aproximación | D14: und | E14: 18 | H14: 264000 | I14: =ROUND(E14*H14,0) -> 4752000
B15: EQUIPOS VARIOS
B16: 3.1 | C16: chalecos reflectivos | D16: und | E16: 6 | H16: 35000 | I16: =ROUND(E16*H16,0) -> 210000
B17: 3.3 | C17: pitos para auxiliares de tránsito | D17: und | E17: 6 | H17: 4000 | I17: =ROUND(E17*H17,0) -> 24000
B18: 3.4 | C18: radioteléfonos | D18: und | E18: 12 | H18: 220000 | I18: =ROUND(E18*H18,0) -> 2640000
B19: PERSONAL
B20: 4.1 | C20: Auxiliar pare - siga | D20: mes | E20: 6 | F20: 6 | G20: =+FP!F20 -> 1.7669 | H20: =+'MANO DE OBRA'!E12+'MANO DE OBRA'!E13 -> 2000000 | I20: =+E20*F20*G20*H20 -> 1.272168e+08
B21: Subtotal | I21: =+SUM(I8:I20) -> 149127378
C30: VICTOR JULIO GUAYAMBUCO QUINTERO
C31: INGENIERO CIVIL
C32: Matrícula Profesional No.: 252021-16054 CND

Sheet FP
B2: FACTOR ANALISIS PRESTACIONAL
B3: =+'PRESUPUESTO GENERAL'!A2 -> MEJORAMIENTO DE VIAS RURALES EN EL MUNICIPIO DE COTA CUNDINAMARCA BPIN 2025I00010028
B4: ANALISIS FACTOR PRESTACIONAL>2SMMLV CAMPO | E4: ANALISIS FACTOR PRESTACIONAL<2SMMLV CAMPO | H4: ANALISIS FACTOR PRESTACIONAL<2SMMLV OFICINA
B6: SUELDO | C6: 1 | E6: SUELDO | F6: 1 | H6: SUELDO | I6: 1
B8: INTERESES SOBRE CESANTIAS | C8: 0.01 | E8: INTERESES SOBRE CESANTIAS | F8: 0.01 | H8: INTERESES SOBRE CESANTIAS | I8: 0.01
B9: CESANTIAS | C9: 0.0833 | E9: CESANTIAS | F9: 0.0833 | H9: CESANTIAS | I9: 0.0833
B10: PRIMA | C10: 0.0833 | E10: PRIMA | F10: 0.0833 | H10: PRIMA | I10: 0.0833
B11: VACACIONES | C11: 0.0417 | E11: VACACIONES | F11: 0.0417 | H11: VACACIONES | I11: 0.0417
E12: SUBSIDIO DE TRANSPORTE | F12: 0.1423 | H12: SUBSIDIO DE TRANSPORTE | I12: 0.1423
E13: DOTACIÓN | F13: 0.0417 | H13: DOTACIÓN | I13: 0.0417
B14: PENSION | C14: 0.12 | E14: PENSION | F14: 0.12 | H14: PENSION | I14: 0.12
B15: SALUD | C15: 0.085 | E15: SALUD | F15: 0.085 | H15: SALUD | I15: 0.085
B16: RIESGOS TIPO V | C16: 0.0696 | E16: RIESGOS TIPO V | F16: 0.0696 | H16: RIESGOS TIPO I | I16: 0.00522
B18: PARAFISCALES | C18: 0.09 | E18: PARAFISCALES | F18: 0.09 | H18: PARAFISCALES | I18: 0.09
B20: FACTOR PRESTACIONAL | C20: =ROUNDUP(SUM(C6:C19),4) -> 1.5829 | E20: FACTOR PRESTACIONAL | F20: =ROUNDUP(SUM(F6:F19),4) -> 1.7669 | H20: FACTOR PRESTACIONAL | I20: =ROUNDUP(SUM(I6:I19),4) -> 1.7026
B24: ANALISIS FACTOR PRESTACIONAL<2SMMLV OFICINA | E24: ANALISIS FACTOR PRESTACIONAL>2SMMLV OFICINA
B26: SUELDO | C26: 1 | E26: SUELDO | F26: 1
B28: INTERESES SOBRE CESANTIAS | C28: 0.01 | E28: INTERESES SOBRE CESANTIAS | F28: 0.01
B29: CESANTIAS | C29: 0.0833 | E29: CESANTIAS | F29: 0.0833
B30: PRIMA | C30: 0.0833 | E30: PRIMA | F30: 0.0833
B31: VACACIONES | C31: 0.0417 | E31: VACACIONES | F31: 0.0417
B32: SUBSIDIO DE TRANSPORTE | C32: 0.1423
B33: DOTACIÓN | C33: 0.0417
B34: PENSION | C34: 0.12 | E34: PENSION | F34: 0.12
B35: SALUD | C35: 0.085 | E35: SALUD | F35: 0.085
B36: RIESGOS TIPO II | C36: 0.01044 | E36: RIESGOS TIPO I | F36: 0.00522
B38: PARAFISCALES | C38: 0.09 | E38: PARAFISCALES | F38: 0.09
B40: FACTOR PRESTACIONAL | C40: =ROUNDUP(SUM(C26:C39),4) -> 1.7078 | E40: FACTOR PRESTACIONAL | F40: =ROUNDUP(SUM(F26:F39),4) -> 1.5186
E45: VICTOR JULIO GUAYAMBUCO QUINTERO
E46: INGENIERO CIVIL
E47: Matrícula Profesional No.: 252021-16054 CND

Sheet CRONOGRAMA N
A1: CRONOGRAMA Y FLUJO DE FONDOS
A2: =+'PRESUPUESTO GENERAL'!A2 -> MEJORAMIENTO DE VIAS RURALES EN EL MUNICIPIO DE COTA CUNDINAMARCA BPIN 2025I00010028 | J2: ETAPA PRECONTRACTUAL | K2: ETAPA CONTRACTUAL | Q2: ETAPA DE LIQUIDACIÓN
A3: SECCIÓN 1 - ITEMS DE OBRA - ACTIVIDADES DE MEJORAMIENTO
A4: No | B4: ESPECIFICACIONES | C4: DESCRIPCION | E4: UNIDAD | F4: CANTIDAD | G4: VALOR UNITARIO | H4: VALOR TOTAL | J4: MES 0 | K4: MES 1 | L4: MES 2 | M4: MES 3 | N4: MES 4 | O4: MES 5 | P4: MES 6 | Q4: MES 7
B5: GENERAL ENERO DEL 2026
A7: ETAPA PRE CONTRACTUAL
A8: I. CONSTRUIR PAVIMENTO EN CONCRETO HIDRAULICO MR3.8
A9: CONSTRUCCIÓN | C9: METROS DE PAVIMENTO EN CONCRETO HIDRAULICO MR3.8 MPA
A10: 1.1 | C10: Excavaciones varias en material común en seco. 0 - 2 m (Incluye Transporte) | E10: m3 | F10: =+'M.C 1.1'!W32 -> 1069 | G10: =+'APU 1.1'!N35 -> 153471 | H10: =ROUND(F10*G10,0) -> 164060499 | L10: =+H10/4 -> 41015125 | M10: =+L10 -> 41015125 | N10: =+M10 -> 41015125 | O10: =+N10 -> 41015125 | S10: =SUM(K10:P10) -> 164060499 | U10: =+S10-H10 -> 0
A11: 1.2 | C11: Conformación de la calzada existente | E11: m2 | F11: =+'M.C 1.2'!W21 -> 8309 | G11: =+'APU 1.2'!N35 -> 3199 | H11: =ROUND(F11*G11,0) -> 26580491 | L11: =+H11/4 -> 6645122.8 | M11: =+L11 -> 6645122.8 | N11: =+M11 -> 6645122.8 | O11: =+N11 -> 6645122.8 | S11: =SUM(K11:P11) -> 26580491 | U11: =+S11-H11 -> 0
A12: 1.3 | C12: Subbase Granular Clase C. | E12: m3 | F12: =+'M.C 1.3'!W23 -> 1160 | G12: =+'APU 1.3'!N35 -> 274841 | H12: =ROUND(F12*G12,0) -> 318815560 | L12: =+H12/4 -> 79703890 | M12: =+H12/4 -> 79703890 | N12: =+M12 -> 79703890 | O12: =+N12 -> 79703890 | S12: =SUM(K12:P12) -> 318815560 | U12: =+S12-H12 -> 0
A13: 1.4 | C13: Afirmado | E13: m3 | F13: =+'M.C 1.4'!W22 -> 2493 | G13: =+'APU 1.4'!N35 -> 260376 | H13: =ROUND(F13*G13,0) -> 649117368 | L13: =+H13/3 -> 216372456 | M13: =+L13 -> 216372456 | N13: =+M13 -> 216372456 | S13: =SUM(K13:P13) -> 649117368 | U13: =+S13-H13 -> 0
A14: 1.5 | C14: Pavimento de concreto hidraulico módulo de rotura 3.8 MPa | E14: m3 | F14: =+'M.C 1.5'!W22 -> 1382 | G14: =+'APU 1.5'!N40 -> 1126153 | H14: =ROUND(F14*G14,0) -> 1556343446 | M14: =+H14/4 -> 3.8908586e+08 | N14: =+M14 -> 3.8908586e+08 | O14: =+N14 -> 3.8908586e+08 | P14: =+O14 -> 3.8908586e+08 | S14: =SUM(K14:P14) -> 1556343446 | U14: =+S14-H14 -> 0
A15: 1.6 | C15: Concreto clase C (210 kg/cm2 ó 3000 PSI) | E15: m3 | F15: =+'M.C 1.6'!W26 -> 560 | G15: =+'APU 1.6'!N40 -> 910078 | H15: =ROUND(F15*G15,0) -> 509643680 | N15: =+H15/3 -> 1.6988123e+08 | O15: =+N15 -> 1.6988123e+08 | P15: =+O15 -> 1.6988123e+08 | S15: =SUM(K15:P15) -> 509643680 | U15: =+S15-H15 -> 0
A16: 1.7 | C16: Elaboración de juntas de construcción ( incluye corte, limpieza, polímero y sellador de junta) | E16: m | F16: =+'M.C 1.7'!W22 -> 3284 | G16: =+'APU 1.7'!N39 -> 43902 | H16: =ROUND(F16*G16,0) -> 144174168 | M16: =+H16/4 -> 36043542 | N16: =+M16 -> 36043542 | O16: =+N16 -> 36043542 | P16: =+O16 -> 36043542 | S16: =SUM(K16:P16) -> 144174168 | U16: =+S16-H16 -> 0
A17: 1.8 | C17: Acero de refuerzo de FY = 4.200 Kg/cm 2 (60.000 PSI). | E17: kg | F17: =+'M.C 1.8'!W29 -> 82360 | G17: =+'APU 1.8'!N34 -> 8990 | H17: =ROUND(F17*G17,0) -> 740416400 | L17: =+H17/5 -> 148083280 | M17: =+L17 -> 148083280 | N17: =+M17 -> 148083280 | O17: =+N17 -> 148083280 | P17: =+O17 -> 148083280 | S17: =SUM(K17:P17) -> 740416400 | U17: =+S17-H17 -> 0
A18: Subtotal | H18: =+SUM(H10:I17) -> 4109151612 | S18: =SUM(K18:P18) -> 0 | U18: =+S18-H18 -> -4109151612
A19: II. CONSTRUIR ESTRUCTURAS DE DRENAJE | S19: =SUM(K19:P19) -> 0 | U19: =+S19-H19 -> 0
A20: CONSTRUCCIÓN | C20: METROS FILTRO | S20: =SUM(K20:P20) -> 0 | U20: =+S20-H20 -> 0
A21: 2.1 | C21: Excavaciones varias sin clasificar. (Incluye Transporte) | E21: m3 | F21: =+'M.C 2.1'!W24 -> 1109.8 | G21: =+'APU 2.1'!M33 -> 100386 | H21: =ROUND(F21*G21,0) -> 111408383 | K21: =+H21/2 -> 55704192 | L21: =+K21 -> 55704192 | S21: =SUM(K21:P21) -> 111408383 | U21: =+S21-H21 -> 0
A22: 2.2 | C22: Material Granular Drenante | E22: m3 | F22: {=_xlfn.SINGLE(+'M.C 2.2'!W22:Z22)} -> 720 | G22: =+'APU 2.2'!N35 -> 300255 | H22: =ROUND(F22*G22,0) -> 216183600 | K22: =+H22/2 -> 108091800 | L22: =+K22 -> 108091800 | S22: =SUM(K22:P22) -> 216183600 | U22: =+S22-H22 -> 0
A23: 2.3 | C23: Tubería de Plástico de Diametro 100mm | E23: m | F23: {=_xlfn.SINGLE(+'M.C 2.3'!W22:Z22)} -> 1200 | G23: =+'APU 2.3'!M33 -> 30607 | H23: =ROUND(F23*G23,0) -> 36728400 | K23: =+H23/2 -> 18364200 | L23: =+K23 -> 18364200 | S23: =SUM(K23:P23) -> 36728400 | U23: =+S23-H23 -> 0
A24: 2.4 | C24: Geotextil no tejido tipo NT2500 para separacion de suelos | E24: m2 | F24: {=_xlfn.SINGLE(+'M.C 2.4'!W22:Z22)} -> 4200 | G24: =+'APU 2.4'!M33 -> 28387 | H24: =ROUND(F24*G24,0) -> 119225400 | K24: =+H24/2 -> 59612700 | L24: =+K24 -> 59612700 | S24: =SUM(K24:P24) -> 119225400 | U24: =+S24-H24 -> 0
A25: 2.5 | C25: Excavaciones varias sin clasificar (sin transporte) | E25: m3 | F25: =+'M.C 2.5'!W22 -> 225 | G25: =+'APU 2.5'!M32 -> 38531 | H25: =ROUND(F25*G25,0) -> 8669475 | K25: =+H25/2 -> 4334737.5 | L25: =+K25 -> 4334737.5 | S25: =SUM(K25:P25) -> 8669475 | U25: =+S25-H25 -> 0
A26: 2.6 | C26: Tubería de concreto reforzado clase D, de 900 mm de diámetro interior | E26: m | F26: =+'M.C 2.6'!W22 -> 30 | G26: =+'APU 2.6'!M33 -> 1192986 | H26: =ROUND(F26*G26,0) -> 35789580 | K26: =+H26/2 -> 17894790 | L26: =+K26 -> 17894790 | S26: =SUM(K26:P26) -> 35789580 | U26: =+S26-H26 -> 0
A27: 2.7 | C27: Concreto clase F (140 kg/cm2 ó 2000 PSI) | E27: m3 | F27: =+'M.C 2.7'!W24 -> 12 | G27: =+'APU 2.7'!M34 -> 726411 | H27: =ROUND(F27*G27,0) -> 8716932 | K27: =+H27/2 -> 4358466 | L27: =+K27 -> 4358466 | S27: =SUM(K27:P27) -> 8716932 | U27: =+S27-H27 -> 0
A28: 2.8 | C28: Relleno para Estructuras con material del sitio | E28: m3 | F28: =+'M.C 2.8'!W22 -> 40 | G28: =+'APU 2.8'!M30 -> 43749 | H28: =ROUND(F28*G28,0) -> 1749960 | K28: =+H28/3 -> 583320 | L28: =+K28 -> 583320 | M28: =+L28 -> 583320 | S28: =SUM(K28:P28) -> 1749960 | U28: =+S28-H28 -> 0
A29: Subtotal | H29: =+SUM(H21:I28) -> 538471730 | S29: =SUM(K29:P29) -> 0 | U29: =+S29-H29 -> -538471730
A30: III. CONSTRUIRESTRUCTURAS REDES DE ALCANTARILLADO SANITARIO | S30: =SUM(K30:P30) -> 0 | U30: =+S30-H30 -> 0
A31: CONSTRUCCIÓN | C31: METROS DE ALCANTARILLADO SANITARIO TUB D160mm - D200mm | S31: =SUM(K31:P31) -> 0 | U31: =+S31-H31 -> 0
A32: 3.1 | C32: Excavación En Zanja a mano en material común h <=2 m (Incluye Transporte) | E32: m3 | F32: =+'MC. 3.1'!W23 -> 743 | G32: =+'APU 3.1'!N35 -> 189647 | H32: =ROUND(F32*G32,0) -> 140907721 | K32: =+H32/2 -> 70453860 | L32: =+K32 -> 70453860 | S32: =SUM(K32:P32) -> 140907721 | U32: =+S32-H32 -> 0
A33: 3.2 | C33: Suministro transporte e Instalación Tub PVCcorru ext,lisa int, PS57psi, D160mm | E33: m | F33: =+'M.C 3.2'!W18 -> 120 | G33: =+'APU 3.2'!M33 -> 106436 | H33: =ROUND(F33*G33,0) -> 12772320 | K33: =+H33/2 -> 6386160 | L33: =+K33 -> 6386160 | S33: =SUM(K33:P33) -> 12772320 | U33: =+S33-H33 -> 0
A34: 3.3 | C34: Suministro transporte e Instalación Tub PVCcorru ext,lisa int, PS57psi, D200mm | E34: m | F34: =+'M.C 3.3'!W19 -> 198.55 | G34: =+'APU 3.3'!M33 -> 136272 | H34: =ROUND(F34*G34,0) -> 27056806 | K34: =+H34/2 -> 13528403 | L34: =+K34 -> 13528403 | S34: =SUM(K34:P34) -> 27056806 | U34: =+S34-H34 -> 0
A35: 3.4 | C35: Suministro, transporte e instalación material seleccionado proveniente excavación | E35: m3 | F35: =+'M.C 3.4'!W20 -> 91.6 | G35: =+'APU 3.4'!M30 -> 43749 | H35: =ROUND(F35*G35,0) -> 4007408 | K35: =+H35/2 -> 2003704 | L35: =+K35 -> 2003704 | S35: =SUM(K35:P35) -> 4007408 | U35: =+S35-H35 -> 0
A36: 3.5 | C36: Relleno para Estructuras con recebo | E36: m3 | F36: =+'M.C 3.5'!W48 -> 1352 | G36: =+'APU 3.5'!N33 -> 241956 | H36: =ROUND(F36*G36,0) -> 327124512 | K36: =+H36/2 -> 163562256 | L36: =+K36 -> 163562256 | S36: =SUM(K36:P36) -> 327124512 | U36: =+S36-H36 -> 0
A37: 3.6 | C37: Suministro, transporte e instalación cama de Arena | E37: m3 | F37: =+'M.C 3.6'!W20 -> 109.4 | G37: =+'APU 3.6'!N33 -> 225263 | H37: =ROUND(F37*G37,0) -> 24643772 | K37: =+H37/2 -> 12321886 | L37: =+K37 -> 12321886 | S37: =SUM(K37:P37) -> 24643772 | U37: =+S37-H37 -> 0
A38: 3.7 | C38: Suministro e Instalación Silla yee PVC,alcant.,D200 x 160 mm | E38: und | F38: =+'M.C 3.7'!W20 -> 12 | G38: =+'APU 3.7'!M33 -> 405222 | H38: =ROUND(F38*G38,0) -> 4862664 | K38: =+H38/2 -> 2431332 | L38: =+K38 -> 2431332 | S38: =SUM(K38:P38) -> 4862664 | U38: =+S38-H38 -> 0
A39: 3.8 | C39: Caja para conexion domiciliaria alcantarillado en mampostería 0.6x0.6x0.6m | E39: und | F39: =+'M.C 3.8'!W20 -> 12 | G39: =+'APU 3.8'!M34 -> 647572 | H39: =ROUND(F39*G39,0) -> 7770864 | K39: =+H39/2 -> 3885432 | L39: =+K39 -> 3885432 | S39: =SUM(K39:P39) -> 7770864 | U39: =+S39-H39 -> 0
A40: 3.9 | C40: Cilindro para pozo insp en mampostería D1.20m e=0.25m | E40: und | F40: =+'M.C 3.9'!W22 -> 6 | G40: =+'APU 3.9'!M34 -> 1224823 | H40: =ROUND(F40*G40,0) -> 7348938 | K40: =+H40/2 -> 3674469 | L40: =+K40 -> 3674469 | S40: =SUM(K40:P40) -> 7348938 | U40: =+S40-H40 -> 0
A41: 3.1 | C41: Construcción Base y cañuela | E41: und | F41: {=_xlfn.SINGLE(+'M.C 3.10'!W22:Z22)} -> 6 | G41: =+'APU 3.10'!N39 -> 1029201 | H41: =ROUND(F41*G41,0) -> 6175206 | K41: =+H41/2 -> 3087603 | L41: =+K41 -> 3087603 | S41: =SUM(K41:P41) -> 6175206 | U41: =+S41-H41 -> 0
...

Sheet PPTO INTERVENTORIA 
C1: DESCRIPCIÓN Y CUANTIFICACIÓN DE INTERVENTORÍA Y OTROS
C2: =+'PRESUPUESTO GENERAL'!A2 -> MEJORAMIENTO DE VIAS RURALES EN EL MUNICIPIO DE COTA CUNDINAMARCA BPIN 2025I00010028
C4: ENERO DEL 2026
C5: CANT. | D5: CARGO / OFICIO | E5: COSTOS | F5: PRIMA | G5: PARTICIPACIÓN | H5: FACTOR MULTIPLICADOR | I5: VALOR
E6: DE PERSONAL | F6: REGIONAL | G6: (h-mes) | I6: PARCIAL ($)
C7: COSTOS DIRECTOS DE PERSONAL
C8: PERSONAL PROFESIONAL
C9: 1 | D9: director de interventoria | E9: 9500000 | F9: 0.5 | G9: 8 | H9: =+'FM '!G49 -> 2.0079 | I9: =+E9*F9*G9*H9*C9 -> 76300200 | N9: =+E9*H9*F9 -> 9537525
C10: 1 | D10: residente de interventoria | E10: 5800000 | F10: 1 | G10: 6 | H10: =+'FM '!G49 -> 2.0079 | I10: =+E10*F10*G10*H10*C10 -> 69874920
C11: 1 | D11: residente socio -ambiental de interventoria | E11: 4500000 | F11: 1 | G11: =+$G$10 -> 6 | H11: =+'FM '!G49 -> 2.0079 | I11: =+E11*F11*G11*H11*C11 -> 54213300
C12: 1 | D12: residente SST de interventoria | E12: 2300000 | F12: 1 | G12: =+$G$10 -> 6 | H12: =+'FM '!F49 -> 2.1919 | I12: =+E12*F12*G12*H12*C12 -> 30248220
C13: PERSONAL TÉCNICO
C14: 1 | D14: Equipo de laboratorio (incluye profesional en laboratorio, ayudante y equipos) | E14: 2000000 | F14: 1 | G14: =+$G$10 -> 6 | H14: =+'FM '!E49 -> 2.1275 | I14: =+E14*F14*G14*H14*C14 -> 25530000
C15: 1 | D15: Topografo y equipos | E15: 5750000 | F15: 1 | G15: =+$G$10 -> 6 | H15: =+'FM '!G49 -> 2.0079 | I15: =+E15*F15*G15*H15*C15 -> 69272550
C16: 2 | D16: Cadenero | E16: 2090000 | F16: 1 | G16: =+$G$10 -> 6 | H16: =+'FM '!F49 -> 2.1919 | I16: =+E16*F16*G16*H16*C16 -> 54972852
C17: PERSONAL ADMINISTRATIVO
C18: 1 | D18: Secretaria | E18: 2000000 | F18: 1 | G18: 6 | H18: =+'FM '!E49 -> 2.1275 | I18: =+E18*F18*G18*H18*C18 -> 25530000
C19: 1 | D19: Asesor juridico | E19: 2500000 | F19: 0.3 | G19: 6 | H19: =+'FM '!E49 -> 2.1275 | I19: =+E19*F19*G19*H19*C19 -> 9573750
C20: PERSONAL AUXILIAR TÉCNICO
C21: OTROS COSTOS DE PERSONAL
C23: SUBTOTAL COSTOS DE PERSONAL | I23: =SUM(I9:I21) -> 4.1551579e+08
C24: CANT. | D24: CONCEPTO | E24: UNIDAD | F24: COSTO | G24: UTILIZACION | I24: VALOR
F25: ($) | I25: PARCIAL ($)
C26: OTROS COSTOS DIRECTOS
C27: VIÁTICOS
C28: COSTOS DE ALQUILER DE EQUIPOS Y OFICINA
D29: fotocopias, impresiones, carpetas etc para actas para actas, informes mensuales. | F29: 320000 | G29: =+$G$10 -> 6 | I29: =+F29*G29 -> 1920000
D30: impresiones de planos requeridos en el mes para evaluación de obra y actas e informes. | F30: 360000 | G30: =+$G$10 -> 6 | I30: =+F30*G30 -> 2160000
D31: Energia | F31: 70000 | G31: 6 | I31: =+F31*G31 -> 420000
D32: Agua | F32: 70000 | G32: 6 | I32: =+F32*G32 -> 420000
D33: Internet y telefonia | F33: 150000 | G33: 6 | I33: =+F33*G33 -> 900000
C34: OTROS COSTOS
D35: Alquiler Camioneta (Incluye: conductor y combustible) | E35: mes | F35: 7500000 | G35: =+$G$10 -> 6 | I35: =+F35*G35 -> 45000000
D36: Ensayos en control de calidad para materiales granulares | E36: und | F36: 1 | H36: =SUM(I37:I41) -> 9143000 | I36: =+F36*H36 -> 9143000
D37: GRANULOMETRÍA | E37: und | F37: 41 | H37: 60000 | I37: =+F37*H37 -> 2460000
D38: LIMTE LIQUIDO | E38: und | F38: 41 | H38: 24000 | I38: =+F38*H38 -> 984000
D39: ÍNDICE DE PLASTICIDAD | E39: und | F39: 41 | H39: 24000 | I39: =+F39*H39 -> 984000
D40: EQUIVALENTE DE ARENA | E40: und | F40: 41 | H40: 60000 | I40: =+F40*H40 -> 2460000
D41: ENSAYO MODIFICADO DE COMPACTACIÓN | E41: und | F41: 41 | H41: 55000 | I41: =+F41*H41 -> 2255000
D42: Ensayos en control de calidad para concretos | E42: und | F42: 1 | H42: =SUM(I43:I45) -> 1440000 | I42: =+F42*H42 -> 1440000
...

Sheet FM 
B2: FACTOR MULTIPLICADOR
B3: ENERO DEL 2026
B4: =+'PRESUPUESTO GENERAL'!A2 -> MEJORAMIENTO DE VIAS RURALES EN EL MUNICIPIO DE COTA CUNDINAMARCA BPIN 2025I00010028
B7: ÍTEM | C7: DESCRICIÓN | E7: < 2 SMMLV | F7: < 2 SMMLV | G7: > 2 SMMLV
E8: DE OFICINA | F8: DE CAMPO | G8: DE CAMPO
B10: A | C10: SALARIO BÁSICO | E10: 1 | F10: 1 | G10: 1
B11: B | C11: PRESTACIONES SOCIALES | E11: =SUM(E12:E15) -> 0.2183 | F11: =SUM(F12:F15) -> 0.2183 | G11: =SUM(G12:G15) -> 0.1766
C12: Primas de Servicio | D12: (A/12) | E12: 0.0833 | F12: 0.0833 | G12: 0.0833
C13: Cesantías | D13: (A/12) | E13: 0.0833 | F13: 0.0833 | G13: 0.0833
C14: Intereses sobre cesantías | D14: (A*12%) | E14: 0.01 | F14: 0.01 | G14: 0.01
C15: Dotación de ley | E15: 0.0417 | F15: 0.0417
B16: C | C16: SISTEMA DE SEGURIDAD SOCIAL INTEGRAL | E16: =SUM(E17:E19) -> 0.2102 | F16: =SUM(F17:F19) -> 0.2746 | G16: =SUM(G17:G19) -> 0.2746
C17: Salud | D17: A% | E17: 0.085 | F17: 0.085 | G17: 0.085
C18: Riesgos Profesionales | D18: A% | E18: 0.0052 | F18: 0.0696 | G18: 0.0696
C19: Pensiones | D19: A% | E19: 0.12 | F19: 0.12 | G19: 0.12
B20: D | C20: OTROS | E20: =SUM(E21:E28) -> 0.319 | F20: =SUM(F21:F28) -> 0.319 | G20: =SUM(G21:G28) -> 0.1767
C21: CAJA DE COMPENSACIÓN | D21: %A | E21: 0.04 | F21: 0.04 | G21: 0.04
C22: SENA | D22: %A | E22: 0.02 | F22: 0.02 | G22: 0.02
C23: ICBF | D23: %A | E23: 0.03 | F23: 0.03 | G23: 0.03
C24: Vacaciones | D24: (15/360*100) | E24: 0.0417 | F24: 0.0417 | G24: 0.0417
C25: Ausencias injustificadas | D25: %A | E25: 0.01 | F25: 0.01 | G25: 0.01
C26: Auxilio de transporte | D26: %A | E26: 0.1423 | F26: 0.1423
C27: Indemnizaciones | D27: %A | E27: 0.01 | F27: 0.01 | G27: 0.01
C28: Aportes FIC | D28: %A | E28: 0.025 | F28: 0.025 | G28: 0.025
C29: SUB-TOTAL B + C | E29: =+E11+E16 -> 0.4285 | F29: =+F11+F16 -> 0.4929 | G29: =+G11+G16 -> 0.4512
C30: SUB-TOTAL A + B + C + D | E30: =+E10+E11+E16+E20 -> 1.7475 | F30: =+F10+F11+F16+F20 -> 1.8119 | G30: =+G10+G11+G16+G20 -> 1.6279
B31: ÍTEM | C31: DESCRIPCIÓN | G31: %
B32: E | C32: COSTOS INDIRECTOS
B33: E2 | C33: GASTOS LEGALES Y DE ADMINISTRACION | E33: =+E34++E35+E36+E37+E38+E40+E41+E43 -> 0.09 | F33: =+F34++F35+F36+F37+F38+F40+F41+F43 -> 0.09 | G33: =+G34++G35+G36+G37+G38+G40+G41+G43 -> 0.09
C34: Alquiler oficina, muebles, equipo de oficina. | E34: 0.01 | F34: 0.01 | G34: 0.01
C35: Mantenimiento de oficinas | E35: 0.015 | F35: 0.015 | G35: 0.015
C36: Capacitación personal | E36: 0.01 | F36: 0.01 | G36: 0.01
C37: Gastos de viaje | E37: 0.005 | F37: 0.005 | G37: 0.005
C38: Depreciación | E38: 0.01 | F38: 0.01 | G38: 0.01
C39: Gastos directos no reembolsables
C40: Gastos bancarios y costos financieros | E40: 0 | F40: 0 | G40: 0
C41: Vigilancia y aseo | E41: 0.02 | F41: 0.02 | G41: 0.02
C42: Salarios y prestaciones no reembolsables
C43: Personal técnico no facturable | E43: 0.02 | F43: 0.02 | G43: 0.02
B44: E3 | C44: IMPREVISTOS | E44: 0.05 | F44: 0.05 | G44: 0.05
...

Sheet ENSAYOS DE CALIDAD
C3: ENSAYOS PARA CONTROL DE CALIDAD EN MATERIALES GRANULARES
C5: ENERO DEL 2026
C7: SUBBASE GRANULAR
C8: ENSAYO | E8: No DE ENSAYOS
C9: 1 | D9: GRANULOMETRÍA | E9: 33 | H9: ENSAYOS
C10: 2 | D10: LIMTE LIQUIDO | E10: 33 | H10: ENSAYOS
C11: 3 | D11: ÍNDICE DE PLASTICIDAD | E11: 33 | H11: ENSAYOS
C12: 4 | D12: EQUIVALENTE DE ARENA | E12: 33 | H12: ENSAYOS
C13: 5 | D13: ENSAYO MODIFICADO DE COMPACTACIÓN | E13: 33 | H13: ENSAYOS
C15: AFIRMADO
C16: ENSAYO | E16: No DE ENSAYOS
C17: 1 | D17: GRANULOMETRÍA | E17: 8 | H17: ENSAYOS
C18: 2 | D18: LIMTE LIQUIDO | E18: 8 | H18: ENSAYOS
C19: 3 | D19: ÍNDICE DE PLASTICIDAD | E19: 8 | H19: ENSAYOS
C20: 4 | D20: EQUIVALENTE DE ARENA | E20: 8 | H20: ENSAYOS
C21: 5 | D21: ENSAYO MODIFICADO DE COMPACTACIÓN | E21: 8 | H21: ENSAYOS
D24: ENSAYO | E24: DESCRIPCION | F24: CANTIDAD | G24: VR UNITARIO | I24: VR PARCIAL
D25: =+D9 -> GRANULOMETRÍA | E25: SUB BASE Y CONFORMACION DE LA CALZADA | F25: =+E9+E17 -> 41 | G25: 60000 | I25: =G25*F25 -> 2460000
D26: =+D10 -> LIMTE LIQUIDO | E26: SUB BASE Y CONFORMACION DE LA CALZADA | F26: =+E10+E18 -> 41 | G26: 24000 | I26: =G26*F26 -> 984000
D27: =+D11 -> ÍNDICE DE PLASTICIDAD | E27: SUB BASE Y CONFORMACION DE LA CALZADA | F27: =+E11+E19 -> 41 | G27: 24000 | I27: =G27*F27 -> 984000
D28: =+D12 -> EQUIVALENTE DE ARENA | E28: SUB BASE Y CONFORMACION DE LA CALZADA | F28: =+E12+E20 -> 41 | G28: 60000 | I28: =G28*F28 -> 2460000
D29: =+D13 -> ENSAYO MODIFICADO DE COMPACTACIÓN | E29: SUB BASE Y CONFORMACION DE LA CALZADA | F29: =+E13+E21 -> 41 | G29: 55000 | I29: =G29*F29 -> 2255000
D30: VR TOTAL DE ENSAYOS DE CONTROL DE CALIDAD PARA MATERIALES GRANULARES | I30: =SUM(I25:I29) -> 9143000
C35: ENSAYOS PARA CONTROL DE CALIDAD PARA CONCRETOS
C38: CONCRETO RESISTENCIA 21 MPA CLASE D (PARA OBRAS MENORES)
C39: ENSAYO | E39: VOLUMEN (m3) | F39: CONTROL (m3) | G39: No DE ENSAYOS
C40: 1 | D40: RESISTENCIA A LA COMPRESIÓN | E40: M3 | F40: 40 | G40: 30 | H40: ENSAYOS
C42: PAVIMENTO EN CONCRETO HIDRAULICO
C43: ENSAYO | E43: VOLUMEN (m3) | F43: CONTROL (m3) | G43: No DE ENSAYOS
C44: 1 | D44: RESISTENCIA A LA COMPRESIÓN | E44: 0 | F44: 40 | G44: 30 | H44: ENSAYOS
C46: CONCRETO RESISTENCIA 21 MPA CLASE D (PARA BERMA CUNETA)
C47: ENSAYO | E47: VOLUMEN (m3) | F47: CONTROL (m3) | G47: No DE ENSAYOS
C48: 1 | D48: RESISTENCIA A LA COMPRESIÓN | E48: M3 | F48: 40 | G48: 30 | H48: ENSAYOS
D53: DESCRIPCIÓN | E53: ENSAYO | F53: CANTIDAD | G53: VR UNITARIO | I53: VR PARCIAL
D54: =+C38 -> CONCRETO RESISTENCIA 21 MPA CLASE D (PARA OBRAS MENORES) | E54: =+D40 -> RESISTENCIA A LA COMPRESIÓN | F54: =+G40 -> 30 | G54: 16000 | I54: =G54*F54 -> 480000
D55: =+C42 -> PAVIMENTO EN CONCRETO HIDRAULICO | E55: RESISTENCIA A LA COMPRESIÓN | F55: 30 | G55: =+G54 -> 16000 | I55: =G55*F55 -> 480000
D56: =+C46 -> CONCRETO RESISTENCIA 21 MPA CLASE D (PARA BERMA CUNETA) | E56: RESISTENCIA A LA COMPRESIÓN | F56: 30 | G56: 16000 | I56: =G56*F56 -> 480000
D57: VR TOTAL DE ENSAYOS PARA CONTROL DE CALIDAD DE CONCRETOS | I57: =SUM(I54:I56) -> 1440000
D58: VR TOTAL ENSAYOS DE CONTROL Y CALIDAD | I58: =+I57+I30 -> 10583000
E67: BPIN 2025I00010028

Sheet M.C 1.1
E3: MEMORIA DE CÁLCULO DE CANTIDADES DE OBRA
C6: OBJETO DEL CONTRATO
C7: =+PORTADA!A16 -> MEJORAMIENTO DE VIAS RURALES EN EL MUNICIPIO DE COTA CUNDINAMARCA BPIN 2025I00010028
C10: ENERO DEL 2026
Q11: ITEM | T11: 1.1
C13: =+'PRESUPUESTO GENERAL'!C9 -> Excavaciones varias en material común en seco. 0 - 2 m (Incluye Transporte) | N13: LONGITUD (M) | Q13: ANCHO (M) | T13: ALTO (M) | W13: VOLUMEN TOTAL (M3)
C14: VOLUMEN DE CORTE POR CARTERA TOPOGRAFICA TRAMO 1 | W14: 13.33
C15: VOLUMEN DE CORTE POR CARTERA TOPOGRAFICA TRAMO 2 | W15: 22.61
C16: VOLUMEN DE CORTE POR CARTERA TOPOGRAFICA TRAMO 3 | W16: 75.49
C17: VOLUMEN DE CORTE POR CARTERA TOPOGRAFICA TRAMO 4 | W17: 53.4
C18: VOLUMEN DE CORTE POR CARTERA TOPOGRAFICA TRAMO 5 | W18: 48.29
C19: VOLUMEN DE CORTE POR CARTERA TOPOGRAFICA TRAMO 6 | W19: 18.14
C20: VOLUMEN DE CORTE POR CARTERA TOPOGRAFICA TRAMO 7 | W20: 140.39
C21: VOLUMEN DE CORTE POR CARTERA TOPOGRAFICA TRAMO 8 | W21: 54.31
C22: VOLUMEN DE CORTE POR CARTERA TOPOGRAFICA TRAMO 9 | W22: 92.88
C23: VOLUMEN DE CORTE POR CARTERA TOPOGRAFICA TRAMO 10 | W23: 26.28
C24: VOLUMEN DE CORTE POR CARTERA TOPOGRAFICA TRAMO 11 | W24: 13.33
C25: VOLUMEN DE CORTE POR CARTERA TOPOGRAFICA TRAMO 12 | W25: 39.32
... C29: VOLUMEN DE CORTE POR CARTERA TOPOGRAFICA TRAMO 16 | W29: 62.33
C31: Las cantidades pueden validarse en las carteras topógraficas y en el diseño geométrico de la vía
C32: TOTAL | W32: =ROUND(SUM(W14:W30),0) -> 1069
C34: FOTOGRAFÍA 1-2-3-4 TRAMO | O34: FOTOGRAFÍA 9-10-11-12
C45: FOTOGRAFÍA 5-6-7-8 | O45: FOTOGRAFÍA 13-14-15-16

Sheet M.C 1.2
E3: MEMORIA DE CÁLCULO DE CANTIDADES DE OBRA
C6: OBJETO DEL CONTRATO
C7: =+PORTADA!A16 -> MEJORAMIENTO DE VIAS RURALES EN EL MUNICIPIO DE COTA CUNDINAMARCA BPIN 2025I00010028
C10: ENERO DEL 2026
O12: ITEM | R12: 1.2 | T12: UND | X12: M2
C14: =+'PRESUPUESTO GENERAL'!C10 -> Conformación de la calzada existente | N14: LONGITUD (M) | Q14: ANCHO (M) | T14: ALTO (M) | W14: TOTAL
C15: VÍA TRAMO 1 - 7 - 9 - 10 - 11 - 12 | N15: 893.67 | Q15: =3.4 -> 3.4 | W15: =+N15*Q15 -> 3038.478
C16: VÍA TRAMO 2 - 4 - 5 - 8 - 13 - 14 - 15 - 16 | N16: 663.9 | Q16: 6.4 | W16: =+N16*Q16 -> 4248.96
C17: VÍA TRAMO 3 | N17: 191.79 | Q17: 4 | W17: =+N17*Q17 -> 767.16
C18: VÍA TRAMO 6 | N18: 84.95 | Q18: 3 | W18: =+N18*Q18 -> 254.85
C21: TOTAL | W21: =ROUND(SUM(W15:Z20),0) -> 8309
C23: FOTOGRAFÍA | O23: FOTOGRAFÍA
C34: FOTOGRAFÍA

Sheet M.C 1.3
E3: MEMORIA DE CÁLCULO DE CANTIDADES DE OBRA
C6: OBJETO DEL CONTRATO
C7: =+PORTADA!A16 -> MEJORAMIENTO DE VIAS RURALES EN EL MUNICIPIO DE COTA CUNDINAMARCA BPIN 2025I00010028
C10: ENERO DEL 2026
O11: ITEM | R11: 1.3 | T11: UND | X11: M3
C13: =+'PRESUPUESTO GENERAL'!C11 -> Subbase Granular Clase C. | N13: LONGITUD (M) | Q13: ANCHO (M) | T13: ALTO (M) | W13: TOTAL
C14: VÍA TRAMO 1 - 7 - 9 - 10 - 11 - 12 | N14: 893.67 | Q14: 3 | T14: 0.15 | W14: =+N14*Q14*T14 -> 402.1515
C15: VÍA TRAMO 2 - 4 - 5 - 8 - 13 - 14 - 15 - 16 | N15: 663.9 | Q15: 6 | T15: 0.15 | W15: =+N15*Q15*T15 -> 597.51
C16: VÍA TRAMO 2 - 4 - 5 - 8 - 13 - 14 - 15 - 16 | N16: 663.9 | Q16: 0.0358 | W16: =+N16*Q16 -> 23.76762
C17: VÍA TRAMO 3 | N17: 191.79 | Q17: 3.6 | T17: 0.15 | W17: =+N17*Q17*T17 -> 103.5666
C18: VÍA TRAMO 6 | N18: 84.95 | Q18: 2.6 | T18: 0.15 | W18: =+N18*Q18*T18 -> 33.1305
C23: TOTAL | W23: =ROUND(SUM(W14:Z22),0) -> 1160
C25: FOTOGRAFÍA | O25: FOTOGRAFÍA

Sheet M.C 1.4
E3: MEMORIA DE CÁLCULO DE CANTIDADES DE OBRA
L5: =+N14+N16+N17 -> 1170.41
C6: OBJETO DEL CONTRATO
C7: =+PORTADA!A16 -> MEJORAMIENTO DE VIAS RURALES EN EL MUNICIPIO DE COTA CUNDINAMARCA BPIN 2025I00010028
C10: ENERO DEL 2026
O11: ITEM | R11: 1.4 | T11: UND | X11: M3
C13: =+'PRESUPUESTO GENERAL'!C12 -> Afirmado | N13: LONGITUD (M) | Q13: ANCHO (M) | T13: ALTO (M) | W13: TOTAL
C14: VÍA TRAMO 1 - 7 - 9 - 10 - 11 - 12 | N14: 893.67 | Q14: =+'M.C 1.2'!Q15:S15 -> 3.4 | T14: 0.3 | W14: =+N14*Q14*T14 -> 911.5434
C15: VÍA TRAMO 2 - 4 - 5 - 8 - 13 - 14 - 15 - 16 | N15: 663.9 | Q15: =+'M.C 1.2'!Q16:S16 -> 6.4 | T15: 0.3 | W15: =+N15*Q15*T15 -> 1274.688
C16: VÍA TRAMO 3 | N16: 191.79 | Q16: 4 | T16: 0.3 | W16: =+N16*Q16*T16 -> 230.148
C17: VÍA TRAMO 6 | N17: 84.95 | Q17: 3 | T17: 0.3 | W17: =+N17*Q17*T17 -> 76.455
C22: TOTAL | W22: =ROUND(SUM(W14:Z21),0) -> 2493
C24: FOTOGRAFÍA | O24: FOTOGRAFÍA
IU27: =110+92+192+68+88.5+85+127+36+96+193.5+89+280+148+39+125+69 -> 1838
C35: FOTOGRAFÍA

Sheet M.C 1.5
E3: MEMORIA DE CÁLCULO DE CANTIDADES DE OBRA
K5: 191.79
C6: OBJETO DEL CONTRATO
C7: =+PORTADA!A16 -> MEJORAMIENTO DE VIAS RURALES EN EL MUNICIPIO DE COTA CUNDINAMARCA BPIN 2025I00010028
C10: ENERO DEL 2026
O11: ITEM | R11: 1.5 | T11: UND | X11: M3
C13: =+'PRESUPUESTO GENERAL'!C13 -> Pavimento de concreto hidraulico módulo de rotura 3.8 MPa | N13: LONGITUD (M) | Q13: ANCHO (M) | T13: ALTO (M) | W13: TOTAL
C14: VÍA TRAMO 1 - 7 - 9 - 10 - 11 - 12 | N14: 893.67 | Q14: 3 | T14: 0.2 | W14: =+N14*Q14*T14 -> 536.202 | IU14: 893.67 | IV14: =+IU14/$IU$18 -> 0.48719682 | IW14: 3 | IX14: =+IV14*IW14 -> 1.4615905
C15: VÍA TRAMO 2 - 4 - 5 - 8 - 13 - 14 - 15 - 16 | N15: 663.9 | Q15: 5 | T15: 0.2 | W15: =+N15*Q15*T15 -> 663.9 | IU15: 663.9 | IV15: =+IU15/$IU$18 -> 0.36193446 | IW15: 5 | IX15: =+IV15*IW15 -> 1.8096723
