Workbook

Sheet Hoja1
A1: Código | B1: CODIGO SICOF | C1: Sigla | D1: Nombre | E1: Área Ejecutora | F1: Cód Subdirección | G1: Subdirección
A2: 27100 | B2: 7100 | C2: DGEN | D2: Dirección General | E2: DGEN - Dirección General | F2: DGEN | G2: Dirección General | H2: DGEN - Dirección General
A3: 27101 | B3: 7101 | C3: OAP | D3: Oficina Asesora de Planeación | E3: OAP - Oficina Asesora de Planeación | F3: OAP | G3: Oficina Asesora de Planeación | H3: OAP - Oficina Asesora de Planeación
A4: 27102 | B4: 7102 | C4: OJUR | D4: Oficina Jurídica Corporativa | E4: OJUR - Oficina Jurídica Corporativa | F4: OJUR | G4: Oficina Jurídica Corporativa | H4: OJUR - Oficina Jurídica Corporativa
A5: 27103 | B5: 7103 | C5: OAC | D5: Oficina Asesora de Comunicaciones | E5: OAC - Oficina Asesora de Comunicaciones | F5: OAC | G5: Oficina Asesora de Comunicaciones | H5: OAC - Oficina Asesora de Comunicaciones
A6: 27104 | B6: 7104 | C6: OCIN | D6: Oficina de Control Interno | E6: OCIN - Oficina de Control Interno | F6: OCIN | G6: Oficina de Control Interno | H6: OCIN - Oficina de Control Interno
A7: 27105 | B7: 7105 | C7: OAI | D7: Oficina de Asuntos Internacionales | E7: OAI - Oficina de Asuntos Internacionales | F7: OAI | G7: Oficina de Asuntos Internacionales | H7: OAI - Oficina de Asuntos Internacionales
A8: 27106 | B8: 7106 | C8: OGDAD | D8: Oficina de Gobernanza Digital y Analítica de Datos | E8: OGDAD - Oficina de Gobernanza Digital y Analítica de Datos | F8: OGDAD | G8: Oficina de Gobernanza Digital y Analítica de Datos | H8: OGDAD - Oficina de Gobernanza Digital y Analítica de Datos
A9: 27107 | B9: 7107 | C9: OCDI | D9: Oficina de Control Disciplinario Interno | E9: OCDI - Oficina de Control Disciplinario Interno | F9: OCDI | G9: Oficina de Control Disciplinario Interno | H9: OCDI - Oficina de Control Disciplinario Interno
A10: 27200 | B10: 7200 | C10: SGEN | D10: Secretaría General | E10: SGEN - Secretaría General | F10: SGEN | G10: Secretaría General | H10: SGEN - Secretaría General
A11: 27201 | B11: 7201 | C11: DTH | D11: Dirección de Talento Humano | E11: DTH - Dirección de Talento Humano | F11: SGEN | G11: Secretaría General | H11: SGEN - Secretaría General
A12: 27202 | B12: 7202 | C12: DGC | D12: Dirección de Gestión Contractual | E12: DGC - Dirección de Gestión Contractual | F12: SGEN | G12: Secretaría General | H12: SGEN - Secretaría General
A13: 27203 | B13: 7203 | C13: DASC | D13: Dirección Administrativa y de Servicio al Ciudadano | E13: DASC - Dirección Administrativa y de Servicio al Ciudadano | F13: SGEN | G13: Secretaría General | H13: SGEN - Secretaría General
... A41: 27714 | B41: 7714 | C41: DRUB | D41: Dirección Regional Ubaté | E41: DRUB - Dirección Regional Ubaté | F41: DRUB | G41: Dirección Regional Ubaté | H41: DRUB - Dirección Regional Ubaté

Sheet 1-Ejecución Gastos 16-OCT-2026
A1: VIGENCIA | B1: SUBDIRECCIÓN | C1: ÁREA EJECUTORA | D1: CÓD RUBRO/PROYECTO | E1: CÓD | F1: NOMBRE RUBRO/PROYECTO | G1: FUENTE | H1: NOMBRE FUENTE | I1: APROPIACIÓN INICIAL | J1: APROPIACIÓN DEFINITIVA | K1: APROPIACIÓN DISPONIBLE | L1: TOTAL DISPONIBILIDADES | M1: SALDO EN DISPONIBILIDADES | N1: TOTAL COMPROMISOS | O1: SALDO EN COMPROMISOS | P1: OBLIGACIONES | Q1: PAGOS
A2: 2026 | B2: SGEN | C2: DTH | D2: 2-1-1001-01-1111-10-DTH1-0000000-2.1.1.01.01.001.01. | E2: 1 | F2: SUELDO BASICO - SIN CPC (1) | G2: 10 | H2: PORCENTAJE Y/O SOBRETASA AMBIENTAL MUNICIPIOS Y BOGOTÁ | I2: 78766826889 | J2: 57026385569 | K2: 0 | L2: 57026385569 | M2: 21435826561 | N2: 35590559008 | O2: 0 | P2: 35590559008 | Q2: 35590559008
A3: 2026 | B3: SGEN | C3: DTH | D3: 2-1-1001-01-1111-10-DTH1-0000000-2.1.1.01.01.001.02. | E3: 5 | F3: HORAS EXTRAS, DOMINICALES, FESTIVOS Y RECARGOS - SIN CPC (5) | G3: 10 | H3: PORCENTAJE Y/O SOBRETASA AMBIENTAL MUNICIPIOS Y BOGOTÁ | I3: 263700000 | J3: 263700000 | K3: 0 | L3: 263700000 | M3: 78430938 | N3: 185269062 | O3: 0 | P3: 185269062 | Q3: 185269062
A4: 2026 | B4: SGEN | C4: DTH | D4: 2-1-1001-01-1111-10-DTH1-0000000-2.1.1.01.01.001.04. | E4: 6 | F4: SUBSIDIO DE ALIMENTACION - SIN CPC (6) | G4: 10 | H4: PORCENTAJE Y/O SOBRETASA AMBIENTAL MUNICIPIOS Y BOGOTÁ | I4: 76786800 | J4: 76786800 | K4: 0 | L4: 76786800 | M4: 30576081 | N4: 46210719 | O4: 0 | P4: 46210719 | Q4: 46210719
A5: 2026 | B5: SGEN | C5: DTH | D5: 2-1-1001-01-1111-10-DTH1-0000000-2.1.1.01.01.001.05. | E5: 7 | F5: AUXILIO DE TRANSPORTE - SIN CPC (7) | G5: 10 | H5: PORCENTAJE Y/O SOBRETASA AMBIENTAL MUNICIPIOS Y BOGOTÁ | I5: 130968000 | J5: 290968000 | K5: 0 | L5: 290968000 | M5: 109203364 | N5: 181764636 | O5: 0 | P5: 181764636 | Q5: 181764636
A6: 2026 | B6: SGEN | C6: DTH | D6: 2-1-1001-01-1111-10-DTH1-0000000-2.1.1.01.01.001.06. | E6: 8 | F6: PRIMA DE SERVICIO - SIN CPC (8) | G6: 10 | H6: PORCENTAJE Y/O SOBRETASA AMBIENTAL MUNICIPIOS Y BOGOTÁ | I6: 8024356329 | J6: 8024356329 | K6: 0 | L6: 8024356329 | M6: 3401103890 | N6: 4623252439 | O6: 2543592 | P6: 4620708847 | Q6: 4617645683
A7: 2026 | B7: SGEN | C7: DTH | D7: 2-1-1001-01-1111-10-DTH1-0000000-2.1.1.01.01.001.07. | E7: 9 | F7: BONIFICACION POR SERVICIOS PRESTADOS - SIN CPC (9) | G7: 10 | H7: PORCENTAJE Y/O SOBRETASA AMBIENTAL MUNICIPIOS Y BOGOTÁ | I7: 2742141726 | J7: 2742141726 | K7: 0 | L7: 2742141726 | M7: 1501090863 | N7: 1241050863 | O7: 0 | P7: 1241050863 | Q7: 1241050863
A8: 2026 | B8: SGEN | C8: DTH | D8: 2-1-1001-01-1111-10-DTH1-0000000-2.1.1.01.01.001.08.01. | E8: 10 | F8: PRIMA DE NAVIDAD - SIN CPC (10) | G8: 10 | H8: PORCENTAJE Y/O SOBRETASA AMBIENTAL MUNICIPIOS Y BOGOTÁ | I8: 9055391283 | J8: 9055391283 | K8: 0 | L8: 9055391283 | M8: 9005678895 | N8: 49712388 | O8: 0 | P8: 49712388 | Q8: 34599010
A9: 2026 | B9: SGEN | C9: DTH | D9: 2-1-1001-01-1111-10-DTH1-0000000-2.1.1.01.01.001.08.02. | E9: 11 | F9: PRIMA DE VACACIONES - SIN CPC (11) | G9: 10 | H9: PORCENTAJE Y/O SOBRETASA AMBIENTAL MUNICIPIOS Y BOGOTÁ | I9: 4348063108 | J9: 4348063108 | K9: 0 | L9: 4348063108 | M9: 2721992621 | N9: 1626070487 | O9: 3620390 | P9: 1622450097 | Q9: 1612253189
A10: 2026 | B10: SGEN | C10: DTH | D10: 2-1-1001-01-1111-10-DTH1-0000000-2.1.1.01.01.001.09. | E10: 12 | F10: PRIMA TECNICA SALARIAL - SIN CPC (12) | G10: 10 | H10: PORCENTAJE Y/O SOBRETASA AMBIENTAL MUNICIPIOS Y BOGOTÁ | I10: 3217012808 | J10: 3217012808 | K10: 0 | L10: 3217012808 | M10: 1155052980 | N10: 2061959828 | O10: 0 | P10: 2061959828 | Q10: 2061959828
A11: 2026 | B11: SGEN | C11: DTH | D11: 2-1-1001-01-1111-10-DTH1-0000000-2.1.1.01.02.001. | E11: 13 | F11: APORTES A LA SEGURIDAD SOCIAL EN PENSIONES - SIN CPC (13) | G11: 10 | H11: PORCENTAJE Y/O SOBRETASA AMBIENTAL MUNICIPIOS Y BOGOTÁ | I11: 11561786538 | J11: 8561786538 | K11: 0 | L11: 8561786538 | M11: 3548337264 | N11: 5013449274 | O11: 0 | P11: 5013449274 | Q11: 5013449274
A12: 2026 | B12: SGEN | C12: DTH | D12: 2-1-1001-01-1111-10-DTH1-0000000-2.1.1.01.02.002. | E12: 14 | F12: APORTES A LA SEGURIDAD SOCIAL EN SALUD - SIN CPC (14) | G12: 10 | H12: PORCENTAJE Y/O SOBRETASA AMBIENTAL MUNICIPIOS Y BOGOTÁ | I12: 8189598798 | J12: 6689598798 | K12: 0 | L12: 6689598798 | M12: 3152342198 | N12: 3537256600 | O12: 0 | P12: 3537256600 | Q12: 3537256600
A13: 2026 | B13: SGEN | C13: DTH | D13: 2-1-1001-01-1111-10-DTH1-0000000-2.1.1.01.02.003. | E13: 15 | F13: APORTES DE CESANTIAS - SIN CPC (15) | G13: 10 | H13: PORCENTAJE Y/O SOBRETASA AMBIENTAL MUNICIPIOS Y BOGOTÁ | I13: 9831982223 | J13: 7331982223 | K13: 0 | L13: 7331982223 | M13: 3508213795 | N13: 3823768428 | O13: 0 | P13: 3823768428 | Q13: 3823768428
... A174: 2026 | B174: SGEN | C174: DFIN | D174: 2-1-8001-04-1111-81-DFIN-0000000-2.1.8.04.13. | E174: 846 | F174: CONTRIBUCION - FONDO DE COMPENSACION AMBIENTAL - SIN CPC (846) | G174: 81 | H174: R.B-SECTOR ELÉCTRICO - EMGESA - R BOGOTÁ - RECURSOS DEL BALANCE | I174: 0 | J174: 1064808739 | K174: 0 | L174: 1064808739 | M174: 0 | N174: 1064808739 | O174: 0 | P174: 1064808739 | Q174: 1064808739
F175: EJECUCIÓN GASTOS DE FUNCIONAMIENTO | I175: =SUM(I2:I174) -> 318353739764 | J175: =SUM(J2:J174) -> 425298853028 | K175: =SUM(K2:K174) -> 15692979446 | L175: =SUM(L2:L174) -> 409605873582 | M175: =SUM(M2:M174) -> 83072071470 | N175: =SUM(N2:N174) -> 326533802112 | O175: =SUM(O2:O174) -> 48499060158 | P175: =SUM(P2:P174) -> 278034741954 | Q175: =SUM(Q2:Q174) -> 276792275701
A176: 2026 | B176: SGEN | C176: DFIN | D176: 2-2-2001-01-2222-10-DFIN-0000000-2.2.2.01.02.002.02.03. | E176: 136 | F176: BANCA COMERCIAL - SIN CPC (136) | G176: 10 | H176: PORCENTAJE Y/O SOBRETASA AMBIENTAL MUNICIPIOS Y BOGOTÁ | I176: 19554140350 | J176: 19554140350 | K176: 0 | L176: 19554140350 | M176: 4027070175 | N176: 15527070175 | O176: 0 | P176: 15527070175 | Q176: 15527070175
A177: 2026 | B177: SGEN | C177: DFIN | D177: 2-2-2001-02-2222-10-DFIN-0000000-2.2.2.02.02.002.02.03. | E177: 137 | F177: BANCA COMERCIAL - SIN CPC (137) | G177: 10 | H177: PORCENTAJE Y/O SOBRETASA AMBIENTAL MUNICIPIOS Y BOGOTÁ | I177: 11778646214 | J177: 11778646214 | K177: 0 | L177: 11778646214 | M177: 3063241753 | N177: 8715404461 | O177: 0 | P177: 8715404461 | Q177: 8715404461
F178: EJECUCIÓN SERVICIO DE LA DEUDA | I178: =SUM(I176:I177) -> 31332786564 | J178: =SUM(J176:J177) -> 31332786564 | K178: =SUM(K176:K177) -> 0 | L178: =SUM(L176:L177) -> 31332786564 | M178: =SUM(M176:M177) -> 7090311928 | N178: =SUM(N176:N177) -> 24242474636 | O178: =SUM(O176:O177) -> 0 | P178: =SUM(P176:P177) -> 24242474636 | Q178: =SUM(Q176:Q177) -> 24242474636
A179: 2026 | B179: SGAA | C179: DTA | D179: 2-3-3201-88-3112-10-0101-0066023-2.3.2.02.02.006. | E179: 138 | F179: COMERCIO Y DISTRIBUCIÓN; ALOJAMIENTO; SERVICIOS DE SUMINISTRO DE COMIDAS Y BEBIDAS; SERVICIOS DE TRANSPORTE; Y SERVICIOS DE DISTRIBUCIÓN DE ELECTRICIDAD, GAS Y AGUA - SERVICIOS DE ALQUILER DE EMBARCACIONES DE PASAJEROS PARA TRANSPORTE FLUVIAL CON TRIPULACION (138) | G179: 10 | H179: PORCENTAJE Y/O SOBRETASA AMBIENTAL MUNICIPIOS Y BOGOTÁ | I179: 718628400 | J179: 718628400 | K179: 0 | L179: 718628400 | M179: 0 | N179: 718628400 | O179: 413450853 | P179: 305177547 | Q179: 305177547
A180: 2026 | B180: SGAA | C180: DTA | D180: 2-3-3201-88-3112-10-0101-0083990-2.3.2.02.02.008. | E180: 139 | F180: SERVICIOS PRESTADOS A LAS EMPRESAS Y SERVICIOS DE PRODUCCIÓN - OTROS SERVICIOS PROFESIONALES TECNICOS Y EMPRESARIALES N C P (139) | G180: 10 | H180: PORCENTAJE Y/O SOBRETASA AMBIENTAL MUNICIPIOS Y BOGOTÁ | I180: 2294937550 | J180: 1601318465 | K180: 27069649 | L180: 1574248816 | M180: 30978127 | N180: 1543270689 | O180: 389917493 | P180: 1153353196 | Q180: 1115810463
A181: 2026 | B181: SGAA | C181: DTA | D181: 2-3-3201-88-3112-10-0102-0083990-2.3.2.02.02.008. | E181: 140 | F181: SERVICIOS PRESTADOS A LAS EMPRESAS Y SERVICIOS DE PRODUCCIÓN - OTROS SERVICIOS PROFESIONALES TECNICOS Y EMPRESARIALES N C P (140) | G181: 10 | H181: PORCENTAJE Y/O SOBRETASA AMBIENTAL MUNICIPIOS Y BOGOTÁ | I181: 1503295086 | J181: 1731285646 | K181: 25240997 | L181: 1706044649 | M181: 9561013 | N181: 1696483636 | O181: 215441066 | P181: 1481042570 | Q181: 1481042570
A182: 2026 | B182: SGAA | C182: DTA | D182: 2-3-3201-88-3112-10-0103-0000000-2.3.2.01.01.003.02.02. | E182: 758 | F182: MAQUINAS HERRAMIENTAS Y SUS PARTES, PIEZAS Y ACCESORIOS - SIN CPC (758) | G182: 10 | H182: PORCENTAJE Y/O SOBRETASA AMBIENTAL MUNICIPIOS Y BOGOTÁ | I182: 0 | J182: 0 | K182: 0 | L182: 0 | M182: 0 | N182: 0 | O182: 0 | P182: 0 | Q182: 0
A183: 2026 | B183: SGAA | C183: DTA | D183: 2-3-3201-88-3112-10-0103-0069113-2.3.2.02.02.006. | E183: 600 | F183: COMERCIO Y DISTRIBUCIÓN; ALOJAMIENTO; SERVICIOS DE SUMINISTRO DE COMIDAS Y BEBIDAS; SERVICIOS DE TRANSPORTE; Y SERVICIOS DE DISTRIBUCIÓN DE ELECTRICIDAD, GAS Y AGUA - SERVICIOS DE COMERCIALIZACION DE ELECTRICIDAD POR CUENTA PROPIA (600) | G183: 10 | H183: PORCENTAJE Y/O SOBRETASA AMBIENTAL MUNICIPIOS Y BOGOTÁ | I183: 0 | J183: 25000000 | K183: 0 | L183: 25000000 | M183: 0 | N183: 25000000 | O183: 14500560 | P183: 10499440 | Q183: 10499440
A184: 2026 | B184: SGAA | C184: DTA | D184: 2-3-3201-88-3112-10-0103-0069210-2.3.2.02.02.006. | E184: 601 | F184: COMERCIO Y DISTRIBUCIÓN; ALOJAMIENTO; SERVICIOS DE SUMINISTRO DE COMIDAS Y BEBIDAS; SERVICIOS DE TRANSPORTE; Y SERVICIOS DE DISTRIBUCIÓN DE ELECTRICIDAD, GAS Y AGUA - SERVICIOS DE DISTRIBUCION DE AGUA POR TUBERIAS EXCEPTO VAPOR Y AGUA CALIENTE POR CUENTA PROPIA (601) | G184: 10 | H184: PORCENTAJE Y/O SOBRETASA AMBIENTAL MUNICIPIOS Y BOGOTÁ | I184: 0 | J184: 6000000 | K184: 0 | L184: 6000000 | M184: 4871670 | N184: 1128330 | O184: 0 | P184: 1128330 | Q184: 1128330
A185: 2026 | B185: SGAA | C185: DTA | D185: 2-3-3201-88-3112-10-0103-0072212-2.3.2.02.02.007. | E185: 602 | F185: SERVICIOS FINANCIEROS Y SERVICIOS CONEXOS, SERVICIOS INMOBILIARIOS Y SERVICIOS DE LEASING - SERVICIOS DE ADMINISTRACION DE BIENES INMUEBLES NO RESIDENCIALES DIFERENTES A VIVIENDA A COMISION O POR CONTRATO (602) | G185: 10 | H185: PORCENTAJE Y/O SOBRETASA AMBIENTAL MUNICIPIOS Y BOGOTÁ | I185: 0 | J185: 25000000 | K185: 0 | L185: 25000000 | M185: 0 | N185: 25000000 | O185: 16063800 | P185: 8936200 | Q185: 8936200
A186: 2026 | B186: SGAA | C186: DTA | D186: 2-3-3201-88-3112-10-0103-0083990-2.3.2.02.02.008. | E186: 141 | F186: SERVICIOS PRESTADOS A LAS EMPRESAS Y SERVICIOS DE PRODUCCIÓN - OTROS SERVICIOS PROFESIONALES TECNICOS Y EMPRESARIALES N C P (141) | G186: 10 | H186: PORCENTAJE Y/O SOBRETASA AMBIENTAL MUNICIPIOS Y BOGOTÁ | I186: 2734555307 | J186: 2737093062 | K186: 23552677 | L186: 2713540385 | M186: 15727894 | N186: 2697812491 | O186: 554454705 | P186: 2143357786 | Q186: 2075257786
A187: 2026 | B187: SGPOA | C187: DBIO | D187: 2-3-3201-88-3112-10-0104-0062291-2.3.2.02.02.006. | E187: 628 | F187: COMERCIO Y DISTRIBUCIÓN; ALOJAMIENTO; SERVICIOS DE SUMINISTRO DE COMIDAS Y BEBIDAS; SERVICIOS DE TRANSPORTE; Y SERVICIOS DE DISTRIBUCIÓN DE ELECTRICIDAD, GAS Y AGUA - COMERCIO AL POR MENOR DE COMBUSTIBLES PARA VEHICULOS AUTOMOTORES ACEITES Y GRASAS LUBRICANTES Y PRODUCTOS RELACIONADOS EN ESTABLECIMIENTOS ESPECIALIZADOS (628) | G187: 10 | H187: PORCENTAJE Y/O SOBRETASA AMBIENTAL MUNICIPIOS Y BOGOTÁ | I187: 0 | J187: 9364389 | K187: 0 | L187: 9364389 | M187: 938542 | N187: 8425847 | O187: 6037434 | P187: 2388413 | Q187: 2388413
A188: 2026 | B188: SGPOA | C188: DBIO | D188: 2-3-3201-88-3112-10-0104-0083990-2.3.2.02.02.008. | E188: 142 | F188: SERVICIOS PRESTADOS A LAS EMPRESAS Y SERVICIOS DE PRODUCCIÓN - OTROS SERVICIOS PROFESIONALES TECNICOS Y EMPRESARIALES N C P (142) | G188: 10 | H188: PORCENTAJE Y/O SOBRETASA AMBIENTAL MUNICIPIOS Y BOGOTÁ | I188: 1188681060 | J188: 1149261060 | K188: 0 | L188: 1149261060 | M188: 5219962 | N188: 1144041098 | O188: 39342000 | P188: 1104699098 | Q188: 1104699098
A189: 2026 | B189: SGPOA | C189: DBIO | D189: 2-3-3201-88-3112-10-0105-0069210-2.3.2.02.02.006. | E189: 143 | F189: COMERCIO Y DISTRIBUCIÓN; ALOJAMIENTO; SERVICIOS DE SUMINISTRO DE COMIDAS Y BEBIDAS; SERVICIOS DE TRANSPORTE; Y SERVICIOS DE DISTRIBUCIÓN DE ELECTRICIDAD, GAS Y AGUA - SERVICIOS DE DISTRIBUCION DE AGUA POR TUBERIAS EXCEPTO VAPOR Y AGUA CALIENTE POR CUENTA PROPIA (143) | G189: 10 | H189: PORCENTAJE Y/O SOBRETASA AMBIENTAL MUNICIPIOS Y BOGOTÁ | I189: 4171220 | J189: 4171220 | K189: 0 | L189: 4171220 | M189: 0 | N189: 4171220 | O189: 0 | P189: 4171220 | Q189: 4171220
A190: 2026 | B190: SGPOA | C190: DBIO | D190: 2-3-3201-88-3112-10-0105-0083931-2.3.2.02.02.008. | E190: 144 | F190: SERVICIOS PRESTADOS A LAS EMPRESAS Y SERVICIOS DE PRODUCCIÓN - SERVICIOS DE CONSULTORIA AMBIENTAL (144) | G190: 10 | H190: PORCENTAJE Y/O SOBRETASA AMBIENTAL MUNICIPIOS Y BOGOTÁ | I190: 519486712 | J190: 519486712 | K190: 0 | L190: 519486712 | M190: 0 | N190: 519486712 | O190: 402245672 | P190: 117241040 | Q190: 117241040
... A1026: 2026 | B1026: SGEN | C1026: DFIN | D1026: 2-3-3299-88-3118-80-1108-0000000-2.3.8.01.14. | E1026: 827 | F1026: GRAVAMEN A LOS MOVIMIENTOS FINANCIEROS - SIN CPC (827) | G1026: 80 | H1026: R.B-RENDIMIENTOS FINANCIEROS - RECURSOS FIAB - RECURSOS DEL BALANCE | I1026: 0 | J1026: 59867346 | K1026: 0 | L1026: 59867346 | M1026: 41982617 | N1026: 17884729 | O1026: 0 | P1026: 17884729 | Q1026: 17884729
F1027: SUBTOTAL GASTOS DE INVERSIÓN RENTAS PROPIAS | I1027: =SUM(I179:I1026) -> 1816176994210 | J1027: =SUM(J179:J1026) -> 2337104618019 | K1027: =SUM(K179:K1026) -> 420207059943 | L1027: =SUM(L179:L1026) -> 1916897558076 | M1027: =SUM(M179:M1026) -> 326802404187 | N1027: =SUM(N179:N1026) -> 1590095153889 | O1027: =SUM(O179:O1026) -> 1039993679913 | P1027: =SUM(P179:P1026) -> 550101473976 | Q1027: =SUM(Q179:Q1026) -> 531100298906
F1028: GASTOS DE INVERSIÓN SISTEMA GENERAL DE REGALÍAS - SGR
A1029: 2026 | B1029: SGFIA | C1029: DIA | D1029: 00AR-3202-0904-2017000050063 | F1029: RECUPERACIÓN HIDRÁULICA Y AMBIENTAL DEL COMPLEJO LAGUNAR FÚQUENE | G1029: AR25000 | H1029: AIR - CUNDINAMARCA | I1029: 0 | J1029: 5139429504 | K1029: 0 | L1029: 5139429504 | M1029: 4068997017 | N1029: 1070432487 | O1029: 114228883 | P1029: 956203604 | Q1029: 956203604
A1030: 2026 | B1030: SGFIA | C1030: DIA | D1030: 00AR-3202-0904-2018000050048 | F1030: RECUPERACIÓN HIDRÁULICA Y AMBIENTAL DEL COMPLEJO LAGUNAR FÚQUENE SECTOR QUICAGOTA DEL MUNICIPIO DE RÁQUIRA | G1030: AR15000 | H1030: AIR - BOYACÁ | I1030: 0 | J1030: 1529084185 | K1030: 0 | L1030: 1529084185 | M1030: 1529084185 | N1030: 0 | O1030: 0 | P1030: 0 | Q1030: 0
F1031: SUBTOTAL GASTOS DE INVERSIÓN SISTEMA GENERAL DE REGALÍAS - SGR | I1031: =SUM(I1029:I1030) -> 0 | J1031: =SUM(J1029:J1030) -> 6668513689 | K1031: =SUM(K1029:K1030) -> 0 | L1031: =SUM(L1029:L1030) -> 6668513689 | M1031: =SUM(M1029:M1030) -> 5598081202 | N1031: =SUM(N1029:N1030) -> 1070432487 | O1031: =SUM(O1029:O1030) -> 114228883 | P1031: =SUM(P1029:P1030) -> 956203604 | Q1031: =SUM(Q1029:Q1030) -> 956203604
F1032: TOTAL GASTOS DE INVERSIÓN | I1032: =I1027+I1031 -> 1816176994210 | J1032: =J1027+J1031 -> 2343773131708 | K1032: =K1027+K1031 -> 420207059943 | L1032: =L1027+L1031 -> 1923566071765 | M1032: =M1027+M1031 -> 332400485389 | N1032: =N1027+N1031 -> 1591165586376 | O1032: =O1027+O1031 -> 1040107908796 | P1032: =P1027+P1031 -> 551057677580 | Q1032: =Q1027+Q1031 -> 532056502510
F1033: TOTAL GASTOS | I1033: =I175+I178+I1032 -> 2165863520538 | J1033: =J175+J178+J1032 -> 2800404771300 | K1033: =K175+K178+K1032 -> 435900039389 | L1033: =L175+L178+L1032 -> 2364504731911 | M1033: =M175+M178+M1032 -> 422562868787 | N1033: =N175+N178+N1032 -> 1941941863124 | O1033: =O175+O178+O1032 -> 1088606968954 | P1033: =P175+P178+P1032 -> 853334894170 | Q1033: =Q175+Q178+Q1032 -> 833091252847
I1034: 2165863520538 | J1034: 2800404771300 | K1034: 441974002833 | L1034: 2358430768467 | M1034: 430257082800 | N1034: 1928173685667 | O1034: 1100098145323 | P1034: 828075540344 | Q1034: 762076289292
I1035: =I1033-I1034 -> 0 | J1035: =J1033-J1034 -> 0 | K1035: =K1033-K1034 -> -6073963444 | L1035: =L1033-L1034 -> 6073963444 | M1035: =M1033-M1034 -> -7694214013 | N1035: =N1033-N1034 -> 13768177457 | O1035: =O1033-O1034 -> -11491176369 | P1035: =P1033-P1034 -> 25259353826 | Q1035: =Q1033-Q1034 -> 71014963555

Sheet 2-Gastos x Área 16-OCT-2026
A1: EJECUCIÓN PRESUPUESTAL DE GASTOS POR DEPENDENCIA | M1: cifras en pesos
A2: SUBDIRECCIÓN | B2: FUNCIONAMIENTO POR DEPENDENCIA | C2: APROPIACIÓN INICIAL | D2: APROPIACIÓN DEFINITIVA | E2: SALDO EN APROPIACIÓN | F2: DISPONIBILIDADES | G2: SALDO EN DISPONIBILIDADES | H2: COMPROMISOS | I2: SALDO EN COMPROMISOS | J2: OBLIGACIONES | K2: PAGOS | L2: DISPONIBILIDADES / APROPIACIÓN | M2: COMPROMISOS / APROPIACIÓN | N2: OBLIGACIONES / APROPIACIÓN
A3: SGEN - Secretaría General | B3: DTH - Dirección de Talento Humano | C3: 175771796352 | D3: 146565909778 | E3: 578036130 | F3: 145987873648 | G3: 66774877917 | H3: 79212995731 | I3: 4112606951 | J3: 75100388780 | K3: 74768111128 | L3: =IF(D3>0,(F3/D3),"N.A") -> 0.99605614 | M3: =IF(D3>0,(H3/D3),"N.A") -> 0.54045989 | N3: =IF(D3>0,(J3/D3),"N.A") -> 0.51240011
B4: DASC - Dirección Administrativa y de Servicio al Ciudadano | C4: 76035853229 | D4: 78063845225 | E4: 8355981974 | F4: 69707863251 | G4: 4782074136 | H4: 64925789115 | I4: 27539830057 | J4: 37385959058 | K4: 37092436947 | L4: =IF(D4>0,(F4/D4),"N.A") -> 0.89295964 | M4: =IF(D4>0,(H4/D4),"N.A") -> 0.83170114 | N4: =IF(D4>0,(J4/D4),"N.A") -> 0.47891516
B5: DFIN - Dirección Financiera | C5: 24815705728 | D5: 25641757454 | E5: 3946531364 | F5: 21695226090 | G5: 8445179247 | H5: 13250046843 | I5: 2040727778 | J5: 11209319065 | K5: 11040297575 | L5: =IF(D5>0,(F5/D5),"N.A") -> 0.84608967 | M5: =IF(D5>0,(H5/D5),"N.A") -> 0.51673708 | N5: =IF(D5>0,(J5/D5),"N.A") -> 0.43715097
B6: SGEN - Secretaría General | C6: 3301109052 | D6: 3301109052 | E6: 0 | F6: 3301109052 | G6: 292969850 | H6: 3008139202 | I6: 813700030 | J6: 2194439172 | K6: 2175439172 | L6: =IF(D6>0,(F6/D6),"N.A") -> 1 | M6: =IF(D6>0,(H6/D6),"N.A") -> 0.91125108 | N6: =IF(D6>0,(J6/D6),"N.A") -> 0.66475816
B7: DGC - Dirección de Gestión Contractual | C7: 12406605276 | D7: 12406605276 | E7: 61626466 | F7: 12344978810 | G7: 200962110 | H7: 12144016700 | I7: 3134918072 | J7: 9009098628 | K7: 8827338628 | L7: =IF(D7>0,(F7/D7),"N.A") -> 0.99503277 | M7: =IF(D7>0,(H7/D7),"N.A") -> 0.97883478 | N7: =IF(D7>0,(J7/D7),"N.A") -> 0.7261534
B8: TOTAL | C8: =SUM(C3:C7) -> 292331069637 | D8: =SUM(D3:D7) -> 265979226785 | E8: =SUM(E3:E7) -> 12942175934 | F8: =SUM(F3:F7) -> 253037050851 | G8: =SUM(G3:G7) -> 80496063260 | H8: =SUM(H3:H7) -> 172540987591 | I8: =SUM(I3:I7) -> 37641782888 | J8: =SUM(J3:J7) -> 134899204703 | K8: =SUM(K3:K7) -> 133903623450 | L8: =IF(D8>0,(F8/D8),"N.A") -> 0.9513414 | M8: =IF(D8>0,(H8/D8),"N.A") -> 0.64870099 | N8: =IF(D8>0,(J8/D8),"N.A") -> 0.50717948
A9: SGAA - Subdirección General de Autoridad Ambiental | B9: DJA - Dirección Jurídica Ambiental | C9: 10676592532 | D9: 8641716818 | E9: 0 | F9: 8641716818 | G9: 1835856666 | H9: 6805860152 | I9: 5601535120 | J9: 1204325032 | K9: 1168951699 | L9: =IF(D9>0,(F9/D9),"N.A") -> 1 | M9: =IF(D9>0,(H9/D9),"N.A") -> 0.7875588 | N9: =IF(D9>0,(J9/D9),"N.A") -> 0.13936178
B10: DTA - Dirección Técnica Ambiental | C10: 1781678674 | D10: 1781678674 | E10: 28473596 | F10: 1753205078 | G10: 1636448 | H10: 1751568630 | I10: 443566176 | J10: 1308002454 | K10: 1292002454 | L10: =IF(D10>0,(F10/D10),"N.A") -> 0.98401867 | M10: =IF(D10>0,(H10/D10),"N.A") -> 0.98310018 | N10: =IF(D10>0,(J10/D10),"N.A") -> 0.73414049
B11: TOTAL | C11: =SUM(C9:C10) -> 12458271206 | D11: =SUM(D9:D10) -> 10423395492 | E11: =SUM(E9:E10) -> 28473596 | F11: =SUM(F9:F10) -> 10394921896 | G11: =SUM(G9:G10) -> 1837493114 | H11: =SUM(H9:H10) -> 8557428782 | I11: =SUM(I9:I10) -> 6045101296 | J11: =SUM(J9:J10) -> 2512327486 | K11: =SUM(K9:K10) -> 2460954153 | L11: =IF(D11>0,(F11/D11),"N.A") -> 0.9972683 | M11: =IF(D11>0,(H11/D11),"N.A") -> 0.82098284 | N11: =IF(D11>0,(J11/D11),"N.A") -> 0.24102774
A12: OJUR - Oficina Jurídica Corporativa | B12: OJUR - Oficina Jurídica Corporativa | C12: 8218595567 | D12: 141355679174 | E12: 2707877090 | F12: 138647802084 | G12: 355954761 | H12: 138291847323 | I12: 1453921105 | J12: 136837926218 | K12: 136672914551 | L12: =IF(D12>0,(F12/D12),"N.A") -> 0.98084352 | M12: =IF(D12>0,(H12/D12),"N.A") -> 0.97832537 | N12: =IF(D12>0,(J12/D12),"N.A") -> 0.96803982
A13: OCIN - Oficina de Control Interno | B13: OCIN - Oficina de Control Interno | C13: 1882490520 | D13: 1847238743 | E13: 0 | F13: 1847238743 | G13: 0 | H13: 1847238743 | I13: 518517172 | J13: 1328721571 | K13: 1328721571 | L13: =IF(D13>0,(F13/D13),"N.A") -> 1 | M13: =IF(D13>0,(H13/D13),"N.A") -> 1 | N13: =IF(D13>0,(J13/D13),"N.A") -> 0.71930149
A14: DGEN - Dirección General | B14: DGEN - Dirección General | C14: 1510000000 | D14: 1990000000 | E14: 3310833 | F14: 1986689167 | G14: 12750000 | H14: 1973939167 | I14: 595970168 | J14: 1377968999 | K14: 1362468999 | L14: =IF(D14>0,(F14/D14),"N.A") -> 0.99833626 | M14: =IF(D14>0,(H14/D14),"N.A") -> 0.99192923 | N14: =IF(D14>0,(J14/D14),"N.A") -> 0.69244673
A15: SGCGA - Subdirección General de Cultura y Gobernanza Ambiental | B15: DSICA - Dirección Técnica de Sostenibilidad e Innovación para el fortalecimiento de la Cultura Ambiental | C15: 657400000 | D15: 657400000 | E15: 0 | F15: 657400000 | G15: 272500000 | H15: 384900000 | I15: 164200000 | J15: 220700000 | K15: 205700000 | L15: =IF(D15>0,(F15/D15),"N.A") -> 1 | M15: =IF(D15>0,(H15/D15),"N.A") -> 0.58548829 | N15: =IF(D15>0,(J15/D15),"N.A") -> 0.33571646
A16: OCDI - Oficina de Control Disciplinario Interno | B16: OCDI - Oficina de Control Disciplinario Interno | C16: 774912834 | D16: 774912834 | E16: 141993 | F16: 774770841 | G16: 97310335 | H16: 677460506 | I16: 178317529 | J16: 499142977 | K16: 499142977 | L16: =IF(D16>0,(F16/D16),"N.A") -> 0.99981676 | M16: =IF(D16>0,(H16/D16),"N.A") -> 0.87424092 | N16: =IF(D16>0,(J16/D16),"N.A") -> 0.6441279
A17: OGDAD - Oficina de Gobernanza Digital y Analítica de Datos | B17: OGDAD - Oficina de Gobernanza Digital y Analítica de Datos | C17: 0 | D17: 1750000000 | E17: 0 | F17: 1750000000 | G17: 0 | H17: 1750000000 | I17: 1750000000 | J17: 0 | K17: 0 | L17: =IF(D17>0,(F17/D17),"N.A") -> 1 | M17: =IF(D17>0,(H17/D17),"N.A") -> 1 | N17: =IF(D17>0,(J17/D17),"N.A") -> 0
A18: OAP - Oficina Asesora de Planeación | B18: OAP - Oficina Asesora de Planeación | C18: 521000000 | D18: 521000000 | E18: 11000000 | F18: 510000000 | G18: 0 | H18: 510000000 | I18: 151250000 | J18: 358750000 | K18: 358750000 | L18: =IF(D18>0,(F18/D18),"N.A") -> 0.97888676 | M18: =IF(D18>0,(H18/D18),"N.A") -> 0.97888676 | N18: =IF(D18>0,(J18/D18),"N.A") -> 0.68857965
B19: TOTAL | C19: =C8+C11+C12+C13+C14+C15+C16+C17+C18 -> 318353739764 | D19: =D8+D11+D12+D13+D14+D15+D16+D17+D18 -> 425298853028 | E19: =E8+E11+E12+E13+E14+E15+E16+E17+E18 -> 15692979446 | F19: =F8+F11+F12+F13+F14+F15+F16+F17+F18 -> 409605873582 | G19: =G8+G11+G12+G13+G14+G15+G16+G17+G18 -> 83072071470 | H19: =H8+H11+H12+H13+H14+H15+H16+H17+H18 -> 326533802112 | I19: =I8+I11+I12+I13+I14+I15+I16+I17+I18 -> 48499060158 | J19: =J8+J11+J12+J13+J14+J15+J16+J17+J18 -> 278034741954 | K19: =K8+K11+K12+K13+K14+K15+K16+K17+K18 -> 276792275701 | L19: =IF(D19>0,(F19/D19),"N.A") -> 0.96310129 | M19: =IF(D19>0,(H19/D19),"N.A") -> 0.76777494 | N19: =IF(D19>0,(J19/D19),"N.A") -> 0.65373969
C20: ='1-Ejecución Gastos 16-OCT-2026'!I175 -> 318353739764 | D20: ='1-Ejecución Gastos 16-OCT-2026'!J175 -> 425298853028 | E20: ='1-Ejecución Gastos 16-OCT-2026'!K175 -> 15692979446 | F20: ='1-Ejecución Gastos 16-OCT-2026'!L175 -> 409605873582 | G20: ='1-Ejecución Gastos 16-OCT-2026'!M175 -> 83072071470 | H20: ='1-Ejecución Gastos 16-OCT-2026'!N175 -> 326533802112 | I20: ='1-Ejecución Gastos 16-OCT-2026'!O175 -> 48499060158 | J20: ='1-Ejecución Gastos 16-OCT-2026'!P175 -> 278034741954 | K20: ='1-Ejecución Gastos 16-OCT-2026'!Q175 -> 276792275701 | L20: 0 | M20: 0 | N20: 0
C21: =C19-C20 -> 0 | D21: =D19-D20 -> 0 | E21: =E19-E20 -> 0 | F21: =F19-F20 -> 0 | G21: =G19-G20 -> 0 | H21: =H19-H20 -> 0 | I21: =I19-I20 -> 0 | J21: =J19-J20 -> 0 | K21: =K19-K20 -> 0
A22: SUBDIRECCIÓN | B22: INVERSIÓN POR DEPENDENCIA | C22: APROPIACIÓN INICIAL | D22: APROPIACIÓN DEFINITIVA | E22: SALDO EN APROPIACIÓN | F22: DISPONIBILIDADES | G22: SALDO EN DISPONIBILIDADES | H22: COMPROMISOS | I22: SALDO EN COMPROMISOS | J22: OBLIGACIONES | K22: PAGOS | L22: DISPONIBILIDADES / APROPIACIÓN | M22: COMPROMISOS / APROPIACIÓN | N22: OBLIGACIONES / APROPIACIÓN
A23: SGFIA - Subdirección General de Administración del FIAB e Infraestructura Ambiental | B23: DFIAB - Dirección Técnica FIAB | C23: 1135620275174 | D23: 1472425042077 | E23: 338684881770 | F23: 1133740160307 | G23: 273154185580 | H23: 860585974727 | I23: 619843183484 | J23: 240742791243 | K23: 232512098830 | L23: =IF(D23>0,(F23/D23),"N.A") -> 0.76998158 | M23: =IF(D23>0,(H23/D23),"N.A") -> 0.58446845 | N23: =IF(D23>0,(J23/D23),"N.A") -> 0.16350088
B24: DIA - Dirección Técnica de Infraestructura Ambiental | C24: 200452597391 | D24: 316718256168 | E24: 61834526485 | F24: 254883729683 | G24: 15380755799 | H24: 239502973884 | I24: 168460128817 | J24: 71042845067 | K24: 68521803948 | L24: =IF(D24>0,(F24/D24),"N.A") -> 0.80476488 | M24: =IF(D24>0,(H24/D24),"N.A") -> 0.75620198 | N24: =IF(D24>0,(J24/D24),"N.A") -> 0.22430928
B25: TOTAL | C25: =SUM(C23:C24) -> 1336072872565 | D25: =SUM(D23:D24) -> 1789143298245 | E25: =SUM(E23:E24) -> 400519408255 | F25: =SUM(F23:F24) -> 1388623889990 | G25: =SUM(G23:G24) -> 288534941379 | H25: =SUM(H23:H24) -> 1100088948611 | I25: =SUM(I23:I24) -> 788303312301 | J25: =SUM(J23:J24) -> 311785636310 | K25: =SUM(K23:K24) -> 301033902778 | L25: =IF(D25>0,(F25/D25),"N.A") -> 0.776139 | M25: =IF(D25>0,(H25/D25),"N.A") -> 0.61486911 | N25: =IF(D25>0,(J25/D25),"N.A") -> 0.17426532
A26: SGCGA - Subdirección General de Cultura y Gobernanza Ambiental | B26: DSICA - Dirección Técnica de Sostenibilidad e Innovación para el fortalecimiento de la Cultura Ambiental | C26: 132118854860 | D26: 142495131405 | E26: 1038582194 | F26: 141456549211 | G26: 8084608635 | H26: 133371940576 | I26: 68696915259 | J26: 64675025317 | K26: 64288818983 | L26: =IF(D26>0,(F26/D26),"N.A") -> 0.99271145 | M26: =IF(D26>0,(H26/D26),"N.A") -> 0.93597542 | N26: =IF(D26>0,(J26/D26),"N.A") -> 0.45387533
B27: DCGA - Dirección Técnica de Desarrollo de Capacidades para la Gobernanza Ambiental | C27: 83710072229 | D27: 93216961727 | E27: 10771535409 | F27: 82445426318 | G27: 4577238552 | H27: 77868187766 | I27: 45151642355 | J27: 32716545411 | K27: 32403682201 | L27: =IF(D27>0,(F27/D27),"N.A") -> 0.88444662 | M27: =IF(D27>0,(H27/D27),"N.A") -> 0.83534355 | N27: =IF(D27>0,(J27/D27),"N.A") -> 0.35097202
B28: TOTAL | C28: =SUM(C26:C27) -> 215828927089 | D28: =SUM(D26:D27) -> 235712093132 | E28: =SUM(E26:E27) -> 11810117603 | F28: =SUM(F26:F27) -> 223901975529 | G28: =SUM(G26:G27) -> 12661847187 | H28: =SUM(H26:H27) -> 211240128342 | I28: =SUM(I26:I27) -> 113848557614 | J28: =SUM(J26:J27) -> 97391570728 | K28: =SUM(K26:K27) -> 96692501184 | L28: =IF(D28>0,(F28/D28),"N.A") -> 0.949896 | M28: =IF(D28>0,(H28/D28),"N.A") -> 0.89617858 | N28: =IF(D28>0,(J28/D28),"N.A") -> 0.4131802
A29: SGPOA - Subdirección General de Planificación y Ordenamiento Ambiental | B29: DOT - Dirección Técnica de Ordenamiento Territorial | C29: 57802626908 | D29: 55421780348 | E29: 1725136611 | F29: 53696643737 | G29: 5207151232 | H29: 48489492505 | I29: 29372565393 | J29: 19116927112 | K29: 18760716846 | L29: =IF(D29>0,(F29/D29),"N.A") -> 0.96887259 | M29: =IF(D29>0,(H29/D29),"N.A") -> 0.87491763 | N29: =IF(D29>0,(J29/D29),"N.A") -> 0.34493528
B30: DBIO - Dirección Técnica de Biodiversidad | C30: 60985837814 | D30: 72123323524 | E30: 2933679508 | F30: 69189644016 | G30: 5106903418 | H30: 64082740598 | I30: 41909931758 | J30: 22172808840 | K30: 21702594143 | L30: =IF(D30>0,(F30/D30),"N.A") -> 0.95932412 | M30: =IF(D30>0,(H30/D30),"N.A") -> 0.88851619 | N30: =IF(D30>0,(J30/D30),"N.A") -> 0.30742911
B31: DCMA - Dirección Técnica Científica y de Modelamiento Ambiental | C31: 48519836188 | D31: 49490544746 | E31: 986699734 | F31: 48503845012 | G31: 3000319981 | H31: 45503525031 | I31: 20958984969 | J31: 24544540062 | K31: 23800213796 | L31: =IF(D31>0,(F31/D31),"N.A") -> 0.98006286 | M31: =IF(D31>0,(H31/D31),"N.A") -> 0.91943876 | N31: =IF(D31>0,(J31/D31),"N.A") -> 0.49594403
B32: SGPOA - Subdirección General de Planificación y Ordenamiento Ambiental | C32: 0 | D32: 0 | E32: 0 | F32: 0 | G32: 0 | H32: 0 | I32: 0 | J32: 0 | K32: 0 | L32: =IF(D32>0,(F32/D32),"N.A") -> N.A | M32: =IF(D32>0,(H32/D32),"N.A") -> N.A | N32: =IF(D32>0,(J32/D32),"N.A") -> N.A
B33: TOTAL | C33: =SUM(C29:C32) -> 167308300910 | D33: =SUM(D29:D32) -> 177035648618 | E33: =SUM(E29:E32) -> 5645515853 | F33: =SUM(F29:F32) -> 171390132765 | G33: =SUM(G29:G32) -> 13314374631 | H33: =SUM(H29:H32) -> 158075758134 | I33: =SUM(I29:I32) -> 92241482120 | J33: =SUM(J29:J32) -> 65834276014 | K33: =SUM(K29:K32) -> 64263524785 | L33: =IF(D33>0,(F33/D33),"N.A") -> 0.96811085 | M33: =IF(D33>0,(H33/D33),"N.A") -> 0.89290354 | N33: =IF(D33>0,(J33/D33),"N.A") -> 0.37187017
A34: SGAA - Subdirección General de Autoridad Ambiental | B34: DTA - Dirección Técnica Ambiental | C34: 26508320167 | D34: 35776818897 | E34: 1147779828 | F34: 34629039069 | G34: 2228677856 | H34: 32400361213 | I34: 9392873600 | J34: 23007487613 | K34: 22103450559 | L34: =IF(D34>0,(F34/D34),"N.A") -> 0.96791834 | M34: =IF(D34>0,(H34/D34),"N.A") -> 0.90562443 | N34: =IF(D34>0,(J34/D34),"N.A") -> 0.64308366
B35: DJA - Dirección Jurídica Ambiental | C35: 25938457062 | D35: 26630268777 | E35: 752868040 | F35: 25877400737 | G35: 1874503467 | H35: 24002897270 | I35: 8446932095 | J35: 15555965175 | K35: 15060396108 | L35: =IF(D35>0,(F35/D35),"N.A") -> 0.97172886 | M35: =IF(D35>0,(H35/D35),"N.A") -> 0.9013389 | N35: =IF(D35>0,(J35/D35),"N.A") -> 0.58414601
B36: TOTAL | C36: =SUM(C34:C35) -> 52446777229 | D36: =SUM(D34:D35) -> 62407087674 | E36: =SUM(E34:E35) -> 1900647868 | F36: =SUM(F34:F35) -> 60506439806 | G36: =SUM(G34:G35) -> 4103181323 | H36: =SUM(H34:H35) -> 56403258483 | I36: =SUM(I34:I35) -> 17839805695 | J36: =SUM(J34:J35) -> 38563452788 | K36: =SUM(K34:K35) -> 37163846667 | L36: =IF(D36>0,(F36/D36),"N.A") -> 0.96954436 | M36: =IF(D36>0,(H36/D36),"N.A") -> 0.90379572 | N36: =IF(D36>0,(J36/D36),"N.A") -> 0.61793386
A37: OGDAD - Oficina de Gobernanza Digital y Analítica de Datos | B37: OGDAD - Oficina de Gobernanza Digital y Analítica de Datos | C37: 12425189499 | D37: 24232360712 | E37: 240396847 | F37: 23991963865 | G37: 1638037255 | H37: 22353926610 | I37: 9732930777 | J37: 12620995833 | K37: 8277503856 | L37: =IF(D37>0,(F37/D37),"N.A") -> 0.99007951 | M37: =IF(D37>0,(H37/D37),"N.A") -> 0.92248241 | N37: =IF(D37>0,(J37/D37),"N.A") -> 0.52083229
A38: SGEN - Secretaría General | B38: DTH - Dirección de Talento Humano | C38: 391787779 | D38: 325057161 | E38: 0 | F38: 325057161 | G38: 276253460 | H38: 48803701 | I38: 0 | J38: 48803701 | K38: 48803701 | L38: =IF(D38>0,(F38/D38),"N.A") -> 1 | M38: =IF(D38>0,(H38/D38),"N.A") -> 0.15013883 | N38: =IF(D38>0,(J38/D38),"N.A") -> 0.15013883
B39: DASC - Dirección Administrativa y de Servicio al Ciudadano | C39: 11551303442 | D39: 25074711884 | E39: 0 | F39: 25074711884 | G39: 1887348044 | H39: 23187363840 | I39: 13141782813 | J39: 10045581027 | K39: 9936181027
B40: DFIN - Dirección Financiera | C40: 69638800 | D40: 9590388463 | E40: 89782095 | F40: 9500606368 | G40: 7754396583 | H40: 1746209785 | I40: 0 | J40: 1746209785 | K40: 1746209785 | L40: =IF(D40>0,(F40/D40),"N.A") -> 0.99063833 | M40: =IF(D40>0,(H40/D40),"N.A") -> 0.18207915 | N40: =IF(D40>0,(J40/D40),"N.A") -> 0.18207915
...

Sheet 3-Disponibilidades 16-OCT-2026
A1: SUBDIRECCIÓN | B1: ÁREA EJECUTORA | C1: CÓD RUBRO/PROYECTO | D1: CÓD RESUMIDO | E1: NOMBRE RUBRO/PROYECTO | F1: FUENTE | G1: NOMBRE FUENTE | H1: CÓD SOLICITANTE | I1: ÁREA SOLICITANTE | J1: SOLICITUD | K1: DISPONIBILIDAD PRESUPUESTAL | L1: FECHA | M1: OBJETO | N1: CDP INICIAL | O1: CDP CANCELADO | P1: CDP DEFINITIVO | Q1: CDP COMPROMETIDO | R1: CDP SALDO
A2: DGEN | B2: DGEN | C2: 2-1-2001-02-1111-10-DGEN-0083990-2.1.2.02.02.008. | D2: 73 | E2: SERVICIOS PRESTADOS A LAS EMPRESAS Y SERVICIOS DE PRODUCCION - OTROS SERVICIOS PROFESIONALES TECNICOS Y EMPRESARIALES N C P (73) | F2: 10 | G2: PORCENTAJE Y/O SOBRETASA AMBIENTAL MUNICIPIOS Y BOGOTÁ | H2: 27100 | I2: DGEN Dirección General | J2: VIGENCIAS FUTURAS - 176 DÍAS 80853 DGEN | K2: 26600148 | L2: 46024 | M2: Solicitud de CDP para amparar vigencias futuras del proceso denominado: Adiciones y prórrogas de los contratos de _x000D_prestación de servicios profesionales suscritos por gastos de funcionamiento para ejecutar actividades propias de la_x000D_ Dirección General. | N2: 90933333 | O2: 0 | P2: 90933333 | Q2: 90933333 | R2: 0
A3: DGEN | B3: DGEN | C3: 2-1-2001-02-1111-10-DGEN-0083990-2.1.2.02.02.008. | D3: 73 | E3: SERVICIOS PRESTADOS A LAS EMPRESAS Y SERVICIOS DE PRODUCCION - OTROS SERVICIOS PROFESIONALES TECNICOS Y EMPRESARIALES N C P (73) | F3: 10 | G3: PORCENTAJE Y/O SOBRETASA AMBIENTAL MUNICIPIOS Y BOGOTÁ | H3: 27100 | I3: DGEN Dirección General | J3: VIGENCIAS FUTURAS - 176 DÍAS 80934 DGEN | K3: 26600180 | L3: 46024 | M3: Solicitud de CDP para amparar vigencias futuras del proceso denominado: Adiciones y prórrogas de los contratos de _x000D_prestación de servicios profesionales suscritos por gastos de funcionamiento para ejecutar actividades propias de la_x000D_ Dirección General. | N3: 72746667 | O3: 0 | P3: 72746667 | Q3: 72746667 | R3: 0
A4: DGEN | B4: DGEN | C4: 2-1-2001-02-1111-10-DGEN-0083990-2.1.2.02.02.008. | D4: 73 | E4: SERVICIOS PRESTADOS A LAS EMPRESAS Y SERVICIOS DE PRODUCCION - OTROS SERVICIOS PROFESIONALES TECNICOS Y EMPRESARIALES N C P (73) | F4: 10 | G4: PORCENTAJE Y/O SOBRETASA AMBIENTAL MUNICIPIOS Y BOGOTÁ | H4: 27100 | I4: DGEN Dirección General | J4: VIGENCIAS FUTURAS - 176 DÍAS 80930 DGEN | K4: 26600183 | L4: 46024 | M4: Solicitud de CDP para amparar vigencias futuras del proceso denominado: Adiciones y prórrogas de los contratos de _x000D_prestación de servicios profesionales suscritos por gastos de funcionamiento para ejecutar actividades propias de la_x000D_ Dirección General. | N4: 102666667 | O4: 0 | P4: 102666667 | Q4: 102666667 | R4: 0
A5: DGEN | B5: DGEN | C5: 2-1-2001-02-1111-10-DGEN-0083990-2.1.2.02.02.008. | D5: 73 | E5: SERVICIOS PRESTADOS A LAS EMPRESAS Y SERVICIOS DE PRODUCCION - OTROS SERVICIOS PROFESIONALES TECNICOS Y EMPRESARIALES N C P (73) | F5: 10 | G5: PORCENTAJE Y/O SOBRETASA AMBIENTAL MUNICIPIOS Y BOGOTÁ | H5: 27100 | I5: DGEN Dirección General | J5: VIGENCIAS FUTURAS - 200 DIAS 81268 DGEN | K5: 26600353 | L5: 46024 | M5: Solicitud de CDP para amparar vigencias futuras de los procesos denominados: Contratos de prestación de servicios profesionales y de apoyo a la gestión de la Dirección General | N5: 60000000 | O5: 0 | P5: 60000000 | Q5: 60000000 | R5: 0
A6: DGEN | B6: DGEN | C6: 2-1-2001-02-1111-10-DGEN-0083990-2.1.2.02.02.008. | D6: 73 | E6: SERVICIOS PRESTADOS A LAS EMPRESAS Y SERVICIOS DE PRODUCCION - OTROS SERVICIOS PROFESIONALES TECNICOS Y EMPRESARIALES N C P (73) | F6: 10 | G6: PORCENTAJE Y/O SOBRETASA AMBIENTAL MUNICIPIOS Y BOGOTÁ | H6: 27100 | I6: DGEN Dirección General | J6: VIGENCIAS FUTURAS - 200 DIAS 81276 DGEN | K6: 26600356 | L6: 46024 | M6: Solicitud de CDP para amparar vigencias futuras de los procesos denominados: Contratos de prestación de servicios profesionales y de apoyo a la gestión de la Dirección General | N6: 123600000 | O6: 0 | P6: 123600000 | Q6: 123600000 | R6: 0
A7: DGEN | B7: DGEN | C7: 2-1-2001-02-1111-10-DGEN-0083990-2.1.2.02.02.008. | D7: 73 | E7: SERVICIOS PRESTADOS A LAS EMPRESAS Y SERVICIOS DE PRODUCCION - OTROS SERVICIOS PROFESIONALES TECNICOS Y EMPRESARIALES N C P (73) | F7: 10 | G7: PORCENTAJE Y/O SOBRETASA AMBIENTAL MUNICIPIOS Y BOGOTÁ | H7: 27100 | I7: DGEN Dirección General | J7: VIGENCIAS FUTURAS - 200 DIAS 81285 DGEN | K7: 26600373 | L7: 46024 | M7: Solicitud de CDP para amparar vigencias futuras de los procesos denominados: Contratos de prestación de servicios profesionales y de apoyo a la gestión de la Dirección General | N7: 28800000 | O7: 0 | P7: 28800000 | Q7: 28800000 | R7: 0
A8: DGEN | B8: DGEN | C8: 2-1-2001-02-1111-10-DGEN-0083990-2.1.2.02.02.008. | D8: 73 | E8: SERVICIOS PRESTADOS A LAS EMPRESAS Y SERVICIOS DE PRODUCCION - OTROS SERVICIOS PROFESIONALES TECNICOS Y EMPRESARIALES N C P (73) | F8: 10 | G8: PORCENTAJE Y/O SOBRETASA AMBIENTAL MUNICIPIOS Y BOGOTÁ | H8: 27100 | I8: DGEN Dirección General | J8: VIGENCIAS FUTURAS - 214 DIAS 80449 DGEN | K8: 26600552 | L8: 46024 | M8: Solicitud de CDP para amparar vigencias futuras de los procesos denominados: Contratos de prestación de servicios profesionales y de apoyo a la gestión de la Dirección General | N8: 48000000 | O8: 0 | P8: 48000000 | Q8: 48000000 | R8: 0
A9: DGEN | B9: DGEN | C9: 2-1-2001-02-1111-10-DGEN-0083990-2.1.2.02.02.008. | D9: 73 | E9: SERVICIOS PRESTADOS A LAS EMPRESAS Y SERVICIOS DE PRODUCCION - OTROS SERVICIOS PROFESIONALES TECNICOS Y EMPRESARIALES N C P (73) | F9: 10 | G9: PORCENTAJE Y/O SOBRETASA AMBIENTAL MUNICIPIOS Y BOGOTÁ | H9: 27100 | I9: DGEN Dirección General | J9: 52271-DGEN | K9: 26601565 | L9: 46030.643 | M9: Contratar servicios profesionales y de apoyo a la gestión para el desempeño de las funciones de la Dirección General, de conformidad con lo establecido en el Acuerdo No.27 del 5 de septiembre de 2025. | N9: 618492500 | O9: 0 | P9: 618492500 | Q9: 618492500 | R9: 0
A10: DGEN | B10: DGEN | C10: 2-1-2001-02-1111-10-DGEN-0083990-2.1.2.02.02.008. | D10: 73 | E10: SERVICIOS PRESTADOS A LAS EMPRESAS Y SERVICIOS DE PRODUCCION - OTROS SERVICIOS PROFESIONALES TECNICOS Y EMPRESARIALES N C P (73) | F10: 10 | G10: PORCENTAJE Y/O SOBRETASA AMBIENTAL MUNICIPIOS Y BOGOTÁ | H10: 27100 | I10: DGEN Dirección General | J10: 54065-DGEN | K10: 26601621 | L10: 46050.846 | M10: Contratar servicios profesionales y de apoyo a la gestión para el desempeño de las funciones de la Dirección General, de conformidad con lo establecido en el Acuerdo No.27 del 5 de septiembre de 2025. | N10: 60000000 | O10: 0 | P10: 60000000 | Q10: 60000000 | R10: 0
A11: DGEN | B11: DGEN | C11: 2-1-2001-02-1111-10-DGEN-0083990-2.1.2.02.02.008. | D11: 73 | E11: SERVICIOS PRESTADOS A LAS EMPRESAS Y SERVICIOS DE PRODUCCION - OTROS SERVICIOS PROFESIONALES TECNICOS Y EMPRESARIALES N C P (73) | F11: 10 | G11: PORCENTAJE Y/O SOBRETASA AMBIENTAL MUNICIPIOS Y BOGOTÁ | H11: 27100 | I11: DGEN Dirección General | J11: 54081-DGEN | K11: 26601633 | L11: 46051.856 | M11: Contratar servicios profesionales y de apoyo a la gestión para el_x000D_desempeño de las funciones de la Dirección General, de conformidad con lo establecido en el Acuerdo No.27 del 5 de septiembre de 2025. | N11: 196350000 | O11: 0 | P11: 196350000 | Q11: 196350000 | R11: 0
A12: DGEN | B12: DGEN | C12: 2-1-2001-02-1111-10-DGEN-0083990-2.1.2.02.02.008. | D12: 73 | E12: SERVICIOS PRESTADOS A LAS EMPRESAS Y SERVICIOS DE PRODUCCION - OTROS SERVICIOS PROFESIONALES TECNICOS Y EMPRESARIALES N C P (73) | F12: 10 | G12: PORCENTAJE Y/O SOBRETASA AMBIENTAL MUNICIPIOS Y BOGOTÁ | H12: 10050 | I12: PORCENTAJE AMBIENTAL | J12: 54659-DGEN | K12: 26601950 | L12: 46195.656 | M12: Contratar servicios profesionales y de apoyo a la gestión para el desempeño de las funciones de la Dirección General, de conformidad con lo establecido en el Acuerdo No.27 del 5 de septiembre de 2025, modificado por el Acuerdo 15 de 25 de marzo de 2026. | N12: 385100000 | O12: 0 | P12: 385100000 | Q12: 372350000 | R12: 12750000
A13: DGEN | B13: DGEN | C13: 2-1-2001-02-1111-70-DGEN-0083990-2.1.2.02.02.008. | D13: 932 | E13: SERVICIOS PRESTADOS A LAS EMPRESAS Y SERVICIOS DE PRODUCCION - OTROS SERVICIOS PROFESIONALES TECNICOS Y EMPRESARIALES N C P (932) | F13: 70 | G13: R.B-RENTAS SIN DESTINACIÓN ESPECÍFICA - RECURSOS DEL BALANCE | H13: 10050 | I13: PORCENTAJE AMBIENTAL | J13: 54659-DGEN | K13: 26601950 | L13: 46195.656 | M13: Contratar servicios profesionales y de apoyo a la gestión para el desempeño de las funciones de la Dirección General, de conformidad con lo establecido en el Acuerdo No.27 del 5 de septiembre de 2025, modificado por el Acuerdo 15 de 25 de marzo de 2026. | N13: 200000000 | O13: 0 | P13: 200000000 | Q13: 200000000 | R13: 0
... A3180: SGPOA | B3180: DOT | C3180: 2-3-3206-88-3110-60-0201-0083990-2.3.2.02.02.008. | D3180: 497 | E3180: SERVICIOS PRESTADOS A LAS EMPRESAS Y SERVICIOS DE PRODUCCIÓN - OTROS SERVICIOS PROFESIONALES TECNICOS Y EMPRESARIALES N C P (497) | F3180: 60 | G3180: R.B-PORCENTAJE Y/O SOBRETASA AMBIENTAL MUNICIPIOS Y BOGOTÁ - RECURSOS DEL BALANCE | H3180: 27101 | I3180: OAP Oficina Asesora de Planeación | J3180: 54494 - OAP | K3180: 26601868 | L3180: 46141.493 | M3180: OBJETO DEL CDP DE TRASLADO: CERTIFICAR QUE, EN EL PRESUPUESTO DE GASTOS DE INVERSIÓN PARA LA PRESENTE VIGENCIA, EXISTEN RECURSOS DISPONIBLES Y LIBRES DE AFECTACIÓN, SUSCEPTIBLES DE SER TRASLADADOS A OTROS RUBROS PRESUPUESTALES. | N3180: 30 | O3180: 30 | P3180: 0 | Q3180: 0 | R3180: 0
N3181: 2916725688866 | O3181: 558889470644 | P3181: 2357836218222 | Q3181: 1940871430637 | R3181: 416964787585

Sheet 4-Compromisos 16-OCT-2026
A1: SUBDIRECCIÓN | B1: ÁREA EJECUTORA | C1: CÓD RUBRO/PROYECTO | D1: CÓD RESUMIDO | E1: NOMBRE RUBRO/PROYECTO | F1: FUENTE | G1: NOMBRE FUENTE | H1: CÓD SOLICITANTE | I1: ÁREA SOLICITANTE | J1: SOLICITUD | K1: TIPO DE CONTRATO | L1: NÚMERO DE CONTRATO | M1: REGISTRO PRESUPUESTAL | N1: DISPONIBILIDAD PRESUPUESTAL | O1: FECHA | P1: PLAZO | Q1: OBJETO | R1: NIT | S1: CONTRATISTA | T1: COMPROMISO INICIAL | U1: COMPROMISO CANCELADO | V1: COMPROMISO FINAL | W1: SALDO EN EL COMPROMISO | X1: OBLIGACIONES | Y1: PAGOS
A2: DGEN | B2: DGEN | C2: 2-1-2001-02-1111-10-DGEN-0083990-2.1.2.02.02.008. | D2: 73 | E2: SERVICIOS PRESTADOS A LAS EMPRESAS Y SERVICIOS DE PRODUCCION - OTROS SERVICIOS PROFESIONALES TECNICOS Y EMPRESARIALES N C P (73) | F2: 10 | G2: PORCENTAJE Y/O SOBRETASA AMBIENTAL MUNICIPIOS Y BOGOTÁ | H2: 27100 | I2: DGEN Dirección General | J2: VIGENCIAS FUTURAS - 176 DÍAS 80853 DGEN | K2: CSE - DE PRESTACIÓN DE SERVICIOS | L2: 2025CSE4 | M2: 26800138 | N2: 26600148 | O2: 46024 | P2: 176 DIAS | Q2: Adición 1 y Prórroga 1 al contrato de Prestar servicios profesionales a la Dirección General de la Corporación Autónoma Regional de Cundinamarca - CAR, para asesorar los asuntos sociales, pedagógicos y de cultura ambiental requeridos en la jurisdicción de la CAR. Proceso amparado con vigencias futuras según Resolución DGEN No. 20257000522 de 31 de octubre de 2025. | R2: 1073381365 | S2: ALARCON CANTOR MARIAM ALEJANDRA | T2: 90933333 | U2: 0 | V2: 90933333 | W2: 0 | X2: 90933333 | Y2: 90933333
A3: DGEN | B3: DGEN | C3: 2-1-2001-02-1111-10-DGEN-0083990-2.1.2.02.02.008. | D3: 73 | E3: SERVICIOS PRESTADOS A LAS EMPRESAS Y SERVICIOS DE PRODUCCION - OTROS SERVICIOS PROFESIONALES TECNICOS Y EMPRESARIALES N C P (73) | F3: 10 | G3: PORCENTAJE Y/O SOBRETASA AMBIENTAL MUNICIPIOS Y BOGOTÁ | H3: 27100 | I3: DGEN Dirección General | J3: VIGENCIAS FUTURAS - 176 DÍAS 80934 DGEN | K3: CSE - DE PRESTACIÓN DE SERVICIOS | L3: 2025CSE5 | M3: 26800170 | N3: 26600180 | O3: 46024 | P3: 176 DIAS | Q3: ADICIÓN 1 Y PRÓRROGA 1 AL CONTRATO No 5 DE 2025, CUYO OBJETO ES: PRESTAR SERVICIOS PROFESIONALES A LA DIRECCIÓN GENERAL DE LA CORPORACIÓN AUTÓNOMA REGIONAL DE CUNDINAMARCA, PARA BRINDAR ASESORÍA Y ACOMPAÑAMIENTO EN LA IMPLEMENTACIÓN DE ESTRATEGIAS QUE PERMITAN LA ARTICULACIÓN Y RELACIONAMIENTO CON EL SECTOR PRODUCTIVO, DIRIGIDO AL DESARROLLO DE LOS OBJETIVOS MISIONALES QUE PROMUEVAN LA PRODUCCIÓN SOSTENIBLE Y LA ECONOMÍA CIRCULAR DENTRO DE LA JURISDICCIÓN CAR. PROCESO AMPARADO CON VIGENCIAS FUTURAS SEGÚN RESOLUCIÓN DGEN No. 20257000522 DE 31 DE OCTUBRE DE 2025. | R3: 40436890 | S3: NIETO JARAMILLO MARIA NOHORA ELSY | T3: 72746667 | U3: 0 | V3: 72746667 | W3: 413334 | X3: 72333333 | Y3: 72333333
A4: DGEN | B4: DGEN | C4: 2-1-2001-02-1111-10-DGEN-0083990-2.1.2.02.02.008. | D4: 73 | E4: SERVICIOS PRESTADOS A LAS EMPRESAS Y SERVICIOS DE PRODUCCION - OTROS SERVICIOS PROFESIONALES TECNICOS Y EMPRESARIALES N C P (73) | F4: 10 | G4: PORCENTAJE Y/O SOBRETASA AMBIENTAL MUNICIPIOS Y BOGOTÁ | H4: 27100 | I4: DGEN Dirección General | J4: VIGENCIAS FUTURAS - 176 DÍAS 80930 DGEN | K4: CSE - DE PRESTACIÓN DE SERVICIOS | L4: 2025CSE1 | M4: 26800173 | N4: 26600183 | O4: 46024 | P4: 176 DIAS | Q4: ADICIÓN 1 Y PRÓRROGA 1 AL CONTRATO No 1 DE 2025, CUYO OBJETO ES: PRESTAR SERVICIOS PROFESIONALES A LA DIRECCIÓN GENERAL DE LA CORPORACIÓN AUTÓNOMA REGIONAL DE CUNDINAMARCA - CAR, EN LA ASESORÍA Y ACOMPAÑAMIENTO DE LA GESTIÓN A CARGO DEL DESPACHO. PROCESO AMPARADO CON VIGENCIAS FUTURAS SEGÚN RESOLUCIÓN DGEN No. 20257000522 DE 31 DE OCTUBRE DE 2025. | R4: 39705170 | S4: CARRILLO SILVA MARTHA MERCEDES | T4: 102666667 | U4: 0 | V4: 102666667 | W4: 0 | X4: 102666667 | Y4: 102666667
A5: DGEN | B5: DGEN | C5: 2-1-2001-02-1111-10-DGEN-0083990-2.1.2.02.02.008. | D5: 73 | E5: SERVICIOS PRESTADOS A LAS EMPRESAS Y SERVICIOS DE PRODUCCION - OTROS SERVICIOS PROFESIONALES TECNICOS Y EMPRESARIALES N C P (73) | F5: 10 | G5: PORCENTAJE Y/O SOBRETASA AMBIENTAL MUNICIPIOS Y BOGOTÁ | H5: 27100 | I5: DGEN Dirección General | J5: VIGENCIAS FUTURAS - 200 DIAS 81268 DGEN | K5: CSE - DE PRESTACIÓN DE SERVICIOS | L5: 2025CSE3855 | M5: 26800343 | N5: 26600353 | O5: 46024 | P5: 200 DIAS | Q5: Prestar servicios profesionales a la Dirección General de la Corporación Autónoma Regional de Cundinamarca, para asesorar las acciones jurídicas que se requieran en los asuntos estratégicos con las diversas instituciones publico privadas de la jurisdicción. Proceso amparado con vigencias futuras mediante Resolución DGEN No 20257000522 de 31 de octubre de 2025. | R5: 1069715770 | S5: GUERRERO LOPEZ MICHAEL EDUARDO | T5: 60000000 | U5: 0 | V5: 60000000 | W5: 0 | X5: 60000000 | Y5: 60000000
A6: DGEN | B6: DGEN | C6: 2-1-2001-02-1111-10-DGEN-0083990-2.1.2.02.02.008. | D6: 73 | E6: SERVICIOS PRESTADOS A LAS EMPRESAS Y SERVICIOS DE PRODUCCION - OTROS SERVICIOS PROFESIONALES TECNICOS Y EMPRESARIALES N C P (73) | F6: 10 | G6: PORCENTAJE Y/O SOBRETASA AMBIENTAL MUNICIPIOS Y BOGOTÁ | H6: 27100 | I6: DGEN Dirección General | J6: VIGENCIAS FUTURAS - 200 DIAS 81276 DGEN | K6: CSE - DE PRESTACIÓN DE SERVICIOS | L6: 2025CSE3907 | M6: 26800346 | N6: 26600356 | O6: 46024 | P6: 200 DIAS | Q6: Prestar servicios profesionales a la Dirección General de la Corporación Autónoma Regional de Cundinamarca - CAR, para asesorar las acciones dirigidas al fortalecimiento y consolidación de la gestión sancionatoria ambiental y la atención de asuntos de orden penal en coordinación con otras entidades del estado. Proceso amparado con vigencias futuras mediante Resolución DGEN No 20257000522 de 31 de octubre de 2025. | R6: 11429016 | S6: $HERNANDEZ BARBOSA LUIS ANTONIO | T6: 123600000 | U6: 0 | V6: 123600000 | W6: 0 | X6: 123600000 | Y6: 123600000
A7: DGEN | B7: DGEN | C7: 2-1-2001-02-1111-10-DGEN-0083990-2.1.2.02.02.008. | D7: 73 | E7: SERVICIOS PRESTADOS A LAS EMPRESAS Y SERVICIOS DE PRODUCCION - OTROS SERVICIOS PROFESIONALES TECNICOS Y EMPRESARIALES N C P (73) | F7: 10 | G7: PORCENTAJE Y/O SOBRETASA AMBIENTAL MUNICIPIOS Y BOGOTÁ | H7: 27100 | I7: DGEN Dirección General | J7: VIGENCIAS FUTURAS - 200 DIAS 81285 DGEN | K7: CSE - DE PRESTACIÓN DE SERVICIOS | L7: 2025CSE3840 | M7: 26800363 | N7: 26600373 | O7: 46024 | P7: 200 DIAS | Q7: Prestar servicios profesionales a la dirección general de la corporación autónoma regional de Cundinamarca, para apoyar las gestiones jurídicas y contractuales que se requieran en los diferentes cuerpos colegiados en los que deba participar el despacho de acuerdo con sus funciones. Proceso amparado con vigencias futuras mediante RESOLUCIÓN DGEN No. 20257000522 de 31 de octubre de 2025. | R7: 1020836073 | S7: ROZO ROZO DANIEL FELIPE | T7: 28800000 | U7: 0 | V7: 28800000 | W7: 0 | X7: 28800000 | Y7: 28800000
A8: DGEN | B8: DGEN | C8: 2-1-2001-02-1111-10-DGEN-0083990-2.1.2.02.02.008. | D8: 73 | E8: SERVICIOS PRESTADOS A LAS EMPRESAS Y SERVICIOS DE PRODUCCION - OTROS SERVICIOS PROFESIONALES TECNICOS Y EMPRESARIALES N C P (73) | F8: 10 | G8: PORCENTAJE Y/O SOBRETASA AMBIENTAL MUNICIPIOS Y BOGOTÁ | H8: 27100 | I8: DGEN Dirección General | J8: VIGENCIAS FUTURAS - 214 DIAS 80449 DGEN | K8: CSE - DE PRESTACIÓN DE SERVICIOS | L8: 2025CSE3591 | M8: 26800542 | N8: 26600552 | O8: 46024 | P8: 214 DIAS | Q8: Prestar servicios profesionales a la Dirección General de la Corporación Autónoma Regional de Cundinamarca, para brindar asesoría y acompañamiento en el fortalecimiento de proyectos ambientales con enfoque de género. Proceso amparado con vigencias futuras mediante Resolución DGEN No 20257000522 de 31 de octubre de 2025. | R8: 40039414 | S8: RODRIGUEZ CONTRERAS LUCEIDY YASMITH | T8: 48000000 | U8: 0 | V8: 48000000 | W8: 0 | X8: 48000000 | Y8: 48000000
A9: DGEN | B9: DGEN | C9: 2-1-2001-02-1111-10-DGEN-0083990-2.1.2.02.02.008. | D9: 73 | E9: SERVICIOS PRESTADOS A LAS EMPRESAS Y SERVICIOS DE PRODUCCION - OTROS SERVICIOS PROFESIONALES TECNICOS Y EMPRESARIALES N C P (73) | F9: 10 | G9: PORCENTAJE Y/O SOBRETASA AMBIENTAL MUNICIPIOS Y BOGOTÁ | H9: 27100 | I9: DGEN Dirección General | J9: 345 DIAS 84403 DGEN | K9: CPS - DE SERVICIOS PERSONALES | L9: 2026CPS40 | M9: 26801576 | N9: 26601565 | O9: 46031.901 | P9: 345 DIAS | Q9: Prestar servicios profesionales a la Dirección General de la Corporación Autónoma Regional de Cundinamarca, para brindar asesoría en la revisión, análisis y/o seguimiento a los pronunciamientos de las altas cortes en materia ambiental que involucren a la Entidad. | R9: 21190165 | S9: VELASQUEZ SALCEDO SANDRA ARABELLA | T9: 178250000 | U9: 0 | V9: 178250000 | W9: 45983333 | X9: 132266667 | Y9: 132266667
A10: DGEN | B10: DGEN | C10: 2-1-2001-02-1111-10-DGEN-0083990-2.1.2.02.02.008. | D10: 73 | E10: SERVICIOS PRESTADOS A LAS EMPRESAS Y SERVICIOS DE PRODUCCION - OTROS SERVICIOS PROFESIONALES TECNICOS Y EMPRESARIALES N C P (73) | F10: 10 | G10: PORCENTAJE Y/O SOBRETASA AMBIENTAL MUNICIPIOS Y BOGOTÁ | H10: 27100 | I10: DGEN Dirección General | J10: 345 DIAS 86192 DGEN | K10: CPS - DE SERVICIOS PERSONALES | L10: 2026CPS84 | M10: 26801659 | N10: 26601565 | O10: 46035.914 | P10: 345 DIAS | Q10: Prestar servicios profesionales a la Dirección General de la Corporación Autónoma Regional de Cundinamarca, para asesorar y acompañar las visitas y auditorias que reciba la entidad por parte de los órganos de control, así como el seguimiento a los pronunciamientos del Congreso de la República en temas de competencia de la CAR. | R10: 86069388 | S10: RUIZ RODRIGUEZ JULIAN MAURICIO | T10: 178250000 | U10: 0 | V10: 178250000 | W10: 45983333 | X10: 132266667 | Y10: 132266667
A11: DGEN | B11: DGEN | C11: 2-1-2001-02-1111-10-DGEN-0083990-2.1.2.02.02.008. | D11: 73 | E11: SERVICIOS PRESTADOS A LAS EMPRESAS Y SERVICIOS DE PRODUCCION - OTROS SERVICIOS PROFESIONALES TECNICOS Y EMPRESARIALES N C P (73) | F11: 10 | G11: PORCENTAJE Y/O SOBRETASA AMBIENTAL MUNICIPIOS Y BOGOTÁ | H11: 27100 | I11: DGEN Dirección General | J11: 345 DIAS 84445 DGEN | K11: CPS - DE SERVICIOS PERSONALES | L11: 2026CPS79 | M11: 26801754 | N11: 26601565 | O11: 46036.536 | P11: 345 DIAS | Q11: Prestar servicios profesionales a la Dirección General de la Corporación Autónoma Regional de Cundinamarca, para apoyar la revisión desde el punto de vista jurídico, de los actos administrativos relacionados con el ejercicio de la autoridad ambiental, así como aquellos de competencia del despacho. | R11: 1136888412 | S11: FRANCO CASTRO PAULA JIMENA | T11: 88492500 | U11: 0 | V11: 88492500 | W11: 30523500 | X11: 57969000 | Y11: 57969000
A12: DGEN | B12: DGEN | C12: 2-1-2001-02-1111-10-DGEN-0083990-2.1.2.02.02.008. | D12: 73 | E12: SERVICIOS PRESTADOS A LAS EMPRESAS Y SERVICIOS DE PRODUCCION - OTROS SERVICIOS PROFESIONALES TECNICOS Y EMPRESARIALES N C P (73) | F12: 10 | G12: PORCENTAJE Y/O SOBRETASA AMBIENTAL MUNICIPIOS Y BOGOTÁ | H12: 27100 | I12: DGEN Dirección General | J12: 345 DIAS 86089 DGEN | K12: CPS - DE SERVICIOS PERSONALES | L12: 2026CPS80 | M12: 26801765 | N12: 26601565 | O12: 46036.644 | P12: 345 DIAS | Q12: Prestar servicios profesionales a la Dirección General de la Corporación Autónoma Regional de Cundinamarca, para apoyar las acciones de seguimiento de informes que permitan el cumplimiento del objeto y funciones asignadas al Despacho | R12: 1003826910 | S12: GARNICA CARRION DEISY TATIANA | T12: 80500000 | U12: 0 | V12: 80500000 | W12: 20766667 | X12: 59733333 | Y12: 59733333
A13: DGEN | B13: DGEN | C13: 2-1-2001-02-1111-10-DGEN-0083990-2.1.2.02.02.008. | D13: 73 | E13: SERVICIOS PRESTADOS A LAS EMPRESAS Y SERVICIOS DE PRODUCCION - OTROS SERVICIOS PROFESIONALES TECNICOS Y EMPRESARIALES N C P (73) | F13: 10 | G13: PORCENTAJE Y/O SOBRETASA AMBIENTAL MUNICIPIOS Y BOGOTÁ | H13: 27100 | I13: DGEN Dirección General | J13: 180 DIAS 86964 DGEN | K13: CPS - DE SERVICIOS PERSONALES | L13: 2026CPS964 | M13: 26802359 | N13: 26601565 | O13: 46045.714 | P13: 180 DIAS | Q13: Prestar servicios profesionales a la Dirección General de la Corporación Autónoma Regional de Cundinamarca, para brindar asesoría frente a las actuaciones necesarias relacionadas con pronunciamientos técnicos proferidos por las subdirecciones en cumplimiento de las funciones de la Entidad. | R13: 7218639 | S13: RINCON VARGAS JOSE MIGUEL | T13: 93000000 | U13: 0 | V13: 93000000 | W13: 0 | X13: 93000000 | Y13: 93000000
... A20: DGEN | B20: DGEN | C20: 2-1-2001-02-1111-10-DGEN-0083990-2.1.2.02.02.008. | D20: 73 | E20: SERVICIOS PRESTADOS A LAS EMPRESAS Y SERVICIOS DE PRODUCCION - OTROS SERVICIOS PROFESIONALES TECNICOS Y EMPRESARIALES N C P (73) | F20: 10 | G20: PORCENTAJE Y/O SOBRETASA AMBIENTAL MUNICIPIOS Y BOGOTÁ | H20: 10050 | I20: PORCENTAJE AMBIENTAL | J20: 150 DIAS 90605 DGEN | K20: CPS - DE SERVICIOS PERSONALES | L20: 2026CPS3187 | M20: 26805354 | N20: 26601950 | O20: 46231.476 | P20: 150 DIAS | Q20: Prestar servicios profesionales a la Dirección General de la Corporación Autónoma Regional de Cundinamarca, para brindar asesoría técnica en el análisis, seguimiento y evaluación de los pronunciamientos técnicos emitidos por las subdirecciones, con el fin de apoyar la toma de decisiones y el cumplimiento de las funciones institucionales. | R20: 7218639 | S20: RINCON VARGAS JOSE MIGUEL | T20: 1100000 | U20: 0 | V20: 1100000 | W20: 1100000 | X20: 0 | Y20: 0
A21: DGEN | B21: DGEN | C21: 2-1-2001-02-1111-10-DGEN-0083990-2.1.2.02.02.008. | D21: 73 | E21: SERVICIOS PRESTADOS A LAS EMPRESAS Y SERVICIOS DE PRODUCCION - OTROS SERVICIOS PROFESIONALES TECNICOS Y EMPRESARIALES N C P (73) | F21: 10 | G21: PORCENTAJE Y/O SOBRETASA AMBIENTAL MUNICIPIOS Y BOGOTÁ | H21: 10050 | I21: PORCENTAJE AMBIENTAL | J21: 119 DIAS 91910 DGEN | K21: CPS - DE SERVICIOS PERSONALES | L21: 2026CPS4051 | M21: 26806448 | N21: 26601950 | O21: 46267.545 | P21: 119 DIAS | Q21: Prestar servicios profesionales a la Dirección General de la Corporación Autónoma Regional de Cundinamarca – CAR, para brindar asesoría especializada en el análisis, gestión y acompañamiento de procesos y actuaciones jurídicas que se requieran, en coordinación con las dependencias competentes de la Entidad. | R21: 901844400 | S21: $ INGESCONS I.C. S.A.S. | T21: 40000000 | U21: 0 | V21: 40000000 | W21: 40000000 | X21: 0
A22: DGEN | B22: DGEN | C22: 2-1-2001-02-1111-70-DGEN-0083990-2.1.2.02.02.008. | D22: 932 | E22: SERVICIOS PRESTADOS A LAS EMPRESAS Y SERVICIOS DE PRODUCCION - OTROS SERVICIOS PROFESIONALES TECNICOS Y EMPRESARIALES N C P (932) | F22: 70 | G22: R.B-RENTAS SIN DESTINACIÓN ESPECÍFICA - RECURSOS DEL BALANCE | H22: 10050 | I22: PORCENTAJE AMBIENTAL | J22: 175 DIAS 89199 DGEN | K22: CPS - DE SERVICIOS PERSONALES | L22: 2026CPS1951 | M22: 26804106 | N22: 26601950 | O22: 46209.856 | P22: 175 DIAS | Q22: Prestar servicios profesionales a la Dirección General de la Corporación Autónoma Regional de Cundinamarca – CAR para brindar asesoría en el seguimiento y fortalecimiento de la gestión sancionatoria ambiental y en la articulación interinstitucional para la atención de los asuntos de naturaleza penal relacionados con el ejercicio de la autoridad ambiental. | R22: 11429016 | S22: $HERNANDEZ BARBOSA LUIS ANTONIO | T22: 123600000 | U22: 0 | V22: 123600000 | W22: 87206667 | X22: 36393333 | Y22: 36393333
