Workbook
Name Adm: PRESUPUESTO!$F$113
Name Imprev: PRESUPUESTO!$F$114
Name IvaSUtl: PRESUPUESTO!$F$117
Name SbtPpto: PRESUPUESTO!$G$84
Name TtlCD: PRESUPUESTO!$G$112
Name Utilidad: PRESUPUESTO!$F$115

Sheet PRESUPUESTO
A1: 2015.1 | B1: 2024.2 | E1: www.sagut.com | F1: ="Duración Obra " & G142 & " Días" -> Duración Obra 15 Días | G1: =G135 -> 149484216 | H1: Unit CD | I1: Unit CT | J1: Decimales | K1: Durac | L1: CT | M1: CD | N1: CASA | O1: =B2 -> CD | P1: DOBLECLIC AQUÍ PARA OCULTAR | AF1: C1 | AG1: C2 | AH1: C3 | AI1: C4 | AJ1: C5 | AK1: C6 | AR1: Valor Final del Contrato $ | AS1: =AS135 -> 39092616 | AY1: Inicio | AZ1: Precios Base | CE1: =IF($A$2="CD",CG1,IF($A$2="CT",CH1,"Correg CT")) -> 0 | CF1: =ROUND(CD1 * CE1,$J$2) -> 0 | CI1: 1 | CK1: =ROUND(CH1 * CD1,$J$2) -> 0 | CL1: =ROUND(CG1 * CD1,$J$2) -> 0 | CM1: =CF1*$N$2 -> 0 | CS1: =CO1+CP1+CQ1+CR1 -> 0 | DF1: ="CAP. " &#REF! & ": " &#REF! -> #REF! | DG1: =ROW(#REF!) -> #REF! | DN1: =CD1 -> 0 | DP1: =DN1+DO1 -> 0 | DQ1: =CE1 -> 0 | DR1: =ROUND(DP1 * DQ1,$J$2) -> 0
A2: CD | B2: =IF($A$2="CD","CD",IF($A$2="CT","CT","")) -> CD | G2: =IF(#REF!=1,"CHEQ. INSUMOS","Insumos ok.") -> #REF! | H2: 2 | I2: 3 | J2: 0 | N2: 1 | AO2: Dobleclic para ocultar Cantidades Definitivas | AY2: Fin | BZ2: A | CA2: B | CB2: C | CC2: D | CD2: E | CE2: F | CF2: G | CG2: H | CH2: I | CI2: J | CJ2: K | CK2: L | CL2: M | CM2: N | CN2: O | CO2: P | CP2: Q | CQ2: R | CR2: S | CS2: T | CT2: U | CU2: V | CV2: W | CW2: X | CX2: Y | CY2: Z | CZ2: AA | DA2: AB | DB2: AC | DC2: AD | DD2: AE | DE2: AF | DF2: AG | DG2: AH | DH2: AI | DI2: AJ | DJ2: AK | DK2: AL | DL2: AM | DM2: AN | DN2: AO | DO2: AP | DP2: AQ | DQ2: AR | DR2: AS | DS2: AT | DT2: AU
AP3: =SUM(AP8:AP132) -> #REF!
AG4: ="CAP. " & $B$4 & ": " & $C$4 -> CAP. : | AH4: =ROW($B$4) -> 4 | AI4: ="SUBCAP. " & $B$4 & ": " & $C$4 -> SUBCAP. : | AJ4: =ROW($B$4) -> 4
B7: FIRMA CONSTRUCTORA | P7: ITEMS POR COMPONENTES | AO7: CANTIDADES DEFINITIVAS DE OBRA
B8: PRESUPUESTO DE OBRA | P8: Otros | Q8: Equipo | R8: M. de Obra | S8: Materiales | T8: Unit CD | V8: 1 | AO8: PRESUP. | AP8: MODIF. | AQ8: CANT. DEFINIT. | AR8: VR.UNIT. | AS8: VR. DEFINIT.
B9: OBJETO: | C9: MEJORAMIENTO DE ACUEDUCTOS RURALES DE EL DOVIO VALLE | F9: PROCESO No.
F10: FECHA: | G10: =TODAY() -> 46280
A12: ENCAB | B12: ITEM | C12: DESCRIPCION | D12: UND | E12: CANT. | F12: VR. UNIT | G12: =IF(N2>1,"VR. / " &N1,"VR.TOTAL") -> VR.TOTAL | H12: C.D. | I12: C.T. | K12: DURAC | L12: VR. TOTAL | M12: VR. C.D. | N12: ="Vr. " & N2 & " " &N1& "S" -> Vr. 1 CASAS | P12: Otros | Q12: Equipo | R12: M. de Obra | S12: Materiales | T12: Unit CD | V12: 1 | AO12: PRESUP. | AP12: =[1]ACTAS!L14 -> #REF! | AQ12: CANT. DEFINIT. | AR12: VR.UNIT. | AS12: VR. DEFINIT.
A14: CAP | B14: 1 | C14: ACUEDUCTO VEREDA LOS ZAINOS | G14: =SUM(G15:G28) -> 41477508 | N14: =SUM(N15:N28) -> 11828789 | U14: =IF(G14<>"",N14-G14*$N$2,0) -> -29648719 | V14: . | AG14: ="CAP. " & $B$14 & ": " & $C$14 -> CAP. 1: ACUEDUCTO VEREDA LOS ZAINOS | AH14: =ROW($B$14) -> 14 | AS14: =SUM(AS15:AS28) -> 11828789
A15: COD | AG15: ="CAP. " & $B$14 & ": " & $C$14 -> CAP. 1: ACUEDUCTO VEREDA LOS ZAINOS | AH15: =ROW($B$14) -> 14
A16: 100113 | C16: LOCALIZACION-REPLANTEO ACUEDUCTO-ALCANTARILLADO | D16: M | E16: =+'MEMORIA DE CANTIDADES'!L37 -> 198 | F16: 2707 | G16: =ROUND(E16 * F16,$J$2) -> 535986 | H16: =#REF! -> #REF! | I16: =#REF! -> #REF! | J16: 1 | K16: =ROUNDUP(#REF!/$J$16,0) -> #REF! | L16: =ROUND(I16 * E16,$J$2) -> #REF! | M16: =ROUND(H16 * E16,$J$2) -> #REF! | N16: =G16*$N$2 -> 535986 | P16: =ROUND(#REF!*E16,0) -> #REF! | Q16: =ROUND(#REF!*E16,0) -> #REF! | R16: =ROUND(#REF!*E16,0) -> #REF! | S16: =ROUND(#REF!*E16,0) -> #REF! | T16: =P16+Q16+R16+S16 -> #REF! | AG16: ="CAP. " & $B$14 & ": " & $C$14 -> CAP. 1: ACUEDUCTO VEREDA LOS ZAINOS | AH16: =ROW($B$14) -> 14 | AO16: =E16 -> 198 | AQ16: =AO16+AP16 -> 198 | AR16: =F16 -> 2707 | AS16: =ROUND(AQ16 * AR16,$J$2) -> 535986
C17: DESMONTE Y LIMPIEZA | D17: M2 | E17: =+'MEMORIA DE CANTIDADES'!L64 -> 158.4 | F17: 7595 | G17: =ROUND(E17 * F17,$J$2) -> 1203048
A18: 100314 | C18: RETIRO TUBERIA EXISTENTE 0" A 12" | D18: M | E18: =+'MEMORIA DE CANTIDADES'!L89 -> 198 | F18: 13067 | G18: =ROUND(E18 * F18,$J$2) -> 2587266 | H18: =#REF! -> #REF! | I18: =#REF! -> #REF! | J18: 1 | K18: =ROUNDUP(#REF!/$J$18,0) -> #REF! | L18: =ROUND(I18 * E18,$J$2) -> #REF! | M18: =ROUND(H18 * E18,$J$2) -> #REF! | N18: =G18*$N$2 -> 2587266 | P18: =ROUND(#REF!*E18,0) -> #REF! | Q18: =ROUND(#REF!*E18,0) -> #REF! | R18: =ROUND(#REF!*E18,0) -> #REF! | T18: =P18+Q18+R18+S18 -> #REF! | AG18: ="CAP. " & $B$14 & ": " & $C$14 -> CAP. 1: ACUEDUCTO VEREDA LOS ZAINOS | AH18: =ROW($B$14) -> 14 | AO18: =E18 -> 198 | AQ18: =AO18+AP18 -> 198 | AR18: =F18 -> 13067 | AS18: =ROUND(AQ18 * AR18,$J$2) -> 2587266
C19: DESVIACION TEMPORAL CAUCE ANCHOS 1 A 3 M | D19: M | E19: =+'MEMORIA DE CANTIDADES'!L116 -> 15 | F19: 294134 | G19: =ROUND(E19 * F19,$J$2) -> 4412010
A20: 100624 | C20: EXCAVACION TIERRA A MANO | D20: M3 | E20: =+'MEMORIA DE CANTIDADES'!L116 -> 15 | F20: 27209 | G20: =ROUND(E20 * F20,$J$2) -> 408135 | H20: =#REF! -> #REF! | I20: =#REF! -> #REF! | J20: 1 | K20: =ROUNDUP(#REF!/$J$20,0) -> #REF! | L20: =ROUND(I20 * E20,$J$2) -> #REF! | M20: =ROUND(H20 * E20,$J$2) -> #REF! | N20: =G20*$N$2 -> 408135 | P20: =ROUND(#REF!*E20,0) -> #REF! | Q20: =ROUND(#REF!*E20,0) -> #REF! | R20: =ROUND(#REF!*E20,0) -> #REF! | S20: =ROUND(#REF!*E20,0) -> #REF! | T20: =P20+Q20+R20+S20 -> #REF! | AG20: ="CAP. " & $B$14 & ": " & $C$14 -> CAP. 1: ACUEDUCTO VEREDA LOS ZAINOS | AH20: =ROW($B$14) -> 14 | AO20: =E20 -> 15 | AQ20: =AO20+AP20 -> 15 | AR20: =F20 -> 27209 | AS20: =ROUND(AQ20 * AR20,$J$2) -> 408135
A21: 100628 | C21: TANQUE ENTERRADO CONCRETO 3000 PSI | D21: M3 | E21: =+'MEMORIA DE CANTIDADES'!L170 -> 5.4 | F21: 1536556 | G21: =ROUND(E21 * F21,$J$2) -> 8297402 | H21: =#REF! -> #REF! | I21: =#REF! -> #REF! | J21: 1 | K21: =ROUNDUP(#REF!/$J$21,0) -> #REF! | L21: =ROUND(I21 * E21,$J$2) -> #REF! | M21: =ROUND(H21 * E21,$J$2) -> #REF! | N21: =G21*$N$2 -> 8297402 | P21: =ROUND(#REF!*E21,0) -> #REF! | Q21: =ROUND(#REF!*E21,0) -> #REF! | R21: =ROUND(#REF!*E21,0) -> #REF! | T21: =P21+Q21+R21+S21 -> #REF! | AG21: ="CAP. " & $B$14 & ": " & $C$14 -> CAP. 1: ACUEDUCTO VEREDA LOS ZAINOS | AH21: =ROW($B$14) -> 14 | AO21: =E21 -> 5.4 | AQ21: =AO21+AP21 -> 5.4 | AR21: =F21 -> 1536556 | AS21: =ROUND(AQ21 * AR21,$J$2) -> 8297402
C22: ACERO REFUERZO FLEJADO 60000 PSI 420Mpa | D22: KG | E22: =+'MEMORIA DE CANTIDADES'!L199 -> 239.04 | F22: 6098 | G22: =ROUND(E22 * F22,$J$2) -> 1457666
C23: FLEJADO HIERRO 60000 PSI 420 Mpa | D23: KG | E23: =+'MEMORIA DE CANTIDADES'!L226 -> 239.04 | F23: 1190 | G23: =ROUND(E23 * F23,$J$2) -> 284458
C24: TUBERIA PVC 3" | D24: M | E24: =+'MEMORIA DE CANTIDADES'!L257 -> 198 | F24: 62736 | G24: =ROUND(E24 * F24,$J$2) -> 12421728
C25: ANCLAJE-SOPORTE TUBERIA ANG 1 1/2"X1/8" | D25: UND | E25: =+'MEMORIA DE CANTIDADES'!L286 -> 99 | F25: 55955 | G25: =ROUND(E25 * F25,$J$2) -> 5539545
C26: ACARREO MATERIALES-ESCOMBROS 10 PERS | D26: H | E26: =+'MEMORIA DE CANTIDADES'!L315 -> 8 | F26: 353783 | G26: =ROUND(E26 * F26,$J$2) -> 2830264
C27: MANTENIMIENTO DE TANQUE DE ALMACENAMIENTO Y CASETA DE INSUMOS | D27: GBL | E27: =+'MEMORIA DE CANTIDADES'!L342 -> 1 | F27: 1500000 | G27: =ROUND(E27 * F27,$J$2) -> 1500000
AG28: ="CAP. " & $B$14 & ": " & $C$14 -> CAP. 1: ACUEDUCTO VEREDA LOS ZAINOS | AH28: =ROW($B$14) -> 14
A29: STCAP | F29: =IF(C14="ESCRIBA AQUÍ EL NOMBRE DEL CAPITULO","SUBTOTAL","SUBTOTAL CAP. "&B14&" "&C14&":") -> SUBTOTAL CAP. 1 ACUEDUCTO VEREDA LOS ZAINOS: | G29: =SUM(G15:G28) -> 41477508 | N29: =SUM(N15:N28) -> 11828789 | P29: =SUM(P14:P28) -> #REF! | Q29: =SUM(Q14:Q28) -> #REF! | R29: =SUM(R14:R28) -> #REF! | S29: =SUM(S14:S28) -> #REF! | T29: =SUM(T14:T28) -> #REF! | AG29: ="CAP. " & $B$14 & ": " & $C$14 -> CAP. 1: ACUEDUCTO VEREDA LOS ZAINOS | AH29: =ROW($B$14) -> 14 | AS29: =SUM(AS15:AS28) -> 11828789
A31: CAP | B31: 2 | C31: ACUEDUCTO VEREDA EL CRUCERO | G31: =SUM(G32:G41) -> 27919030 | N31: =SUM(N32:N41) -> 17798052 | U31: =IF(G31<>"",N31-G31*$N$2,0) -> -10120978 | V31: . | AG31: ="CAP. " & $B$31 & ": " & $C$31 -> CAP. 2: ACUEDUCTO VEREDA EL CRUCERO | AH31: =ROW($B$31) -> 31 | AS31: =SUM(AS32:AS41) -> 17798052
A32: COD | AG32: ="CAP. " & $B$31 & ": " & $C$31 -> CAP. 2: ACUEDUCTO VEREDA EL CRUCERO | AH32: =ROW($B$31) -> 31
A33: 140218 | C33: LOCALIZACION-REPLANTEO ACUEDUCTO-ALCANTARILLADO | D33: M | E33: =+'MEMORIA DE CANTIDADES'!L369 -> 400 | F33: 2707 | G33: =ROUND(E33 * F33,$J$2) -> 1082800 | H33: =#REF! -> #REF! | I33: =#REF! -> #REF! | J33: 1 | K33: =ROUNDUP(#REF!/$J$33,0) -> #REF! | L33: =ROUND(I33 * E33,$J$2) -> #REF! | M33: =ROUND(H33 * E33,$J$2) -> #REF! | N33: =G33*$N$2 -> 1082800 | P33: =ROUND(#REF!*E33,0) -> #REF! | Q33: =ROUND(#REF!*E33,0) -> #REF! | R33: =ROUND(#REF!*E33,0) -> #REF! | S33: =ROUND(#REF!*E33,0) -> #REF! | T33: =P33+Q33+R33+S33 -> #REF! | AG33: ="CAP. " & $B$31 & ": " & $C$31 -> CAP. 2: ACUEDUCTO VEREDA EL CRUCERO | AH33: =ROW($B$31) -> 31 | AO33: =E33 -> 400 | AQ33: =AO33+AP33 -> 400 | AR33: =F33 -> 2707 | AS33: =ROUND(AQ33 * AR33,$J$2) -> 1082800
A34: 190109 | C34: DEMOLICION MURO CONCRETO E=10CM | D34: M2 | E34: =+'MEMORIA DE CANTIDADES'!L396 -> 8 | F34: 49256 | G34: =ROUND(E34 * F34,$J$2) -> 394048 | H34: =#REF! -> #REF! | I34: =#REF! -> #REF! | J34: 1 | K34: =ROUNDUP(#REF!/$J$34,0) -> #REF! | L34: =ROUND(I34 * E34,$J$2) -> #REF! | M34: =ROUND(H34 * E34,$J$2) -> #REF! | N34: =G34*$N$2 -> 394048 | P34: =ROUND(#REF!*E34,0) -> #REF! | Q34: =ROUND(#REF!*E34,0) -> #REF! | R34: =ROUND(#REF!*E34,0) -> #REF! | S34: =ROUND(#REF!*E34,0) -> #REF! | T34: =P34+Q34+R34+S34 -> #REF! | AG34: ="CAP. " & $B$31 & ": " & $C$31 -> CAP. 2: ACUEDUCTO VEREDA EL CRUCERO | AH34: =ROW($B$31) -> 31 | AO34: =E34 -> 8 | AQ34: =AO34+AP34 -> 8 | AR34: =F34 -> 49256 | AS34: =ROUND(AQ34 * AR34,$J$2) -> 394048
A35: 290110 | C35: TANQUE ENTERRADO CONCRETO 3000 PSI | D35: M3 | E35: =+'MEMORIA DE CANTIDADES'!L423 -> 9.4 | F35: 1536556 | G35: =ROUND(E35 * F35,$J$2) -> 14443626 | H35: =#REF! -> #REF! | I35: =#REF! -> #REF! | J35: 1 | K35: =ROUNDUP(#REF!/$J$35,0) -> #REF! | L35: =ROUND(I35 * E35,$J$2) -> #REF! | M35: =ROUND(H35 * E35,$J$2) -> #REF! | N35: =G35*$N$2 -> 14443626 | P35: =ROUND(#REF!*E35,0) -> #REF! | Q35: =ROUND(#REF!*E35,0) -> #REF! | R35: =ROUND(#REF!*E35,0) -> #REF! | S35: =ROUND(#REF!*E35,0) -> #REF! | T35: =P35+Q35+R35+S35 -> #REF! | AG35: ="CAP. " & $B$31 & ": " & $C$31 -> CAP. 2: ACUEDUCTO VEREDA EL CRUCERO | AH35: =ROW($B$31) -> 31 | AO35: =E35 -> 9.4 | AQ35: =AO35+AP35 -> 9.4 | AR35: =F35 -> 1536556 | AS35: =ROUND(AQ35 * AR35,$J$2) -> 14443626
A36: 290304 | C36: FILTRO BRONCE EN Y 4" | D36: UND | E36: =+'MEMORIA DE CANTIDADES'!L450 -> 1 | F36: 1877578 | G36: =ROUND(E36 * F36,$J$2) -> 1877578 | H36: =#REF! -> #REF! | I36: =#REF! -> #REF! | J36: 1 | K36: =ROUNDUP(#REF!/$J$36,0) -> #REF! | L36: =ROUND(I36 * E36,$J$2) -> #REF! | M36: =ROUND(H36 * E36,$J$2) -> #REF! | N36: =G36*$N$2 -> 1877578 | P36: =ROUND(#REF!*E36,0) -> #REF! | Q36: =ROUND(#REF!*E36,0) -> #REF! | R36: =ROUND(#REF!*E36,0) -> #REF! | S36: =ROUND(#REF!*E36,0) -> #REF! | T36: =P36+Q36+R36+S36 -> #REF! | AG36: ="CAP. " & $B$31 & ": " & $C$31 -> CAP. 2: ACUEDUCTO VEREDA EL CRUCERO | AH36: =ROW($B$31) -> 31 | AO36: =E36 -> 1 | AQ36: =AO36+AP36 -> 1 | AR36: =F36 -> 1877578 | AS36: =ROUND(AQ36 * AR36,$J$2) -> 1877578
C37: VALVULA ALIVIO 1 1/2" | D37: UND | E37: =+'MEMORIA DE CANTIDADES'!L477 -> 3 | F37: 870128 | G37: =ROUND(E37 * F37,$J$2) -> 2610384
C38: RETIRO TUBERIA EXISTENTE 0" A 12" | D38: M | E38: =+'MEMORIA DE CANTIDADES'!L504 -> 400 | F38: 13067 | G38: =ROUND(E38 * F38,$J$2) -> 5226800
C39: TUBERIA PVC 1 RDE 21 - 200 PSI | D39: M | E39: =+'MEMORIA DE CANTIDADES'!L531 -> 180 | F39: 12631 | G39: =ROUND(E39 * F39,$J$2) -> 2273580
C40: TUBERIA PVC ,3/4" | D40: M | E40: =+'MEMORIA DE CANTIDADES'!L558 -> 1 | F40: 10214 | G40: =ROUND(E40 * F40,$J$2) -> 10214
G41: =ROUND(E41 * F41,$J$2) -> 0
A42: STCAP | F42: =IF(C31="ESCRIBA AQUÍ EL NOMBRE DEL CAPITULO","SUBTOTAL","SUBTOTAL CAP. "&B31&" "&C31&":") -> SUBTOTAL CAP. 2 ACUEDUCTO VEREDA EL CRUCERO: | G42: =SUM(G32:G41) -> 27919030 | N42: =SUM(N32:N41) -> 17798052 | P42: =SUM(P31:P41) -> #REF! | Q42: =SUM(Q31:Q41) -> #REF! | R42: =SUM(R31:R41) -> #REF! | S42: =SUM(S31:S41) -> #REF! | T42: =SUM(T31:T41) -> #REF! | AG42: ="CAP. " & $B$31 & ": " & $C$31 -> CAP. 2: ACUEDUCTO VEREDA EL CRUCERO | AH42: =ROW($B$31) -> 31 | AS42: =SUM(AS32:AS41) -> 17798052
B44: 3 | C44: ACUEDUCTO EL CASTILLO | G44: =SUM(G45:G48) -> 11507238
C45: MANTENIMIENTO CASETA DE INSUMOS INCLUYE CAMBIO DE CUBIERTA | D45: GBL | E45: =+'MEMORIA DE CANTIDADES'!L558 -> 1 | F45: 4500000 | G45: =ROUND(E45 * F45,$J$2) -> 4500000
C46: TAPA CAJA MARCO ANGULO 4M X 1,5-2,0M | D46: UND | E46: =+'MEMORIA DE CANTIDADES'!L585 -> 3 | F46: 1856498 | G46: =ROUND(E46 * F46,$J$2) -> 5569494
...

Sheet MEMORIA DE CANTIDADES
A16: iniEncab | B16: =PRESUPUESTO!B7 -> FIRMA CONSTRUCTORA | W16: MEMORIA DE CANTIDADES DE OBRA
B18: OBRA:
A19: FinEncab
A23: emp | C23: MEMORIA DE CALCULO DE CANTIDADES DE OBRA | AY23: .
A24: cap | C24: =PRESUPUESTO!AG16 -> CAP. 1: ACUEDUCTO VEREDA LOS ZAINOS | J24: =+PRESUPUESTO!C16 -> LOCALIZACION-REPLANTEO ACUEDUCTO-ALCANTARILLADO | AI24: UNIDAD: | AP24: =PRESUPUESTO!$D$16 -> M
A25: Item 100113 | AI25: CANTIDAD: | AP25: =L37 -> 198
A26: actas
A27: dimen | C27: AREA O LUGAR | E27: DIMENSIONES | I27: V. PARCIAL | J27: N° DE ELEMENTOS | K27: UNIDAD | L27: TOTAL
E28: LONGITUD | F28: ANCHO | G28: ALTO | H28: PESO
A29: grp
A31: fila | C31: LOCALIZACION-REPLANTEO ACUEDUCTO-ALCANTARILLADO VEREDA LOS ZAINOS DESDE BOCATOMA A DESARENADOR | E31: 19 | I31: =+E31 -> 19 | J31: 1 | K31: M | L31: =+I31*J31 -> 19
C33: LOCALIZACION-REPLANTEO ACUEDUCTO-ALCANTARILLADO VEREDA LOS ZAINOS DESDE DESARENADOR A TANQUE DE ALMACENAMIENTO | E33: 29 | I33: =+E33 -> 29 | J33: 1 | K33: M | L33: =+I33*J33 -> 29
C35: LOCALIZACION-REPLANTEO ACUEDUCTO-ALCANTARILLADO VEREDA LOS ZAINOS DESDE TANQUE DE ALMACENAMIENTO HASTA PUNTO REQUERIDO | E35: 150 | I35: =+E35 -> 150 | J35: 1 | K35: M | L35: =+I35*J35 -> 150
A37: cant | G37: Aproxima Resultado a : | H37: 2 | I37: Decimales | K37: TOTAL | L37: =ROUND(SUM(L29:L36),H37) -> 198
C40: Observaciones:
AH42: ="Item " & E25 & " Página 1 de 1 " -> Item Página 1 de 1
D47: CONTRATISTA | R47: Vo.Bo. INTERVENTOR
A48: term
C50: MEMORIA DE CALCULO DE CANTIDADES DE OBRA
C51: =+C24 -> CAP. 1: ACUEDUCTO VEREDA LOS ZAINOS | J51: =+PRESUPUESTO!C17 -> DESMONTE Y LIMPIEZA | AI51: UNIDAD: | AP51: =[2]PRESUPUESTO!$D$18 -> M2
AI52: CANTIDAD: | AP52: =L64 -> 158.4
C54: AREA O LUGAR | E54: DIMENSIONES | I54: V. PARCIAL | J54: N° DE ELEMENTOS | K54: UNIDAD | L54: TOTAL
E55: LONGITUD | F55: ANCHO | G55: ALTO | H55: PESO
C58: DESMONTE Y LIMPIEZA ZONA A INTERVENIR | E58: =+L37 -> 198 | F58: 0.8 | I58: =+F58*E58 -> 158.4 | J58: 1 | K58: M2 | L58: =+J58*I58 -> 158.4
K60: M2 | L60: =+I60*J60 -> 0
K62: M2 | L62: =+I62*J62 -> 0
G64: Aproxima Resultado a : | H64: 2 | I64: Decimales | K64: TOTAL | L64: =ROUND(SUM(L56:L63),H64) -> 158.4
C67: Observaciones:
AH69: ="Item " & E52 & " Página 1 de 1 " -> Item Página 1 de 1
D74: CONTRATISTA | R74: Vo.Bo. INTERVENTOR
A77: emp | C77: MEMORIA DE CALCULO DE CANTIDADES DE OBRA | AY77: .
A78: cap | C78: =PRESUPUESTO!AG18 -> CAP. 1: ACUEDUCTO VEREDA LOS ZAINOS | J78: =+PRESUPUESTO!C18 -> RETIRO TUBERIA EXISTENTE 0" A 12" | AI78: UNIDAD: | AP78: =PRESUPUESTO!$D$18 -> M
A79: Item 100314 | AI79: CANTIDAD: | AP79: =L89 -> 198
A80: actas
A81: dimen | C81: AREA O LUGAR | E81: DIMENSIONES | I81: V. PARCIAL | J81: N° DE ELEMENTOS | K81: UNIDAD | L81: TOTAL
E82: LONGITUD | F82: ANCHO | G82: ALTO | H82: PESO
A83: grp
A85: fila | C85: RETIRO TUBERIA EXISTENTE 0" A 12" EN EL ACUEDUCTO LOS ZAINOS | E85: =+L37 -> 198 | I85: =+E85 -> 198 | J85: 1 | K85: M | L85: =+J85*E85 -> 198
I87: =+E87*F87 -> 0
A89: cant | G89: Aproxima Resultado a : | H89: 2 | I89: Decimales | K89: TOTAL | L89: =ROUND(SUM(L83:L88),H89) -> 198
...
