Workbook
Name CENTRO_COSTOS: #REF!
Name CENTRO_COSTOS: #REF!
Name CENTROGESTOR: #REF!
Name CENTROGESTOR: #REF!
Name CENTROGESTORDEPENDENCIA: #REF!
Name CENTROGESTORDEPENDENCIA: #REF!
Name centrogestornuevo: #REF!
Name centrogestornuevo: #REF!
Name DEPENDENCIA: #REF!
Name DEPENDENCIA: #REF!
Name FONDO: #REF!
Name FONDO: #REF!
Name FUT: #REF!
Name FUT: #REF!
Name METAAFPDCC: #REF!
Name METAAFPDCC: #REF!
Name METAPDCC: #REF!
Name METAPDCC: #REF!
Name METASAFPDCC: #REF!
Name METASAFPDCC: #REF!
Name METASAFPDM: #REF!
Name METASAFPDM: #REF!
Name METASPDCC: #REF!
Name METASPDCC: #REF!
Name POSPRE: #REF!
Name POSPRE: #REF!

Sheet 1. PRESUPUESTO GENERAL
A1: PRESUPUESTO GENERAL
A3: CÓDIGO PROYECTO (BPIM): | C3: 2600012 | D3: BPIN: | E3: =VLOOKUP(C3,AUXILIAR!A:B,2,0) -> 202600000017000 | G3: VIGENCIA: | H3: 2026 | K3: CENTRO DE COSTO: | N3: =CONCATENATE("TABLA",MID(O3,1,4)) -> TABLA1173 | O3: =VLOOKUP(C3,AUXILIAR!A:K,11,0) -> 1173 SECRETARÍA DE SALUD
A4: NOMBRE: | C4: =VLOOKUP(C3,AUXILIAR!A:C,3,0) -> CONSTRUCCIÓN DE LA NUEVA PLANTA FÍSICA DEL CENTRO DE SALUD DEL CORREGIMIENTO DE ROZO EN EL MUNICIPIO DE PALMIRA | K4: POBLACIÓN OBJETIVO: | N4: 22058
A5: PROGRAMA DE PLAN DE DESARROLLO: | C5: =VLOOKUP(C3,AUXILIAR!A:F,6,0) -> PALMIRA ME CUIDA CON ASEGURAMIENTO Y PRESTACION INTEGRAL DE SERVICIOS DE SALUD | K5: VALOR MÁXIMO DEL PROYECTO: | N5: =VLOOKUP(C3,'VALOR MÁXIMO'!A:C,3,0) -> 2.1601033e+10 | Q5: VALOR HORIZONTE DEL PROYECTO: | T5: =P44+S44+V44+Y44+AB44 -> 1.4400688e+10 | W5: VALOR MÁXIMO A ADICIONAR: | Z5: =N5-T5 -> 7.2003442e+09
N7: AÑO 1 | Q7: AÑO 2 | T7: AÑO 3 | W7: AÑO 4 | Z7: AÑO 5
A8: OBJETIVO GENERAL | B8: PRODUCTO PND | C8: OBJETIVOS ESPECIFICOS | D8: INDICADOR DE PRODUCTO PDM | E8: UNIDAD MEDIDA | F8: CANTIDAD PRODUCTO 2024-2027 | G8: CANTIDAD PRODUCTO VIGENCIA | H8: % PONDERACIÓN PRODUCTOS | I8: ITEM | J8: BPIM+ ACT | K8: ACTIVIDADES DEL PROYECTO | L8: % PONDERACIÓN ACTIVIDAD | M8: UNIDAD DE MEDIDA | N8: CANTIDAD | O8: VALOR UNITARIO | P8: VALOR TOTAL AÑO 2024 | Q8: CANTIDAD | R8: VALOR UNITARIO | S8: VALOR TOTAL AÑO 2025 | T8: CANTIDAD | U8: VALOR UNITARIO | V8: VALOR TOTAL AÑO 2026 | W8: CANTIDAD | X8: VALOR UNITARIO | Y8: VALOR TOTAL AÑO 2027 | Z8: CANTIDAD | AA8: VALOR UNITARIO | AB8: VALOR TOTAL AÑO 2028
A9: =IFERROR(VLOOKUP(C3,'VALOR MÁXIMO'!A:D,4,0)," ") -> Ampliar el acceso a los servicios de atención primaria en salud en el corregimiento Rozo del municipio de Palmira | B9: =IFERROR(VLOOKUP(D9,'INDICADORES DE PRODUCTO'!B2:C175,2,0)," ") -> Hospitales de primer nivel de atención construidos y dotados (1906030) | C9: Mejorar la infraestructura física para la prestación de servicios de atención primaria en salud en el corregimiento de Rozo y sus zonas aledañas | D9: MP.1.1.1.002 Centros y puestos de salud de primer nivel de atención construidos y dotados | E9: =IFERROR(VLOOKUP(D9,'INDICADORES DE PRODUCTO'!B:D,3,0)," ") -> Número | F9: =IFERROR(VLOOKUP(D9,'INDICADORES DE PRODUCTO'!B:E,4,0)," ") -> 1 | G9: 0.5 | H9: 1 | I9: 1 | J9: =CONCATENATE($C$3,"_",I9) -> 2600012_1 | K9: REALIZAR LAS OBRAS PRELIMINARES PARA LA CONSTRUCCION DEL CENTRO DE SALUD DE ROZO | L9: =V9/$V$44 -> 0.082700091 | M9: Metros cuadrados de obra preliminar | P9: =N9*O9 -> 0 | S9: =Q9*R9 -> 0 | T9: 5323.01 | U9: =V9/T9 -> 45066.08 | V9: 2.3988719e+08 | W9: 0 | X9: 0 | Y9: =W9*X9 -> 0 | AB9: =Z9*AA9 -> 0
I10: 2 | J10: =CONCATENATE($C$3,"_",I10) -> 2600012_2 | K10: REALIZAR LA OBRA CIVIL PARA LA CONSTRUCCION DEL CENTRO DE SALUD DE ROZO | L10: =V10/$V$44 -> 0.70005106 | M10: Metros cuadrados de obra civil | P10: =N10*O10 -> 0 | S10: =Q10*R10 -> 0 | T10: 1617.6175 | U10: =V10/T10 -> 1255321.5 | V10: 2.03063e+09 | W10: 2712.1625 | X10: 1509717.7 | Y10: =W10*X10 -> 4.0945998e+09 | AB10: =Z10*AA10 -> 0
I11: 3 | J11: =CONCATENATE($C$3,"_",I11) -> 2600012_3 | K11: INSTALAR LAS REDES HIDRAULICAS, SANITARIAS, ELECTRICAS, VOZ, DATOS Y CONTRA INCENDIOS PARA LA CONSTRUCCION DEL CENTRO DE SALUD DE ROZO | L11: =V11/$V$44 -> 0.037418046 | M11: Metros lineales de redes | P11: =N11*O11 -> 0 | S11: =Q11*R11 -> 0 | T11: 394.87 | U11: 553866.81 | V11: 1.0853809e+08 | W11: 10945 | X11: 274887.25 | Y11: =W11*X11 -> 3.008641e+09 | AB11: =Z11*AA11 -> 0
I12: 4 | J12: =CONCATENATE($C$3,"_",I12) -> 2600012_4 | K12: REALIZAR LA OBRA BLANCA PARA LA CONSTRUCCION DEL CENTRO DE SALUD DE ROZO | L12: =V12/$V$44 -> 0.0038936178 | M12: Metros cuadrados de obra blanca | P12: =N12*O12 -> 0 | S12: =Q12*R12 -> 0 | T12: 31.185337 | U12: 729762.01 | V12: 11294172 | W12: 6352.5747 | X12: 364732.84 | Y12: =W12*X12 -> 2.3169926e+09 | AB12: =Z12*AA12 -> 0
I13: 5 | J13: =CONCATENATE($C$3,"_",I13) -> 2600012_5 | K13: IMPLEMENTAR LOS PLANES DE MANEJO AMBIENTAL Y DE TRANSITO EN LA CONSTRUCCION DEL CENTRO DE SALUD DE ROZO | L13: =V13/$V$44 -> 0.037642645 | M13: Número de documentos | P13: =N13*O13 -> 0 | S13: =Q13*R13 -> 0 | T13: 0.69 | U13: 3.1886689e+08 | V13: 1.0918958e+08 | W13: 1.31 | X13: 1.5850444e+08 | Y13: =W13*X13 -> 2.0764082e+08 | AB13: =Z13*AA13 -> 0
I14: 6 | J14: =CONCATENATE($C$3,"_",I14) -> 2600012_6 | K14: REALIZAR LA INTERVENTORIA A LAS OBRAS DE CONSTRUCCION DEL CENTRO DE SALUD DE ROZO | L14: =V14/$V$44 -> 0.13829454 | M14: Número de interventorías | P14: =ROUND(N14*O14,0) -> 0 | S14: =ROUND(Q14*R14,0) -> 0 | T14: 0.34 | U14: 2.3774122e+09 | V14: 401149356 | W14: 0.66 | X14: 1.1558212e+09 | Y14: =ROUND(W14*X14,0) -> 762842004 | AB14: =Z14*AA14 -> 0
I15: 7 | J15: =CONCATENATE($C$3,"_",I15) -> 2600012_7 | K15: DOTAR CON EQUIPOS DE VENTILACION MECANICA EL CENTRO DE SALUD DE ROZO | L15: =V15/$V$44 -> 0 | M15: Número de equipos de ventilación | P15: =N15*O15 -> 0 | S15: =Q15*R15 -> 0 | T15: 0 | U15: 0 | V15: 0 | W15: 69 | X15: 16076578 | Y15: =W15*X15 -> 1.1092838e+09 | AB15: =Z15*AA15 -> 0
B16: =IFERROR(VLOOKUP(D16,'INDICADORES DE PRODUCTO'!B9:C182,2,0)," ") | E16: =IFERROR(VLOOKUP(D16,'INDICADORES DE PRODUCTO'!B:D,3,0)," ") | F16: =IFERROR(VLOOKUP(D16,'INDICADORES DE PRODUCTO'!B:E,4,0)," ") | I16: 8 | J16: =CONCATENATE($C$3,"_",I16) -> 2600012_8 | L16: =P16/$P$44 -> #DIV/0! | P16: =N16*O16 -> 0 | S16: =Q16*R16 -> 0 | V16: =T16*U16 -> 0 | Y16: =W16*X16 -> 0 | AB16: =Z16*AA16 -> 0
B17: =IFERROR(VLOOKUP(D17,'INDICADORES DE PRODUCTO'!B10:C183,2,0)," ") | E17: =IFERROR(VLOOKUP(D17,'INDICADORES DE PRODUCTO'!B:D,3,0)," ") | F17: =IFERROR(VLOOKUP(D17,'INDICADORES DE PRODUCTO'!B:E,4,0)," ") | I17: 9 | J17: =CONCATENATE($C$3,"_",I17) -> 2600012_9 | L17: =P17/$P$44 -> #DIV/0! | P17: =N17*O17 -> 0 | S17: =Q17*R17 -> 0 | V17: =T17*U17 -> 0 | Y17: =W17*X17 -> 0 | AB17: =Z17*AA17 -> 0
B18: =IFERROR(VLOOKUP(D18,'INDICADORES DE PRODUCTO'!B11:C184,2,0)," ") | E18: =IFERROR(VLOOKUP(D18,'INDICADORES DE PRODUCTO'!B:D,3,0)," ") | F18: =IFERROR(VLOOKUP(D18,'INDICADORES DE PRODUCTO'!B:E,4,0)," ") | I18: 10 | J18: =CONCATENATE($C$3,"_",I18) -> 2600012_10 | L18: =P18/$P$44 -> #DIV/0! | P18: =N18*O18 -> 0 | S18: =Q18*R18 -> 0 | V18: =T18*U18 -> 0 | Y18: =W18*X18 -> 0 | AB18: =Z18*AA18 -> 0
B19: =IFERROR(VLOOKUP(D19,'INDICADORES DE PRODUCTO'!B12:C185,2,0)," ") | E19: =IFERROR(VLOOKUP(D19,'INDICADORES DE PRODUCTO'!B:D,3,0)," ") | F19: =IFERROR(VLOOKUP(D19,'INDICADORES DE PRODUCTO'!B:E,4,0)," ") | I19: 11 | J19: =CONCATENATE($C$3,"_",I19) -> 2600012_11 | L19: =P19/$P$44 -> #DIV/0! | P19: =N19*O19 -> 0 | S19: =Q19*R19 -> 0 | V19: =T19*U19 -> 0 | Y19: =W19*X19 -> 0 | AB19: =Z19*AA19 -> 0
B20: =IFERROR(VLOOKUP(D20,'INDICADORES DE PRODUCTO'!B13:C186,2,0)," ") | E20: =IFERROR(VLOOKUP(D20,'INDICADORES DE PRODUCTO'!B:D,3,0)," ") | F20: =IFERROR(VLOOKUP(D20,'INDICADORES DE PRODUCTO'!B:E,4,0)," ") | I20: 12 | J20: =CONCATENATE($C$3,"_",I20) -> 2600012_12 | L20: =P20/$P$44 -> #DIV/0! | P20: =N20*O20 -> 0 | S20: =Q20*R20 -> 0 | V20: =T20*U20 -> 0 | Y20: =W20*X20 -> 0 | AB20: =Z20*AA20 -> 0
B21: =IFERROR(VLOOKUP(D21,'INDICADORES DE PRODUCTO'!B14:C187,2,0)," ") | E21: =IFERROR(VLOOKUP(D21,'INDICADORES DE PRODUCTO'!B:D,3,0)," ") | F21: =IFERROR(VLOOKUP(D21,'INDICADORES DE PRODUCTO'!B:E,4,0)," ") | I21: 13 | J21: =CONCATENATE($C$3,"_",I21) -> 2600012_13 | L21: =P21/$P$44 -> #DIV/0! | P21: =N21*O21 -> 0 | S21: =Q21*R21 -> 0 | V21: =T21*U21 -> 0 | Y21: =W21*X21 -> 0 | AB21: =Z21*AA21 -> 0
B22: =IFERROR(VLOOKUP(D22,'INDICADORES DE PRODUCTO'!B15:C188,2,0)," ") | E22: =IFERROR(VLOOKUP(D22,'INDICADORES DE PRODUCTO'!B:D,3,0)," ") | F22: =IFERROR(VLOOKUP(D22,'INDICADORES DE PRODUCTO'!B:E,4,0)," ") | I22: 14 | J22: =CONCATENATE($C$3,"_",I22) -> 2600012_14 | L22: =P22/$P$44 -> #DIV/0! | P22: =N22*O22 -> 0 | S22: =Q22*R22 -> 0 | V22: =T22*U22 -> 0 | Y22: =W22*X22 -> 0 | AB22: =Z22*AA22 -> 0
B23: =IFERROR(VLOOKUP(D23,'INDICADORES DE PRODUCTO'!B16:C189,2,0)," ") | E23: =IFERROR(VLOOKUP(D23,'INDICADORES DE PRODUCTO'!B:D,3,0)," ") | F23: =IFERROR(VLOOKUP(D23,'INDICADORES DE PRODUCTO'!B:E,4,0)," ") | I23: 15 | J23: =CONCATENATE($C$3,"_",I23) -> 2600012_15 | L23: =P23/$P$44 -> #DIV/0! | P23: =N23*O23 -> 0 | S23: =Q23*R23 -> 0 | V23: =T23*U23 -> 0 | Y23: =W23*X23 -> 0 | AB23: =Z23*AA23 -> 0
B24: =IFERROR(VLOOKUP(D24,'INDICADORES DE PRODUCTO'!B17:C190,2,0)," ") | E24: =IFERROR(VLOOKUP(D24,'INDICADORES DE PRODUCTO'!B:D,3,0)," ") | F24: =IFERROR(VLOOKUP(D24,'INDICADORES DE PRODUCTO'!B:E,4,0)," ") | I24: 16 | J24: =CONCATENATE($C$3,"_",I24) -> 2600012_16 | L24: =P24/$P$44 -> #DIV/0! | P24: =N24*O24 -> 0 | S24: =Q24*R24 -> 0 | V24: =T24*U24 -> 0 | Y24: =W24*X24 -> 0 | AB24: =Z24*AA24 -> 0
B25: =IFERROR(VLOOKUP(D25,'INDICADORES DE PRODUCTO'!B18:C191,2,0)," ") | E25: =IFERROR(VLOOKUP(D25,'INDICADORES DE PRODUCTO'!B:D,3,0)," ") | F25: =IFERROR(VLOOKUP(D25,'INDICADORES DE PRODUCTO'!B:E,4,0)," ") | I25: 17 | J25: =CONCATENATE($C$3,"_",I25) -> 2600012_17 | L25: =P25/$P$44 -> #DIV/0! | P25: =N25*O25 -> 0 | S25: =Q25*R25 -> 0 | V25: =T25*U25 -> 0 | Y25: =W25*X25 -> 0 | AB25: =Z25*AA25 -> 0
B26: =IFERROR(VLOOKUP(D26,'INDICADORES DE PRODUCTO'!B19:C192,2,0)," ") | E26: =IFERROR(VLOOKUP(D26,'INDICADORES DE PRODUCTO'!B:D,3,0)," ") | F26: =IFERROR(VLOOKUP(D26,'INDICADORES DE PRODUCTO'!B:E,4,0)," ") | I26: 18 | J26: =CONCATENATE($C$3,"_",I26) -> 2600012_18 | L26: =P26/$P$44 -> #DIV/0! | P26: =N26*O26 -> 0 | S26: =Q26*R26 -> 0 | V26: =T26*U26 -> 0 | Y26: =W26*X26 -> 0 | AB26: =Z26*AA26 -> 0
B27: =IFERROR(VLOOKUP(D27,'INDICADORES DE PRODUCTO'!B20:C193,2,0)," ") | E27: =IFERROR(VLOOKUP(D27,'INDICADORES DE PRODUCTO'!B:D,3,0)," ") | F27: =IFERROR(VLOOKUP(D27,'INDICADORES DE PRODUCTO'!B:E,4,0)," ") | I27: 19 | J27: =CONCATENATE($C$3,"_",I27) -> 2600012_19 | L27: =P27/$P$44 -> #DIV/0! | P27: =N27*O27 -> 0 | S27: =Q27*R27 -> 0 | V27: =T27*U27 -> 0 | Y27: =W27*X27 -> 0 | AB27: =Z27*AA27 -> 0
... B43: =IFERROR(VLOOKUP(D43,'INDICADORES DE PRODUCTO'!B36:C209,2,0)," ") | E43: =IFERROR(VLOOKUP(D43,'INDICADORES DE PRODUCTO'!B:D,3,0)," ") | F43: =IFERROR(VLOOKUP(D43,'INDICADORES DE PRODUCTO'!B:E,4,0)," ") | I43: 35 | J43: =CONCATENATE($C$3,"_",I43) -> 2600012_35 | L43: =P43/$P$44 -> #DIV/0! | P43: =N43*O43 -> 0 | S43: =Q43*R43 -> 0 | V43: =T43*U43 -> 0 | Y43: =W43*X43 -> 0 | AB43: =Z43*AA43 -> 0
A44: TOTAL PODERACIÓN | H44: =SUM(H9:H43) -> 1 | N44: TOTAL PRESUPUESTO AÑO 1 | P44: =SUM(P9:P43) -> 0 | Q44: TOTAL PRESUPUESTO AÑO 2 | S44: =SUM(S9:S43) -> 0 | T44: TOTAL PRESUPUESTO AÑO 3 | V44: =SUM(V9:V43) -> 2.9006884e+09 | W44: TOTAL PRESUPUESTO AÑO 4 | Y44: =SUM(Y9:Y43) -> 1.15e+10 | Z44: TOTAL PRESUPUESTO AÑO 5 | AB44: =SUM(AB9:AB43) -> 0
A47: PROYECTA:
A48: Javier Armando Salamanca - Contratista Secretaria de Salud Municipal
A49: APRUEBA:
A50: John Jairo Satizabal Mena - Secretario de Salud Municipal

Sheet AUXILIAR INDICADORES
A1: TABLA1162 | B1: TABLA1132 | C1: TABLA1145 | D1: TABLA1147 | E1: TABLA1149 | F1: TABLA1150 | G1: TABLA1151 | H1: TABLA1153 | I1: TABLA1158 | J1: TABLA1159 | K1: TABLA1163 | L1: TABLA1164 | M1: TABLA1167 | N1: TABLA1168 | O1: TABLA1169 | P1: TABLA1170 | Q1: TABLA1171 | R1: TABLA1173 | S1: TABLA1174 | T1: TABLA1175
A2: MP.2.5.19.084 Campañas de educación para la prevención y atención de desastres desarrolladas | B2: MP.1.4.13.046 Eventos deportivos de alto rendimiento de nivel Nacional e Internacional realizados en el marco del Sistema Integrado del Deporte Palmirano | C2: MP.5.10.31.139 Mecanismos de cooperación suscritos | D2: MP.5.10.30.134 Predios para obras de interés del municipio adquiridos | E2: MP.4.9.29.167 Plan de Ordenamiento Territorial formulado y adoptado | F2: MP.5.10.31.144 Estrategia para el mejoramiento del Índice de Desempeño Fiscal ejecutada | G2: MP.1.4.17.007 Sedes educativas mejoradas | H2: MP.1.2.5.010 Adultos mayores atendidos con servicios integrales | I2: MP.1.4.10.037 Estímulos culturales otorgados | J2: MP.5.10.33.159 Estrategia de desconcentración de la oferta institucional implementada | K2: MP.3.6.22.098 Documento de planeación prospectiva de desarrollo económico elaborado | L2: MP.5.10.32.155 Sistema de información para la atención de eventos de seguridad, convivencia, emergencias, desastres y tránsito implementado | M2: MP.1.3.8.032 Centros de eventos, innovación y exposición dotados | N2: MP.1.1.4.009 Infraestructura para el bienestar animal construida y dotada | O2: MP.1.3.7.027 Redes de alumbrado público construidas | P2: MP.2.5.18.052 Rutas agroecológicas implementadas | Q2: MP.3.7.24.105 Estudios de preinversión en logística de transporte elaborados | R2: MP.1.1.1.001 Centros y puestos de salud de primer nivel de atención adecuados | S2: MP.5.10.31.140 Plan de Estratégico de Comunicaciones Institucional con seguimiento realizado | T2: MP.1.2.5.017 Hogares víctimas del conflicto armado con atención humanitaria
A3: MP.2.5.19.085 Pilotos con acciones de mitigación y adaptación al cambio climático implementados | B3: MP.1.4.13.047 Personas con talento y aptitudes deportivas identificadas y apoyadas | C3: MP.5.10.31.141 Programas articuladores diseñados, implementados y con seguimiento | D3: MP.5.10.30.135 Espacios adecuados para la preservación de la memoria institucional, cultural y alimentaria del municipio | E3: MP.4.9.29.133 Plan de ordenamiento territorial implementado y con seguimiento | G3: MP.1.4.17.049 Establecimientos educativos apoyados para la implementación de modelos de innovación educativa | H3: MP.1.2.5.011 Beneficiarios de la oferta social atendidos | I3: MP.1.4.10.038 Usuarios atendidos en la red de bibliotecas | J3: MP.5.10.33.160 Estrategias de promoción a la participación ciudadana formuladas e implementadas | K3: MP.3.6.22.099 Estrategias dinamizadoras del mercado laboral local implementadas | L3: MP.5.10.32.156 Sistema de información y análisis delictivo actualizado | M3: MP.1.3.8.033 Conexiones a internet fijo y/o móvil | N3: MP.2.5.19.083 Campañas de educación ambiental y participación implementadas | O3: MP.1.3.7.028 Unidades de generación de energía no convencionales instaladas | P3: MP.2.5.18.082 Productores atendidos con servicio de extensión agropecuaria | Q3: MP.4.8.25.112 Celdas de estacionamiento regulado disponibles | R3: MP.1.1.1.002 Centros y puestos de salud de primer nivel de atención construidos y dotados | S3: MP.5.10.31.169 Dependencias asistidas técnicamente | T3: MP.1.2.5.018 Acciones de reconocimiento, protección y reparación integral de las víctimas del conflicto armado realizadas
A4: MP.2.5.20.087 Personas afectadas por situaciones de emergencia, desastre o declaratorias de calamidad pública apoyadas | B4: MP.1.4.13.048 Personas con talento y aptitudes deportivas beneficiadas con estímulos | C4: MP.5.10.31.142 Sistema de gestión documental actualizado | D4: MP.5.10.30.136 Sedes institucionales mantenidas | E4: MP.5.10.31.151 Documento de prospectiva Palmira Visión 2050 elaborado | G4: MP.1.4.17.050 Sedes educativas dotadas | H4: MP.1.4.12.012 Centros comunitarios adecuados | I4: MP.1.4.10.039 Actividades artísticas y culturales realizadas | J4: MP.5.10.33.161 Organismos sociales y comunales asistidos técnicamente | K4: MP.3.7.24.106 Eventos realizados que fomenten una mentalidad y cultura innovadora | L4: MP.5.10.32.157 Estrategia de apoyo a la fuerza pública y a organismos de seguridad implementada | M4: MP.1.3.8.034 Personas de la comunidad capacitadas en uso básico de tecnologías de la información y las comunicaciones | N4: MP.2.5.19.086 Entidades y sectores asistidos técnicamente para la incorporación de variables ambientales en la planificación sectorial | O4: MP.1.3.7.029 Usuarios beneficiados con servicio de alumbrado público | P4: MP.3.7.23.100 Asociaciones de pequeños y medianos productores agropecuarios apoyados | Q4: MP.4.8.25.113 Estrategias integrales de seguridad vial implementadas | R4: MP.1.1.1.003 Personas afiliadas al régimen subsidiado | T4: MP.1.2.5.019 Estrategias de promoción de la garantía de derechos implementadas
A5: MP.2.5.21.092 Documentos de estudios técnicos para el conocimiento y reducción del riesgo de desastres elaborados | B5: MP.1.4.15.054 Infraestructura deportiva construida | C5: MP.5.10.31.143 Sistema integrado de gestión implementado | D5: MP.5.10.31.137 Capacitaciones a servidores públicos realizadas | E5: MP.5.10.31.153 Sistemas de información para gestión, consulta y generación de documentos en operación | G5: MP.1.4.17.060 Beneficiarios atendidos con modelos educativos flexibles | H5: MP.1.2.5.013 Estrategias de la garantía de derechos de poblaciones vulnerables implementadas | I5: MP.1.4.11.040 Publicaciones en temas patrimoniales realizadas | J5: MP.5.10.33.162 Personas atendidas con la oferta institucional | K5: MP.3.7.24.107 Empresas apoyadas que mejoran en sus procesos productivos | L5: MP.5.10.32.158 Estrategias de promoción de la participación ciudadana en temas de seguridad y convivencia implementadas | M5: MP.5.10.31.146 Sistemas de información institucionales actualizados | N5: MP.2.5.20.088 Negocios verdes consolidados | O5: MP.4.8.27.125 Vía secundaria mejorada | P5: MP.3.7.23.101 Proyectos productivos cofinanciados | Q5: MP.4.8.25.114 Observatorio de seguridad vial en funcionamiento | R5: MP.1.1.2.004 Auditorías y visitas inspectivas realizadas | T5: MP.1.2.6.024 Estrategias de acceso a la justicia implementadas
A6: MP.2.5.21.093 Obras de infraestructura para mitigación y atención a desastres realizadas | B6: MP.1.4.15.055 Infraestructura deportiva dotada | D6: MP.5.10.31.145 Documentos técnicos para la administración de bienes muebles e inmuebles del municipio y la implementación del plan vial institucional elaborados | E6: MP.5.10.31.150 Dependencias con asistencia técnica para la mejora de la gestión administrativa | G6: MP.1.4.17.061 Establecimientos educativos en operación | H6: MP.1.2.5.014 Eventos realizados para la promoción de derechos de población vulnerable | I6: MP.1.4.11.041 Beneficiarios por procesos de formación para las artes, las culturas y los saberes | J6: MP.5.10.33.163 Política pública de participación ciudadana formulada y adoptada | K6: MP.3.7.24.108 Emprendimientos asesorados | M6: MP.5.10.31.147 Sistemas de información implementados | N6: MP.2.5.20.089 Áreas con esquemas de Pago por Servicios Ambientales implementados | O6: MP.4.8.27.124 Vía secundaria con mantenimiento | P6: MP.3.7.23.102 Cadenas productivas apoyadas | Q6: MP.4.8.25.115 Organismos de tránsito dotados | R6: MP.1.1.2.005 Documentos de planeación en salud con seguimiento realizados | T6: MP.4.9.28.130 Estrategias de inspección y control del espacio público implementadas
A7: MP.2.5.21.094 Organismos de atención de emergencias equipados | B7: MP.1.4.15.056 Infraestructura deportiva mantenida | D7: MP.5.10.31.148 Documento de Plan Institucional de Bienestar implementado | E7: MP.1.2.5.020 Hogares con encuesta de Sisbén realizada | G7: MP.1.4.17.062 Coberturas en riesgos laborales provistas | H7: MP.1.2.5.015 Personas beneficiadas con raciones de alimentos | I7: MP.1.4.11.042 Personas con formación laboral por competencias | J7: MP.5.10.33.164 Rendición de cuentas realizada | K7: MP.3.7.24.109 Estudiantes de las Instituciones Educativas Oficiales (IEO) de Palmira capacitados en procesos de creación y desarrollo de emprendimientos y proyectos productivos | M7: MP.5.10.33.165 Servicios tecnológicos disponibles | N7: MP.2.5.20.090 Áreas de ecosistemas protegidas | O7: MP.4.8.27.127 Vía terciaria mejorada | P7: MP.3.7.23.103 Eventos de promoción agropecuaria realizados | Q7: MP.4.8.25.116 Semáforos modernizados | R7: MP.1.1.2.006 Estrategias para el fortalecimiento del control social en salud implementadas
A8: MP.2.5.21.095 Documentos de planeación en torno a la gestión del riesgo y el cambio climático elaborados | B8: MP.1.4.16.057 Eventos recreativos comunitarios realizados en el marco del Sistema Integrado del Deporte Palmirano | D8: MP.5.10.31.149 Herramientas implementadas para fortalecer la capacidad administrativa del municipio | E8: MP.1.3.7.031 Predios con estratificación socioeconómica | G8: MP.1.4.17.063 Instituciones educativas oficiales con acompañamiento pedagógico - curricular al Plan de Educación Ambiental | H8: MP.1.2.6.016 Sistema de información para la caracterización de las poblaciones vulnerables implementado | I8: MP.1.4.14.051 Infraestructura cultural intervenida | K8: MP.3.7.24.110 Planes de negocio con viabilidad técnica formulados | M8: MP.5.10.33.166 Trámites disponibles en la sede electrónica | N8: MP.2.5.20.091 Zonas verdes mantenidas | O8: MP.4.8.27.126 Vía terciaria con mantenimiento | P8: MP.3.7.23.104 Proyectos cofinanciados para agregar valor a los productos y/o mejorar los canales de comercialización | Q8: MP.4.8.25.117 Vías señalizadas | R8: MP.1.1.3.008 Estrategias de promoción de la salud implementadas
A9: MP.2.5.21.096 Sistemas de alerta temprana implementados | B9: MP.1.4.16.058 Niños, niñas, adolescentes y jóvenes con deporte, recreación y actividad física en jornada escolar complementaria | E9: MP.5.10.31.152 Estrategias de fortalecimiento de la gestión estadística implementadas | G9: MP.1.4.17.064 Estudiantes beneficiarios de transporte escolar | H9: MP.1.2.6.022 Instancias formales de participación de poblaciones vulnerables fortalecidas | I9: MP.1.4.14.053 Restauraciones realizadas a bienes de interés cultural | K9: MP.3.7.24.111 Rutas de atractivos turísticos desarrolladas en circuito turístico | N9: MP.2.5.21.097 Plan de Gestión Integral de Residuos Solidos con seguimiento | O9: MP.4.8.27.128 Vía urbana mejorada | P9: MP.1.2.5.168 Unidades productivas colectivas de población reincorporada, reinsertada y otros agentes del posconflicto fortalecidas | Q9: MP.4.8.26.118 Plan de Movilidad Sostenible y Segura formulado y adoptado
B10: MP.1.4.16.059 Personas beneficiadas en eventos recreativos comunitarios realizados | E10: MP.5.10.31.154 Sistemas de información geográfica actualizados | G10: MP.1.4.17.065 Estudiantes beneficiados con estrategias de promoción del bilingüismo | H10: MP.1.2.5.023 Niños, niñas, adolescentes y jóvenes beneficiados con oferta social integral | I10: MP.1.4.14.170 Escuelas de música construidas | N10: MP.1.1.4.172 Política pública de bienestar animal formulada | O10: MP.4.8.27.129 Vía urbana rehabilitada | Q10: MP.4.8.26.119 Sistemas de transporte público en funcionamiento
B11: MP.1.4.15.174 Infraestructura deportiva mejorada | G11: MP.1.4.17.066 Modelos educativos acompañados | H11: MP.1.4.12.043 Centros comunitarios construidos | I11: MP.1.4.14.171 Centros culturales modificados | O11: MP.4.8.26.122 Central intermodal de transporte construida | Q11: MP.4.8.26.120 Ciclo infraestructura mantenida
B12: MP.5.10.31.021 Pago de pasivos laborales de la administración pública territorial realizados | G12: MP.1.4.17.067 Jóvenes beneficiados con estrategias de apoyo financiero para el acceso a la educación superior | H12: MP.1.4.12.044 Centros comunitarios dotados | I12: MP.1.4.14.173 Museos contruidos | O12: MP.4.8.26.123 Estudios de preinversión para infraestructura de transporte intermodal realizados | Q12: MP.4.8.26.121 Ciclo parqueaderos construidos
G13: MP.1.4.17.068 Estudiantes beneficiados con estrategias de permanencia | H13: MP.1.2.6.045 Políticas públicas formuladas e implementadas | O13: MP.1.3.9.035 Hogares beneficiados con adquisición de vivienda
G14: MP.1.4.17.069 Número de instituciones educativas oficiales con modelo de atención integral a la primera infancia implementado | O14: MP.1.3.9.036 Hogares beneficiados con mejoramiento de una vivienda
G15: MP.1.4.17.070 Sistemas de reporte de asistencia a clases operando | O15: MP.4.9.28.132 Espacio público construido
G16: MP.1.4.17.071 Bibliotecas escolares mejoradas | O16: MP.4.9.28.131 Espacio público adecuado
G17: MP.1.4.17.072 Docentes y agentes educativos beneficiados con estrategias de mejoramiento de sus capacidades | O17: MP.1.3.7.025 Acueductos construidos
G18: MP.1.4.17.073 Entidades del sector educativo con inspección, vigilancia y control | O18: MP.1.3.7.026 Alcantarillados construidos
G19: MP.1.4.17.074 Entidades territoriales con estrategias para la prevención de riesgos sociales en los entornos escolares implementadas | O19: MP.1.3.7.030 Usuarios beneficiados con subsidios de acueducto y saneamiento básico
G20: MP.1.4.17.075 Personas beneficiadas con procesos de formación informal | O20: MP.5.10.31.138 Observatorio de obras en desarrollo en funcionamiento
G21: MP.1.4.17.076 Estudiantes con acceso a contenidos web en el establecimiento educativo
G22: MP.1.4.17.077 Estudiantes beneficiados del programa de alimentación escolar
G23: MP.1.4.17.078 Estudiantes vinculados a procesos de orientación socio ocupacional
G24: MP.1.4.17.079 Instituciones educativas oficiales con atención integral a nivel preescolar
G25: MP.1.4.17.080 Instituciones educativas con profesionales de apoyo pedagógico contratados
G26: MP.1.4.17.081 Instituciones educativas oficiales con asistencia técnica para la actualización de los manuales de convivencia
A29: =MID(A31,1,4) -> 1162 | B29: =MID(B31,1,4) -> 1132 | C29: =MID(C31,1,4) -> 1145 | D29: =MID(D31,1,4) -> 1147 | E29: =MID(E31,1,4) -> 1149 | F29: =MID(F31,1,4) -> 1150 | G29: =MID(G31,1,4) -> 1151 | H29: =MID(H31,1,4) -> 1153 | ... T29: =MID(T31,1,4) -> 1175
A30: =CONCATENATE("TABLA",A29) -> TABLA1162 | B30: =CONCATENATE("TABLA",B29) -> TABLA1132 | C30: =CONCATENATE("TABLA",C29) -> TABLA1145 | D30: =CONCATENATE("TABLA",D29) -> TABLA1147 | E30: =CONCATENATE("TABLA",E29) -> TABLA1149 | F30: =CONCATENATE("TABLA",F29) -> TABLA1150 | G30: =CONCATENATE("TABLA",G29) -> TABLA1151 | H30: =CONCATENATE("TABLA",H29) -> TABLA1153 | ... T30: =CONCATENATE("TABLA",T29) -> TABLA1175
A31: 1162 DIRECCIÓN DE GESTIÓN DEL RIESGO DE DESASTRES | B31: 1132 INSTITUTO MUNICIPAL DEL DEPORTE Y LA RECREACIÓN (IMDER) | C31: 1145 SECRETARIA GENERAL | D31: 1147 SECRETARÍA DE DESARROLLO INSTITUCIONAL | E31: 1149 SECRETARÍA DE PLANEACIÓN | F31: 1150 SECRETARÍA DE HACIENDA | G31: 1151 SECRETARÍA DE EDUCACION | H31: 1153 SECRETARÍA DE INTEGRACIÓN SOCIAL | I31: 1158 SECRETARÍA DE CULTURA | J31: 1159 SECRETARÍA DE PARTICIPACION COMUNITARIA | K31: 1163 DIRECCIÓN DE EMPRENDIMIENTO Y DESARROLLO EMPRESARIAL | L31: 1164 SECRETARÍA DE SEGURIDAD Y CONVIVENCIA | M31: 1167 DIRECCIÓN DE TECNOLOGÍA, INNOVACIÓN Y CIENCIA | N31: 1168 DIRECCIÓN DE GESTIÓN DEL MEDIO AMBIENTE | O31: 1169 SECRETARÍA DE INFRAESTRUCTURA, RENOVACIÓN URBANA Y VIVIENDA | P31: 1170 SECRETARÍA AGROPECUARIA Y DESARROLLO RURAL | Q31: 1171 SECRETARÍA DE TRÁNSITO Y TRANSPORTE | R31: 1173 SECRETARÍA DE SALUD | S31: 1174 DIRECCIÓN DE COMUNICACIONES | T31: 1175 SECRETARÍA DE GOBIERNO

Sheet 2. PRESUPUESTO DETALLADO
A1: PRESUPUESTO DETALLADO
A3: ITEM | B3: ACTIVIDADES DEL PROYECTO | C3: DESCRIPCIÓN DE LA ACTIVIDAD | D3: CCPET | E3: CPI | F3: INSUMO | G3: FUENTE DE FINANCIACIÓN | H3: =UPPER("Tipo de Fuente de Financiación ") -> TIPO DE FUENTE DE FINANCIACIÓN | I3: UNIDAD DE MEDIDA | J3: CANTIDAD | K3: VALOR UNITARIO | L3: VALOR TOTAL | M3: ACTUALIZACIÓN
A4: 1 | B4: =IFERROR(VLOOKUP(CONCATENATE('1. PRESUPUESTO GENERAL'!$C$3,"_",'2. PRESUPUESTO DETALLADO'!A4),'1. PRESUPUESTO GENERAL'!J:K,2,0)," ") -> REALIZAR LAS OBRAS PRELIMINARES PARA LA CONSTRUCCION DEL CENTRO DE SALUD DE ROZO | C4: Comprende las actividades iniciales requeridas para la adecuación del área de intervención, incluyendo localización y replanteo topográfico, limpieza y descapote del terreno, cerramiento provisional, instalación de campamento de obra y acometidas temporales de servicios públicos, garantizando las condiciones técnicas y operativas para el inicio del proyecto. | D4: 2.3.2.01.01.001.02.08 | E4: 1906030 | F4: 11 Mano de obra calificada | G4: 133 R/BCE RECURSOS DEL CRÉDITO | H4: =IFERROR(VLOOKUP(G4,FUENTES!A:C,3,0)," ") -> Propios | I4: ='1. PRESUPUESTO GENERAL'!M9 -> Metros cuadrados de obra preliminar | J4: ='1. PRESUPUESTO GENERAL'!T9 -> 5323.01 | K4: =M4/J4 -> 45066.08 | L4: =+K4*J4 -> 2.3988719e+08 | M4: 2.3988719e+08
A5: 2 | B5: =IFERROR(VLOOKUP(CONCATENATE('1. PRESUPUESTO GENERAL'!$C$3,"_",'2. PRESUPUESTO DETALLADO'!A5),'1. PRESUPUESTO GENERAL'!J:K,2,0)," ") -> REALIZAR LA OBRA CIVIL PARA LA CONSTRUCCION DEL CENTRO DE SALUD DE ROZO | C5: Contempla la construcción de elementos estructurales, conformación de placas, instalación de sistemas de cubierta y adecuación de áreas exteriores, garantizando condiciones de estabilidad, resistencia, seguridad estructural y funcionalidad | D5: 2.3.2.01.01.001.02.08 | E5: 1906030 | F5: 11 Mano de obra calificada | G5: 133 R/BCE RECURSOS DEL CRÉDITO | H5: =IFERROR(VLOOKUP(G5,FUENTES!A:C,3,0)," ") -> Propios | I5: ='1. PRESUPUESTO GENERAL'!M10 -> Metros cuadrados de obra civil | J5: ='1. PRESUPUESTO GENERAL'!T10 -> 1617.6175 | K5: =M5/J5 -> 1255321.5 | L5: =+K5*J5 -> 2.03063e+09 | M5: 2.03063e+09
A6: 3 | B6: =IFERROR(VLOOKUP(CONCATENATE('1. PRESUPUESTO GENERAL'!$C$3,"_",'2. PRESUPUESTO DETALLADO'!A6),'1. PRESUPUESTO GENERAL'!J:K,2,0)," ") -> INSTALAR LAS REDES HIDRAULICAS, SANITARIAS, ELECTRICAS, VOZ, DATOS Y CONTRA INCENDIOS PARA LA CONSTRUCCION DEL CENTRO DE SALUD DE ROZO | C6: Comprende la ejecución de las actividades relacionadas con la instalación, montaje e integración de las redes técnicas requeridas para la operación del establecimiento de salud, incluyendo sistemas hidráulicos y sanitarios, redes eléctricas reguladas y no reguladas, sistemas de telecomunicaciones (voz y datos) y red contra incendios (RCI). Incluye el suministro e instalación de tuberías, cableado, equipos, tableros, accesorios y dispositivos de control, así como la realización de pruebas de funcionamiento, garantizando el cumplimiento de la normatividad vigente, la seguridad de los usuarios y la adecuada operación de los servicios. | D6: 2.3.2.01.01.001.02.08 | E6: 1906030 | F6: 11 Mano de obra calificada | G6: 133 R/BCE RECURSOS DEL CRÉDITO | H6: =IFERROR(VLOOKUP(G6,FUENTES!A:C,3,0)," ") -> Propios | I6: ='1. PRESUPUESTO GENERAL'!M11 -> Metros lineales de redes | J6: ='1. PRESUPUESTO GENERAL'!T11 -> 394.87 | K6: =M6/J6 -> 274870.44 | L6: =+K6*J6 -> 1.0853809e+08 | M6: 1.0853809e+08
A7: 4 | B7: =IFERROR(VLOOKUP(CONCATENATE('1. PRESUPUESTO GENERAL'!$C$3,"_",'2. PRESUPUESTO DETALLADO'!A7),'1. PRESUPUESTO GENERAL'!J:K,2,0)," ") -> REALIZAR LA OBRA BLANCA PARA LA CONSTRUCCION DEL CENTRO DE SALUD DE ROZO | C7: Contempla la ejecución de las actividades arquitectónicas orientadas a la terminación de los espacios interiores y exteriores de la edificación, incluyendo mampostería, pañetes, estucos, enchapes, pisos, pintura, instalación de carpintería metálica y en madera, puertas, ventanas, cielos rasos y demás elementos de acabado. | D7: 2.3.2.01.01.001.02.08 | E7: 1906030 | F7: 11 Mano de obra calificada | G7: 133 R/BCE RECURSOS DEL CRÉDITO | H7: =IFERROR(VLOOKUP(G7,FUENTES!A:C,3,0)," ") -> Propios | I7: ='1. PRESUPUESTO GENERAL'!M12 -> Metros cuadrados de obra blanca | J7: ='1. PRESUPUESTO GENERAL'!T12 -> 31.185337 | K7: =M7/J7 -> 362162.89 | L7: =+K7*J7 -> 11294172 | M7: 11294172
A8: 5 | B8: =IFERROR(VLOOKUP(CONCATENATE('1. PRESUPUESTO GENERAL'!$C$3,"_",'2. PRESUPUESTO DETALLADO'!A8),'1. PRESUPUESTO GENERAL'!J:K,2,0)," ") -> IMPLEMENTAR LOS PLANES DE MANEJO AMBIENTAL Y DE TRANSITO EN LA CONSTRUCCION DEL CENTRO DE SALUD DE ROZO | C8: Incluye la ejecución de las acciones definidas en los planes de manejo ambiental y de tránsito, orientadas a prevenir, mitigar, corregir y compensar los impactos generados por la ejecución del proyecto. Contempla el manejo adecuado de residuos de construcción y demolición, control de emisiones de polvo y ruido, protección de recursos naturales, señalización de obra, control de tráfico y seguridad vial, así como la implementación de medidas de seguridad y salud en el trabajo. | D8: 2.3.2.02.02.008 | E8: 1906030 | F8: 11 Mano de obra calificada | G8: 133 R/BCE RECURSOS DEL CRÉDITO | H8: =IFERROR(VLOOKUP(G8,FUENTES!A:C,3,0)," ") -> Propios | I8: ='1. PRESUPUESTO GENERAL'!M13 -> Número de documentos | J8: ='1. PRESUPUESTO GENERAL'!T13 -> 0.69 | K8: =M8/J8 -> 1.5824577e+08 | L8: =+K8*J8 -> 1.0918958e+08 | M8: 1.0918958e+08
A9: 6 | B9: =IFERROR(VLOOKUP(CONCATENATE('1. PRESUPUESTO GENERAL'!$C$3,"_",'2. PRESUPUESTO DETALLADO'!A9),'1. PRESUPUESTO GENERAL'!J:K,2,0)," ") -> REALIZAR LA INTERVENTORIA A LAS OBRAS DE CONSTRUCCION DEL CENTRO DE SALUD DE ROZO | C9: Comprende el seguimiento, control y verificación integral de la ejecución del proyecto desde los componentes técnico, administrativo, financiero, ambiental y legal, asegurando el cumplimiento de los diseños, especificaciones técnicas, cronograma, presupuesto y obligaciones contractuales. Incluye la revisión de cantidades de obra, control de calidad de materiales, validación de actas de avance y emisión de conceptos técnicos | D9: 2.3.2.02.02.008 | E9: 1906030 | F9: 11 Mano de obra calificada | G9: 133 R/BCE RECURSOS DEL CRÉDITO | H9: =IFERROR(VLOOKUP(G9,FUENTES!A:C,3,0)," ") -> Propios | I9: ='1. PRESUPUESTO GENERAL'!M14 -> Número de interventorías | J9: ='1. PRESUPUESTO GENERAL'!T14 -> 0.34 | K9: =M9/J9 -> 1.179851e+09 | L9: =+K9*J9 -> 4.0114936e+08 | M9: 401149356
A10: 7 | B10: =IFERROR(VLOOKUP(CONCATENATE('1. PRESUPUESTO GENERAL'!$C$3,"_",'2. PRESUPUESTO DETALLADO'!A10),'1. PRESUPUESTO GENERAL'!J:K,2,0)," ") -> DOTAR CON EQUIPOS DE VENTILACION MECANICA EL CENTRO DE SALUD DE ROZO | C10: Comprende el suministro, montaje e instalación de los sistemas de ventilación mecánica requeridos para garantizar condiciones adecuadas de calidad del aire interior, confort térmico y control ambiental en las diferentes áreas del establecimiento de salud, conforme a los diseños técnicos y a la normatividad vigente aplicable. Incluye la instalación de equipos, ductería, rejillas, difusores, sistemas de extracción e inyección de aire, así como los componentes eléctricos y de control asociados. De igual forma, contempla la realización de pruebas de funcionamiento, balanceo de aire y puesta en marcha del sistema | D10: 2.3.2.01.01.001.02.08 | E10: 1906030 | H10: =IFERROR(VLOOKUP(G10,FUENTES!A:C,3,0)," ") | I10: ='1. PRESUPUESTO GENERAL'!M15 -> Número de equipos de ventilación | J10: 0 | L10: =+K10*J10 -> 0 | M10: 0
A11: 8 | B11: =IFERROR(VLOOKUP(CONCATENATE('1. PRESUPUESTO GENERAL'!$C$3,"_",'2. PRESUPUESTO DETALLADO'!A11),'1. PRESUPUESTO GENERAL'!J:K,2,0)," ") -> 0 | H11: =IFERROR(VLOOKUP(G11,FUENTES!A:C,3,0)," ") | K11: =M11/J11 -> #DIV/0! | L11: =+K11*J11 -> #DIV/0!
A12: 9 | B12: =IFERROR(VLOOKUP(CONCATENATE('1. PRESUPUESTO GENERAL'!$C$3,"_",'2. PRESUPUESTO DETALLADO'!A12),'1. PRESUPUESTO GENERAL'!J:K,2,0)," ") -> 0 | H12: =IFERROR(VLOOKUP(G12,FUENTES!A:C,3,0)," ") | K12: =M12/J12 -> #DIV/0! | L12: =+K12*J12 -> #DIV/0!
A13: 10 | B13: =IFERROR(VLOOKUP(CONCATENATE('1. PRESUPUESTO GENERAL'!$C$3,"_",'2. PRESUPUESTO DETALLADO'!A13),'1. PRESUPUESTO GENERAL'!J:K,2,0)," ") -> 0 | H13: =IFERROR(VLOOKUP(G13,FUENTES!A:C,3,0)," ") | K13: =M13/J13 -> #DIV/0! | L13: =+K13*J13 -> #DIV/0!
A14: 11 | B14: =IFERROR(VLOOKUP(CONCATENATE('1. PRESUPUESTO GENERAL'!$C$3,"_",'2. PRESUPUESTO DETALLADO'!A14),'1. PRESUPUESTO GENERAL'!J:K,2,0)," ") -> 0 | H14: =IFERROR(VLOOKUP(G14,FUENTES!A:C,3,0)," ") | K14: =M14/J14 -> #DIV/0! | L14: =+K14*J14 -> #DIV/0!
A15: 12 | B15: =IFERROR(VLOOKUP(CONCATENATE('1. PRESUPUESTO GENERAL'!$C$3,"_",'2. PRESUPUESTO DETALLADO'!A15),'1. PRESUPUESTO GENERAL'!J:K,2,0)," ") -> 0 | H15: =IFERROR(VLOOKUP(G15,FUENTES!A:C,3,0)," ") | K15: =M15/J15 -> #DIV/0! | L15: =+K15*J15 -> #DIV/0!
A16: 13 | B16: =IFERROR(VLOOKUP(CONCATENATE('1. PRESUPUESTO GENERAL'!$C$3,"_",'2. PRESUPUESTO DETALLADO'!A16),'1. PRESUPUESTO GENERAL'!J:K,2,0)," ") -> 0 | H16: =IFERROR(VLOOKUP(G16,FUENTES!A:C,3,0)," ") | K16: =M16/J16 -> #DIV/0! | L16: =+K16*J16 -> #DIV/0!
A17: 14 | B17: =IFERROR(VLOOKUP(CONCATENATE('1. PRESUPUESTO GENERAL'!$C$3,"_",'2. PRESUPUESTO DETALLADO'!A17),'1. PRESUPUESTO GENERAL'!J:K,2,0)," ") -> 0 | H17: =IFERROR(VLOOKUP(G17,FUENTES!A:C,3,0)," ") | K17: =M17/J17 -> #DIV/0! | L17: =+K17*J17 -> #DIV/0!
A18: 15 | B18: =IFERROR(VLOOKUP(CONCATENATE('1. PRESUPUESTO GENERAL'!$C$3,"_",'2. PRESUPUESTO DETALLADO'!A18),'1. PRESUPUESTO GENERAL'!J:K,2,0)," ") -> 0 | H18: =IFERROR(VLOOKUP(G18,FUENTES!A:C,3,0)," ") | K18: =M18/J18 -> #DIV/0! | L18: =+K18*J18 -> #DIV/0!
A19: 16 | B19: =IFERROR(VLOOKUP(CONCATENATE('1. PRESUPUESTO GENERAL'!$C$3,"_",'2. PRESUPUESTO DETALLADO'!A19),'1. PRESUPUESTO GENERAL'!J:K,2,0)," ") -> 0 | H19: =IFERROR(VLOOKUP(G19,FUENTES!A:C,3,0)," ") | K19: =M19/J19 -> #DIV/0! | L19: =+K19*J19 -> #DIV/0!
A20: 17 | B20: =IFERROR(VLOOKUP(CONCATENATE('1. PRESUPUESTO GENERAL'!$C$3,"_",'2. PRESUPUESTO DETALLADO'!A20),'1. PRESUPUESTO GENERAL'!J:K,2,0)," ") -> 0 | H20: =IFERROR(VLOOKUP(G20,FUENTES!A:C,3,0)," ") | K20: =M20/J20 -> #DIV/0! | L20: =+K20*J20 -> #DIV/0!
A21: 18 | B21: =IFERROR(VLOOKUP(CONCATENATE('1. PRESUPUESTO GENERAL'!$C$3,"_",'2. PRESUPUESTO DETALLADO'!A21),'1. PRESUPUESTO GENERAL'!J:K,2,0)," ") -> 0 | H21: =IFERROR(VLOOKUP(G21,FUENTES!A:C,3,0)," ") | K21: =M21/J21 -> #DIV/0! | L21: =+K21*J21 -> #DIV/0!
A22: 19 | B22: =IFERROR(VLOOKUP(CONCATENATE('1. PRESUPUESTO GENERAL'!$C$3,"_",'2. PRESUPUESTO DETALLADO'!A22),'1. PRESUPUESTO GENERAL'!J:K,2,0)," ") -> 0 | H22: =IFERROR(VLOOKUP(G22,FUENTES!A:C,3,0)," ") | K22: =M22/J22 -> #DIV/0! | L22: =+K22*J22 -> #DIV/0!
... A38: 35 | B38: =IFERROR(VLOOKUP(CONCATENATE('1. PRESUPUESTO GENERAL'!$C$3,"_",'2. PRESUPUESTO DETALLADO'!A38),'1. PRESUPUESTO GENERAL'!J:K,2,0)," ") -> 0 | H38: =IFERROR(VLOOKUP(G38,FUENTES!A:C,3,0)," ") | K38: =M38/J38 -> #DIV/0! | L38: =+K38*J38 -> #DIV/0!
A39: TOTAL PRESUPUESTO | L39: =SUM(L4:L9) -> 2.9006884e+09 | M39: =SUM(M4:M38) -> 2.9006884e+09
L41: ='1. PRESUPUESTO GENERAL'!P44 -> 0
A42: PROYECTA:
A43: Javier Armando Salamanca - Contratista Secretaria de Salud Municipal
A44: APRUEBA:
A45: John Jairo Satizabal Mena - Secretario de Salud Municipal

Sheet 3. DETALLE POBLACIÓN
B1: DETALLE DE POBLACIÓN BENEFICIADA
B4: INDICADOR PRODUCTO | C4: PRODUCTO | D4: DETALLE POBLACION BENEFICIADA | E4: UBICACIÓN DE POBLACIÓN | F4: UBICACIÓN POR COMUNAS / CORREGIMIENTOS | G4: CANTIDAD POBLACIÓN
B5: MP.1.1.1.002 Centros y puestos de salud de primer nivel de atención construidos y dotados | C5: =IFERROR(VLOOKUP(B5,'INDICADORES DE PRODUCTO'!B:F,2,0)," ") -> Hospitales de primer nivel de atención construidos y dotados (1906030) | D5: Población del corregimiento de Rozo y sus zonas de influencia | E5: Corregimiento Rozo y sus zonas de influencia - Zona Rural | F5: Comuna 8 | G5: 22058
C6: =IFERROR(VLOOKUP(B6,'INDICADORES DE PRODUCTO'!B:F,2,0)," ")
C7: =IFERROR(VLOOKUP(B7,'INDICADORES DE PRODUCTO'!B:F,2,0)," ")
C8: =IFERROR(VLOOKUP(B8,'INDICADORES DE PRODUCTO'!B:F,2,0)," ")
C9: =IFERROR(VLOOKUP(B9,'INDICADORES DE PRODUCTO'!B:F,2,0)," ")
C10: =IFERROR(VLOOKUP(B10,'INDICADORES DE PRODUCTO'!B:F,2,0)," ")
C11: =IFERROR(VLOOKUP(B11,'INDICADORES DE PRODUCTO'!B:F,2,0)," ")
C12: =IFERROR(VLOOKUP(B12,'INDICADORES DE PRODUCTO'!B:F,2,0)," ")
C13: =IFERROR(VLOOKUP(B13,'INDICADORES DE PRODUCTO'!B:F,2,0)," ")
C14: =IFERROR(VLOOKUP(B14,'INDICADORES DE PRODUCTO'!B:F,2,0)," ")
C15: =IFERROR(VLOOKUP(B15,'INDICADORES DE PRODUCTO'!B:F,2,0)," ")
C16: =IFERROR(VLOOKUP(B16,'INDICADORES DE PRODUCTO'!B:F,2,0)," ")
C17: =IFERROR(VLOOKUP(B17,'INDICADORES DE PRODUCTO'!B:F,2,0)," ")
C18: =IFERROR(VLOOKUP(B18,'INDICADORES DE PRODUCTO'!B:F,2,0)," ")
B19: TOTAL POBLACIÓN BENEFICIADA CON EL PROYECTO | G19: =SUM(G5:G18) -> 22058
B22: PROYECTA:
B23: Javier Armando Salamanca - Contratista Secretaria de Salud Municipal
B24: APRUEBA:
B25: John Jairo Satizabal Mena - Secretario de Salud Municipal

Sheet 4. CRONOGRAMA
A1: CRONOGRAMA DE ACTIVIDADES DEL PROYECTO
A3: FECHA ESTIMADA INICIO | F3: 46234
A4: No. | B4: ACTIVIDADES | C4: BPIM+ACT | D4: FECHA ESTIMADA DE INICIO | E4: FECHA ESTIMADA DE FINALIZACIÓN | F4: ='1. PRESUPUESTO GENERAL'!H3 -> 2026
F5: MESES
F6: ENERO | G6: FEBRERO | H6: MARZO | I6: ABRIL | J6: MAYO | K6: JUNIO | L6: JULIO | M6: AGOSTO | N6: SEPTIEMBRE | O6: OCTUBRE | P6: NOVIEMBRE | Q6: DICIEMBRE
A7: 1 | B7: =VLOOKUP(C7,'1. PRESUPUESTO GENERAL'!J:K,2,0) -> REALIZAR LAS OBRAS PRELIMINARES PARA LA CONSTRUCCION DEL CENTRO DE SALUD DE ROZO | C7: =CONCATENATE('1. PRESUPUESTO GENERAL'!$C$3,"_",A7) -> 2600012_1 | D7: 46234 | E7: 46387 | O7: X | P7: X | Q7: X
A8: 2 | B8: =VLOOKUP(C8,'1. PRESUPUESTO GENERAL'!J:K,2,0) -> REALIZAR LA OBRA CIVIL PARA LA CONSTRUCCION DEL CENTRO DE SALUD DE ROZO | C8: =CONCATENATE('1. PRESUPUESTO GENERAL'!$C$3,"_",A8) -> 2600012_2 | D8: 46327 | E8: 46387 | P8: X | Q8: X
A9: 3 | B9: =VLOOKUP(C9,'1. PRESUPUESTO GENERAL'!J:K,2,0) -> INSTALAR LAS REDES HIDRAULICAS, SANITARIAS, ELECTRICAS, VOZ, DATOS Y CONTRA INCENDIOS PARA LA CONSTRUCCION DEL CENTRO DE SALUD DE ROZO | C9: =CONCATENATE('1. PRESUPUESTO GENERAL'!$C$3,"_",A9) -> 2600012_3 | D9: 46357 | E9: 46387 | Q9: X
A10: 4 | B10: =VLOOKUP(C10,'1. PRESUPUESTO GENERAL'!J:K,2,0) -> REALIZAR LA OBRA BLANCA PARA LA CONSTRUCCION DEL CENTRO DE SALUD DE ROZO | C10: =CONCATENATE('1. PRESUPUESTO GENERAL'!$C$3,"_",A10) -> 2600012_4 | D10: 46357 | E10: 46387 | Q10: X
A11: 5 | B11: =VLOOKUP(C11,'1. PRESUPUESTO GENERAL'!J:K,2,0) -> IMPLEMENTAR LOS PLANES DE MANEJO AMBIENTAL Y DE TRANSITO EN LA CONSTRUCCION DEL CENTRO DE SALUD DE ROZO | C11: =CONCATENATE('1. PRESUPUESTO GENERAL'!$C$3,"_",A11) -> 2600012_5 | D11: 46234 | E11: 46387 | O11: X | P11: X | Q11: X
A12: 6 | B12: =VLOOKUP(C12,'1. PRESUPUESTO GENERAL'!J:K,2,0) -> REALIZAR LA INTERVENTORIA A LAS OBRAS DE CONSTRUCCION DEL CENTRO DE SALUD DE ROZO | C12: =CONCATENATE('1. PRESUPUESTO GENERAL'!$C$3,"_",A12) -> 2600012_6 | D12: 46234 | E12: 46387 | O12: X | P12: X | Q12: X
A13: 7 | B13: =VLOOKUP(C13,'1. PRESUPUESTO GENERAL'!J:K,2,0) -> DOTAR CON EQUIPOS DE VENTILACION MECANICA EL CENTRO DE SALUD DE ROZO | C13: =CONCATENATE('1. PRESUPUESTO GENERAL'!$C$3,"_",A13) -> 2600012_7
A14: 8 | B14: =VLOOKUP(C14,'1. PRESUPUESTO GENERAL'!J:K,2,0) -> 0 | C14: =CONCATENATE('1. PRESUPUESTO GENERAL'!$C$3,"_",A14) -> 2600012_8
A15: 9 | B15: =VLOOKUP(C15,'1. PRESUPUESTO GENERAL'!J:K,2,0) -> 0 | C15: =CONCATENATE('1. PRESUPUESTO GENERAL'!$C$3,"_",A15) -> 2600012_9
A16: 10 | B16: =VLOOKUP(C16,'1. PRESUPUESTO GENERAL'!J:K,2,0) -> 0 | C16: =CONCATENATE('1. PRESUPUESTO GENERAL'!$C$3,"_",A16) -> 2600012_10
A17: 11 | B17: =VLOOKUP(C17,'1. PRESUPUESTO GENERAL'!J:K,2,0) -> 0 | C17: =CONCATENATE('1. PRESUPUESTO GENERAL'!$C$3,"_",A17) -> 2600012_11
A18: 12 | B18: =VLOOKUP(C18,'1. PRESUPUESTO GENERAL'!J:K,2,0) -> 0 | C18: =CONCATENATE('1. PRESUPUESTO GENERAL'!$C$3,"_",A18) -> 2600012_12
A19: 13 | B19: =VLOOKUP(C19,'1. PRESUPUESTO GENERAL'!J:K,2,0) -> 0 | C19: =CONCATENATE('1. PRESUPUESTO GENERAL'!$C$3,"_",A19) -> 2600012_13
A20: 14 | B20: =VLOOKUP(C20,'1. PRESUPUESTO GENERAL'!J:K,2,0) -> 0 | C20: =CONCATENATE('1. PRESUPUESTO GENERAL'!$C$3,"_",A20) -> 2600012_14
A21: 15 | B21: =VLOOKUP(C21,'1. PRESUPUESTO GENERAL'!J:K,2,0) -> 0 | C21: =CONCATENATE('1. PRESUPUESTO GENERAL'!$C$3,"_",A21) -> 2600012_15
A22: 16 | B22: =VLOOKUP(C22,'1. PRESUPUESTO GENERAL'!J:K,2,0) -> 0 | C22: =CONCATENATE('1. PRESUPUESTO GENERAL'!$C$3,"_",A22) -> 2600012_16
A23: 17 | B23: =VLOOKUP(C23,'1. PRESUPUESTO GENERAL'!J:K,2,0) -> 0 | C23: =CONCATENATE('1. PRESUPUESTO GENERAL'!$C$3,"_",A23) -> 2600012_17
A24: 18 | B24: =VLOOKUP(C24,'1. PRESUPUESTO GENERAL'!J:K,2,0) -> 0 | C24: =CONCATENATE('1. PRESUPUESTO GENERAL'!$C$3,"_",A24) -> 2600012_18
... A41: 35 | B41: =VLOOKUP(C41,'1. PRESUPUESTO GENERAL'!J:K,2,0) -> 0 | C41: =CONCATENATE('1. PRESUPUESTO GENERAL'!$C$3,"_",A41) -> 2600012_35
A44: PROYECTA:
A45: Javier Armando Salamanca - Contratista Secretaria de Salud Municipal
A46: APRUEBA:
A47: John Jairo Satizabal Mena - Secretario de Salud Municipal

Sheet 5. FOCALIZACIÓN
B1: FOCALIZACIÓN
B4: POLÍTICA TRANSVERSAL | C4: INDICADOR PRODUCTO | D4: PRODUCTO | E4: CANTIDAD POBLACIÓN
B5: No aplica | C5: MP.1.1.1.002 Centros y puestos de salud de primer nivel de atención construidos y dotados | D5: =IFERROR(VLOOKUP(C5,'INDICADORES DE PRODUCTO'!B:F,2,0)," ") -> Hospitales de primer nivel de atención construidos y dotados (1906030) | E5: 22058
D6: =IFERROR(VLOOKUP(C6,'INDICADORES DE PRODUCTO'!B:F,2,0)," ")
D7: =IFERROR(VLOOKUP(C7,'INDICADORES DE PRODUCTO'!B:F,2,0)," ")
D8: =IFERROR(VLOOKUP(C8,'INDICADORES DE PRODUCTO'!B:F,2,0)," ")
D9: =IFERROR(VLOOKUP(C9,'INDICADORES DE PRODUCTO'!B:F,2,0)," ")
D10: =IFERROR(VLOOKUP(C10,'INDICADORES DE PRODUCTO'!B:F,2,0)," ")
D11: =IFERROR(VLOOKUP(C11,'INDICADORES DE PRODUCTO'!B:F,2,0)," ")
D12: =IFERROR(VLOOKUP(C12,'INDICADORES DE PRODUCTO'!B:F,2,0)," ")
D13: =IFERROR(VLOOKUP(C13,'INDICADORES DE PRODUCTO'!B:F,2,0)," ")
D14: =IFERROR(VLOOKUP(C14,'INDICADORES DE PRODUCTO'!B:F,2,0)," ")
D15: =IFERROR(VLOOKUP(C15,'INDICADORES DE PRODUCTO'!B:F,2,0)," ")
D16: =IFERROR(VLOOKUP(C16,'INDICADORES DE PRODUCTO'!B:F,2,0)," ")
D17: =IFERROR(VLOOKUP(C17,'INDICADORES DE PRODUCTO'!B:F,2,0)," ")
... D19: =IFERROR(VLOOKUP(C19,'INDICADORES DE PRODUCTO'!B:F,2,0)," ")
B20: TOTAL POBLACIÓN BENEFICIADA CON EL PROYECTO | E20: =IF(SUM(E5:E19)>'3. DETALLE POBLACIÓN'!G19,"ERROR: Población focalizada excede la población objetivo del proyecto",SUM(E5:E19)) -> 22058
B22: PROYECTA:
B23: Javier Armando Salamanca - Contratista Secretaria de Salud Municipal
B24: APRUEBA:
B25: John Jairo Satizabal Mena - Secretario de Salud Municipal

Sheet VALOR MÁXIMO
A1: PROYECTO | B1: NOMBRE_PROYECTO | C1: VALOR MÁXIMO | D1: OBJETIVO
A2: 2400001 | B2: MEJORAMIENTO DEL ESPACIO PÚBLICO EN LA ZONA URBANA Y RURAL DEL MUNICIPIO DE PALMIRA | C2: 0
A3: 2400002 | B3: REHABILITACIÓN DE LAS VÍAS URBANAS DEL MUNICIPIO DE PALMIRA | C3: 0 | D3: MEJORAR LAS CONDICIONES DE MOVILIDAD EN LA ZONA URBANA DEL MUNICIPIO DE PALMIRA
A4: 2400003 | B4: DESARROLLO COMERCIAL Y AGROTURÍSTICO EN EL MUNICIPIO DE PALMIRA | C4: 0 | D4: GENERAR ESTRATEGIAS QUE PROMUEVAN Y DESTAQUEN LA IMPORTANCIA DEL SECTOR AGROALIMENTARIO Y TURÍSTICO EN LA ECONOMÍA, LA CULTURA Y LA IDENTIDAD NACIONAL.
A5: 2400004 | B5: FORTALECIMIENTO DE LA POLÍTICA DE GOBIERNO DIGITAL EN EL MUNICIPIO DE PALMIRA | C5: 1200000000 | D5: ARTICULAR EL DESARROLLO DE SERVICIOS Y PROCESOS DIGITALES PARA LA TOMA DE DECISIONES BASADAS EN DATOS Y CONSOLIDACIÓN DE UN ESTADO ABIERTO EN EL MUNICIPIO DE PALMIRA
A6: 2400005 | B6: FORTALECIMIENTO A LA SEGURIDAD Y CONVIVENCIA CIUDADANA DEL MUNICIPIO DE PALMIRA | C6: 0 | D6: MEJORAR LA SEGURIDAD Y LA CONVIVENCIA CIUDADANA DEL MUNICIPIO DE PALMIRA
A7: 2400006 | B7: CONSTRUCCIÓN DE BULEVAR EN LA COMUNA N° 1 DEL MUNICIPIO DE PALMIRA | C7: 2.0612342e+10 | D7: MEJORAR EL ESPACIO PÚBLICO EFECTIVO EN EL MUNICIPIO DE PALMIRA
A8: 2400007 | B8: MEJORAMIENTO DE LA INFRAESTRUCTURA INTEGRADA A LOS CENTROS DE DESARROLLO INFANTIL (CDI) DEL MUNICIPIO DE PALMIRA | C8: 0
A9: 2400008 | B9: FORTALECIMIENTO DEL ASEGURAMIENTO AL SISTEMA GENERAL DE SEGURIDAD SOCIAL EN SALUD EN EL MUNICIPIO DE PALMIRA | C9: 1727645974383 | D9: Disminuir las barreras de acceso al Sistema General de Seguridad Social en Salud del municipio de Palmira
A10: 2400009 | B10: FORTALECIMIENTO DE LA GESTIÓN ADMINISTRATIVA DE LA SECRETARIA DE HACIENDA DEL MUNICIPIO DE PALMIRA | C10: 1.9564346e+10 | D10: Implementar estrategias que permitan mejorar el potencial de recaudo de las principales rentas en el Municipio de Palmira
A11: 2400010 | B11: MANTENIMIENTO DE ZONAS VERDES E INDIVIDUOS ARBÓREOS PARA LA MEJORA DEL PAISAJE Y EL CUIDADO DE LA ESTRUCTURA ECOLÓGICA AMBIENTAL DEL ÁREA RURAL Y URBANA DEL MUNICIPIO DE PALMIRA | C11: 8250000000 | D11: Mejorar las condiciones paisajísticas de las zonas verdes públicas que hacen parte de la Estructura Ecológica Principal del municipio
A12: 2400011 | B12: DESARROLLO DE CAMPAÑAS DE EDUCACIÓN Y CULTURA AMBIENTAL PARA LA IMPLEMENTACIÓN DE LA POLÍTICA DE EDUCACIÓN AMBIENTAL EN EL MUNICIPIO DE PALMIRA | C12: 15503901450 | D12: Implementar la Política de Educación Ambiental en el Municipio de Palmira
A13: 2400012 | B13: APOYO A LOS NEGOCIOS VERDES COMO HERRAMIENTA PARA LA TRANSFORMACIÓN PRODUCTIVA Y ACCIÓN CLIMÁTICA EN EL MUNICIPIO DE PALMIRA | C13: 3745478850 | D13: Promover la oferta de bienes y servicios a partir del uso sostenible de los recursos naturales
A14: 2400013 | B14: IMPLEMENTACIÓN DEL SEGUIMIENTO AL PLAN DE GESTIÓN INTEGRAL DE RESIDUOS SÓLIDOS PARA UN AMBIENTE EJEMPLAR EN EL MUNICIPIO DE PALMIRA | C14: 7650000000 | D14: Incrementar el porcentaje de residuos sólidos aprovechados y dispuestos de manera adecuada
A15: 2400014 | B15: IMPLEMENTACIÓN DE ESTRATEGIAS DE CONSERVACIÓN EN ÁREAS DE IMPORTANCIA PARA LA PROTECCIÓN DEL RECURSO HÍDRICO EN EL MUNICIPIO DE PALMIRA | C15: 19050000000 | D15: Implementar acciones de conservación en ecosistemas y áreas de importancia estratégica para protección del recurso hídrico en el municipio de Palmira
A16: 2400015 | B16: ASISTENCIA TÉCNICA PARA LA INCORPORACIÓN DE VARIABLES AMBIENTALES EN LA PLANIFICACIÓN SECTORIAL DE SECTORES EN EL MUNICIPIO DE PALMIRA | C16: 3283350000 | D16: Mitigar los impactos ambientales mediante el seguimiento a las actividades socioeconómicas para controlar el deterioro de las condiciones ambientales en el municipio de Palmira
A17: 2400016 | B17: CONSOLIDACIÓN DEL SERVICIO EDUCATIVO DE CALIDAD EN LAS INSTITUCIONES EDUCATIVAS OFICIALES DEL MUNICIPIO DE PALMIRA | C17: 2597947500000 | D17: Garantizar la prestación del servicio educativo de calidad en las instituciones educativas oficiales del municipio de Palmira.
A18: 2400017 | B18: CONTRIBUCIÓN AL DESARROLLO DEL PLAN INTEGRAL DE SEGURIDAD Y CONVIVENCIA CIUDADANA PISCC DEL MUNICIPIO DE PALMIRA | C18: 25638212676 | D18: Apoyar el desarrollo de las estrategias de seguridad y convivencia en el Municipio de Palmira en el marco del Plan Integral de Seguridad y Convivencia Ciudadana
A19: 2400018 | B19: IMPLEMENTACIÓN DE UN SISTEMA DE INFORMACION DE SEGURIDAD INTELIGENTE EN EL MUNICIPIO DE PALMIRA | C19: 33770177529 | D19: Desarrollar un Sistema de Seguridad con estrategias tecnológicas para garantizar la convivencia y la seguridad ciudadana
A20: 2400019 | B20: CONTRIBUCIÓN PARA EL DESARROLLO DE ESPACIOS DE PARTICIPACIÓN EN EL MUNICIPIO DE PALMIRA | C20: 3494652000 | D20: Desarrollar una propuesta para el fortalecimiento de la participacion ciudadana en el municipio de palmira
... A99: 2600012 | B99: CONSTRUCCIÓN DE LA NUEVA PLANTA FÍSICA DEL CENTRO DE SALUD DEL CORREGIMIENTO DE ROZO EN EL MUNICIPIO DE PALMIRA | C99: 2.1601033e+10 | D99: Ampliar el acceso a los servicios de atención primaria en salud en el corregimiento Rozo del municipio de Palmira

Sheet AUXILIAR
A1: BPIM | B1: BPIN | C1: NOMBRE | D1: DEPENDENCIA (NOMBRE EN SIIFWEB) | E1: NOMBRE DEPENDENCIA ESTANDARIZADO | F1: PROGRAMA | G1: CÓDIGO PROGRAMA | H1: COD_ACT | I1: BPIM+ACT | J1: ACTIVIDAD | K1: CENTRO DE COSTOS | N1: DEPENDENCIA | O1: NOMBRE AJUSTADO
N2: DEPORTE Y RECREACION | O2: IMDER - INSTITUTO MUNICIPAL DEL DEPORTE Y LA RECREACIÓN
A3: 2400001 | B3: 2024765200001 | C3: MEJORAMIENTO DEL ESPACIO PÚBLICO EN LA ZONA URBANA Y RURAL DEL MUNICIPIO DE PALMIRA | D3: SECRETARÍA DE INFRAESTRUCTURA, RENOVACIÓN URBANA Y VIVIENDA | E3: =VLOOKUP(D3,N:O,2,0) -> SECRETARÍA DE INFRAESTRUCTURA, RENOVACIÓN URBANA Y VIVIENDA | F3: ESPACIO PÚBLICO MEJORADO Y BIEN MANTENIDO | G3: 46 | H3: 1 | I3: 2400001_1 | J3: REALIZAR ESTUDIOS Y DISEÑOS PARA LA CONSTRUCCIÓN DE INFRAESTRUCTURA Y ELEMENTOS COMPLEMENTARIOS DEL ESPACIO PÚBLICO | K3: =VLOOKUP(E3,'CENTRO DE COSTOS'!A:C,3,0) -> 1169 SECRETARÍA DE INFRAESTRUCTURA, RENOVACIÓN URBANA Y VIVIENDA | N3: INSTITUTO MUNICIPAL DEL DEPORTE Y LA RECREACIÓN IMDER | O3: IMDER - INSTITUTO MUNICIPAL DEL DEPORTE Y LA RECREACIÓN
A4: 2400001 | B4: 2024765200001 | C4: MEJORAMIENTO DEL ESPACIO PÚBLICO EN LA ZONA URBANA Y RURAL DEL MUNICIPIO DE PALMIRA | D4: SECRETARÍA DE INFRAESTRUCTURA, RENOVACIÓN URBANA Y VIVIENDA | E4: =VLOOKUP(D4,N:O,2,0) -> SECRETARÍA DE INFRAESTRUCTURA, RENOVACIÓN URBANA Y VIVIENDA | F4: ESPACIO PÚBLICO MEJORADO Y BIEN MANTENIDO | G4: 46 | H4: 2 | I4: 2400001_2 | J4: APOYAR LA GESTIÓN RELACIONADA CON LA CONSTRUCCIÓN DE INFRAESTRUCTURA Y ESPACIO PÚBLICO | K4: =VLOOKUP(E4,'CENTRO DE COSTOS'!A:C,3,0) -> 1169 SECRETARÍA DE INFRAESTRUCTURA, RENOVACIÓN URBANA Y VIVIENDA | N4: DIRECCIÓN DE COMUNICACIONES | O4: DIRECCIÓN DE COMUNICACIONES
A5: 2400001 | B5: 2024765200001 | C5: MEJORAMIENTO DEL ESPACIO PÚBLICO EN LA ZONA URBANA Y RURAL DEL MUNICIPIO DE PALMIRA | D5: SECRETARÍA DE INFRAESTRUCTURA, RENOVACIÓN URBANA Y VIVIENDA | E5: =VLOOKUP(D5,N:O,2,0) -> SECRETARÍA DE INFRAESTRUCTURA, RENOVACIÓN URBANA Y VIVIENDA | F5: ESPACIO PÚBLICO MEJORADO Y BIEN MANTENIDO | G5: 46 | H5: 3 | I5: 2400001_3 | J5: REALIZAR ESTUDIOS Y DISEÑOS PARA LA ADECUACIÓN DE INFRAESTRUCTURA Y ELEMENTOS COMPLEMENTARIOS DEL ESPACIO PÚBLICO | K5: =VLOOKUP(E5,'CENTRO DE COSTOS'!A:C,3,0) -> 1169 SECRETARÍA DE INFRAESTRUCTURA, RENOVACIÓN URBANA Y VIVIENDA | N5: DIRECCION DE COMUNICACIONES | O5: DIRECCIÓN DE COMUNICACIONES
A6: 2400001 | B6: 2024765200001 | C6: MEJORAMIENTO DEL ESPACIO PÚBLICO EN LA ZONA URBANA Y RURAL DEL MUNICIPIO DE PALMIRA | D6: SECRETARÍA DE INFRAESTRUCTURA, RENOVACIÓN URBANA Y VIVIENDA | E6: =VLOOKUP(D6,N:O,2,0) -> SECRETARÍA DE INFRAESTRUCTURA, RENOVACIÓN URBANA Y VIVIENDA | F6: ESPACIO PÚBLICO MEJORADO Y BIEN MANTENIDO | G6: 46 | H6: 4 | I6: 2400001_4 | J6: APOYAR AL GESTIÓN RELACIONADA CON LA ADECUACIÓN DE INFRAESTRUCTURA Y ESPACIO PÚBLICO | K6: =VLOOKUP(E6,'CENTRO DE COSTOS'!A:C,3,0) -> 1169 SECRETARÍA DE INFRAESTRUCTURA, RENOVACIÓN URBANA Y VIVIENDA | N6: DIRECCIÓN DE CONTRATACIÓN | O6: DIRECCIÓN DE CONTRATACIÓN
A7: 2400002 | B7: 2024765200002 | C7: REHABILITACIÓN DE LAS VÍAS URBANAS DEL MUNICIPIO DE PALMIRA | D7: SECRETARÍA DE INFRAESTRUCTURA, RENOVACIÓN URBANA Y VIVIENDA | E7: =VLOOKUP(D7,N:O,2,0) -> SECRETARÍA DE INFRAESTRUCTURA, RENOVACIÓN URBANA Y VIVIENDA | F7: MOVILIDAD ORIENTADA A LA INTEGRACIÓN REGIONAL | G7: 43 | H7: 1 | I7: 2400002_1 | J7: SUMINISTRAR LOS MATERIALES PARA LA REHABILITACIÓN DE VÍAS URBANAS | K7: =VLOOKUP(E7,'CENTRO DE COSTOS'!A:C,3,0) -> 1169 SECRETARÍA DE INFRAESTRUCTURA, RENOVACIÓN URBANA Y VIVIENDA | N7: DIRECCIÓN DE CONTROL INTERNO DISCIPLINARIO | O7: DIRECCIÓN DE CONTROL INTERNO DISCIPLINARIO
A8: 2400002 | B8: 2024765200002 | C8: REHABILITACIÓN DE LAS VÍAS URBANAS DEL MUNICIPIO DE PALMIRA | D8: SECRETARÍA DE INFRAESTRUCTURA, RENOVACIÓN URBANA Y VIVIENDA | E8: =VLOOKUP(D8,N:O,2,0) -> SECRETARÍA DE INFRAESTRUCTURA, RENOVACIÓN URBANA Y VIVIENDA | F8: MOVILIDAD ORIENTADA A LA INTEGRACIÓN REGIONAL | G8: 43 | H8: 2 | I8: 2400002_2 | J8: GESTIONAR EL APOYO TÉCNICO Y ADMINISTRATIVO DE LOS PROCESOS ENCAMINADOS A REHABILITAR Y MEJORAR LAS VÍAS URBANAS DEL MUNICIPIO. | K8: =VLOOKUP(E8,'CENTRO DE COSTOS'!A:C,3,0) -> 1169 SECRETARÍA DE INFRAESTRUCTURA, RENOVACIÓN URBANA Y VIVIENDA | N8: DIRECCIÓN DE EMPRENDIMIENTO Y DESARROLLO EMPRESARIAL | O8: DIRECCIÓN DE EMPRENDIMIENTO Y DESARROLLO EMPRESARIAL
A9: 2400002 | B9: 2024765200002 | C9: REHABILITACIÓN DE LAS VÍAS URBANAS DEL MUNICIPIO DE PALMIRA | D9: SECRETARÍA DE INFRAESTRUCTURA, RENOVACIÓN URBANA Y VIVIENDA | E9: =VLOOKUP(D9,N:O,2,0) -> SECRETARÍA DE INFRAESTRUCTURA, RENOVACIÓN URBANA Y VIVIENDA | F9: MOVILIDAD ORIENTADA A LA INTEGRACIÓN REGIONAL | G9: 43 | H9: 3 | I9: 2400002_3 | J9: APOYAR OPERATIVAMENTE LAS OBRAS DE REHABILITACIÓN, MANTENIMIENTO Y MEJORAMIENTO DE VÍAS | K9: =VLOOKUP(E9,'CENTRO DE COSTOS'!A:C,3,0) -> 1169 SECRETARÍA DE INFRAESTRUCTURA, RENOVACIÓN URBANA Y VIVIENDA | N9: DIRECCIÓN DE GESTIÓN DEL MEDIO AMBIENTE | O9: DIRECCIÓN DE GESTIÓN DEL MEDIO AMBIENTE
A10: 2400002 | B10: 2024765200002 | C10: REHABILITACIÓN DE LAS VÍAS URBANAS DEL MUNICIPIO DE PALMIRA | D10: SECRETARÍA DE INFRAESTRUCTURA, RENOVACIÓN URBANA Y VIVIENDA | E10: =VLOOKUP(D10,N:O,2,0) -> SECRETARÍA DE INFRAESTRUCTURA, RENOVACIÓN URBANA Y VIVIENDA | F10: MOVILIDAD ORIENTADA A LA INTEGRACIÓN REGIONAL | G10: 43 | H10: 4 | I10: 2400002_4 | J10: SUMINISTRAR EQUIPOS ESPECIALIZADOS PARA REALIZAR EL MANTENIMIENTO DE LAS VÍAS. | K10: =VLOOKUP(E10,'CENTRO DE COSTOS'!A:C,3,0) -> 1169 SECRETARÍA DE INFRAESTRUCTURA, RENOVACIÓN URBANA Y VIVIENDA | N10: DIRECCIÓN DE GESTIÓN DEL RIESGO DE DESASTRES | O10: DIRECCIÓN DE GESTIÓN DEL RIESGO DE DESASTRES
A11: 2400003 | B11: 2024765200004 | C11: DESARROLLO COMERCIAL Y AGROTURÍSTICO EN EL MUNICIPIO DE PALMIRA | D11: SECRETARÍA AGROPECUARIA Y DE DESARROLLO RURAL | E11: =VLOOKUP(D11,N:O,2,0) -> SECRETARÍA AGROPECUARIA Y DE DESARROLLO RURAL | F11: INNOVACIÓN AGROPECUARIA | G11: 25 | H11: 1 | I11: 2400003_1 | J11: PROMOCIONAR ESPACIOS DE NEGOCIOS QUE PERMITAN GENERAR REDES ENTRE PRODUCTORES AGROPECUARIOS, COMERCIANTES, CASAS COMERCIALES Y OTROS ACTORES QUE GENEREN CIRCUITOS CORTOS DE COMERCIALIZACIÓN EN PRO DEL BENEFICIO DEL PEQUEÑO Y MEDIANO PRODUCTOR | K11: =VLOOKUP(E11,'CENTRO DE COSTOS'!A:C,3,0) -> 1170 SECRETARÍA AGROPECUARIA Y DESARROLLO RURAL | N11: DIRECCIÓN DE TI Y C (TECNOLOGÍA INNOVACIÓN Y CIENCIA | O11: DIRECCIÓN DE TECNOLOGÍA, INNOVACIÓN Y CIENCIA
A12: 2400003 | B12: 2024765200004 | C12: DESARROLLO COMERCIAL Y AGROTURÍSTICO EN EL MUNICIPIO DE PALMIRA | D12: SECRETARÍA AGROPECUARIA Y DE DESARROLLO RURAL | E12: =VLOOKUP(D12,N:O,2,0) -> SECRETARÍA AGROPECUARIA Y DE DESARROLLO RURAL | F12: INNOVACIÓN AGROPECUARIA | G12: 25 | H12: 2 | I12: 2400003_2 | J12: REALIZAR UN EVENTO DE TRANSFERENCIA DE TECNOLOGÍA PARA FORTALECER LAS CAPACIDADES TÉCNICAS DEL SECTOR AGROPECUARIO. | K12: =VLOOKUP(E12,'CENTRO DE COSTOS'!A:C,3,0) -> 1170 SECRETARÍA AGROPECUARIA Y DESARROLLO RURAL | N12: DIRECCIÓN DE TECNOLOGÍA, INNOVACIÓN Y CIENCIA | O12: DIRECCIÓN DE TECNOLOGÍA, INNOVACIÓN Y CIENCIA
A13: 2400004 | B13: 2024765200005 | C13: FORTALECIMIENTO DE LA POLÍTICA DE GOBIERNO DIGITAL EN EL MUNICIPIO DE PALMIRA | D13: DIRECCIÓN DE TECNOLOGÍA, INNOVACIÓN Y CIENCIA | E13: =VLOOKUP(D13,N:O,2,0) -> DIRECCIÓN DE TECNOLOGÍA, INNOVACIÓN Y CIENCIA | F13: TRANSFORMACIÓN DIGITAL | G13: 54 | H13: 1 | I13: 2400004_1 | J13: ARTICULAR ACCIONES DE GOBIERNO DIGITAL EN EL MUNICIPIO | K13: =VLOOKUP(E13,'CENTRO DE COSTOS'!A:C,3,0) -> 1167 DIRECCIÓN DE TECNOLOGÍA, INNOVACIÓN Y CIENCIA | N13: OFICINA DE CONTROL INTERNO | O13: OFICINA DE CONTROL INTERNO
A14: 2400004 | B14: 2024765200005 | C14: FORTALECIMIENTO DE LA POLÍTICA DE GOBIERNO DIGITAL EN EL MUNICIPIO DE PALMIRA | D14: DIRECCIÓN DE TECNOLOGÍA, INNOVACIÓN Y CIENCIA | E14: =VLOOKUP(D14,N:O,2,0) -> DIRECCIÓN DE TECNOLOGÍA, INNOVACIÓN Y CIENCIA | F14: TRANSFORMACIÓN DIGITAL | G14: 54 | H14: 2 | I14: 2400004_2 | J14: ADQUIRIR E IMPLEMENTAR SOFTWARE PARA EL DESARROLLO DE CIUDADES Y TERRITORIOS INTELIGENTES EN EL MUNICIPIO | K14: =VLOOKUP(E14,'CENTRO DE COSTOS'!A:C,3,0) -> 1167 DIRECCIÓN DE TECNOLOGÍA, INNOVACIÓN Y CIENCIA | N14: SECRETARÍA AGROPECUARIA Y DESARROLLO RURAL | O14: SECRETARÍA AGROPECUARIA Y DE DESARROLLO RURAL
... A37: 2400009 | B37: 2024765200008 | C37: FORTALECIMIENTO DE LA GESTIÓN ADMINISTRATIVA DE LA SECRETARIA DE HACIENDA DEL MUNICIPIO DE PALMIRA | D37: SECRETARÍA DE HACIENDA | E37: =VLOOKUP(D37,N:O,2,0) -> SECRETARÍA DE HACIENDA | F37: GOBERNANZA Y GOBERNABILIDAD PARA LA GESTION Y DIRECCION EFICIENTE DE LA ADMINISTRACION PUBLICA | G37: 31 | H37: 1 | I37: 2400009_1 | J37: REALIZAR ACCIONES PARA ACTUALIZAR LAS BASES DE DATOS DEL MUNICIPIO | K37: =VLOOKUP(E37,'CENTRO DE COSTOS'!A:C,3,0) -> 1150 SECRETARÍA DE HACIENDA | N37: SECRETARIA JURIDICA | O37: SECRETARÍA JURÍDICA
