Workbook
Name _Hlk144447402: 'IDENTIFICACION Y ANALISIS'!#REF!
Name contratación: 'IDENTIFICACION Y ANALISIS'!$B$31:$B$32
Name ejecución: 'IDENTIFICACION Y ANALISIS'!$B$40:$B$43
Name OPCIONES: 'ASIGNACION Y TRATAMIENTO'!$B$54:$B$56
Name planeación: 'IDENTIFICACION Y ANALISIS'!$B$19:$B$24
Name selección: 'IDENTIFICACION Y ANALISIS'!$B$26:$B$29

Sheet CONTEXTO
C2: MATRIZ DE RIESGOS EN CONTRATACIÓN | F2: Código: GCO-GCI-F164 Versión: 02 Vigencia: 01 de diciembre de 2022 Caso HOLA: 280117
B6: ESTABLECER EL CONTEXTO
B7: El punto inicial es identificar el contexto en el cual interactúa la Entidad Estatal para conocer el ambiente social, económico y político, e identificar (i) sus propios Riesgos; (ii) los Riesgos comunes a sus Procesos de Contratación; y (iii) los Riesgos del Proceso de Contratación en particular. (Aplica igual para contratos interadministrativos) En este paso la Entidad Estatal debe identificar los aspectos que se mencionan a continuación y los posibles efectos adversos que estos pueden generar.
B8: Objeto del Proceso de Contratación: PRESTAR LOS SERVICIOS DE APOYO LOGÍSTICO Y OPERATIVO PARA ADELANTAR JORNADAS DE CIRCULACIÓN, PROMOCIÓN Y APROPIACIÓN DE EXPRESIONES ARTÍSTICAS Y CULTURALES, ORIENTADAS AL FOMENTO DE LA CREATIVIDAD, LA PARTICIPACIÓN, EL ENCUENTRO INTERGENERACIONAL Y EL ACCESO A LA CULTURA DE NIÑAS, NIÑOS, ADOLESCENTES, PERSONAS MAYORES Y FAMILIAS DE LA LOCALIDAD DE TUNJUELITO, EN EL MARCO DEL PROYECTO DE INVERSIÓN 2929 “TUNJUELITO EPICENTRO DE CULTURA
B9: Partícipes del Proceso de Contratación: Alcaldía Local de Tunjuelito, responsables del área de planeación para la formulación del proyecto, supervisores y delegados del alcalde para el proceso de ejecución, equipo de acompañamiento jurídico del contrato, funcionarios administrativos relacionados con el proyecto, proponentes partícipes del proceso de selección, contratista adjudicatario, organismos de control.
B10: Ciudadanía que se beneficia del Proceso de Contratación: Comunidad en general de la localidad de Tunjuelito
B11: Capacidad de la Entidad Estatal entendida como la disponibilidad de recursos y conocimientos para el Proceso de Contratación: Área de planeación formulación del proyecto (Etapa de Planeación), Dirección de Contratación, Comité Evaluador (Etapa de selección), Dirección de Contratación (Etapa de contratación) y la supervisión y apoyos a la supervisión delegados por el Alcalde, referentes de participación.
B12: Suficiencia del presupuesto oficial del Proceso de Contratación: CUARENTA Y NUEVE MILLONES DE PESOS M/CTE ($49.000.000), amparado en el CDP No. 1283 del 14 de octubre de 2026.
B13: Condiciones geográficas y de acceso del lugar en el cual se debe cumplir el objeto del Proceso de Contratación: localidad de Tunjuelito, Bogotá D.C., en salones comunales, equipamientos institucionales (Casa de la Cultura, Casa de la Participación, Alcaldía Local) y espacio abierto (sector Parque Venecia), con condiciones de accesibilidad para personas mayores, niñas y niños.
B14: Entorno socio ambiental: Si aplican
B15: Condiciones políticas: La Constitución Política de Colombia reconoce la cultura como un elemento esencial para el desarrollo de las personas y de la sociedad. En este sentido, el artículo 70 establece el deber del Estado de promover y fomentar el acceso a la cultura de todos los colombianos en igualdad de oportunidades, reconociendo la diversidad de sus manifestaciones y promoviendo la difusión de los valores culturales de la Nación. A su vez, el artículo 71 reconoce la libertad de la expresión artística y dispone que los planes de desarrollo económico y social deberán incorporar el fomento a la cultura y a sus diferentes manifestaciones. En desarrollo de estos postulados constitucionales, la Ley 397 de 1997 – Ley General de Cultura establece los principios fundamentales para la promoción y desarrollo cultural en el país y reconoce la cultura como el conjunto de rasgos, expresiones, valores, tradiciones y formas de vida que caracterizan a los diferentes grupos humanos. Esta ley constituye el marco general para la actuación del Estado y de las entidades territoriales en materia de acceso, promoción, protección y fortalecimiento de las manifestaciones culturales. Particularmente, el artículo 17 de la Ley 397 de 1997 establece que el Estado, a través de las entidades competentes y las entidades territoriales, fomentará las artes en sus diferentes expresiones como elementos que favorecen el diálogo, el intercambio y la convivencia. De igual manera, el artículo 18 contempla mecanismos para promover la creación y la actividad artística y cultural, entre ellos concursos, festivales, actividades de formación, ferias, exposiciones y demás acciones orientadas al fomento y fortalecimiento de las expresiones culturales. En el ámbito distrital, el Decreto Distrital 649 de 2025, Decreto Único del Sector Cultura, Recreación y Deporte, consolida el marco regulatorio del Sistema Distrital de Arte, Cultura y Patrimonio, orientado a generar y mantener condiciones para el ejercicio efectivo de los derechos culturales de los habitantes de Bogotá y a fortalecer la cultura como componente del desarrollo humano y de la construcción social y cultural del territorio. Dentro de sus principios se reconoce la diversidad cultural, el acceso y disfrute de las prácticas artísticas y culturales, la interculturalidad y la construcción cultural del territorio desde sus dimensiones locales. Este Sistema reconoce, además, como agentes culturales a las personas, organizaciones y entidades que realizan, promueven, financian, acceden, disfrutan o desarrollan actividades artísticas, culturales y patrimoniales, así como los espacios de encuentro y articulación entre dichos agentes y la institucionalidad. En este sentido, el desarrollo cultural en las localidades comprende la generación de oportunidades para la creación, circulación, visibilización, apropiación y disfrute de las diferentes manifestaciones artísticas y culturales por parte de la ciudadanía. En cuanto al ámbito local, el Acuerdo Distrital 740 de 2019 establece que en cada localidad habrá un Fondo de Desarrollo Local con personería jurídica y patrimonio propio, con cargo a cuyos recursos se financiarán las inversiones priorizadas en el respectivo Plan de Desarrollo Local, en concordancia con el Plan Distrital de Desarrollo y los demás instrumentos de planeación aplicables. A su vez, dentro de las funciones de las Alcaldías Locales se encuentra el desarrollo de los procesos asociados a la formulación, ejecución y seguimiento de los proyectos de inversión financiados con recursos de los Fondos de Desarrollo Local. En consecuencia, corresponde al Fondo de Desarrollo Local de Tunjuelito adelantar, dentro del marco de sus competencias y de la programación presupuestal, las actuaciones necesarias para la ejecución de las inversiones priorizadas en el Plan de Desarrollo Local. En este contexto, el Plan de Desarrollo Local 2025–2028 “Tunjuelito Camina Segura”, adoptado mediante el Acuerdo Local No. 002 de 2024, incorpora dentro del objetivo estratégico “Bogotá Confía en su bien-estar”, Programa 14 – Bogotá deportiva, recreativa, artística, patrimonial e intercultural, el Proyecto de Inversión 2929 “Tunjuelito Epicentro de Cultura”, mediante el cual se establece la meta de “Realizar diez (10) eventos de circulación, apropiación artística y cultural”. En concordancia con este marco, las acciones desarrolladas en el ámbito local deben propiciar condiciones que permitan a las comunidades acceder, participar y disfrutar de las distintas manifestaciones artísticas y culturales, reconocer los procesos y agentes culturales presentes en el territorio y generar escenarios para su circulación y encuentro con la ciudadanía. Estas acciones cobran especial relevancia para niñas, niños, adolescentes, personas mayores y familias, al contribuir a ampliar las oportunidades de acceso a la cultura, favorecer el intercambio intergeneracional y promover la apropiación de los espacios y prácticas culturales de la localidad. Para la vigencia 2026, y en desarrollo de la meta del Proyecto de Inversión 2929, el Fondo de Desarrollo Local de Tunjuelito identificó la necesidad de realizar jornadas de promoción, circulación y apropiación artística y cultural, dirigidas a niñas, niños, adolescentes, personas mayores y familias de la localidad. Dentro de la programación se contemplan jornadas asociadas al mes de octubre, así como actividades de integración intergeneracional y circulación artística local que podrán desarrollarse de manera descentralizada en diferentes sectores y equipamientos de Tunjuelito. Las jornadas se conciben como escenarios para facilitar el acceso de los diferentes grupos poblacionales a expresiones artísticas y culturales, fortalecer los vínculos familiares y comunitarios, promover el intercambio de experiencias entre generaciones, favorecer la circulación de artistas y procesos culturales locales y fomentar el uso creativo, seguro e incluyente de los espacios de la localidad. En este sentido, las actividades deberán contar con una programación pertinente para las poblaciones participantes y con condiciones adecuadas de ingreso, permanencia, orientación, movilidad, accesibilidad y atención prioritaria. Asimismo, su realización requiere la articulación de los componentes artísticos, técnicos, logísticos y operativos necesarios para garantizar el adecuado desarrollo de las jornadas y el cumplimiento de la meta prevista en el Proyecto de Inversión 2929.
B16: Factores ambientales: La Alcaldía Local de Tunjuelito, cumple la normatividad ambiental, mejora continuamente sus procesos para liderar, prevenir, mitigar, proteger, conservar y hacer un uso racional de los recursos naturales y del medio ambiente, siendo modelo de responsabilidad ambiental en la gestión pública. La Política Ambiental Operativa de La Alcaldía Local de Tunjuelito, forma parte de la Política del Sistema Integrado de Gestión de la Entidad y está orientada por la Norma ISO 14001 de 2004. En consecuencia, la Entidad desarrolla los lineamientos sectoriales contenidos en el Plan Institucional de Gestión Ambiental –PIGA-, que se concreta a través de los Programas de Gestión en Residuos, Agua, Energía, Condiciones Internas, Buenas Prácticas y Gestión Contractual. Dichos Programas están sujetos al mejoramiento continuo, por parte de la Entidad, para el beneficio general.
B17: Sector del objeto del Proceso de Contratación y su mercado: sector cultura y servicios de apoyo logístico y producción de eventos (presentaciones artísticas, recreación, alquiler de sonido, alimentos y elementos de premiación).
... B19: Experiencia propia y de otras Entidades Estatales en Procesos de Contratación del mismo tipo: 80141902 Reuniones y Eventos, 90101602 Servicios de comidas a domicilio, 82101502 Publicidad en afiches, 31201503 Cinta para enmascarar, 31201512 Cintra transparente, 44121701 Bolígrafos, 44121708 Marcadores, , 82101502 Publicidad en afiches, 82101505 Publicidad en volantes o cupones, 93141702 Servicios de promoción cultural, 90101603 Servicios de cáterin, 90101602 Servicios de carpas para fiestas, 80141607 Gestión de eventos, 80131506 Servicio de arrendamiento de baños portátiles, 30241601 Tarima y accesorios de la tribuna.

Sheet IDENTIFICACION Y ANALISIS
C2: MATRIZ DE RIESGOS DE CONTRATACIÓN | F2: Código: GCO-GCI-F164 Versión: 02 Vigencia: 01 de diciembre de 2022 Caso HOLA: 280117
B6: DEFINICIONES
B7: RIESGO: Evento que puede generar efectos adversos y de distinta magnitud en el logro de los objetivos del Proceso de Contratación o en la ejecución de un contrato RIESGOS PREVISIBLES: Son los posibles hechos o circunstancias que por la naturaleza del contrato y de la actividad a ejecutar es factible su ocurrencia. ETAPA DE PLANEACIÓN: Está comprendida desde el momento en que se identifican las necesidades que debe satisfacer la Secretaría Distrital de Gobierno y los Fondos de Desarrollo Local, a través del abastecimiento de bienes, obras o servicios, la elaboración del Plan Anual de Adquisiciones y la estructuración de los documentos y estudios previos. ETAPA DE SELECCIÓN: Está comprendida entre el acto de Apertura del Proceso de Contratación y la Adjudicación o la declaración de desierto del Proceso de Contratación ETAPA DE CONTRATACIÓN: Una vez adjudicado el contrato objeto del Proceso de Contratación, inicia la etapa para la celebración del contrato y el cumplimiento de los requisitos para de perfeccionamiento y ejecución. ETAPA DE EJECUCIÓN: Inicia una vez cumplidos los requisitos previstos para iniciar la ejecución del contrato respectivo y termina con el vencimiento del plazo del contrato o la fecha de liquidación si hay lugar a ella. RIESGO GENERAL: Es un riesgo de todos los procesos de contratación adelantados por la Entidad Estatal, por lo cual está presente en toda su actividad contractual. RIEGO ESPECIFICO: Es un riesgo propio del proceso de contratación objeto de análisis. RIESGOS ECONÓMICOS: Son los derivados del comportamiento del mercado, tales como la fluctuación de los precios de los insumos, desabastecimiento y especulación de los mismos, entre otros. RIESGOS SOCIALES O POLÍTICOS: son los derivados de los cambios de las políticas gubernamentales y de cambios en las condiciones sociales que tengan impacto en la ejecución del contrato. RIESGOS OPERACIONALES: Son los asociados a la operatividad del contrato, tales como la suficiencia del presupuesto oficial, del plazo o los derivados de procesos, procedimientos, parámetros, sistemas de información y tecnológicos, equipos humanos o técnicos inadecuados o insuficientes. RIESGOS FINANCIEROS: Son (i) el riesgo de consecución de financiación o riesgo de liquidez para obtener recursos para cumplir con el objeto del contrato, y (ii) el riesgo de las condiciones financieras establecidas para la obtención de los recursos, tales como plazos, tasas, garantías, contragarantías, y refinanciaciones, entre otros. RIESGOS REGULATORIOS: Derivados de cambios regulatorios o reglamentarios que afecten la ecuación económica del contrato. RIESGOS DE LA NATURALEZA: Son los eventos naturales previsibles en los cuales no hay intervención humana que puedan tener impacto en la ejecución del contrato, por ejemplo los temblores, inundaciones, lluvias, sequías, entre otros. RIESGOS AMBIENTALES: Son los derivados de las obligaciones legales o reglamentarias de carácter ambiental, así como de las licencias, planes de manejo o de permisos y autorizaciones ambientales, incluyendo tasas retributivas y compensatorias, obligaciones de mitigación, tareas de monitoreo y control, entre otras. RIESGOS TECNOLÓGICOS: Son los derivados de fallas en los sistemas de comunicación de voz y de datos, suspensión de servicios públicos, nuevos desarrollos tecnológicos o estándares que deben ser tenidos en cuenta para la ejecución del contrato, obsolescencia tecnológica.
B15: INSTRUCCIONES PARA LA IDENTIFICACIÓN, ANALISIS, EVALUACIÓN , ASIGNACIÓN Y TRATAMIENTO DE RIESGOS EN LA CONTRATACIÓN
B16: 1) Identifique los riesgos previsibles que le apliquen al objeto contractual que se adelante. Los relacionados a continuación se establecen de manera general y como proforma. No obstante, si del objeto contractual se identifican otros riesgos diferentes a los aquí determinados, por favor reemplace el texto de la casilla teniendo en cuenta la etapa del proceso. Así mismo, seleccione la clase, fuente y el tipo (Operacional, Económico, Sociales o Políticos, Regulatorios, Financieros, Tecnológicos, De la naturaleza, Ambientales) 2) Continúe en la hoja de "EVALUACIÓN" (SI EXISTEN DUDAS CONCEPTUALES PARA LA ELABORACIÓN DE LA MATRIZ DE RIESGO CONSULTE EL MANUAL PARA LA IDENTIFICACIÓN Y COBERTURA DEL RIESGO EN LOS PROCESOS DE CONTRATACIÓN EXPEDIDO POR COLOMBIA COMPRA EFICIENTE Y LA GUÍA DE RIESGOS PREVISIBLES CONTRACTUALES, EXPEDIDA POR LA VEEDURÍA DISTRITAL)
B17: ETAPAS | D17: CLASE | E17: FUENTE | F17: TIPO
B18: PLANEACIÓN
B19: Requisitos habilitantes inapropiados para el proceso de selección | D19: General | E19: Interno | F19: Operacionales
B20: Inadecuado análisis económico estimativo del valor del contrato | D20: General | E20: Interno | F20: Economicos
B21: Inadecuada descripción del bien o servicio requerido | D21: General | E21: Interno | F21: Operacionales
B22: Falta de profundidad en el estudio de sector no identificandose claramente aspectos de oferta y demanda | D22: General | E22: Interno | F22: Economicos
B23: Ausencia de fundamentación de la justificación y conveniencia de la contratación | D23: General | E23: Interno | F23: Operacionales
B24: Errores involuntarios en los Estudios Previos, Pliegos de Condiciones, Estudio de Sector y en general cualquier documento que sea parte integral del mismo. | D24: General | E24: Interno | F24: Operacionales
B25: SELECCIÓN
B26: Inadecuada evaluación de las ofertas y/o verificación de requisitos habilitantes | D26: General | E26: Interno | F26: Operacionales
B27: Confabulacion de los proponentes (Colusión) | D27: General | E27: Externo | F27: Operacionales
B28: Que ninguno de los proponentes cumplan los requisitos habilitantes establecidos en el pliego de condiciones | D28: General | E28: Interno | F28: Operacionales
B29: Proyección económica por parte del proponente que conlleve a pérdidas o baja utilidad en la ejecución del contrato. | D29: General | E29: Externo | F29: Operacionales
B30: CONTRATACIÓN
B31: Demora en la iniciación del contrato debido a la no entrega oportuna de las Garantías exigidas para el proceso de contratación o que las mismas no cobijen lo establecido en los Estudios Previ | D31: General | E31: Interno | F31: Operacionales
B32: Presentación de reclamos de terceros sobre la selección del oferente que retrasen el perfeccionamiento del contrato. | D32: General | E32: Externo | F32: Operacionales
B33: EJECUCIÓN
B34: No liquidar los contratos en los plazos acordados en el contrato o los establecidos por la Ley. | D34: General | E34: Interno | F34: Operacionales
B35: Demoras o desabastecimiento de los proveedores del contratista (alimentos, sonido, elementos de premiación y recreación) que afecten la entrega oportuna de los bienes y servicios en las fechas programadas para las jornadas. | D35: General | E35: Externo | F35: Operacionales
B36: Fallas en los equipos de sonido, energía o elementos técnicos durante el desarrollo de las jornadas. | D36: General | E36: Externo | F36: Operacionales
B37: Baja asistencia de la población convocada a las jornadas | D37: General | E37: Interno | F37: Operacionales
B38: Afectación de la salud de los asistentes por condiciones inadecuadas de preparación, conservación, transporte o manipulación de los alimentos (almuerzos, refrigerios, estación de café y crispetas). | D38: General | E38: Externo | F38: Operacionales
B39: Vinculación a las jornadas de personal con inhabilidad por delitos sexuales contra menores, o uso de imágenes de niñas, niños y adolescentes sin autorización de sus padres o representantes legales. | D39: General | E39: Interno | F39: Operacionales
B40: Pérdida de elementos por robo a alguno de los proveedores de los elementos, antes o durante la entrega de los mismos. | D40: General | E40: Externo | F40: Operacionales
B41: Variación de los precios del mercado | D41: General | E41: Externo | F41: Economicos
B42: Contingencias, accidentes o demás dificultades presentadas en los encuentros y espacios desarrollados por fuera de las instalaciones de la Alcaldía Local de Tunjuelito | D42: Especifico | E42: Externo | F42: Operacionales
B43: Paros huelgas, situaciones de orden público o situaciones externas como pandemias que afecten el cumplimiento de obligaciones cuando se hace trabajo en campo | D43: General | E43: Externo | F43: Sociales o Políticos
B48: General
B49: Estatal
B50: Especifico
B52: Interno
B53: Externo

Sheet EVALUACION
C2: MATRIZ DE RIESGOS DE CONTRATACIÓN | K2: Código: GCO-GCI-F164 Versión: 02 Vigencia: 01 de diciembre de 2022 Caso HOLA: 280117
B6: Objeto Contractual: “PRESTAR LOS SERVICIOS DE APOYO LOGÍSTICO Y OPERATIVO PARA ADELANTAR JORNADAS DE CIRCULACIÓN, PROMOCIÓN Y APROPIACIÓN DE EXPRESIONES ARTÍSTICAS Y CULTURALES, ORIENTADAS AL FOMENTO DE LA CREATIVIDAD, LA PARTICIPACIÓN, EL ENCUENTRO INTERGENERACIONAL Y EL ACCESO A LA CULTURA DE NIÑAS, NIÑOS, ADOLESCENTES, PERSONAS MAYORES Y FAMILIAS DE LA LOCALIDAD DE TUNJUELITO, EN EL MARCO DEL PROYECTO DE INVERSIÓN 2929 “TUNJUELITO EPICENTRO DE CULTURA"
B7: INSTRUCCIONES PARA LA IDENTIFICACIÓN, ANALISIS, EVALUACIÓN , ASIGNACIÓN Y TRATAMIENTO DE RIESGOS EN LA CONTRATACIÓN
B8: 1) Diligencie el objeto contractual y seleccione la(s) etapas y los riesgos que aplican al objeto contractual, de acuerdo a lo definido en la hoja de "IDENTIFICACIÓN Y ANÁLISIS"
B9: 2) Describa las consecuencias de la ocurrencia del Riesgo/evento.
B10: 3) Asigne la probabilidad de ocurrencia del riesgo, de conformidad con la tabla de probabilidad y la valoración del riesgo (Cualitativa o Monetaria)
B11: 4) Asigne el impacto que generaría la materialización del riesgo, de conformidad con la tabla de impacto y la valoración del riesgo (Cualitativa o Monetaria)
B12: 5) Al realizar las anteriores actividades se obtendrá la calificación total y la valoración del riesgo (prioridad).
B13: 6) Continúe en la hoja de "EVALUACIÓN DE CONTROLES"
B15: CALIFICACIÓN | H15: Cualitativa
B16: ETAPA | C16: Descripción (Que puede pasar y, cómo puede ocurrir) | H16: Consecuencias de la ocurrencia del evento | I16: Probabilidad de Ocurrencia | J16: Impacto | K16: Calificación Total | L16: Prioridad
B17: PLANEACIÓN | C17: Requisitos habilitantes inapropiados para el proceso de selección | H17: 1. Distorsión del proceso de selección 2. Elección de un proponente que no cumpla requisitos legales y/o que no tenga la capacidad para la ejecución 3. Selección adversa 4. Necesidad de iniciar un nuevo proceso | I17: 2 | J17: 4 | K17: =I17+J17 -> 6 | L17: =IF(K17<=4,"BAJO",IF(K17=5,"MEDIO",IF(K17=6,"ALTO",IF(K17=7,"ALTO","EXTREMO")))) -> ALTO
B18: PLANEACIÓN | C18: Inadecuado análisis económico estimativo del valor del contrato | H18: 1. Sobrecostos o ineficiencia económica del proyecto 2. Pérdidas económica para el contratista o para el FDLT 3. Necesidad de de iniciar un nuevo proceso | I18: 2 | J18: 3 | K18: =+I18+J18 -> 5 | L18: =IF(K18<=4,"BAJO",IF(K18=5,"MEDIO",IF(K18=6,"ALTO",IF(K18=7,"ALTO","EXTREMO")))) -> MEDIO
B19: PLANEACIÓN | C19: Inadecuada descripción del bien o servicio requerido | H19: 1. Necesidad de iniciar un nuevo proceso 2. Distorsión del proceso de selección 3. Selección adversa | I19: 2 | J19: 3 | K19: =+I19+J19 -> 5 | L19: =IF(K19<=4,"BAJO",IF(K19=5,"MEDIO",IF(K19=6,"ALTO",IF(K19=7,"ALTO","EXTREMO")))) -> MEDIO
B20: PLANEACIÓN | C20: Falta de profundidad en el estudio de sector no identificandose claramente aspectos de oferta y demanda | H20: 1. Sobrecostos o ineficiencia económica del proyecto 2. Selección adversa 3. No se puede satisfacer la necesidad de la entidad | I20: 2 | J20: 3 | K20: =+I20+J20 -> 5 | L20: =IF(K20<=4,"BAJO",IF(K20=5,"MEDIO",IF(K20=6,"ALTO",IF(K20=7,"ALTO","EXTREMO")))) -> MEDIO
B21: PLANEACIÓN | C21: Ausencia de fundamentación de la justificación y conveniencia de la contratación | H21: 1. Necesidad de iniciar un nuevo proceso. 2. Selección adversa 3. No se puede satisfacer la necesidad de la entidad | I21: 2 | J21: 3 | K21: =+I21+J21 -> 5 | L21: =IF(K21<=4,"BAJO",IF(K21=5,"MEDIO",IF(K21=6,"ALTO",IF(K21=7,"ALTO","EXTREMO")))) -> MEDIO
B22: PLANEACIÓN | C22: Errores involuntarios en los Estudios Previos, Pliegos de Condiciones, Estudio de Sector y en general cualquier documento que sea parte integral del mismo. | H22: 1. Necesidad de iniciar un nuevo proceso 2. No se puede satisfacer la necesidad de la entidad. | I22: 2 | J22: 3 | K22: =+I22+J22 -> 5 | L22: =IF(K22<=4,"BAJO",IF(K22=5,"MEDIO",IF(K22=6,"ALTO",IF(K22=7,"ALTO","EXTREMO")))) -> MEDIO
B23: SELECCIÓN | C23: Inadecuada evaluación de las ofertas y/o verificación de requisitos habilitantes | H23: 1. Selecciónar un contratista que no esté en capacidad de cumplir con el objeto del contrato. 2. Selección adversa | I23: 3 | J23: 4 | K23: =+I23+J23 -> 7 | L23: =IF(K23<=4,"BAJO",IF(K23=5,"MEDIO",IF(K23=6,"ALTO",IF(K23=7,"ALTO","EXTREMO")))) -> ALTO
B24: SELECCIÓN | C24: Confabulacion de los proponentes (Colusión) | H24: 1. Selecciónar un contratista que no esté en capacidad de cumplir con el objeto del contrato. 2. Selección adversa | I24: 3 | J24: 4 | K24: =+I24+J24 -> 7 | L24: =IF(K24<=4,"BAJO",IF(K24=5,"MEDIO",IF(K24=6,"ALTO",IF(K24=7,"ALTO","EXTREMO")))) -> ALTO
B25: SELECCIÓN | C25: Que ninguno de los proponentes cumplan los requisitos habilitantes establecidos en el pliego de condiciones | H25: 1. Que se declare desierta la convocatoria 2. Necesidad de iniciar un nuevo proceso | I25: 2 | J25: 4 | K25: =+I25+J25 -> 6 | L25: =IF(K25<=4,"BAJO",IF(K25=5,"MEDIO",IF(K25=6,"ALTO",IF(K25=7,"ALTO","EXTREMO")))) -> ALTO
B26: SELECCIÓN | C26: Proyección económica por parte del proponente que conlleve a pérdidas o baja utilidad en la ejecución del contrato. | H26: 1. Pérdidas económicas para el contratista o propuestas artificialmente bajas. | I26: 2 | J26: 4 | K26: =+I26+J26 -> 6 | L26: =IF(K26<=4,"BAJO",IF(K26=5,"MEDIO",IF(K26=6,"ALTO",IF(K26=7,"ALTO","EXTREMO")))) -> ALTO
B27: CONTRATACIÓN | C27: Demora en la iniciación del contrato debido a la no entrega oportuna de las Garantías exigidas para el proceso de contratación o que las mismas no cobijen lo establecido en los Estudios Previ | H27: 1. Pérdida de Tiempo por no iniciar el contrato de forma oportuna 2. Falta de respaldo por parte de una aseguradora sobre los riesgos existentes durante la ejecución del Contrato | I27: 2 | J27: 3 | K27: =+I27+J27 -> 5 | L27: =IF(K27<=4,"BAJO",IF(K27=5,"MEDIO",IF(K27=6,"ALTO",IF(K27=7,"ALTO","EXTREMO")))) -> MEDIO
B28: CONTRATACIÓN | C28: Presentación de reclamos de terceros sobre la selección del oferente que retrasen el perfeccionamiento del contrato. | H28: 1. Pérdida de Tiempo por no iniciar el contrato de forma oportuna 2. Necesidad de iniciar un nuevo proceso | I28: 2 | J28: 2 | K28: =+I28+J28 -> 4 | L28: =IF(K28<=4,"BAJO",IF(K28=5,"MEDIO",IF(K28=6,"ALTO",IF(K28=7,"ALTO","EXTREMO")))) -> BAJO
B29: EJECUCIÓN | C29: No liquidar los contratos en los plazos acordados en el contrato o los establecidos por la Ley. | H29: 1. Pérdida de competencia para liquidar en sede administrativa. 2. Incertidumbre del estado del contrato. 3.Falta de paz y salvo por las partes. | I29: 1 | J29: 4 | K29: =+I29+J29 -> 5 | L29: =IF(K29<=4,"BAJO",IF(K29=5,"MEDIO",IF(K29=6,"ALTO",IF(K29=7,"ALTO","EXTREMO")))) -> MEDIO
... B34: EJECUCIÓN | C34: Paros huelgas, situaciones de orden público o situaciones externas como pandemias que afecten el cumplimiento de obligaciones cuando se hace trabajo en campo | H34: 1. Imposibilidad o dificultades para el desarrollo de las actividades 2. Afectación del cumplimiento del contrato dentro de la vigencia | I34: 2 | J34: 3 | K34: =+I34+J34 -> 5 | L34: =IF(K34<=4,"BAJO",IF(K34=5,"MEDIO",IF(K34=6,"ALTO",IF(K34=7,"ALTO","EXTREMO")))) -> MEDIO
B39: Probabilidad | C39: Catagoria | E39: Valoración | G39: Impacto | H39: Categoria | I39: Valoración
C40: Raro (puede ocurrir excepcionalmente) | E40: 1 | H40: Insignificante | I40: 1
C41: Improbable (puede ocurrir ocasionalmente) | E41: 2 | H41: Menor | I41: 2
C42: Posible (puede ocurrir en cualquier momento futuro) | E42: 3 | H42: Moderado | I42: 3
C43: Probable (probablemente va a ocurrir) | E43: 4 | H43: Mayor | I43: 4
C44: Casi cierto (ocurre en la mayoria de circunstancias) | E44: 5 | H44: Catastrófico | I44: 5
C46: Valoración del Riesgo
C47: Calificación Cualitativa | F47: Obstruye la ejecución del contrato de manera intrascendente. | G47: Dificulta la ejecución del contrato de manera baja, aplicando medidas mínimas se pueden lograr el objeto contractual | H47: Afecta la ejecución del contrato sin alterar el beneficio para las partes | I47: Obstruye la ejecución del contrato sustancialmente pero aun así permite la consecución del objeto contractual | K47: Perturba la ejecución del contrato de manera grave imposibilitando la consecución del objeto contractual.
C48: Calificación Monetaria | F48: Los sobrecostos no representan más del uno por ciento (1%) del valor del contrato. | G48: Los sobrecostos no representan más del cinco por ciento (5%) del valor del contrato. | H48: Genera un impacto sobre el valor del contrato entre el cinco (5%) y el quince por ciento (15%). | I48: Incrementa el valor del contrato entre el quince (15%) y el treinta por ciento (30%). | K48: Impacto sobre el valor del contrato en más del treinta por ciento (30%).
C49: Categoría | E49: Valoración | F49: Insignificante | G49: Menor | H49: Moderado | I49: Mayor | K49: Catastrófico
F50: 1 | G50: 2 | H50: 3 | I50: 4 | K50: 5
C51: Raro (puede ocurrir excepcionalmente) | E51: 1 | F51: 2 | G51: 3 | H51: 4 | I51: 5 | K51: 6
C52: Improbable (puede ocurrir ocasionalmente) | E52: 2 | F52: 3 | G52: 4 | H52: 5 | I52: 6 | K52: 7
C53: Posible (puede ocurrir en cualquier momento futuro) | E53: 3 | F53: 4 | G53: 5 | H53: 6 | I53: 7 | K53: 8
C54: Probable (probablemente va a ocurrir) | E54: 4 | F54: 5 | G54: 6 | H54: 7 | I54: 8 | K54: 9
...

Sheet EVALUACION CON CONTROLES
C2: MATRIZ DE RIESGOS DE CONTRATACIÓN | Q2: Código: GCO-GCI-F164 Versión: 02 Vigencia: 01 de diciembre de 2022 Caso HOLA: 280117
B6: =+EVALUACION!B6 -> Objeto Contractual: “PRESTAR LOS SERVICIOS DE APOYO LOGÍSTICO Y OPERATIVO PARA ADELANTAR JORNADAS DE CIRCULACIÓN, PROMOCIÓN Y APROPIACIÓN DE EXPRESIONES ARTÍSTICAS Y CULTURALES, ORIENTADAS AL FOMENTO DE LA CREATIVIDAD, LA PARTICIPACIÓN, EL ENCUENTRO INTERGENERACIONAL Y EL ACCESO A LA CULTURA DE NIÑAS, NIÑOS, ADOLESCENTES, PERSONAS MAYORES Y FAMILIAS DE LA LOCALIDAD DE TUNJUELITO, EN EL MARCO DEL PROYECTO DE INVERSIÓN 2929 “TUNJUELITO EPICENTRO DE CULTURA"
B7: INSTRUCCIONES PARA LA IDENTIFICACIÓN, ANALISIS, EVALUACIÓN , ASIGNACIÓN Y TRATAMIENTO DE RIESGOS EN LA CONTRATACIÓN
B8: 1) Describa el tratamiento/controles a ser implementados
B9: 2) Diligencie la información de las siguientes columnas, de acuerdo con el análisis realizado a cada riesgo: Afecta el equilibrio económico, persona responsable de implementar el tratamiento, fecha estimada de inicio del tratamiento, fecha estimada en la que se completa el tratamiento, cómo se realiza el monitoreo y la periodicidad.
B10: 3) Continúe en la hoja de "ASIGNACIÓN Y TRATAMIENTO" y diligencie las siguientes casillas: A quien se le asigna y el porcentaje que asume cada una de las partes en caso de que sea compartido.
B15: ETAPA | C15: Descripción (Que puede pasar y, cómo puede ocurrir) | G15: Tratamiento/Controles a ser implementados | I15: Probabilidad de Ocurrencia | J15: Impacto | K15: Calificación Total | L15: Prioridad | M15: ¿Afecta el equilibrio económico del contrato? | N15: Persona responsable por implementar el tratamiento | O15: Fecha estimada en que se inicia el tratamiento | P15: Fecha estimada en que se completa el tratamiento | Q15: ¿Cómo se realiza el monitoreo? | R15: Periodicidad ¿Cuándo?
B16: =+EVALUACION!B17 -> PLANEACIÓN | C16: =+EVALUACION!C17 -> Requisitos habilitantes inapropiados para el proceso de selección | G16: Revisión jurídica y efectuar revisiones con los lineamientos de Colombia Compra Eficiente | I16: 1 | J16: 3 | K16: =+I16+J16 -> 4 | L16: =IF(K16<=4,"BAJO",IF(K16=5,"MEDIO",IF(K16=6,"ALTO",IF(K16=7,"ALTO","EXTREMO")))) -> BAJO | M16: NO | N16: PROFESIONALES DEL FONDO DE DESARROLLO LOCAL DE TUNJUELITO (PLANEACIÓN Y CONTRATACIÓN) | O16: 2026 | P16: 2026 | Q16: SEGUIMIENTO AL PROCESO | R16: ETAPA DE PLANEACIÓN Y SELECCIÓN
B17: =+EVALUACION!B18 -> PLANEACIÓN | C17: =+EVALUACION!C18 -> Inadecuado análisis económico estimativo del valor del contrato | G17: Revisión exhaustiva en el proceso de estudio de mercado siguiendo los lineamientos de Colombia Compra Eficiente | I17: 2 | J17: 2 | K17: =+I17+J17 -> 4 | L17: =IF(K17<=4,"BAJO",IF(K17=5,"MEDIO",IF(K17=6,"ALTO",IF(K17=7,"ALTO","EXTREMO")))) -> BAJO | M17: SI | N17: PROFESIONALES DEL FONDO DE DESARROLLO LOCAL DE TUNJUELITO (PLANEACIÓN Y CONTRATACIÓN) | O17: 2026 | P17: 2026 | Q17: SEGUIMIENTO AL PROCESO | R17: ETAPA DE PLANEACIÓN
B18: =+EVALUACION!B19 -> PLANEACIÓN | C18: =+EVALUACION!C19 -> Inadecuada descripción del bien o servicio requerido | G18: Reducir la probabilidad de ocurrencia del evento | I18: 2 | J18: 2 | K18: =+I18+J18 -> 4 | L18: =IF(K18<=4,"BAJO",IF(K18=5,"MEDIO",IF(K18=6,"ALTO",IF(K18=7,"ALTO","EXTREMO")))) -> BAJO | M18: NO | N18: PRESTAR LOS SERVICIOS LOGISTICOS PARA REALIZAR LOS ENCUENTROS CIUDADANOS Y ADMNISTRATIVOS DE LA LOCALIDAD DE TUNJUELITO, EN EL MARCO DEL PROCESO DE LAS ACTIVIDADES QUE SE REQUIERA PARA LLEVAR A CABO EL PLAN DE DESARROLLO LOCAL”, EN EL MARCO DEL PROYECTO 2900 “PROGRAMA: FORTALECIMIENTO INSTITUCIONAL PARA UN GOBIERNO CONFIABLE" | O18: 2026 | P18: 2026 | Q18: SEGUIMIENTO AL PROCESO | R18: ETAPA DE PLANEACIÓN
B19: =+EVALUACION!B20 -> PLANEACIÓN | C19: =+EVALUACION!C20 -> Falta de profundidad en el estudio de sector no identificandose claramente aspectos de oferta y demanda | G19: Utilizar los lineamientos de Colombia Compra Eficiente y utilizar como referencia procesos similares | I19: 2 | J19: 2 | K19: =+I19+J19 -> 4 | L19: =IF(K19<=4,"BAJO",IF(K19=5,"MEDIO",IF(K19=6,"ALTO",IF(K19=7,"ALTO","EXTREMO")))) -> BAJO | M19: SI | N19: PROFESIONALES DEL FONDO DE DESARROLLO LOCAL DE TUNJUELITO (PLANEACIÓN Y CONTRATACIÓN) | O19: 2026 | P19: 2026 | Q19: SEGUIMIENTO AL PROCESO | R19: ETAPA DE PLANEACIÓN
B20: =+EVALUACION!B21 -> PLANEACIÓN | C20: =+EVALUACION!C21 -> Ausencia de fundamentación de la justificación y conveniencia de la contratación | G20: Revisiones constantes por parte del área de planeación de la entidad tomando como referencia procesos similares | I20: 1 | J20: 2 | K20: =+I20+J20 -> 3 | L20: =IF(K20<=4,"BAJO",IF(K20=5,"MEDIO",IF(K20=6,"ALTO",IF(K20=7,"ALTO","EXTREMO")))) -> BAJO | M20: NO | N20: PROFESIONALES DEL FONDO DE DESARROLLO LOCAL DE TUNJUELITO (PLANEACIÓN Y CONTRATACIÓN) | O20: 2026 | P20: 2026 | Q20: SEGUIMIENTO AL PROCESO | R20: ETAPA DE PLANEACIÓN
B21: =+EVALUACION!B22 -> PLANEACIÓN | C21: =+EVALUACION!C22 -> Errores involuntarios en los Estudios Previos, Pliegos de Condiciones, Estudio de Sector y en general cualquier documento que sea parte integral del mismo. | G21: Verificar los documentos en el proceso de observaciones y respuesta a estas mismas observaciones. Realizar las aclaraciones necesarias en el proceso de selección y evaluar las propuestas con los criterios sugeridos por Colombia Compra Eficiente. | I21: 2 | J21: 2 | K21: =+I21+J21 -> 4 | L21: =IF(K21<=4,"BAJO",IF(K21=5,"MEDIO",IF(K21=6,"ALTO",IF(K21=7,"ALTO","EXTREMO")))) -> BAJO | M21: SI | N21: PROFESIONALES DEL FONDO DE DESARROLLO LOCAL DE TUNJUELITO (PLANEACIÓN Y CONTRATACIÓN) | O21: 2026 | P21: 2026 | Q21: SEGUIMIENTO AL PROCESO | R21: ETAPA DE PLANEACIÓN Y SELECCIÓN
B22: =+EVALUACION!B23 -> SELECCIÓN | C22: =+EVALUACION!C23 -> Inadecuada evaluación de las ofertas y/o verificación de requisitos habilitantes | G22: Efectuar verificaciones a los documentos y propuestas presentadas, con el apoyo de los profesionales del área y el equipo jurídico | I22: 2 | J22: 2 | K22: =+I22+J22 -> 4 | L22: =IF(K22<=4,"BAJO",IF(K22=5,"MEDIO",IF(K22=6,"ALTO",IF(K22=7,"ALTO","EXTREMO")))) -> BAJO | M22: NO | N22: PROFESIONALES DEL FONDO DE DESARROLLO LOCAL DE TUNJUELITO (PLANEACIÓN Y CONTRATACIÓN) | O22: 2026 | P22: 2026 | Q22: SEGUIMIENTO AL PROCESO | R22: SEMANAL ETAPA DE SELECCIÓN
B23: =+EVALUACION!B24 -> SELECCIÓN | C23: =+EVALUACION!C24 -> Confabulacion de los proponentes (Colusión) | G23: Utilizar la metodología de Colombia Compra Eficiente y dar cumplimiento a la normatividad vigente. | I23: 2 | J23: 3 | K23: =+I23+J23 -> 5 | L23: =IF(K23<=4,"BAJO",IF(K23=5,"MEDIO",IF(K23=6,"ALTO",IF(K23=7,"ALTO","EXTREMO")))) -> MEDIO | M23: NO | N23: PROFESIONALES DEL FONDO DE DESARROLLO LOCAL DE TUNJUELITO (PLANEACIÓN Y CONTRATACIÓN) | O23: 2026 | P23: 2026 | Q23: MUESTREO ALEATORIO DE CALIDAD | R23: SEMANAL ETAPA DE SELECCIÓN
B24: =+EVALUACION!B25 -> SELECCIÓN | C24: =+EVALUACION!C25 -> Que ninguno de los proponentes cumplan los requisitos habilitantes establecidos en el pliego de condiciones | G24: Efectuar verificaciones a los documentos y propuestas presentadas por parte de los profesionales del área | I24: 2 | J24: 3 | K24: =+I24+J24 -> 5 | L24: =IF(K24<=4,"BAJO",IF(K24=5,"MEDIO",IF(K24=6,"ALTO",IF(K24=7,"ALTO","EXTREMO")))) -> MEDIO | M24: NO | N24: PROFESIONALES DEL FONDO DE DESARROLLO LOCAL DE TUNJUELITO (PLANEACIÓN Y CONTRATACIÓN) | O24: 2026 | P24: 2026 | Q24: MUESTREO ALEATORIO DE CALIDAD | R24: SEMANAL ETAPA DE SELECCIÓN
B25: =+EVALUACION!B26 -> SELECCIÓN | C25: =+EVALUACION!C26 -> Proyección económica por parte del proponente que conlleve a pérdidas o baja utilidad en la ejecución del contrato. | G25: Realizar aclaraciones en el proceso de selección y evaluar las propuestas con los criterios sugeridos por Colombia Compra Eficiente. | I25: 2 | J25: 3 | K25: =+I25+J25 -> 5 | L25: =IF(K25<=4,"BAJO",IF(K25=5,"MEDIO",IF(K25=6,"ALTO",IF(K25=7,"ALTO","EXTREMO")))) -> MEDIO | M25: NO | N25: PROFESIONALES DEL FONDO DE DESARROLLO LOCAL DE TUNJUELITO (PLANEACIÓN Y CONTRATACIÓN) | O25: 2026 | P25: 2026 | Q25: MUESTREO ALEATORIO DE CALIDAD | R25: SEMANAL ETAPA DE SELECCIÓN
B26: =+EVALUACION!B27 -> CONTRATACIÓN | C26: =+EVALUACION!C27 -> Demora en la iniciación del contrato debido a la no entrega oportuna de las Garantías exigidas para el proceso de contratación o que las mismas no cobijen lo establecido en los Estudios Previ | G26: Efectuar verificaciones a los documentos entregados de acuerdo con la lista de chequeo sugeridas para la entidad. | I26: 2 | J26: 2 | K26: =+I26+J26 -> 4 | L26: =IF(K26<=4,"BAJO",IF(K26=5,"MEDIO",IF(K26=6,"ALTO",IF(K26=7,"ALTO","EXTREMO")))) -> BAJO | M26: NO | N26: PROFESIONALES DEL FONDO DE DESARROLLO LOCAL DE TUNJUELITO (PLANEACIÓN Y CONTRATACIÓN) | O26: 2026 | P26: 2026 | Q26: MUESTREO ALEATORIO DE CALIDAD | R26: ETAPA DE CONTRATACIÓN
B27: =+EVALUACION!B28 -> CONTRATACIÓN | C27: =+EVALUACION!C28 -> Presentación de reclamos de terceros sobre la selección del oferente que retrasen el perfeccionamiento del contrato. | G27: Dar trámite eficiente y oportuno de las PQRS presentadas por terceros | I27: 2 | J27: 2 | K27: =+I27+J27 -> 4 | L27: =IF(K27<=4,"BAJO",IF(K27=5,"MEDIO",IF(K27=6,"ALTO",IF(K27=7,"ALTO","EXTREMO")))) -> BAJO | M27: NO | N27: PROFESIONALES DEL FONDO DE DESARROLLO LOCAL DE TUNJUELITO (PLANEACIÓN Y CONTRATACIÓN) | O27: 2026 | P27: 2026 | Q27: SEGUIMIENTO AL PROCESO | R27: ETAPA DE CONTRATACIÓN
... B31: =+EVALUACION!B32 -> EJECUCIÓN | C31: =+EVALUACION!C32 -> Variación de los precios del mercado | G31: El contratista debe prever en sus precios unitarios las variaciones ordinarias del mercado durante el plazo de tres (3) meses; los precios ofertados son fijos durante la ejecución. | I31: 2 | J31: 3 | K31: =+I31+J31 -> 5 | L31: =IF(K31<=4,"BAJO",IF(K31=5,"MEDIO",IF(K31=6,"ALTO",IF(K31=7,"ALTO","EXTREMO")))) -> MEDIO | M31: NO | N31: PROFESIONALES DEL FONDO DE DESARROLLO LOCAL DE TUNJUELITO (PLANEACIÓN Y CONTRATACIÓN) | O31: 2026 | P31: 2026 | Q31: SEGUIMIENTO AL PROCESO | R31: ETAPA DE PLANEACIÓN Y SEGUIMIENTO A LA ETAPA DE EJECUCIÓN
B32: EJECUCIÓN | C32: Baja asistencia de la población convocada a las jornadas | G32: Convocatoria e inscripción a cargo del FDLT en articulación con las instancias de participación (Mesa Local de Sabios y Sabias y demás); seguimiento del contratista al avance de inscripciones para ajustar cantidades. | I32: 2 | J32: 2 | K32: =+I32+J32 -> 4 | L32: =IF(K32<=4,"BAJO",IF(K32=5,"MEDIO",IF(K32=6,"ALTO",IF(K32=7,"ALTO","EXTREMO")))) -> BAJO | M32: NO | N32: PROFESIONALES DEL FONDO DE DESARROLLO LOCAL DE TUNJUELITO (PARTICIPACIÓN Y PRENSA) | O32: 2026 | P32: 2026 | Q32: SEGUIMIENTO AL PROCESO | R32: ETAPA DE PLANEACIÓN Y SEGUIMIENTO A LA ETAPA DE EJECUCIÓN
B33: EJECUCIÓN | C33: Afectación de la salud de los asistentes por condiciones inadecuadas de preparación, conservación, transporte o manipulación de los alimentos (almuerzos, refrigerios, estación de café y crispetas). | G33: Cumplimiento de la Resolución 2674 de 2013 y de la Ficha No. 23 de contratación sostenible: certificados de manipulación de alimentos y aptitud médica del personal, plan de saneamiento, cadena de frío y entrega en empaques individuales; verificación de la supervisión en cada jornada. | I33: 1 | J33: 3 | K33: =+I33+J33 -> 4 | L33: =IF(K33<=4,"BAJO",IF(K33=5,"MEDIO",IF(K33=6,"ALTO",IF(K33=7,"ALTO","EXTREMO")))) -> BAJO | M33: NO | N33: PROFESIONALES DEL FONDO DE DESARROLLO LOCAL DE TUNJUELITO | O33: 2026 | P33: 2026 | Q33: SEGUIMIENTO AL PROCESO | R33: SEMANAL SEGÚN CRONOGRAMA DEL PROYECTO
B34: EJECUCIÓN | C34: Vinculación a las jornadas de personal con inhabilidad por delitos sexuales contra menores, o uso de imágenes de niñas, niños y adolescentes sin autorización de sus padres o representantes legales. | G34: Consulta previa del Registro de Inhabilidades de la Ley 1918 de 2018 a todo el personal en contacto con menores (recreadores, artistas, presentadores, apoyo) y autorización de los padres para registros fotográficos (Ley 1581 de 2012), conforme a las obligaciones del estudio previo. | I34: 1 | J34: 3 | K34: =+I34+J34 -> 4 | L34: =IF(K34<=4,"BAJO",IF(K34=5,"MEDIO",IF(K34=6,"ALTO",IF(K34=7,"ALTO","EXTREMO")))) -> BAJO | M34: NO | N34: PROFESIONALES DEL FONDO DE DESARROLLO LOCAL DE TUNJUELITO | O34: 2026 | P34: 2026 | Q34: SEGUIMIENTO AL PROCESO | R34: SEMANAL SEGÚN CRONOGRAMA DEL PROYECTO
B35: EJECUCIÓN | C35: Fallas en los equipos de sonido, energía o elementos técnicos durante el desarrollo de las jornadas. | G35: Pruebas técnicas de sonido y energía antes del ingreso del público, disponibilidad de equipos de respaldo y técnico operador durante toda la jornada. | I35: 1 | J35: 3 | K35: =+I35+J35 -> 4 | L35: =IF(K35<=4,"BAJO",IF(K35=5,"MEDIO",IF(K35=6,"ALTO",IF(K35=7,"ALTO","EXTREMO")))) -> BAJO | M35: NO | N35: PROFESIONALES DEL FONDO DE DESARROLLO LOCAL DE TUNJUELITO | O35: 2026 | P35: 2026 | Q35: SEGUIMIENTO AL PROCESO | R35: SEMANAL SEGÚN CRONOGRAMA DEL PROYECTO
B36: =+EVALUACION!B33 -> EJECUCIÓN | C36: =+EVALUACION!C33 -> Contingencias, accidentes o demás dificultades presentadas en los encuentros y espacios desarrollados por fuera de las instalaciones de la Alcaldía Local de Tunjuelito | G36: Plan de emergencias y contingencias por jornada; servicio de atención médica (MEC) en los eventos con público; trámite ante el SUGA cuando aplique; garantía de responsabilidad civil extracontractual. | I36: 1 | J36: 3 | K36: =+I36+J36 -> 4 | L36: =IF(K36<=4,"BAJO",IF(K36=5,"MEDIO",IF(K36=6,"ALTO",IF(K36=7,"ALTO","EXTREMO")))) -> BAJO | M36: NO | N36: SUPERVISIÓN, APOYO A LA SUPERVISIÓN Y CONTRATISTA | O36: 2026 | P36: 2026 | Q36: SEGUIMIENTO AL PROCESO | R36: SEMANAL SEGÚN CRONOGRAMA DEL PROYECTO
B37: =+EVALUACION!B34 -> EJECUCIÓN | C37: =+EVALUACION!C34 -> Paros huelgas, situaciones de orden público o situaciones externas como pandemias que afecten el cumplimiento de obligaciones cuando se hace trabajo en campo | G37: Reprogramación de las jornadas previa revisión en el Comité Técnico de Seguimiento y seguimiento a las condiciones de orden público en la localidad. | I37: 1 | J37: 2 | K37: 4 | L37: =IF(K37<=4,"BAJO",IF(K37=5,"MEDIO",IF(K37=6,"ALTO",IF(K37=7,"ALTO","EXTREMO")))) -> BAJO | M37: NO | N37: SUPERVISIÓN, APOYO A LA SUPERVISIÓN Y CONTRATISTA | O37: 2026 | P37: 2026 | Q37: SEGUIMIENTO AL PROCESO | R37: SEMANAL SEGÚN CRONOGRAMA DEL PROYECTO
C39: Categoria del Riesgo | H39: Impacto del Riesgo
B40: Probabilidad | C40: Catagoria | F40: Valoración | H40: Categoria | J40: Valoración | N40: Categoria del Riesgo
C41: Raro (puede ocurrir excepcionalmente) | F41: 1 | H41: Insignificante | J41: 1 | N41: Valoración del Riesgo | P41: Categoría
C42: Improbable (puede ocurrir ocasionalmente) | F42: 2 | H42: Menor | J42: 2 | N42: 8, 9 y 10 | P42: Riesgo extremo
C43: Posible (puede ocurrir en cualquier momento futuro) | F43: 3 | H43: Moderado | J43: 3 | N43: 6 y 7 | P43: Riesgo alto
C44: Probable (probablemente va a ocurrir) | F44: 4 | H44: Mayor | J44: 4 | N44: 5 | P44: Riesgo medio
C45: Casi cierto (ocurre en la mayoria de circunstancias) | F45: 5 | H45: Catastrófico | J45: 5 | N45: 2, 3 y 4 | P45: Riesgo bajo
C47: Valoración del Riesgo
C48: Calificación Cualitativa | G48: Obstruye la ejecución del contrato de manera intrascendente. | I48: Dificulta la ejecución del contrato de manera baja, aplicando medidas mínimas se pueden lograr el objeto contractual | L48: Afecta la ejecución del contrato sin alterar el beneficio para las partes | N48: Obstruye la ejecución del contrato sustancialmente pero aun así permite la consecución del objeto contractual | P48: Perturba la ejecución del contrato de manera grave imposibilitando la consecución del objeto contractual.
C49: Calificación Monetaria | G49: Los sobrecostos no representan más del uno por ciento (1%) del valor del contrato. | I49: Los sobrecostos no representan más del cinco por ciento (5%) del valor del contrato. | L49: Genera un impacto sobre el valor del contrato entre el cinco (5%) y el quince por ciento (15%). | N49: Incrementa el valor del contrato entre el quince (15%) y el treinta por ciento (30%). | P49: Impacto sobre el valor del contrato en más del treinta por ciento (30%).
C50: Catagoria | F50: Valoración | G50: Insignificante | I50: Menor | L50: Moderado | N50: Mayor | P50: Catastrófico
G51: 1 | I51: 2 | L51: 3 | N51: 4 | P51: 5
C52: Raro (puede ocurrir excepcionalmente) | F52: 1 | G52: 2 | I52: 3 | L52: 4 | N52: 5 | P52: 6
C53: Improbable (puede ocurrir ocasionalmente) | F53: 2 | G53: 3 | I53: 4 | L53: 5 | N53: 6 | P53: 7
...

Sheet ASIGNACION Y TRATAMIENTO
C2: MATRIZ DE RIESGOS DE CONTRATACIÓN | W2: Código: GCO-GCI-F164 Versión: 02 Vigencia: 01 de diciembre de 2022 Caso HOLA: 280117
B6: Objeto Contractual: "Objeto del Proceso de Contratación: PRESTAR LOS SERVICIOS DE APOYO LOGÍSTICO Y OPERATIVO PARA ADELANTAR JORNADAS DE CIRCULACIÓN, PROMOCIÓN Y APROPIACIÓN DE EXPRESIONES ARTÍSTICAS Y CULTURALES, ORIENTADAS AL FOMENTO DE LA CREATIVIDAD, LA PARTICIPACIÓN, EL ENCUENTRO INTERGENERACIONAL Y EL ACCESO A LA CULTURA DE NIÑAS, NIÑOS, ADOLESCENTES, PERSONAS MAYORES Y FAMILIAS DE LA LOCALIDAD DE TUNJUELITO, EN EL MARCO DEL PROYECTO DE INVERSIÓN 2929 “TUNJUELITO EPICENTRO DE CULTURA
B7: Esta matriz es un documento anexo del Estudio Previo
B10: No | C10: Descripción (Que puede pasar y, cómo puede ocurrir) | D10: Etapa | E10: Clase | F10: Fuente | G10: Consecuencias de la ocurrencia del evento | H10: Probabilidad | I10: Impacto | J10: Calificación total | K10: Prioridad | L10: ¿A quien se le asigna? | M10: % | N10: Tratamiento/Controles a ser implementados | O10: Probabilidad | P10: Impacto | Q10: Calificación total | R10: Prioridad | S10: ¿Afecta el equilibrio económico del contrato? | T10: Persona responsable por implementar el tratamiento | U10: Fecha estimada en que se inicia el tratamiento | V10: Fecha estimada en que se completa el tratamiento | W10: ¿Cómo se realiza el monitoreo | X10: Periodicidad ¿Cuándo?
B11: 1 | C11: =+'EVALUACION CON CONTROLES'!C16:F16 -> Requisitos habilitantes inapropiados para el proceso de selección | D11: =+'EVALUACION CON CONTROLES'!B16 -> PLANEACIÓN | E11: =VLOOKUP(C11,'IDENTIFICACION Y ANALISIS'!$B$19:$F$43,3,FALSE) -> General | F11: =VLOOKUP(C11,'IDENTIFICACION Y ANALISIS'!$B$19:$F$43,4,FALSE) -> Interno | G11: =+EVALUACION!H17 -> 1. Distorsión del proceso de selección 2. Elección de un proponente que no cumpla requisitos legales y/o que no tenga la capacidad para la ejecución 3. Selección adversa 4. Necesidad de iniciar un nuevo proceso | H11: =+EVALUACION!I17 -> 2 | I11: =+EVALUACION!J17 -> 4 | J11: =+EVALUACION!K17 -> 6 | K11: =+EVALUACION!L17 -> ALTO | L11: SDG | M11: 100 | N11: =+'EVALUACION CON CONTROLES'!G16 -> Revisión jurídica y efectuar revisiones con los lineamientos de Colombia Compra Eficiente | O11: 1 | P11: 3 | Q11: =+O11+P11 -> 4 | R11: =+'EVALUACION CON CONTROLES'!L16 -> BAJO | S11: =+'EVALUACION CON CONTROLES'!M16 -> NO | T11: =+'EVALUACION CON CONTROLES'!N16 -> PROFESIONALES DEL FONDO DE DESARROLLO LOCAL DE TUNJUELITO (PLANEACIÓN Y CONTRATACIÓN) | U11: 2026 | V11: 2026 | W11: =+'EVALUACION CON CONTROLES'!Q16 -> SEGUIMIENTO AL PROCESO | X11: =+'EVALUACION CON CONTROLES'!R16 -> ETAPA DE PLANEACIÓN Y SELECCIÓN
B12: 2 | C12: =+'EVALUACION CON CONTROLES'!C17:F17 -> Inadecuado análisis económico estimativo del valor del contrato | D12: =+'EVALUACION CON CONTROLES'!B17 -> PLANEACIÓN | E12: =VLOOKUP(C12,'IDENTIFICACION Y ANALISIS'!$B$19:$F$43,3,FALSE) -> General | F12: =VLOOKUP(C12,'IDENTIFICACION Y ANALISIS'!$B$19:$F$43,4,FALSE) -> Interno | G12: =+EVALUACION!H18 -> 1. Sobrecostos o ineficiencia económica del proyecto 2. Pérdidas económica para el contratista o para el FDLT 3. Necesidad de de iniciar un nuevo proceso | H12: =+EVALUACION!I18 -> 2 | I12: =+EVALUACION!J18 -> 3 | J12: =+EVALUACION!K18 -> 5 | K12: =+EVALUACION!L18 -> MEDIO | L12: SDG | M12: 100 | N12: =+'EVALUACION CON CONTROLES'!G17 -> Revisión exhaustiva en el proceso de estudio de mercado siguiendo los lineamientos de Colombia Compra Eficiente | O12: 2 | P12: 2 | Q12: =+O12+P12 -> 4 | R12: =+'EVALUACION CON CONTROLES'!L17 -> BAJO | S12: =+'EVALUACION CON CONTROLES'!M17 -> SI | T12: =+'EVALUACION CON CONTROLES'!N17 -> PROFESIONALES DEL FONDO DE DESARROLLO LOCAL DE TUNJUELITO (PLANEACIÓN Y CONTRATACIÓN) | U12: 2026 | V12: 2026 | W12: =+'EVALUACION CON CONTROLES'!Q17 -> SEGUIMIENTO AL PROCESO | X12: =+'EVALUACION CON CONTROLES'!R17 -> ETAPA DE PLANEACIÓN
B13: 3 | C13: =+'EVALUACION CON CONTROLES'!C18:F18 -> Inadecuada descripción del bien o servicio requerido | D13: =+'EVALUACION CON CONTROLES'!B18 -> PLANEACIÓN | E13: =VLOOKUP(C13,'IDENTIFICACION Y ANALISIS'!$B$19:$F$43,3,FALSE) -> General | F13: =VLOOKUP(C13,'IDENTIFICACION Y ANALISIS'!$B$19:$F$43,4,FALSE) -> Interno | G13: =+EVALUACION!H19 -> 1. Necesidad de iniciar un nuevo proceso 2. Distorsión del proceso de selección 3. Selección adversa | H13: =+EVALUACION!I19 -> 2 | I13: =+EVALUACION!J19 -> 3 | J13: =+EVALUACION!K19 -> 5 | K13: =+EVALUACION!L19 -> MEDIO | L13: SDG | M13: 100 | N13: =+'EVALUACION CON CONTROLES'!G18 -> Reducir la probabilidad de ocurrencia del evento | O13: 2 | P13: 2 | Q13: =+O13+P13 -> 4 | R13: =+'EVALUACION CON CONTROLES'!L18 -> BAJO | S13: =+'EVALUACION CON CONTROLES'!M18 -> NO | T13: =+'EVALUACION CON CONTROLES'!N18 -> PRESTAR LOS SERVICIOS LOGISTICOS PARA REALIZAR LOS ENCUENTROS CIUDADANOS Y ADMNISTRATIVOS DE LA LOCALIDAD DE TUNJUELITO, EN EL MARCO DEL PROCESO DE LAS ACTIVIDADES QUE SE REQUIERA PARA LLEVAR A CABO EL PLAN DE DESARROLLO LOCAL”, EN EL MARCO DEL PROYECTO 2900 “PROGRAMA: FORTALECIMIENTO INSTITUCIONAL PARA UN GOBIERNO CONFIABLE" | U13: 2026 | V13: 2026 | W13: =+'EVALUACION CON CONTROLES'!Q18 -> SEGUIMIENTO AL PROCESO | X13: =+'EVALUACION CON CONTROLES'!R18 -> ETAPA DE PLANEACIÓN
B14: 4 | C14: =+'EVALUACION CON CONTROLES'!C19:F19 -> Falta de profundidad en el estudio de sector no identificandose claramente aspectos de oferta y demanda | D14: =+'EVALUACION CON CONTROLES'!B19 -> PLANEACIÓN | E14: =VLOOKUP(C14,'IDENTIFICACION Y ANALISIS'!$B$19:$F$43,3,FALSE) -> General | F14: =VLOOKUP(C14,'IDENTIFICACION Y ANALISIS'!$B$19:$F$43,4,FALSE) -> Interno | G14: =+EVALUACION!H20 -> 1. Sobrecostos o ineficiencia económica del proyecto 2. Selección adversa 3. No se puede satisfacer la necesidad de la entidad | H14: =+EVALUACION!I20 -> 2 | I14: =+EVALUACION!J20 -> 3 | J14: =+EVALUACION!K20 -> 5 | K14: =+EVALUACION!L20 -> MEDIO | L14: SDG | M14: 100 | N14: =+'EVALUACION CON CONTROLES'!G19 -> Utilizar los lineamientos de Colombia Compra Eficiente y utilizar como referencia procesos similares | O14: 2 | P14: 2 | Q14: =+O14+P14 -> 4 | R14: =+'EVALUACION CON CONTROLES'!L19 -> BAJO | S14: =+'EVALUACION CON CONTROLES'!M19 -> SI | T14: =+'EVALUACION CON CONTROLES'!N19 -> PROFESIONALES DEL FONDO DE DESARROLLO LOCAL DE TUNJUELITO (PLANEACIÓN Y CONTRATACIÓN) | U14: 2026 | V14: 2026 | W14: =+'EVALUACION CON CONTROLES'!Q19 -> SEGUIMIENTO AL PROCESO | X14: =+'EVALUACION CON CONTROLES'!R19 -> ETAPA DE PLANEACIÓN
B15: 5 | C15: =+'EVALUACION CON CONTROLES'!C20:F20 -> Ausencia de fundamentación de la justificación y conveniencia de la contratación | D15: =+'EVALUACION CON CONTROLES'!B20 -> PLANEACIÓN | E15: =VLOOKUP(C15,'IDENTIFICACION Y ANALISIS'!$B$19:$F$43,3,FALSE) -> General | F15: =VLOOKUP(C15,'IDENTIFICACION Y ANALISIS'!$B$19:$F$43,4,FALSE) -> Interno | G15: =+EVALUACION!H21 -> 1. Necesidad de iniciar un nuevo proceso. 2. Selección adversa 3. No se puede satisfacer la necesidad de la entidad | H15: =+EVALUACION!I21 -> 2 | I15: =+EVALUACION!J21 -> 3 | J15: =+EVALUACION!K21 -> 5 | K15: =+EVALUACION!L21 -> MEDIO | L15: SDG | M15: 100 | N15: =+'EVALUACION CON CONTROLES'!G20 -> Revisiones constantes por parte del área de planeación de la entidad tomando como referencia procesos similares | O15: 1 | P15: 2 | Q15: =+O15+P15 -> 3 | R15: =+'EVALUACION CON CONTROLES'!L20 -> BAJO | S15: =+'EVALUACION CON CONTROLES'!M20 -> NO | T15: =+'EVALUACION CON CONTROLES'!N20 -> PROFESIONALES DEL FONDO DE DESARROLLO LOCAL DE TUNJUELITO (PLANEACIÓN Y CONTRATACIÓN) | U15: 2026 | V15: 2026 | W15: =+'EVALUACION CON CONTROLES'!Q20 -> SEGUIMIENTO AL PROCESO | X15: =+'EVALUACION CON CONTROLES'!R20 -> ETAPA DE PLANEACIÓN
B16: 6 | C16: =+'EVALUACION CON CONTROLES'!C21:F21 -> Errores involuntarios en los Estudios Previos, Pliegos de Condiciones, Estudio de Sector y en general cualquier documento que sea parte integral del mismo. | D16: =+'EVALUACION CON CONTROLES'!B21 -> PLANEACIÓN | E16: =VLOOKUP(C16,'IDENTIFICACION Y ANALISIS'!$B$19:$F$43,3,FALSE) -> General | F16: =VLOOKUP(C16,'IDENTIFICACION Y ANALISIS'!$B$19:$F$43,4,FALSE) -> Interno | G16: =+EVALUACION!H22 -> 1. Necesidad de iniciar un nuevo proceso 2. No se puede satisfacer la necesidad de la entidad. | H16: =+EVALUACION!I22 -> 2 | I16: =+EVALUACION!J22 -> 3 | J16: =+EVALUACION!K22 -> 5 | K16: =+EVALUACION!L22 -> MEDIO | L16: SDG | M16: 100 | N16: =+'EVALUACION CON CONTROLES'!G21 -> Verificar los documentos en el proceso de observaciones y respuesta a estas mismas observaciones. Realizar las aclaraciones necesarias en el proceso de selección y evaluar las propuestas con los criterios sugeridos por Colombia Compra Eficiente. | O16: 2 | P16: 2 | Q16: =+O16+P16 -> 4 | R16: =+'EVALUACION CON CONTROLES'!L21 -> BAJO | S16: =+'EVALUACION CON CONTROLES'!M21 -> SI | T16: =+'EVALUACION CON CONTROLES'!N21 -> PROFESIONALES DEL FONDO DE DESARROLLO LOCAL DE TUNJUELITO (PLANEACIÓN Y CONTRATACIÓN) | U16: 2026 | V16: 2026 | W16: =+'EVALUACION CON CONTROLES'!Q21 -> SEGUIMIENTO AL PROCESO | X16: =+'EVALUACION CON CONTROLES'!R21 -> ETAPA DE PLANEACIÓN Y SELECCIÓN
B17: 7 | C17: =+'EVALUACION CON CONTROLES'!C22:F22 -> Inadecuada evaluación de las ofertas y/o verificación de requisitos habilitantes | D17: =+'EVALUACION CON CONTROLES'!B22 -> SELECCIÓN | E17: =VLOOKUP(C17,'IDENTIFICACION Y ANALISIS'!$B$19:$F$43,3,FALSE) -> General | F17: =VLOOKUP(C17,'IDENTIFICACION Y ANALISIS'!$B$19:$F$43,4,FALSE) -> Interno | G17: =+EVALUACION!H23 -> 1. Selecciónar un contratista que no esté en capacidad de cumplir con el objeto del contrato. 2. Selección adversa | H17: =+EVALUACION!I23 -> 3 | I17: =+EVALUACION!J23 -> 4 | J17: =+EVALUACION!K23 -> 7 | K17: =+EVALUACION!L23 -> ALTO | L17: SDG | M17: 100 | N17: =+'EVALUACION CON CONTROLES'!G22 -> Efectuar verificaciones a los documentos y propuestas presentadas, con el apoyo de los profesionales del área y el equipo jurídico | O17: 2 | P17: 2 | Q17: =+O17+P17 -> 4 | R17: =+'EVALUACION CON CONTROLES'!L22 -> BAJO | S17: =+'EVALUACION CON CONTROLES'!M22 -> NO | T17: =+'EVALUACION CON CONTROLES'!N22 -> PROFESIONALES DEL FONDO DE DESARROLLO LOCAL DE TUNJUELITO (PLANEACIÓN Y CONTRATACIÓN) | U17: 2026 | V17: 2026 | W17: =+'EVALUACION CON CONTROLES'!Q22 -> SEGUIMIENTO AL PROCESO | X17: =+'EVALUACION CON CONTROLES'!R22 -> SEMANAL ETAPA DE SELECCIÓN
B18: 8 | C18: =+'EVALUACION CON CONTROLES'!C23:F23 -> Confabulacion de los proponentes (Colusión) | D18: =+'EVALUACION CON CONTROLES'!B23 -> SELECCIÓN | E18: =VLOOKUP(C18,'IDENTIFICACION Y ANALISIS'!$B$19:$F$43,3,FALSE) -> General | F18: =VLOOKUP(C18,'IDENTIFICACION Y ANALISIS'!$B$19:$F$43,4,FALSE) -> Externo | G18: =+EVALUACION!H24 -> 1. Selecciónar un contratista que no esté en capacidad de cumplir con el objeto del contrato. 2. Selección adversa | H18: =+EVALUACION!I24 -> 3 | I18: =+EVALUACION!J24 -> 4 | J18: =+EVALUACION!K24 -> 7 | K18: =+EVALUACION!L24 -> ALTO | L18: SDG | M18: 100 | N18: =+'EVALUACION CON CONTROLES'!G23 -> Utilizar la metodología de Colombia Compra Eficiente y dar cumplimiento a la normatividad vigente. | O18: 2 | P18: 3 | Q18: 5 | R18: =+'EVALUACION CON CONTROLES'!L23 -> MEDIO | S18: =+'EVALUACION CON CONTROLES'!M23 -> NO | T18: =+'EVALUACION CON CONTROLES'!N23 -> PROFESIONALES DEL FONDO DE DESARROLLO LOCAL DE TUNJUELITO (PLANEACIÓN Y CONTRATACIÓN) | U18: 2026 | V18: 2026 | W18: =+'EVALUACION CON CONTROLES'!Q23 -> MUESTREO ALEATORIO DE CALIDAD | X18: =+'EVALUACION CON CONTROLES'!R23 -> SEMANAL ETAPA DE SELECCIÓN
B19: 9 | C19: =+'EVALUACION CON CONTROLES'!C24:F24 -> Que ninguno de los proponentes cumplan los requisitos habilitantes establecidos en el pliego de condiciones | D19: =+'EVALUACION CON CONTROLES'!B24 -> SELECCIÓN | E19: =VLOOKUP(C19,'IDENTIFICACION Y ANALISIS'!$B$19:$F$43,3,FALSE) -> General | F19: =VLOOKUP(C19,'IDENTIFICACION Y ANALISIS'!$B$19:$F$43,4,FALSE) -> Interno | G19: =+EVALUACION!H25 -> 1. Que se declare desierta la convocatoria 2. Necesidad de iniciar un nuevo proceso | H19: =+EVALUACION!I25 -> 2 | I19: =+EVALUACION!J25 -> 4 | J19: =+EVALUACION!K25 -> 6 | K19: =+EVALUACION!L25 -> ALTO | L19: SDG | M19: 100 | N19: =+'EVALUACION CON CONTROLES'!G24 -> Efectuar verificaciones a los documentos y propuestas presentadas por parte de los profesionales del área | O19: 2 | P19: 3 | Q19: 5 | R19: =+'EVALUACION CON CONTROLES'!L24 -> MEDIO | S19: =+'EVALUACION CON CONTROLES'!M24 -> NO | T19: =+'EVALUACION CON CONTROLES'!N24 -> PROFESIONALES DEL FONDO DE DESARROLLO LOCAL DE TUNJUELITO (PLANEACIÓN Y CONTRATACIÓN) | U19: 2026 | V19: 2026 | W19: =+'EVALUACION CON CONTROLES'!Q24 -> MUESTREO ALEATORIO DE CALIDAD | X19: =+'EVALUACION CON CONTROLES'!R24 -> SEMANAL ETAPA DE SELECCIÓN
B20: 10 | C20: =+'EVALUACION CON CONTROLES'!C25:F25 -> Proyección económica por parte del proponente que conlleve a pérdidas o baja utilidad en la ejecución del contrato. | D20: =+'EVALUACION CON CONTROLES'!B25 -> SELECCIÓN | E20: =VLOOKUP(C20,'IDENTIFICACION Y ANALISIS'!$B$19:$F$43,3,FALSE) -> General | F20: =VLOOKUP(C20,'IDENTIFICACION Y ANALISIS'!$B$19:$F$43,4,FALSE) -> Externo | G20: =+EVALUACION!H26 -> 1. Pérdidas económicas para el contratista o propuestas artificialmente bajas. | H20: =+EVALUACION!I26 -> 2 | I20: =+EVALUACION!J26 -> 4 | J20: =+EVALUACION!K26 -> 6 | K20: =+EVALUACION!L26 -> ALTO | L20: CONTRATISTA | M20: 100 | N20: =+'EVALUACION CON CONTROLES'!G25 -> Realizar aclaraciones en el proceso de selección y evaluar las propuestas con los criterios sugeridos por Colombia Compra Eficiente. | O20: 2 | P20: 3 | Q20: 5 | R20: =+'EVALUACION CON CONTROLES'!L25 -> MEDIO | S20: =+'EVALUACION CON CONTROLES'!M25 -> NO | T20: =+'EVALUACION CON CONTROLES'!N25 -> PROFESIONALES DEL FONDO DE DESARROLLO LOCAL DE TUNJUELITO (PLANEACIÓN Y CONTRATACIÓN) | U20: 2026 | V20: 2026 | W20: =+'EVALUACION CON CONTROLES'!Q25 -> MUESTREO ALEATORIO DE CALIDAD | X20: =+'EVALUACION CON CONTROLES'!R25 -> SEMANAL ETAPA DE SELECCIÓN
