Workbook
Name _________AFC1: #REF!
Name _________AFC3: #REF!
Name _________AFC5: #REF!
Name _________BGC1: #REF!
Name _________BGC3: #REF!
Name _________BGC5: #REF!
Name _________CAC1: #REF!
Name _________CAC3: #REF!
Name _________CAC5: #REF!
Name _________PJ50: #REF!
Name _________PJ50: #REF!
Name _________PJ50: #REF!
Name _________PJ50: #REF!
Name _________PJ50: #REF!
Name _________PJ50: #REF!
Name _________PJ50: #REF!
Name _________PJ50: #REF!
Name _________PJ50: #REF!
Name _________PJ50: #REF!
Name _________PJ50: #REF!
Name _________PJ50: #REF!
Name _________PJ50: #REF!
Name _________PJ50: #REF!
Name _________PJ50: #REF!
Name _________PJ50: #REF!
Name _________PJ50: #REF!
Name _________PJ50: #REF!
Name _________PJ50: #REF!
Name _________PJ50: #REF!
Name _________PJ50: #REF!
Name _________PJ50: #REF!
Name _________PJ50: #REF!
Name _________PJ50: #REF!
Name _________PJ50: #REF!
Name _________PJ50: #REF!
Name _________PJ50: #REF!
Name _________PJ50: #REF!
Name _________PJ50: #REF!
Name _________PJ50: #REF!
Name _________PJ50: #REF!
Name _________PJ50: #REF!
Name _________PJ50: #REF!
Name _________PJ50: #REF!
Name _________PJ50: #REF!
Name _________PJ50: #REF!
Name _________PJ50: #REF!
Name _________PJ50: #REF!
Name _________PJ50: #REF!
Name _________PJ50: #REF!
Name _________PJ50: #REF!
Name _________PJ50: #REF!
Name _________PJ50: #REF!
Name _________PJ50: #REF!
Name _________PJ50: #REF!
Name _________PJ50: #REF!
Name _________PJ50: #REF!
Name _________PJ50: #REF!
Name _________PJ50: #REF!
Name _________PJ50: #REF!
Name _________PJ50: #REF!

Sheet PRESUPUESTO OFICIAL (Entidad)
B1: Formulario 1 - Propuesta económica - Documento tipo de selección abreviada de menor cuantía - versión 1
B2: Versión: 1 del 21 de agosto de 2025
C5: FORMULARIO 1
C6: PRESUPUESTO OFICIAL
C7: [La entidad puede utilizar este formulario de detalle del presupuesto oficial para determinar las condiciones bajo las cuales los proponentes analizarán y presentarán su propuesta económica de forma detallada, sin perjuicio que la entidad pueda modificarlo o establecer la presentación de la oferta económica con un formulario distinto al indicado.]
C9: Adicionalmente, cuando el proceso de contratación es estructurado por precios unitarios, la Entidad debe aplicar las notas 1, 2 y 3 del presente formulario y las casillas de "Descripción", "Porcentaje" de la Administración, Imprevisto, Utilidad y total A.I.U. resaltadas en colo amarillo. Tratándose de otras modalidades de precio, la Entidad puede o no configurar los mismos aspectos.
C11: Nº | D11: ITEM DE PAGO | E11: ESPECIFICACIONES | G11: DESCRIPCION | H11: UND. | I11: CANTIDAD | J11: VALOR UNITARIO | K11: VALOR TOTAL
E12: GENERAL | F12: PARTICULAR
C13: PROYECTO SALÓN COMUNAL GRAN COLOMBIA
C14: 1. | G14: ACTIVIDADES PRELIMINARES
C15: 1.01 | G15: CERRAMIENTO PROVISIONAL CON LISTONES DE MADERA Y TELA VERDE DE PROPILENO | H15: ML | I15: 62.399471 | J15: =+'ITEM DE PAGO 1,01'!O69 -> 47218 | K15: =ROUND(I15*J15,0) -> 2946378
C16: 1.02 | G16: LOCALIZACIÓN Y REPLANTEO | H16: M2 | I16: 211.536 | J16: =+'ITEM DE PAGO 1,02'!O69 -> 8483 | K16: =ROUND(I16*J16,0) -> 1794460
C17: 1.03 | G17: DESCAPOTE MANUAL | H17: M2 | I17: 211.536 | J17: =+'ITEM DE PAGO 1,03'!O69 -> 48385 | K17: =ROUND(I17*J17,0) -> 10235169
C18: 1.04 | G18: EXCAVACIÓN MANUAL SIN CLASIFICAR | H18: M3 | I18: 52.184137 | J18: =+'ITEM DE PAGO 1,04'!O69 -> 127947 | K18: =ROUND(I18*J18,0) -> 6676804
C19: 1.05 | G19: RELLENO CON MATERIAL GRANULAR BG-1 1/2" VIBROCOMPACTADO MANUAL | H19: M3 | I19: 26.173262 | J19: =+'ITEM DE PAGO 1,05'!O70 -> 197907 | K19: =ROUND(I19*J19,0) -> 5179872
C20: Subtotal | K20: =SUM(K15:K19) -> 26832683
C21: 2. | G21: CIMIENTOS, PISOS Y ESTRUCTURAS EN CONCRETO
C22: 2.01 | G22: SOLADO EN CONCRETO 14.0 MPa TM 1" | H22: M2 | I22: 43.353 | J22: =+'ITEM DE PAGO 2,01'!O69 -> 88206 | K22: =ROUND(I22*J22,0) -> 3823995
C23: 2.02 | G23: CONCRETO DE ZAPATA 21 MPA | H23: M3 | I23: 3.456 | J23: =+'ITEM DE PAGO 2,02'!O69 -> 1414716 | K23: =ROUND(I23*J23,0) -> 4889258
C24: 2.03 | G24: CONCRETO CICLÓPEO | H24: M3 | I24: 2.7414 | J24: =+'ITEM DE PAGO 2,03'!O69 -> 1064421 | K24: =ROUND(I24*J24,0) -> 2918004
C25: 2.04 | G25: CONCRETO DE VIGAS DE AMARRE 21 MPA | H25: M3 | I25: 9.207275 | J25: =+'ITEM DE PAGO 2,04'!O69 -> 1799577 | K25: =ROUND(I25*J25,0) -> 16569200
C26: 2.05 | G26: CONCRETO DE COLUMNAS (0,3 X 0,3)M 21MPA | H26: M3 | I26: 3.8646 | J26: =+'ITEM DE PAGO 2,05'!O69 -> 1720132 | K26: =ROUND(I26*J26,0) -> 6647622
C27: 2.06 | G27: CONCRETO DE VIGAS AEREAS 21 MPA | H27: M3 | I27: 5.05295 | J27: =+'ITEM DE PAGO 2,06'!O71 -> 1819866 | K27: =ROUND(I27*J27,0) -> 9195692
C28: 2.07 | G28: VIGA SOBRE MURO EN CONCRETO 12X20 CMS 21 MPA (INCLUYE REFUERZO) | H28: ML | I28: 82.87 | J28: =+'ITEM DE PAGO 2,07'!O69 -> 189443 | K28: =ROUND(I28*J28,0) -> 15699141
C29: 2.08 | G29: CONCRETO TARIMA D21 MPA | H29: M2 | I29: 18.827146 | J29: =+'ITEM DE PAGO 2,08'!O69 -> 251822 | K29: =ROUND(I29*J29,0) -> 4741089
C30: 2.09 | G30: ESCALERAS EN CONCRETO | H30: UND | I30: 1.0017 | J30: =+'ITEM DE PAGO 2,09'!O69 -> 446835 | K30: =ROUND(I30*J30,0) -> 447595
C31: 2.1 | G31: ACERO DE REFUERZO fy:4200 kg/cm FIGURADO (INCLUYE ALAMBRE NEGRO FIGURADO) | H31: KG | I31: 3237.7743 | J31: =+'ITEM DE PAGO 2,10'!O69 -> 16083 | K31: =ROUND(I31*J31,0) -> 52073123
C32: 2.11 | G32: PLACA DE PISO EN CONCRETO 21 MPA e=0,12m | H32: M2 | I32: 189.03385 | J32: =+'ITEM DE PAGO 2,11'!O69 -> 211121 | K32: =ROUND(I32*J32,0) -> 39909016
C33: 2.12 | G33: MALLA ELECTROSOLDADA 6MM DE 15*15 CM | H33: M2 | I33: 207.861 | J33: =+'ITEM DE PAGO 2,12'!O69 -> 32027 | K33: =ROUND(I33*J33,0) -> 6657164
C34: 2.13 | G34: ANTEPISO E=0.05M | H34: M2 | I34: 189.03385 | J34: =+'ITEM DE PAGO 2,13'!O69 -> 79335 | K34: =ROUND(I34*J34,0) -> 14997001
C35: 2.14 | G35: PLACA MACIZA H=0.10M 21MPA | H35: M2 | I35: 17.4816 | J35: =+'ITEM DE PAGO 2,14'!O72 -> 268774 | K35: =ROUND(I35*J35,0) -> 4698600
C36: 2.15 | G36: MESON EN CONCRETO | H36: M2 | I36: 2.34 | J36: =+'ITEM DE PAGO 2,15'!O69 -> 321327 | K36: =ROUND(I36*J36,0) -> 751905
C37: 2.16 | G37: JARDINERA | H37: ML | I37: 4.27 | J37: =+'ITEM DE PAGO 2,16'!O69 -> 69732 | K37: =ROUND(I37*J37,0) -> 297756
C38: 2.17 | G38: RAMPA PARA DISCAPACITADOS | H38: M2 | I38: 1.017 | J38: =+'ITEM DE PAGO 2,17'!O69 -> 233885 | K38: =ROUND(I38*J38,0) -> 237861
C39: Subtotal | K39: =SUM(K22:K38) -> 184554022
C40: 3. | G40: MAMPOSTERIA Y PAÑETE
C41: 3.01 | G41: MURO EN LADRILLO DE OBRA A LA VISTA E =0,12 | H41: M2 | I41: 186.04055 | J41: =+'ITEM DE PAGO 3,01'!O69 -> 185814 | K41: =ROUND(I41*J41,0) -> 34568939
C42: 3.02 | G42: PAÑETES SOBRE MURO 1:4 | H42: M2 | I42: 302.1354 | J42: =+'ITEM DE PAGO 3,02'!O69 -> 63258 | K42: =ROUND(I42*J42,0) -> 19112481
C43: 3.03 | G43: MURO EN BLOQUE N°5 ROSADO B=0.10M | H43: M2 | I43: 24.848 | J43: =+'ITEM DE PAGO 3,03'!O69 -> 95778 | K43: =ROUND(I43*J43,0) -> 2379892
C44: Subtotal | K44: =SUM(K41:K43) -> 56061312
...

Sheet PROPUESTA ECONOMICA(Proponente)
B1: Formulario 1 - Propuesta económica - Documento tipo de selección abreviada de menor cuantía - versión 1
B2: Versión: 1 del 21 de agosto de 2025
C5: FORMULARIO 1
C6: PROPUESTA ECONOMICA
C7: [La entidad puede utilizar este formulario de presentación de propuesta económica de forma detallada, sin perjuicio que la entidad pueda modificarlo o establecer la presentación de la oferta económica con un formulario distinto al indicado.] [Los proponentes emplearán el formulario establecido por la entidad para determinar su propuesta económica conforme al Formulario 1 - Presupuesto Oficial publicado por la Entidad] [En caso de modificar el formulario, es importante tener en cuenta que no se deben incluir causales de rechazo, reglas o parámetros contrarios a los definidos en el documento base. Los términos del proceso solo se encuentran en el Documento Base, por lo que la Entidad no deberá incluir ningún tipo de notas que se configuren en reglas contrarias a las definidas en dicho documento, las notas únicamente pueden ser aclaratorias para efectos del diligenciamiento del formato]
C9: Cuando el proceso de contratación es estructurado por precios unitarios, la Entidad debe aplicar las notas 1, 2 y 3 del presente formato y las casillas de "Descripción", "Porcentaje" de la Administración, Imprevisto, Utilidad y total A.I.U. resaltadas en color amarillo.
C11: Nº | D11: ITEM DE PAGO | E11: ESPECIFICACIONES | G11: DESCRIPCION | H11: UND. | I11: CANTIDAD | J11: VALOR UNITARIO | K11: VALOR TOTAL
E12: GENERAL | F12: PARTICULAR
C15: Subtotal
C21: Subtotal
C31: Subtotal
C36: Subtotal
C39: Subtotal
C40: SUBTOTAL OBRAS
G45: SUBTOTAL OBRAS (INCLUYE IVA)
G49: VALOR TOTAL
C52: NOTA 1: Se debe tener en cuenta que el PRECIO UNITARIO incluye el valor de A.I.U. | H52: DESCRIPCION | K52: PORCENTAJE
C53: NOTA 2: Cuando la fracción decimal del peso sea igual o superior a 5 se aproximara por exceso al número entero siguiente del peso y cuando la fracción decimal del peso sea inferior a 5 se aproximará por defecto al número entero del peso. | H53: ADMINISTRACION | J53: A= | K53: [Ofrecimiento del Proponente]
C54: NOTA 3: El A.I.U y su discriminación deben estar en porcentaje (%). | H54: IMPREVISTO | J54: I= | K54: [Ofrecimiento del Proponente]
H55: UTILIDAD | J55: U= | K55: [Ofrecimiento del Proponente]
H56: TOTAL A.I.U | J56: A.I.U.= | K56: [Ofrecimiento del Proponente]
G59: Firma del Proponente o de su Representante Legal

Sheet ITEM DE PAGO 1,01
B1: Formulario 1 - Propuesta económica - Documento tipo de selección abreviada de menor cuantía
B2: Versión: 1 del 21 de agosto de 2025
C5: [La entidad podrá utilizar este formato para la presentación de los análisis de precios unitarios el contratista en la oportunidad prevista en el numeral 8.2. del Documento Base]
D8: ALCALDIA DE VILLA DEL ROSARIO
L9: VERSIÓN
D10: PROYECTO SALÓN COMUNAL GRAN COLOMBIA
L11: PÁGINA | M11: 1 | N11: DE | O11: 1
D13: ANALISIS DE PRECIOS UNITARIOS
L15: FECHA | M15: DD | N15: MM | O15: AA
C21: DATOS ESPECÍFICOS
C23: ITEM | D23: DESCRIPCIÓN | M23: UNIDAD | O23: CANTIDAD
C24: 1.01 | D24: =VLOOKUP(C24,'PRESUPUESTO OFICIAL (Entidad)'!$C$15:$I$106,5,FALSE()) -> CERRAMIENTO PROVISIONAL CON LISTONES DE MADERA Y TELA VERDE DE PROPILENO | M24: =VLOOKUP(C24,'PRESUPUESTO OFICIAL (Entidad)'!$C$15:$I$106,6,FALSE()) -> ML | O24: =VLOOKUP(C24,'PRESUPUESTO OFICIAL (Entidad)'!$C$15:$I$106,7,FALSE()) -> 62.399471
C25: I. EQUIPO
C28: DESCRIPCIÓN | H28: MARCA | J28: TIPO | L28: TARIFA/HORA | M28: RENDIMIENTO | O28: Vr. UNITARIO
C31: HERRAMIENTA MENOR 5% | M31: 0.05 | O31: =O58*M31 -> 559.85
C32: SUBTOTAL $ | O32: =SUM(O29:O31) -> 559.85
C33: II. MATERIALES
C36: DESCRIPCIÓN | K36: UNIDAD | L36: CANTIDAD | M36: PRECIO UNIT. | O36: Vr. UNITARIO
C37: VARA COMUN | K37: UND | L37: 0.5 | M37: 24000 | O37: =L37*M37 -> 12000
C38: TELA VERDE DE CERRAMIENTO | K38: ML | L38: 1.05 | M38: 6500 | O38: =L38*M38 -> 6825
C39: GRPA DE 1” | K39: KG | L39: 0.4 | M39: 10985 | O39: =L39*M39 -> 4394
O40: =L40*M40 -> 0
C42: SUBTOTAL $ | O42: =SUM(O37:O41) -> 23219
C43: III. TRANSPORTES
C46: MATERIAL | J46: VOL. o PESO | K46: DISTANCIA | L46: M3 o Ton/Km | M46: TARIFA | O46: Vr. UNITARIO
C49: SUBTOTAL $ | O49: =SUM(O47:O48) -> 0
C50: IV. MANO DE OBRA
C53: TRABAJADOR | J53: JORNAL | K53: PRESTACIONES | L53: JORNAL TOTAL | M53: RENDIMIENTO | O53: Vr. UNITARIO
C54: 1 OFICIAL + AYUDANTE | J54: 300293 | K54: 1.13 | L54: 339331.09 | M54: 30.31 | O54: 11197
C58: SUBTOTAL $ | O58: =SUM(O54:O57) -> 11197
C60: TOTAL COSTO DIRECTO $ | O60: =ROUND(O32+O42+O49+O58,0) -> 34976
C61: V. COSTOS INDIRECTOS
C64: Descripción | L64: Porcentaje | M64: Valor Total
C65: ADMINISTRACION | L65: 0.3 | M65: =O60 -> 34976 | O65: =ROUND(L65*M65,0) -> 10493
C66: UTILIDAD | L66: 0.05 | M66: =O60 -> 34976 | O66: =ROUND(L66*M66,0) -> 1749
C67: SUBTOTAL $ | O67: =SUM(O65:O66) -> 12242
C69: Precio Unitario Total Aproximado al peso $ | O69: =ROUND(O60+O67,2) -> 47218
H72: Firma
H73: Nombre:
H74: Representante Legal del Contratista o su Apoderado
...

Sheet ITEM DE PAGO 1,02
B1: Formulario 1 - Propuesta económica - Documento tipo de selección abreviada de menor cuantía
B2: Versión: 1 del 21 de agosto de 2025
C5: [La entidad podrá utilizar este formato para la presentación de los análisis de precios unitarios el contratista en la oportunidad prevista en el numeral 8.2. del Documento Base]
D8: ALCALDIA DE VILLA DEL ROSARIO
L9: VERSIÓN
D10: PROYECTO SALÓN COMUNAL GRAN COLOMBIA
L11: PÁGINA | M11: 1 | N11: DE | O11: 1
D13: ANALISIS DE PRECIOS UNITARIOS
L15: FECHA | M15: DD | N15: MM | O15: AA
C21: DATOS ESPECÍFICOS
C23: ITEM | D23: DESCRIPCIÓN | M23: UNIDAD | O23: CANTIDAD
C24: 1.02 | D24: =VLOOKUP(C24,'PRESUPUESTO OFICIAL (Entidad)'!$C$15:$I$106,5,FALSE()) -> LOCALIZACIÓN Y REPLANTEO | M24: =VLOOKUP(C24,'PRESUPUESTO OFICIAL (Entidad)'!$C$15:$I$106,6,FALSE()) -> M2 | O24: =VLOOKUP(C24,'PRESUPUESTO OFICIAL (Entidad)'!$C$15:$I$106,7,FALSE()) -> 211.536
C25: I. EQUIPO
C28: DESCRIPCIÓN | H28: MARCA | J28: TIPO | L28: TARIFA/HORA | M28: RENDIMIENTO | O28: Vr. UNITARIO
C29: EQUIPO DE TOPOGRAFIA | J29: DU | L29: 103500 | M29: 250 | O29: 414
C31: HERRAMIENTA MENOR 5% | M31: 0.05 | O31: =O58*M31 -> 203.6
C32: SUBTOTAL $ | O32: =SUM(O29:O31) -> 617.6
C33: II. MATERIALES
C36: DESCRIPCIÓN | K36: UNIDAD | L36: CANTIDAD | M36: PRECIO UNIT. | O36: Vr. UNITARIO
C37: VARA COMUN 4M | K37: UND | L37: 0.04 | M37: 24000 | O37: =L37*M37 -> 960
C38: TABLA CHAPA ORDINARIO 0,02X0,3X3M | K38: ML | L38: 0.0233 | M38: 22231 | O38: =ROUND(L38*M38,0) -> 518
C39: PUNTILLA 1” | K39: KG | L39: 0.02 | M39: 5800 | O39: =L39*M39 -> 116
O40: =L40*M40 -> 0
C42: SUBTOTAL $ | O42: =SUM(O37:O41) -> 1594
C43: III. TRANSPORTES
C46: MATERIAL | J46: VOL. o PESO | K46: DISTANCIA | L46: M3 o Ton/Km | M46: TARIFA | O46: Vr. UNITARIO
C49: SUBTOTAL $ | O49: =SUM(O47:O48) -> 0
C50: IV. MANO DE OBRA
C53: TRABAJADOR | J53: JORNAL | K53: PRESTACIONES | L53: JORNAL TOTAL | M53: RENDIMIENTO | O53: Vr. UNITARIO
C54: TOPOGRAFO | J54: 216211 | K54: 1.13 | L54: 244318.43 | M54: 100 | O54: 2443
C55: CADENERO | J55: 144141 | K55: 113 | L55: 162879.33 | M55: 100 | O55: 1629
C58: SUBTOTAL $ | O58: =SUM(O54:O57) -> 4072
C60: TOTAL COSTO DIRECTO $ | O60: =ROUND(O32+O42+O49+O58,0) -> 6284
C61: V. COSTOS INDIRECTOS
C64: Descripción | L64: Porcentaje | M64: Valor Total
C65: ADMINISTRACION | L65: 0.3 | M65: =O60 -> 6284 | O65: =ROUND(L65*M65,0) -> 1885
C66: UTILIDAD | L66: 0.05 | M66: =O60 -> 6284 | O66: =ROUND(L66*M66,0) -> 314
C67: SUBTOTAL $ | O67: =SUM(O65:O66) -> 2199
C69: Precio Unitario Total Aproximado al peso $ | O69: =ROUND(O60+O67,2) -> 8483
H72: Firma
...

Sheet ITEM DE PAGO 1,03
B1: Formulario 1 - Propuesta económica - Documento tipo de selección abreviada de menor cuantía
B2: Versión: 1 del 21 de agosto de 2025
C5: [La entidad podrá utilizar este formato para la presentación de los análisis de precios unitarios el contratista en la oportunidad prevista en el numeral 8.2. del Documento Base]
D8: ALCALDIA DE VILLA DEL ROSARIO
L9: VERSIÓN
D10: PROYECTO SALÓN COMUNAL GRAN COLOMBIA
L11: PÁGINA | M11: 1 | N11: DE | O11: 1
D13: ANALISIS DE PRECIOS UNITARIOS
L15: FECHA | M15: DD | N15: MM | O15: AA
C21: DATOS ESPECÍFICOS
C23: ITEM | D23: DESCRIPCIÓN | M23: UNIDAD | O23: CANTIDAD
C24: 1.03 | D24: =VLOOKUP(C24,'PRESUPUESTO OFICIAL (Entidad)'!$C$15:$I$106,5,FALSE()) -> DESCAPOTE MANUAL | M24: =VLOOKUP(C24,'PRESUPUESTO OFICIAL (Entidad)'!$C$15:$I$106,6,FALSE()) -> M2 | O24: =VLOOKUP(C24,'PRESUPUESTO OFICIAL (Entidad)'!$C$15:$I$106,7,FALSE()) -> 211.536
C25: I. EQUIPO
C28: DESCRIPCIÓN | H28: MARCA | J28: TIPO | L28: TARIFA/HORA | M28: RENDIMIENTO | O28: Vr. UNITARIO
C29: RETROEXCAVADORA | J29: DU | L29: 200000 | M29: 50 | O29: 4000
C31: HERRAMIENTA MENOR 5% | M31: 0.05 | O31: =O58*M31 -> 1278.15
C32: SUBTOTAL $ | O32: =SUM(O29:O31) -> 5278.15
C33: II. MATERIALES
C36: DESCRIPCIÓN | K36: UNIDAD | L36: CANTIDAD | M36: PRECIO UNIT. | O36: Vr. UNITARIO
C42: SUBTOTAL $ | O42: =SUM(O37:O41) -> 0
C43: III. TRANSPORTES
C46: MATERIAL | J46: VOL. o PESO | K46: DISTANCIA | L46: M3 o Ton/Km | M46: TARIFA | O46: Vr. UNITARIO
C47: volqueta | L47: 0.02 | M47: 250000 | O47: =+L47*M47 -> 5000
C49: SUBTOTAL $ | O49: =SUM(O47:O48) -> 5000
C50: IV. MANO DE OBRA
C53: TRABAJADOR | J53: JORNAL | K53: PRESTACIONES | L53: JORNAL TOTAL | M53: RENDIMIENTO | O53: Vr. UNITARIO
C54: AYUDANTE | J54: 120117 | K54: 1.13 | L54: =+J54*K54 -> 135732.21 | M54: 5.3097136 | O54: =+L54/M54 -> 25563
C58: SUBTOTAL $ | O58: =SUM(O54:O57) -> 25563
C60: TOTAL COSTO DIRECTO $ | O60: =ROUND(O32+O42+O49+O58,0) -> 35841
C61: V. COSTOS INDIRECTOS
C64: Descripción | L64: Porcentaje | M64: Valor Total
C65: ADMINISTRACION | L65: 0.3 | M65: =O60 -> 35841 | O65: =ROUND(L65*M65,0) -> 10752
C66: UTILIDAD | L66: 0.05 | M66: =O60 -> 35841 | O66: =ROUND(L66*M66,0) -> 1792
C67: SUBTOTAL $ | O67: =SUM(O65:O66) -> 12544
C69: Precio Unitario Total Aproximado al peso $ | O69: =ROUND(O60+O67,2) -> 48385
H72: Firma
H73: Nombre:
H74: Representante Legal del Contratista o su Apoderado
H75: Matricula No. :
C77: OBSERVACIONES INTERVENTORÍA
...

Sheet ITEM DE PAGO 1,04
B1: Formulario 1 - Propuesta económica - Documento tipo de selección abreviada de menor cuantía
B2: Versión: 1 del 21 de agosto de 2025
C5: [La entidad podrá utilizar este formato para la presentación de los análisis de precios unitarios el contratista en la oportunidad prevista en el numeral 8.2. del Documento Base]
D8: ALCALDIA DE VILLA DEL ROSARIO
L9: VERSIÓN
D10: PROYECTO SALÓN COMUNAL GRAN COLOMBIA
L11: PÁGINA | M11: 1 | N11: DE | O11: 1
D13: ANALISIS DE PRECIOS UNITARIOS
L15: FECHA | M15: DD | N15: MM | O15: AA
C21: DATOS ESPECÍFICOS
C23: ITEM | D23: DESCRIPCIÓN | M23: UNIDAD | O23: CANTIDAD
C24: 1.04 | D24: =VLOOKUP(C24,'PRESUPUESTO OFICIAL (Entidad)'!$C$15:$I$106,5,FALSE()) -> EXCAVACIÓN MANUAL SIN CLASIFICAR | M24: =VLOOKUP(C24,'PRESUPUESTO OFICIAL (Entidad)'!$C$15:$I$106,6,FALSE()) -> M3 | O24: =VLOOKUP(C24,'PRESUPUESTO OFICIAL (Entidad)'!$C$15:$I$106,7,FALSE()) -> 52.184137
C25: I. EQUIPO
C28: DESCRIPCIÓN | H28: MARCA | J28: TIPO | L28: TARIFA/HORA | M28: RENDIMIENTO | O28: Vr. UNITARIO
C31: HERRAMIENTA MENOR 5% | M31: 0.05 | O31: 4513
C32: SUBTOTAL $ | O32: =SUM(O29:O31) -> 4513
C33: II. MATERIALES
C36: DESCRIPCIÓN | K36: UNIDAD | L36: CANTIDAD | M36: PRECIO UNIT. | O36: Vr. UNITARIO
C42: SUBTOTAL $ | O42: =SUM(O37:O41) -> 0
C43: III. TRANSPORTES
C46: MATERIAL | J46: VOL. o PESO | K46: DISTANCIA | L46: M3 o Ton/Km | M46: TARIFA | O46: Vr. UNITARIO
C49: SUBTOTAL $ | O49: =SUM(O47:O48) -> 0
C50: IV. MANO DE OBRA
C53: TRABAJADOR | J53: JORNAL | K53: PRESTACIONES | L53: JORNAL TOTAL | M53: RENDIMIENTO | O53: Vr. UNITARIO
C54: AYUDANTE | J54: 120117 | K54: 1.13 | L54: =J54*K54 -> 135732.21 | M54: 0.665 | O54: 90262
C58: SUBTOTAL $ | O58: =SUM(O54:O57) -> 90262
C60: TOTAL COSTO DIRECTO $ | O60: =ROUND(O32+O42+O49+O58,0) -> 94775
C61: V. COSTOS INDIRECTOS
C64: Descripción | L64: Porcentaje | M64: Valor Total
C65: ADMINISTRACION | L65: 0.3 | M65: =O60 -> 94775 | O65: =ROUND(L65*M65,0) -> 28433
C66: UTILIDAD | L66: 0.05 | M66: =O60 -> 94775 | O66: =ROUND(L66*M66,0) -> 4739
C67: SUBTOTAL $ | O67: =SUM(O65:O66) -> 33172
C69: Precio Unitario Total Aproximado al peso $ | O69: =ROUND(O60+O67,2) -> 127947
H72: Firma
H73: Nombre:
H74: Representante Legal del Contratista o su Apoderado
H75: Matricula No. :
C77: OBSERVACIONES INTERVENTORÍA
C79: APROBACIÓN POR INTERVENTORÍA
C80: Nota 1: Cuando se trate de Análisis de precios unitarios correspondientes a ítems de la propuesta económica aprobada, el Interventor aprueba el desglose de los componentes manteniendo el mismo precio unitario de cada ítem, cumpliendo con las especificaciones de construcción vigentes para el proyecto.
...

Sheet ITEM DE PAGO 1,05
B1: Formulario 1 - Propuesta económica - Documento tipo de selección abreviada de menor cuantía
B2: Versión: 1 del 21 de agosto de 2025
C5: [La entidad podrá utilizar este formato para la presentación de los análisis de precios unitarios el contratista en la oportunidad prevista en el numeral 8.2. del Documento Base]
D8: ALCALDIA DE VILLA DEL ROSARIO
L9: VERSIÓN
D10: PROYECTO SALÓN COMUNAL GRAN COLOMBIA
L11: PÁGINA | M11: 1 | N11: DE | O11: 1
D13: ANALISIS DE PRECIOS UNITARIOS
L15: FECHA | M15: DD | N15: MM | O15: AA
C21: DATOS ESPECÍFICOS
C23: ITEM | D23: DESCRIPCIÓN | M23: UNIDAD | O23: CANTIDAD
C24: 1.05 | D24: =VLOOKUP(C24,'PRESUPUESTO OFICIAL (Entidad)'!$C$15:$I$106,5,FALSE()) -> RELLENO CON MATERIAL GRANULAR BG-1 1/2" VIBROCOMPACTADO MANUAL | M24: =VLOOKUP(C24,'PRESUPUESTO OFICIAL (Entidad)'!$C$15:$I$106,6,FALSE()) -> M3 | O24: =VLOOKUP(C24,'PRESUPUESTO OFICIAL (Entidad)'!$C$15:$I$106,7,FALSE()) -> 26.173262
C25: I. EQUIPO
C28: DESCRIPCIÓN | H28: MARCA | J28: TIPO | L28: TARIFA/HORA | M28: RENDIMIENTO | O28: Vr. UNITARIO
C29: CARROTANQUE DE AGUA | J29: DM | L29: 403257 | M29: 0.05 | O29: 20163
C30: COMPACTADOR DE LLANTAS | J30: HM | L30: 125235 | M30: 0.05 | O30: 6262
C31: MOTONIVELADORA | J31: HM | L31: 172500 | M31: 0.05 | O31: 8625
C32: HERRAMIENTA MENOR 5% | M32: 0.05 | O32: 5311
C33: SUBTOTAL $ | O33: =SUM(O29:O32) -> 40361
C34: II. MATERIALES
C37: DESCRIPCIÓN | K37: UNIDAD | L37: CANTIDAD | M37: PRECIO UNIT. | O37: Vr. UNITARIO
C38: BASE GRANULAR TAMAÑO MAXIMO 1 ½ | K38: M3 | L38: 1.3 | M38: 76500 | O38: =L38*M38 -> 99450
C43: SUBTOTAL $ | O43: =SUM(O38:O42) -> 99450
C44: III. TRANSPORTES
C47: MATERIAL | J47: VOL. o PESO | K47: DISTANCIA | L47: M3 o Ton/Km | M47: TARIFA | O47: Vr. UNITARIO
C50: SUBTOTAL $ | O50: =SUM(O48:O49) -> 0
C51: IV. MANO DE OBRA
C54: TRABAJADOR | J54: JORNAL | K54: PRESTACIONES | L54: JORNAL TOTAL | M54: RENDIMIENTO | O54: Vr. UNITARIO
C55: AYUDANTE | J55: 120117 | K55: 1.13 | L55: =J55*K55 -> 135732.21 | M55: 20 | O55: =IF(M55>0,L55/M55,0) -> 6786.6105
C59: SUBTOTAL $ | O59: =SUM(O55:O58) -> 6786.6105
C61: TOTAL COSTO DIRECTO $ | O61: =ROUND(O33+O43+O50+O59,0) -> 146598
C62: V. COSTOS INDIRECTOS
C65: Descripción | L65: Porcentaje | M65: Valor Total
C66: ADMINISTRACION | L66: 0.3 | M66: =O61 -> 146598 | O66: =ROUND(L66*M66,0) -> 43979
C67: UTILIDAD | L67: 0.05 | M67: =O61 -> 146598 | O67: =ROUND(L67*M67,0) -> 7330
C68: SUBTOTAL $ | O68: =SUM(O66:O67) -> 51309
C70: Precio Unitario Total Aproximado al peso $ | O70: =ROUND(O61+O68,2) -> 197907
H73: Firma
H74: Nombre:
H75: Representante Legal del Contratista o su Apoderado
...

Sheet ITEM DE PAGO 2,01
B1: Formulario 1 - Propuesta económica - Documento tipo de selección abreviada de menor cuantía
B2: Versión: 1 del 21 de agosto de 2025
C5: [La entidad podrá utilizar este formato para la presentación de los análisis de precios unitarios el contratista en la oportunidad prevista en el numeral 8.2. del Documento Base]
D8: ALCALDIA DE VILLA DEL ROSARIO
L9: VERSIÓN
D10: PROYECTO SALÓN COMUNAL GRAN COLOMBIA
L11: PÁGINA | M11: 1 | N11: DE | O11: 1
D13: ANALISIS DE PRECIOS UNITARIOS
L15: FECHA | M15: DD | N15: MM | O15: AA
C21: DATOS ESPECÍFICOS
C23: ITEM | D23: DESCRIPCIÓN | M23: UNIDAD | O23: CANTIDAD
C24: 2.01 | D24: =VLOOKUP(C24,'PRESUPUESTO OFICIAL (Entidad)'!$C$15:$I$106,5,FALSE()) -> SOLADO EN CONCRETO 14.0 MPa TM 1" | M24: =VLOOKUP(C24,'PRESUPUESTO OFICIAL (Entidad)'!$C$15:$I$106,6,FALSE()) -> M2 | O24: =VLOOKUP(C24,'PRESUPUESTO OFICIAL (Entidad)'!$C$15:$I$106,7,FALSE()) -> 43.353
C25: I. EQUIPO
C28: DESCRIPCIÓN | H28: MARCA | J28: TIPO | L28: TARIFA/HORA | M28: RENDIMIENTO | O28: Vr. UNITARIO
C31: HERRAMIENTA MENOR 5% | M31: 0.05 | O31: =ROUNDDOWN(O58*M31,0) -> 1908
C32: SUBTOTAL $ | O32: =SUM(O29:O31) -> 1908
C33: II. MATERIALES
C36: DESCRIPCIÓN | K36: UNIDAD | L36: CANTIDAD | M36: PRECIO UNIT. | O36: Vr. UNITARIO
C37: CONCRETO 14MPA | K37: M3 | L37: 400866 | M37: =0.06*1.05 -> 0.063 | O37: =+ROUND(L37*M37,0) -> 25255
C42: SUBTOTAL $ | O42: =SUM(O37:O41) -> 25255
C43: III. TRANSPORTES
C46: MATERIAL | J46: VOL. o PESO | K46: DISTANCIA | L46: M3 o Ton/Km | M46: TARIFA | O46: Vr. UNITARIO
C49: SUBTOTAL $ | O49: =SUM(O47:O48) -> 0
C50: IV. MANO DE OBRA
C53: TRABAJADOR | J53: JORNAL | K53: PRESTACIONES | L53: JORNAL TOTAL | M53: RENDIMIENTO | O53: Vr. UNITARIO
C54: 1 OFICIAL + 3 AYUDANTES | J54: 540527 | K54: 1.13 | L54: =+J54*K54 -> 610795.51 | M54: 16 | O54: =ROUND(IF(M54>0,L54/M54,0),0) -> 38175
C58: SUBTOTAL $ | O58: =SUM(O54:O57) -> 38175
C60: TOTAL COSTO DIRECTO $ | O60: =ROUND(O32+O42+O49+O58,0) -> 65338
C61: V. COSTOS INDIRECTOS
C64: Descripción | L64: Porcentaje | M64: Valor Total
C65: ADMINISTRACION | L65: 0.3 | M65: =O60 -> 65338 | O65: =ROUND(L65*M65,0) -> 19601
C66: UTILIDAD | L66: 0.05 | M66: =O60 -> 65338 | O66: =ROUND(L66*M66,0) -> 3267
C67: SUBTOTAL $ | O67: =SUM(O65:O66) -> 22868
C69: Precio Unitario Total Aproximado al peso $ | O69: =ROUND(O60+O67,2) -> 88206
H72: Firma
H73: Nombre:
H74: Representante Legal del Contratista o su Apoderado
H75: Matricula No. :
C77: OBSERVACIONES INTERVENTORÍA
C79: APROBACIÓN POR INTERVENTORÍA
...

Sheet ITEM DE PAGO 2,02
B1: Formulario 1 - Propuesta económica - Documento tipo de selección abreviada de menor cuantía
B2: Versión: 1 del 21 de agosto de 2025
C5: [La entidad podrá utilizar este formato para la presentación de los análisis de precios unitarios el contratista en la oportunidad prevista en el numeral 8.2. del Documento Base]
D8: ALCALDIA DE VILLA DEL ROSARIO
L9: VERSIÓN
D10: PROYECTO SALÓN COMUNAL GRAN COLOMBIA
L11: PÁGINA | M11: 1 | N11: DE | O11: 1
D13: ANALISIS DE PRECIOS UNITARIOS
L15: FECHA | M15: DD | N15: MM | O15: AA
C21: DATOS ESPECÍFICOS
C23: ITEM | D23: DESCRIPCIÓN | M23: UNIDAD | O23: CANTIDAD
C24: 2.02 | D24: =VLOOKUP(C24,'PRESUPUESTO OFICIAL (Entidad)'!$C$15:$I$106,5,FALSE()) -> CONCRETO DE ZAPATA 21 MPA | M24: =VLOOKUP(C24,'PRESUPUESTO OFICIAL (Entidad)'!$C$15:$I$106,6,FALSE()) -> M3 | O24: =VLOOKUP(C24,'PRESUPUESTO OFICIAL (Entidad)'!$C$15:$I$106,7,FALSE()) -> 3.456
C25: I. EQUIPO
C28: DESCRIPCIÓN | H28: MARCA | J28: TIPO | L28: TARIFA/HORA | M28: RENDIMIENTO | O28: Vr. UNITARIO
C29: VIBRADOR ELECTRICO AGUJA | J29: HM | L29: 105000 | M29: 7.29 | O29: =+L29/M29 -> 14403.292
C31: HERRAMIENTA MENOR 5% | M31: 0.05 | O31: =O58*M31 -> 22455.717
C32: SUBTOTAL $ | O32: =SUM(O29:O31) -> 36859.009
C33: II. MATERIALES
C36: DESCRIPCIÓN | K36: UNIDAD | L36: CANTIDAD | M36: PRECIO UNIT. | O36: Vr. UNITARIO
C37: CONCRETO 21 MPA | K37: M3 | L37: 1.05 | M37: 496000 | O37: =L37*M37 -> 520800
C38: ALAMBRE RECOCIDO N18 | K38: KG | L38: 0.53 | M38: 11687 | O38: =L38*M38 -> 6194.11
C39: PUNTILL 3*1/2" | K39: KG | L39: 1 | M39: 12740 | O39: =L39*M39 -> 12740
C40: TABLA CHAPA ORDINARIO | K40: UND | L40: 1 | M40: 22231 | O40: =L40*M40 -> 22231
C42: SUBTOTAL $ | O42: =SUM(O37:O41) -> 561965.11
C43: III. TRANSPORTES
C46: MATERIAL | J46: VOL. o PESO | K46: DISTANCIA | L46: M3 o Ton/Km | M46: TARIFA | O46: Vr. UNITARIO
C49: SUBTOTAL $ | O49: =SUM(O47:O48) -> 0
C50: IV. MANO DE OBRA
C53: TRABAJADOR | J53: JORNAL | K53: PRESTACIONES | L53: JORNAL TOTAL | M53: RENDIMIENTO | O53: Vr. UNITARIO
C54: 1 OFICIAL + 3 AYUDANTES | J54: 540527 | K54: 1.13 | L54: =J54*K54 -> 610795.51 | M54: 1.36 | O54: =IF(M54>0,L54/M54,0) -> 449114.35
C58: SUBTOTAL $ | O58: =SUM(O54:O57) -> 449114.35
C60: TOTAL COSTO DIRECTO $ | O60: =ROUND(O32+O42+O49+O58,0) -> 1047938
C61: V. COSTOS INDIRECTOS
C64: Descripción | L64: Porcentaje | M64: Valor Total
C65: ADMINISTRACION | L65: 0.3 | M65: =O60 -> 1047938 | O65: =ROUND(L65*M65,0) -> 314381
C66: UTILIDAD | L66: 0.05 | M66: =O60 -> 1047938 | O66: =ROUND(L66*M66,0) -> 52397
C67: SUBTOTAL $ | O67: =SUM(O65:O66) -> 366778
C69: Precio Unitario Total Aproximado al peso $ | O69: =ROUND(O60+O67,2) -> 1414716
H72: Firma
H73: Nombre:
...

Sheet ITEM DE PAGO 2,03
B1: Formulario 1 - Propuesta económica - Documento tipo de selección abreviada de menor cuantía
B2: Versión: 1 del 21 de agosto de 2025
C5: [La entidad podrá utilizar este formato para la presentación de los análisis de precios unitarios el contratista en la oportunidad prevista en el numeral 8.2. del Documento Base]
D8: ALCALDIA DE VILLA DEL ROSARIO
L9: VERSIÓN
D10: PROYECTO SALÓN COMUNAL GRAN COLOMBIA
L11: PÁGINA | M11: 1 | N11: DE | O11: 1
D13: ANALISIS DE PRECIOS UNITARIOS
L15: FECHA | M15: DD | N15: MM | O15: AA
C21: DATOS ESPECÍFICOS
C23: ITEM | D23: DESCRIPCIÓN | M23: UNIDAD | O23: CANTIDAD
C24: 2.03 | D24: =VLOOKUP(C24,'PRESUPUESTO OFICIAL (Entidad)'!$C$15:$I$106,5,FALSE()) -> CONCRETO CICLÓPEO | M24: =VLOOKUP(C24,'PRESUPUESTO OFICIAL (Entidad)'!$C$15:$I$106,6,FALSE()) -> M3 | O24: =VLOOKUP(C24,'PRESUPUESTO OFICIAL (Entidad)'!$C$15:$I$106,7,FALSE()) -> 2.7414
C25: I. EQUIPO
C28: DESCRIPCIÓN | H28: MARCA | J28: TIPO | L28: TARIFA/HORA | M28: RENDIMIENTO | O28: Vr. UNITARIO
C29: VIBRADOR ELECTRICO AGUJA | J29: HM | L29: 105000 | M29: 7.29 | O29: =+L29/M29 -> 14403.292
C31: HERRAMIENTA MENOR 5% | M31: 0.05 | O31: =O58*M31 -> 20359.85
C32: SUBTOTAL $ | O32: =SUM(O29:O31) -> 34763.143
C33: II. MATERIALES
C36: DESCRIPCIÓN | K36: UNIDAD | L36: CANTIDAD | M36: PRECIO UNIT. | O36: Vr. UNITARIO
C37: CONCRETO DE 21MPA | K37: M3 | L37: 0.63 | M37: 496000 | O37: =L37*M37 -> 312480
C38: PIEDRA RAJONEADA | K38: KG | L38: 0.42 | M38: 81000 | O38: =L38*M38 -> 34020
C42: SUBTOTAL $ | O42: =SUM(O37:O41) -> 346500
C43: III. TRANSPORTES
C46: MATERIAL | J46: VOL. o PESO | K46: DISTANCIA | L46: M3 o Ton/Km | M46: TARIFA | O46: Vr. UNITARIO
C49: SUBTOTAL $ | O49: =SUM(O47:O48) -> 0
C50: IV. MANO DE OBRA
C53: TRABAJADOR | J53: JORNAL | K53: PRESTACIONES | L53: JORNAL TOTAL | M53: RENDIMIENTO | O53: Vr. UNITARIO
C54: 1 OFICIAL + 3 AYUDANTES | J54: 540527 | K54: 1.13 | L54: =J54*K54 -> 610795.51 | M54: 1.5 | O54: =IF(M54>0,L54/M54,0) -> 407197.01
C58: SUBTOTAL $ | O58: =SUM(O54:O57) -> 407197.01
C60: TOTAL COSTO DIRECTO $ | O60: =ROUND(O32+O42+O49+O58,0) -> 788460
C61: V. COSTOS INDIRECTOS
C64: Descripción | L64: Porcentaje | M64: Valor Total
C65: ADMINISTRACION | L65: 0.3 | M65: =O60 -> 788460 | O65: =L65*M65 -> 236538
C66: UTILIDAD | L66: 0.05 | M66: =O60 -> 788460 | O66: =L66*M66 -> 39423
C67: SUBTOTAL $ | O67: =SUM(O65:O66) -> 275961
C69: Precio Unitario Total Aproximado al peso $ | O69: =ROUND(O60+O67,2) -> 1064421
H72: Firma
H73: Nombre:
H74: Representante Legal del Contratista o su Apoderado
H75: Matricula No. :
...

Sheet ITEM DE PAGO 2,04
B1: Formulario 1 - Propuesta económica - Documento tipo de selección abreviada de menor cuantía
B2: Versión: 1 del 21 de agosto de 2025
C5: [La entidad podrá utilizar este formato para la presentación de los análisis de precios unitarios el contratista en la oportunidad prevista en el numeral 8.2. del Documento Base]
D8: ALCALDIA DE VILLA DEL ROSARIO
L9: VERSIÓN
D10: PROYECTO SALÓN COMUNAL GRAN COLOMBIA
L11: PÁGINA | M11: 1 | N11: DE | O11: 1
D13: ANALISIS DE PRECIOS UNITARIOS
L15: FECHA | M15: DD | N15: MM | O15: AA
C21: DATOS ESPECÍFICOS
C23: ITEM | D23: DESCRIPCIÓN | M23: UNIDAD | O23: CANTIDAD
C24: 2.04 | D24: =VLOOKUP(C24,'PRESUPUESTO OFICIAL (Entidad)'!$C$15:$I$106,5,FALSE()) -> CONCRETO DE VIGAS DE AMARRE 21 MPA | M24: =VLOOKUP(C24,'PRESUPUESTO OFICIAL (Entidad)'!$C$15:$I$106,6,FALSE()) -> M3 | O24: =VLOOKUP(C24,'PRESUPUESTO OFICIAL (Entidad)'!$C$15:$I$106,7,FALSE()) -> 9.207275
C25: I. EQUIPO
C28: DESCRIPCIÓN | H28: MARCA | J28: TIPO | L28: TARIFA/HORA | M28: RENDIMIENTO | O28: Vr. UNITARIO
C29: VIBRADOR ELECTRICO AGUJA | J29: HM | L29: 105000 | M29: 5 | O29: 21000
C30: FORMALETA METALICA 1X0,25 | J30: DU | L30: 599.36 | M30: 50 | O30: 29968
C31: HERRAMIENTA MENOR 5% | M31: 0.05 | O31: =O58*M31 -> 36013.886
C32: SUBTOTAL $ | O32: =SUM(O29:O31) -> 86981.886
C33: II. MATERIALES
C36: DESCRIPCIÓN | K36: UNIDAD | L36: CANTIDAD | M36: PRECIO UNIT. | O36: Vr. UNITARIO
C37: CONCRETO 21MPA | K37: M3 | L37: 1.06 | M37: 496000 | O37: =L37*M37 -> 525760
C42: SUBTOTAL $ | O42: =SUM(O37:O41) -> 525760
C43: III. TRANSPORTES
C46: MATERIAL | J46: VOL. o PESO | K46: DISTANCIA | L46: M3 o Ton/Km | M46: TARIFA | O46: Vr. UNITARIO
C49: SUBTOTAL $ | O49: =SUM(O47:O48) -> 0
C50: IV. MANO DE OBRA
C53: TRABAJADOR | J53: JORNAL | K53: PRESTACIONES | L53: JORNAL TOTAL | M53: RENDIMIENTO | O53: Vr. UNITARIO
C54: 1 OFICIAL + 3 AYUDANTES | J54: 540527 | K54: 1.13 | L54: =J54*K54 -> 610795.51 | M54: 0.848 | O54: =IF(M54>0,L54/M54,0) -> 720277.72
C58: SUBTOTAL $ | O58: =SUM(O54:O57) -> 720277.72
C60: TOTAL COSTO DIRECTO $ | O60: =ROUND(O32+O42+O49+O58,0) -> 1333020
C61: V. COSTOS INDIRECTOS
C64: Descripción | L64: Porcentaje | M64: Valor Total
C65: ADMINISTRACION | L65: 0.3 | M65: =O60 -> 1333020 | O65: =L65*M65 -> 399906
C66: UTILIDAD | L66: 0.05 | M66: =O60 -> 1333020 | O66: =L66*M66 -> 66651
C67: SUBTOTAL $ | O67: =SUM(O65:O66) -> 466557
C69: Precio Unitario Total Aproximado al peso $ | O69: =ROUND(O60+O67,2) -> 1799577
H72: Firma
H73: Nombre:
H74: Representante Legal del Contratista o su Apoderado
H75: Matricula No. :
...

Sheet ITEM DE PAGO 2,05
B1: Formulario 1 - Propuesta económica - Documento tipo de selección abreviada de menor cuantía
B2: Versión: 1 del 21 de agosto de 2025
C5: [La entidad podrá utilizar este formato para la presentación de los análisis de precios unitarios el contratista en la oportunidad prevista en el numeral 8.2. del Documento Base]
D8: ALCALDIA DE VILLA DEL ROSARIO
L9: VERSIÓN
D10: PROYECTO SALÓN COMUNAL GRAN COLOMBIA
L11: PÁGINA | M11: 1 | N11: DE | O11: 1
D13: ANALISIS DE PRECIOS UNITARIOS
L15: FECHA | M15: DD | N15: MM | O15: AA
C21: DATOS ESPECÍFICOS
C23: ITEM | D23: DESCRIPCIÓN | M23: UNIDAD | O23: CANTIDAD
C24: 2.05 | D24: =VLOOKUP(C24,'PRESUPUESTO OFICIAL (Entidad)'!$C$15:$I$106,5,FALSE()) -> CONCRETO DE COLUMNAS (0,3 X 0,3)M 21MPA | M24: =VLOOKUP(C24,'PRESUPUESTO OFICIAL (Entidad)'!$C$15:$I$106,6,FALSE()) -> M3 | O24: =VLOOKUP(C24,'PRESUPUESTO OFICIAL (Entidad)'!$C$15:$I$106,7,FALSE()) -> 3.8646
C25: I. EQUIPO
C28: DESCRIPCIÓN | H28: MARCA | J28: TIPO | L28: TARIFA/HORA | M28: RENDIMIENTO | O28: Vr. UNITARIO
C29: VIBRADOR ELECTRICO AGUJA | J29: HM | L29: 105000 | M29: 4.6 | O29: =+L29/M29 -> 22826.087
C30: TABLERO METALICO COLUMNA | J30: DU | L30: 699.36 | M30: 76 | O30: =+L30*M30 -> 53151.36
C31: HERRAMIENTA MENOR 5% | M31: 0.05 | O31: =O58*M31 -> 29478.548
C32: SUBTOTAL $ | O32: =SUM(O29:O31) -> 105455.99
C33: II. MATERIALES
C36: DESCRIPCIÓN | K36: UNIDAD | L36: CANTIDAD | M36: PRECIO UNIT. | O36: Vr. UNITARIO
C37: CONCRETO 21 MPA | K37: M3 | L37: 1.05 | M37: 496000 | O37: =L37*M37 -> 520800
C38: ALAMBRE NEGRO | K38: KG | L38: 2 | M38: 11687 | O38: =L38*M38 -> 23374
C39: TABLA CHAPA PRDINARIO 0,02-0,3*3M | K39: UND | L39: 1 | M39: 22231 | O39: =L39*M39 -> 22231
C40: PUNTILLAS 3"*1/2" | K40: KG | L40: 1 | M40: 12740 | O40: =L40*M40 -> 12740
C42: SUBTOTAL $ | O42: =SUM(O37:O41) -> 579145
C43: III. TRANSPORTES
C46: MATERIAL | J46: VOL. o PESO | K46: DISTANCIA | L46: M3 o Ton/Km | M46: TARIFA | O46: Vr. UNITARIO
C49: SUBTOTAL $ | O49: =SUM(O47:O48) -> 0
C50: IV. MANO DE OBRA
C53: TRABAJADOR | J53: JORNAL | K53: PRESTACIONES | L53: JORNAL TOTAL | M53: RENDIMIENTO | O53: Vr. UNITARIO
C54: 1 OFICIAL + 3 AYUDANTES | J54: 540527 | K54: 1.13 | L54: =J54*K54 -> 610795.51 | M54: 1.036 | O54: =IF(M54>0,L54/M54,0) -> 589570.96
C58: SUBTOTAL $ | O58: =SUM(O54:O57) -> 589570.96
C60: TOTAL COSTO DIRECTO $ | O60: =ROUND(O32+O42+O49+O58,0) -> 1274172
C61: V. COSTOS INDIRECTOS
C64: Descripción | L64: Porcentaje | M64: Valor Total
C65: ADMINISTRACION | L65: 0.3 | M65: =O60 -> 1274172 | O65: =ROUND(L65*M65,0) -> 382252
C66: UTILIDAD | L66: 0.05 | M66: =O60 -> 1274172 | O66: =ROUNDDOWN(L66*M66,0) -> 63708
C67: SUBTOTAL $ | O67: =SUM(O65:O66) -> 445960
C69: Precio Unitario Total Aproximado al peso $ | O69: =ROUND(O60+O67,2) -> 1720132
H72: Firma
...

Sheet ITEM DE PAGO 2,06
B1: Formulario 1 - Propuesta económica - Documento tipo de selección abreviada de menor cuantía
B2: Versión: 1 del 21 de agosto de 2025
C5: [La entidad podrá utilizar este formato para la presentación de los análisis de precios unitarios el contratista en la oportunidad prevista en el numeral 8.2. del Documento Base]
D8: ALCALDIA DE VILLA DEL ROSARIO
L9: VERSIÓN
D10: PROYECTO SALÓN COMUNAL GRAN COLOMBIA
L11: PÁGINA | M11: 1 | N11: DE | O11: 1
D13: ANALISIS DE PRECIOS UNITARIOS
L15: FECHA | M15: DD | N15: MM | O15: AA
C21: DATOS ESPECÍFICOS
C23: ITEM | D23: DESCRIPCIÓN | M23: UNIDAD | O23: CANTIDAD
C24: 2.06 | D24: =VLOOKUP(C24,'PRESUPUESTO OFICIAL (Entidad)'!$C$15:$I$106,5,FALSE()) -> CONCRETO DE VIGAS AEREAS 21 MPA | M24: =VLOOKUP(C24,'PRESUPUESTO OFICIAL (Entidad)'!$C$15:$I$106,6,FALSE()) -> M3 | O24: =VLOOKUP(C24,'PRESUPUESTO OFICIAL (Entidad)'!$C$15:$I$106,7,FALSE()) -> 5.05295
C25: I. EQUIPO
C28: DESCRIPCIÓN | H28: MARCA | J28: TIPO | L28: TARIFA/HORA | M28: RENDIMIENTO | O28: Vr. UNITARIO
C29: VIBRADOR ELECTRICO AGUJA | J29: HM | L29: 105000 | M29: 0.35 | O29: =+L29*M29 -> 36750
C30: TABLERO METALICO 0,3*1,2M | J30: DU | L30: 415 | M30: 115 | O30: =+L30*M30 -> 47725
C31: PARAL METALICO 4M | J31: DU | L31: 350 | M31: 120 | O31: =+L31*M31 -> 42000
C32: TABLERO MADERA 1,4X0,7 MS - UND | J32: DU | L32: 400 | M32: 120 | O32: =+L32*M32 -> 48000
C33: HERRAMIENTA MENOR 5% | M33: 0.05 | O33: =O60*M33 -> 30848.281
C34: SUBTOTAL $ | O34: =SUM(O29:O33) -> 205323.28
C35: II. MATERIALES
C38: DESCRIPCIÓN | K38: UNIDAD | L38: CANTIDAD | M38: PRECIO UNIT. | O38: Vr. UNITARIO
C39: CONCRETO 21MPA | K39: M3 | L39: 1.06 | M39: 496000 | O39: =L39*M39 -> 525760
C44: SUBTOTAL $ | O44: =SUM(O39:O43) -> 525760
C45: III. TRANSPORTES
C48: MATERIAL | J48: VOL. o PESO | K48: DISTANCIA | L48: M3 o Ton/Km | M48: TARIFA | O48: Vr. UNITARIO
C51: SUBTOTAL $ | O51: =SUM(O49:O50) -> 0
C52: IV. MANO DE OBRA
C55: TRABAJADOR | J55: JORNAL | K55: PRESTACIONES | L55: JORNAL TOTAL | M55: RENDIMIENTO | O55: Vr. UNITARIO
C56: 1 OFICIAL + 1 AYUDANTES | J56: 300293 | K56: 1.13 | L56: =J56*K56 -> 339331.09 | M56: 0.55 | O56: =IF(M56>0,L56/M56,0) -> 616965.62
C60: SUBTOTAL $ | O60: =SUM(O56:O59) -> 616965.62
C62: TOTAL COSTO DIRECTO $ | O62: =ROUND(O34+O44+O51+O60,0) -> 1348049
C63: V. COSTOS INDIRECTOS
C66: Descripción | L66: Porcentaje | M66: Valor Total
C67: ADMINISTRACION | L67: 0.3 | M67: =O62 -> 1348049 | O67: =ROUND(L67*M67,0) -> 404415
C68: UTILIDAD | L68: 0.05 | M68: =O62 -> 1348049 | O68: =ROUND(L68*M68,0) -> 67402
C69: SUBTOTAL $ | O69: =SUM(O67:O68) -> 471817
C71: Precio Unitario Total Aproximado al peso $ | O71: =ROUND(O62+O69,2) -> 1819866
H74: Firma
H75: Nombre:
...

Sheet ITEM DE PAGO 2,07
B1: Formulario 1 - Propuesta económica - Documento tipo de selección abreviada de menor cuantía
B2: Versión: 1 del 21 de agosto de 2025
C5: [La entidad podrá utilizar este formato para la presentación de los análisis de precios unitarios el contratista en la oportunidad prevista en el numeral 8.2. del Documento Base]
D8: ALCALDIA DE VILLA DEL ROSARIO
L9: VERSIÓN
D10: PROYECTO SALÓN COMUNAL GRAN COLOMBIA
L11: PÁGINA | M11: 1 | N11: DE | O11: 1
D13: ANALISIS DE PRECIOS UNITARIOS
L15: FECHA | M15: DD | N15: MM | O15: AA
C21: DATOS ESPECÍFICOS
C23: ITEM | D23: DESCRIPCIÓN | M23: UNIDAD | O23: CANTIDAD
C24: 2.07 | D24: =VLOOKUP(C24,'PRESUPUESTO OFICIAL (Entidad)'!$C$15:$I$106,5,FALSE()) -> VIGA SOBRE MURO EN CONCRETO 12X20 CMS 21 MPA (INCLUYE REFUERZO) | M24: =VLOOKUP(C24,'PRESUPUESTO OFICIAL (Entidad)'!$C$15:$I$106,6,FALSE()) -> ML | O24: =VLOOKUP(C24,'PRESUPUESTO OFICIAL (Entidad)'!$C$15:$I$106,7,FALSE()) -> 82.87
C25: I. EQUIPO
C28: DESCRIPCIÓN | H28: MARCA | J28: TIPO | L28: TARIFA/HORA | M28: RENDIMIENTO | O28: Vr. UNITARIO
C29: VIBRADOR ELECTRICO AGUJA | J29: HM | L29: 105000 | M29: 0.03 | O29: 3150
C30: TABLERO METALICO COLUMNA | J30: DU | L30: 699.36 | M30: 7 | O30: 4895.52
C31: HERRAMIENTA MENOR 5% | M31: 0.05 | O31: =O58*M31 -> 3053.9775
C32: SUBTOTAL $ | O32: =SUM(O29:O31) -> 11099.498
C33: II. MATERIALES
C36: DESCRIPCIÓN | K36: UNIDAD | L36: CANTIDAD | M36: PRECIO UNIT. | O36: Vr. UNITARIO
C37: CONCRETO 21 MPA | K37: M3 | L37: 0.03 | M37: 496000 | O37: =L37*M37 -> 14880
C38: ALAMBRE NEGRO | K38: KG | L38: 0.88 | M38: 11687 | O38: =L38*M38 -> 10284.56
C39: ACERO 420MPA | K39: KG | L39: 6.5 | M39: 6613 | O39: =L39*M39 -> 42984.5
C42: SUBTOTAL $ | O42: =SUM(O37:O41) -> 68149.06
C43: III. TRANSPORTES
C46: MATERIAL | J46: VOL. o PESO | K46: DISTANCIA | L46: M3 o Ton/Km | M46: TARIFA | O46: Vr. UNITARIO
C49: SUBTOTAL $ | O49: =SUM(O47:O48) -> 0
C50: IV. MANO DE OBRA
C53: TRABAJADOR | J53: JORNAL | K53: PRESTACIONES | L53: JORNAL TOTAL | M53: RENDIMIENTO | O53: Vr. UNITARIO
C54: 1 OFICIAL + 3 AYUDANTES | J54: 540527 | K54: 1.13 | L54: =J54*K54 -> 610795.51 | M54: 10 | O54: =IF(M54>0,L54/M54,0) -> 61079.551
C58: SUBTOTAL $ | O58: =SUM(O54:O57) -> 61079.551
C60: TOTAL COSTO DIRECTO $ | O60: =ROUND(O32+O42+O49+O58,0) -> 140328
C61: V. COSTOS INDIRECTOS
C64: Descripción | L64: Porcentaje | M64: Valor Total
C65: ADMINISTRACION | L65: 0.3 | M65: =O60 -> 140328 | O65: =ROUNDUP(L65*M65,0) -> 42099
C66: UTILIDAD | L66: 0.05 | M66: =O60 -> 140328 | O66: =ROUND(L66*M66,0) -> 7016
C67: SUBTOTAL $ | O67: =SUM(O65:O66) -> 49115
C69: Precio Unitario Total Aproximado al peso $ | O69: =ROUND(O60+O67,2) -> 189443
H72: Firma
H73: Nombre:
...

Sheet ITEM DE PAGO 2,08
B1: Formulario 1 - Propuesta económica - Documento tipo de selección abreviada de menor cuantía
B2: Versión: 1 del 21 de agosto de 2025
C5: [La entidad podrá utilizar este formato para la presentación de los análisis de precios unitarios el contratista en la oportunidad prevista en el numeral 8.2. del Documento Base]
D8: ALCALDIA DE VILLA DEL ROSARIO
L9: VERSIÓN
D10: PROYECTO SALÓN COMUNAL GRAN COLOMBIA
L11: PÁGINA | M11: 1 | N11: DE | O11: 1
D13: ANALISIS DE PRECIOS UNITARIOS
L15: FECHA | M15: DD | N15: MM | O15: AA
C21: DATOS ESPECÍFICOS
C23: ITEM | D23: DESCRIPCIÓN | M23: UNIDAD | O23: CANTIDAD
C24: 2.08 | D24: =VLOOKUP(C24,'PRESUPUESTO OFICIAL (Entidad)'!$C$15:$I$106,5,FALSE()) -> CONCRETO TARIMA D21 MPA | M24: =VLOOKUP(C24,'PRESUPUESTO OFICIAL (Entidad)'!$C$15:$I$106,6,FALSE()) -> M2 | O24: =VLOOKUP(C24,'PRESUPUESTO OFICIAL (Entidad)'!$C$15:$I$106,7,FALSE()) -> 18.827146
C25: I. EQUIPO
C28: DESCRIPCIÓN | H28: MARCA | J28: TIPO | L28: TARIFA/HORA | M28: RENDIMIENTO | O28: Vr. UNITARIO
C29: VIBRADOR ELECTRICO AGUJA | J29: HM | L29: 105000 | M29: 0.01 | O29: =+L29*M29 -> 1050
C30: TABLERO METALICO COLUMNA | J30: DU | L30: 699.36 | M30: 6 | O30: =+L30*M30 -> 4196.16
C31: HERRAMIENTA MENOR 5% | M31: 0.05 | O31: =O58*M31 -> 5089.9626
C32: SUBTOTAL $ | O32: =SUM(O29:O31) -> 10336.123
C33: II. MATERIALES
C36: DESCRIPCIÓN | K36: UNIDAD | L36: CANTIDAD | M36: PRECIO UNIT. | O36: Vr. UNITARIO
C37: CONCRETO 21MPA | K37: M3 | L37: 0.15 | M37: 496000 | O37: =L37*M37 -> 74400
C42: SUBTOTAL $ | O42: =SUM(O37:O41) -> 74400
C43: III. TRANSPORTES
C46: MATERIAL | J46: VOL. o PESO | K46: DISTANCIA | L46: M3 o Ton/Km | M46: TARIFA | O46: Vr. UNITARIO
C49: SUBTOTAL $ | O49: =SUM(O47:O48) -> 0
C50: IV. MANO DE OBRA
C53: TRABAJADOR | J53: JORNAL | K53: PRESTACIONES | L53: JORNAL TOTAL | M53: RENDIMIENTO | O53: Vr. UNITARIO
C54: 1 OFICIAL + 3 AYUDANTES | J54: 540527 | K54: 1.13 | L54: =J54*K54 -> 610795.51 | M54: 6 | O54: =IF(M54>0,L54/M54,0) -> 101799.25
C58: SUBTOTAL $ | O58: =SUM(O54:O57) -> 101799.25
C60: TOTAL COSTO DIRECTO $ | O60: =ROUND(O32+O42+O49+O58,0) -> 186535
C61: V. COSTOS INDIRECTOS
C64: Descripción | L64: Porcentaje | M64: Valor Total
C65: ADMINISTRACION | L65: 0.3 | M65: =O60 -> 186535 | O65: =ROUNDDOWN(L65*M65,0) -> 55960
C66: UTILIDAD | L66: 0.05 | M66: =O60 -> 186535 | O66: =ROUND(L66*M66,0) -> 9327
C67: SUBTOTAL $ | O67: =SUM(O65:O66) -> 65287
C69: Precio Unitario Total Aproximado al peso $ | O69: =ROUND(O60+O67,2) -> 251822
H72: Firma
H73: Nombre:
H74: Representante Legal del Contratista o su Apoderado
H75: Matricula No. :
...

Sheet ITEM DE PAGO 2,09
B1: Formulario 1 - Propuesta económica - Documento tipo de selección abreviada de menor cuantía
B2: Versión: 1 del 21 de agosto de 2025
C5: [La entidad podrá utilizar este formato para la presentación de los análisis de precios unitarios el contratista en la oportunidad prevista en el numeral 8.2. del Documento Base]
D8: ALCALDIA DE VILLA DEL ROSARIO
L9: VERSIÓN
D10: PROYECTO SALÓN COMUNAL GRAN COLOMBIA
L11: PÁGINA | M11: 1 | N11: DE | O11: 1
D13: ANALISIS DE PRECIOS UNITARIOS
L15: FECHA | M15: DD | N15: MM | O15: AA
C21: DATOS ESPECÍFICOS
C23: ITEM | D23: DESCRIPCIÓN | M23: UNIDAD | O23: CANTIDAD
C24: 2.09 | D24: =VLOOKUP(C24,'PRESUPUESTO OFICIAL (Entidad)'!$C$15:$I$106,5,FALSE()) -> ESCALERAS EN CONCRETO | M24: =VLOOKUP(C24,'PRESUPUESTO OFICIAL (Entidad)'!$C$15:$I$106,6,FALSE()) -> UND | O24: =VLOOKUP(C24,'PRESUPUESTO OFICIAL (Entidad)'!$C$15:$I$106,7,FALSE()) -> 1.0017
C25: I. EQUIPO
C28: DESCRIPCIÓN | H28: MARCA | J28: TIPO | L28: TARIFA/HORA | M28: RENDIMIENTO | O28: Vr. UNITARIO
C29: VIBRADOR ELECTRICO AGUJA | J29: HM | L29: 105000 | M29: 0.5 | O29: =+L29*M29 -> 52500
C30: FORMALETA ESCALERA M2 | J30: DU | L30: 6000 | M30: 16.2 | O30: =+L30*M30 -> 97200
C31: HERRAMIENTA MENOR 5% | M31: 0.05 | O31: =O58*M31 -> 5089.9626
C32: SUBTOTAL $ | O32: =SUM(O29:O31) -> 154789.96
C33: II. MATERIALES
C36: DESCRIPCIÓN | K36: UNIDAD | L36: CANTIDAD | M36: PRECIO UNIT. | O36: Vr. UNITARIO
C37: CONCRETO 21MPA | K37: M3 | L37: 0.15 | M37: 496000 | O37: =L37*M37 -> 74400
C42: SUBTOTAL $ | O42: =SUM(O37:O41) -> 74400
C43: III. TRANSPORTES
C46: MATERIAL | J46: VOL. o PESO | K46: DISTANCIA | L46: M3 o Ton/Km | M46: TARIFA | O46: Vr. UNITARIO
C49: SUBTOTAL $ | O49: =SUM(O47:O48) -> 0
C50: IV. MANO DE OBRA
C53: TRABAJADOR | J53: JORNAL | K53: PRESTACIONES | L53: JORNAL TOTAL | M53: RENDIMIENTO | O53: Vr. UNITARIO
C54: 1 OFICIAL + 3 AYUDANTES | J54: 540527 | K54: 1.13 | L54: =J54*K54 -> 610795.51 | M54: 6 | O54: =IF(M54>0,L54/M54,0) -> 101799.25
C58: SUBTOTAL $ | O58: =SUM(O54:O57) -> 101799.25
C60: TOTAL COSTO DIRECTO $ | O60: =ROUND(O32+O42+O49+O58,0) -> 330989
C61: V. COSTOS INDIRECTOS
C64: Descripción | L64: Porcentaje | M64: Valor Total
C65: ADMINISTRACION | L65: 0.3 | M65: =O60 -> 330989 | O65: =ROUND(L65*M65,0) -> 99297
C66: UTILIDAD | L66: 0.05 | M66: =O60 -> 330989 | O66: =ROUND(L66*M66,0) -> 16549
C67: SUBTOTAL $ | O67: =SUM(O65:O66) -> 115846
C69: Precio Unitario Total Aproximado al peso $ | O69: =ROUND(O60+O67,2) -> 446835
H72: Firma
H73: Nombre:
H74: Representante Legal del Contratista o su Apoderado
H75: Matricula No. :
...

Sheet ITEM DE PAGO 2,10
B1: Formulario 1 - Propuesta económica - Documento tipo de selección abreviada de menor cuantía
B2: Versión: 1 del 21 de agosto de 2025
C5: [La entidad podrá utilizar este formato para la presentación de los análisis de precios unitarios el contratista en la oportunidad prevista en el numeral 8.2. del Documento Base]
D8: ALCALDIA DE VILLA DEL ROSARIO
L9: VERSIÓN
D10: PROYECTO SALÓN COMUNAL GRAN COLOMBIA
L11: PÁGINA | M11: 1 | N11: DE | O11: 1
D13: ANALISIS DE PRECIOS UNITARIOS
L15: FECHA | M15: DD | N15: MM | O15: AA
C21: DATOS ESPECÍFICOS
C23: ITEM | D23: DESCRIPCIÓN | M23: UNIDAD | O23: CANTIDAD
C24: 2.1 | D24: =VLOOKUP(C24,'PRESUPUESTO OFICIAL (Entidad)'!$C$15:$I$106,5,FALSE()) -> ACERO DE REFUERZO fy:4200 kg/cm FIGURADO (INCLUYE ALAMBRE NEGRO FIGURADO) | M24: =VLOOKUP(C24,'PRESUPUESTO OFICIAL (Entidad)'!$C$15:$I$106,6,FALSE()) -> KG | O24: =VLOOKUP(C24,'PRESUPUESTO OFICIAL (Entidad)'!$C$15:$I$106,7,FALSE()) -> 3237.7743
C25: I. EQUIPO
C28: DESCRIPCIÓN | H28: MARCA | J28: TIPO | L28: TARIFA/HORA | M28: RENDIMIENTO | O28: Vr. UNITARIO
C31: HERRAMIENTA MENOR 5% | M31: 0.05 | O31: =O58*M31 -> 208.81878
C32: SUBTOTAL $ | O32: =SUM(O29:O31) -> 208.81878
C33: II. MATERIALES
C36: DESCRIPCIÓN | K36: UNIDAD | L36: CANTIDAD | M36: PRECIO UNIT. | O36: Vr. UNITARIO
C37: ACERO 420MPA | K37: KG | L37: 1.05 | M37: 6613 | O37: =+L37*M37 -> 6943.65
C38: ALAMBRE RECOCIDO N18 | K38: KG | L38: 0.05 | M38: 11687 | O38: =+L38*M38 -> 584.35
C42: SUBTOTAL $ | O42: =SUM(O37:O41) -> 7528
C43: III. TRANSPORTES
C46: MATERIAL | J46: VOL. o PESO | K46: DISTANCIA | L46: M3 o Ton/Km | M46: TARIFA | O46: Vr. UNITARIO
C49: SUBTOTAL $ | O49: =SUM(O47:O48) -> 0
C50: IV. MANO DE OBRA
C53: TRABAJADOR | J53: JORNAL | K53: PRESTACIONES | L53: JORNAL TOTAL | M53: RENDIMIENTO | O53: Vr. UNITARIO
C54: 2 Ayudantes de obra | J54: 240234 | K54: 1.13 | L54: =J54*K54 -> 271464.42 | M54: 65 | O54: =IF(M54>0,L54/M54,0) -> 4176.3757
C58: SUBTOTAL $ | O58: =SUM(O54:O57) -> 4176.3757
C60: TOTAL COSTO DIRECTO $ | O60: =ROUND(O32+O42+O49+O58,0) -> 11913
C61: V. COSTOS INDIRECTOS
C64: Descripción | L64: Porcentaje | M64: Valor Total
C65: ADMINISTRACION | L65: 0.3 | M65: =O60 -> 11913 | O65: =ROUND(L65*M65,0) -> 3574
C66: UTILIDAD | L66: 0.05 | M66: =O60 -> 11913 | O66: =ROUND(L66*M66,0) -> 596
C67: SUBTOTAL $ | O67: =SUM(O65:O66) -> 4170
C69: Precio Unitario Total Aproximado al peso $ | O69: =ROUND(O60+O67,2) -> 16083
H72: Firma
H73: Nombre:
H74: Representante Legal del Contratista o su Apoderado
H75: Matricula No. :
C77: OBSERVACIONES INTERVENTORÍA
...

Sheet ITEM DE PAGO 2,11
B1: Formulario 1 - Propuesta económica - Documento tipo de selección abreviada de menor cuantía
B2: Versión: 1 del 21 de agosto de 2025
C5: [La entidad podrá utilizar este formato para la presentación de los análisis de precios unitarios el contratista en la oportunidad prevista en el numeral 8.2. del Documento Base]
D8: ALCALDIA DE VILLA DEL ROSARIO
L9: VERSIÓN
D10: PROYECTO SALÓN COMUNAL GRAN COLOMBIA
L11: PÁGINA | M11: 1 | N11: DE | O11: 1
D13: ANALISIS DE PRECIOS UNITARIOS
L15: FECHA | M15: DD | N15: MM | O15: AA
C21: DATOS ESPECÍFICOS
C23: ITEM | D23: DESCRIPCIÓN | M23: UNIDAD | O23: CANTIDAD
C24: 2.11 | D24: =VLOOKUP(C24,'PRESUPUESTO OFICIAL (Entidad)'!$C$15:$I$106,5,FALSE()) -> PLACA DE PISO EN CONCRETO 21 MPA e=0,12m | M24: =VLOOKUP(C24,'PRESUPUESTO OFICIAL (Entidad)'!$C$15:$I$106,6,FALSE()) -> M2 | O24: =VLOOKUP(C24,'PRESUPUESTO OFICIAL (Entidad)'!$C$15:$I$106,7,FALSE()) -> 189.03385
C25: I. EQUIPO
C28: DESCRIPCIÓN | H28: MARCA | J28: TIPO | L28: TARIFA/HORA | M28: RENDIMIENTO | O28: Vr. UNITARIO
C29: VIBRADOR ELECTRICO AGUJA | J29: HM | L29: 105000 | M29: 0.01 | O29: =+L29*M29 -> 1050
C30: TABLERO METALICO COLUMNA | J30: DU | L30: 699.36 | M30: 6 | O30: =+L30*M30 -> 4196.16
C31: HERRAMIENTA MENOR 5% | M31: 0.05 | O31: =O58*M31 -> 4362.8251
C32: SUBTOTAL $ | O32: =SUM(O29:O31) -> 9608.9851
C33: II. MATERIALES
C36: DESCRIPCIÓN | K36: UNIDAD | L36: CANTIDAD | M36: PRECIO UNIT. | O36: Vr. UNITARIO
C37: COCNRETO 21MPA | K37: M3 | L37: 0.12 | M37: 496000 | O37: =L37*M37 -> 59520
C42: SUBTOTAL $ | O42: =SUM(O37:O41) -> 59520
C43: III. TRANSPORTES
C46: MATERIAL | J46: VOL. o PESO | K46: DISTANCIA | L46: M3 o Ton/Km | M46: TARIFA | O46: Vr. UNITARIO
C49: SUBTOTAL $ | O49: =SUM(O47:O48) -> 0
C50: IV. MANO DE OBRA
C53: TRABAJADOR | J53: JORNAL | K53: PRESTACIONES | L53: JORNAL TOTAL | M53: RENDIMIENTO | O53: Vr. UNITARIO
C54: 1 OFICIAL + 3 AYUDANTES | J54: 540527 | K54: 1.13 | L54: =J54*K54 -> 610795.51 | M54: 7 | O54: =IF(M54>0,L54/M54,0) -> 87256.501
C58: SUBTOTAL $ | O58: =SUM(O54:O57) -> 87256.501
C60: TOTAL COSTO DIRECTO $ | O60: =ROUND(O32+O42+O49+O58,0) -> 156385
C61: V. COSTOS INDIRECTOS
C64: Descripción | L64: Porcentaje | M64: Valor Total
C65: ADMINISTRACION | L65: 0.3 | M65: =O60 -> 156385 | O65: =ROUNDUP(L65*M65,0) -> 46916
C66: UTILIDAD | L66: 0.05 | M66: =O60 -> 156385 | O66: =ROUNDUP(L66*M66,0) -> 7820
C67: SUBTOTAL $ | O67: =SUM(O65:O66) -> 54736
C69: Precio Unitario Total Aproximado al peso $ | O69: =ROUND(O60+O67,2) -> 211121
H72: Firma
H73: Nombre:
H74: Representante Legal del Contratista o su Apoderado
H75: Matricula No. :
...

Sheet ITEM DE PAGO 2,12
B1: Formulario 1 - Propuesta económica - Documento tipo de selección abreviada de menor cuantía
B2: Versión: 1 del 21 de agosto de 2025
C5: [La entidad podrá utilizar este formato para la presentación de los análisis de precios unitarios el contratista en la oportunidad prevista en el numeral 8.2. del Documento Base]
D8: ALCALDIA DE VILLA DEL ROSARIO
L9: VERSIÓN
D10: PROYECTO SALÓN COMUNAL GRAN COLOMBIA
L11: PÁGINA | M11: 1 | N11: DE | O11: 1
D13: ANALISIS DE PRECIOS UNITARIOS
L15: FECHA | M15: DD | N15: MM | O15: AA
C21: DATOS ESPECÍFICOS
C23: ITEM | D23: DESCRIPCIÓN | M23: UNIDAD | O23: CANTIDAD
C24: 2.12 | D24: =VLOOKUP(C24,'PRESUPUESTO OFICIAL (Entidad)'!$C$15:$I$106,5,FALSE()) -> MALLA ELECTROSOLDADA 6MM DE 15*15 CM | M24: =VLOOKUP(C24,'PRESUPUESTO OFICIAL (Entidad)'!$C$15:$I$106,6,FALSE()) -> M2 | O24: =VLOOKUP(C24,'PRESUPUESTO OFICIAL (Entidad)'!$C$15:$I$106,7,FALSE()) -> 207.861
C25: I. EQUIPO
C28: DESCRIPCIÓN | H28: MARCA | J28: TIPO | L28: TARIFA/HORA | M28: RENDIMIENTO | O28: Vr. UNITARIO
C31: HERRAMIENTA MENOR 5% | M31: 0.05 | O31: =O58*M31 -> 67.866105
C32: SUBTOTAL $ | O32: =SUM(O29:O31) -> 67.866105
C33: II. MATERIALES
C36: DESCRIPCIÓN | K36: UNIDAD | L36: CANTIDAD | M36: PRECIO UNIT. | O36: Vr. UNITARIO
C37: MALLA ELECTROSOLDADA 6MM 15*15 | K37: M2 | L37: 1.05 | M37: 21237 | O37: =L37*M37 -> 22298.85
C42: SUBTOTAL $ | O42: =SUM(O37:O41) -> 22298.85
C43: III. TRANSPORTES
C46: MATERIAL | J46: VOL. o PESO | K46: DISTANCIA | L46: M3 o Ton/Km | M46: TARIFA | O46: Vr. UNITARIO
C49: SUBTOTAL $ | O49: =SUM(O47:O48) -> 0
C50: IV. MANO DE OBRA
C53: TRABAJADOR | J53: JORNAL | K53: PRESTACIONES | L53: JORNAL TOTAL | M53: RENDIMIENTO | O53: Vr. UNITARIO
C54: 2 Ayudantes de obra | J54: 240234 | K54: 1.13 | L54: =J54*K54 -> 271464.42 | M54: 200 | O54: =IF(M54>0,L54/M54,0) -> 1357.3221
C58: SUBTOTAL $ | O58: =SUM(O54:O57) -> 1357.3221
C60: TOTAL COSTO DIRECTO $ | O60: =ROUND(O32+O42+O49+O58,0) -> 23724
C61: V. COSTOS INDIRECTOS
C64: Descripción | L64: Porcentaje | M64: Valor Total
C65: ADMINISTRACION | L65: 0.3 | M65: =O60 -> 23724 | O65: =ROUND(L65*M65,0) -> 7117
C66: UTILIDAD | L66: 0.05 | M66: =O60 -> 23724 | O66: =ROUND(L66*M66,0) -> 1186
C67: SUBTOTAL $ | O67: =SUM(O65:O66) -> 8303
C69: Precio Unitario Total Aproximado al peso $ | O69: =ROUND(O60+O67,2) -> 32027
H72: Firma
H73: Nombre:
H74: Representante Legal del Contratista o su Apoderado
H75: Matricula No. :
C77: OBSERVACIONES INTERVENTORÍA
C79: APROBACIÓN POR INTERVENTORÍA
...

Sheet ITEM DE PAGO 2,13
B1: Formulario 1 - Propuesta económica - Documento tipo de selección abreviada de menor cuantía
B2: Versión: 1 del 21 de agosto de 2025
C5: [La entidad podrá utilizar este formato para la presentación de los análisis de precios unitarios el contratista en la oportunidad prevista en el numeral 8.2. del Documento Base]
D8: ALCALDIA DE VILLA DEL ROSARIO
L9: VERSIÓN
D10: PROYECTO SALÓN COMUNAL GRAN COLOMBIA
L11: PÁGINA | M11: 1 | N11: DE | O11: 1
D13: ANALISIS DE PRECIOS UNITARIOS
L15: FECHA | M15: DD | N15: MM | O15: AA
C21: DATOS ESPECÍFICOS
C23: ITEM | D23: DESCRIPCIÓN | M23: UNIDAD | O23: CANTIDAD
C24: 2.13 | D24: =VLOOKUP(C24,'PRESUPUESTO OFICIAL (Entidad)'!$C$15:$I$106,5,FALSE()) -> ANTEPISO E=0.05M | M24: =VLOOKUP(C24,'PRESUPUESTO OFICIAL (Entidad)'!$C$15:$I$106,6,FALSE()) -> M2 | O24: =VLOOKUP(C24,'PRESUPUESTO OFICIAL (Entidad)'!$C$15:$I$106,7,FALSE()) -> 189.03385
C25: I. EQUIPO
C28: DESCRIPCIÓN | H28: MARCA | J28: TIPO | L28: TARIFA/HORA | M28: RENDIMIENTO | O28: Vr. UNITARIO
C31: HERRAMIENTA MENOR 5% | M31: 0.05 | O31: =O58*M31 -> 1526.9888
C32: SUBTOTAL $ | O32: =SUM(O29:O31) -> 1526.9888
C33: II. MATERIALES
C36: DESCRIPCIÓN | K36: UNIDAD | L36: CANTIDAD | M36: PRECIO UNIT. | O36: Vr. UNITARIO
C37: CONCRETO 18MPA | K37: M3 | L37: 0.06 | M37: 445000 | O37: =L37*M37 -> 26700
C42: SUBTOTAL $ | O42: =SUM(O37:O41) -> 26700
C43: III. TRANSPORTES
C46: MATERIAL | J46: VOL. o PESO | K46: DISTANCIA | L46: M3 o Ton/Km | M46: TARIFA | O46: Vr. UNITARIO
C49: SUBTOTAL $ | O49: =SUM(O47:O48) -> 0
C50: IV. MANO DE OBRA
C53: TRABAJADOR | J53: JORNAL | K53: PRESTACIONES | L53: JORNAL TOTAL | M53: RENDIMIENTO | O53: Vr. UNITARIO
C54: 1 OFICIAL + 3 AYUDANTES | J54: 540527 | K54: 1.13 | L54: =J54*K54 -> 610795.51 | M54: 20 | O54: =IF(M54>0,L54/M54,0) -> 30539.775
C58: SUBTOTAL $ | O58: =SUM(O54:O57) -> 30539.775
C60: TOTAL COSTO DIRECTO $ | O60: =ROUND(O32+O42+O49+O58,0) -> 58767
C61: V. COSTOS INDIRECTOS
C64: Descripción | L64: Porcentaje | M64: Valor Total
C65: ADMINISTRACION | L65: 0.3 | M65: =O60 -> 58767 | O65: =ROUND(L65*M65,0) -> 17630
C66: UTILIDAD | L66: 0.05 | M66: =O60 -> 58767 | O66: =ROUND(L66*M66,0) -> 2938
C67: SUBTOTAL $ | O67: =SUM(O65:O66) -> 20568
C69: Precio Unitario Total Aproximado al peso $ | O69: =ROUND(O60+O67,2) -> 79335
H72: Firma
H73: Nombre:
H74: Representante Legal del Contratista o su Apoderado
H75: Matricula No. :
C77: OBSERVACIONES INTERVENTORÍA
C79: APROBACIÓN POR INTERVENTORÍA
...

Sheet ITEM DE PAGO 2,14
B1: Formulario 1 - Propuesta económica - Documento tipo de selección abreviada de menor cuantía
B2: Versión: 1 del 21 de agosto de 2025
C5: [La entidad podrá utilizar este formato para la presentación de los análisis de precios unitarios el contratista en la oportunidad prevista en el numeral 8.2. del Documento Base]
D8: ALCALDIA DE VILLA DEL ROSARIO
L9: VERSIÓN
D10: PROYECTO SALÓN COMUNAL GRAN COLOMBIA
L11: PÁGINA | M11: 1 | N11: DE | O11: 1
D13: ANALISIS DE PRECIOS UNITARIOS
L15: FECHA | M15: DD | N15: MM | O15: AA
C21: DATOS ESPECÍFICOS
C23: ITEM | D23: DESCRIPCIÓN | M23: UNIDAD | O23: CANTIDAD
C24: 2.14 | D24: =VLOOKUP(C24,'PRESUPUESTO OFICIAL (Entidad)'!$C$15:$I$106,5,FALSE()) -> PLACA MACIZA H=0.10M 21MPA | M24: =VLOOKUP(C24,'PRESUPUESTO OFICIAL (Entidad)'!$C$15:$I$106,6,FALSE()) -> M2 | O24: =VLOOKUP(C24,'PRESUPUESTO OFICIAL (Entidad)'!$C$15:$I$106,7,FALSE()) -> 17.4816
C25: I. EQUIPO
C28: DESCRIPCIÓN | H28: MARCA | J28: TIPO | L28: TARIFA/HORA | M28: RENDIMIENTO | O28: Vr. UNITARIO
C29: CERCHA METALICA L=1,4 | J29: DIA | L29: 250 | M29: 9.62 | O29: =+L29*M29 -> 2405
C30: PARAL METALICO 4M | J30: DIA | L30: 350 | M30: 20 | O30: =+L30*M30 -> 7000
C31: TABLERO MADERA 1,4X0,7 MS UND | J31: DIA | L31: 400 | M31: 33.34 | O31: =+L31*M31 -> 13336
C32: TABLERO METALICO 0,4X1,2 M | J32: DIA | L32: 650 | M32: 25 | O32: =+L32*M32 -> 16250
C33: VIBRADOR ELECTRICO AGUJA PARA CONCRETO | J33: HM | L33: 105000 | M33: 0.02 | O33: =+L33*M33 -> 2100
C34: HERRAMIENTA MENOR 5% | M34: 0.05 | O34: =O61*M34 -> 4925.7702
C35: SUBTOTAL $ | O35: =SUM(O29:O34) -> 46016.77
C36: II. MATERIALES
C39: DESCRIPCIÓN | K39: UNIDAD | L39: CANTIDAD | M39: PRECIO UNIT. | O39: Vr. UNITARIO
C40: CONCRETO 21 MPA | K40: M3 | L40: 0.11 | M40: 496000 | O40: =L40*M40 -> 54560
C45: SUBTOTAL $ | O45: =SUM(O40:O44) -> 54560
C46: III. TRANSPORTES
C49: MATERIAL | J49: VOL. o PESO | K49: DISTANCIA | L49: M3 o Ton/Km | M49: TARIFA | O49: Vr. UNITARIO
C52: SUBTOTAL $ | O52: =SUM(O50:O51) -> 0
C53: IV. MANO DE OBRA
C56: TRABAJADOR | J56: JORNAL | K56: PRESTACIONES | L56: JORNAL TOTAL | M56: RENDIMIENTO | O56: Vr. UNITARIO
C57: 1 OFICIAL + 3 AYUDANTES | J57: 540527 | K57: 1.13 | L57: =J57*K57 -> 610795.51 | M57: 6.2 | O57: =IF(M57>0,L57/M57,0) -> 98515.405
C61: SUBTOTAL $ | O61: =SUM(O57:O60) -> 98515.405
C63: TOTAL COSTO DIRECTO $ | O63: =ROUND(O35+O45+O52+O61,0) -> 199092
C64: V. COSTOS INDIRECTOS
C67: Descripción | L67: Porcentaje | M67: Valor Total
C68: ADMINISTRACION | L68: 0.3 | M68: =O63 -> 199092 | O68: =ROUND(L68*M68,0) -> 59728
C69: UTILIDAD | L69: 0.05 | M69: =O63 -> 199092 | O69: =ROUNDDOWN(L69*M69,0) -> 9954
C70: SUBTOTAL $ | O70: =SUM(O68:O69) -> 69682
C72: Precio Unitario Total Aproximado al peso $ | O72: =ROUND(O63+O70,2) -> 268774
H75: Firma
...

Sheet ITEM DE PAGO 2,15
B1: Formulario 1 - Propuesta económica - Documento tipo de selección abreviada de menor cuantía
B2: Versión: 1 del 21 de agosto de 2025
C5: [La entidad podrá utilizar este formato para la presentación de los análisis de precios unitarios el contratista en la oportunidad prevista en el numeral 8.2. del Documento Base]
D8: ALCALDIA DE VILLA DEL ROSARIO
L9: VERSIÓN
D10: PROYECTO SALÓN COMUNAL GRAN COLOMBIA
L11: PÁGINA | M11: 1 | N11: DE | O11: 1
D13: ANALISIS DE PRECIOS UNITARIOS
L15: FECHA | M15: DD | N15: MM | O15: AA
C21: DATOS ESPECÍFICOS
C23: ITEM | D23: DESCRIPCIÓN | M23: UNIDAD | O23: CANTIDAD
C24: 2.15 | D24: =VLOOKUP(C24,'PRESUPUESTO OFICIAL (Entidad)'!$C$15:$I$106,5,FALSE()) -> MESON EN CONCRETO | M24: =VLOOKUP(C24,'PRESUPUESTO OFICIAL (Entidad)'!$C$15:$I$106,6,FALSE()) -> M2 | O24: =VLOOKUP(C24,'PRESUPUESTO OFICIAL (Entidad)'!$C$15:$I$106,7,FALSE()) -> 2.34
C25: I. EQUIPO
