Workbook
Name \0: #REF!
Name \0: #REF!
Name \0: #REF!
Name \0: #REF!
Name \0: #REF!
Name \0: #REF!
Name \00: #REF!
Name \00: #REF!
Name \a: #REF!
Name \AA: [1]LIQUIDACION!#REF!
Name \AA: [1]LIQUIDACION!#REF!
Name \AA: [1]LIQUIDACION!#REF!
Name \AA: [1]LIQUIDACION!#REF!
Name \AA: [1]LIQUIDACION!#REF!
Name \AA: [1]LIQUIDACION!#REF!
Name \b: [2]STRSUMM0!#REF!
Name \b: [2]STRSUMM0!#REF!
Name \b: [2]STRSUMM0!#REF!
Name \b: [2]STRSUMM0!#REF!
Name \b: [2]STRSUMM0!#REF!
Name \b: [2]STRSUMM0!#REF!
Name \bb: [2]STRSUMM0!#REF!
Name \bb: [2]STRSUMM0!#REF!
Name \bb: [2]STRSUMM0!#REF!
Name \bb: [2]STRSUMM0!#REF!
Name \bb: [2]STRSUMM0!#REF!
Name \bb: [2]STRSUMM0!#REF!
Name \E: #REF!
Name \E: #REF!
Name \E: #REF!
Name \E: #REF!
Name \E: #REF!
Name \E: #REF!
Name \EE: #REF!
Name \G: #REF!
Name \k: '[3]7422CW00'!#REF!
Name \k: '[3]7422CW00'!#REF!
Name \k: '[3]7422CW00'!#REF!
Name \k: '[3]7422CW00'!#REF!
Name \k: '[3]7422CW00'!#REF!
Name \k: '[3]7422CW00'!#REF!
Name \l: [4]STRSUMM0!#REF!
Name \l: [4]STRSUMM0!#REF!
Name \l: [4]STRSUMM0!#REF!
Name \l: [4]STRSUMM0!#REF!
Name \l: [4]STRSUMM0!#REF!
Name \l: [4]STRSUMM0!#REF!
Name \M: #REF!
Name \M: #REF!
Name \M: #REF!
Name \M: #REF!
Name \M: #REF!
Name \ñ: '[5]7422CW00'!#REF!
Name \ñ: '[5]7422CW00'!#REF!
Name \ñ: '[5]7422CW00'!#REF!
Name \ñ: '[5]7422CW00'!#REF!
Name \ñ: '[5]7422CW00'!#REF!
Name \ñ: '[5]7422CW00'!#REF!
Name \P: #REF!
Name \P: #REF!

Sheet PPTO 
C2: PRESUPUESTO OFICIAL
C3: ADECUACIÓN DE LOS PUNTOS CONCERTADOS DESTINADOS A LA TOMA DE MUESTRAS DE AGUA POTABLE DEL SISTEMA DE ACUEDUCTO DEL MUNICIPIO DE GACHALÁ, CUNDINAMARCA, CONFORME A LO ESTABLECIDO EN LA RESOLUCIÓN 2115 DE 2007 Y DEMÁS NORMATIVIDAD VIGENTE
B5: ESPECIFICACIÓN | C5: ITEM | D5: DESCRIPCIÓN DE LA ACTIVIDAD | E5: UNIDAD | F5: CANT | G5: VALOR UNITARIO | H5: SUBTOTAL
C6: 1 | D6: PRELIMINARES
B7: ICCU_CONS_1.41. | C7: 1.01 | D7: LOCALIZACIÓN Y REPLANTEO DE ESTRUCTURA CON ELEMENTOS DE PRECISION | E7: M2 | F7: =+MEMORIAS!$M$16 -> 6 | G7: 6788 | H7: =+F7*G7 -> 40728
B8: ICCU_CONS_1.16. | C8: 1.02 | D8: DEMOLICION MUROS EN MAMPOSTERIA 0.15 M, INC RETIRO | E8: M2 | F8: =+MEMORIAS!$M$32 -> 8.64 | G8: 26178 | H8: =+F8*G8 -> 226177.92
B9: ICCU_CONS_1.27. | C9: 1.03 | D9: DEMOLICION PLACA PISO 0.15 M, INC. RETIRO | E9: M2 | F9: =+MEMORIAS!$M$48 -> 6 | G9: 42423 | H9: =+F9*G9 -> 254538
C10: 2 | D10: CONSTRUCCION ESTRUCTURA NUEVA
B11: ICCU_CONS_16.4. | C11: 2.01 | D11: EXCAVACION MANUAL EN MATERIAL COMPUN H=0.0-2.0 M (INCLUYE RETIRO SOBRANTES A UNA DISTANCIA MENOR DE 5 KM) | E11: M3 | F11: =+MEMORIAS!$M$66 -> 1.2 | G11: =+'APU 1'!$H$38 -> 375691 | H11: =+G11*F11 -> 450829.2
B12: APU 1 | C12: 2.02 | D12: CAJA DE PROTECCIÓN 60X60 | E12: UND | F12: =+MEMORIAS!$M$82 -> 6 | G12: =+'APU 1'!$H$38 -> 375691 | H12: =+G12*F12 -> 2254146
B13: ICCU_CONS_6.15. | C13: 2.03 | D13: PAÑETE IMPERMEABILIZADO MUROS 1:3, E=1.5 CM | E13: M2 | F13: =+MEMORIAS!$M$98 -> 25.2 | G13: 35284 | H13: =+G13*F13 -> 889156.8
B14: ICCU_CONS_18.29. | C14: 2.04 | D14: PINTURA TIPO KORAZA PARA EXTERIOR | E14: M2 | F14: =+MEMORIAS!$M$120 -> 12.6 | G14: 28232 | H14: =+G14*F14 -> 355723.2
B15: ICCU_CONS_14.1. | C15: 2.05 | D15: BALDOSA CERÁMICA PARED 20X20, CALIDAD PRIMERA | E15: M2 | F15: =+MEMORIAS!$M$142 -> 14.44 | G15: 91086 | H15: =+G15*F15 -> 1315281.8
B16: ICCU_VIAS_4.6. | C16: 2.06 | D16: CONCRETO CLASE D,f' c =3000 PSI (BASES) | E16: M3 | F16: =+MEMORIAS!$M$164 -> 0.38 | G16: 847234 | H16: =+G16*F16 -> 321948.92
B17: ICCU_CONS_4.22. | C17: 2.07 | D17: ACERO FIGURADO 60000 PSI | E17: KG | F17: =+MEMORIAS!$M$186 -> 34.65 | G17: 8953 | H17: =+G17*F17 -> 310221.45
B18: APU 2 | C18: 2.08 | D18: SUMINISTRO E INSTALACION TAPA DE ALFAJOR =1/4" CON RIGIZADORES Y MARCO EN ÁNGULO. (0.60X0.60)M O SIMILAR PARA ESTRUCTURA NUEVA INCLUYE ANTICORROSIVO | E18: UND | F18: =+MEMORIAS!$M$202 -> 6 | G18: =+'APU 2'!$H$38 -> 766237 | H18: =+G18*F18 -> 4597422
B19: ICCU_CONS_18.9. | C19: 2.09 | D19: ESMALTE SOBRE LAMINA LLENA | E19: M2 | F19: =+MEMORIAS!$M$218 -> 4.32 | G19: 25041 | H19: =+G19*F19 -> 108177.12
B20: APU 3 | C20: 2.1 | D20: SUMINISTRO E INSTALACIÓN DE SEÑALIZACION DE INDENTIFICACIÓN DEL PUNTO DE MUESTREO EN MATERIAL RESISTENTE A LA INTEMPERIE | E20: UND | F20: =+MEMORIAS!$M$234 -> 6 | G20: =+'APU 3'!$H$38 -> 85369 | H20: =+G20*F20 -> 512214
C21: 3 | D21: INSTALACION DE SISTEMA HIDRÁULICO
B22: ICCU_CONS_11.16 | C22: 3.01 | D22: PUNTO HIDRPAULICO PVC-P/PARAL 1/2" | E22: UND | F22: =+MEMORIAS!$M$251 -> 6 | G22: 116438 | H22: =+G22*F22 -> 698628
B23: APU 4 | C23: 3.02 | D23: SUMINISTRO E INSTALACION DE LLAVE TERMINAL DE MUESTREO EN BRONCE - LATÓN DE 1/2" DE ALTO DESEMPEÑO | E23: UND | F23: =+MEMORIAS!$M$270 -> 6 | G23: =+'APU 4'!$H$38 -> 74458 | H23: =+G23*F23 -> 446748
E24: TOTAL DIRECTO | H24: =+SUM(H6:H23) -> 12781940
E25: AIU | G25: 0.3300015 | H25: =+H24*G25 -> 4218059.5
E26: TOTAL PROYECTO | H26: =+H25+H24 -> 17000000

Sheet MEMORIAS
C2: MUNICIPIO DE GACHALÁ - CUNDINAMARCA
C3: MEMORIA DE CANTIDADES
I5: ACTIVIDAD
B6: ÍTEM | C6: =+'PPTO '!$C$7 -> 1.01 | H6: =+'PPTO '!$D$7 -> LOCALIZACIÓN Y REPLANTEO DE ESTRUCTURA CON ELEMENTOS DE PRECISION
B7: CAPITULO | C7: =+'PPTO '!$D$6 -> PRELIMINARES
B8: UNIDAD | C8: =+'PPTO '!$E$7 -> M2
B9: ESQUEMA-REGISTRO FOTOGRAFICO | H9: DESCRIPCIÓN | I9: DIMENSIONES | M9: TOTAL
I10: L | J10: A | K10: No | L10: Cantidad de puntos
H11: PUNTOS DE MUESTREO | L11: 6 | M11: =+L11 -> 6
H16: TOTAL | M16: =ROUND(SUM(M11:M15),2) -> 6
C18: MUNICIPIO DE GACHALÁ - CUNDINAMARCA
C19: MEMORIA DE CANTIDADES
I21: ACTIVIDAD
B22: ÍTEM | C22: =+'PPTO '!$C$8 -> 1.02 | H22: =+'PPTO '!$D$8 -> DEMOLICION MUROS EN MAMPOSTERIA 0.15 M, INC RETIRO
B23: CAPITULO | C23: =+'PPTO '!$D$6 -> PRELIMINARES
B24: UNIDAD | C24: =+'PPTO '!$E$8 -> M2
B25: ESQUEMA-REGISTRO FOTOGRAFICO | H25: DESCRIPCIÓN | I25: DIMENSIONES | M25: TOTAL
I26: L | J26: A | K26: No. | L26: Cantidad de Puntos
H27: MUROS TIPO | I27: 0.6 | J27: 0.6 | K27: 4 | L27: 6 | M27: =+I27*J27*K27*L27 -> 8.64
H32: TOTAL | M32: =ROUND(SUM(M27:M31),2) -> 8.64
C34: MUNICIPIO DE GACHALÁ - CUNDINAMARCA
C35: MEMORIA DE CANTIDADES
I37: ACTIVIDAD
B38: ÍTEM | C38: =+'PPTO '!$C$9 -> 1.03 | H38: =+'PPTO '!$D$9 -> DEMOLICION PLACA PISO 0.15 M, INC. RETIRO
B39: CAPITULO | C39: =+'PPTO '!$D$6 -> PRELIMINARES
B40: UNIDAD | C40: =+'PPTO '!$E$9 -> M2
B41: ESQUEMA-REGISTRO FOTOGRAFICO | H41: DESCRIPCIÓN | I41: DIMENSIONES | M41: TOTAL
I42: L | J42: A | K42: No. | L42: Cantidad de Puntos
H43: PLACA CONTRAPISO | I43: 1 | J43: 1 | K43: 1 | L43: 6 | M43: =+I43*J43*K43*L43 -> 6
H48: TOTAL | M48: =ROUND(SUM(M43:M47),2) -> 6
C52: MUNICIPIO DE GACHALÁ - CUNDINAMARCA
C53: MEMORIA DE CANTIDADES
I55: ACTIVIDAD
B56: ÍTEM | C56: =+'PPTO '!$C$11 -> 2.01 | H56: =+'PPTO '!$D$11 -> EXCAVACION MANUAL EN MATERIAL COMPUN H=0.0-2.0 M (INCLUYE RETIRO SOBRANTES A UNA DISTANCIA MENOR DE 5 KM)
B57: CAPITULO | C57: =+'PPTO '!$D$10 -> CONSTRUCCION ESTRUCTURA NUEVA
B58: UNIDAD | C58: =+'PPTO '!$E$11 -> M3
B59: ESQUEMA-REGISTRO FOTOGRAFICO | H59: DESCRIPCIÓN | I59: DIMENSIONES | M59: TOTAL
I60: L | J60: A | K60: Altuta | L60: Cantidad de Puntos
H61: CIMENTACIÓN | I61: 1 | J61: 1 | K61: 0.2 | L61: 6 | M61: =+I61*J61*K61*L61 -> 1.2
H66: TOTAL | M66: =ROUND(SUM(M61:M65),2) -> 1.2
C68: MUNICIPIO DE GACHALÁ - CUNDINAMARCA
C69: MEMORIA DE CANTIDADES
I71: ACTIVIDAD
B72: ÍTEM | C72: =+'PPTO '!$C$12 -> 2.02 | H72: =+'PPTO '!$D$12 -> CAJA DE PROTECCIÓN 60X60
B73: CAPITULO | C73: =+'PPTO '!$D$10 -> CONSTRUCCION ESTRUCTURA NUEVA
B74: UNIDAD | C74: =+'PPTO '!$E$12 -> UND
B75: ESQUEMA-REGISTRO FOTOGRAFICO | H75: DESCRIPCIÓN | I75: DIMENSIONES | M75: TOTAL
I76: L | J76: A | K76: No. | L76: Cantidad de Puntos
H77: CAJA DE PROTECCIÓN 60X60 | L77: 6 | M77: =+L77 -> 6
H82: TOTAL | M82: =ROUND(SUM(M77:M81),2) -> 6
C84: MUNICIPIO DE GACHALÁ - CUNDINAMARCA
C85: MEMORIA DE CANTIDADES
I87: ACTIVIDAD
B88: ÍTEM | C88: =+'PPTO '!$C$13 -> 2.03 | H88: =+'PPTO '!$D$13 -> PAÑETE IMPERMEABILIZADO MUROS 1:3, E=1.5 CM
B89: CAPITULO | C89: =+'PPTO '!$D$10 -> CONSTRUCCION ESTRUCTURA NUEVA
B90: UNIDAD | C90: =+'PPTO '!$E$13 -> M2
B91: ESQUEMA-REGISTRO FOTOGRAFICO | H91: DESCRIPCIÓN | I91: DIMENSIONES | M91: TOTAL
I92: L | J92: A | K92: Cant. Caras | L92: Cantidad de Puntos
H93: MUROS TIPO | I93: 0.6 | J93: 0.8 | K93: 8 | L93: 6 | M93: =+I93*J93*K93*L93 -> 23.04
H94: AJUSTE DE CANTIDAD SEGÚN DIAGNÓSTICO (VERIFICAR EN SITIO) | M94: 2.16
H98: TOTAL | M98: =ROUND(SUM(M93:M97),2) -> 25.2
C100: MUNICIPIO DE GACHALÁ - CUNDINAMARCA
C101: MEMORIA DE CANTIDADES
I103: ACTIVIDAD
B104: ÍTEM | C104: =+'PPTO '!$C$14 -> 2.04 | H104: =+'PPTO '!$D$14 -> PINTURA TIPO KORAZA PARA EXTERIOR
B105: CAPITULO | C105: =+'PPTO '!$D$10 -> CONSTRUCCION ESTRUCTURA NUEVA
B106: UNIDAD | C106: =+'PPTO '!$E$14 -> M2
B107: ESQUEMA-REGISTRO FOTOGRAFICO | H107: DESCRIPCIÓN | I107: DIMENSIONES | M107: TOTAL
I108: L | J108: A | K108: H | L108: No
H109: MUROS TIPO | I109: 0.6 | J109: 0.8 | K109: 4 | L109: 6 | M109: =+I109*J109*K109*L109 -> 11.52
H110: AJUSTE DE CANTIDAD SEGÚN DIAGNÓSTICO (VERIFICAR EN SITIO) | M110: 1.08
H120: TOTAL | M120: =ROUND(SUM(M109:M119),2) -> 12.6
C122: MUNICIPIO DE GACHALÁ - CUNDINAMARCA
C123: MEMORIA DE CANTIDADES
I125: ACTIVIDAD
B126: ÍTEM | C126: =+'PPTO '!$C$15 -> 2.05 | H126: =+'PPTO '!$D$15 -> BALDOSA CERÁMICA PARED 20X20, CALIDAD PRIMERA
B127: CAPITULO | C127: =+'PPTO '!$D$10 -> CONSTRUCCION ESTRUCTURA NUEVA
B128: UNIDAD | C128: =+'PPTO '!$E$15 -> M2
B129: ESQUEMA-REGISTRO FOTOGRAFICO | H129: DESCRIPCIÓN | I129: DIMENSIONES | M129: TOTAL
I130: L | J130: A | K130: H | L130: No
H131: MUROS TIPO | I131: 0.6 | J131: 0.8 | K131: 4 | L131: 6 | M131: =+I131*J131*K131*L131 -> 11.52
H132: PISO | I132: 0.6 | J132: 0.6 | K132: 1 | L132: 6 | M132: =+I132*J132*K132*L132 -> 2.16
H133: AJUSTE DE CANTIDAD SEGÚN DIAGNÓSTICO (VERIFICAR EN SITIO) | M133: 0.76
H142: TOTAL | M142: =ROUND(SUM(M131:M141),2) -> 14.44
C144: MUNICIPIO DE GACHALÁ - CUNDINAMARCA
C145: MEMORIA DE CANTIDADES
I147: ACTIVIDAD
B148: ÍTEM | C148: =+'PPTO '!$C$16 -> 2.06 | H148: =+'PPTO '!$D$16 -> CONCRETO CLASE D,f' c =3000 PSI (BASES)
B149: CAPITULO | C149: =+'PPTO '!$D$10 -> CONSTRUCCION ESTRUCTURA NUEVA
B150: UNIDAD | C150: =+'PPTO '!$E$16 -> M3
B151: ESQUEMA-REGISTRO FOTOGRAFICO | H151: DESCRIPCIÓN | I151: DIMENSIONES | M151: TOTAL
I152: L | J152: A | K152: H | L152: No
H153: PISO TIPO | I153: 0.8 | J153: 0.8 | K153: 0.1 | L153: 6 | M153: =+I153*J153*K153*L153 -> 0.384
H164: TOTAL | M164: =ROUND(SUM(M153:M163),2) -> 0.38
C166: MUNICIPIO DE GACHALÁ - CUNDINAMARCA
C167: MEMORIA DE CANTIDADES
I169: ACTIVIDAD
B170: ÍTEM | C170: =+'PPTO '!$C$17 -> 2.07 | H170: =+'PPTO '!$D$17 -> ACERO FIGURADO 60000 PSI
B171: CAPITULO | C171: =+'PPTO '!$D$10 -> CONSTRUCCION ESTRUCTURA NUEVA
B172: UNIDAD | C172: =+'PPTO '!$E$17 -> KG
...

Sheet APU 1
B3: SECRETARÍA DE INFRAESTRUCTURA | C3: ANÁLISIS DE PRECIOS UNITARIOS APU 1 BASE ICCU_CONS_3.5.
B4: PRESUPUESTO
B5: UNIDAD | C5: UND
B6: ACTIVIDAD | C6: =+'PPTO '!$D$12 -> CAJA DE PROTECCIÓN 60X60
B8: I. EQUIPO
B9: DESCRIPCIÓN | D9: UNIDAD | E9: TARIFA | F9: REND. | G9: VR. UNIT.
B10: HERRAMIENTA MENOR | D10: GL | E10: 7610.6 | F10: 1 | G10: =+E10/F10 -> 7610.6
G14: SUBTOTAL | H14: =SUM(G10:G12) -> 7610.6
B15: II. MATERIALES EN OBRA
B16: DESCRIPCIÓN | D16: UNIDAD | E16: PRECIO UNIT. | F16: CANT. | G16: VR. TOTAL.
B17: ACERO DE REFUERZO 60000 PSI | D17: KG | E17: 6609 | F17: 0.9 | G17: =+E17*F17 -> 5948.1
B18: ALAMBRE NEGRO NO. 18 | D18: KG | E18: 13637 | F18: 0.03 | G18: =+E18*F18 -> 409.11
B19: ARENA LAVADA DE PEÑA EN MUNICIPIO | D19: M3 | E19: 85149 | F19: 0.11 | G19: =+E19*F19 -> 9366.39
B20: ARENA LAVADA DE RÍO EN MUNICIPIO | D20: M3 | E20: 96836 | F20: 0.03 | G20: =+E20*F20 -> 2905.08
B21: CEMENTO GRIS | D21: KG | E21: 791 | F21: 57.19 | G21: =+E21*F21 -> 45237.29
B22: GRAVILLA DE RÍO EN MUNICIPIO | D22: M3 | E22: 88931 | F22: 0.16 | G22: =+E22*F22 -> 14228.96
B23: LADRILLO TOLETE COMÚN | D23: UNIDAD | E23: 783 | F23: 168 | G23: =+E23*F23 -> 131544
B24: RECEBO COMÚN | D24: M3 | E24: 23801 | F24: 0.11 | G24: =+E24*F24 -> 2618.11
G26: SUBTOTAL | H26: =SUM(G17:G25) -> 212257.04
B27: III. TRANSPORTE
B28: DESCRIPCIÓN | C28: VEOL-PESO +O CANT. | D28: DISTANCIA | E28: M3-KM | F28: TARIFA | G28: V. PARCIAL
B29: TRANS. RECEBO | C29: 0.11 | D29: 33 | E29: 3.63 | F29: 995 | G29: =+F29*E29 -> 3611.85
G31: SUBTOTAL | H31: =SUM(G29:G30) -> 3611.85
B32: IV. MANO DE OBRA
B33: TRABAJADOR | C33: JORNAL | D33: PREST. | E33: JOR. TOTAL | F33: REND. | G33: V. PARCIAL
B34: MANO DE OBRA AA | C34: 190265 | D34: 2 | E34: =+C34*D34 -> 380530 | F34: 2.5 | G34: =+E34/F34 -> 152212
G36: SUBTOTAL | H36: =SUM(G34:G35) -> 152212
F38: TOTAL COSTO DIRECTO | H38: =+ROUND(H14+H26+H31+H36,0) -> 375691

Sheet APU 2
B3: SECRETARÍA DE INFRAESTRUCTURA | C3: ANÁLISIS DE PRECIOS UNITARIOS APU 2
B4: PRESUPUESTO
B5: UNIDAD | C5: UND
B6: ACTIVIDAD | C6: =+'PPTO '!$D$18 -> SUMINISTRO E INSTALACION TAPA DE ALFAJOR =1/4" CON RIGIZADORES Y MARCO EN ÁNGULO. (0.60X0.60)M O SIMILAR PARA ESTRUCTURA NUEVA INCLUYE ANTICORROSIVO
B8: I. EQUIPO
B9: DESCRIPCIÓN | D9: UNIDAD | E9: TARIFA | F9: REND. | G9: VR. UNIT.
B10: HERRAMIENTA MENOR | D10: GL | E10: 474.21 | F10: 1 | G10: =+E10/F10 -> 474.21
G14: SUBTOTAL | H14: =SUM(G10:G12) -> 474.21
B15: II. MATERIALES EN OBRA
B16: DESCRIPCIÓN | D16: UNIDAD | E16: PRECIO UNIT. | F16: CANT. | G16: VR. TOTAL.
B17: TAPA TIPO ALFAJOR | D17: UND | E17: 686000 | F17: 1 | G17: =+E17*F17 -> 686000
B18: ANTICORROSIVO | D18: GLN | E18: 73127 | F18: 0.05 | G18: =+E18*F18 -> 3656.35
G26: SUBTOTAL | H26: =SUM(G17:G25) -> 689656.35
B27: III. TRANSPORTE
B28: DESCRIPCIÓN | D28: UNIDAD | E28: CANT. | F28: V. UNIT | G28: V. PARCIAL
G31: SUBTOTAL | H31: =SUM(G29:G30) -> 0
B32: IV. MANO DE OBRA
B33: TRABAJADOR | C33: JORNAL | D33: PREST. | E33: JOR. TOTAL | F33: REND. | G33: V. PARCIAL
B34: MANO DE OBRA DD | C34: 228318 | D34: 2 | E34: =+C34*D34 -> 456636 | F34: 6 | G34: =+E34/F34 -> 76106
G36: SUBTOTAL | H36: =SUM(G34:G35) -> 76106
F38: TOTAL COSTO DIRECTO | H38: =+ROUND(H14+H26+H31+H36,0) -> 766237

Sheet APU 3
B3: SECRETARÍA DE INFRAESTRUCTURA | C3: ANÁLISIS DE PRECIOS UNITARIOS APU 3
B4: PRESUPUESTO
B5: UNIDAD | C5: UND
B6: ACTIVIDAD | C6: =+'PPTO '!$D$20 -> SUMINISTRO E INSTALACIÓN DE SEÑALIZACION DE INDENTIFICACIÓN DEL PUNTO DE MUESTREO EN MATERIAL RESISTENTE A LA INTEMPERIE
B8: I. EQUIPO
B9: DESCRIPCIÓN | D9: UNIDAD | E9: TARIFA | F9: REND. | G9: VR. UNIT.
G14: SUBTOTAL | H14: =SUM(G10:G12) -> 0
B15: II. MATERIALES EN OBRA
B16: DESCRIPCIÓN | D16: UNIDAD | E16: PRECIO UNIT. | F16: CANT. | G16: VR. TOTAL.
B17: PLACA IDENTIFICACIÓN LÁMINA GALVANIZADA 20/X20 CONLOGOS, AVISO (INCLUYE ELEMENTOS DE FIJACIÓN) | D17: UND | E17: 60000 | F17: 1 | G17: =+E17*F17 -> 60000
G26: SUBTOTAL | H26: =SUM(G17:G25) -> 60000
B27: III. TRANSPORTE
B28: DESCRIPCIÓN | D28: UNIDAD | E28: CANT. | F28: V. UNIT | G28: V. PARCIAL
G31: SUBTOTAL | H31: =SUM(G29:G30) -> 0
B32: IV. MANO DE OBRA
B33: TRABAJADOR | C33: JORNAL | D33: PREST. | E33: JOR. TOTAL | F33: REND. | G33: V. PARCIAL
B34: MANO DE OBRA AA | C34: 190265 | D34: 2 | E34: =+C34*D34 -> 380530 | F34: 15 | G34: =+E34/F34 -> 25368.667
G36: SUBTOTAL | H36: =SUM(G34:G35) -> 25368.667
F38: TOTAL COSTO DIRECTO | H38: =+ROUND(H14+H26+H31+H36,0) -> 85369

Sheet APU 4
B3: SECRETARÍA DE INFRAESTRUCTURA | C3: ANÁLISIS DE PRECIOS UNITARIOS APU 4
B4: PRESUPUESTO
B5: UNIDAD | C5: UND
B6: ACTIVIDAD | C6: =+'PPTO '!$D$23 -> SUMINISTRO E INSTALACION DE LLAVE TERMINAL DE MUESTREO EN BRONCE - LATÓN DE 1/2" DE ALTO DESEMPEÑO
B8: I. EQUIPO
B9: DESCRIPCIÓN | D9: UNIDAD | E9: TARIFA | F9: REND. | G9: VR. UNIT.
B10: HERRAMIENTA MENOR | D10: GL | E10: 1744.1 | F10: 1 | G10: =+E10/F10 -> 1744.1
G14: SUBTOTAL | H14: =SUM(G10:G12) -> 1744.1
B15: II. MATERIALES EN OBRA
B16: DESCRIPCIÓN | D16: UNIDAD | E16: PRECIO UNIT. | F16: CANT. | G16: VR. TOTAL.
B17: LLAVE TERMINAL BRONCE GRIVAL | D17: UND | E17: 34950 | F17: 1 | G17: =+E17*F17 -> 34950 | I17: https://corona.co/productos/plomeria/llave-jardin-bronce-grival/p/797280001?srsltid=AfmBOooUnxtfCt903YMzDBoP_TGEUeqORwsBkPNiXlLFpLKFm-aUtmpG
B18: CINTA TEFLON 10 M 1/2" | D18: UND | E18: 5763 | F18: 0.5 | G18: =+E18*F18 -> 2881.5
G26: SUBTOTAL | H26: =SUM(G17:G25) -> 37831.5
B27: III. TRANSPORTE
B28: DESCRIPCIÓN | D28: UNIDAD | E28: CANT. | F28: V. UNIT | G28: V. PARCIAL
G31: SUBTOTAL | H31: =SUM(G29:G30) -> 0
B32: IV. MANO DE OBRA
B33: TRABAJADOR | C33: JORNAL | D33: PREST. | E33: JOR. TOTAL | F33: REND. | G33: V. PARCIAL
B34: MANO DE OBRA BB | C34: 209292 | D34: 2 | E34: =+C34*D34 -> 418584 | F34: 12 | G34: =+E34/F34 -> 34882
G36: SUBTOTAL | H36: =SUM(G34:G35) -> 34882
F38: TOTAL COSTO DIRECTO | H38: =+ROUND(H14+H26+H31+H36,0) -> 74458
