Workbook
Name contratación: 'IDENTIFICACIÓN Y ANÁLISIS'!$B$39:$B$43
Name ejecución: 'IDENTIFICACIÓN Y ANÁLISIS'!$B$45:$B$68
Name OPCIONES: 'ASIGNACIÓN Y TRATAMIENTO'!$B$38:$B$40
Name planeación: 'IDENTIFICACIÓN Y ANÁLISIS'!$B$19:$B$29
Name selección: 'IDENTIFICACIÓN Y ANÁLISIS'!$B$31:$B$37

Sheet CONTEXTO
C2: MATRIZ DE RIESGOS EN CONTRATACIÓN | F2: Código: GCO-GCI-F164 Versión: 02 Vigencia: 01 de diciembre de 2022 Caso HOLA: 280117
B6: ESTABLECER EL CONTEXTO
B7: El punto inicial es identificar el contexto en el cual interactúa la Entidad Estatal para conocer el ambiente social, económico y político, e identificar (i) sus propios Riesgos; (ii) los Riesgos comunes a sus Procesos de Contratación; y (iii) los Riesgos del Proceso de Contratación en particular. (Aplica igual para contratos interadministrativos). En este paso la Entidad Estatal debe identificar los aspectos que se mencionan a continuación y los posibles efectos adversos que estos pueden generar.
B8: Objeto del Proceso de Contratación: “LA ADQUISICIÓN, DISTRIBUCIÓN E INSTALACIÓN DE ELEMENTOS PARA LA DOTACIÓN DE LA CASA DE LA JUVENTUD Y EL JARDÍN INFANTIL SANTANDER DE LA LOCALIDAD DE ANTONIO NARIÑO 2026”.
B9: Partícipes del Proceso de contratación : Planeación FDLAN - Contratación FDLAN - Calidad FDLAN.
B10: Ciudadanía que se beneficia del Proceso de Contratación: Población de Antonio Nariño.
B11: Capacidad de la Entidad Estatal entendida como la disponibilidad de recursos y conocimientos para el Proceso de Contratación: La disponibilidad de la Entidad de sus recursos y el conocimiento de su equipo humano se refleja en los diferentes funcionarios que participarán en las diversas etapas del proceso de contratación. El fondo de desarrollo local de Antonio Nariño cuenta con contratistas asociados a la oficina de Planeacion y Contratación, los cuales conformarán el equipo técnico y jurídico y financiero para la formulación, evaluación y adjudicación del presente proceso de contratación.
B12: Suficiencia del presupuesto oficial del Proceso de Contratación: el presente proceso de contratación se encuentra establecido en el plan anual de adquisiciones de la vigencia 2026 del fondo, desarrollo local de Antonio Nariño y se soporta bajo certificado disponibilidad, presupuestal anexo a los documentos de este proceso.
B13: Condiciones geográficas y de acceso del lugar en el cual se debe cumplir el objeto del Proceso de Contratación: La prestación de servicios se realizaráen el lugar indicado en los estudios previos del proceso.
B14: El fondo desarrollo local de Antonee Nariño cuenta con la experiencia propia de procesos adjudicados en vigencias anteriores, con el objeto contractual, similar al del presente proceso de contratación.

Sheet IDENTIFICACIÓN Y ANÁLISIS
C2: MATRIZ DE RIESGOS DE CONTRATACIÓN | F2: Código: GCO-GCI-F164 Versión: 02 Vigencia: 01 de diciembre de 2022 Caso HOLA: 280117
B6: DEFINICIONES
B7: RIESGO: Evento que puede generar efectos adversos y de distinta magnitud en el logro de los objetivos del Proceso de Contratación o en la ejecución de un contrato. RIESGOS PREVISIBLES: Son los posibles hechos o circunstancias que por la naturaleza del contrato y de la actividad a ejecutar es factible su ocurrencia. ETAPA DE PLANEACIÓN: Está comprendida desde el momento en que se identifican las necesidades que debe satisfacer la Secretaría Distrital de Gobierno y los Fondos de Desarrollo Local, a través del abastecimiento de bienes, obras o servicios, la elaboración del Plan Anual de Adquisiciones y la estructuración de los documentos y estudios previos. ETAPA DE SELECCIÓN: Está comprendida entre el acto de Apertura del Proceso de Contratación y la Adjudicación o la declaración de desierto del Proceso de Contratación. ETAPA DE CONTRATACIÓN: Una vez adjudicado el contrato objeto del Proceso de Contratación, inicia la etapa para la celebración del contrato y el cumplimiento de los requisitos para de perfeccionamiento y ejecución. ETAPA DE EJECUCIÓN: Inicia una vez cumplidos los requisitos previstos para iniciar la ejecución del contrato respectivo y termina con el vencimiento del plazo del contrato o la fecha de liquidación si hay lugar a ella. RIESGO GENERAL: Es un riesgo de todos los procesos de contratación adelantados por la Entidad Estatal, por lo cual está presente en toda su actividad contractual. RIEGO ESPECIFICO: Es un riesgo propio del proceso de contratación objeto de análisis. RIESGOS ECONÓMICOS: Son los derivados del comportamiento del mercado, tales como la fluctuación de los precios de los insumos, desabastecimiento y especulación de los mismos, entre otros. RIESGOS SOCIALES O POLÍTICOS: son los derivados de los cambios de las políticas gubernamentales y de cambios en las condiciones sociales que tengan impacto en la ejecución del contrato. RIESGOS OPERACIONALES: Son los asociados a la operatividad del contrato, tales como la suficiencia del presupuesto oficial, del plazo o los derivados de procesos, procedimientos, parámetros, sistemas de información y tecnológicos, equipos humanos o técnicos inadecuados o insuficientes. RIESGOS FINANCIEROS: Son (i) el riesgo de consecución de financiación o riesgo de liquidez para obtener recursos para cumplir con el objeto del contrato, y (ii) el riesgo de las condiciones financieras establecidas para la obtención de los recursos, tales como plazos, tasas, garantías, contragarantías, y refinanciaciones, entre otros. RIESGOS REGULATORIOS: Derivados de cambios regulatorios o reglamentarios que afecten la ecuación económica del contrato. RIESGOS DE LA NATURALEZA: Son los eventos naturales previsibles en los cuales no hay intervención humana que puedan tener impacto en la ejecución del contrato, por ejemplo los temblores, inundaciones, lluvias, sequías, entre otros. RIESGOS AMBIENTALES: Son los derivados de las obligaciones legales o reglamentarias de carácter ambiental, así como de las licencias, planes de manejo o de permisos y autorizaciones ambientales, incluyendo tasas retributivas y compensatorias, obligaciones de mitigación, tareas de monitoreo y control, entre otras. RIESGOS TECNOLÓGICOS: Son los derivados de fallas en los sistemas de comunicación de voz y de datos, suspensión de servicios públicos, nuevos desarrollos tecnológicos o estándares que deben ser tenidos en cuenta para la ejecución del contrato, obsolescencia tecnológica.
B15: INSTRUCCIONES PARA LA IDENTIFICACIÓN, ANALISIS, EVALUACIÓN , ASIGNACIÓN Y TRATAMIENTO DE RIESGOS EN LA CONTRATACIÓN
C17: ETAPAS | D17: CLASE | E17: FUENTE | F17: TIPO
C18: PLANEACIÓN
B19: Inadecuada escogencia de la modalidad de contratación | F19: Operacionales
B20: Requisitos habilitantes inapropiados para el proceso de selección | F20: Operacionales
B21: Inadecuado análisis económico estimativo del valor del contrato | F21: Economicos
B22: Inadecuada descripción del bien o servicio requerido | F22: Operacionales
B23: Inadecuada elaboración de estudios y diseños | F23: Operacionales
B24: Requisitos habilitantes que impidan la selección objetiva | F24: Operacionales
B25: Falta de profundidad en el estudio de sector no identificandose claramente aspectos de oferta y demanda | F25: Economicos
B26: Ausencia de fundamentación de la justificación y conveniencia de la contratación | F26: Operacionales
B27: Inadecuada identificación de las condiciones contractuales | F27: Operacionales
B28: No aprobación o demoras en la expedición vigencias futuras | F28: Operacionales
B29: Apertura de procesos sin disponibilidad presupuestal | F29: Operacionales
C30: SELECCIÓN
B31: Inadecuada evaluación de las ofertas y/o verificación de requisitos habilitantes | F31: Operacionales
B32: Inadecuado manejo administrativo del proceso contractual | F32: Operacionales
B33: Falta de claridad en la elaboración de los actos administrativos | F33: Operacionales
B34: Contestación inoportuna a todas las observaciones formuladas a los documentos de la contratación | F34: Operacionales
B35: No publicación de la documentación del proceso de selección en el SECOP | F35: Operacionales
B36: Confabulacion de los proponentes (Colusión) | F36: Operacionales
B37: Selección de ofertas con precios artificialmente bajos. | F37: Operacionales
C38: CONTRATACIÓN
B39: Riesgo de que no se firme el contrato. | F39: Operacionales
B40: Falta de constitución o constitución tardía de la garantía única. Aceptación de garantías que no se ajustan a lo contemplado en el contrato | F40: Operacionales
B41: Falta de solicitud o solicitud tardía del registro presupuestal | F41: Operacionales
B42: No publicación de la documentación del proceso de selección en el SECOP | F42: Operacionales
B43: Presentación de reclamos de terceros sobre la selección del oferente que retrasen el perfeccionamiento del contrato. | F43: Operacionales
C44: EJECUCIÓN
B45: Fluctuaciones del valor de la moneda | F45: Economicos
B46: Cambio de precios en factores de producción. | F46: Economicos
B47: Variación de los precios del mercado | F47: Economicos
B48: Factores políticos o macroeconómicos. | F48: Sociales o Políticos
B49: Cancelación de pedidos. | F49: Economicos
B50: Variación en la disponibilidad o en el costo de los insumos necesarios para prestar los servicios. | F50: Economicos
B51: Incumplimiento de compromisos adquiridos por el contratista seleccionado con sus subcontratistas, suministradores de bienes y servicios. | F51: Economicos
B52: Incumplimiento de la administración en los pagos. | F52: Economicos
...

Sheet EVALUACIÓN
C2: MATRIZ DE RIESGOS DE CONTRATACIÓN | K2: Código: GCO-GCI-F164 Versión: 02 Vigencia: 01 de diciembre de 2022 Caso HOLA: 280117
B6: Objeto Contractual: “LA ADQUISICIÓN, DISTRIBUCIÓN E INSTALACIÓN DE ELEMENTOS PARA LA DOTACIÓN DE LA CASA DE LA JUVENTUD Y EL JARDÍN INFANTIL SANTANDER DE LA LOCALIDAD DE ANTONIO NARIÑO 2026”.
B7: INSTRUCCIONES PARA LA IDENTIFICACIÓN, ANALISIS, EVALUACIÓN , ASIGNACIÓN Y TRATAMIENTO DE RIESGOS EN LA CONTRATACIÓN
B8: 1) Diligencie el objeto contractual y seleccione la(s) etapas y los riesgos que aplican al objeto contractual, de acuerdo a lo definido en la hoja de "IDENTIFICACIÓN Y ANÁLISIS"
B9: 2) Describa las consecuencias de la ocurrencia del Riesgo/evento.
B10: 3) Asigne la probabilidad de ocurrencia del riesgo, de conformidad con la tabla de probabilidad y la valoración del riesgo (Cualitativa o Monetaria)
B11: 4) Asigne el impacto que generaría la materialización del riesgo, de conformidad con la tabla de impacto y la valoración del riesgo (Cualitativa o Monetaria)
B12: 5) Al realizar las anteriores actividades se obtendrá la calificación total y la valoración del riesgo (prioridad).
B13: 6) Continúe en la hoja de "EVALUACIÓN DE CONTROLES"
B15: CALIFICACIÓN | H15: Cualitativa
B16: ETAPA | C16: Descripción (Que puede pasar y, cómo puede ocurrir) | H16: Consecuencias de la ocurrencia del evento | I16: Probabilidad de Ocurrencia | J16: Impacto | K16: Calificación Total | L16: Prioridad
B17: EJECUCIÓN | C17: Factores políticos o macroeconómicos. | H17: Deterioro de las condiciones de seguridad y orden público que impidan la ajecucion del contrato | I17: 1 | J17: 1 | K17: =I17+J17 -> 2 | L17: =IF(K17<=4,"BAJO",IF(K17=5,"MEDIO",IF(K17=6,"ALTO",IF(K17=7,"ALTO","EXTREMO")))) -> BAJO
B18: EJECUCIÓN | C18: Cambios en el marco regulatorio o normatividad aplicable al proyecto. | H18: Cambios normativos o por la expedición de normas posteriores a la celebracion del contrato, que afecten las condiciones económicas, técnicas y/o juridicas inicialmente pactadas | I18: 1 | J18: 2 | K18: =+I18+J18 -> 3 | L18: =IF(K18<=4,"BAJO",IF(K18=5,"MEDIO",IF(K18=6,"ALTO",IF(K18=7,"ALTO","EXTREMO")))) -> BAJO
B19: EJECUCIÓN | C19: Incumplimiento de compromisos adquiridos por el contratista seleccionado con sus subcontratistas, suministradores de bienes y servicios. | H19: entrega de bienes y sevicios que no cuplen con las especificaciones mínimas técnicas y de calidad | I19: 1 | J19: 1 | K19: =+I19+J19 -> 2 | L19: =IF(K19<=4,"BAJO",IF(K19=5,"MEDIO",IF(K19=6,"ALTO",IF(K19=7,"ALTO","EXTREMO")))) -> BAJO
B20: EJECUCIÓN | C20: Variación en la disponibilidad o en el costo de los insumos necesarios para prestar los servicios. | H20: Que el contratista no proveea todos los equipos y elementos necesarios para la ejecución del contrato | I20: 1 | J20: 1 | K20: =+I20+J20 -> 2 | L20: =IF(K20<=4,"BAJO",IF(K20=5,"MEDIO",IF(K20=6,"ALTO",IF(K20=7,"ALTO","EXTREMO")))) -> BAJO
B21: EJECUCIÓN | C21: Defecto en la instalación de equipos | H21: Mal estado en los requerimientos para la actividad | I21: 2 | J21: 3 | K21: =+I21+J21 -> 5 | L21: =IF(K21<=4,"BAJO",IF(K21=5,"MEDIO",IF(K21=6,"ALTO",IF(K21=7,"ALTO","EXTREMO")))) -> MEDIO
B22: EJECUCIÓN | C22: Cancelación de pedidos. | H22: Incumplimiento por parte del ejecutor | I22: 2 | J22: 3 | K22: =+I22+J22 -> 5 | L22: =IF(K22<=4,"BAJO",IF(K22=5,"MEDIO",IF(K22=6,"ALTO",IF(K22=7,"ALTO","EXTREMO")))) -> MEDIO
B25: Probabilidad | C25: Catagoria | E25: Valoración | G25: Impacto | H25: Categoria | I25: Valoración
C26: Raro (puede ocurrir excepcionalmente) | E26: 1 | H26: Insignificante | I26: 1
C27: Improbable (puede ocurrir ocasionalmente) | E27: 2 | H27: Menor | I27: 2
C28: Posible (puede ocurrir en cualquier momento futuro) | E28: 3 | H28: Moderado | I28: 3
C29: Probable (probablemente va a ocurrir) | E29: 4 | H29: Mayor | I29: 4
C30: Casi cierto (ocurre en la mayoria de circunstancias) | E30: 5 | H30: Catastrófico | I30: 5
C32: Valoración del Riesgo
C33: Calificación Cualitativa | F33: Obstruye la ejecución del contrato de manera intrascendente. | G33: Dificulta la ejecución del contrato de manera baja, aplicando medidas mínimas se pueden lograr el objeto contractual | H33: Afecta la ejecución del contrato sin alterar el beneficio para las partes | I33: Obstruye la ejecución del contrato sustancialmente pero aun así permite la consecución del objeto contractual | K33: Perturba la ejecución del contrato de manera grave imposibilitando la consecución del objeto contractual.
C34: Calificación Monetaria | F34: Los sobrecostos no representan más del uno por ciento (1%) del valor del contrato. | G34: Los sobrecostos no representan más del cinco por ciento (5%) del valor del contrato. | H34: Genera un impacto sobre el valor del contrato entre el cinco (5%) y el quince por ciento (15%). | I34: Incrementa el valor del contrato entre el quince (15%) y el treinta por ciento (30%). | K34: Impacto sobre el valor del contrato en más del treinta por ciento (30%).
C35: Categoría | E35: Valoración | F35: Insignificante | G35: Menor | H35: Moderado | I35: Mayor | K35: Catastrófico
F36: 1 | G36: 2 | H36: 3 | I36: 4 | K36: 5
C37: Raro (puede ocurrir excepcionalmente) | E37: 1 | F37: 2 | G37: 3 | H37: 4 | I37: 5 | K37: 6
C38: Improbable (puede ocurrir ocasionalmente) | E38: 2 | F38: 3 | G38: 4 | H38: 5 | I38: 6 | K38: 7
C39: Posible (puede ocurrir en cualquier momento futuro) | E39: 3 | F39: 4 | G39: 5 | H39: 6 | I39: 7 | K39: 8
C40: Probable (probablemente va a ocurrir) | E40: 4 | F40: 5 | G40: 6 | H40: 7 | I40: 8 | K40: 9
C41: Casi cierto (ocurre en la mayoria de circunstancias) | E41: 5 | F41: 6 | G41: 7 | H41: 8 | I41: 9 | K41: 10
G43: Categoria del Riesgo
G44: Valoración del Riesgo | H44: Categoría
G45: 8, 9 y 10 | H45: Riesgo extremo
G46: 6 y 7 | H46: Riesgo alto
G47: 5 | H47: Riesgo medio
G48: 2, 3 y 4 | H48: Riesgo bajo
B53: Cualitativa
...

Sheet EVALUACIÓN CON CONTROLES
C2: MATRIZ DE RIESGOS DE CONTRATACIÓN | Q2: Código: GCO-GCI-F164 Versión: 02 Vigencia: 01 de diciembre de 2022 Caso HOLA: 280117
B6: =+EVALUACIÓN!B6 -> Objeto Contractual: “LA ADQUISICIÓN, DISTRIBUCIÓN E INSTALACIÓN DE ELEMENTOS PARA LA DOTACIÓN DE LA CASA DE LA JUVENTUD Y EL JARDÍN INFANTIL SANTANDER DE LA LOCALIDAD DE ANTONIO NARIÑO 2026”.
B7: INSTRUCCIONES PARA LA IDENTIFICACIÓN, ANALISIS, EVALUACIÓN , ASIGNACIÓN Y TRATAMIENTO DE RIESGOS EN LA CONTRATACIÓN
B15: ETAPA | C15: Descripción (Que puede pasar y, cómo puede ocurrir) | G15: Tratamiento/Controles a ser implementados | I15: Probabilidad de Ocurrencia | J15: Impacto | K15: Calificación Total | L15: Prioridad | M15: ¿Afecta el equilibrio económico del contrato? | N15: Persona responsable por implementar el tratamiento | O15: Fecha estimada en que se inicia el tratamiento | P15: Fecha estimada en que se completa el tratamiento | Q15: ¿Cómo se realiza el monitoreo? | R15: Periodicidad ¿Cuándo?
B16: =+EVALUACIÓN!B17 -> EJECUCIÓN | C16: =+EVALUACIÓN!C17 -> Factores políticos o macroeconómicos. | G16: Apoyo de la fuerza pública | I16: =+EVALUACIÓN!I17 -> 1 | J16: =+EVALUACIÓN!J17 -> 1 | K16: =+I16+J16 -> 2 | L16: =IF(K16<=4,"BAJO",IF(K16=5,"MEDIO",IF(K16=6,"ALTO",IF(K16=7,"ALTO","EXTREMO")))) -> BAJO | M16: No | N16: FDLAN | O16: Suscripción del contrato | P16: Finalización del contrato | Q16: Seguimiento permanente a la ejecución del contrato | R16: Cada vez que se requiera
B17: =+EVALUACIÓN!B18 -> EJECUCIÓN | C17: =+EVALUACIÓN!C18 -> Cambios en el marco regulatorio o normatividad aplicable al proyecto. | G17: Pronta ejecución del contrato | I17: =+EVALUACIÓN!I18 -> 1 | J17: =+EVALUACIÓN!J18 -> 2 | K17: =+I17+J17 -> 3 | L17: =IF(K17<=4,"BAJO",IF(K17=5,"MEDIO",IF(K17=6,"ALTO",IF(K17=7,"ALTO","EXTREMO")))) -> BAJO | M17: No | N17: FDLAN | O17: Suscripción del contrato | P17: Finalización del contrato | Q17: Seguimiento permanente a la ejecución del contrato | R17: Cada vez que se requiera
B18: =+EVALUACIÓN!B19 -> EJECUCIÓN | C18: =+EVALUACIÓN!C19 -> Incumplimiento de compromisos adquiridos por el contratista seleccionado con sus subcontratistas, suministradores de bienes y servicios. | G18: Hacer efectiva la póliza de garantía, cumplimiento de calidad de los servicios | I18: =+EVALUACIÓN!I19 -> 1 | J18: =+EVALUACIÓN!J19 -> 1 | K18: =+I18+J18 -> 2 | L18: =IF(K18<=4,"BAJO",IF(K18=5,"MEDIO",IF(K18=6,"ALTO",IF(K18=7,"ALTO","EXTREMO")))) -> BAJO | M18: No | N18: FDLAN | O18: Suscripción del contrato | P18: Finalización del contrato | Q18: Seguimiento permanente a la ejecución del contrato | R18: Cada vez que se requiera
B19: =+EVALUACIÓN!B20 -> EJECUCIÓN | C19: =+EVALUACIÓN!C20 -> Variación en la disponibilidad o en el costo de los insumos necesarios para prestar los servicios. | G19: Planear, ejecutar y desarrollar la entrega de los elementos en los tiempos contemplados durante el cronograma del proceso | I19: =+EVALUACIÓN!I20 -> 1 | J19: =+EVALUACIÓN!J20 -> 1 | K19: =+I19+J19 -> 2 | L19: =IF(K19<=4,"BAJO",IF(K19=5,"MEDIO",IF(K19=6,"ALTO",IF(K19=7,"ALTO","EXTREMO")))) -> BAJO | M19: No | N19: FDLAN | O19: Suscripción del contrato | P19: Finalización del contrato | Q19: Seguimiento permanente a la ejecución del contrato | R19: Cada vez que se requiera
B20: =+EVALUACIÓN!B21 -> EJECUCIÓN | C20: =+EVALUACIÓN!C21 -> Defecto en la instalación de equipos | G20: Asegurar la calidad antes del inicio de la actividad | I20: =+EVALUACIÓN!I21 -> 2 | J20: =+EVALUACIÓN!J21 -> 3 | K20: =+I20+J20 -> 5 | L20: =IF(K20<=4,"BAJO",IF(K20=5,"MEDIO",IF(K20=6,"ALTO",IF(K20=7,"ALTO","EXTREMO")))) -> MEDIO | M20: Si | N20: FDLAN | O20: Suscripción del contrato | P20: Finalización del contrato | Q20: Seguimiento permanente a la ejecución del contrato | R20: Cada vez que se requiera
B21: =+EVALUACIÓN!B22 -> EJECUCIÓN | C21: =+EVALUACIÓN!C22 -> Cancelación de pedidos. | G21: Planeacion, técnica del cronograma de actividades | I21: =+EVALUACIÓN!I22 -> 2 | J21: =+EVALUACIÓN!J22 -> 3 | K21: =+I21+J21 -> 5 | L21: =IF(K21<=4,"BAJO",IF(K21=5,"MEDIO",IF(K21=6,"ALTO",IF(K21=7,"ALTO","EXTREMO")))) -> MEDIO | M21: Si | N21: FDLAN | O21: Suscripción del contrato | P21: Finalización del contrato | Q21: Seguimiento permanente a la ejecución del contrato | R21: Cada vez que se requiera
C23: Categoria del Riesgo | H23: Impacto del Riesgo
B24: Probabilidad | C24: Catagoria | F24: Valoración | H24: Categoria | J24: Valoración | N24: Categoria del Riesgo
C25: Raro (puede ocurrir excepcionalmente) | F25: 1 | H25: Insignificante | J25: 1 | N25: Valoración del Riesgo | P25: Categoría
C26: Improbable (puede ocurrir ocasionalmente) | F26: 2 | H26: Menor | J26: 2 | N26: 8, 9 y 10 | P26: Riesgo extremo
C27: Posible (puede ocurrir en cualquier momento futuro) | F27: 3 | H27: Moderado | J27: 3 | N27: 6 y 7 | P27: Riesgo alto
C28: Probable (probablemente va a ocurrir) | F28: 4 | H28: Mayor | J28: 4 | N28: 5 | P28: Riesgo medio
C29: Casi cierto (ocurre en la mayoria de circunstancias) | F29: 5 | H29: Catastrófico | J29: 5 | N29: 2, 3 y 4 | P29: Riesgo bajo
C31: Valoración del Riesgo
C32: Calificación Cualitativa | G32: Obstruye la ejecución del contrato de manera intrascendente. | I32: Dificulta la ejecución del contrato de manera baja, aplicando medidas mínimas se pueden lograr el objeto contractual | L32: Afecta la ejecución del contrato sin alterar el beneficio para las partes | N32: Obstruye la ejecución del contrato sustancialmente pero aun así permite la consecución del objeto contractual | P32: Perturba la ejecución del contrato de manera grave imposibilitando la consecución del objeto contractual.
C33: Calificación Monetaria | G33: Los sobrecostos no representan más del uno por ciento (1%) del valor del contrato. | I33: Los sobrecostos no representan más del cinco por ciento (5%) del valor del contrato. | L33: Genera un impacto sobre el valor del contrato entre el cinco (5%) y el quince por ciento (15%). | N33: Incrementa el valor del contrato entre el quince (15%) y el treinta por ciento (30%). | P33: Impacto sobre el valor del contrato en más del treinta por ciento (30%).
C34: Catagoria | F34: Valoración | G34: Insignificante | I34: Menor | L34: Moderado | N34: Mayor | P34: Catastrófico
G35: 1 | I35: 2 | L35: 3 | N35: 4 | P35: 5
C36: Raro (puede ocurrir excepcionalmente) | F36: 1 | G36: 2 | I36: 3 | L36: 4 | N36: 5 | P36: 6
C37: Improbable (puede ocurrir ocasionalmente) | F37: 2 | G37: 3 | I37: 4 | L37: 5 | N37: 6 | P37: 7
C38: Posible (puede ocurrir en cualquier momento futuro) | F38: 3 | G38: 4 | I38: 5 | L38: 6 | N38: 7 | P38: 8
C39: Probable (probablemente va a ocurrir) | F39: 4 | G39: 5 | I39: 6 | L39: 7 | N39: 8 | P39: 9
C40: Casi cierto (ocurre en la mayoria de circunstancias) | F40: 5 | G40: 6 | I40: 7 | L40: 8 | N40: 9 | P40: 10

Sheet ASIGNACIÓN Y TRATAMIENTO
C2: MATRIZ DE RIESGOS DE CONTRATACIÓN | W2: Código: GCO-GCI-F164 Versión: 02 Vigencia: 01 de diciembre de 2022 Caso HOLA: 280117
B6: =+EVALUACIÓN!B6 -> Objeto Contractual: “LA ADQUISICIÓN, DISTRIBUCIÓN E INSTALACIÓN DE ELEMENTOS PARA LA DOTACIÓN DE LA CASA DE LA JUVENTUD Y EL JARDÍN INFANTIL SANTANDER DE LA LOCALIDAD DE ANTONIO NARIÑO 2026”.
B7: Esta matriz es un documento anexo del Estudio Previo
B10: No | C10: Descripción (Que puede pasar y, cómo puede ocurrir) | D10: Etapa | E10: Clase | F10: Fuente | G10: Consecuencias de la ocurrencia del evento | H10: Probabilidad | I10: Impacto | J10: Calificación total | K10: Prioridad | L10: ¿A quien se le asigna? | M10: % | N10: Tratamiento/Controles a ser implementados | O10: Probabilidad | P10: Impacto | Q10: Calificación total | R10: Prioridad | S10: ¿Afecta el equilibrio económico del contrato? | T10: Persona responsable por implementar el tratamiento | U10: Fecha estimada en que se inicia el tratamiento | V10: Fecha estimada en que se completa el tratamiento | W10: ¿Cómo se realiza el monitoreo | X10: Periodicidad ¿Cuándo?
B11: 1 | C11: =+'EVALUACIÓN CON CONTROLES'!C16:F16 -> Factores políticos o macroeconómicos. | D11: =+'EVALUACIÓN CON CONTROLES'!B16 -> EJECUCIÓN | E11: General | F11: Externo | G11: =+EVALUACIÓN!H17 -> Deterioro de las condiciones de seguridad y orden público que impidan la ajecucion del contrato | H11: =+EVALUACIÓN!I17 -> 1 | I11: 2 | J11: 3 | K11: =+EVALUACIÓN!L17 -> BAJO | L11: CONTRATISTA Y SDG | M11: 50/50 | N11: =+'EVALUACIÓN CON CONTROLES'!G16 -> Apoyo de la fuerza pública | O11: =+'EVALUACIÓN CON CONTROLES'!I16 -> 1 | P11: =+'EVALUACIÓN CON CONTROLES'!J16 -> 1 | Q11: =+'EVALUACIÓN CON CONTROLES'!K16 -> 2 | R11: =+'EVALUACIÓN CON CONTROLES'!L16 -> BAJO | S11: =+'EVALUACIÓN CON CONTROLES'!M16 -> No | T11: =+'EVALUACIÓN CON CONTROLES'!N16 -> FDLAN | U11: =+'EVALUACIÓN CON CONTROLES'!O16 -> Suscripción del contrato | V11: =+'EVALUACIÓN CON CONTROLES'!P16 -> Finalización del contrato | ... X11: =+'EVALUACIÓN CON CONTROLES'!R16 -> Cada vez que se requiera
B12: 2 | C12: =+'EVALUACIÓN CON CONTROLES'!C17:F17 -> Cambios en el marco regulatorio o normatividad aplicable al proyecto. | D12: =+'EVALUACIÓN CON CONTROLES'!B17 -> EJECUCIÓN | E12: General | F12: Externo | G12: =+EVALUACIÓN!H18 -> Cambios normativos o por la expedición de normas posteriores a la celebracion del contrato, que afecten las condiciones económicas, técnicas y/o juridicas inicialmente pactadas | H12: =+EVALUACIÓN!I18 -> 1 | I12: =+EVALUACIÓN!J18 -> 2 | J12: =+EVALUACIÓN!K18 -> 3 | K12: =+EVALUACIÓN!L18 -> BAJO | L12: CONTRATISTA | M12: 100 | N12: =+'EVALUACIÓN CON CONTROLES'!G17 -> Pronta ejecución del contrato | O12: =+'EVALUACIÓN CON CONTROLES'!I17 -> 1 | P12: =+'EVALUACIÓN CON CONTROLES'!J17 -> 2 | Q12: =+'EVALUACIÓN CON CONTROLES'!K17 -> 3 | R12: =+'EVALUACIÓN CON CONTROLES'!L17 -> BAJO | S12: =+'EVALUACIÓN CON CONTROLES'!M17 -> No | T12: =+'EVALUACIÓN CON CONTROLES'!N17 -> FDLAN | U12: =+'EVALUACIÓN CON CONTROLES'!O17 -> Suscripción del contrato | V12: =+'EVALUACIÓN CON CONTROLES'!P17 -> Finalización del contrato | ... X12: =+'EVALUACIÓN CON CONTROLES'!R17 -> Cada vez que se requiera
B13: 3 | C13: =+'EVALUACIÓN CON CONTROLES'!C18:F18 -> Incumplimiento de compromisos adquiridos por el contratista seleccionado con sus subcontratistas, suministradores de bienes y servicios. | D13: =+'EVALUACIÓN CON CONTROLES'!B18 -> EJECUCIÓN | E13: Especifico | F13: Interno | G13: =+EVALUACIÓN!H19 -> entrega de bienes y sevicios que no cuplen con las especificaciones mínimas técnicas y de calidad | H13: =+EVALUACIÓN!I19 -> 1 | I13: 2 | J13: 3 | K13: =+EVALUACIÓN!L19 -> BAJO | L13: CONTRATISTA | M13: 100 | N13: =+'EVALUACIÓN CON CONTROLES'!G18 -> Hacer efectiva la póliza de garantía, cumplimiento de calidad de los servicios | O13: =+'EVALUACIÓN CON CONTROLES'!I18 -> 1 | P13: =+'EVALUACIÓN CON CONTROLES'!J18 -> 1 | Q13: =+'EVALUACIÓN CON CONTROLES'!K18 -> 2 | R13: =+'EVALUACIÓN CON CONTROLES'!L18 -> BAJO | S13: =+'EVALUACIÓN CON CONTROLES'!M18 -> No | T13: =+'EVALUACIÓN CON CONTROLES'!N18 -> FDLAN | U13: =+'EVALUACIÓN CON CONTROLES'!O18 -> Suscripción del contrato | V13: =+'EVALUACIÓN CON CONTROLES'!P18 -> Finalización del contrato | ... X13: =+'EVALUACIÓN CON CONTROLES'!R18 -> Cada vez que se requiera
B14: 4 | C14: =+'EVALUACIÓN CON CONTROLES'!C19:F19 -> Variación en la disponibilidad o en el costo de los insumos necesarios para prestar los servicios. | D14: =+'EVALUACIÓN CON CONTROLES'!B19 -> EJECUCIÓN | E14: Especifico | F14: Externo | G14: =+EVALUACIÓN!H20 -> Que el contratista no proveea todos los equipos y elementos necesarios para la ejecución del contrato | H14: =+EVALUACIÓN!I20 -> 1 | I14: =+EVALUACIÓN!J20 -> 1 | J14: =+EVALUACIÓN!K20 -> 2 | K14: =+EVALUACIÓN!L20 -> BAJO | L14: CONTRATISTA | M14: 100 | N14: =+'EVALUACIÓN CON CONTROLES'!G19 -> Planear, ejecutar y desarrollar la entrega de los elementos en los tiempos contemplados durante el cronograma del proceso | O14: =+'EVALUACIÓN CON CONTROLES'!I19 -> 1 | P14: =+'EVALUACIÓN CON CONTROLES'!J19 -> 1 | Q14: =+'EVALUACIÓN CON CONTROLES'!K19 -> 2 | R14: =+'EVALUACIÓN CON CONTROLES'!L19 -> BAJO | S14: =+'EVALUACIÓN CON CONTROLES'!M19 -> No | T14: =+'EVALUACIÓN CON CONTROLES'!N19 -> FDLAN | U14: =+'EVALUACIÓN CON CONTROLES'!O19 -> Suscripción del contrato | V14: =+'EVALUACIÓN CON CONTROLES'!P19 -> Finalización del contrato | ... X14: =+'EVALUACIÓN CON CONTROLES'!R19 -> Cada vez que se requiera
B15: 5 | C15: =+'EVALUACIÓN CON CONTROLES'!C20:F20 -> Defecto en la instalación de equipos | D15: =+'EVALUACIÓN CON CONTROLES'!B20 -> EJECUCIÓN | E15: General | F15: Interno | G15: =+EVALUACIÓN!H21 -> Mal estado en los requerimientos para la actividad | H15: =+EVALUACIÓN!I21 -> 2 | I15: 4 | J15: 6 | K15: =+EVALUACIÓN!L21 -> MEDIO | L15: CONTRATISTA | M15: 100 | N15: =+'EVALUACIÓN CON CONTROLES'!G20 -> Asegurar la calidad antes del inicio de la actividad | O15: =+'EVALUACIÓN CON CONTROLES'!I20 -> 2 | P15: =+'EVALUACIÓN CON CONTROLES'!J20 -> 3 | Q15: =+'EVALUACIÓN CON CONTROLES'!K20 -> 5 | R15: =+'EVALUACIÓN CON CONTROLES'!L20 -> MEDIO | S15: =+'EVALUACIÓN CON CONTROLES'!M20 -> Si | T15: =+'EVALUACIÓN CON CONTROLES'!N20 -> FDLAN | U15: =+'EVALUACIÓN CON CONTROLES'!O20 -> Suscripción del contrato | V15: =+'EVALUACIÓN CON CONTROLES'!P20 -> Finalización del contrato | ... X15: =+'EVALUACIÓN CON CONTROLES'!R20 -> Cada vez que se requiera
B16: 6 | C16: =+'EVALUACIÓN CON CONTROLES'!C21:F21 -> Cancelación de pedidos. | D16: =+'EVALUACIÓN CON CONTROLES'!B21 -> EJECUCIÓN | E16: General | F16: Interno | G16: =+EVALUACIÓN!H22 -> Incumplimiento por parte del ejecutor | H16: =+EVALUACIÓN!I22 -> 2 | I16: =+EVALUACIÓN!J22 -> 3 | J16: =+EVALUACIÓN!K22 -> 5 | K16: =+EVALUACIÓN!L22 -> MEDIO | L16: CONTRATISTA | M16: 100 | N16: =+'EVALUACIÓN CON CONTROLES'!G21 -> Planeacion, técnica del cronograma de actividades | O16: =+'EVALUACIÓN CON CONTROLES'!I21 -> 2 | P16: =+'EVALUACIÓN CON CONTROLES'!J21 -> 3 | Q16: =+'EVALUACIÓN CON CONTROLES'!K21 -> 5 | R16: =+'EVALUACIÓN CON CONTROLES'!L21 -> MEDIO | S16: =+'EVALUACIÓN CON CONTROLES'!M21 -> Si | T16: =+'EVALUACIÓN CON CONTROLES'!N21 -> FDLAN | U16: =+'EVALUACIÓN CON CONTROLES'!O21 -> Suscripción del contrato | V16: =+'EVALUACIÓN CON CONTROLES'!P21 -> Finalización del contrato | ... X16: =+'EVALUACIÓN CON CONTROLES'!R21 -> Cada vez que se requiera
F18: Categoria | J18: Impacto del Riesgo
E19: Probabilidad | F19: Catagoria | G19: Valoración | J19: Categoria | L19: Valoración
F20: Raro (puede ocurrir excepcionalmente) | G20: 1 | J20: Insignificante | L20: 1
F21: Improbable (puede ocurrir ocasionalmente) | G21: 2 | J21: Menor | L21: 2
F22: Posible (puede ocurrir en cualquier momento futuro) | G22: 3 | J22: Moderado | L22: 3
F23: Probable (probablemente va a ocurrir) | G23: 4 | J23: Mayor | L23: 4
F24: Casi cierto (ocurre en la mayoria de circunstancias) | G24: 5 | J24: Catastrófico | L24: 5
D26: Valoración del Riesgo
D27: Catagoria | E27: Valoración | F27: Insignificante | H27: Menor | J27: Moderado | K27: Mayor | L27: Catastrófico | P27: Categoria del Riesgo
F28: 1 | H28: 2 | J28: 3 | K28: 4 | L28: 5 | P28: Valoración del Riesgo | S28: Categoría
D29: Raro (puede ocurrir excepcionalmente) | E29: 1 | F29: 2 | H29: 3 | J29: 4 | K29: 5 | L29: 6 | P29: 8, 9 y 10 | S29: Riesgo extremo
D30: Improbable (puede ocurrir ocasionalmente) | E30: 2 | F30: 3 | H30: 4 | J30: 5 | K30: 6 | L30: 7 | P30: 6 y 7 | S30: Riesgo alto
D31: Posible (puede ocurrir en cualquier momento futuro) | E31: 3 | F31: 4 | H31: 5 | J31: 6 | K31: 7 | L31: 8 | P31: 5 | S31: Riesgo medio
D32: Probable (probablemente va a ocurrir) | E32: 4 | F32: 5 | H32: 6 | J32: 7 | K32: 8 | L32: 9 | P32: 2, 3 y 4 | S32: Riesgo bajo
D33: Casi cierto (ocurre en la mayoria de circunstancias) | E33: 5 | F33: 6 | H33: 7 | J33: 8 | K33: 9 | L33: 10
B38: CONTRATISTA
B39: SDG
B40: CONTRATISTA Y SDG
