Workbook
Name \0: #REF!
Name \a: [1]PJ!#REF!
Name \L: #REF!
Name \P: #REF!
Name \PX: [2]!ERR
Name \s: #REF!
Name \X: [3]!ERR
Name \Z: [3]!ERR
Name _: #REF!
Name _____________________________________________________FS01: [0]!ERR
Name ___________________________________________________FS01: [0]!ERR
Name _________________________________________________FS01: [0]!ERR
Name _______________________________________________FS01: [0]!ERR
Name _____________________________________________FS01: [0]!ERR
Name ___________________________________________FS01: [0]!ERR
Name _________________________________________FS01: [0]!ERR
Name _______________________________________FS01: [0]!ERR
Name _____________________________________FS01: [0]!ERR
Name ___________________________________FS01: [0]!ERR
Name _________________________________FS01: [0]!ERR
Name ________________________________PJ50: #REF!
Name _______________________________FS01: [0]!ERR
Name _______________________________PJ50: #REF!
Name ______________________________APU221: #REF!
Name ______________________________PJ50: #REF!
Name ______________________________pj51: #REF!
Name _____________________________APU221: #REF!
Name _____________________________FS01: [0]!ERR
Name _____________________________pj51: #REF!
Name ____________________________APU221: #REF!
Name ____________________________FS01: [0]!ERR
Name ____________________________PJ50: #REF!
Name ____________________________pj51: #REF!
Name ____________________________rc: #REF!
Name ___________________________PJ50: #REF!
Name ___________________________rc: #REF!
Name __________________________APU221: #REF!
Name __________________________FS01: [0]!ERR
Name __________________________PJ50: #REF!
Name __________________________pj51: #REF!
Name __________________________rc: #REF!
Name _________________________APU221: #REF!
Name _________________________FS01: [0]!ERR
Name _________________________PJ50: #REF!
Name _________________________pj51: #REF!
Name _________________________rc: #REF!
Name ________________________APU221: #REF!
Name ________________________PJ50: #REF!
Name ________________________pj51: #REF!
Name ________________________rc: #REF!
Name _______________________APU221: #REF!
Name _______________________FS01: [0]!ERR
Name _______________________PJ50: #REF!
Name _______________________pj51: #REF!
Name _______________________rc: #REF!
Name ______________________APU221: #REF!
Name ______________________FS01: [4]!ERR
Name ______________________i1: #REF!
Name ______________________PJ50: #REF!
Name ______________________pj51: #REF!

Sheet PRESUPUESTO
A1: PRESUPUESTO MODELO INTERVENCIONES PARA CENTROS Y PUESTOS DE SALUD Ministerio de Salud y Protección Social Subdirección de Infraestructura en Salud
A3: PROYECTO: | C3: ADECUACION DEL CENTRO DE SALUD SIMON BOLIVAR - MUNICIPIO DE FUNDACION, MAGDALENA
A5: PRESUPUESTO
A6: N° | B6: Código | C6: Descripción | D6: Unidad | E6: Cantidad | F6: Vr.Unitario | G6: Vr.Total
B7: APU. SISPAC
A9: 1 | C9: ACTIVIDES PRELIMINARES | G9: =+SUM(G10:G17) -> 19643564
A10: 1,1 | B10: 010507. Modelo | C10: Desmonte cubiertas asbesto cemento | D10: M2 | E10: 147.89 | F10: ='1. ACTIVIDADES PRELIMINARES'!H30 -> 44291.5 | G10: =E10*F10 -> 6550269.9
A11: 1,2 | B11: 010501 | C11: Desmonte aparatos sanitarios | D11: UN | E11: =E31+E32 -> 4 | F11: ='1. ACTIVIDADES PRELIMINARES'!H69 -> 38891.5 | G11: =E11*F11 -> 155566
A12: 1,3 | B12: 010503 | C12: Desmonte marcos y puertas con transporte | D12: M2 | E12: =E60 -> 10 | F12: ='1. ACTIVIDADES PRELIMINARES'!H108 -> 24774.9 | G12: =E12*F12 -> 247749
A13: 1,4 | B13: APU | C13: Desmonte Correas en Madera | D13: ML | E13: =E42+50 -> 180.84 | F13: ='1. ACTIVIDADES PRELIMINARES'!H147 -> 6467.2675 | G13: =E13*F13 -> 1169540.7
A14: 1,5 | B14: APU | C14: Demolición placa de contrapiso (.10 cms espesor) y piso existente, (incluye retiro) | D14: M2 | E14: =E22+E20 -> 239.58 | F14: ='1. ACTIVIDADES PRELIMINARES'!H186 -> 36866.5 | G14: =E14*F14 -> 8832476.1
A15: 1,6 | B15: APU | C15: Desmonte tomacorrientes | D15: UN | E15: =E53 -> 4 | F15: ='1. ACTIVIDADES PRELIMINARES'!H225 -> 2562.159 | G15: =E15*F15 -> 10248.636
A16: 1,7 | B16: APU | C16: Desmonte lámparas de techo | D16: UN | E16: =E54+E55 -> 10 | F16: ='1. ACTIVIDADES PRELIMINARES'!H264 -> 7686.487 | G16: =E16*F16 -> 76864.87
A17: 1,8 | B17: APU | C17: Desmonte de cielo raso | D17: M2 | E17: =E46+E49 -> 112.51 | F17: ='1. ACTIVIDADES PRELIMINARES'!H303 -> 23116.6 | G17: =E17*F17 -> 2600848.7
A19: 2 | C19: PISOS Y ENCHAPES | G19: =+SUM(G20:G24) -> 44177223
A20: 2.1 | B20: 081001 | C20: Suministro e instalación de Baldosa de granito tipo alfa o similar (30*30 / 33x33 cm) incluye destronque, pulida y brillado | D20: M2 | E20: 121.41 | F20: ='2. PISOS Y ENCHAPES'!H35 -> 159517.06 | G20: =E20*F20 -> 19366966
A21: 2.2 | B21: 080511 - 341003 | C21: Suministro e instalación Placa de contrapiso en concreto 2.500 psi e=0.8 m reforzada con malla de 4 mm | D21: M2 | E21: 118.17 | F21: ='2. PISOS Y ENCHAPES'!H76+11180.26 -> 78382.06 | G21: =E21*F21 -> 9262408
A22: 2.3 | B22: 083003 | C22: Suministro e instalación de baldosa vibroprensada 33 x 33, 30 x 30 en áreas de patio, terraza ( Tablón rojo ) | D22: M2 | E22: =E21 -> 118.17 | F22: ='2. PISOS Y ENCHAPES'!H117 -> 72041.74 | G22: =E22*F22 -> 8513172.4
A23: 2.4 | B23: 084015 | C23: Suministro e instalación guarda escoba recto en Baldosa de grano de mármol 30 o 33 x 7 cm. | D23: ML | E23: 132.7 | F23: ='2. PISOS Y ENCHAPES'!H156 -> 23730.98 | G23: =E23*F23 -> 3149101
A24: 2.5 | B24: 080511 | C24: Suministro e instalación Alistado de pisos e= 0.04 m, en mortero 1:4 | D24: M2 | E24: =E20 -> 121.41 | F24: ='2. PISOS Y ENCHAPES'!H195 -> 32003.75 | G24: =E24*F24 -> 3885575.3
A26: 3 | C26: INSTALACIONES HIDRAULICAS | G26: =+SUM(G27:G28) -> 2145360.5
A27: 3.1 | B27: APU | C27: Suministro e instalación barra de seguridad abatible para baño discapacitado en acero inoxidable 13 x 85 cm. | D27: UND | E27: 1 | F27: ='3. INSTALACIONES HIDRAULICAS'!H35 -> 395951.38 | G27: =E27*F27 -> 395951.38
A28: 3.2 | B28: Cod.583775 Homecenter | C28: Suministro e instalación tanque elevado 2.000 lts con conexión y distribución PVC de 1/2" y 1". Incluye todos los accesorios para su normal funcionamiento | D28: UND | E28: 1 | F28: ='3. INSTALACIONES HIDRAULICAS'!H76 -> 1749409.1 | G28: =E28*F28 -> 1749409.1
A30: 4 | C30: APARATOS SANITARIOS | G30: =+SUM(G31:G35) -> 4043096.5
A31: 4.1 | B31: 120509. Mod. | C31: Suministro e instalación Lavamanos de incrustar con grifería de mesa tipo push | D31: UND | E31: 2 | F31: ='4. APARATOS SANITARIOS'!H34 -> 477507.95 | G31: =E31*F31 -> 955015.9
A32: 4.2 | B32: 120509. Mod. | C32: Suministro e instalación sanitario bajo consumo | D32: UND | E32: 2 | F32: ='4. APARATOS SANITARIOS'!H74 -> 611407.95 | G32: =E32*F32 -> 1222815.9
A33: 4.3 | B33: APU | C33: Suministro e instalación Manto asfaltico de 3mm de espesor. | D33: M2 | E33: =8.5*1.8 -> 15.3 | F33: ='4. APARATOS SANITARIOS'!H113 -> 80047.32 | G33: =E33*F33 -> 1224724
A34: 4.4 | B34: APU | C34: Instalación de A/A tipo mini Split de 12.000 btu, incluye accesorios para su correcto funcionamiento. | D34: UND | E34: 2 | F34: ='4. APARATOS SANITARIOS'!H150 -> 213513.58 | G34: =E34*F34 -> 427027.16
A35: 4.5 | B35: APU | C35: Instalación de A/A tipo mini Split de 18.000 btu, incluye accesorios para su correcto funcionamiento. | D35: UND | E35: 1 | F35: ='4. APARATOS SANITARIOS'!H187 -> 213513.58 | G35: =E35*F35 -> 213513.58
A37: 5 | C37: MUROS Y ACABADOS | G37: =+SUM(G38:G39) -> 8902790.6
A38: 5.1 | B38: 200521 | C38: Vinilo interior, filos y dilataciones (tres manos) | D38: M2 | E38: 314.76 | F38: ='5. MUROS Y ACABADOS'!H31 -> 21279.228 | G38: =E38*F38 -> 6697849.6
A39: 5.2 | B39: 200511 Mod. | C39: vinilo exterior en fachada y área de patio a 3 manos, filos y dilataciones | D39: M2 | E39: 114.02 | F39: ='5. MUROS Y ACABADOS'!H71 -> 19338.195 | G39: =E39*F39 -> 2204941
A41: 6 | C41: CUBIERTA | G41: =+SUM(G42:G49) -> 62682419
A42: 6.1 | B42: APU | C42: Suministro e instalación correa metálica en perfil estructural PHR-C 120 x 60 x 2 mm, con anticorrosivo, | D42: ML | E42: 130.84 | F42: ='6. CUBIERTA'!H41 -> 55021.3 | G42: =E42*F42 -> 7198986.8
A43: 6.2 | B43: APU | C43: Suministro e instalación Platina 0.10*0.10 m en lamina HR 1/8" con anclajes de 1/4''. | D43: UND | E43: 6 | F43: ='6. CUBIERTA'!H84 -> 56662.777 | G43: =E43*F43 -> 339976.66
A44: 6.3 | B44: Cod.302961 Homecenter | C44: Suministro e instalación Cubierta tipo sándwich 12 x 1m x 18mm - Lamina galvanizada cal. 28 blanco hueso, poliuretano expandido de densidad 38 kg/m3 | D44: M2 | E44: =E10 -> 147.89 | F44: ='6. CUBIERTA'!H124 -> 261189.95 | G44: =E44*F44 -> 38627381
A45: 6.4 | B45: Cod.234514 Homecenter | C45: Caballete Blanco UPVC 0,60 x 0,94mt x 2mm | D45: ML | E45: 14.5 | F45: ='6. CUBIERTA'!H162 -> 55072.211 | G45: =E45*F45 -> 798547.07
A46: 6.5 | B46: 070507 - 200521 | C46: Suministro e instalación Cielo raso dry-wall plano con lámina gyplac RH antihumedad de 1/2" o 12.7mm o similar, pintado con 3 manos vinilo supe lavable contra alto desgaste | D46: M2 | E46: 99.33 | F46: ='6. CUBIERTA'!H205 -> 114250.13 | G46: =E46*F46 -> 11348465
A47: 6.6 | B47: APU | C47: Suministro e instalación Canaleta 30 x 35 cms, en lamina galvanizada cal. 20 desarrollo 0.60 m. pintado con wash primer y esmalte. | D47: ML | E47: 17.21 | F47: ='6. CUBIERTA'!H249 -> 121924.01 | G47: =E47*F47 -> 2098312.2
A48: 6.7 | B48: APU | C48: Suministro e instalación Bajante A.LL. PVC 4" | D48: ML | E48: =2.8*4 -> 11.2 | F48: ='6. CUBIERTA'!H289 -> 55887.891 | G48: =E48*F48 -> 625944.38
...

Sheet 1. ACTIVIDADES PRELIMINARES
B2: ANÁLISIS DE PRECIOS UNITARIOS
B3: 09 DE Noviembre 2024 | D3: PROYECTO: ADECUACION DEL CENTRO DE SALUD DE SIMON BOLIVAR MUNICIPIO DE FUNDACION, MAGDALENA
B4: Codigo de Ref. Sispac 010507 | D4: Ciudad | F4: Fundacion
D5: Departamento | F5: Magdalena | G5: Año | H5: 2024
B6: Desmonte cubiertas asbesto cemento
B8: Unidad : | C8: M2 | G8: Código: | H8: 2.1
B9: I EQUIPO
B10: Descripción | D10: Unidad | E10: Cantidad | F10: D. % | G10: Valor | H10: Valor Parcial
H11: =+ROUND(F11*G11,2) -> 0
B13: Sub-Total | H13: =ROUND(SUM(H11:H12),2) -> 0
B14: II MATERIALES
B15: Descripción | D15: Unidad | E15: Cantidad | F15: D. % | G15: Valor | H15: Valor Parcial
H16: =+ROUND(E16*F16*G16,2) -> 0
B18: Sub-Total | H18: =ROUND(SUM(H16:H17),2) -> 0
B19: III TRANSPORTE
B20: Descripción | D20: Unidad | E20: Cantidad | F20: D. % | G20: Valor | H20: Valor Parcial
B21: Volqueta 5.5 m3 viaje | D21: Vj | E21: 0.1 | F21: 0 | G21: 90000 | H21: =E21*G21 -> 9000
B23: Sub-Total | H23: =H21+H22 -> 9000
B24: IV MANO DE OBRA
B25: Descripción | D25: Unidad | E25: Cantidad | F25: D. % | G25: Valor | H25: Valor parcial
B26: Cuadrilla oficial ayudante tipo aa | D26: hh | E26: 1 | F26: 0 | G26: 35291.5 | H26: =G26*E26 -> 35291.5
H27: =+ROUND(E27*F27*G27,2) -> 0
B28: Sub-Total | H28: =H26+H27 -> 35291.5
G30: TOTAL COSTO DIRECTO | H30: =H23+H28+H18+H13 -> 44291.5
B32: ARQUITECTO
B33: ROSEMBERG GARRIDO NUÑEZ
B34: No. T.P. A08102005-72247856
B35: C.C 72.247.856
B38: ANÁLISIS DE PRECIOS UNITARIOS
B39: 09 DE Noviembre 2024 | D39: PROYECTO: ADECUACION DEL CENTRO DE SALUD DE SIMON BOLIVAR MUNICIPIO DE FUNDACION, MAGDALENA
B40: Codigo de Ref. Sispac 010501 | D40: Ciudad | F40: Fundacion
D41: Departamento | F41: Magdalena | G41: Año | H41: 2024
B42: Desmonte aparatos sanitarios
B44: Unidad : | C44: UN | G44: Código: | H44: 1.2
B45: I EQUIPO
B46: Descripción | D46: Unidad | E46: Cantidad | F46: D. % | G46: Valor | H46: Valor Parcial
H47: =+ROUND(F47*G47,2) -> 0
H48: =+ROUND(F48*G48,2) -> 0
B50: Sub-Total | H50: =ROUND(SUM(H47:H49),2) -> 0
B51: II MATERIALES
...

Sheet 2. PISOS Y ENCHAPES
B2: ANÁLISIS DE PRECIOS UNITARIOS
B3: 09 DE Noviembre 2024 | D3: PROYECTO: ADECUACION DEL CENTRO DE SALUD DE SIMON BOLIVAR MUNICIPIO DE FUNDACION, MAGDALENA
B4: Codigo de Ref. Sispac 081001 | D4: Ciudad | F4: Fundacion
D5: Departamento | F5: Magdalena | G5: Año | H5: 2024
B6: Suministro e instalacion de Baldosa de granito tipo alfa o similar (30*30 / 33x33 cm) incluye destronque, pulida y brillado
B8: Unidad : | C8: M2 | G8: Código: | H8: 2.1
B9: I EQUIPO
B10: Descripción | D10: Unidad | E10: Cantidad | F10: D. % | G10: Valor | H10: Valor Parcial
B11: Mezcladora con operador 9 p3 | D11: di | H11: =E11*G11 -> 0
H12: =+ROUND(F12*G12,2) -> 0
B14: Sub-Total | H14: =ROUND(SUM(H11:H13),2) -> 0
B15: II MATERIALES
B16: Descripción | D16: Unidad | E16: Cantidad | F16: D. % | G16: Valor | H16: Valor Parcial
B17: Baldosa granito blanco | D17: m2 | E17: 1000 | F17: 5 | G17: 68700 | H17: 72135
B18: Arena | D18: m3 | E18: 0.05 | F18: 5 | G18: 147560 | H18: =G18*E18 -> 7378
B19: Cemento blanco | D19: kg | E19: 3 | F19: 5 | G19: 1771.35 | H19: =G19*E19 -> 5314.05
B20: Mortero 1:6 | D20: m3 | E20: 0.03 | F20: 5 | G20: 372177 | H20: =G20*E20 -> 11165.31
B22: Sub-Total | H22: =ROUND(SUM(H17:H21),2) -> 95992.36
B23: III TRANSPORTE
B24: Descripción | D24: Unidad | E24: Cantidad | F24: D. % | G24: Valor | H24: Valor Parcial
B25: Volqueta 5.5 m3 viaje | D25: Vj | F25: 0 | H25: =E25*G25 -> 0
B28: Sub-Total | H28: =H25+H26+H27 -> 0
B29: IV MANO DE OBRA
B30: Descripción | D30: Unidad | E30: Cantidad | F30: D. % | G30: Valor | H30: Valor parcial
B31: Cuadrilla oficial ayudante tipo aa | D31: hh | E31: 1.8 | F31: 0 | G31: 35291.5 | H31: =G31*E31 -> 63524.7
H32: =+ROUND(E32*F32*G32,2) -> 0
B33: Sub-Total | H33: =H31+H32 -> 63524.7
G35: TOTAL COSTO DIRECTO | H35: =H28+H33+H22+H14 -> 159517.06
B37: ARQUITECTO
B38: ROSEMBERG GARRIDO NUÑEZ
B39: No. T.P. A08102005-72247856
B40: C.C 72.247.856
B43: ANÁLISIS DE PRECIOS UNITARIOS
B44: 09 DE Noviembre 2024 | D44: PROYECTO: ADECUACION DEL CENTRO DE SALUD DE SIMON BOLIVAR MUNICIPIO DE FUNDACION, MAGDALENA
B45: Codigo de Ref. Sispac 080511-341003 | D45: Ciudad | F45: Fundacion
D46: Departamento | F46: Magdalena | G46: Año | H46: 2024
B47: Suministro e instalacion Placa de contrapiso en concreto 2.500 psi e=0.8 m reforzada con malla de 4 mm
B49: Unidad : | C49: M2 | G49: Código: | H49: 2.2
B50: I EQUIPO
B51: Descripción | D51: Unidad | E51: Cantidad | F51: D. % | G51: Valor | H51: Valor Parcial
...

Sheet 3. INSTALACIONES HIDRAULICAS
B2: ANÁLISIS DE PRECIOS UNITARIOS
B3: 09 DE Noviembre 2024 | D3: PROYECTO: ADECUACION DEL CENTRO DE SALUD DE SIMON BOLIVAR MUNICIPIO DE FUNDACION, MAGDALENA
B4: APU | D4: Ciudad | F4: Fundacion
D5: Departamento | F5: Magdalena | G5: Año | H5: 2024
B6: Suministro e instalacion barra de seguridad abatible para baño discapacitado en acero inoxidable 13 x 85 cm.
B8: Unidad : | C8: M2 | G8: Código: | H8: 3.1
B9: I EQUIPO
B10: Descripción | D10: Unidad | E10: Cantidad | F10: D. % | G10: Valor | H10: Valor Parcial
B11: Heramienta menores 10% M.O AA | D11: di | E11: 1 | F11: 10 | G11: 42986 | H11: =H31*10/100 -> 4298.58
H12: =+ROUND(F12*G12,2) -> 0
B14: Sub-Total | H14: =ROUND(SUM(H11:H13),2) -> 4298.58
B15: II MATERIALES
B16: Descripción | D16: Unidad | E16: Cantidad | F16: D. % | G16: Valor | H16: Valor Parcial
B17: Barra de sguridad | D17: ml | E17: 1 | G17: 348667 | H17: =E17*G17 -> 348667
H18: =E18*G18 -> 0
H19: =E19*G19 -> 0
H20: =E20*G20 -> 0
H21: =E21*G21 -> 0
B22: Sub-Total | H22: =ROUND(SUM(H17:H21),2) -> 348667
B23: III TRANSPORTE
B24: Descripción | D24: Unidad | E24: Cantidad | F24: D. % | G24: Valor | H24: Valor Parcial
B25: Volqueta 5.5 m3 viaje | D25: Vj | F25: 0 | H25: =E25*G25 -> 0
B28: Sub-Total | H28: =H25+H26+H27 -> 0
B29: IV MANO DE OBRA
B30: Descripción | D30: Unidad | E30: Cantidad | F30: D. % | G30: Valor | H30: Valor parcial
B31: Cuadrilla tipo aa | D31: hh | E31: 1.2 | F31: 0 | G31: 35821.5 | H31: =G31*E31 -> 42985.8
H32: =+ROUND(E32*F32*G32,2) -> 0
B33: Sub-Total | H33: =H31+H32 -> 42985.8
G35: TOTAL COSTO DIRECTO | H35: =H28+H33+H22+H14 -> 395951.38
B37: ARQUITECTO
B38: ROSEMBERG GARRIDO NUÑEZ
B39: No. T.P. A08102005-72247856
B40: C.C 72.247.856
B43: ANÁLISIS DE PRECIOS UNITARIOS
B44: 09 DE Noviembre 2024 | D44: PROYECTO: ADECUACION DEL CENTRO DE SALUD DE SIMON BOLIVAR MUNICIPIO DE FUNDACION, MAGDALENA
B45: Codigo de Ref. Homecenter 583775 | D45: Ciudad | F45: Fundacion
D46: Departamento | F46: Magdalena | G46: Año | H46: 2024
B47: Suministro e instalacion tanque elevado 2.000 lts con conexion y distribucion PVC de 1/2" y 1". Incluye todos los accesorios para su normal funcionamiento
B49: Unidad : | C49: M2 | G49: Código: | H49: 3.2
B50: I EQUIPO
...

Sheet 4. APARATOS SANITARIOS
B2: ANÁLISIS DE PRECIOS UNITARIOS
B3: 09 DE Noviembre 2024 | D3: PROYECTO: ADECUACION DEL CENTRO DE SALUD DE SIMON BOLIVAR MUNICIPIO DE FUNDACION, MAGDALENA
B4: Codigo de Ref. Sispac 120509 | D4: Ciudad | F4: Fundacion
D5: Departamento | F5: Magdalena | G5: Año | H5: 2024
B6: Suministro e instalacion Lavamanos de incrustar con grifería de mesa tipo push
B8: Unidad : | C8: UN | G8: Código: | H8: 4.1
B9: I EQUIPO
B10: Descripción | D10: Unidad | E10: Cantidad | F10: D. % | G10: Valor | H10: Valor Parcial
B11: Mezcladora con operador 9 p3 | D11: di | H11: =E11*G11 -> 0
H12: =+ROUND(F12*G12,2) -> 0
B14: Sub-Total | H14: =ROUND(SUM(H11:H13),2) -> 0
B15: II MATERIALES
B16: Descripción | D16: Unidad | E16: Cantidad | F16: D. % | G16: Valor | H16: Valor Parcial
B17: Lavamano | D17: un | E17: 1 | G17: 203000 | H17: =E17*G17 -> 203000
B18: Accesorios | D18: un | E18: 1 | G18: 29700 | H18: =E18*G18 -> 29700
B19: Cemento blanco | D19: kg | E19: 3 | G19: 1771.35 | H19: =E19*G19 -> 5314.05
B20: Manguerra sanitario | D20: un | E20: 1 | G20: 6300 | H20: =E20*G20 -> 6300
B21: Sub-Total | H21: =ROUND(SUM(H17:H20),2) -> 244314.05
B22: III TRANSPORTE
B23: Descripción | D23: Unidad | E23: Cantidad | F23: D. % | G23: Valor | H23: Valor Parcial
B24: Volqueta 5.5 m3 viaje | D24: Vj | E24: 0.003 | F24: 0 | G24: 90000 | H24: =E24*G24 -> 270
B27: Sub-Total | H27: =H24+H25+H26 -> 270
B28: IV MANO DE OBRA
B29: Descripción | D29: Unidad | E29: Cantidad | F29: D. % | G29: Valor | H29: Valor parcial
B30: Cuadrilla tipo bb | D30: hh | E30: 6 | F30: 0 | G30: 38820.65 | H30: =G30*E30 -> 232923.9
H31: =+ROUND(E31*F31*G31,2) -> 0
B32: Sub-Total | H32: =H30+H31 -> 232923.9
G34: TOTAL COSTO DIRECTO | H34: =H27+H32+H21+H14 -> 477507.95
B36: ARQUITECTO
B37: ROSEMBERG GARRIDO NUÑEZ
B38: No. T.P. A08102005-72247856
B39: C.C 72.247.856
B42: ANÁLISIS DE PRECIOS UNITARIOS
B43: 09 DE Noviembre 2024 | D43: PROYECTO: ADECUACION DEL CENTRO DE SALUD DE SIMON BOLIVAR MUNICIPIO DE FUNDACION, MAGDALENA
B44: Codigo de Ref. Sispac 120509 | D44: Ciudad | F44: Fundacion
D45: Departamento | F45: Magdalena | G45: Año | H45: 2024
B46: Suministro e instalacion sanitario bajo consumo
B48: Unidad : | C48: UN | G48: Código: | H48: 4.2
B49: I EQUIPO
B50: Descripción | D50: Unidad | E50: Cantidad | F50: D. % | G50: Valor | H50: Valor Parcial
...

Sheet 5. MUROS Y ACABADOS
B2: ANÁLISIS DE PRECIOS UNITARIOS
B3: 09 DE Noviembre 2024 | D3: PROYECTO: ADECUACION DEL CENTRO DE SALUD DE SIMON BOLIVAR MUNICIPIO DE FUNDACION, MAGDALENA
B4: Codigo de Ref. Sispac 200521 | D4: Ciudad | F4: Fundacion
D5: Departamento | F5: Magdalena | G5: Año | H5: 2024
B6: Vinilo interior,filos y dilataciones (tres manos)
B8: Unidad : | C8: M2 | G8: Código: | H8: 5.1
B9: I EQUIPO
B10: Descripción | D10: Unidad | E10: Cantidad | F10: D. % | G10: Valor | H10: Valor Parcial
B11: Mezcladora con operador 9 p3 | D11: di | H11: =E11*G11 -> 0
H12: =+ROUND(F12*G12,2) -> 0
B14: Sub-Total | H14: =ROUND(SUM(H11:H13),2) -> 0
B15: II MATERIALES
B16: Descripción | D16: Unidad | E16: Cantidad | F16: D. % | G16: Valor | H16: Valor Parcial
B17: Viniltex gl, | D17: Un | E17: 0.08 | F17: 5 | G17: 93900 | H17: =E17*G17 -> 7512
H18: =E18*G18 -> 0
B19: Sub-Total | H19: =ROUND(SUM(H17:H18),2) -> 7512
B20: III TRANSPORTE
B21: Descripción | D21: Unidad | E21: Cantidad | F21: D. % | G21: Valor | H21: Valor Parcial
B22: Volqueta 5.5 m3 viaje | D22: Vj | E22: 0.002 | F22: 0 | G22: 90000 | H22: =E22*G22 -> 180
B24: Sub-Total | H24: =H22+H23 -> 180
B25: IV MANO DE OBRA
B26: Descripción | D26: Unidad | E26: Cantidad | F26: D. % | G26: Valor | H26: Valor parcial
B27: Cuadrilla tipo cc acabdo | D27: hh | E27: 0.35 | F27: 0 | G27: 38820.65 | H27: =G27*E27 -> 13587.227
H28: =G28*E28 -> 0
B29: Sub-Total | H29: =H27+H28 -> 13587.227
G31: TOTAL COSTO DIRECTO | H31: =H24+H29+H19+H14 -> 21279.228
B33: ARQUITECTO
B34: ROSEMBERG GARRIDO NUÑEZ
B35: No. T.P. A08102005-72247856
B36: C.C 72.247.856
B39: ANÁLISIS DE PRECIOS UNITARIOS
B40: 09 DE Noviembre 2024 | D40: PROYECTO: ADECUACION DEL CENTRO DE SALUD DE SIMON BOLIVAR MUNICIPIO DE FUNDACION, MAGDALENA
B41: Codigo de Ref. Sispac 200511 ref. | D41: Ciudad | F41: Fundacion
D42: Departamento | F42: Magdalena | G42: Año | H42: 2024
B43: vinilo exterior en fachada y area de patio a 3 manos, filos y dilataciones
B45: Unidad : | C45: M2 | G45: Código: | H45: 5.2
B46: I EQUIPO
B47: Descripción | D47: Unidad | E47: Cantidad | F47: D. % | G47: Valor | H47: Valor Parcial
B48: Mezcladora con operador 9 p3 | D48: di | H48: =E48*G48 -> 0
H49: =+ROUND(F49*G49,2) -> 0
...

Sheet 6. CUBIERTA
B2: ANÁLISIS DE PRECIOS UNITARIOS
B3: 09 DE Noviembre 2024 | D3: PROYECTO: ADECUACION DEL CENTRO DE SALUD DE SIMON BOLIVAR MUNICIPIO DE FUNDACION, MAGDALENA
B4: APU | D4: Ciudad | F4: Fundacion
D5: Departamento | F5: Magdalena | G5: Año | H5: 2024
B6: Suministro e instalacion Correa metalica en perfil estructural PHR-C 120 x 60 x 2 mm, con anticorrosivo,
B8: Unidad : | C8: M2 | G8: Código: | H8: 6.1
B9: I EQUIPO
B10: Descripción | D10: Unidad | E10: Cantidad | F10: D. % | G10: Valor | H10: Valor Parcial
B11: Andamio tubular stand. (inc. tijeras) | D11: hr | E11: 0.76 | G11: 195 | H11: =E11*G11 -> 148.2
B12: Equipo de pintura con compresor | D12: hr | E12: 0.048 | G12: 6934 | H12: =E12*G12 -> 332.832
B13: Equipo de soldadura Marca Linconl 600 A | D13: hr | E13: 0.015 | G13: 8248 | H13: =E13*G13 -> 123.72
B14: Herramienta menor 10% M.O. AA | D14: hr | E14: 0.1538 | G14: 2882 | H14: =E14*G14 -> 443.2516
B15: Herramienta menor 10% M.O. HH | D15: hr | E15: 0.1667 | G15: 5490 | H15: =E15*G15 -> 915.183
B16: Pulidora electrica manual sin disco 7" | D16: hr | E16: 0.009 | G16: 5192 | H16: =E16*G16 -> 46.728
B17: Tronzadora para disco 14" | D17: hr | E17: 0.005 | G17: 5950 | H17: =E17*G17 -> 29.75
B18: Sub-Total | H18: =ROUND(SUM(H11:H17),2) -> 2039.66
B19: II MATERIALES
B20: Descripción | D20: Unidad | E20: Cantidad | F20: D. % | G20: Valor | H20: Valor Parcial
B21: Anticorrosivo gris/blanco/rojo | D21: gl | E21: 0.022 | F21: 5 | G21: 74299 | H21: =E21*G21 -> 1634.578
B22: Disco corte/desbaste metal 7"x1/4" o similar | D22: un | E22: 0.0088 | F22: 5 | G22: 11737 | H22: =E22*G22 -> 103.2856
B23: Disco de corte 14" x 3/32" x 1" corte aceros | D23: un | E23: 0.004 | F23: 5 | G23: 13900 | H23: =E23*G23 -> 55.6
B24: Esmalte brillante tipo pintulux de Pintuco o similar | D24: gl | E24: 0.029 | F24: 5 | G24: 92525 | H24: =E24*G24 -> 2683.225
B25: Perfil estructural negro PHR en C 120 x 60 x 2.0 mm | D25: ml | E25: 1.02 | F25: 5 | G25: 32853 | H25: =E25*G25 -> 33510.06
B26: Soldadura electrosoldada 6013 de 1/8" | D26: kg | E26: 0.004 | F26: 5 | G26: 20079 | H26: =E26*G26 -> 80.316
B27: Thinner | D27: un | E27: 0.005 | F27: 5 | G27: 39850 | H27: =E27*G27 -> 199.25
B28: Sub-Total | H28: =ROUND(SUM(H21:H27),2) -> 38266.31
B29: III TRANSPORTE
B30: Descripción | D30: Unidad | E30: Cantidad | F30: D. % | G30: Valor | H30: Valor Parcial
B31: Volqueta 5.5 m3 viaje | D31: Vj | E31: 0.0015 | F31: 0 | G31: 90000 | H31: =E31*G31 -> 135
B34: Sub-Total | H34: =H31+H32+H33 -> 135
B35: IV MANO DE OBRA
B36: Descripción | D36: Unidad | E36: Cantidad | F36: D. % | G36: Valor | H36: Valor parcial
B37: Cuadrilla tipo aa | D37: hh | E37: 0.1538 | F37: 0 | G37: 35291.5 | H37: =G37*E37 -> 5427.8327
B38: cuadrilla tipo hh | D38: hh | E38: 0.1667 | G38: 54904 | H38: =G38*E38 -> 9152.4968
B39: Sub-Total | H39: =H37+H38 -> 14580.329
G41: TOTAL COSTO DIRECTO | H41: =H34+H39+H28+H18 -> 55021.3
B43: ARQUITECTO
B44: ROSEMBERG GARRIDO NUÑEZ
B45: No. T.P. A08102005-72247856
B46: C.C 72.247.856
...

Sheet 7. INSTALACIONES ELECTRICAS
B2: ANÁLISIS DE PRECIOS UNITARIOS
B3: 09 DE Noviembre 2024 | D3: PROYECTO: ADECUACION DEL CENTRO DE SALUD DE SIMON BOLIVAR MUNICIPIO DE FUNDACION, MAGDALENA
B4: APU | D4: Ciudad | F4: Fundacion
D5: Departamento | F5: Magdalena | G5: Año | H5: 2024
B6: Suminstro e instalacion Interruptor
B8: Unidad : | C8: UN | G8: Código: | H8: 7.1
B9: I EQUIPO
B10: Descripción | D10: Unidad | E10: Cantidad | F10: D. % | G10: Valor | H10: Valor Parcial
B11: Herramientas menor 10% M.O B.B | D11: un | E11: 1 | G11: =G28*10/100 -> 3882.065 | H11: =E11*G11 -> 3882.065
B13: Sub-Total | H13: =ROUND(SUM(H11:H12),2) -> 3882.07
B14: II MATERIALES
B15: Descripción | D15: Unidad | E15: Cantidad | F15: D. % | G15: Valor | H15: Valor Parcial
B16: Interruptor | D16: un | E16: 1 | G16: 15800 | H16: =E16*G16 -> 15800
H17: =E17*G17 -> 0
H18: =E18*G18 -> 0
B19: Sub-Total | H19: =ROUND(SUM(H16:H18),2) -> 15800
B20: III TRANSPORTE
B21: Descripción | D21: Unidad | E21: Cantidad | F21: D. % | G21: Valor | H21: Valor Parcial
B22: Transporte | D22: Vj | E22: 0.012 | F22: 0 | G22: 90000 | H22: =E22*G22 -> 1080
B25: Sub-Total | H25: =H22+H23+H24 -> 1080
B26: IV MANO DE OBRA
B27: Descripción | D27: Unidad | E27: Cantidad | F27: D. % | G27: Valor | H27: Valor parcial
B28: Cuadrilla tipo bb | D28: hh | E28: 0.2 | F28: 0 | G28: 38820.65 | H28: =G28*E28 -> 7764.13
H29: =+ROUND(E29*F29*G29,2) -> 0
B30: Sub-Total | H30: =H28+H29 -> 7764.13
G32: TOTAL COSTO DIRECTO | H32: =H25+H30+H19+H13 -> 28526.2
B34: ARQUITECTO
B35: ROSEMBERG GARRIDO NUÑEZ
B36: No. T.P. A08102005-72247856
B37: C.C 72.247.856
B40: ANÁLISIS DE PRECIOS UNITARIOS
B41: 09 DE Noviembre 2024 | D41: PROYECTO: ADECUACION DEL CENTRO DE SALUD DE SIMON BOLIVAR MUNICIPIO DE FUNDACION, MAGDALENA
B42: APU | D42: Ciudad | F42: Fundacion
D43: Departamento | F43: Magdalena | G43: Año | H43: 2024
B44: Suminstro e instalacion Tomaccoriente doble 123v-15a con polo tierra
B46: Unidad : | C46: UN | G46: Código: | H46: 7.2
B47: I EQUIPO
B48: Descripción | D48: Unidad | E48: Cantidad | F48: D. % | G48: Valor | H48: Valor Parcial
B49: Herramientas menor 10% M.O B.B | D49: un | E49: 1 | G49: =G66*10/100 -> 3882.065 | H49: =E49*G49 -> 3882.065
B51: Sub-Total | H51: =ROUND(SUM(H49:H50),2) -> 3882.07
...

Sheet 8. CARPINTERIA METALICA
B2: ANÁLISIS DE PRECIOS UNITARIOS
B3: 09 DE Noviembre 2024 | D3: PROYECTO: ADECUACION DEL CENTRO DE SALUD DE SIMON BOLIVAR MUNICIPIO DE FUNDACION, MAGDALENA
B4: Codigo de Ref. Sispac 151033 | D4: Ciudad | F4: Fundacion
D5: Departamento | F5: Magdalena | G5: Año | H5: 2024
B6: Suministro e instalacion Ventana aluminio corrediza con vidrio templado 5 mm.
B8: Unidad : | C8: M2 | G8: Código: | H8: 8.1
B9: I EQUIPO
B10: Descripción | D10: Unidad | E10: Cantidad | F10: D. % | G10: Valor | H10: Valor Parcial
B11: Heramientas menor 10% M.O D.D | D11: di | E11: 0.4 | G11: =G27*10/100 -> 4058.523 | H11: =E11*G11 -> 1623.4092
H12: =+ROUND(F12*G12,2) -> 0
B13: Sub-Total | H13: =ROUND(SUM(H11:H12),2) -> 1623.41
B14: II MATERIALES
B15: Descripción | D15: Unidad | E15: Cantidad | F15: D. % | G15: Valor | H15: Valor Parcial
B16: Ventana 2 x 1 x 2h | D16: un | E16: 1 | F16: 5 | G16: 260000 | H16: =E16*G16 -> 260000
H17: =E17*G17 -> 0
B18: Sub-Total | H18: =ROUND(SUM(H16:H17),2) -> 260000
B19: III TRANSPORTE
B20: Descripción | D20: Unidad | E20: Cantidad | F20: D. % | G20: Valor | H20: Valor Parcial
B21: Volqueta 5.5 m3 viaje | D21: Vj | E21: 0.002 | F21: 0 | G21: 90000 | H21: =E21*G21 -> 180
B24: Sub-Total | H24: =H21+H22+H23 -> 180
B25: IV MANO DE OBRA
B26: Descripción | D26: Unidad | E26: Cantidad | F26: D. % | G26: Valor | H26: Valor parcial
B27: Cuadrilla tipo dd | D27: hh | E27: 1.2 | F27: 0 | G27: 40585.23 | H27: =G27*E27 -> 48702.276
H28: =+ROUND(E28*F28*G28,2) -> 0
B29: Sub-Total | H29: =H27+H28 -> 48702.276
G31: TOTAL COSTO DIRECTO | H31: =H24+H29+H18+H13 -> 310505.69
B33: ARQUITECTO
B34: ROSEMBERG GARRIDO NUÑEZ
B35: No. T.P. A08102005-72247856
B36: C.C 72.247.856
B39: ANÁLISIS DE PRECIOS UNITARIOS
B40: 09 DE Noviembre 2024 | D40: PROYECTO: ADECUACION DEL CENTRO DE SALUD DE SIMON BOLIVAR MUNICIPIO DE FUNDACION, MAGDALENA
B41: APU | D41: Ciudad | F41: Fundacion
D42: Departamento | F42: Magdalena | G42: Año | H42: 2024
B43: Suministro e instalacion Puerta en aluminio con vidrio incoloro 4 mm.
B45: Unidad : | C45: M2 | G45: Código: | H45: 8.2
B46: I EQUIPO
B47: Descripción | D47: Unidad | E47: Cantidad | F47: D. % | G47: Valor | H47: Valor Parcial
B48: Heramientas menor 10% M.O D.D | D48: di | E48: 1.6 | G48: =G64*10/100 -> 4058.523 | H48: =E48*G48 -> 6493.6368
H49: =+ROUND(F49*G49,2) -> 0
...

Sheet 9. ASEO GENERAL
B2: ANÁLISIS DE PRECIOS UNITARIOS
B3: 09 DE Noviembre 2024 | D3: PROYECTO: ADECUACION DEL CENTRO DE SALUD DE SIMON BOLIVAR MUNICIPIO DE FUNDACION, MAGDALENA
B4: APU | D4: Ciudad | F4: Fundacion
D5: Departamento | F5: Magdalena | G5: Año | H5: 2024
B6: Aseo general entrega final
B8: Unidad : | C8: M2 | G8: Código: | H8: 9.1
B9: I EQUIPO
B10: Descripción | D10: Unidad | E10: Cantidad | F10: D. % | G10: Valor | H10: Valor Parcial
B11: Heramientas menor 10% M.O D.D | D11: di | E11: 0.2 | G11: =G27*5/100 -> 1764.575 | H11: =E11*G11 -> 352.915
H12: =+ROUND(F12*G12,2) -> 0
B13: Sub-Total | H13: =ROUND(SUM(H11:H12),2) -> 352.92
B14: II MATERIALES
B15: Descripción | D15: Unidad | E15: Cantidad | F15: D. % | G15: Valor | H15: Valor Parcial
H16: =E16*G16 -> 0
H17: =E17*G17 -> 0
B18: Sub-Total | H18: =ROUND(SUM(H16:H17),2) -> 0
B19: III TRANSPORTE
B20: Descripción | D20: Unidad | E20: Cantidad | F20: D. % | G20: Valor | H20: Valor Parcial
B21: Volqueta 5.5 m3 viaje | D21: Vj | E21: 0.004 | F21: 0 | G21: 90000 | H21: =E21*G21 -> 360
B24: Sub-Total | H24: =H21+H22+H23 -> 360
B25: IV MANO DE OBRA
B26: Descripción | D26: Unidad | E26: Cantidad | F26: D. % | G26: Valor | H26: Valor parcial
B27: Cuadrilla tipo aa | D27: hh | E27: 0.09 | F27: 0 | G27: 35291.5 | H27: =G27*E27 -> 3176.235
H28: =+ROUND(E28*F28*G28,2) -> 0
B29: Sub-Total | H29: =H27+H28 -> 3176.235
G31: TOTAL COSTO DIRECTO | H31: =H24+H29+H18+H13 -> 3889.155
B33: ARQUITECTO
B34: ROSEMBERG GARRIDO NUÑEZ
B35: No. T.P. A08102005-72247856
B36: C.C 72.247.856

Sheet 10. EQUIPOS FIJOS HOSPITALARIOS
B2: ANÁLISIS DE PRECIOS UNITARIOS
B3: 09 DE Noviembre 2024 | D3: PROYECTO: ADECUACION DEL PUESTO DE SALUD DE SIMON BOLIVAR EN EL MUNICIPIO DE FUNDACION, MAGDALENA
B4: Codigo de Ref. Homecenter 631316 | D4: Ciudad | F4: Fundacion
D5: Departamento | F5: Magdalena | G5: Año | H5: 2024
B6: Suministro de equipo Aire Minisplit inverter consola de pared R410a, 12000 Btu/Hr, Monofasica 220/2/60. incluye: ( Undad Interna y condensadora del mismo fabricante Bases Antivibratorias en neopreno, Suministro, Izada, Instalacion y Pruebas )
B8: Unidad : | C8: UN | G8: Código: | H8: 10.1
B9: I EQUIPO
B10: Descripción | D10: Unidad | E10: Cantidad | F10: D. % | G10: Valor | H10: Valor Parcial
B11: Heramientas menor 10% M.O b.b | D11: di | E11: 0.5 | G11: =G27*10/100 -> 3882.065 | H11: =E11*G11 -> 1941.0325
H12: =+ROUND(F12*G12,2) -> 0
B13: Sub-Total | H13: =ROUND(SUM(H11:H12),2) -> 1941.03
B14: II MATERIALES
B15: Descripción | D15: Unidad | E15: Cantidad | F15: D. % | G15: Valor | H15: Valor Parcial
B16: Aire Acondicionado Inverter Deluxe 12.000 Btu 220V AR12CVFZAWK/CB | D16: un | E16: 1 | G16: 2499900 | H16: =E16*G16 -> 2499900
H17: =E17*G17 -> 0
B18: Sub-Total | H18: =ROUND(SUM(H16:H17),2) -> 2499900
B19: III TRANSPORTE
B20: Descripción | D20: Unidad | E20: Cantidad | F20: D. % | G20: Valor | H20: Valor Parcial
B21: Volqueta 5.5 m3 viaje | D21: Vj | E21: 0.004 | F21: 0 | G21: 90000 | H21: =E21*G21 -> 360
B24: Sub-Total | H24: =H21+H22+H23 -> 360
B25: IV MANO DE OBRA
B26: Descripción | D26: Unidad | E26: Cantidad | F26: D. % | G26: Valor | H26: Valor parcial
B27: Cuadrilla tipo bb | D27: hh | E27: 2.5 | F27: 0 | G27: 38820.65 | H27: =G27*E27 -> 97051.625
H28: =+ROUND(E28*F28*G28,2) -> 0
B29: Sub-Total | H29: =H27+H28 -> 97051.625
G31: TOTAL COSTO DIRECTO | H31: =H24+H29+H18+H13 -> 2599252.7
B33: ARQUITECTO
B34: ROSEMBERG GARRIDO NUÑEZ
B35: No. T.P. A08102005-72247856
B36: C.C 72.247.856
B39: ANÁLISIS DE PRECIOS UNITARIOS
B40: 09 DE Noviembre 2024 | D40: PROYECTO: ADECUACION DEL PUESTO DE SALUD DE SIMON BOLIVAR EN EL MUNICIPIO DE FUNDACION, MAGDALENA
B41: Codigo de Ref. Homecenter 631313 | D41: Ciudad | F41: Fundacion
D42: Departamento | F42: Magdalena | G42: Año | H42: 2024
B43: Suministro de equipo Aire Minisplit inverter consola de pared R410a, 12000 Btu/Hr, Monofasica 220/2/60. incluye: ( Undad Interna y condensadora del mismo fabricante Bases Antivibratorias en neopreno, Suministro, Izada, Instalacion y Pruebas )
B45: Unidad : | C45: UN | G45: Código: | H45: 10.2
B46: I EQUIPO
B47: Descripción | D47: Unidad | E47: Cantidad | F47: D. % | G47: Valor | H47: Valor Parcial
B48: Heramientas menor 10% M.O b.b | D48: di | E48: 0.5 | G48: =G64*10/100 -> 3882.065 | H48: =E48*G48 -> 1941.0325
H49: =+ROUND(F49*G49,2) -> 0
...
