Workbook

Sheet PRESUPUESTO
B2: PRESUPUESTO BATERIAS SANITARIAS IEM INEM - LUIS DELFÍN INSUASTY
B3: ITEM | C3: DESCRIPCIÓN | D3: UND | E3: CANT. | F3: VR. UNITARIO | G3: VR. TOTAL
B4: BATERIAS SANITARIAS BLOQUE 1 Y 2
B5: I | C5: PRELIMINARES
B6: 1.1 | C6: Localización y replanteo pagado por M2 | D6: M2 | E6: 113.9 | F6: =+'1,1'!F42 -> 946.00333 | G6: =F6*E6 -> 107749.78
B7: 1.2 | C7: Demolición de concreto hidráulico | D7: M3 | E7: 40.78 | F7: 181873 | G7: =F7*E7 -> 7416780.9
B8: 1.3 | C8: Demolición de muros en mampostería, incluye cortes con pulidora. | D8: M3 | E8: 20.77 | F8: 143566.67 | G8: =F8*E8 -> 2981879.7
B9: 1.4 | C9: Retiro de sanitarios y lavamanos | D9: UND | E9: 18 | F9: 14803.33 | G9: =F9*E9 -> 266459.94
B10: 1.5 | C10: Excavación a mano sin clasificar profundidad menor a 2 m, en seco | D10: M3 | E10: 24.75 | F10: 26130 | G10: =F10*E10 -> 646717.5
B11: 1.6 | C11: Retiro y disposición de material sobrante cargue a mano con pago de escombrera. | D11: M3 | E11: 86.46 | F11: 36130 | G11: =F11*E11 -> 3123799.8
B12: 1.7 | C12: Escarificación de enchape pisos y paredes | D12: M2 | E12: 81 | F12: 18071.333 | G12: =F12*E12 -> 1463778
B13: II | C13: CONCRETOS Y MAPOSTERIA
B14: 2.1 | C14: Mesón 0.60 X 0.06 m. malla en acero 3/8 @ 0.17 m. en dos sentidos ccto de 3000 psi incluye enchape | D14: ML | E14: 19 | F14: 132408.67 | G14: =F14*E14 -> 2515764.7
B15: 2.2 | C15: Andén en concreto, espesor 10 cm, resistencia 21 Mpa (3000 PSI) | D15: M2 | E15: 64 | F15: 83575.5 | G15: =F15*E15 -> 5348832
B16: 2.3 | C16: Caja de inspección 0.7 X 0.7 X 0.7 m en mamposteria incluye tapa en concreto con refuerzo | D16: UND | E16: 4 | F16: 767793.56 | G16: =F16*E16 -> 3071174.2
B17: 2.4 | C17: Muro en ladrillo común sencillo. | D17: M2 | E17: 194.33 | F17: 128308.67 | G17: =F17*E17 -> 24934223
B18: III | C18: REDES HIDRAULICAS Y SANITARIAS
B19: 3.1 | C19: Tubería pvc presión 1/2" rde 21, incluye accesorios, suministro e instalación red. | D19: Ml | E19: 90 | F19: 8593.3333 | G19: =F19*E19 -> 773400
B20: 3.2 | C20: Punto hidráulico 1/2", longitud promedio 3m | D20: UND | E20: 43 | F20: 57408.333 | G20: =F20*E20 -> 2468558.3
B21: 3.3 | C21: Red sanitaria PVC de 2" | D21: ML | E21: 40 | F21: 36198.333 | G21: =F21*E21 -> 1447933.3
B22: 3.4 | C22: Punto sanitario 2" PVC | D22: UND | E22: 26 | F22: 36198.333 | G22: =F22*E22 -> 941156.67
B23: 3.5 | C23: Red sanitaria PVC de 4" | D23: ML | E23: 100 | F23: 51523.667 | G23: =F23*E23 -> 5152366.7
B24: 3.6 | C24: Punto sanitario 4" PVC | D24: UND | E24: 28 | F24: 94990.667 | G24: =F24*E24 -> 2659738.7
B25: 3.7 | C25: Válvula de cierre 1/2". Incluye caja y accesorios. | D25: UND | E25: 7 | F25: 34466.333 | G25: =F25*E25 -> 241264.33
B26: 3.8 | C26: Red sanitaria PVC de 6" | D26: ML | E26: 110 | F26: 141992 | G26: =F26*E26 -> 15619120
B27: IV | C27: ENCHAPES y PAÑETES
B28: 4.1 | C28: Losa de concreto rígido, espesor 15cm, Mr=3.8 Mpa | D28: M2 | E28: 116.85 | F28: 145130.37 | G28: =F28*E28 -> 16958484
B29: 4.2 | C29: Enchape en cerámica nacional tráfico 4, de 30 x 30 cm, incluye suministro e instalación. | D29: M2 | E29: 116.85 | F29: 86520.667 | G29: =F29*E29 -> 10109940
B30: 4.3 | C30: Enchape en cerámica, de 30 cm x 30 cm, paredes de baños y cocina | D30: M2 | E30: 205.2 | F30: 98144.333 | G30: =F30*E30 -> 20139217
B31: 4.4 | C31: Espejo para baño pagado en m2, incluye suministro e instalación | D31: M2 | E31: 27.6 | F31: 139265.33 | G31: =F31*E31 -> 3843723.2
B32: 4.5 | C32: Repello impermeabilizado allanado, espesor 1.5 cm, mezcla 1-4. | D32: M2 | E32: 345.6 | F32: 27239.333 | G32: =F32*E32 -> 9413913.6
B33: 4.6 | C33: Pintura vinilo tipo 1, 3 manos | D33: M2 | E33: 578.73 | F33: 17088 | G33: =F33*E33 -> 9889338.2
B34: V | C34: APARATOS SANITARIOS
B35: 5.1 | C35: Sanitario blanco tipo institucional, incluye suministro e instalación. | D35: UND | E35: 14 | F35: 345637.33 | G35: =F35*E35 -> 4838922.7
B36: 5.2 | C36: Sanitario blanco tipo institucional para movilidad reducida incluye barras de soporte abatible, incluye suministro e instalación. | D36: UND | E36: 1 | F36: 662887.33 | G36: =F36*E36 -> 662887.33
B37: 5.3 | C37: Válvula 1/2 Regulación Plástica, incluye suministro e instalación | D37: UND | E37: 15 | F37: 26295.667 | G37: =F37*E37 -> 394435
B38: 5.4 | C38: Orinal, incluye suministro e instalación. | D38: UND | E38: 6 | F38: 338517.33 | G38: =F38*E38 -> 2031104
B39: 5.5 | C39: División para orinal en lamina galvanizada, con nticorrosivo y esmalte | D39: M2 | E39: 2.4 | F39: 489136.67 | G39: =F39*E39 -> 1173928
B40: 5.6 | C40: Suministro e instalación de lavamanos línea blanca incluye accesorios y grifería | D40: UND | E40: 19 | F40: 235265.33 | G40: =F40*E40 -> 4470041.3
B41: VI | C41: CARPINTERIA METALICA
...

Sheet 1,1
A2: DESCRIPCION ITEM | F2: UNIDAD ITEM
A3: =+PRESUPUESTO!C6 -> Localización y replanteo pagado por M2 | F3: =+PRESUPUESTO!D6 -> M2
A5: I. EQUIPO
A6: DESCRIPCIÓN | B6: UNIDAD | C6: PRECIO | D6: CANTIDAD | E6: RENDIMIENTO | F6: VALOR PARCIAL
A7: Herramiento menor | B7: $ | C7: 1 | D7: =88-13.13 -> 74.87 | E7: 1 | F7: =+C7*D7/E7 -> 74.87
A8: Equipo de topografía | B8: HORA | C8: 10000 | D8: 1 | E8: 120 | F8: =+C8*D8/E8 -> 83.333333
E12: SUB-TOTAL | F12: =+SUM(F7:F11) -> 158.20333
A13: II. MATERIALES
A14: DESCRIPCIÓN | B14: UNIDAD | C14: PRECIO | D14: CANTIDAD | E14: RENDIMIENTO | F14: VALOR PARCIAL
A15: Clavos | B15: LB | C15: 8000 | D15: 0.01 | E15: 1 | F15: =+C15*D15/E15 -> 80
A16: Estacas 40 cm | B16: UND | C16: 1400 | D16: 0.002 | E16: 1 | F16: =+C16*D16/E16 -> 2.8
E21: SUB-TOTAL | F21: =+SUM(F15:F20) -> 82.8
A22: III. MANO DE OBRA
A23: DESCRIPCIÓN | B23: UNIDAD | C23: PRECIO | D23: CANTIDAD | E23: RENDIMIENTO | F23: VALOR PARCIAL
A24: Cuadrilla 1-1-2 | B24: HORA | C24: 84600 | D24: 1 | E24: 120 | F24: =+C24*D24/E24 -> 705
E30: SUB-TOTAL | F30: =+SUM(F24:F29) -> 705
A31: IV. TRANSPORTES
A32: DESCRIPCIÓN | B32: CANTIDAD | C32: DISTANCIA | D32: M3-KM | E32: TARIFA | F32: VALOR PARCIAL
E39: SUB-TOTAL
A42: PRECIO UNITARIO COSTO DIRECTO | F42: =+F12+F21+F30+F39 -> 946.00333

Sheet 1,2
A2: DESCRIPCION ITEM | F2: UNIDAD ITEM
A3: =+PRESUPUESTO!C7 -> Demolición de concreto hidráulico | F3: =+PRESUPUESTO!D7 -> M3
A5: I. EQUIPO
A6: DESCRIPCIÓN | B6: UNIDAD | C6: PRECIO | D6: CANTIDAD | E6: RENDIMIENTO | F6: VALOR PARCIAL
A7: Herramiento menor | B7: $ | C7: 1 | D7: 3618.75 | E7: 1 | F7: =+C7*D7/E7 -> 3618.75
A8: Compresor neumático | B8: HORA | C8: 84703.4 | D8: 1 | E8: 0.8 | F8: =+C8*D8/E8 -> 105879.25
E12: SUB-TOTAL | F12: =+SUM(F7:F11) -> 109498
A13: II. MATERIALES
A14: DESCRIPCIÓN | B14: UNIDAD | C14: PRECIO | D14: CANTIDAD | E14: RENDIMIENTO | F14: VALOR PARCIAL
E21: SUB-TOTAL | F21: =+SUM(F15:F20) -> 0
A22: III. MANO DE OBRA
A23: DESCRIPCIÓN | B23: UNIDAD | C23: PRECIO | D23: CANTIDAD | E23: RENDIMIENTO | F23: VALOR PARCIAL
A24: Cuadrilla 0-1-2 | B24: HORA | C24: 57900 | D24: 1 | E24: 0.8 | F24: =+C24*D24/E24 -> 72375
E30: SUB-TOTAL | F30: =+SUM(F24:F29) -> 72375
A31: IV. TRANSPORTES
A32: DESCRIPCIÓN | B32: CANTIDAD | C32: DISTANCIA | D32: M3-KM | E32: TARIFA | F32: VALOR PARCIAL
E39: SUB-TOTAL
A42: PRECIO UNITARIO COSTO DIRECTO | F42: =+F12+F21+F30+F39 -> 181873

Sheet 1,3
A2: DESCRIPCION ITEM | F2: UNIDAD ITEM
A3: =+PRESUPUESTO!C8 -> Demolición de muros en mampostería, incluye cortes con pulidora. | F3: =+PRESUPUESTO!D8 -> M3
A5: I. EQUIPO
A6: DESCRIPCIÓN | B6: UNIDAD | C6: PRECIO | D6: CANTIDAD | E6: RENDIMIENTO | F6: VALOR PARCIAL
A7: Tablón de madera | B7: DIA | C7: 3600 | D7: 1 | E7: 0.75 | F7: =+C7*D7/E7 -> 4800
A8: Herramiento menor | B8: $ | C8: 1 | D8: 6233.34 | E8: 1 | F8: =+C8*D8/E8 -> 6233.34
A9: Cuerpo de andamio tubular 1,5 x 1,5 | B9: DIA | C9: 5900 | D9: 1 | E9: 0.75 | F9: =+C9*D9/E9 -> 7866.6667
E13: SUB-TOTAL | F13: =+SUM(F7:F12) -> 18900.007
A14: II. MATERIALES
A15: DESCRIPCIÓN | B15: UNIDAD | C15: PRECIO | D15: CANTIDAD | E15: RENDIMIENTO | F15: VALOR PARCIAL
E22: SUB-TOTAL | F22: =+SUM(F16:F21) -> 0
A23: III. MANO DE OBRA
A24: DESCRIPCIÓN | B24: UNIDAD | C24: PRECIO | D24: CANTIDAD | E24: RENDIMIENTO | F24: VALOR PARCIAL
A25: Cuadrilla 0-1-4 | B25: HORA | C25: 93500 | D25: 1 | E25: 0.75 | F25: =+C25*D25/E25 -> 124666.67
E31: SUB-TOTAL | F31: =+SUM(F25:F30) -> 124666.67
A32: IV. TRANSPORTES
A33: DESCRIPCIÓN | B33: CANTIDAD | C33: DISTANCIA | D33: M3-KM | E33: TARIFA | F33: VALOR PARCIAL
E40: SUB-TOTAL
A43: PRECIO UNITARIO COSTO DIRECTO | F43: =+F13+F22+F31+F40 -> 143566.67

Sheet 1,4
A2: DESCRIPCION ITEM | F2: UNIDAD ITEM
A3: =+PRESUPUESTO!C9 -> Retiro de sanitarios y lavamanos | F3: =+PRESUPUESTO!D9 -> UND
A5: I. EQUIPO
A6: DESCRIPCIÓN | B6: UNIDAD | C6: PRECIO | D6: CANTIDAD | E6: RENDIMIENTO | F6: VALOR PARCIAL
A7: Herramiento menor | B7: $ | C7: 1 | D7: 1156 | E7: 1 | F7: =+C7*D7/E7 -> 1156
E11: SUB-TOTAL | F11: =+SUM(F7:F10) -> 1156
A12: II. MATERIALES
A13: DESCRIPCIÓN | B13: UNIDAD | C13: PRECIO | D13: CANTIDAD | E13: RENDIMIENTO | F13: VALOR PARCIAL
E20: SUB-TOTAL | F20: =+SUM(F14:F19) -> 0
A21: III. MANO DE OBRA
A22: DESCRIPCIÓN | B22: UNIDAD | C22: PRECIO | D22: CANTIDAD | E22: RENDIMIENTO | F22: VALOR PARCIAL
A23: Cuadrilla 0-1-1 | B23: HORA | C23: 40000 | D23: 1 | E23: 2.9309762 | F23: =+C23*D23/E23 -> 13647.33
E29: SUB-TOTAL | F29: =+SUM(F23:F28) -> 13647.33
A30: IV. TRANSPORTES
A31: DESCRIPCIÓN | B31: CANTIDAD | C31: DISTANCIA | D31: M3-KM | E31: TARIFA | F31: VALOR PARCIAL
E38: SUB-TOTAL
A41: PRECIO UNITARIO COSTO DIRECTO | F41: =+F11+F20+F29+F38 -> 14803.33

Sheet 1.5
A2: DESCRIPCION ITEM | F2: UNIDAD ITEM
A3: =PRESUPUESTO!C10 -> Excavación a mano sin clasificar profundidad menor a 2 m, en seco | F3: =PRESUPUESTO!D10 -> M3
A5: I. EQUIPO
A6: DESCRIPCIÓN | B6: UNIDAD | C6: PRECIO | D6: CANTIDAD | E6: RENDIMIENTO | F6: VALOR PARCIAL
A7: Herramiento menor | B7: $ | C7: 1 | D7: 1335.71 | E7: 1 | F7: =+C7*D7/E7 -> 1335.71
E11: SUB-TOTAL | F11: =+SUM(F7:F10) -> 1335.71
A12: II. MATERIALES
A13: DESCRIPCIÓN | B13: UNIDAD | C13: PRECIO | D13: CANTIDAD | E13: RENDIMIENTO | F13: VALOR PARCIAL
E20: SUB-TOTAL | F20: =+SUM(F14:F19) -> 0
A21: III. MANO DE OBRA
A22: DESCRIPCIÓN | B22: UNIDAD | C22: PRECIO | D22: CANTIDAD | E22: RENDIMIENTO | F22: VALOR PARCIAL
A23: Cuadrilla 0-1-4 | B23: HORA | C23: 93500 | D23: 1 | E23: 3.7710295 | F23: =+C23*D23/E23 -> 24794.29
E29: SUB-TOTAL | F29: =+SUM(F23:F28) -> 24794.29
A30: IV. TRANSPORTES
A31: DESCRIPCIÓN | B31: CANTIDAD | C31: DISTANCIA | D31: M3-KM | E31: TARIFA | F31: VALOR PARCIAL
E38: SUB-TOTAL
A41: PRECIO UNITARIO COSTO DIRECTO | F41: =+F11+F20+F29+F38 -> 26130

Sheet 1.6
A2: DESCRIPCION ITEM | F2: UNIDAD ITEM
A3: =PRESUPUESTO!C11 -> Retiro y disposición de material sobrante cargue a mano con pago de escombrera. | F3: =PRESUPUESTO!D11 -> M3
A5: I. EQUIPO
A6: DESCRIPCIÓN | B6: UNIDAD | C6: PRECIO | D6: CANTIDAD | E6: RENDIMIENTO | F6: VALOR PARCIAL
A7: Herramiento menor | B7: $ | C7: 1 | D7: =779.17-355.84 -> 423.33 | E7: 1 | F7: =+C7*D7/E7 -> 423.33
A8: Volqueta | B8: HORA | C8: 67700 | D8: 1 | E8: 6 | F8: =+C8*D8/E8 -> 11283.333
E11: SUB-TOTAL | F11: =+SUM(F7:F10) -> 11706.663
A12: II. MATERIALES
A13: DESCRIPCIÓN | B13: UNIDAD | C13: PRECIO | D13: CANTIDAD | E13: RENDIMIENTO | F13: VALOR PARCIAL
E20: SUB-TOTAL | F20: =+SUM(F14:F19) -> 0
A21: III. MANO DE OBRA
A22: DESCRIPCIÓN | B22: UNIDAD | C22: PRECIO | D22: CANTIDAD | E22: RENDIMIENTO | F22: VALOR PARCIAL
A23: Cuadrilla 0-1-4 | B23: HORA | C23: 93500 | D23: 1 | E23: 6 | F23: =+C23*D23/E23 -> 15583.333
E29: SUB-TOTAL | F29: =+SUM(F23:F28) -> 15583.333
A30: IV. OTROS
A31: DESCRIPCIÓN | B31: UNIDAD | C31: PRECIO | D31: CANTIDAD | E31: RENDIMIENTO | F31: VALOR PARCIAL
A32: Pago escombrera | B32: M3 | C32: 6800 | D32: 1.3 | E32: 1 | F32: =+C32*D32/E32 -> 8840
E38: SUB-TOTAL | F38: =+SUM(F32:F37) -> 8840
A41: PRECIO UNITARIO COSTO DIRECTO | F41: =+F11+F20+F29+F38 -> 36129.997

Sheet 1.7
A2: DESCRIPCION ITEM | F2: UNIDAD ITEM
A3: =PRESUPUESTO!C12 -> Escarificación de enchape pisos y paredes | F3: =PRESUPUESTO!D12 -> M2
A5: I. EQUIPO
A6: DESCRIPCIÓN | B6: UNIDAD | C6: PRECIO | D6: CANTIDAD | E6: RENDIMIENTO | F6: VALOR PARCIAL
A7: Herramiento menor | B7: $ | C7: 1 | D7: =423.33+648 -> 1071.33 | E7: 1 | F7: =+C7*D7/E7 -> 1071.33
E11: SUB-TOTAL | F11: =+SUM(F7:F10) -> 1071.33
A12: II. MATERIALES
A13: DESCRIPCIÓN | B13: UNIDAD | C13: PRECIO | D13: CANTIDAD | E13: RENDIMIENTO | F13: VALOR PARCIAL
E20: SUB-TOTAL | F20: =+SUM(F14:F19) -> 0
A21: III. MANO DE OBRA
A22: DESCRIPCIÓN | B22: UNIDAD | C22: PRECIO | D22: CANTIDAD | E22: RENDIMIENTO | F22: VALOR PARCIAL
A23: Cuadrilla 0-1-4 | B23: HORA | C23: 93500 | D23: 1 | E23: 5.5 | F23: =+C23*D23/E23 -> 17000
E29: SUB-TOTAL | F29: =+SUM(F23:F28) -> 17000
A30: IV. OTROS
A31: DESCRIPCIÓN | B31: UNIDAD | C31: PRECIO | D31: CANTIDAD | E31: RENDIMIENTO | F31: VALOR PARCIAL
E38: SUB-TOTAL | F38: =+SUM(F32:F37) -> 0
A41: PRECIO UNITARIO COSTO DIRECTO | F41: =+F11+F20+F29+F38 -> 18071.33

Sheet 2.1
A2: DESCRIPCION ITEM | F2: UNIDAD ITEM
A3: =PRESUPUESTO!C14 -> Mesón 0.60 X 0.06 m. malla en acero 3/8 @ 0.17 m. en dos sentidos ccto de 3000 psi incluye enchape | F3: =PRESUPUESTO!D14 -> ML
A5: I. EQUIPO
A6: DESCRIPCIÓN | B6: UNIDAD | C6: PRECIO | D6: CANTIDAD | E6: RENDIMIENTO | F6: VALOR PARCIAL
A7: Herramiento menor | B7: $ | C7: 1 | D7: =1158-204.33 -> 953.67 | E7: 1 | F7: =+C7*D7/E7 -> 953.67
A8: Mezcladora trompo 1 bulto | B8: HORA | C8: 11400 | D8: 0.25 | E8: 1 | F8: =+C8*D8/E8 -> 2850
E11: SUB-TOTAL | F11: =+SUM(F7:F10) -> 3803.67
A12: II. MATERIALES
A13: DESCRIPCIÓN | B13: UNIDAD | C13: PRECIO | D13: CANTIDAD | E13: RENDIMIENTO | F13: VALOR PARCIAL
A14: Material concreto D 1:2:3 + 5% desperdicio | B14: M3 | C14: 565250 | D14: 0.06 | E14: 1 | F14: =+C14*D14/E14 -> 33915
A15: Alambre de amarre | B15: KG | C15: 8000 | D15: 0.1 | E15: 1 | F15: =+C15*D15/E15 -> 800
A16: Formaleta de meson, 1X0.6m espesor de 0.1 | B16: M2 | C16: 40000 | D16: 0.76 | E16: 2 | F16: =+C16*D16/E16 -> 15200
A17: Acero 3/8" | B17: KG | C17: 6000 | D17: 3 | E17: 1 | F17: =+C17*D17/E17 -> 18000
A18: Ceramica | B18: M2 | C18: 42000 | D18: 0.715 | E18: 1 | F18: =+C18*D18/E18 -> 30030
A19: Pegante para ceramica | B19: KG | C19: 2500 | D19: 3 | E19: 1 | F19: =+C19*D19/E19 -> 7500
E20: SUB-TOTAL | F20: =+SUM(F14:F19) -> 105445
A21: III. MANO DE OBRA
A22: DESCRIPCIÓN | B22: UNIDAD | C22: PRECIO | D22: CANTIDAD | E22: RENDIMIENTO | F22: VALOR PARCIAL
A23: Cuadrilla 0-1-2 | B23: HORA | C23: 57900 | D23: 1 | E23: 2.5 | F23: =+C23*D23/E23 -> 23160
E29: SUB-TOTAL | F29: =+SUM(F23:F28) -> 23160
A30: IV. OTROS
A31: DESCRIPCIÓN | B31: UNIDAD | C31: PRECIO | D31: CANTIDAD | E31: RENDIMIENTO | F31: VALOR PARCIAL
E38: SUB-TOTAL | F38: =+SUM(F32:F37) -> 0
A41: PRECIO UNITARIO COSTO DIRECTO | F41: =+F11+F20+F29+F38 -> 132408.67

Sheet 2.2
A2: DESCRIPCION ITEM | F2: UNIDAD ITEM
A3: =PRESUPUESTO!C15 -> Andén en concreto, espesor 10 cm, resistencia 21 Mpa (3000 PSI) | F3: =PRESUPUESTO!D15 -> M2
A5: I. EQUIPO
A6: DESCRIPCIÓN | B6: UNIDAD | C6: PRECIO | D6: CANTIDAD | E6: RENDIMIENTO | F6: VALOR PARCIAL
A7: Herramiento menor | B7: $ | C7: 1 | D7: 845.5 | E7: 1 | F7: =+C7*D7/E7 -> 845.5
A8: Mezcladora trompo 1 bulto | B8: HORA | C8: 11400 | D8: 1 | E8: 10 | F8: =+C8*D8/E8 -> 1140
E11: SUB-TOTAL | F11: =+SUM(F7:F10) -> 1985.5
A12: II. MATERIALES
A13: DESCRIPCIÓN | B13: UNIDAD | C13: PRECIO | D13: CANTIDAD | E13: RENDIMIENTO | F13: VALOR PARCIAL
A14: Material concreto D 1:2:3 + 5% desperdicio | B14: M3 | C14: 565250 | D14: 0.1 | E14: 1 | F14: =+C14*D14/E14 -> 56525
A15: Estacas 40cm | B15: UND | C15: 1400 | D15: 2 | E15: 1 | F15: =+C15*D15/E15 -> 2800
A16: Clavos | B16: LB | C16: 9300 | D16: 0.1 | E16: 1 | F16: =+C16*D16/E16 -> 930
A17: Tabla común 25cm x 260 cm | B17: UND | C17: 17700 | D17: 1 | E17: 4 | F17: =+C17*D17/E17 -> 4425
E20: SUB-TOTAL | F20: =+SUM(F14:F19) -> 64680
A21: III. MANO DE OBRA
A22: DESCRIPCIÓN | B22: UNIDAD | C22: PRECIO | D22: CANTIDAD | E22: RENDIMIENTO | F22: VALOR PARCIAL
A23: Cuadrilla 1-0-8 | B23: HORA | C23: 169100 | D23: 1 | E23: 10 | F23: =+C23*D23/E23 -> 16910
E29: SUB-TOTAL | F29: =+SUM(F23:F28) -> 16910
A30: IV. OTROS
A31: DESCRIPCIÓN | B31: UNIDAD | C31: PRECIO | D31: CANTIDAD | E31: RENDIMIENTO | F31: VALOR PARCIAL
E38: SUB-TOTAL | F38: =+SUM(F32:F37) -> 0
A41: PRECIO UNITARIO COSTO DIRECTO | F41: =+F11+F20+F29+F38 -> 83575.5

Sheet 2.3
A2: DESCRIPCION ITEM | F2: UNIDAD ITEM
A3: =PRESUPUESTO!C16 -> Caja de inspección 0.7 X 0.7 X 0.7 m en mamposteria incluye tapa en concreto con refuerzo | F3: =PRESUPUESTO!D16 -> UND
A5: I. EQUIPO
A6: DESCRIPCIÓN | B6: UNIDAD | C6: PRECIO | D6: CANTIDAD | E6: RENDIMIENTO | F6: VALOR PARCIAL
A7: Herramiento menor | B7: $ | C7: 1 | D7: 12460 | E7: 1 | F7: =+C7*D7/E7 -> 12460
E11: SUB-TOTAL | F11: =+SUM(F7:F10) -> 12460
A12: II. MATERIALES
A13: DESCRIPCIÓN | B13: UNIDAD | C13: PRECIO | D13: CANTIDAD | E13: RENDIMIENTO | F13: VALOR PARCIAL
A14: Material concreto E 1:3:5 + 5% desperdicio | B14: M3 | C14: 479540 | D14: 0.073 | E14: 1 | F14: =+C14*D14/E14 -> 35006.42
A15: Acero 3/8" | B15: KG | C15: 6000 | D15: 10.87 | E15: 1 | F15: =+C15*D15/E15 -> 65220
A16: Alambre de amarre | B16: KG | C16: 9100 | D16: 0.2 | E16: 1 | F16: =+C16*D16/E16 -> 1820
A17: Material mortero 1-4 + 5% desperdicio | B17: M3 | C17: 554660 | D17: 0.049 | E17: 1 | F17: =+C17*D17/E17 -> 27178.34
A18: Material mortero 1-3 + 5% desperdicio | B18: M3 | C18: 679480 | D18: 0.06 | E18: 1 | F18: =+C18*D18/E18 -> 40768.8
A19: Ladrillo común 6 x 12 x 25 | B19: UND | C19: 1600 | D19: 126 | E19: 1 | F19: =+C19*D19/E19 -> 201600
A20: Malla electrosoldada 4 mm de 15x15 cm | B20: M2 | C20: 9700 | D20: 1.05 | E20: 1 | F20: =+C20*D20/E20 -> 10185
A21: Material concreto D 1:2:3 + 5% desperdicio f'c | B21: M3 | C21: 565250 | D21: 0.22 | E21: 1 | F21: =+C21*D21/E21 -> 124355
E22: SUB-TOTAL | F22: =+SUM(F14:F21) -> 506133.56
A23: III. MANO DE OBRA
A24: DESCRIPCIÓN | B24: UNIDAD | C24: PRECIO | D24: CANTIDAD | E24: RENDIMIENTO | F24: VALOR PARCIAL
A25: Cuadrilla 1-0-2 | B25: HORA | C25: 62300 | D25: 4 | E25: 1 | F25: =+C25*D25/E25 -> 249200
E31: SUB-TOTAL | F31: =+SUM(F25:F30) -> 249200
A32: IV. OTROS
A33: DESCRIPCIÓN | B33: UNIDAD | C33: PRECIO | D33: CANTIDAD | E33: RENDIMIENTO | F33: VALOR PARCIAL
E40: SUB-TOTAL | F40: =+SUM(F34:F39) -> 0
A43: PRECIO UNITARIO COSTO DIRECTO | F43: =+F11+F22+F31+F40 -> 767793.56

Sheet 2.4
A2: DESCRIPCION ITEM | F2: UNIDAD ITEM
A3: =PRESUPUESTO!C17 -> Muro en ladrillo común sencillo. | F3: =PRESUPUESTO!D17 -> M2
A5: I. EQUIPO
A6: DESCRIPCIÓN | B6: UNIDAD | C6: PRECIO | D6: CANTIDAD | E6: RENDIMIENTO | F6: VALOR PARCIAL
A7: Herramiento menor | B7: $ | C7: 1 | D7: =1336.67-1.13 -> 1335.54 | E7: 1 | F7: =+C7*D7/E7 -> 1335.54
E11: SUB-TOTAL | F11: =+SUM(F7:F10) -> 1335.54
A12: II. MATERIALES
A13: DESCRIPCIÓN | B13: UNIDAD | C13: PRECIO | D13: CANTIDAD | E13: RENDIMIENTO | F13: VALOR PARCIAL
A14: Material mortero 1-4 + 5% desperdicio | B14: M3 | C14: 554660 | D14: 0.03 | E14: 1 | F14: =+C14*D14/E14 -> 16639.8
A15: Ladrillo común 6 x 12 x 25 | B15: UND | C15: 1520 | D15: 55 | E15: 1 | F15: =+C15*D15/E15 -> 83600
E22: SUB-TOTAL | F22: =+SUM(F14:F21) -> 100239.8
A23: III. MANO DE OBRA
A24: DESCRIPCIÓN | B24: UNIDAD | C24: PRECIO | D24: CANTIDAD | E24: RENDIMIENTO | F24: VALOR PARCIAL
A25: Cuadrilla 0-1-1 | B25: HORA | C25: 40100 | D25: 1 | E25: 1.5 | F25: =+C25*D25/E25 -> 26733.333
E31: SUB-TOTAL | F31: =+SUM(F25:F30) -> 26733.333
A32: IV. OTROS
A33: DESCRIPCIÓN | B33: UNIDAD | C33: PRECIO | D33: CANTIDAD | E33: RENDIMIENTO | F33: VALOR PARCIAL
E40: SUB-TOTAL | F40: =+SUM(F34:F39) -> 0
A43: PRECIO UNITARIO COSTO DIRECTO | F43: =+F11+F22+F31+F40 -> 128308.67

Sheet 3.1
A2: DESCRIPCION ITEM | F2: UNIDAD ITEM
A3: =PRESUPUESTO!C19 -> Tubería pvc presión 1/2" rde 21, incluye accesorios, suministro e instalación red. | F3: =PRESUPUESTO!D19 -> Ml
A5: I. EQUIPO
A6: DESCRIPCIÓN | B6: UNIDAD | C6: PRECIO | D6: CANTIDAD | E6: RENDIMIENTO | F6: VALOR PARCIAL
A7: Herramiento menor | B7: $ | C7: 1 | D7: =167.08+16.63 -> 183.71 | E7: 1 | F7: =+C7*D7/E7 -> 183.71
E11: SUB-TOTAL | F11: =+SUM(F7:F10) -> 183.71
A12: II. MATERIALES
A13: DESCRIPCIÓN | B13: UNIDAD | C13: PRECIO | D13: CANTIDAD | E13: RENDIMIENTO | F13: VALOR PARCIAL
A14: Limpiador tubería pvc 1/128 | B14: UND | C14: 4500 | D14: 1 | E14: 4 | F14: =+C14*D14/E14 -> 1125
A15: Soldadura química pvc 1/128 | B15: UND | C15: 7200 | D15: 1 | E15: 4 | F15: =+C15*D15/E15 -> 1800
A16: Accesorio pvc 1/2" | B16: UND | C16: 900 | D16: 1 | E16: 1 | F16: =+C16*D16/E16 -> 900
A17: Tuberia pvc 1/2" rde 13.5 | B17: ML | C17: 1500 | D17: 1 | E17: 1 | F17: =+C17*D17/E17 -> 1500
E22: SUB-TOTAL | F22: =+SUM(F14:F21) -> 5325
A23: III. MANO DE OBRA
A24: DESCRIPCIÓN | B24: UNIDAD | C24: PRECIO | D24: CANTIDAD | E24: RENDIMIENTO | F24: VALOR PARCIAL
A25: Cuadrilla 0-1-1 | B25: HORA | C25: 40100 | D25: 1 | E25: 13 | F25: =+C25*D25/E25 -> 3084.6154
E31: SUB-TOTAL | F31: =+SUM(F25:F30) -> 3084.6154
A32: IV. OTROS
A33: DESCRIPCIÓN | B33: UNIDAD | C33: PRECIO | D33: CANTIDAD | E33: RENDIMIENTO | F33: VALOR PARCIAL
E40: SUB-TOTAL | F40: =+SUM(F34:F39) -> 0
A43: PRECIO UNITARIO COSTO DIRECTO | F43: =+F11+F22+F31+F40 -> 8593.3254

Sheet 3.2
A2: DESCRIPCION ITEM | F2: UNIDAD ITEM
A3: =PRESUPUESTO!C20 -> Punto hidráulico 1/2", longitud promedio 3m | F3: =PRESUPUESTO!D20 -> UND
A5: I. EQUIPO
A6: DESCRIPCIÓN | B6: UNIDAD | C6: PRECIO | D6: CANTIDAD | E6: RENDIMIENTO | F6: VALOR PARCIAL
A7: Herramiento menor | B7: $ | C7: 1 | D7: =2406-415.7 -> 1990.3 | E7: 1 | F7: =+C7*D7/E7 -> 1990.3
E11: SUB-TOTAL | F11: =+SUM(F7:F10) -> 1990.3
A12: II. MATERIALES
A13: DESCRIPCIÓN | B13: UNIDAD | C13: PRECIO | D13: CANTIDAD | E13: RENDIMIENTO | F13: VALOR PARCIAL
A14: Material mortero 1-4 + 5% desperdicio | B14: M3 | C14: 554660 | D14: 0.01 | E14: 1 | F14: =+C14*D14/E14 -> 5546.6
A15: Soldadura química pvc 1/128 | B15: UND | C15: 7200 | D15: 1 | E15: 7 | F15: =+C15*D15/E15 -> 1028.5714
A16: Limpiador tubería pvc 1/128 | B16: UND | C16: 4500 | D16: 1 | E16: 7 | F16: =+C16*D16/E16 -> 642.85714
A17: Accesorio pvc 1/2" | B17: UND | C17: 900 | D17: 4 | E17: 1 | F17: =+C17*D17/E17 -> 3600
A18: Tuberia pvc 1/2" rde 13.5 | B18: ML | C18: 1500 | D18: 3 | E18: 1 | F18: =+C18*D18/E18 -> 4500
E23: SUB-TOTAL | F23: =+SUM(F14:F22) -> 15318.029
A24: III. MANO DE OBRA
A25: DESCRIPCIÓN | B25: UNIDAD | C25: PRECIO | D25: CANTIDAD | E25: RENDIMIENTO | F25: VALOR PARCIAL
A26: Cuadrilla 0-1-1 | B26: HORA | C26: 40100 | D26: 1 | E26: 1 | F26: =+C26*D26/E26 -> 40100
E32: SUB-TOTAL | F32: =+SUM(F26:F31) -> 40100
A33: IV. OTROS
A34: DESCRIPCIÓN | B34: UNIDAD | C34: PRECIO | D34: CANTIDAD | E34: RENDIMIENTO | F34: VALOR PARCIAL
E41: SUB-TOTAL | F41: =+SUM(F35:F40) -> 0
A44: PRECIO UNITARIO COSTO DIRECTO | F44: =+F11+F23+F32+F41 -> 57408.329

Sheet 3.3
A2: DESCRIPCION ITEM | F2: UNIDAD ITEM
A3: =PRESUPUESTO!C21 -> Red sanitaria PVC de 2" | F3: =PRESUPUESTO!D21 -> ML
A5: I. EQUIPO
A6: DESCRIPCIÓN | B6: UNIDAD | C6: PRECIO | D6: CANTIDAD | E6: RENDIMIENTO | F6: VALOR PARCIAL
A7: Herramiento menor | B7: $ | C7: 1 | D7: =965+222.58 -> 1187.58 | E7: 1 | F7: =+C7*D7/E7 -> 1187.58
E11: SUB-TOTAL | F11: =+SUM(F7:F10) -> 1187.58
A12: II. MATERIALES
A13: DESCRIPCIÓN | B13: UNIDAD | C13: PRECIO | D13: CANTIDAD | E13: RENDIMIENTO | F13: VALOR PARCIAL
A14: Soldadura química pvc 1/128 | B14: UND | C14: 7200 | D14: 1 | E14: 3 | F14: =+C14*D14/E14 -> 2400
A15: Tuberia sanitaria 2" | B15: ML | C15: 8500 | D15: 1 | E15: 1 | F15: =+C15*D15/E15 -> 8500
A16: Limpiador tubería pvc 1/128 | B16: UND | C16: 4500 | D16: 1 | E16: 3 | F16: =+C16*D16/E16 -> 1500
A17: Accesorio sanitario 2" | B17: UND | C17: 5900 | D17: 2 | E17: 3 | F17: =+C17*D17/E17 -> 3933.3333
E23: SUB-TOTAL | F23: =+SUM(F14:F22) -> 16333.333
A24: III. MANO DE OBRA
A25: DESCRIPCIÓN | B25: UNIDAD | C25: PRECIO | D25: CANTIDAD | E25: RENDIMIENTO | F25: VALOR PARCIAL
A26: Cuadrilla 0-1-2 | B26: HORA | C26: 57900 | D26: 1 | E26: 3.1 | F26: =+C26*D26/E26 -> 18677.419
E32: SUB-TOTAL | F32: =+SUM(F26:F31) -> 18677.419
A33: IV. OTROS
A34: DESCRIPCIÓN | B34: UNIDAD | C34: PRECIO | D34: CANTIDAD | E34: RENDIMIENTO | F34: VALOR PARCIAL
E41: SUB-TOTAL | F41: =+SUM(F35:F40) -> 0
A44: PRECIO UNITARIO COSTO DIRECTO | F44: =+F11+F23+F32+F41 -> 36198.333

Sheet 3.4
A2: DESCRIPCION ITEM | F2: UNIDAD ITEM
A3: =PRESUPUESTO!C22 -> Punto sanitario 2" PVC | F3: =PRESUPUESTO!D22 -> UND
A5: I. EQUIPO
A6: DESCRIPCIÓN | B6: UNIDAD | C6: PRECIO | D6: CANTIDAD | E6: RENDIMIENTO | F6: VALOR PARCIAL
A7: Herramiento menor | B7: $ | C7: 1 | D7: =965+222.58 -> 1187.58 | E7: 1 | F7: =+C7*D7/E7 -> 1187.58
E11: SUB-TOTAL | F11: =+SUM(F7:F10) -> 1187.58
A12: II. MATERIALES
A13: DESCRIPCIÓN | B13: UNIDAD | C13: PRECIO | D13: CANTIDAD | E13: RENDIMIENTO | F13: VALOR PARCIAL
A14: Soldadura química pvc 1/128 | B14: UND | C14: 7200 | D14: 1 | E14: 3 | F14: =+C14*D14/E14 -> 2400
A15: Tuberia sanitaria 2" | B15: ML | C15: 8500 | D15: 1 | E15: 1 | F15: =+C15*D15/E15 -> 8500
A16: Limpiador tubería pvc 1/128 | B16: UND | C16: 4500 | D16: 1 | E16: 3 | F16: =+C16*D16/E16 -> 1500
A17: Accesorio sanitario 2" | B17: UND | C17: 5900 | D17: 2 | E17: 3 | F17: =+C17*D17/E17 -> 3933.3333
E23: SUB-TOTAL | F23: =+SUM(F14:F22) -> 16333.333
A24: III. MANO DE OBRA
A25: DESCRIPCIÓN | B25: UNIDAD | C25: PRECIO | D25: CANTIDAD | E25: RENDIMIENTO | F25: VALOR PARCIAL
A26: Cuadrilla 0-1-2 | B26: HORA | C26: 57900 | D26: 1 | E26: 3.1 | F26: =+C26*D26/E26 -> 18677.419
E32: SUB-TOTAL | F32: =+SUM(F26:F31) -> 18677.419
A33: IV. OTROS
A34: DESCRIPCIÓN | B34: UNIDAD | C34: PRECIO | D34: CANTIDAD | E34: RENDIMIENTO | F34: VALOR PARCIAL
E41: SUB-TOTAL | F41: =+SUM(F35:F40) -> 0
A44: PRECIO UNITARIO COSTO DIRECTO | F44: =+F11+F23+F32+F41 -> 36198.333

Sheet 3.5
A2: DESCRIPCION ITEM | F2: UNIDAD ITEM
A3: =PRESUPUESTO!C23 -> Red sanitaria PVC de 4" | F3: =PRESUPUESTO!D23 -> ML
A5: I. EQUIPO
A6: DESCRIPCIÓN | B6: UNIDAD | C6: PRECIO | D6: CANTIDAD | E6: RENDIMIENTO | F6: VALOR PARCIAL
A7: Herramiento menor | B7: $ | C7: 1 | D7: =965+313.22 -> 1278.22 | E7: 1 | F7: =+C7*D7/E7 -> 1278.22
E11: SUB-TOTAL | F11: =+SUM(F7:F10) -> 1278.22
A12: II. MATERIALES
A13: DESCRIPCIÓN | B13: UNIDAD | C13: PRECIO | D13: CANTIDAD | E13: RENDIMIENTO | F13: VALOR PARCIAL
A14: Soldadura química pvc 1/128 | B14: UND | C14: 7200 | D14: 2 | E14: 3 | F14: =+C14*D14/E14 -> 4800
A15: Tuberia pvc 4" sanitaria | B15: ML | C15: 16900 | D15: 1 | E15: 1 | F15: =+C15*D15/E15 -> 16900
A16: Limpiador tubería pvc 1/128 | B16: UND | C16: 4500 | D16: 2 | E16: 3 | F16: =+C16*D16/E16 -> 3000
A17: Accesorio pvc 4" | B17: UND | C17: 12000 | D17: 2 | E17: 3 | F17: =+C17*D17/E17 -> 8000
E23: SUB-TOTAL | F23: =+SUM(F14:F22) -> 32700
A24: III. MANO DE OBRA
A25: DESCRIPCIÓN | B25: UNIDAD | C25: PRECIO | D25: CANTIDAD | E25: RENDIMIENTO | F25: VALOR PARCIAL
A26: Cuadrilla 0-1-2 | B26: HORA | C26: 57900 | D26: 1 | E26: 3.3 | F26: =+C26*D26/E26 -> 17545.455
E32: SUB-TOTAL | F32: =+SUM(F26:F31) -> 17545.455
A33: IV. OTROS
A34: DESCRIPCIÓN | B34: UNIDAD | C34: PRECIO | D34: CANTIDAD | E34: RENDIMIENTO | F34: VALOR PARCIAL
E41: SUB-TOTAL | F41: =+SUM(F35:F40) -> 0
A44: PRECIO UNITARIO COSTO DIRECTO | F44: =+F11+F23+F32+F41 -> 51523.675

Sheet 3.6
A2: DESCRIPCION ITEM | F2: UNIDAD ITEM
A3: =PRESUPUESTO!C24 -> Punto sanitario 4" PVC | F3: =PRESUPUESTO!D24 -> UND
A5: I. EQUIPO
A6: DESCRIPCIÓN | B6: UNIDAD | C6: PRECIO | D6: CANTIDAD | E6: RENDIMIENTO | F6: VALOR PARCIAL
A7: Herramiento menor | B7: $ | C7: 1 | D7: =2055.13+1613.04 -> 3668.17 | E7: 1 | F7: =+C7*D7/E7 -> 3668.17
E11: SUB-TOTAL | F11: =+SUM(F7:F10) -> 3668.17
A12: II. MATERIALES
A13: DESCRIPCIÓN | B13: UNIDAD | C13: PRECIO | D13: CANTIDAD | E13: RENDIMIENTO | F13: VALOR PARCIAL
A14: Soldadura química pvc 1/128 | B14: UND | C14: 7200 | D14: 2 | E14: 3 | F14: =+C14*D14/E14 -> 4800
A15: Tuberia pvc 4" sanitaria | B15: ML | C15: 16900 | D15: 1.8 | E15: 1 | F15: =+C15*D15/E15 -> 30420
A16: Limpiador tubería pvc 1/128 | B16: UND | C16: 4500 | D16: 2 | E16: 3 | F16: =+C16*D16/E16 -> 3000
A17: Accesorio pvc 4" | B17: UND | C17: 12000 | D17: 2 | E17: 2 | F17: =+C17*D17/E17 -> 12000
E23: SUB-TOTAL | F23: =+SUM(F14:F22) -> 50220
A24: III. MANO DE OBRA
A25: DESCRIPCIÓN | B25: UNIDAD | C25: PRECIO | D25: CANTIDAD | E25: RENDIMIENTO | F25: VALOR PARCIAL
A26: Cuadrilla 0-1-1 | B26: HORA | C26: 40100 | D26: 2.05 | E26: 2 | F26: =+C26*D26/E26 -> 41102.5
E32: SUB-TOTAL | F32: =+SUM(F26:F31) -> 41102.5
A33: IV. OTROS
A34: DESCRIPCIÓN | B34: UNIDAD | C34: PRECIO | D34: CANTIDAD | E34: RENDIMIENTO | F34: VALOR PARCIAL
E41: SUB-TOTAL | F41: =+SUM(F35:F40) -> 0
A44: PRECIO UNITARIO COSTO DIRECTO | F44: =+F11+F23+F32+F41 -> 94990.67

Sheet 3.7
A2: DESCRIPCION ITEM | F2: UNIDAD ITEM
A3: =PRESUPUESTO!C25 -> Válvula de cierre 1/2". Incluye caja y accesorios. | F3: =PRESUPUESTO!D25 -> UND
A5: I. EQUIPO
A6: DESCRIPCIÓN | B6: UNIDAD | C6: PRECIO | D6: CANTIDAD | E6: RENDIMIENTO | F6: VALOR PARCIAL
A7: Herramiento menor | B7: $ | C7: 1 | D7: =1581+628.19 -> 2209.19 | E7: 1 | F7: =+C7*D7/E7 -> 2209.19
E11: SUB-TOTAL | F11: =+SUM(F7:F10) -> 2209.19
A12: II. MATERIALES
A13: DESCRIPCIÓN | B13: UNIDAD | C13: PRECIO | D13: CANTIDAD | E13: RENDIMIENTO | F13: VALOR PARCIAL
A14: Valvula de cierre de 1/2" | B14: UND | C14: 6900 | D14: 1 | E14: 1 | F14: =+C14*D14/E14 -> 6900
A15: Caja de registro | B15: UND | C15: 13900 | D15: 1 | E15: 1 | F15: =+C15*D15/E15 -> 13900
E23: SUB-TOTAL | F23: =+SUM(F14:F22) -> 20800
A24: III. MANO DE OBRA
A25: DESCRIPCIÓN | B25: UNIDAD | C25: PRECIO | D25: CANTIDAD | E25: RENDIMIENTO | F25: VALOR PARCIAL
A26: Cuadrilla 0-1-1 | B26: HORA | C26: 40100 | D26: 1 | E26: 3.5 | F26: =+C26*D26/E26 -> 11457.143
E32: SUB-TOTAL | F32: =+SUM(F26:F31) -> 11457.143
A33: IV. OTROS
A34: DESCRIPCIÓN | B34: UNIDAD | C34: PRECIO | D34: CANTIDAD | E34: RENDIMIENTO | F34: VALOR PARCIAL
E41: SUB-TOTAL | F41: =+SUM(F35:F40) -> 0
A44: PRECIO UNITARIO COSTO DIRECTO | F44: =+F11+F23+F32+F41 -> 34466.333

Sheet 3.8
A2: DESCRIPCION ITEM | F2: UNIDAD ITEM
A3: =PRESUPUESTO!C26 -> Red sanitaria PVC de 6" | F3: =PRESUPUESTO!D26 -> ML
A5: I. EQUIPO
A6: DESCRIPCIÓN | B6: UNIDAD | C6: PRECIO | D6: CANTIDAD | E6: RENDIMIENTO | F6: VALOR PARCIAL
A7: Herramiento menor | B7: $ | C7: 1 | D7: 965 | E7: 1 | F7: =+C7*D7/E7 -> 965
E11: SUB-TOTAL | F11: =+SUM(F7:F10) -> 965
A12: II. MATERIALES
A13: DESCRIPCIÓN | B13: UNIDAD | C13: PRECIO | D13: CANTIDAD | E13: RENDIMIENTO | F13: VALOR PARCIAL
A14: Soldadura química pvc 1/128 | B14: UND | C14: 7200 | D14: 2 | E14: 3 | F14: =+C14*D14/E14 -> 4800
A15: Tuberia pvc 6" | B15: ML | C15: =37900+4827 -> 42727 | D15: 1 | E15: 1 | F15: =+C15*D15/E15 -> 42727
A16: Limpiador tubería pvc 1/128 | B16: UND | C16: 4500 | D16: 2 | E16: 3 | F16: =+C16*D16/E16 -> 3000
A17: Accesorio pvc 6" | B17: UND | C17: 106800 | D17: 2 | E17: 3 | F17: =+C17*D17/E17 -> 71200
E23: SUB-TOTAL | F23: =+SUM(F14:F22) -> 121727
A24: III. MANO DE OBRA
A25: DESCRIPCIÓN | B25: UNIDAD | C25: PRECIO | D25: CANTIDAD | E25: RENDIMIENTO | F25: VALOR PARCIAL
A26: Cuadrilla 0-1-2 | B26: HORA | C26: 57900 | D26: 1 | E26: 3 | F26: =+C26*D26/E26 -> 19300
E32: SUB-TOTAL | F32: =+SUM(F26:F31) -> 19300
A33: IV. OTROS
A34: DESCRIPCIÓN | B34: UNIDAD | C34: PRECIO | D34: CANTIDAD | E34: RENDIMIENTO | F34: VALOR PARCIAL
E41: SUB-TOTAL | F41: =+SUM(F35:F40) -> 0
A44: PRECIO UNITARIO COSTO DIRECTO | F44: =+F11+F23+F32+F41 -> 141992

Sheet 4.1
A2: DESCRIPCION ITEM | F2: UNIDAD ITEM
A3: =PRESUPUESTO!C28 -> Losa de concreto rígido, espesor 15cm, Mr=3.8 Mpa | F3: =PRESUPUESTO!D28 -> M2
A5: I. EQUIPO
A6: DESCRIPCIÓN | B6: UNIDAD | C6: PRECIO | D6: CANTIDAD | E6: RENDIMIENTO | F6: VALOR PARCIAL
A7: Herramiento menor | B7: $ | C7: 1 | D7: 1582.78 | E7: 1 | F7: =+C7*D7/E7 -> 1582.78
A8: Regla vibratoria | B8: HORA | C8: 10100 | D8: 1 | E8: 9 | F8: =+C8*D8/E8 -> 1122.2222
A9: Vibrador de concreto 1000 RPM | B9: HORA | C9: 11500 | D9: 1 | E9: 9 | F9: =+C9*D9/E9 -> 1277.7778
A10: Mezcladora trompo 1 bulto | B10: HORA | C10: 11400 | D10: 1 | E10: 9 | F10: =+C10*D10/E10 -> 1266.6667
A11: Cortadora de disco cto rígido | B11: HORA | C11: 40500 | D11: 0.33 | E11: 11.25 | F11: =+C11*D11/E11 -> 1188
E13: SUB-TOTAL | F13: =+SUM(F7:F12) -> 6437.4467
A14: II. MATERIALES
A15: DESCRIPCIÓN | B15: UNIDAD | C15: PRECIO | D15: CANTIDAD | E15: RENDIMIENTO | F15: VALOR PARCIAL
A16: Masilla carburante 6mm | B16: GAL | C16: 564500 | D16: 0.05 | E16: 11.25 | F16: =+C16*D16/E16 -> 2508.8889
A17: Material concreto C 1:2:2.5+ 5% desperdicio f' | B17: M3 | C17: 589970 | D17: 0.15 | E17: 1 | F17: =+C17*D17/E17 -> 88495.5
A18: Estacas 40cm | B18: UND | C18: 1400 | D18: 11 | E18: 11.25 | F18: =+C18*D18/E18 -> 1368.8889
A19: Tabla común 25cm x 260cm | B19: UND | C19: 17700 | D19: 2.2 | E19: 11.25 | F19: =+C19*D19/E19 -> 3461.3333
A20: Acero 3/4" | B20: KG | C20: 5500 | D20: 5.96 | E20: 11.25 | F20: =+C20*D20/E20 -> 2913.7778
A21: Acero 1/2" | B21: KG | C21: 5300 | D21: 1.28 | E21: 11.25 | F21: =+C21*D21/E21 -> 603.02222
A22: Sellasil soporte cordon respaldo | B22: ML | C22: 1400 | D22: 4.88 | E22: 11.25 | F22: =+C22*D22/E22 -> 607.28889
A23: Antisol blanco | B23: KG | C23: 14600 | D23: 2.25 | E23: 11.25 | F23: =+C23*D23/E23 -> 2920
A24: Canastilla soporte refuerzo pavimento | B24: ML | C24: 14200 | D24: 3 | E24: 11.25 | F24: =+C24*D24/E24 -> 3786.6667
A25: Clavos | B25: LB | C25: 9300 | D25: 0.45 | E25: 11.25 | F25: =+C25*D25/E25 -> 372
E27: SUB-TOTAL | F27: =+SUM(F16:F26) -> 107037.37
A28: III. MANO DE OBRA
A29: DESCRIPCIÓN | B29: UNIDAD | C29: PRECIO | D29: CANTIDAD | E29: RENDIMIENTO | F29: VALOR PARCIAL
A30: Cuadrilla 1-1-12 | B30: HORA | C30: 284900 | D30: 1 | E30: 9 | F30: =+C30*D30/E30 -> 31655.556
E36: SUB-TOTAL | F36: =+SUM(F30:F35) -> 31655.556
A37: IV. OTROS
A38: DESCRIPCIÓN | B38: UNIDAD | C38: PRECIO | D38: CANTIDAD | E38: RENDIMIENTO | F38: VALOR PARCIAL
E45: SUB-TOTAL | F45: =+SUM(F39:F44) -> 0
A48: PRECIO UNITARIO COSTO DIRECTO | F48: =+F13+F27+F36+F45 -> 145130.37

Sheet 4.2
A2: DESCRIPCION ITEM | F2: UNIDAD ITEM
A3: =PRESUPUESTO!C29 -> Enchape en cerámica nacional tráfico 4, de 30 x 30 cm, incluye suministro e instalación. | F3: =PRESUPUESTO!D29 -> M2
A5: I. EQUIPO
A6: DESCRIPCIÓN | B6: UNIDAD | C6: PRECIO | D6: CANTIDAD | E6: RENDIMIENTO | F6: VALOR PARCIAL
A7: Herramiento menor | B7: $ | C7: 1 | D7: 1002.5 | E7: 1 | F7: =+C7*D7/E7 -> 1002.5
E13: SUB-TOTAL | F13: =+SUM(F7:F12) -> 1002.5
A14: II. MATERIALES
A15: DESCRIPCIÓN | B15: UNIDAD | C15: PRECIO | D15: CANTIDAD | E15: RENDIMIENTO | F15: VALOR PARCIAL
A16: Pegante para ceramica | B16: KG | C16: 2500 | D16: 4 | E16: 1 | F16: =+C16*D16/E16 -> 10000
A17: Céramica de 30x30 trafico 4 antideslizante | B17: M2 | C17: =58800-3331.83 -> 55468.17 | D17: 1 | E17: 1 | F17: =+C17*D17/E17 -> 55468.17
E23: SUB-TOTAL | F23: =+SUM(F16:F22) -> 65468.17
A24: III. MANO DE OBRA
A25: DESCRIPCIÓN | B25: UNIDAD | C25: PRECIO | D25: CANTIDAD | E25: RENDIMIENTO | F25: VALOR PARCIAL
A26: Cuadrilla 0-1-1 | B26: HORA | C26: 40100 | D26: 1 | E26: 2 | F26: =+C26*D26/E26 -> 20050
E32: SUB-TOTAL | F32: =+SUM(F26:F31) -> 20050
A33: IV. OTROS
A34: DESCRIPCIÓN | B34: UNIDAD | C34: PRECIO | D34: CANTIDAD | E34: RENDIMIENTO | F34: VALOR PARCIAL
E41: SUB-TOTAL | F41: =+SUM(F35:F40) -> 0
A44: PRECIO UNITARIO COSTO DIRECTO | F44: =+F13+F23+F32+F41 -> 86520.67

Sheet 4.3
A2: DESCRIPCION ITEM | F2: UNIDAD ITEM
A3: =PRESUPUESTO!C30 -> Enchape en cerámica, de 30 cm x 30 cm, paredes de baños y cocina | F3: =PRESUPUESTO!D30 -> M2
A5: I. EQUIPO
A6: DESCRIPCIÓN | B6: UNIDAD | C6: PRECIO | D6: CANTIDAD | E6: RENDIMIENTO | F6: VALOR PARCIAL
A7: Herramiento menor | B7: $ | C7: 1 | D7: =1822.73-80.45 -> 1742.28 | E7: 1 | F7: =+C7*D7/E7 -> 1742.28
E13: SUB-TOTAL | F13: =+SUM(F7:F12) -> 1742.28
A14: II. MATERIALES
A15: DESCRIPCIÓN | B15: UNIDAD | C15: PRECIO | D15: CANTIDAD | E15: RENDIMIENTO | F15: VALOR PARCIAL
A16: Pegante para ceramica | B16: KG | C16: 2500 | D16: 3 | E16: 1 | F16: =+C16*D16/E16 -> 7500
A17: Céramica de 30x30 | B17: M2 | C17: =53900-3950 -> 49950 | D17: 1.05 | E17: 1 | F17: =+C17*D17/E17 -> 52447.5
E23: SUB-TOTAL | F23: =+SUM(F16:F22) -> 59947.5
A24: III. MANO DE OBRA
A25: DESCRIPCIÓN | B25: UNIDAD | C25: PRECIO | D25: CANTIDAD | E25: RENDIMIENTO | F25: VALOR PARCIAL
A26: Cuadrilla 0-1-1 | B26: HORA | C26: 40100 | D26: 1 | E26: 1.1 | F26: =+C26*D26/E26 -> 36454.545
E32: SUB-TOTAL | F32: =+SUM(F26:F31) -> 36454.545
A33: IV. OTROS
A34: DESCRIPCIÓN | B34: UNIDAD | C34: PRECIO | D34: CANTIDAD | E34: RENDIMIENTO | F34: VALOR PARCIAL
E41: SUB-TOTAL | F41: =+SUM(F35:F40) -> 0
A44: PRECIO UNITARIO COSTO DIRECTO | F44: =+F13+F23+F32+F41 -> 98144.325

Sheet 4.4
A2: DESCRIPCION ITEM | F2: UNIDAD ITEM
A3: =PRESUPUESTO!C31 -> Espejo para baño pagado en m2, incluye suministro e instalación | F3: =PRESUPUESTO!D31 -> M2
A5: I. EQUIPO
A6: DESCRIPCIÓN | B6: UNIDAD | C6: PRECIO | D6: CANTIDAD | E6: RENDIMIENTO | F6: VALOR PARCIAL
A7: Herramiento menor | B7: $ | C7: 1 | D7: =966+1116 -> 2082 | E7: 1 | F7: =+C7*D7/E7 -> 2082
E13: SUB-TOTAL | F13: =+SUM(F7:F12) -> 2082
A14: II. MATERIALES
A15: DESCRIPCIÓN | B15: UNIDAD | C15: PRECIO | D15: CANTIDAD | E15: RENDIMIENTO | F15: VALOR PARCIAL
A16: Espejo para baño de 4 mm de espesor | B16: M2 | C16: 120000 | D16: 1 | E16: 1 | F16: =+C16*D16/E16 -> 120000
A17: Accesorios de fijación | B17: M2 | C17: 8000 | D17: 1 | E17: 1 | F17: =+C17*D17/E17 -> 8000
A18: Silicona neutra para espejo | B18: M2 | C18: 25000 | D18: 0.1 | E18: 1 | F18: =+C18*D18/E18 -> 2500
E23: SUB-TOTAL | F23: =+SUM(F16:F22) -> 130500
A24: III. MANO DE OBRA
A25: DESCRIPCIÓN | B25: UNIDAD | C25: PRECIO | D25: CANTIDAD | E25: RENDIMIENTO | F25: VALOR PARCIAL
A26: Cuadrilla 0-1-1 | B26: HORA | C26: 40100 | D26: 1 | E26: 6 | F26: =+C26*D26/E26 -> 6683.3333
E32: SUB-TOTAL | F32: =+SUM(F26:F31) -> 6683.3333
A33: IV. OTROS
A34: DESCRIPCIÓN | B34: UNIDAD | C34: PRECIO | D34: CANTIDAD | E34: RENDIMIENTO | F34: VALOR PARCIAL
E41: SUB-TOTAL | F41: =+SUM(F35:F40) -> 0
A44: PRECIO UNITARIO COSTO DIRECTO | F44: =+F13+F23+F32+F41 -> 139265.33

Sheet 4.5
A2: DESCRIPCION ITEM | F2: UNIDAD ITEM
A3: =PRESUPUESTO!C32 -> Repello impermeabilizado allanado, espesor 1.5 cm, mezcla 1-4. | F3: =PRESUPUESTO!D32 -> M2
A5: I. EQUIPO
A6: DESCRIPCIÓN | B6: UNIDAD | C6: PRECIO | D6: CANTIDAD | E6: RENDIMIENTO | F6: VALOR PARCIAL
A7: Herramiento menor | B7: $ | C7: 1 | D7: =965+236.01 -> 1201.01 | E7: 1 | F7: =+C7*D7/E7 -> 1201.01
E13: SUB-TOTAL | F13: =+SUM(F7:F12) -> 1201.01
A14: II. MATERIALES
A15: DESCRIPCIÓN | B15: UNIDAD | C15: PRECIO | D15: CANTIDAD | E15: RENDIMIENTO | F15: VALOR PARCIAL
A16: Material mortero 1-4 + 5% desperdicio | B16: M3 | C16: 554660 | D16: 0.02 | E16: 1 | F16: =+C16*D16/E16 -> 11093.2
A17: Impermeabilizante integral para morteros y concretos | B17: KG | C17: 18500 | D17: 0.08 | E17: 1 | F17: =+C17*D17/E17 -> 1480
E23: SUB-TOTAL | F23: =+SUM(F16:F22) -> 12573.2
A24: III. MANO DE OBRA
A25: DESCRIPCIÓN | B25: UNIDAD | C25: PRECIO | D25: CANTIDAD | E25: RENDIMIENTO | F25: VALOR PARCIAL
A26: Cuadrilla 0-1-2 | B26: HORA | C26: 57900 | D26: 1 | E26: 4.3 | F26: =+C26*D26/E26 -> 13465.116
E32: SUB-TOTAL | F32: =+SUM(F26:F31) -> 13465.116
A33: IV. OTROS
A34: DESCRIPCIÓN | B34: UNIDAD | C34: PRECIO | D34: CANTIDAD | E34: RENDIMIENTO | F34: VALOR PARCIAL
E41: SUB-TOTAL | F41: =+SUM(F35:F40) -> 0
A44: PRECIO UNITARIO COSTO DIRECTO | F44: =+F13+F23+F32+F41 -> 27239.326

Sheet 4.6
A2: DESCRIPCION ITEM | F2: UNIDAD ITEM
A3: =PRESUPUESTO!C33 -> Pintura vinilo tipo 1, 3 manos | F3: =PRESUPUESTO!D33 -> M2
A5: I. EQUIPO
A6: DESCRIPCIÓN | B6: UNIDAD | C6: PRECIO | D6: CANTIDAD | E6: RENDIMIENTO | F6: VALOR PARCIAL
A7: Herramiento menor | B7: $ | C7: 1 | D7: =668.33+7 -> 675.33 | E7: 1 | F7: =+C7*D7/E7 -> 675.33
E13: SUB-TOTAL | F13: =+SUM(F7:F12) -> 675.33
A14: II. MATERIALES
A15: DESCRIPCIÓN | B15: UNIDAD | C15: PRECIO | D15: CANTIDAD | E15: RENDIMIENTO | F15: VALOR PARCIAL
A16: Agua | B16: LT | C16: 400 | D16: 0.02 | E16: 1 | F16: =+C16*D16/E16 -> 8
A17: Rodillo felpa | B17: UND | C17: 9700 | D17: 1 | E17: 50 | F17: =+C17*D17/E17 -> 194
A18: Cinta de enmascarar L=25m | B18: UND | C18: 3800 | D18: 1 | E18: 200 | F18: =+C18*D18/E18 -> 19
A19: Brocha mona 4" | B19: UND | C19: 8500 | D19: 1 | E19: 100 | F19: =+C19*D19/E19 -> 85
A20: Pintura vinilo tipo 1 | B20: GAL | C20: 54800 | D20: 1 | E20: 20 | F20: =+C20*D20/E20 -> 2740
E23: SUB-TOTAL | F23: =+SUM(F16:F22) -> 3046
A24: III. MANO DE OBRA
A25: DESCRIPCIÓN | B25: UNIDAD | C25: PRECIO | D25: CANTIDAD | E25: RENDIMIENTO | F25: VALOR PARCIAL
A26: Cuadrilla 0-1-1 | B26: HORA | C26: 40100 | D26: 1 | E26: 3 | F26: =+C26*D26/E26 -> 13366.667
E32: SUB-TOTAL | F32: =+SUM(F26:F31) -> 13366.667
A33: IV. OTROS
A34: DESCRIPCIÓN | B34: UNIDAD | C34: PRECIO | D34: CANTIDAD | E34: RENDIMIENTO | F34: VALOR PARCIAL
E41: SUB-TOTAL | F41: =+SUM(F35:F40) -> 0
A44: PRECIO UNITARIO COSTO DIRECTO | F44: =+F13+F23+F32+F41 -> 17087.997

Sheet 5.1
A2: DESCRIPCION ITEM | F2: UNIDAD ITEM
A3: =PRESUPUESTO!C35 -> Sanitario blanco tipo institucional, incluye suministro e instalación. | F3: =PRESUPUESTO!D35 -> UND
A5: I. EQUIPO
A6: DESCRIPCIÓN | B6: UNIDAD | C6: PRECIO | D6: CANTIDAD | E6: RENDIMIENTO | F6: VALOR PARCIAL
A7: Herramiento menor | B7: $ | C7: 1 | D7: 2230 | E7: 1 | F7: =+C7*D7/E7 -> 2230
E13: SUB-TOTAL | F13: =+SUM(F7:F12) -> 2230
A14: II. MATERIALES
A15: DESCRIPCIÓN | B15: UNIDAD | C15: PRECIO | D15: CANTIDAD | E15: RENDIMIENTO | F15: VALOR PARCIAL
A16: Pegante para cerámica | B16: KG | C16: 2500 | D16: 2 | E16: 1 | F16: =+C16*D16/E16 -> 5000
A17: Sanitario blanco tipo institucional | B17: UND | C17: =296100-2292.67 -> 293807.33 | D17: 1 | E17: 1 | F17: =+C17*D17/E17 -> 293807.33
E23: SUB-TOTAL | F23: =+SUM(F16:F22) -> 298807.33
A24: III. MANO DE OBRA
A25: DESCRIPCIÓN | B25: UNIDAD | C25: PRECIO | D25: CANTIDAD | E25: RENDIMIENTO | F25: VALOR PARCIAL
A26: Oficial | B26: HORA | C26: 22300 | D26: 2 | E26: 1 | F26: =+C26*D26/E26 -> 44600
E32: SUB-TOTAL | F32: =+SUM(F26:F31) -> 44600
A33: IV. OTROS
A34: DESCRIPCIÓN | B34: UNIDAD | C34: PRECIO | D34: CANTIDAD | E34: RENDIMIENTO | F34: VALOR PARCIAL
E41: SUB-TOTAL | F41: =+SUM(F35:F40) -> 0
A44: PRECIO UNITARIO COSTO DIRECTO | F44: =+F13+F23+F32+F41 -> 345637.33

Sheet 5.2
A2: DESCRIPCION ITEM | F2: UNIDAD ITEM
A3: =PRESUPUESTO!C36 -> Sanitario blanco tipo institucional para movilidad reducida incluye barras de soporte abatible, incluye suministro e instalación. | F3: =PRESUPUESTO!D36 -> UND
A5: I. EQUIPO
A6: DESCRIPCIÓN | B6: UNIDAD | C6: PRECIO | D6: CANTIDAD | E6: RENDIMIENTO | F6: VALOR PARCIAL
A7: Herramiento menor | B7: $ | C7: 1 | D7: 2230 | E7: 1 | F7: =+C7*D7/E7 -> 2230
E13: SUB-TOTAL | F13: =+SUM(F7:F12) -> 2230
A14: II. MATERIALES
A15: DESCRIPCIÓN | B15: UNIDAD | C15: PRECIO | D15: CANTIDAD | E15: RENDIMIENTO | F15: VALOR PARCIAL
A16: Pegante para cerámica | B16: KG | C16: 2500 | D16: 2 | E16: 1 | F16: =+C16*D16/E16 -> 5000
A17: Sanitario blanco tipo institucional movilidad reducida | B17: UND | C17: 391057.33 | D17: 1 | E17: 1 | F17: =+C17*D17/E17 -> 391057.33
A18: Barra de soporte abatible para baño accesible | B18: UND | C18: 220000 | D18: 1 | E18: 1 | F18: =+C18*D18/E18 -> 220000
E23: SUB-TOTAL | F23: =+SUM(F16:F22) -> 616057.33
A24: III. MANO DE OBRA
A25: DESCRIPCIÓN | B25: UNIDAD | C25: PRECIO | D25: CANTIDAD | E25: RENDIMIENTO | F25: VALOR PARCIAL
A26: Oficial | B26: HORA | C26: 22300 | D26: 2 | E26: 1 | F26: =+C26*D26/E26 -> 44600
E32: SUB-TOTAL | F32: =+SUM(F26:F31) -> 44600
A33: IV. OTROS
A34: DESCRIPCIÓN | B34: UNIDAD | C34: PRECIO | D34: CANTIDAD | E34: RENDIMIENTO | F34: VALOR PARCIAL
E41: SUB-TOTAL | F41: =+SUM(F35:F40) -> 0
A44: PRECIO UNITARIO COSTO DIRECTO | F44: =+F13+F23+F32+F41 -> 662887.33

Sheet 5.3
A2: DESCRIPCION ITEM | F2: UNIDAD ITEM
A3: =PRESUPUESTO!C37 -> Válvula 1/2 Regulación Plástica, incluye suministro e instalación | F3: =PRESUPUESTO!D36 -> UND
A5: I. EQUIPO
A6: DESCRIPCIÓN | B6: UNIDAD | C6: PRECIO | D6: CANTIDAD | E6: RENDIMIENTO | F6: VALOR PARCIAL
A7: Herramiento menor | B7: $ | C7: 1 | D7: =2230.73+28.19 -> 2258.92 | E7: 1 | F7: =+C7*D7/E7 -> 2258.92
E11: SUB-TOTAL | F11: =+SUM(F7:F10) -> 2258.92
A12: II. MATERIALES
A13: DESCRIPCIÓN | B13: UNIDAD | C13: PRECIO | D13: CANTIDAD | E13: RENDIMIENTO | F13: VALOR PARCIAL
A14: Valvula de cierre de 1/2" | B14: UND | C14: 6900 | D14: 1 | E14: 1 | F14: =+C14*D14/E14 -> 6900
E23: SUB-TOTAL | F23: =+SUM(F14:F22) -> 6900
A24: III. MANO DE OBRA
A25: DESCRIPCIÓN | B25: UNIDAD | C25: PRECIO | D25: CANTIDAD | E25: RENDIMIENTO | F25: VALOR PARCIAL
A26: Cuadrilla 0-1-1 | B26: HORA | C26: 40100 | D26: 1 | E26: 2.34 | F26: =+C26*D26/E26 -> 17136.752
E32: SUB-TOTAL | F32: =+SUM(F26:F31) -> 17136.752
A33: IV. OTROS
A34: DESCRIPCIÓN | B34: UNIDAD | C34: PRECIO | D34: CANTIDAD | E34: RENDIMIENTO | F34: VALOR PARCIAL
E41: SUB-TOTAL | F41: =+SUM(F35:F40) -> 0
A44: PRECIO UNITARIO COSTO DIRECTO | F44: =+F11+F23+F32+F41 -> 26295.672

Sheet 5.4
A2: DESCRIPCION ITEM | F2: UNIDAD ITEM
A3: =PRESUPUESTO!C38 -> Orinal, incluye suministro e instalación. | F3: =PRESUPUESTO!D38 -> UND
A5: I. EQUIPO
A6: DESCRIPCIÓN | B6: UNIDAD | C6: PRECIO | D6: CANTIDAD | E6: RENDIMIENTO | F6: VALOR PARCIAL
A7: Herramiento menor | B7: $ | C7: 1 | D7: 2230 | E7: 1 | F7: =+C7*D7/E7 -> 2230
E13: SUB-TOTAL | F13: =+SUM(F7:F12) -> 2230
A14: II. MATERIALES
A15: DESCRIPCIÓN | B15: UNIDAD | C15: PRECIO | D15: CANTIDAD | E15: RENDIMIENTO | F15: VALOR PARCIAL
A16: Pegante para cerámica | B16: KG | C16: 2500 | D16: 1 | E16: 1 | F16: =+C16*D16/E16 -> 2500
A17: Orinal blanco tipo institucional | B17: UND | C17: =290000-812.67 -> 289187.33 | D17: 1 | E17: 1 | F17: =+C17*D17/E17 -> 289187.33
E23: SUB-TOTAL | F23: =+SUM(F16:F22) -> 291687.33
A24: III. MANO DE OBRA
A25: DESCRIPCIÓN | B25: UNIDAD | C25: PRECIO | D25: CANTIDAD | E25: RENDIMIENTO | F25: VALOR PARCIAL
A26: Oficial | B26: HORA | C26: 22300 | D26: 2 | E26: 1 | F26: =+C26*D26/E26 -> 44600
E32: SUB-TOTAL | F32: =+SUM(F26:F31) -> 44600
A33: IV. OTROS
A34: DESCRIPCIÓN | B34: UNIDAD | C34: PRECIO | D34: CANTIDAD | E34: RENDIMIENTO | F34: VALOR PARCIAL
E41: SUB-TOTAL | F41: =+SUM(F35:F40) -> 0
A44: PRECIO UNITARIO COSTO DIRECTO | F44: =+F13+F23+F32+F41 -> 338517.33

Sheet 5.5
A2: DESCRIPCION ITEM | F2: UNIDAD ITEM
A3: =PRESUPUESTO!C39 -> División para orinal en lamina galvanizada, con nticorrosivo y esmalte | F3: =PRESUPUESTO!D39 -> M2
A5: I. EQUIPO
A6: DESCRIPCIÓN | B6: UNIDAD | C6: PRECIO | D6: CANTIDAD | E6: RENDIMIENTO | F6: VALOR PARCIAL
A7: Herramiento menor | B7: $ | C7: 1 | D7: 3115 | E7: 1 | F7: =+C7*D7/E7 -> 3115
E13: SUB-TOTAL | F13: =+SUM(F7:F12) -> 3115
A14: II. MATERIALES
A15: DESCRIPCIÓN | B15: UNIDAD | C15: PRECIO | D15: CANTIDAD | E15: RENDIMIENTO | F15: VALOR PARCIAL
A16: Pintura anticorrosiva | B16: GAL | C16: 83200 | D16: 1 | E16: 20 | F16: =+C16*D16/E16 -> 4160
A17: División en lamina galvanizada para baños | B17: M2 | C17: =417900-2708.33 -> 415191.67 | D17: 1 | E17: 1 | F17: =+C17*D17/E17 -> 415191.67
A18: Pintura esmalte | B18: GAL | C18: 87400 | D18: 1 | E18: 20 | F18: =+C18*D18/E18 -> 4370
E23: SUB-TOTAL | F23: =+SUM(F16:F22) -> 423721.67
A24: III. MANO DE OBRA
A25: DESCRIPCIÓN | B25: UNIDAD | C25: PRECIO | D25: CANTIDAD | E25: RENDIMIENTO | F25: VALOR PARCIAL
A26: Cuadrilla 1-0-2 | B26: HORA | C26: 62300 | D26: 1 | E26: 1 | F26: =+C26*D26/E26 -> 62300
E32: SUB-TOTAL | F32: =+SUM(F26:F31) -> 62300
A33: IV. OTROS
A34: DESCRIPCIÓN | B34: UNIDAD | C34: PRECIO | D34: CANTIDAD | E34: RENDIMIENTO | F34: VALOR PARCIAL
E41: SUB-TOTAL | F41: =+SUM(F35:F40) -> 0
A44: PRECIO UNITARIO COSTO DIRECTO | F44: =+F13+F23+F32+F41 -> 489136.67

Sheet 5.6
A2: DESCRIPCION ITEM | F2: UNIDAD ITEM
A3: =PRESUPUESTO!C40 -> Suministro e instalación de lavamanos línea blanca incluye accesorios y grifería | F3: =PRESUPUESTO!D40 -> UND
A5: I. EQUIPO
A6: DESCRIPCIÓN | B6: UNIDAD | C6: PRECIO | D6: CANTIDAD | E6: RENDIMIENTO | F6: VALOR PARCIAL
A7: Herramiento menor | B7: $ | C7: 1 | D7: 2230 | E7: 1 | F7: =+C7*D7/E7 -> 2230
E13: SUB-TOTAL | F13: =+SUM(F7:F12) -> 2230
A14: II. MATERIALES
A15: DESCRIPCIÓN | B15: UNIDAD | C15: PRECIO | D15: CANTIDAD | E15: RENDIMIENTO | F15: VALOR PARCIAL
A16: Pegante para ceramica | B16: KG | C16: 2500 | D16: 2 | E16: 1 | F16: =+C16*D16/E16 -> 5000
A17: Lavamanos blanco tipo institucional con griferia | B17: UND | C17: =161700+21735.33 -> 183435.33 | D17: 1 | E17: 1 | F17: =+C17*D17/E17 -> 183435.33
E23: SUB-TOTAL | F23: =+SUM(F16:F22) -> 188435.33
A24: III. MANO DE OBRA
A25: DESCRIPCIÓN | B25: UNIDAD | C25: PRECIO | D25: CANTIDAD | E25: RENDIMIENTO | F25: VALOR PARCIAL
A26: Oficial | B26: HORA | C26: 22300 | D26: 2 | E26: 1 | F26: =+C26*D26/E26 -> 44600
E32: SUB-TOTAL | F32: =+SUM(F26:F31) -> 44600
A33: IV. OTROS
A34: DESCRIPCIÓN | B34: UNIDAD | C34: PRECIO | D34: CANTIDAD | E34: RENDIMIENTO | F34: VALOR PARCIAL
E41: SUB-TOTAL | F41: =+SUM(F35:F40) -> 0
A44: PRECIO UNITARIO COSTO DIRECTO | F44: =+F13+F23+F32+F41 -> 235265.33

Sheet 6.1
A2: DESCRIPCION ITEM | F2: UNIDAD ITEM
A3: =PRESUPUESTO!C42 -> Ventana metálica cal 20 instalada, pintada con anticorrosivo y pintura esmalte, vidrio claro 4 mm | F3: =PRESUPUESTO!D42 -> M2
A5: I. EQUIPO
A6: DESCRIPCIÓN | B6: UNIDAD | C6: PRECIO | D6: CANTIDAD | E6: RENDIMIENTO | F6: VALOR PARCIAL
A7: Herramiento menor | B7: $ | C7: 1 | D7: 723.75 | E7: 1 | F7: =+C7*D7/E7 -> 723.75
E13: SUB-TOTAL | F13: =+SUM(F7:F12) -> 723.75
A14: II. MATERIALES
A15: DESCRIPCIÓN | B15: UNIDAD | C15: PRECIO | D15: CANTIDAD | E15: RENDIMIENTO | F15: VALOR PARCIAL
A16: Pintura anticorrosiva | B16: GAL | C16: 83200 | D16: 1 | E16: 25 | F16: =+C16*D16/E16 -> 3328
A17: Ventana metálica cal 20 | B17: M2 | C17: 94400 | D17: 1 | E17: 1 | F17: =+C17*D17/E17 -> 94400
A18: Pintura esmalte | B18: GAL | C18: 87400 | D18: 1 | E18: 25 | F18: =+C18*D18/E18 -> 3496
A19: Vidrio 4 mm transparente | B19: M2 | C19: 37100 | D19: 1 | E19: 1 | F19: =+C19*D19/E19 -> 37100
A20: Silicona para vidrio | B20: UND | C20: 20500 | D20: 1 | E20: 5 | F20: =+C20*D20/E20 -> 4100
E23: SUB-TOTAL | F23: =+SUM(F16:F22) -> 142424
A24: III. MANO DE OBRA
A25: DESCRIPCIÓN | B25: UNIDAD | C25: PRECIO | D25: CANTIDAD | E25: RENDIMIENTO | F25: VALOR PARCIAL
A26: Cuadrilla 0-1-2 | B26: HORA | C26: 57900 | D26: 1 | E26: 4 | F26: =+C26*D26/E26 -> 14475
E32: SUB-TOTAL | F32: =+SUM(F26:F31) -> 14475
A33: IV. OTROS
A34: DESCRIPCIÓN | B34: UNIDAD | C34: PRECIO | D34: CANTIDAD | E34: RENDIMIENTO | F34: VALOR PARCIAL
E41: SUB-TOTAL | F41: =+SUM(F35:F40) -> 0
A44: PRECIO UNITARIO COSTO DIRECTO | F44: =+F13+F23+F32+F41 -> 157622.75

Sheet 6.2
A2: DESCRIPCION ITEM | F2: UNIDAD ITEM
A3: =PRESUPUESTO!C43 -> Puerta para baños en lamina galvanizada, con anticorrosivo y esmalte,incluye cerraduras | F3: =PRESUPUESTO!D43 -> M2
A5: I. EQUIPO
A6: DESCRIPCIÓN | B6: UNIDAD | C6: PRECIO | D6: CANTIDAD | E6: RENDIMIENTO | F6: VALOR PARCIAL
A7: Herramiento menor | B7: $ | C7: 1 | D7: 3115 | E7: 1 | F7: =+C7*D7/E7 -> 3115
E13: SUB-TOTAL | F13: =+SUM(F7:F12) -> 3115
A14: II. MATERIALES
A15: DESCRIPCIÓN | B15: UNIDAD | C15: PRECIO | D15: CANTIDAD | E15: RENDIMIENTO | F15: VALOR PARCIAL
A16: Pintura anticorrosiva | B16: GAL | C16: 83200 | D16: 1 | E16: 20 | F16: =+C16*D16/E16 -> 4160
A17: Puerta en lamina galvanizada incluye cerraduras | B17: M2 | C17: =417900-1298 -> 416602 | D17: 1 | E17: 1 | F17: =+C17*D17/E17 -> 416602
A18: Pintura esmalte | B18: GAL | C18: 87400 | D18: 1 | E18: 20 | F18: =+C18*D18/E18 -> 4370
E23: SUB-TOTAL | F23: =+SUM(F16:F22) -> 425132
A24: III. MANO DE OBRA
A25: DESCRIPCIÓN | B25: UNIDAD | C25: PRECIO | D25: CANTIDAD | E25: RENDIMIENTO | F25: VALOR PARCIAL
A26: Cuadrilla 1-0-2 | B26: HORA | C26: 62300 | D26: 1 | E26: 1 | F26: =+C26*D26/E26 -> 62300
E32: SUB-TOTAL | F32: =+SUM(F26:F31) -> 62300
A33: IV. OTROS
A34: DESCRIPCIÓN | B34: UNIDAD | C34: PRECIO | D34: CANTIDAD | E34: RENDIMIENTO | F34: VALOR PARCIAL
E41: SUB-TOTAL | F41: =+SUM(F35:F40) -> 0
A44: PRECIO UNITARIO COSTO DIRECTO | F44: =+F13+F23+F32+F41 -> 490547

Sheet 7.1
A2: DESCRIPCION ITEM | F2: UNIDAD ITEM
A3: =PRESUPUESTO!C45 -> Luminaria tipo led antipolvo 36 W. Incluye clavija y cable encauchetado de 3X14 AWG | F3: =PRESUPUESTO!D45 -> UND
A5: I. EQUIPO
A6: DESCRIPCIÓN | B6: UNIDAD | C6: PRECIO | D6: CANTIDAD | E6: RENDIMIENTO | F6: VALOR PARCIAL
A7: Herramiento menor | B7: $ | C7: 1 | D7: 2005 | E7: 1 | F7: =+C7*D7/E7 -> 2005
E13: SUB-TOTAL | F13: =+SUM(F7:F12) -> 2005
A14: II. MATERIALES
A15: DESCRIPCIÓN | B15: UNIDAD | C15: PRECIO | D15: CANTIDAD | E15: RENDIMIENTO | F15: VALOR PARCIAL
A16: Clavija | B16: UND | C16: 5100 | D16: 1 | E16: 1 | F16: =+C16*D16/E16 -> 5100
A17: Cable cobre encauchetado 3x14 AWG | B17: ML | C17: 7600 | D17: 1.5 | E17: 1 | F17: =+C17*D17/E17 -> 11400
A18: Luminaria tipo LED antipolvo 36 W | B18: UND | C18: 45000 | D18: 1 | E18: 1 | F18: =+C18*D18/E18 -> 45000
E23: SUB-TOTAL | F23: =+SUM(F16:F22) -> 61500
A24: III. MANO DE OBRA
A25: DESCRIPCIÓN | B25: UNIDAD | C25: PRECIO | D25: CANTIDAD | E25: RENDIMIENTO | F25: VALOR PARCIAL
A26: Cuadrilla 0-1-1 | B26: HORA | C26: 40100 | D26: 1 | E26: 1 | F26: =+C26*D26/E26 -> 40100
E32: SUB-TOTAL | F32: =+SUM(F26:F31) -> 40100
A33: IV. OTROS
A34: DESCRIPCIÓN | B34: UNIDAD | C34: PRECIO | D34: CANTIDAD | E34: RENDIMIENTO | F34: VALOR PARCIAL
E41: SUB-TOTAL | F41: =+SUM(F35:F40) -> 0
A44: PRECIO UNITARIO COSTO DIRECTO | F44: =+F13+F23+F32+F41 -> 103605

Sheet 7.2
A2: DESCRIPCION ITEM | F2: UNIDAD ITEM
A3: =PRESUPUESTO!C46 -> Salida interruptor doble 15 AMP, incluye interruptor y accesorios | F3: =PRESUPUESTO!D46 -> UND
A5: I. EQUIPO
A6: DESCRIPCIÓN | B6: UNIDAD | C6: PRECIO | D6: CANTIDAD | E6: RENDIMIENTO | F6: VALOR PARCIAL
A7: Herramiento menor | B7: $ | C7: 1 | D7: 2005 | E7: 1 | F7: =+C7*D7/E7 -> 2005
E13: SUB-TOTAL | F13: =+SUM(F7:F12) -> 2005
A14: II. MATERIALES
A15: DESCRIPCIÓN | B15: UNIDAD | C15: PRECIO | D15: CANTIDAD | E15: RENDIMIENTO | F15: VALOR PARCIAL
A16: Limpiador tubería pvc 1/128 | B16: UND | C16: 4500 | D16: 1 | E16: 7 | F16: =+C16*D16/E16 -> 642.85714
A17: Material mortero 1-3 + 5% desperdicio | B17: M3 | C17: 679480 | D17: 0.004 | E17: 1 | F17: =+C17*D17/E17 -> 2717.92
A18: Soldadura química pvc 1/128 | B18: UND | C18: 7200 | D18: 1 | E18: 7 | F18: =+C18*D18/E18 -> 1028.5714
A19: Alambre de cobre THHN No. 12 | B19: ML | C19: 2600 | D19: 13.5 | E19: 1 | F19: =+C19*D19/E19 -> 35100
A20: Caja 2x4 plastica | B20: UND | C20: 3100 | D20: 1 | E20: 1 | F20: =+C20*D20/E20 -> 3100
A21: Accesorio coduit de 1/2" | B21: UND | C21: 1600 | D21: 1 | E21: 1 | F21: =+C21*D21/E21 -> 1600
A22: Interruptor doble | B22: UND | C22: =13800-534.35 -> 13265.65 | D22: 1 | E22: 1 | F22: =+C22*D22/E22 -> 13265.65
A23: Tubería PVC conduit 1/2" | B23: ML | C23: 2600 | D23: 4.5 | E23: 1 | F23: =+C23*D23/E23 -> 11700
E24: SUB-TOTAL | F24: =+SUM(F16:F23) -> 69154.999
A25: III. MANO DE OBRA
A26: DESCRIPCIÓN | B26: UNIDAD | C26: PRECIO | D26: CANTIDAD | E26: RENDIMIENTO | F26: VALOR PARCIAL
A27: Cuadrilla 0-1-1 | B27: HORA | C27: 40100 | D27: 1 | E27: 1 | F27: =+C27*D27/E27 -> 40100
E33: SUB-TOTAL | F33: =+SUM(F27:F32) -> 40100
A34: IV. OTROS
A35: DESCRIPCIÓN | B35: UNIDAD | C35: PRECIO | D35: CANTIDAD | E35: RENDIMIENTO | F35: VALOR PARCIAL
E42: SUB-TOTAL | F42: =+SUM(F36:F41) -> 0
A45: PRECIO UNITARIO COSTO DIRECTO | F45: =+F13+F24+F33+F42 -> 111260
