Workbook
Name _Toc140149825_1: [1]JURIDICA!#REF!
Name _Toc140149825_1: [2]JURIDICA!#REF!
Name _Toc140149825_1: [3]JURIDICA!#REF!
Name _Toc140149825_1: [3]JURIDICA!#REF!
Name _Toc140149825_1: [2]JURIDICA!#REF!
Name _Toc140149825_59: #REF!
Name _Toc142149825_60: #REF!
Name A: [4]JURIDICA!#REF!
Name ADMINISTRATIVA: #REF!
Name ADMINISTRATIVA.: #REF!
Name AMOR: [1]JURIDICA!#REF!
Name AMOR: [2]JURIDICA!#REF!
Name AMOR: [3]JURIDICA!#REF!
Name AMOR: [3]JURIDICA!#REF!
Name AMOR: [2]JURIDICA!#REF!
Name ANÁLISIS: #REF!
Name ANIMAL: #REF!
Name B: #REF!
Name bg: #REF!
Name check: [5]Listas!$R$2:$R$3
Name CiudadesEntrega: [5]Listas!$S$2:$S$1122
Name cvehiculo: [6]!Tabla3[CLASE DE VEHICULO]
Name DeduFran: [5]Listas!$H$2:$H$4
Name ESTADO: [7]!Tabla1[Columna2]
Name ESTADO_VEHICULO: [8]Hoja4!$K$2:$K$4
Name estadof: [9]Hoja4!$B$2:$B$15
Name estadof: [10]Hoja4!$B$2:$B$15
Name estadof: [11]Hoja4!$B$2:$B$15
Name estadof: [11]Hoja4!$B$2:$B$15
Name estadof: [10]Hoja4!$B$2:$B$15
Name FFFFFFF: #REF!
Name g: [1]JURIDICA!#REF!
Name g: [2]JURIDICA!#REF!
Name g: [2]JURIDICA!#REF!
Name GENERAL: [1]JURIDICA!#REF!
Name GENERAL: [2]JURIDICA!#REF!
Name GENERAL: [2]JURIDICA!#REF!
Name GG: [1]JURIDICA!#REF!
Name GG: [2]JURIDICA!#REF!
Name GG: [3]JURIDICA!#REF!
Name GG: [3]JURIDICA!#REF!
Name GG: [2]JURIDICA!#REF!
Name GGGGGG: #REF!
Name Grupo: [5]Listas!$B$2:$B$3
Name Grupo: [12]Listas!$B$2:$B$3
Name opcion2: '[13]CUADRO RESUMEN'!$L$21
Name opcion2: '[14]CUADRO RESUMEN'!$L$21
Name opcion2: '[15]CUADRO RESUMEN'!$L$21
Name opcion2: '[15]CUADRO RESUMEN'!$L$21
Name opcion2: '[14]CUADRO RESUMEN'!$L$21
Name opcion3: '[13]CUADRO RESUMEN'!$L$22
Name opcion3: '[14]CUADRO RESUMEN'!$L$22
Name opcion3: '[15]CUADRO RESUMEN'!$L$22
Name opcion3: '[15]CUADRO RESUMEN'!$L$22
Name opcion3: '[14]CUADRO RESUMEN'!$L$22
Name opcion4: '[13]CUADRO RESUMEN'!$L$23
Name opcion4: '[14]CUADRO RESUMEN'!$L$23
Name opcion4: '[15]CUADRO RESUMEN'!$L$23
Name opcion4: '[15]CUADRO RESUMEN'!$L$23
Name opcion4: '[14]CUADRO RESUMEN'!$L$23

Sheet ESTUDIO DE MERCADO
B2: SERVICIO GEOLÓGICO COLOMBIANO
B3: ESTUDIO DE MERCADO
B4: PROCESO DE CONTRATACIÓN DRONES - AUTOS - SOAT - RC SERVIDORES PUBLICOS 2026-2027
I6: PRESUPUESTO DISPONIBLE POR LA ENTIDAD | K6: 490253400
B7: VIGENCIAS PROYECTADAS | C7: GRUPO 1 - DRONES | D7: GRUPO 2 - AUTOS | F7: GRUPO 3 - RCSP | G7: GRUPO 4 | I7: PRESUPUESTO PROYECTADO DRONES | K7: =+K17 -> 148263283
B8: VIGENCIA DESDE 00:00 HORAS | C8: 46356 | D8: 46356 | F8: 46356 | G8: SEGÚN VENCIMIENTO | I8: PRESUPUESTO PROYECTADO AUTOS | K8: =+K23 -> 130169124
B9: VIGENCIA HASTA 00:00 HORAS | C9: =+C8+C10 -> 46529 | D9: =+D8+D10 -> 46721 | F9: =+F8+F10 -> 46721 | G9: UN AÑO | I9: PRESUPUESTO PROYECTADO RCSP | K9: =+K29 -> 188276124
B10: DIAS DE COBERTURA PROYECTADOS | C10: 173 | D10: 365 | F10: 365 | G10: 365 | I10: PRESUPUESTO PROYECTADO SOAT | K10: =+J35 -> 22951700
I11: TOTAL CONTRATACION | K11: =SUM(K7:K10) -> 489660231
B13: GRUPO 1 | F13: PRIMA ANUAL | I13: PRIMA PERIODO PROYECTADO
B14: RAMO | C14: VALOR ASEGURADO | D14: TASA ANUAL ESTUDIO MERCADO | F14: PRIMA NETA ANUAL | G14: IVA 19% | H14: TOTAL PRIMA ANUAL | I14: PRIMA NETA PROYECTADA | J14: IVA 19% | K14: TOTAL PROYECCIÓN
B15: AERONAVES NO TRIPULADAS - RCE | C15: =DRONES!G7 -> 7.1434372e+10 | D15: ='TASAS PROMEDIO'!J8 -> 0.10576667 | E15: % | F15: =ROUND((C15*D15/100),0) -> 75553754 | G15: =ROUND((F15*19%),0) -> 14355213 | H15: =F15+G15 -> 89908967 | I15: =+F15/365*$C$10 -> 35810409 | J15: =+I15*19% -> 6803977.8 | K15: 42614388
B16: AERONAVES NO TRIPULADAS - DRONES | C16: =+DRONES!C13 -> 857726486 | D16: =+'TASAS PROMEDIO'!J11 -> 21.838155 | E16: % | F16: =ROUND((C16*D16/100),0) -> 187311636 | G16: =ROUND((F16*19%),0) -> 35589211 | H16: =F16+G16 -> 222900847 | I16: =+F16/365*$C$10 -> 88780584 | J16: =+I16*19% -> 16868311 | K16: 105648895
B17: TOTAL GRUPO 1 | H17: =+H15+H16 -> 312809814 | I17: =SUM(I15:I16) -> 1.2459099e+08 | J17: =SUM(J15:J16) -> 23672289 | K17: =SUM(K15:K16) -> 148263283
B20: GRUPO 2 | F20: PRIMA ANUAL | I20: PRIMA PERIODO PROYECTADO
B21: RAMO | C21: VALOR ASEGURADO | D21: TASA ANUAL ESTUDIO MERCADO | F21: PRIMA NETA ANUAL | G21: IVA 19% | H21: TOTAL PRIMA ANUAL | I21: PRIMA NETA PROYECTADA | J21: IVA 19% | K21: TOTAL PROYECCIÓN
B22: AUTOMOVILES | C22: =+'RELACION AUTOMOVILES'!S29 -> 3739430423 | D22: =+'TASAS PROMEDIO'!J19 -> 2.9252 | E22: % | F22: =ROUND((C22*D22/100),0) -> 109385819 | G22: =ROUND((F22*19%),0) -> 20783306 | H22: =F22+G22 -> 130169125 | I22: =+F22/365*$D$10 -> 109385819 | J22: =+I22*19% -> 20783306 | K22: 130169124
B23: TOTAL GRUPO 2 | H23: =SUM(H22) -> 130169125 | I23: =SUM(I22:I22) -> 109385819 | J23: =SUM(J22:J22) -> 20783306 | K23: =SUM(K22:K22) -> 130169124
B26: GRUPO 3 | F26: PRIMA ANUAL | I26: PRIMA PERIODO PROYECTADO
B27: RAMO | C27: VALOR ASEGURADO | D27: TASA ANUAL ESTUDIO MERCADO | F27: PRIMA NETA ANUAL | G27: IVA 19% | H27: TOTAL PRIMA ANUAL | I27: PRIMA NETA PROYECTADA | J27: IVA 19% | K27: TOTAL PROYECCIÓN
B28: RESPONSABILIDAD CIVIL SERVIDORES PUBLICOS | C28: =+'TASAS PROMEDIO'!E24 -> 6000000002 | D28: =+'TASAS PROMEDIO'!J24 -> 2.6369205 | E28: % | F28: =ROUND((C28*D28/100),0) -> 158215231 | G28: =ROUND((F28*19%),0) -> 30060894 | H28: =F28+G28 -> 188276125 | I28: =+F28/365*$F$10 -> 158215231 | J28: =+I28*19% -> 30060894 | K28: 188276124
B29: TOTAL GRUPO 3 | H29: =SUM(H28) -> 188276125 | I29: =SUM(I28:I28) -> 158215231 | J29: =SUM(J28:J28) -> 30060894 | K29: =SUM(K28:K28) -> 188276124
B32: GRUPO 4 | F32: PRIMA ANUAL | I32: PRIMA PERIODO PROYECTADO
B33: RAMO | C33: VALOR ASEGURADO | D33: TASA ANUAL ESTUDIO MERCADO | F33: TOTAL PRIMA ANUAL | I33: TOTAL PRIMA ANUAL
B34: SEGURO OBLIGATORIO DE ACCIDENTES DE TRANSITO - SOAT 22 PLACAS | C34: SEGÚN LEY | G34: =+'RELACION SOAT'!R28 -> 22951700 | J34: =+G34 -> 22951700
B35: TOTAL GRUPO 4 | G35: =+G34 -> 22951700 | J35: =+G35 -> 22951700

Sheet ESTUDIO DE MERCADO INDIVIDUAL
C2: SERVICIO GEOLÓGICO COLOMBIANO
C3: ESTUDIO DE MERCADO
C4: TIPO DE PROCESO: SELECCIÓN ABREVIADA MENOR CUANTIA
H6: 2447901008
B8: VIGENCIAS PROYECTADAS
B9: VIGENCIA DESDE 00:00 HORAS | C9: Por definir | E9: PRESUPUESTO TOTAL ANUAL PROYECTADO PARA CONTRATACION | H9: =H20+H26+H32+H38+H44 -> 312809816
B10: VIGENCIA HASTA 00:00 HORAS | C10: Por definir
B11: DIAS DE COBERTURA PROYECTADOS | C11: 365
B16: =+[17]DRONES!B8 -> DRONE-QUANTUM F90+ TRINITY | F16: PRIMA ANUAL
B17: RAMO | C17: VALOR ASEGURADO | D17: TASA ANUAL ESTUDIO MERCADO | F17: PRIMA NETA ANUAL | G17: IVA 19% | H17: TOTAL PRIMA ANUAL
B18: AERONAVES NO TRIPULADAS - RCE | C18: =DRONES!$F$7 -> 1.4286874e+10 | D18: =+'TASAS PROMEDIO'!J8 -> 0.10576667 | E18: % | F18: =ROUND((C18*D18/100),0) -> 15110751 | G18: =ROUND((F18*19%),0) -> 2871043 | H18: =F18+G18 -> 17981794
B19: AERONAVES NO TRIPULADAS - DRONES | C19: =+DRONES!C7 -> 130900000 | D19: =+'TASAS PROMEDIO'!$J$11 -> 21.838155 | E19: % | F19: =ROUND((C19*D19/100),0) -> 28586144 | G19: =ROUND((F19*19%),0) -> 5431367 | H19: =F19+G19 -> 34017511
B20: TOTAL | H20: =+H18+H19 -> 51999305
B22: =+[17]DRONES!B9 -> DRONE-QUANTUM F90+ TRINITY | F22: PRIMA ANUAL
B23: RAMO | C23: VALOR ASEGURADO | D23: TASA ANUAL ESTUDIO MERCADO | F23: PRIMA NETA ANUAL | G23: IVA 19% | H23: TOTAL PRIMA ANUAL
B24: AERONAVES NO TRIPULADAS - RCE | C24: =DRONES!$F$7 -> 1.4286874e+10 | D24: =+'TASAS PROMEDIO'!$J$8 -> 0.10576667 | E24: % | F24: =ROUND((C24*D24/100),0) -> 15110751 | G24: =ROUND((F24*19%),0) -> 2871043 | H24: =F24+G24 -> 17981794
B25: AERONAVES NO TRIPULADAS - DRONES | C25: =+DRONES!C8 -> 134711928 | D25: =+'TASAS PROMEDIO'!$J$11 -> 21.838155 | E25: % | F25: =ROUND((C25*D25/100),0) -> 29418599 | G25: =ROUND((F25*19%),0) -> 5589534 | H25: =F25+G25 -> 35008133
B26: TOTAL | H26: =+H24+H25 -> 52989927
B28: =+[17]DRONES!B10 -> DRONE DJI M300 RTK | F28: PRIMA ANUAL
B29: RAMO | C29: VALOR ASEGURADO | D29: TASA ANUAL ESTUDIO MERCADO | F29: PRIMA NETA ANUAL | G29: IVA 19% | H29: TOTAL PRIMA ANUAL
B30: AERONAVES NO TRIPULADAS - RCE | C30: =DRONES!$F$7 -> 1.4286874e+10 | D30: =+'TASAS PROMEDIO'!$J$8 -> 0.10576667 | E30: % | F30: =ROUND((C30*D30/100),0) -> 15110751 | G30: =ROUND((F30*19%),0) -> 2871043 | H30: =F30+G30 -> 17981794
B31: AERONAVES NO TRIPULADAS - DRONES | C31: =+DRONES!C9 -> 293058479 | D31: =+'TASAS PROMEDIO'!$J$11 -> 21.838155 | E31: % | F31: =ROUND((C31*D31/100),0) -> 63998564 | G31: =ROUND((F31*19%),0) -> 12159727 | H31: =F31+G31 -> 76158291
B32: TOTAL | H32: =+H30+H31 -> 94140085
B34: =+[17]DRONES!B11 -> DRONE DJI MAVIC AIR 2 | F34: PRIMA ANUAL
B35: RAMO | C35: VALOR ASEGURADO | D35: TASA ANUAL ESTUDIO MERCADO | F35: PRIMA NETA ANUAL | G35: IVA 19% | H35: TOTAL PRIMA ANUAL
B36: AERONAVES NO TRIPULADAS - RCE | C36: =DRONES!$F$7 -> 1.4286874e+10 | D36: =+'TASAS PROMEDIO'!$J$8 -> 0.10576667 | E36: % | F36: =ROUND((C36*D36/100),0) -> 15110751 | G36: =ROUND((F36*19%),0) -> 2871043 | H36: =F36+G36 -> 17981794
B37: AERONAVES NO TRIPULADAS - DRONES | C37: =+DRONES!C10 -> 5997600 | D37: =+'TASAS PROMEDIO'!$J$11 -> 21.838155 | E37: % | F37: =ROUND((C37*D37/100),0) -> 1309765 | G37: =ROUND((F37*19%),0) -> 248855 | H37: =F37+G37 -> 1558620
B38: TOTAL | H38: =+H36+H37 -> 19540414
B40: =+[17]DRONES!B12 -> DRON DJI M300RTK | F40: PRIMA ANUAL
B41: RAMO | C41: VALOR ASEGURADO | D41: TASA ANUAL ESTUDIO MERCADO | F41: PRIMA NETA ANUAL | G41: IVA 19% | H41: TOTAL PRIMA ANUAL
B42: AERONAVES NO TRIPULADAS - RCE | C42: =DRONES!$F$7 -> 1.4286874e+10 | D42: =+'TASAS PROMEDIO'!$J$8 -> 0.10576667 | E42: % | F42: =ROUND((C42*D42/100),0) -> 15110751 | G42: =ROUND((F42*19%),0) -> 2871043 | H42: =F42+G42 -> 17981794
B43: AERONAVES NO TRIPULADAS - DRONES | C43: =+DRONES!C11 -> 293058479 | D43: =+'TASAS PROMEDIO'!$J$11 -> 21.838155 | E43: % | F43: =ROUND((C43*D43/100),0) -> 63998564 | G43: =ROUND((F43*19%),0) -> 12159727 | H43: =F43+G43 -> 76158291
B44: TOTAL | H44: =+H42+H43 -> 94140085

Sheet TASAS PROMEDIO
C1: SERVICIO GEOLÓGICO COLOMBIANO
C2: TIPO DE CONTRATACION
C3: DETERMINACIÓN TASAS PROMEDIOS
B6: RAMO | C6: ENTIDAD | D6: PROCESO DE CONTRATACION | E6: LIMITE ASEGURADO | F6: TASAS | G6: AMPARO | H6: PROMEDIO TASA MERCADO | I6: AJUSTE POR SINIESTRALIDAD | J6: TASA PROMEDIO PARA ESTUDIO
B8: AERONAVES NO TRIPULADAS - DRONES | C8: SERVICIO GEOLOGICO COLOMBIANO | D8: SGMC-MC-010-2025 | E8: 18000000000 | F8: 0.11 | G8: RCE | H8: =AVERAGE(F8:F10) -> 0.10576667 | I8: 0 | J8: =H8+I8 -> 0.10576667
C9: GOBERNACION DE CUNDINAMARCA | D9: SGCC-MC-SE-911-2025 | E9: 13735029315 | F9: 0.1173
C10: IGAC SEDE CENTRAL | D10: SAMC-08-2025-SC | E10: 564917408 | F10: 0.09
C11: SANTIAGO DE CALI DISTRITO ESPECIAL 22 DRONES | D11: 4181.010.26.1.364.-2026 | E11: 564917408 | F11: 13.63 | G11: CASCO | H11: =AVERAGE(F11:F18) -> 20.798243 | I11: 0.05 | J11: =H11+I12 -> 21.838155
C12: SANTIAGO DE CALI DISTRITO ESPECIAL 22 DRONES | F12: 16.79 | I12: =H11*I11 -> 1.0399121
C13: UNIDAD DE BUSQUEDA DE PERSONAS DESAPARECIDAS -UBPD - 12 DRONES - OFERTA 1 | D13: UBPD-SAMC-001-2025 | E13: 1201680372 | F13: 20
C14: UAE CUERPO OFICIAL DE BOMBEROS DE BOGOTA 13 DRONES | D14: UAECOB-SAMC-001-2025 | E14: 706117360 | F14: 18.53
C15: UAE CATASTRO DISTRITAL - CASCO DRONES (SURA) | D15: UAECD-SAMC-006-2025 | E15: 506565660 | F15: 31.36394
C16: AGENCIA NACIONAL DEL ESPECTRO - CASCO DRONES | D16: LP-89-2025 | E16: 721279200 | F16: 21.82
C17: IGAC SEDE CENTRAL - 14 DRONES - OFERTA 1 CASCO DRONES | D17: SAMC-08-2025-SC | E17: 564917408 | F17: 19.8
C18: UNIDAD PARA LA ATENCIÓN Y LA REPARACIÓN INTEGRAL A LAS VÍCTIMAS – FONDO PARA LA REPARACIÓN DE LAS VICTIMAS (FRV) | D18: UARIV-FRV-IP-2025-008 | E18: 338721423 | F18: 24.452
B19: AUTOMOVILES | C19: SERVICIO GEOLÓGICO COLOMBIANO | D19: SGC-SAMC-001-2025 | E19: 974400000 | F19: 2.903 | G19: AUTOMOVILES | H19: =AVERAGE(F19:F23) -> 2.9252 | I19: 0 | J19: =+H19+I20 -> 2.9252
C20: ALCALDIA MAYOR DE CARTAGENA DE INDIAS OFERTA 1 | D20: LP-DAAL-2025 | E20: 9571820802 | F20: 2.9 | I20: =H19*I19 -> 0
C21: AUDITORIA GENERAL DE LA REPUBLICA (OFERTA 1) | D21: CSAMC-3-2025 | E21: 979858000 | F21: 3
C22: CORPORACIÓN SOCIAL DE CUNDINAMARCA (OFERTA 2) | D22: LP-CSC-002-2025 | E22: 733853597 | F22: 2.963
C23: AUDITORIA GENERAL DE LA REPUBLICA (OFERTA 2) | D23: CSAMC-3-2025 | E23: 979858000 | F23: 2.86
B24: RESPONSABILIDAD CIVIL SERVIDORES PUBLICOS | C24: SERVICIO GEOLÓGICO COLOMBIANO | D24: SGC-SAMC-001-2025 | E24: 6000000002 | F24: 2.455234 | G24: RCSP | H24: =AVERAGE(F24:F27) -> 2.560117 | I24: 0.03 | J24: =+H24+I25 -> 2.6369205
C25: UNIDAD NACIONAL DE LA GESTIÓN DEL RIESGO DE DESASTRES | D25: UNGRD-LP-001-2025 | E25: 5600000001 | F25: 2.455234 | I25: =H24*I24 -> 0.07680351
C26: AGENCIA DE DESARROLLO RURAL OFERTA 1 | D26: SAMC-01-2026 | E26: 6600000001 | F26: 2.65
C27: AUDITORIA GENERAL DE LA REPUBLICA (OFERTA 1) | D27: CSAMC-3-2025 | E27: 2500000001 | F27: 2.68

Sheet DRONES
B2: SERVICIO GEOLÓGICO COLOMBIANO
B3: CONTRATACION SEGURO DE AERONAVES NO TRIPULADAS - DRONES
E5: VALOR ASEGURADO RC
B6: DESCRIPCION | C6: VALOR CASCO | D6: GRAMO ORO | E6: VALOR GR. ORO 04SEP26 | F6: VALOR ASEGURADO RCE POR DRON | G6: TOTAL VALOR ASEGURADO POR 5 DRONES
B7: DRONE-QUANTUM F90+ TRINITY | C7: 130900000 | D7: 33333 | E7: 428610.52 | F7: =E7*D7 -> 1.4286874e+10 | G7: =F7*5 -> 7.1434372e+10
B8: DRONE-QUANTUM F90+ TRINITY | C8: 134711928
B9: DRONE DJI M300 RTK | C9: 293058479
B10: DRONE DJI MAVIC AIR 2 | C10: 5997600
B11: DRON DJI M300RTK | C11: 293058479
B13: TOTAL VALOR ASEGURADO | C13: =SUM(C7:C11) -> 857726486
B17: CÓDIGO DE COMERCIO | F17: https://www.banrep.gov.co/es/banco/otros-servicios/compra-venta-metales-preciosos

Sheet RELACION AUTOMOVILES
B2: SERVICIO GEOLOGICO COLOMBIANO
B3: RELACIÓN DE VEHICULOS SEGURO DE AUTOMOVILES
B5: LOTE 1
B6: PLACA | C6: CLASE DE VEHICULO (DESPLEGABLE) | D6: MARCA (DESPLEGABLE) | E6: LINEA | F6: MODELO | G6: CILINDRAJE | H6: TONELADAS | I6: PASAJ. | J6: No. MOTOR | K6: No. CHASIS | L6: VIN | M6: TIPO DE COMBUSTIBLE (DESPLEGABLE) | N6: CARROCERIA TIPO (DESPLEGABLE) | O6: SERVICIO (DESPLEGABLE) | P6: CODIGO FASECOLDA | Q6: VALOR ASEGURADO | R6: ACCESORIOS | S6: TOTAL VALOR ASEGURADO 2026
B7: LIT010 | C7: camperos o camionetas | D7: TOYOTA | E7: HILUX | F7: 2023 | G7: 3596 | H7: 534 | I7: 5 | J7: 1GRH354904 | K7: 8AJBU3CD8P0091461 | L7: 8AJBU3CD8P0091461 | M7: GASOLINA | N7: DOBLE CABINA | O7: OFICIAL | P7: 09021087 | Q7: 227600000 | R7: 4310000 | S7: =+Q7+R7 -> 231910000
B8: LIT011 | C8: camperos o camionetas | D8: TOYOTA | E8: HILUX | F8: 2023 | G8: 3956 | H8: 534 | I8: 5 | J8: 1GRH350791 | K8: 8AJBU3CD9P0091386 | L8: 8AJBU3CD9P0091386 | M8: GASOLINA | N8: DOBLE CABINA | O8: OFICIAL | P8: 09021087 | Q8: 227600000 | R8: 4310000 | S8: =+Q8+R8 -> 231910000
B9: LIT012 | C9: camperos o camionetas | D9: TOYOTA | E9: HILUX | F9: 2023 | G9: 3956 | H9: 534 | I9: 5 | J9: 1GRH360524 | K9: 8AJBU3CD8P0091539 | L9: 8AJBU3CD8P0091539 | M9: GASOLINA | N9: DOBLE CABINA | O9: OFICIAL | P9: 09021087 | Q9: 227600000 | R9: 4310000 | S9: =+Q9+R9 -> 231910000
B10: LIT033 | C10: camperos o camionetas | D10: TOYOTA | E10: HILUX | F10: 2023 | G10: 3956 | H10: 534 | I10: 5 | J10: 1GRH358258 | K10: 8AJBU3CD1P0091611 | L10: 8AJBU3CD1P0091611 | M10: GASOLINA | N10: DOBLE CABINA | O10: OFICIAL | P10: 09021087 | Q10: 227600000 | R10: 4310000 | S10: =+Q10+R10 -> 231910000
B11: LIT143 | C11: camperos o camionetas | D11: TOYOTA | E11: HILUX | F11: 2023 | G11: 2694 | H11: 900 | I11: 5 | J11: 2TRB058565 | K11: 8AJKX3CD5P2014719 | L11: 8AJKX3CD5P2014719 | M11: GASOLINA | N11: DOBLE CABINA | O11: OFICIAL | P11: 09042068 | Q11: 178000000 | R11: 5352864 | S11: =+Q11+R11 -> 183352864
B12: LIT144 | C12: camperos o camionetas | D12: TOYOTA | E12: HILUX | F12: 2023 | G12: 3956 | H12: 534 | I12: 5 | J12: 2TRB078816 | K12: 8AJKX3CD5P2014770 | L12: 8AJKX3CD5P2014770 | M12: GASOLINA | N12: DOBLE CABINA | O12: OFICIAL | P12: 09042068 | Q12: 178000000 | R12: 5352864 | S12: =+Q12+R12 -> 183352864
B13: LIT145 | C13: camperos o camionetas | D13: TOYOTA | E13: HILUX | F13: 2023 | G13: 2694 | H13: 900 | I13: 5 | J13: 2TRB087575 | K13: 8AJKX3CD8P2014844 | L13: 8AJKX3CD8P2014844 | M13: GASOLINA | N13: DOBLE CABINA | O13: OFICIAL | P13: 09042068 | Q13: 178000000 | R13: 5352864 | S13: =+Q13+R13 -> 183352864
B14: LIT146 | C14: camperos o camionetas | D14: TOYOTA | E14: HILUX | F14: 2023 | G14: 2694 | H14: 900 | I14: 5 | J14: 2TRB088046 | K14: 8AJKX3CD3P2014850 | L14: 8AJKX3CD3P2014850 | M14: GASOLINA | N14: DOBLE CABINA | O14: OFICIAL | P14: 09042068 | Q14: 178000000 | R14: 5352864 | S14: =+Q14+R14 -> 183352864
B15: LIT147 | C15: camperos o camionetas | D15: TOYOTA | E15: HILUX | F15: 2023 | G15: 2694 | H15: 900 | I15: 5 | J15: 2TRB077999 | K15: 8AJKX3CD3P2014847 | L15: 8AJKX3CD3P2014847 | M15: GASOLINA | N15: DOBLE CABINA | O15: OFICIAL | P15: 09042068 | Q15: 178000000 | R15: 5352864 | S15: =+Q15+R15 -> 183352864
B16: LIT148 | C16: camperos o camionetas | D16: TOYOTA | E16: HILUX | F16: 2023 | G16: 2694 | H16: 900 | I16: 5 | J16: 2TRB080785 | K16: 8AJKX3CD4P2014887 | L16: 8AJKX3CD4P2014887 | M16: GASOLINA | N16: DOBLE CABINA | O16: OFICIAL | P16: 09042068 | Q16: 178000000 | R16: 5352864 | S16: =+Q16+R16 -> 183352864
B17: LIT149 | C17: camperos o camionetas | D17: TOYOTA | E17: HILUX | F17: 2023 | G17: 2694 | H17: 900 | I17: 5 | J17: 2TRB097331 | K17: 8AJKX3CD3P2014976 | L17: 8AJKX3CD3P2014976 | M17: GASOLINA | N17: DOBLE CABINA | O17: OFICIAL | P17: 09042068 | Q17: 178000000 | R17: 5352864 | S17: =+Q17+R17 -> 183352864
B18: OLN127 | C18: Tractocamión | D18: TOYOTA | E18: CHASIS CAB FRR 700P | F18: 2018 | G18: 5193 | H18: 5950 | I18: 3 | J18: 4HK1617690 | K18: 9GDFRR907JB016710 | L18: 9GDFRR907JB016710 | M18: GASOLINA | N18: DOBLE CABINA | O18: OFICIAL | P18: 01604084 | Q18: 187100000 | R18: 0 | S18: =+Q18+R18 -> 187100000
B19: OBI989 | C19: camperos o camionetas | D19: NISSAN | E19: NAVARRA | F19: 2013 | G19: 2488 | H19: 1000 | I19: 5 | J19: YD25482704T | K19: MNTVCUD40Z0603851 | L19: MNTVCUD40Z0603851 | M19: DIESEL | N19: DOBLE CABINA | O19: OFICIAL | P19: 06421041 | Q19: 87700000 | R19: 0 | S19: =+Q19+R19 -> 87700000
B20: ODT102 | C20: camperos o camionetas | D20: NISSAN | E20: PATHFINDER | F20: 2014 | G20: 3498 | I20: 7 | J20: VQ35476093Y | K20: 5N1AR2MM7EC620493 | L20: 5N1AR2MM7EC620493 | M20: GASOLINA | N20: WAGON | O20: OFICIAL | P20: 06408110 | Q20: 67100000 | R20: 0 | S20: =+Q20+R20 -> 67100000
B21: NPK607 | C21: VAN | D21: FOTON | E21: TOANO | F21: 2025 | G21: 2776 | I21: 16 | J21: 77644177 | K21: LVCB2NBC8SS240281 | L21: LVCB2NBC8SS240281 | M21: DIESEL | N21: CERRADA | O21: OFICIAL | P21: 18906002 | Q21: 274600000 | R21: 10220375 | S21: =+Q21+R21 -> 284820375
B22: LIT153 | C22: camperos o camionetas | D22: TOYOTA | E22: YARIS CROSS XLS HEV | F22: 2024 | G22: 1490 | H22: 475 | I22: 5 | J22: M15ABL51019 | K22: JTDKBABBXRA284980 | L22: JTDKBABBXRA284980 | M22: GASO ELEC | N22: WAGON | O22: OFICIAL | P22: 09006182 | Q22: 128800000 | R22: 0 | S22: =+Q22+R22 -> 128800000
B23: LIT154 | C23: camperos o camionetas | D23: TOYOTA | E23: YARIS CROSS XLS HEV | F23: 2024 | G23: 1490 | H23: 475 | I23: 5 | J23: M15ABM09341 | K23: JTDKBABB8RA315773 | L23: JTDKBABB8RA315773 | M23: GASO ELEC | N23: WAGON | O23: OFICIAL | P23: 09006182 | Q23: 128800000 | R23: 0 | S23: =+Q23+R23 -> 128800000
B24: LIT155 | C24: camperos o camionetas | D24: TOYOTA | E24: YARIS CROSS XLS HEV | F24: 2024 | G24: 1490 | H24: 475 | I24: 5 | J24: M15ABL40854 | K24: JTDKBABB9RA279365 | L24: JTDKBABB9RA279365 | M24: GASO ELEC | N24: WAGON | O24: OFICIAL | P24: 09006182 | Q24: 128800000 | R24: 0 | S24: =+Q24+R24 -> 128800000
B25: LIT156 | C25: camperos o camionetas | D25: TOYOTA | E25: YARIS CROSS XLS HEV | F25: 2024 | G25: 1490 | I25: 5 | J25: M15ABL74477 | K25: JTDKBABB6RA300334 | L25: JTDKBABB6RA300334 | M25: GASO ELEC | N25: WAGON | O25: OFICIAL | P25: 09006182 | Q25: 128800000 | R25: 0 | S25: =+Q25+R25 -> 128800000
B26: LIT157 | C26: camperos o camionetas | D26: TOYOTA | E26: YARIS CROSS XLS HEV | F26: 2024 | G26: 1490 | H26: 475 | I26: 5 | J26: M15ABL43805 | K26: JTDKBABB0RA281277 | L26: JTDKBABB0RA281277 | M26: GASO ELEC | N26: WAGON | O26: OFICIAL | P26: 09006182 | Q26: 128800000 | R26: 0 | S26: =+Q26+R26 -> 128800000
B27: LIT158 | C27: camperos o camionetas | D27: TOYOTA | E27: YARIS CROSS XLS HEV | F27: 2024 | G27: 1490 | I27: 5 | J27: M15ABL82198 | K27: JTDKBABB8RA301551 | L27: JTDKBABB8RA301551 | M27: GASO ELEC | N27: WAGON | O27: OFICIAL | P27: 09006182 | Q27: 128800000 | R27: 0 | S27: =+Q27+R27 -> 128800000
B28: LIT159 | C28: camperos o camionetas | D28: TOYOTA | E28: YARIS CROSS XLS HEV | F28: 2024 | G28: 1490 | I28: 5 | J28: M15ABL86695 | K28: JTDKBABB7RA303582 | L28: JTDKBABB7RA303582 | M28: GASO ELEC | N28: WAGON | O28: OFICIAL | P28: 09006182 | Q28: 128800000 | R28: 0 | S28: =+Q28+R28 -> 128800000
B29: TOTAL VALOR ASEGURADO | S29: =SUM(S7:S28) -> 3739430423
B31: Valor actualizado según pagina fasecolda https://www.fasecolda.com/guia-de-valores/ a 11 agosto 2026
B34: INCREMENTO DEL SALARIO MÍNIMO
C35: VALOR ESTABLECIDO | D35: % INCREMENTO
B36: SMMLV 2022 | C36: 1000000 | D36: 0.1
B37: SMMLV 2023 | C37: 1160000 | D37: 0.16
B38: SMMLV 2024 | C38: 1300000 | D38: 0.12
B39: SMMLV 2025 | C39: 1423500 | D39: 0.0954
B40: SMMLV 2026 | C40: 1750905 | D40: 0.23
B41: PROMEDIO DE INCREMENTO SMMLV | D41: =AVERAGE(D36:D40) -> 0.14108
B43: https://uba.banrep.gov.co/htmlcommons/SeriesHistoricas/precios-inflacion.html
B45: INFLACIÓN EN 2026
B46: 46053 | C46: 5.35
B47: 46081 | C47: 5.29
...

Sheet RELACION SOAT
C2: SERVICIO GEOLOGICO COLOMBIANO
C3: RELACIÓN DE VEHICULOS SEGURO OBLIGATORIO DE ACCIDENTES DE TRANSITO SOAT
B5: FECHA VENCIMIENTO SOAT ACTUAL a las 24 hrs DD / MM / AAAA | C5: PLACA | D5: CLASE DE VEHICULO (DESPLEGABLE) | E5: MARCA (DESPLEGABLE) | F5: LINEA | G5: MODELO | H5: CILINDRAJE | I5: TONELADAS | J5: PASAJ. | K5: No. MOTOR | L5: No. CHASIS | M5: VIN | N5: TIPO DE COMBUSTIBLE (DESPLEGABLE) | O5: CARROCERIA TIPO (DESPLEGABLE) | P5: SERVICIO (DESPLEGABLE) | Q5: TARIFA | R5: VALOR SOAT TARIFA 2026
B6: 46581 | C6: OLN127 | D6: Tractocamión | E6: TOYOTA | F6: CHASIS CAB FRR 700P | G6: 2018 | H6: 5193 | I6: 5950 | J6: 3 | K6: 4HK1617690 | L6: 9GDFRR907JB016710 | M6: 9GDFRR907JB016710 | N6: GASOLINA | O6: DOBLE CABINA | P6: OFICIAL | Q6: 320 | R6: 1282800
B7: 46617 | C7: LIT010 | D7: camperos o camionetas | E7: TOYOTA | F7: HILUX | G7: 2023 | H7: 3596 | I7: 534 | J7: 5 | K7: 1GRH354904 | L7: 8AJBU3CD8P0091461 | M7: 8AJBU3CD8P0091461 | N7: GASOLINA | O7: DOBLE CABINA | P7: OFICIAL | Q7: 231 | R7: 1110300
B8: 46617 | C8: LIT011 | D8: camperos o camionetas | E8: TOYOTA | F8: HILUX | G8: 2023 | H8: 3956 | I8: 534 | J8: 5 | K8: 1GRH350791 | L8: 8AJBU3CD9P0091386 | M8: 8AJBU3CD9P0091386 | N8: GASOLINA | O8: DOBLE CABINA | P8: OFICIAL | Q8: 231 | R8: 1110300
B9: 46617 | C9: LIT012 | D9: camperos o camionetas | E9: TOYOTA | F9: HILUX | G9: 2023 | H9: 3956 | I9: 534 | J9: 5 | K9: 1GRH360524 | L9: 8AJBU3CD8P0091539 | M9: 8AJBU3CD8P0091539 | N9: GASOLINA | O9: DOBLE CABINA | P9: OFICIAL | Q9: 231 | R9: 1110300
B10: 46645 | C10: OBI989 | D10: camperos o camionetas | E10: NISSAN | F10: NAVARRA | G10: 2013 | H10: 2488 | I10: 1000 | J10: 5 | K10: YD25482704T | L10: MNTVCUD40Z0603851 | M10: MNTVCUD40Z0603851 | N10: DIESEL | O10: DOBLE CABINA | P10: OFICIAL | Q10: 222 | R10: 1121400
B11: 46645 | C11: ODT102 | D11: camperos o camionetas | E11: NISSAN | F11: PATHFINDER | G11: 2014 | H11: 3498 | J11: 7 | K11: VQ35476093Y | L11: 5N1AR2MM7EC620493 | M11: 5N1AR2MM7EC620493 | N11: GASOLINA | O11: WAGON | P11: OFICIAL | Q11: 232 | R11: 1274000
B12: 46673 | C12: LIT033 | D12: camperos o camionetas | E12: TOYOTA | F12: HILUX | G12: 2023 | H12: 3956 | I12: 534 | J12: 5 | K12: 1GRH358258 | L12: 8AJBU3CD1P0091611 | M12: 8AJBU3CD1P0091611 | N12: GASOLINA | O12: DOBLE CABINA | P12: OFICIAL | Q12: 231 | R12: 1110300
B13: 46728 | C13: LIT143 | D13: camperos o camionetas | E13: TOYOTA | F13: HILUX | G13: 2023 | H13: 2694 | I13: 900 | J13: 5 | K13: 2TRB058565 | L13: 8AJKX3CD5P2014719 | M13: 8AJKX3CD5P2014719 | N13: GASOLINA | O13: DOBLE CABINA | P13: OFICIAL | Q13: 231 | R13: 1110300
B14: 46728 | C14: LIT144 | D14: camperos o camionetas | E14: TOYOTA | F14: HILUX | G14: 2023 | H14: 3956 | I14: 534 | J14: 5 | K14: 2TRB078816 | L14: 8AJKX3CD5P2014770 | M14: 8AJKX3CD5P2014770 | N14: GASOLINA | O14: DOBLE CABINA | P14: OFICIAL | Q14: 231 | R14: 1110300
B15: 46728 | C15: LIT145 | D15: camperos o camionetas | E15: TOYOTA | F15: HILUX | G15: 2023 | H15: 2694 | I15: 900 | J15: 5 | K15: 2TRB087575 | L15: 8AJKX3CD8P2014844 | M15: 8AJKX3CD8P2014844 | N15: GASOLINA | O15: DOBLE CABINA | P15: OFICIAL | Q15: 231 | R15: 1110300
B16: 46728 | C16: LIT146 | D16: camperos o camionetas | E16: TOYOTA | F16: HILUX | G16: 2023 | H16: 2694 | I16: 900 | J16: 5 | K16: 2TRB088046 | L16: 8AJKX3CD3P2014850 | M16: 8AJKX3CD3P2014850 | N16: GASOLINA | O16: DOBLE CABINA | P16: OFICIAL | Q16: 231 | R16: 1110300
B17: 46728 | C17: LIT147 | D17: camperos o camionetas | E17: TOYOTA | F17: HILUX | G17: 2023 | H17: 2694 | I17: 900 | J17: 5 | K17: 2TRB077999 | L17: 8AJKX3CD3P2014847 | M17: 8AJKX3CD3P2014847 | N17: GASOLINA | O17: DOBLE CABINA | P17: OFICIAL | Q17: 231 | R17: 1110300
B18: 46728 | C18: LIT148 | D18: camperos o camionetas | E18: TOYOTA | F18: HILUX | G18: 2023 | H18: 2694 | I18: 900 | J18: 5 | K18: 2TRB080785 | L18: 8AJKX3CD4P2014887 | M18: 8AJKX3CD4P2014887 | N18: GASOLINA | O18: DOBLE CABINA | P18: OFICIAL | Q18: 231 | R18: 1110300
B19: 46728 | C19: LIT149 | D19: camperos o camionetas | E19: TOYOTA | F19: HILUX | G19: 2023 | H19: 2694 | I19: 900 | J19: 5 | K19: 2TRB097331 | L19: 8AJKX3CD3P2014976 | M19: 8AJKX3CD3P2014976 | N19: GASOLINA | O19: DOBLE CABINA | P19: OFICIAL | Q19: 231 | R19: 1110300
B20: 46791 | C20: LIT153 | D20: camperos o camionetas | E20: TOYOTA | F20: YARIS CROSS XLS HEV | G20: 2024 | H20: 1490 | I20: 475 | J20: 5 | K20: M15ABL51019 | L20: JTDKBABBXRA284980 | M20: JTDKBABBXRA284980 | N20: GASO ELEC | O20: WAGON | P20: OFICIAL | Q20: 211 | R20: 792800
B21: 46791 | C21: LIT154 | D21: camperos o camionetas | E21: TOYOTA | F21: YARIS CROSS XLS HEV | G21: 2024 | H21: 1490 | I21: 475 | J21: 5 | K21: M15ABM09341 | L21: JTDKBABB8RA315773 | M21: JTDKBABB8RA315773 | N21: GASO ELEC | O21: WAGON | P21: OFICIAL | Q21: 211 | R21: 792800
B22: 46791 | C22: LIT155 | D22: camperos o camionetas | E22: TOYOTA | F22: YARIS CROSS XLS HEV | G22: 2024 | H22: 1490 | I22: 475 | J22: 5 | K22: M15ABL40854 | L22: JTDKBABB9RA279365 | M22: JTDKBABB9RA279365 | N22: GASO ELEC | O22: WAGON | P22: OFICIAL | Q22: 211 | R22: 792800
B23: 46791 | C23: LIT156 | D23: camperos o camionetas | E23: TOYOTA | F23: YARIS CROSS XLS HEV | G23: 2024 | H23: 1490 | J23: 5 | K23: M15ABL74477 | L23: JTDKBABB6RA300334 | M23: JTDKBABB6RA300334 | N23: GASO ELEC | O23: WAGON | P23: OFICIAL | Q23: 211 | R23: 792800
B24: 46791 | C24: LIT157 | D24: camperos o camionetas | E24: TOYOTA | F24: YARIS CROSS XLS HEV | G24: 2024 | H24: 1490 | I24: 475 | J24: 5 | K24: M15ABL43805 | L24: JTDKBABB0RA281277 | M24: JTDKBABB0RA281277 | N24: GASO ELEC | O24: WAGON | P24: OFICIAL | Q24: 211 | R24: 792800
B25: 46791 | C25: LIT158 | D25: camperos o camionetas | E25: TOYOTA | F25: YARIS CROSS XLS HEV | G25: 2024 | H25: 1490 | J25: 5 | K25: M15ABL82198 | L25: JTDKBABB8RA301551 | M25: JTDKBABB8RA301551 | N25: GASO ELEC | O25: WAGON | P25: OFICIAL | Q25: 211 | R25: 792800
B26: 46791 | C26: LIT159 | D26: camperos o camionetas | E26: TOYOTA | F26: YARIS CROSS XLS HEV | G26: 2024 | H26: 1490 | J26: 5 | K26: M15ABL86695 | L26: JTDKBABB7RA303582 | M26: JTDKBABB7RA303582 | N26: GASO ELEC | O26: WAGON | P26: OFICIAL | Q26: 211 | R26: 792800
B27: 46794 | C27: NPK607 | D27: VAN | E27: FOTON | F27: TOANO | G27: 2025 | H27: 2776 | J27: 16 | K27: 77644177 | L27: LVCB2NBC8SS240281 | M27: LVCB2NBC8SS240281 | N27: DIESEL | O27: CERRADA | P27: OFICIAL | Q27: 430 | R27: 1510600
R28: =SUM(R6:R27) -> 22951700
B31: INCREMENTO SOAT 2023 | D31: 0.117
B32: INCREMENTO SOAT 2024 | D32: 0.184 | E32: https://www.superfinanciera.gov.co/publicaciones/10114901/superfinanciera-actualizo-las-tarifas-maximas-del-soat/
B33: INCREMENTO SOAT 2025 | D33: -0.0868 | E33: https://www.superfinanciera.gov.co/publicaciones/10115445/tarifas-maximas-del-soat-para-2025-presentan-una-reduccion-del-868-para-gran-parte-del-parque-automotor/
B34: INCREMENTO SOAT 2026 | D34: 0.0038 | E34: https://www.superfinanciera.gov.co/publicaciones/10115953/superfinanciera-divulga-las-tarifas-maximas-del-soat-para-2026/
B35: PROMEDIO INCREMENTO | D35: =AVERAGE(D31:D34) -> 0.0545
B37: INFLACIÓN EN 2026
B38: 46053 | C38: 5.35
B39: 46081 | C39: 5.29
B40: 46112 | C40: 5.56
B41: 46142 | C41: 5.68
B42: 46173 | C42: 5.84
B43: 46203 | C43: 6.14
B44: 46234 | C44: 6.03

Sheet SINIESTRALIDAD AUTOS
A2: LA PREVISORA S.A. COMPAÑIA DE SEGUROS
A3: SINIESTROS POR ASEGURADO POR FECHA DE OCURRENCIA
A4: Desde: 01/01/2021 Hasta: 29/07/2026
A5: CONCEPTO ESTIMACION | B5: RAMO COMERCIAL | C5: RAMO TECNICO | D5: ASEGURADO | E5: NRO DOC ASEGURADO | F5: COD INTERMEDIARIO | G5: NOMBRE INTERMEDIARIO | H5: TIPO COASEGURO | I5: SINIESTRO | J5: AÑO | K5: POLIZA | L5: CIUDAD SINIESTRO | M5: INICIO DE VIGENCIA | N5: FIN DE VIGENCIA | O5: OCURRIDO | P5: AVISO | Q5: CAUSA DEL SINIESTRO | R5: RIESGO | S5: AMPARO | T5: ESTADO | U5: PAGO TOTAL | V5: RESERVA | W5: RESERVA COASEGURADORAS | X5: INCURRIDOS | Y5: OBSERVACIONES
A6: INDEMNIZACIONES | B6: AUTOMOVILES | C6: AUTOMOVILES | D6: SERVICIO GEOLOGICO COLOMBIANO , | E6: 8999992948 | F6: 946 | G6: JARGU S.A CORREDORES DE SEGUROS , | I6: 86598 | J6: 2024 | K6: 3000528 | L6: POPAYAN | M6: 11/05/2024 | N6: 22/05/2025 | O6: 25/06/2024 07:10:00 | P6: 25/06/2024 | Q6: CHOQUE SIMPLE | R6: LIT148 - HILUX [8] [2 FL] 2.7L MT 2700CC 7AB 4X4 EURO IV TOYOTA 2023 | S6: PERDIDA MENOR POR DANOS | T6: TOTALMENTE PAGADO | U6: 2413427 | V6: 0 | W6: 0 | X6: 2413427 | Y6: DECLARACIÓN: EN CALIDAD DE CONDUCTOR SE ENCONTRABA EN LA VÍA ANTES MENCIONADA, EN UN PARE IBA SALIEN
A7: INDEMNIZACIONES | B7: AUTOMOVILES | C7: AUTOMOVILES | D7: SERVICIO GEOLOGICO COLOMBIANO , | E7: 8999992948 | F7: 946 | G7: JARGU S.A CORREDORES DE SEGUROS , | I7: 89857 | J7: 2025 | K7: 1012037 | L7: BOGOTA | M7: 16/05/2025 | N7: 16/05/2026 | O7: 03/09/2025 07:40:00 | P7: 09/09/2025 | Q7: CHOQUE SIMPLE | R7: LIT155 - YARIS CROSS XLS HYBRID TP 1500CC 8AB 4X2 CT TC TOYOTA 2024 | S7: PERDIDA MENOR POR DANOS | T7: TOTALMENTE PAGADO | U7: 824484.02 | V7: 0 | W7: 0 | X7: 824484.02 | Y7: DECLARACIÓN PMD: EN EL LUGAR Y HORAS ANTES MENCIONADA HABÍA MUCHA CONJESTIÓN VEHÍCULAR, Y LAS MOTOS
A8: INDEMNIZACIONES | B8: AUTOMOVILES | C8: AUTOMOVILES | D8: SERVICIO GEOLOGICO COLOMBIANO , | E8: 8999992948 | F8: 805 | G8: DELIMA MARSH S.A. LOS CORREDORES DE SEGUROS , | I8: 82611 | J8: 2021 | K8: 1011493 | L8: BOGOTA | M8: 30/11/2021 | N8: 30/11/2022 | O8: 30/11/2021 05:40:00 | P8: 30/11/2021 | Q8: CHOQUE SIMPLE | R8: ODS806 - CRUZE PLATINUM [LT] AT 1800CC 4P CT CHEVROLET 2014 | S8: PERDIDA MENOR POR DANOS | T8: TOTALMENTE PAGADO | U8: 3206644 | V8: 0 | W8: 0 | X8: 3206644 | Y8: EN LA DIRECCIÓN ANTE MENCIONADA INDICA, QUE BAJABA POR LA CL 11 C MANIFIESTA QUE IBA HACER UN CRUCE
A9: INDEMNIZACIONES | B9: AUTOMOVILES | C9: AUTOMOVILES | D9: SERVICIO GEOLOGICO COLOMBIANO , | E9: 8999992948 | F9: 946 | G9: JARGU S.A CORREDORES DE SEGUROS , | I9: 86534 | J9: 2024 | K9: 3000528 | L9: BOGOTA | M9: 11/05/2024 | N9: 22/05/2025 | O9: 03/06/2024 10:40:00 | P9: 04/06/2024 | Q9: CHOQUE SIMPLE | R9: LIT033 - HILUX [8] [2 FL] 4.0L TP 4000CC 4X4 7AB TC R17 TOYOTA 2023 | S9: PERDIDA MENOR POR DANOS | T9: TOTALMENTE PAGADO | U9: 515279 | V9: 0 | W9: 0 | X9: 515279 | Y9: EN CALIDAD DEL ASEGURADO INDICA QUE DENTRO DE LAS INSTALACIONES DEL SERVICIO GEOLOGICO COLOMBIANO EV
A10: INDEMNIZACIONES | B10: AUTOMOVILES | C10: AUTOMOVILES | D10: SERVICIO GEOLOGICO COLOMBIANO , | E10: 8999992948 | F10: 946 | G10: JARGU S.A CORREDORES DE SEGUROS , | I10: 92248 | J10: 2026 | K10: 1012038 | L10: MANIZALES | M10: 16/05/2026 | N10: 30/11/2026 | O10: 19/06/2026 10:25:00 | P10: 19/06/2026 | Q10: CHOQUE SIMPLE | R10: LIT145 - HILUX [8] [2 FL] 2.7L MT 2700CC 7AB 4X4 EURO IV TOYOTA 2023 | S10: PERDIDA MENOR POR DANOS | T10: LIQUIDADO POR PAGAR | U10: 0 | V10: 3803190 | W10: 0 | X10: 3803190 | Y10: Declaración de los hechos: Se encontraba el carro asegurado en la dirección antes mencionada; estaba
A11: INDEMNIZACIONES | B11: AUTOMOVILES | C11: AUTOMOVILES | D11: SERVICIO GEOLOGICO COLOMBIANO , | E11: 8999992948 | F11: 946 | G11: JARGU S.A CORREDORES DE SEGUROS , | I11: 91224 | J11: 2026 | K11: 1012038 | L11: CAJAMARCA | M11: 22/05/2025 | N11: 16/05/2026 | O11: 25/02/2026 08:40:00 | P11: 25/02/2026 | Q11: CHOQUE SIMPLE | R11: LIT010 - HILUX [8] [2 FL] 4.0L TP 4000CC 4X4 7AB TC R17 TOYOTA 2023 | S11: PERDIDA MENOR POR DANOS | T11: TOTALMENTE PAGADO | U11: 1854810 | V11: 0 | W11: 0 | X11: 1854810 | Y11: Venía subiendo manejando el vehículo asegurado y la carretera se encontraba muy lisa y me arrojó al
A12: INDEMNIZACIONES | B12: AUTOMOVILES | C12: AUTOMOVILES | D12: SERVICIO GEOLOGICO COLOMBIANO , | E12: 8999992948 | F12: 946 | G12: JARGU S.A CORREDORES DE SEGUROS , | I12: 90871 | J12: 2025 | K12: 1012038 | L12: SANTAFE DE BOGOTA DC | M12: 22/05/2025 | N12: 16/05/2026 | O12: 05/12/2025 05:00:00 | P12: 22/12/2025 | Q12: CHOQUE SIMPLE | R12: LIT143 - HILUX [8] [2 FL] 2.7L MT 2700CC 7AB 4X4 EURO IV TOYOTA 2023 | S12: PERDIDA MENOR POR HURTO | T12: DEPURACION DE RESERVA | U12: 0 | V12: 0 | W12: 0 | X12: 0 | Y12: PMD Declaracion de los hechos: Se comunica el señor Daniel Felipe Segura Hernandez en calidad de
A13: INDEMNIZACIONES | B13: AUTOMOVILES | C13: AUTOMOVILES | D13: SERVICIO GEOLOGICO COLOMBIANO , | E13: 8999992948 | F13: 946 | G13: JARGU S.A CORREDORES DE SEGUROS , | I13: 86598 | J13: 2024 | K13: 3000528 | L13: POPAYAN | M13: 11/05/2024 | N13: 22/05/2025 | O13: 25/06/2024 07:10:00 | P13: 25/06/2024 | Q13: CHOQUE SIMPLE | R13: LIT148 - HILUX [8] [2 FL] 2.7L MT 2700CC 7AB 4X4 EURO IV TOYOTA 2023 | S13: RESPONSABILIDAD CIVIL EXTRAC. | T13: TOTALMENTE PAGADO | U13: 2467226 | V13: 0 | W13: 0 | X13: 2467226 | Y13: DECLARACIÓN: EN CALIDAD DE CONDUCTOR SE ENCONTRABA EN LA VÍA ANTES MENCIONADA, EN UN PARE IBA SALIEN
A14: INDEMNIZACIONES | B14: AUTOMOVILES | C14: AUTOMOVILES | D14: SERVICIO GEOLOGICO COLOMBIANO , | E14: 8999992948 | F14: 946 | G14: JARGU S.A CORREDORES DE SEGUROS , | I14: 91119 | J14: 2026 | K14: 1012038 | L14: POPAYAN | M14: 22/05/2025 | N14: 16/05/2026 | O14: 06/02/2026 01:30:00 | P14: 06/02/2026 | Q14: CHOQUE SIMPLE | R14: LIT144 - HILUX [8] [2 FL] 2.7L MT 2700CC 7AB 4X4 EURO IV TOYOTA 2023 | S14: PERDIDA MENOR POR DANOS | T14: TOTALMENTE PAGADO | U14: 1528618.8 | V14: 0 | W14: 0 | X14: 1528618.8 | Y14: PARQUEE EL VEHÍCULO EN LA DIRECCIÓN MENCIONADA PARA COMPRAR UNOS MATERIALES PARA EL SERVICIO GEOLOGI
A15: INDEMNIZACIONES | B15: AUTOMOVILES | C15: AUTOMOVILES | D15: SERVICIO GEOLOGICO COLOMBIANO , | E15: 8999992948 | F15: 946 | G15: JARGU S.A CORREDORES DE SEGUROS , | I15: 91204 | J15: 2026 | K15: 1012037 | L15: BOGOTA | M15: 16/05/2025 | N15: 16/05/2026 | O15: 20/02/2026 11:00:00 | P15: 23/02/2026 | Q15: CHOQUE SIMPLE | R15: LIT157 - YARIS CROSS XLS HYBRID TP 1500CC 8AB 4X2 CT TC TOYOTA 2024 | S15: PERDIDA MENOR POR DANOS | T15: RESERVA INICIAL | U15: 0 | V15: 250000 | W15: 0 | X15: 250000 | Y15: Declaración: Me dirigía de norte a sur por la carrera 5, iba hacia la 7, baje por la calle 42 gire h
A16: INDEMNIZACIONES | B16: AUTOMOVILES | C16: AUTOMOVILES | D16: SERVICIO GEOLOGICO COLOMBIANO , | E16: 8999992948 | F16: 946 | G16: JARGU S.A CORREDORES DE SEGUROS , | I16: 91284 | J16: 2026 | K16: 1012037 | L16: BOGOTA | M16: 16/05/2025 | N16: 16/05/2026 | O16: 11/03/2026 01:50:00 | P16: 11/03/2026 | Q16: CHOQUE SIMPLE | R16: LIT156 - YARIS CROSS XLS HYBRID TP 1500CC 8AB 4X2 CT TC TOYOTA 2024 | S16: PERDIDA MENOR POR DANOS | T16: TOTALMENTE PAGADO | U16: 11969118 | V16: 0 | W16: 0 | X16: 11969118 | Y16: El vehículo asegurado venía generando el retorno en la calle 53 cuando un vehículo tipo furgón cambi
A17: INDEMNIZACIONES | B17: AUTOMOVILES | C17: AUTOMOVILES | D17: SERVICIO GEOLOGICO COLOMBIANO , | E17: 8999992948 | F17: 946 | G17: JARGU S.A CORREDORES DE SEGUROS , | I17: 90986 | J17: 2026 | K17: 1012038 | L17: VILLAMARIA | M17: 22/05/2025 | N17: 16/05/2026 | O17: 15/01/2026 09:34:00 | P17: 16/01/2026 | Q17: CHOQUE SIMPLE | R17: LIT148 - HILUX [8] [2 FL] 2.7L MT 2700CC 7AB 4X4 EURO IV TOYOTA 2023 | S17: PERDIDA MENOR POR DANOS | T17: TOTALMENTE PAGADO | U17: 730105 | V17: 0 | W17: 0 | X17: 730105 | Y17: Declaración: en calidad de conductor del vehículo asegurado informa que se encontraba en la direcció
... A44: INDEMNIZACIONES | B44: RESPONSABILIDAD CIVIL | C44: RESPONSABILIDAD CIVIL SERVIDORES PUBLICOS | D44: SERVICIO GEOLOGICO COLOMBIANO , | E44: 8999992948 | F44: 805 | G44: DELIMA MARSH S.A. LOS CORREDORES DE SEGUROS , | I44: 29826 | J44: 2021 | K44: 1007632 | L44: BOGOTA | M44: 01/01/2021 | N44: 01/01/2022 | O44: 24/06/2021 10:00:00 | P44: 18/08/2021 | Q44: ACTOS INCORRECTOS | R44: DG 53 34 53 | S44: COSTOS Y GASTOS DE DEFENSA | T44: LIQUIDADO POR PAGAR | U44: 0 | V44: 35000000 | W44: 0 | X44: 35000000 | Y44: CASO 244222Investigado: Mario BallesterosProceso penal No 110016000010120190041500Hechos: Inte
X45: =SUBTOTAL(9,X6:X44) -> 2.1745862e+08

Sheet IND SINIESTRALIDAD AUTOS -RCSP 
B3: SERVICIO GEOLÓGICO COLOMBIANO
B4: INDICE DE SINIESTRALIDAD SEGURO DE AUTOMOVILES Y RESPONSABILIDAD CIVIL SERVIDORES PUBLICOS
B7: POLIZA Y RAMO | C7: SINIESTROS INCURRIDOS | D7: PRIMA NETA | E7: INDICE SINIESTRALIDAD
B8: Póliza 8001485212 RC Servidores Publicos | C8: 15000000 | D8: =137493125+74585312 -> 212078437 | E8: =C8/D8 -> 0.070728548
B9: Póliza 1012037 Automoviles | C9: 17323088 | D9: =28286832+'[18]CONTRATO 927-2025'!$G$58 -> 42485031 | E9: =C9/D9 -> 0.40774567
B10: Póliza 1012038 Automoviles | C10: 3803190 | D10: =71225571+'[18]CONTRATO 927-2025'!$G$57 -> 1.1087859e+08 | E10: =C10/D10 -> 0.034300491
B14: TOTAL PRIMA AUTOS | C14: =+D9+D10 -> 1.5336362e+08
B15: TOTAL SINIESTROS DOS POLIZAS | C15: =+C9+C10 -> 21126278
B16: INDICE SINIESTRALIDAD AUTOS | C16: =C15/C14 -> 0.13775286

Sheet SINIESTRALIDAD DRONES
B2: SERVICIO GEOLOGICO COLOMBIANO
B3: INFORME DE SINIESTRALIDAD ZURICH
A5: CONCEPTO ESTIMACION | B5: RAMO COMERCIAL | C5: RAMO TECNICO | D5: ASEGURADO | E5: NRO DOC ASEGURADO | F5: COD INTERMEDIARIO | G5: TIPO COASEGURO | H5: COD PTO VTA | I5: NOMBRE PTO VTA | J5: SINIESTRO | K5: AÑO | L5: POLIZA | M5: ENDOSO | N5: COMPAÑÍA ASEGURADORA | O5: ITEM | P5: SUCURSAL EMISION | Q5: DIRECCION SINIESTRO | R5: DEPARTAMENTO SINIESTRO | S5: CIUDAD SINIESTRO | T5: SUCURSAL ATENCION | U5: INICIO DE VIGENCIA | V5: FIN DE VIGENCIA | W5: OCURRIDO | X5: CAUSA DEL SINIESTRO | Y5: RIESGO | Z5: AMPARO | AA5: BIEN SINIESTRADO | AB5: MONEDA | AC5: ESTADO | AD5: VALOR RECLAMADO | AE5: DEDUCIBLE | AF5: VALOR ESTIMADO | AG5: PAGO TOTAL | AH5: FECHA DE PAGO
A6: DAÑOS CASCO | B6: VEHICULO AEREO | C6: AUTOMOVILES | D6: SERVICIO GEOLOGICO COLOMBIANO | F6: 1142 | H6: 7002 | I6: 7002 W-REGIONAL ESTATAL | J6: STRO 104569//125393 | K6: 2023 | L6: AVPL-82596186-1 | M6: 0 | N6: ZURICH COLOMBIA | O6: 1 | P6: REGIONAL ESTATAL | Q6: KM 3 VI TABIO CAJICA | R6: CUNDINAMARCA | S6: CAJICA | T6: BOGOTA | U6: 44993 | V6: 45358 | W6: 45164 | X6: CHOQUE / CAIDA | Y6: DRON Quantum System Trinity F90+//2022, Serial 1656DTYR10MBD01187B | Z6: PERDIDA TOTAL POR DANOS | AA6: CASCO | AB6: Pesos | AC6: PAGADO | AD6: 130900000 | AE6: =AD6*10% -> 13090000 | AF6: =AD6-AE6 -> 117810000 | AG6: 117810000 | AH6: 45784

Sheet INDICE DE SINIESTALIDAD DRONES
B2: SERVICIO GEOLÓGICO COLOMBIANO
B3: INDICE DE SINIESTRALIDAD SEGUROS DE DRONES
D6: PRIMA EN USD | E6: TRM AL 08/03/2023: $4,744.95 | F6: TOTAL PRIMA PAGADA | G6: SINIESTROS INCURRIDOS | H6: INDICE SINIESTRALIDAD
B7: VIGENCIA 08MAR2023 A 07MAR2024 | C7: RCE | D7: 789.36 | E7: =D7*4744.95 -> 3745473.7 | F7: =+E9+E12 -> 42041680 | G7: 117810000 | H7: =+G7/F7 -> 2.8022191
C8: CASCO | D8: 4086.58 | E8: =D8*4744.95 -> 19390618
D9: TOTAL DRON 1 | E9: =+E7+E8 -> 23136092
C10: RCE | D10: 789.36 | E10: =D10*4744.95 -> 3745473.7
C11: CASCO | D11: 3195 | E11: =D11*4744.95 -> 15160115
D12: TOTAL DRON 2 | E12: =+E10+E11 -> 18905589
D15: PRIMA EN PESOS | E15: TOTAL PRIMA PAGADA | F15: SINIESTROS INCURRIDOS | G15: INDICE SINIESTRALIDAD
B16: VIGENCIA 26/07/2025 A 18/04/2026 | C16: DRON 1 | D16: 38949545 | E16: =+D16+D17 -> 62511545 | F16: 0 | G16: =F16/E16 -> 0
C17: DRON 2 | D17: 23562000
