Workbook

Sheet ANEXO 1 - F.H. 2026
A1: ANEXO 1 - FACTOR HUMANO - VIGENCIA 2026 (1 MES)
A3: OBJETO | B3: PRESTAR LOS SERVICIOS DE VIGILANCIA Y SEGURIDAD PRIVADA FIJA Y MÓVIL, CON MEDIOS TECNOLÓGICOS Y PERSONAL UNIFORMADO CON Y SIN ARMAS, PARA LA ADECUADA PROTECCIÓN, CUSTODIA, AMPARO Y SALVAGUARDA DE LAS PERSONAS QUE LABORAN E INGRESAN A LAS INSTALACIONES Y DE LOS BIENES MUEBLES E INMUEBLES DE LA FISCALÍA GENERAL DE LA NACIÓN Y DEL FONDO ESPECIAL PARA LA ADMINISTRACIÓN DE BIENES (FEAB), EN LA REGIONAL CARIBE, CONFORMADA POR LAS SECCIONALES: I) LA GUAJIRA, II) CESAR, III) MAGDALENA, IV) ATLÁNTICO Y V) BOLÍVAR, SAN ANDRÉS Y PROVIDENCIA.
A4: VARIABLES ESTABLECIDAS POR LA SUPERINTENDENCIA DE VIGILANCIA Y SEGURIDAD PARA EL AÑO 2026 SEGÚN CIRCULAR EXTERNA Nº 202513000001105CS DEL 30 DE DICIEMBRE DE 2025
A5: SALARIO MINIMO 2026 | D5: 1750905
A6: TARIFA MINIMA SECTOR PUBLICO | D6: 10.21
A7: VALOR TARIFA MINIMA SECTOR PUBLICO | D7: =ROUND(D5*D6,0) -> 17876740
A8: VALOR PRIMA SEGURO DE VIDA | D8: 1500
A9: VALOR TARIFA MÍNIMA MAS PRIMA SEGURO DE VIDA | D9: =D7+D8 -> 17878240
A11: MODALIDAD DE MEDIO, TARIFA, PORCENTAJE ADMINISTRACION Y SUPERVISION.
A12: MODALIDAD MEDIO | B12: TARIFA | C12: PORCENTAJE A Y S | D12: VALOR A Y S | E12: TARIFA + A Y S
A13: 24 HORAS 30 DIAS AL MES MEDIO HUMANO SIN ARMA | B13: =D9 -> 17878240 | C13: 0.08 | D13: =ROUND(B13*C13,2) -> 1430259.2 | E13: =ROUND(B13+D13,2) -> 19308499
A14: 24 HORAS 30 DIAS AL MES MEDIO HUMANO CON ARMA | B14: =D9 -> 17878240 | C14: 0.1 | D14: =ROUND(B14*C14,2) -> 1787824 | E14: =ROUND(B14+D14,2) -> 19666064
A17: DIAS A TENER EN CUENTA PARA EL COBRO DE LAS TARIFAS MINIMAS EN LA PRESTACION DE LOS SERVICIOS DE VIGILANCIA Y SEGURIDAD PRIVADA PARA 2026
A18: LUNES A VIERNES SIN FESTIVOS | D18: 20
A19: LUNES A VIERNES CON FESTIVOS | D19: 22
A20: LUNES A SABADO SIN FESTIVOS | D20: 24
A21: LUNES A SABADO CON FESTIVOS | D21: 26
A22: FESTIVOS | D22: 2
A23: SABADOS Y DOMINGOS | D23: 8
A24: SABADOS, DOMINGOS Y FESTIVOS | D24: 10
A27: VARIABLE DE PROPORCIONALIDAD SOBRE EL VALOR DEL SERVICIO ESTABLECIDO PARA UN SERVICIO DE VEINTICUATRO (24) HORAS Y TREINTA (30) DÍAS AL MES Y EN LOS TÉRMINOS DE LA JORNADA LABORAL VIGENTE.
A28: JORNADA LABORAL | C28: VARIABLE DE PROPORCIONALIDAD
A29: 6:00:00 a. m. a 7:00 p.m. (Turno de 13 horas Diurnas) | C29: 0.4759
A31: 7:00 a 6:00 a.m. (Turno de 11 horas Nocturnas) | C31: 0.5241
A33: b. Tomar el valor resultante de la aplicación de la variable de proporcionalidad anteriormente establecida, dividirlo por treinta (30) días y multiplicarlo por el número de días en que se prestará el servicio, luego dividirlo por la jornada laboral y el resultado multiplicarlo por las horas requeridas del servicio.
A34: Lo anterior, corresponde a la aplicación de la siguiente fórmula matemática: (SMLMV x TARIFA DE SERVICIOS) x VARIABLE PROPORCIONALIDAD) /30) x DÍAS QUE SE REQUIERE EL SERVICIO) /JORNADA LABORAL) x HORAS REQUERIDAS DEL SERVICIO.
A37: NECESIDAD FGN ( VALORES UNITARIOS MES) | K37: VALIDACION TOTAL DE CIFRAS
A38: MODALIDAD /MEDIO | B38: JORNADA LABORAL | C38: DIAS AL MES SEGÚN CIRCULAR DE SUPERVIGILANCIA | D38: VALOR MES | E38: % ADMINISTRACION Y SUPERVISION | G38: VALOR MES ADMINISTRACION Y SUPERVISION | H38: VALOR MES INCLUIDO ADMINISTRACION Y SUPERVISION | I38: IVA | J38: VALOR MES INCLUIDO AYS E IVA | K38: CONSOLIDADO PUESTOS | L38: VALOR 2026 1 MES
A39: 24 HRS CON ARMA | B39: DOMINGO A DOMINGO | C39: 30 | D39: =B14 -> 17878240 | E39: 0.1 | G39: =ROUND(D39*E39,2) -> 1787824 | H39: =ROUND(D39+G39,2) -> 19666064 | I39: =ROUND(H39*10%*19%,2) -> 373655.22 | J39: =ROUND(H39+I39,2) -> 20039719 | K39: 98 | L39: =ROUND(K39*J39,2)*1 -> 1.9638925e+09
A40: 24 HRS CON ARMA SAN ANDRÉS SIN IVA | B40: DOMINGO A DOMINGO | C40: 30 | D40: =+B14 -> 17878240 | E40: 0.1 | G40: =ROUND(D40*E40,2) -> 1787824 | H40: =ROUND(D40+G40,2) -> 19666064 | I40: N/A | J40: =ROUND(H40,2) -> 19666064 | K40: 6 | L40: =ROUND(K40*J40,2)*1 -> 117996384
A41: 12 HRS DIURNO CON ARMA | B41: LUNES A VIERNES SIN FESTIVOS | C41: 20 | D41: =ROUND($D$9*$C$29/30*C41/13*12,0) -> 5235849 | E41: 0.1 | G41: =ROUND(D41*E41,2) -> 523584.9 | H41: =ROUND(D41+G41,2) -> 5759433.9 | I41: =ROUND(H41*10%*19%,2) -> 109429.24 | J41: =ROUND(H41+I41,2) -> 5868863.1 | K41: 17 | L41: =ROUND(K41*J41,2)*1 -> 99770673
A42: 12 HRS DIURNO CON ARMA | B42: LUNES A VIERNES CON FESTIVOS | C42: 22 | D42: =ROUND($D$9*$C$29/30*C42/13*12,0) -> 5759434 | E42: 0.1 | G42: =ROUND(D42*E42,2) -> 575943.4 | H42: =ROUND(D42+G42,2) -> 6335377.4 | I42: =ROUND(H42*10%*19%,2) -> 120372.17 | J42: =ROUND(H42+I42,2) -> 6455749.6 | K42: 2 | L42: =ROUND(K42*J42,2)*1 -> 12911499
A43: 24 HRS SIN ARMA | B43: DOMINGO A DOMINGO | C43: 30 | D43: 17878240 | E43: 0.08 | G43: =ROUND(D43*E43,2) -> 1430259.2 | H43: =ROUND(D43+G43,2) -> 19308499 | I43: =ROUND(H43*10%*19%,2) -> 366861.49 | J43: =ROUND(H43+I43,2) -> 19675361 | K43: 1 | L43: =ROUND(K43*J43,2)*1 -> 19675361
A44: 12 HRS DIURNO CON ARMA | B44: DOMINGO A DOMINGO | C44: 30 | D44: =ROUND($D$9*$C$29/30*C44/13*12,2) -> 7853773.3 | E44: 0.1 | G44: =ROUND(D44*E44,2) -> 785377.33 | H44: =ROUND(D44+G44,0) -> 8639151 | I44: =ROUND(H44*10%*19%,2) -> 164143.87 | J44: =ROUND(H44+I44,2) -> 8803294.9 | K44: 0 | L44: =ROUND(K44*J44,2)*1 -> 0
A45: 12 HRS DIURNO SIN ARMA | B45: LUNES A VIERNE SIN FESTIVOS | C45: 20 | D45: =ROUND($D$9*$C$29/30*C45/13*12,0) -> 5235849 | E45: 0.08 | G45: =ROUND(D45*E45,2) -> 418867.92 | H45: =ROUND(D45+G45,2) -> 5654716.9 | I45: =ROUND(H45*10%*19%,2) -> 107439.62 | J45: =ROUND(H45+I45,2) -> 5762156.5 | K45: 5 | L45: =ROUND(K45*J45,2)*1 -> 28810783
K46: =SUM(K39:K45) -> 129 | L46: =ROUND(SUM(L39:L45),2) -> 2.2430572e+09 | M46: Presupuesto CDP | N46: 2257622636
M47: DIFERENCIA | N47: =N46-L46 -> 14565452
A48: NECESIDAD FEAB ( VALORES UNITARIOS MES) | K48: VALIDACION TOTAL DE CIFRAS
A49: MODALIDAD /MEDIO | B49: JORNADA LABORAL | C49: DIAS AL MES SEGÚN CIRCULAR DE SUPERVIGILANCIA | D49: VALOR MES | E49: % ADMINISTRACION Y SUPERVISION | G49: VALOR MES ADMINISTRACION Y SUPERVISION | H49: VALOR MES INCLUIDO ADMINISTRACION Y SUPERVISION | I49: IVA | J49: VALOR MES INCLUIDO AYS E IVA | K49: CONSOLIDADO PUESTOS | L49: VALOR 2026 1 MES
A50: 24 HRS CON ARMA | B50: DOMINGO A DOMINGO | C50: 30 | D50: =+D9 -> 17878240 | E50: 0.1 | G50: =ROUND(D50*E50,2) -> 1787824 | H50: =ROUND(D50+G50,2) -> 19666064 | I50: =ROUND(H50*10%*19%,2) -> 373655.22 | J50: =ROUND(H50+I50,2) -> 20039719 | K50: 1 | L50: =ROUND(K50*J50,2)*1 -> 20039719
...

Sheet ANEXO 1.1 - F.H. 2027
A1: ANEXO 1.1. - FACTOR HUMANO - VIGENCIA 2027 (12 MESES)
A3: OBJETO | B3: PRESTAR LOS SERVICIOS DE VIGILANCIA Y SEGURIDAD PRIVADA FIJA Y MÓVIL, CON MEDIOS TECNOLÓGICOS Y PERSONAL UNIFORMADO CON Y SIN ARMAS, PARA LA ADECUADA PROTECCIÓN, CUSTODIA, AMPARO Y SALVAGUARDA DE LAS PERSONAS QUE LABORAN E INGRESAN A LAS INSTALACIONES Y DE LOS BIENES MUEBLES E INMUEBLES DE LA FISCALÍA GENERAL DE LA NACIÓN Y DEL FONDO ESPECIAL PARA LA ADMINISTRACIÓN DE BIENES (FEAB), EN LA REGIONAL CARIBE, CONFORMADA POR LAS SECCIONALES: I) LA GUAJIRA, II) CESAR, III) MAGDALENA, IV) ATLÁNTICO Y V) BOLÍVAR, SAN ANDRÉS Y PROVIDENCIA.
A4: VARIABLES ESTABLECIDAS POR LA SUPERINTENDENCIA DE VIGILANCIA Y SEGURIDAD PARA EL AÑO 2026 SEGÚN CIRCULAR EXTERNA Nº 202513000001105CS DEL 30 DE DICIEMBRE DE 2025
A5: SALARIO MINIMO 2026 | D5: =(1750905+(1750905*4.4%)) -> 1827944.8
A6: TARIFA MINIMA SECTOR PUBLICO | D6: 10.21 | E6: 10.38
A7: VALOR TARIFA MINIMA SECTOR PUBLICO | D7: =ROUND(D5*D6,0) -> 18663317 | E7: =ROUND(D5*E6,0) -> 18974067
A8: VALOR PRIMA SEGURO DE VIDA | D8: 1500
A9: VALOR TARIFA MÍNIMA MAS PRIMA SEGURO DE VIDA | D9: =D7+D8 -> 18664817 | E9: =E7+D8 -> 18975567
A12: MODALIDAD DE MEDIO, TARIFA, PORCENTAJE ADMINISTRACION Y SUPERVISION.
A13: MODALIDAD MEDIO | B13: TARIFA | C13: PORCENTAJE A Y S | D13: VALOR A Y S | E13: TARIFA + A Y S
A14: 24 HORAS 30 DIAS AL MES MEDIO HUMANO SIN ARMA | B14: =$D$9 -> 18664817 | C14: 0.08 | D14: =ROUND(B14*C14,2) -> 1493185.4 | E14: =ROUND(B14+D14,2) -> 20158002
A15: 24 HORAS 30 DIAS AL MES MEDIO HUMANO CON ARMA | B15: =$D$9 -> 18664817 | C15: 0.1 | D15: =ROUND(B15*C15,2) -> 1866481.7 | E15: =ROUND(B15+D15,2) -> 20531299
A18: DIAS A TENER EN CUENTA PARA EL COBRO DE LAS TARIFAS MINIMAS EN LA PRESTACION DE LOS SERVICIOS DE VIGILANCIA Y SEGURIDAD PRIVADA PARA 2024
A19: LUNES A VIERNES SIN FESTIVOS | D19: 20
A20: LUNES A VIERNES CON FESTIVOS | D20: 22
A21: LUNES A SABADO SIN FESTIVOS | D21: 24
A22: LUNES A SABADO CON FESTIVOS | D22: 26
A23: FESTIVOS | D23: 2
A24: SABADOS Y DOMINGOS | D24: 8
A25: SABADOS, DOMINGOS Y FESTIVOS | D25: 10
A28: VARIABLE DE PROPORCIONALIDAD SOBRE EL VALOR DEL SERVICIO ESTABLECIDO PARA UN SERVICIO DE VEINTICUATRO (24) HORAS Y TREINTA (30) DÍAS AL MES Y EN LOS TÉRMINOS DE LA JORNADA LABORAL VIGENTE.
A29: JORNADA LABORAL | C29: VARIABLE DE PROPORCIONALIDAD
A30: 6:00:00 a. m. a 7:00 p.m. (Turno de 13 horas Diurnas) | C30: 0.4759
A32: 7:00 a 6:00 a.m. (Turno de 11 horas Nocturnas) | C32: 0.5241
A34: b. Tomar el valor resultante de la aplicación de la variable de proporcionalidad anteriormente establecida, dividirlo por treinta (30) días y multiplicarlo por el número de días en que se prestará el servicio, luego dividirlo por la jornada laboral y el resultado multiplicarlo por las horas requeridas del servicio.
A35: Lo anterior, corresponde a la aplicación de la siguiente fórmula matemática: (SMLMV x TARIFA DE SERVICIOS) x VARIABLE PROPORCIONALIDAD) /30) x DÍAS QUE SE REQUIERE EL SERVICIO) /JORNADA LABORAL) x HORAS REQUERIDAS DEL SERVICIO.
A37: VALORES DE ENERO A JUNIO
A38: NECESIDAD DE LA ENTIDAD ( VALORES UNITARIOS MES) | K38: VALIDACION TOTAL DE CIFRAS
A39: MODALIDAD /MEDIO | B39: JORNADA LABORAL | C39: DIAS AL MES SEGÚN CIRCULAR DE SUPERVIGILANCIA | D39: VALOR MES | E39: % ADMINISTRACION Y SUPERVISION | G39: VALOR MES ADMINISTRACION Y SUPERVISION | H39: VALOR MES INCLUIDO ADMINISTRACION Y SUPERVISION | I39: IVA | J39: VALOR MES INCLUIDO AYS E IVA | K39: CONSOLIDADO PUESTOS | L39: VALOR 2027 6 MESES
A40: 24 HRS CON ARMA | B40: DOMINGO A DOMINGO | C40: 30 | D40: =+B14 -> 18664817 | E40: 0.1 | G40: =ROUND(D40*E40,2) -> 1866481.7 | H40: =ROUND(D40+G40,2) -> 20531299 | I40: =ROUND(H40*10%*19%,2) -> 390094.68 | J40: =ROUND(H40+I40,2) -> 20921393 | K40: 98 | L40: =ROUND(((K40*J40)*6),2) -> 1.2301779e+10
A41: 24 HRS CON ARMA SAN ANDRÉS SIN IVA | B41: DOMINGO A DOMINGO | C41: 30 | D41: =+B15 -> 18664817 | E41: 0.1 | G41: =ROUND(D41*E41,2) -> 1866481.7 | H41: =ROUND(D41+G41,2) -> 20531299 | I41: N/A | J41: =ROUND(H41,2) -> 20531299 | K41: 6 | L41: =ROUND(((K41*J41)*6),2) -> 7.3912675e+08
A42: 12 HRS DIURNO CON ARMA | B42: LUNES A VIERNES SIN FESTIVOS | C42: 20 | D42: =ROUND($D$9*$C$30/30*C42/13*12,2) -> 5466207 | E42: 0.1 | G42: =ROUND(D42*E42,2) -> 546620.7 | H42: =ROUND(D42+G42,2) -> 6012827.7 | I42: =ROUND(H42*10%*19%,2) -> 114243.73 | J42: =ROUND(H42+I42,2) -> 6127071.5 | K42: 17 | L42: =ROUND(((K42*J42)*6),2) -> 6.2496129e+08
A43: 12 HRS DIURNO CON ARMA | B43: LUNES A VIERNES CON FESTIVOS | C43: 22 | D43: =ROUND($D$9*$C$30/30*C43/13*12,2) -> 6012827.7 | E43: 0.1 | G43: =ROUND(D43*E43,2) -> 601282.77 | H43: =ROUND(D43+G43,2) -> 6614110.5 | I43: =ROUND(H43*10%*19%,2) -> 125668.1 | J43: =ROUND(H43+I43,2) -> 6739778.6 | K43: 2 | L43: =ROUND(((K43*J43)*6),2) -> 80877343
A44: 24 HRS SIN ARMA | B44: DOMINGO A DOMINGO | C44: 30 | D44: =+B15 -> 18664817 | E44: 0.08 | G44: =ROUND(D44*E44,2) -> 1493185.4 | H44: =ROUND(D44+G44,2) -> 20158002 | I44: =ROUND(H44*10%*19%,2) -> 383002.04 | J44: =ROUND(H44+I44,2) -> 20541004 | K44: 1 | L44: =ROUND(((K44*J44)*6),2) -> 1.2324603e+08
A45: 12 HRS DIURNO CON ARMA | B45: DOMINGO A DOMINGO | C45: 30 | D45: =ROUND($D$9*$C$30/30*C45/13*12,2) -> 8199310.5 | E45: 0.1 | G45: =ROUND(D45*E45,2) -> 819931.05 | H45: =ROUND(D45+G45,2) -> 9019241.6 | I45: =ROUND(H45*10%*19%,2) -> 171365.59 | J45: =ROUND(H45+I45,2) -> 9190607.2 | K45: 0 | L45: =ROUND(((K45*J45)*6),2) -> 0
A46: 12 HRS DIURNO SIN ARMA | B46: LUNES A VIERNE SIN FESTIVOS | C46: 20 | D46: =ROUND($D$9*$C$30/30*C46/13*12,2) -> 5466207 | E46: 0.08 | G46: =ROUND(D46*E46,2) -> 437296.56 | H46: =ROUND(D46+G46,2) -> 5903503.6 | I46: =ROUND(H46*10%*19%,2) -> 112166.57 | J46: =ROUND(H46+I46,2) -> 6015670.2 | K46: 5 | L46: =ROUND(((K46*J46)*6),2) -> 1.804701e+08
K47: =SUM(K40:K46) -> 129 | L47: =ROUND(SUM(L40:L46),2) -> 1.4050461e+10
A50: VALORES DE JULIO A DICIEMBRE
A51: NECESIDAD DE LA ENTIDAD ( VALORES UNITARIOS MES) | K51: VALIDACION TOTAL DE CIFRAS
A52: MODALIDAD /MEDIO | B52: JORNADA LABORAL | C52: DIAS AL MES SEGÚN CIRCULAR DE SUPERVIGILANCIA | D52: VALOR MES | E52: % ADMINISTRACION Y SUPERVISION | G52: VALOR MES ADMINISTRACION Y SUPERVISION | H52: VALOR MES INCLUIDO ADMINISTRACION Y SUPERVISION | I52: IVA | J52: VALOR MES INCLUIDO AYS E IVA | K52: CONSOLIDADO PUESTOS | L52: VALOR 2027 6 MESES
...

Sheet ANEXO 1,2 - F.H. 2028
A1: ANEXO 1.1. - FACTOR HUMANO - VIGENCIA 2027 (11 MESES)
A3: OBJETO | B3: PRESTAR LOS SERVICIOS DE VIGILANCIA Y SEGURIDAD PRIVADA FIJA Y MÓVIL, CON MEDIOS TECNOLÓGICOS Y PERSONAL UNIFORMADO CON Y SIN ARMAS, PARA LA ADECUADA PROTECCIÓN, CUSTODIA, AMPARO Y SALVAGUARDA DE LAS PERSONAS QUE LABORAN E INGRESAN A LAS INSTALACIONES Y DE LOS BIENES MUEBLES E INMUEBLES DE LA FISCALÍA GENERAL DE LA NACIÓN Y DEL FONDO ESPECIAL PARA LA ADMINISTRACIÓN DE BIENES (FEAB), EN LA REGIONAL CARIBE, CONFORMADA POR LAS SECCIONALES: I) LA GUAJIRA, II) CESAR, III) MAGDALENA, IV) ATLÁNTICO Y V) BOLÍVAR, SAN ANDRÉS Y PROVIDENCIA.
A4: VARIABLES ESTABLECIDAS POR LA SUPERINTENDENCIA DE VIGILANCIA Y SEGURIDAD PARA EL AÑO 2026 SEGÚN CIRCULAR EXTERNA Nº 202513000001105CS DEL 30 DE DICIEMBRE DE 2025
A5: SALARIO MINIMO 2026 | D5: =1827945+(1827945*3%) -> 1882783.4
A6: TARIFA MINIMA SECTOR PUBLICO | D6: 10.38
A7: VALOR TARIFA MINIMA SECTOR PUBLICO | D7: =ROUND(D5*D6,0) -> 19543291
A8: VALOR PRIMA SEGURO DE VIDA | D8: 1500
A9: VALOR TARIFA MÍNIMA MAS PRIMA SEGURO DE VIDA | D9: =D7+D8 -> 19544791
A12: MODALIDAD DE MEDIO, TARIFA, PORCENTAJE ADMINISTRACION Y SUPERVISION.
A13: MODALIDAD MEDIO | B13: TARIFA | C13: PORCENTAJE A Y S | D13: VALOR A Y S | E13: TARIFA + A Y S
A14: 24 HORAS 30 DIAS AL MES MEDIO HUMANO SIN ARMA | B14: =$D$9 -> 19544791 | C14: 0.08 | D14: =ROUND(B14*C14,2) -> 1563583.3 | E14: =ROUND(B14+D14,2) -> 21108374
A15: 24 HORAS 30 DIAS AL MES MEDIO HUMANO CON ARMA | B15: =$D$9 -> 19544791 | C15: 0.1 | D15: =ROUND(B15*C15,0) -> 1954479 | E15: =ROUND(B15+D15,2) -> 21499270
A18: DIAS A TENER EN CUENTA PARA EL COBRO DE LAS TARIFAS MINIMAS EN LA PRESTACION DE LOS SERVICIOS DE VIGILANCIA Y SEGURIDAD PRIVADA PARA 2024
A19: LUNES A VIERNES SIN FESTIVOS | D19: 20
A20: LUNES A VIERNES CON FESTIVOS | D20: 22
A21: LUNES A SABADO SIN FESTIVOS | D21: 24
A22: LUNES A SABADO CON FESTIVOS | D22: 26
A23: FESTIVOS | D23: 2
A24: SABADOS Y DOMINGOS | D24: 8
A25: SABADOS, DOMINGOS Y FESTIVOS | D25: 10
A28: VARIABLE DE PROPORCIONALIDAD SOBRE EL VALOR DEL SERVICIO ESTABLECIDO PARA UN SERVICIO DE VEINTICUATRO (24) HORAS Y TREINTA (30) DÍAS AL MES Y EN LOS TÉRMINOS DE LA JORNADA LABORAL VIGENTE.
A29: JORNADA LABORAL | C29: VARIABLE DE PROPORCIONALIDAD
A30: 6:00:00 a. m. a 7:00 p.m. (Turno de 13 horas Diurnas) | C30: 0.4759
A32: 7:00 a 6:00 a.m. (Turno de 11 horas Nocturnas) | C32: 0.5241
A34: b. Tomar el valor resultante de la aplicación de la variable de proporcionalidad anteriormente establecida, dividirlo por treinta (30) días y multiplicarlo por el número de días en que se prestará el servicio, luego dividirlo por la jornada laboral y el resultado multiplicarlo por las horas requeridas del servicio.
A35: Lo anterior, corresponde a la aplicación de la siguiente fórmula matemática: (SMLMV x TARIFA DE SERVICIOS) x VARIABLE PROPORCIONALIDAD) /30) x DÍAS QUE SE REQUIERE EL SERVICIO) /JORNADA LABORAL) x HORAS REQUERIDAS DEL SERVICIO.
A38: NECESIDAD DE LA ENTIDAD ( VALORES UNITARIOS MES) | K38: VALIDACION TOTAL DE CIFRAS
A39: MODALIDAD /MEDIO | B39: JORNADA LABORAL | C39: DIAS AL MES SEGÚN CIRCULAR DE SUPERVIGILANCIA | D39: VALOR MES | E39: % ADMINISTRACION Y SUPERVISION | G39: VALOR MES ADMINISTRACION Y SUPERVISION | H39: VALOR MES INCLUIDO ADMINISTRACION Y SUPERVISION | I39: IVA | J39: VALOR MES INCLUIDO AYS E IVA | K39: CONSOLIDADO PUESTOS | L39: VALOR TOTAL 2028 11 MESES
A40: 24 HRS CON ARMA | B40: DOMINGO A DOMINGO | C40: 30 | D40: =+B14 -> 19544791 | E40: 0.1 | G40: =ROUND(D40*E40,2) -> 1954479.1 | H40: =ROUND(D40+G40,2) -> 21499270 | I40: =ROUND(H40*10%*19%,2) -> 408486.13 | J40: =ROUND(H40+I40,2) -> 21907756 | K40: 98 | L40: =ROUND(((K40*J40)*11),2) -> 2.3616561e+10
A41: 24 HRS CON ARMA SAN ANDRÉS SIN IVA | B41: DOMINGO A DOMINGO | C41: 30 | D41: =+B15 -> 19544791 | E41: 0.1 | G41: =ROUND(D41*E41,2) -> 1954479.1 | H41: =ROUND(D41+G41,2) -> 21499270 | I41: N/A | J41: =ROUND(H41,2) -> 21499270 | K41: 6 | L41: =ROUND(((K41*J41)*11),2) -> 1.4189518e+09
A42: 12 HRS DIURNO CON ARMA | B42: LUNES A VIERNES SIN FESTIVOS | C42: 20 | D42: =ROUND($D$9*$C$30/30*C42/13*12,2) -> 5723917.6 | E42: 0.1 | G42: =ROUND(D42*E42,2) -> 572391.76 | H42: =ROUND(D42+G42,2) -> 6296309.3 | I42: =ROUND(H42*10%*19%,2) -> 119629.88 | J42: =ROUND(H42+I42,2) -> 6415939.2 | K42: 17 | L42: =ROUND(((K42*J42)*11),2) -> 1.1997806e+09
A43: 12 HRS DIURNO CON ARMA | B43: LUNES A VIERNES CON FESTIVOS | C43: 22 | D43: =ROUND($D$9*$C$30/30*C43/13*12,2) -> 6296309.3 | E43: 0.1 | G43: =ROUND(D43*E43,2) -> 629630.93 | H43: =ROUND(D43+G43,2) -> 6925940.2 | I43: =ROUND(H43*10%*19%,2) -> 131592.86 | J43: =ROUND(H43+I43,2) -> 7057533.1 | K43: 2 | L43: =ROUND(((K43*J43)*11),2) -> 1.5526573e+08
A44: 24 HRS SIN ARMA | B44: DOMINGO A DOMINGO | C44: 30 | D44: =+B15 -> 19544791 | E44: 0.08 | G44: =ROUND(D44*E44,2) -> 1563583.3 | H44: =ROUND(D44+G44,2) -> 21108374 | I44: =ROUND(H44*10%*19%,2) -> 401059.11 | J44: =ROUND(H44+I44,2) -> 21509433 | K44: 1 | L44: =ROUND(((K44*J44)*11),2) -> 2.3660377e+08
A45: 12 HRS DIURNO CON ARMA | B45: DOMINGO A DOMINGO | C45: 30 | D45: =ROUND($D$9*$C$30/30*C45/13*12,2) -> 8585876.3 | E45: 0.1 | G45: =ROUND(D45*E45,2) -> 858587.63 | H45: =ROUND(D45+G45,2) -> 9444464 | I45: =ROUND(H45*10%*19%,2) -> 179444.82 | J45: =ROUND(H45+I45,2) -> 9623908.8 | K45: 0 | L45: =ROUND(((K45*J45)*11),2) -> 0
A46: 12 HRS DIURNO SIN ARMA | B46: LUNES A VIERNE SIN FESTIVOS | C46: 20 | D46: =ROUND($D$9*$C$30/30*C46/13*12,2) -> 5723917.6 | E46: 0.08 | G46: =ROUND(D46*E46,2) -> 457913.4 | H46: =ROUND(D46+G46,2) -> 6181831 | I46: =ROUND(H46*10%*19%,2) -> 117454.79 | J46: =ROUND(H46+I46,2) -> 6299285.8 | K46: 5 | L46: =ROUND(((K46*J46)*11),2) -> 3.4646072e+08
K47: =SUM(K40:K46) -> 129 | L47: =ROUND(SUM(L40:L46),2) -> 2.6973624e+10
J48: TOTAL FISCALIA | L48: =L47 -> 2.6973624e+10
A49: VALORES DE ENERO A NOVIEMBRE 2028 FEAB
A50: NECESIDAD FEAB ( VALORES UNITARIOS MES) | K50: VALIDACION TOTAL DE CIFRAS
A51: MODALIDAD /MEDIO | B51: JORNADA LABORAL | C51: DIAS AL MES SEGÚN CIRCULAR DE SUPERVIGILANCIA | D51: VALOR MES | E51: % ADMINISTRACION Y SUPERVISION | G51: VALOR MES ADMINISTRACION Y SUPERVISION | H51: VALOR MES INCLUIDO ADMINISTRACION Y SUPERVISION | I51: IVA | J51: VALOR MES INCLUIDO AYS E IVA | K51: CONSOLIDADO PUESTOS | L51: VALOR 2027 11 MESES
...

Sheet COTIZACIONES MEDIOS TECNOLOGICO
A1: ANÁLISIS DE COTIZACIONES 2026 - 2028 - MEDIOS TECNOLOGICOS
B2: OBJETO | C2: PRESTAR LOS SERVICIOS DE VIGILANCIA Y SEGURIDAD PRIVADA FIJA Y MÓVIL, CON MEDIOS TECNOLÓGICOS Y PERSONAL UNIFORMADO CON Y SIN ARMAS, PARA LA ADECUADA PROTECCIÓN, CUSTODIA, AMPARO Y SALVAGUARDA DE LAS PERSONAS QUE LABORAN E INGRESAN A LAS INSTALACIONES Y DE LOS BIENES MUEBLES E INMUEBLES DE LA FISCALÍA GENERAL DE LA NACIÓN Y DEL FONDO ESPECIAL PARA LA ADMINISTRACIÓN DE BIENES (FEAB), EN LA REGIONAL CARIBE, CONFORMADA POR LAS SECCIONALES: I) LA GUAJIRA, II) CESAR, III) MAGDALENA, IV) ATLÁNTICO Y V) BOLÍVAR, SAN ANDRÉS Y PROVIDENCIA.
F5: SEGURIDAD CAMALEÓN LTDA. | R5: COMPAÑÍA DE VIGILANCIA VIASERVIN LTDA
A6: ITEM | B6: DESCRIPCION | C6: UBICACIÓN | D6: CANTIDAD | F6: COTIZACIÓN 1 | R6: COTIZACIÓN 2 | AD6: COTIZACIÓN No. 3 | AP6: ANÁLISIS DE VARIABLES | AU6: ANÁLISIS DE VARIABLES | AZ6: ANÁLISIS DE VARIABLES | BE6: VALORES TOMADOS
F7: VALORES DEFINITIVOS 2026 INCLUIDO AIU E IVA | J7: VALORES DEFINITIVOS 2027 INCLUIDO AIU E IVA | N7: VALORES DEFINITIVOS 2028 INCLUIDO AIU E IVA | R7: VALORES DEFINITIVOS 2026 INCLUIDO AIU E IVA | V7: VALORES DEFINITIVOS 2027 INCLUIDO AIU E IVA | Z7: VALORES DEFINITIVOS 2028 INCLUIDO AIU E IVA | AD7: VALORES DEFINITIVOS 2026 INCLUIDO AIU E IVA | AH7: VALORES DEFINITIVOS 2027 INCLUIDO AIU E IVA | AL7: VALORES DEFINITIVOS 2028 INCLUIDO AIU E IVA | AP7: VALOR UNITARIO CON AIU E IVA 2026 | AU7: VALOR UNITARIO CON AIU E IVA 2027 | AZ7: VALOR UNITARIO CON AIU E IVA 2028 | BE7: VALORES DEFINITIVOS 2026 INCLUIDO AIU E IVA | BI7: VALORES DEFINITIVOS 2027 INCLUIDO AIU E IVA | BM7: VALORES DEFINITIVOS 2028 INCLUIDO AIU E IVA
F8: MESES | H8: 1 | J8: MESES | L8: 12 | N8: MESES | P8: 11 | R8: MESES | T8: 1 | V8: MESES | X8: 12 | Z8: MESES | AB8: 11 | AD8: MESES | AF8: 1 | AH8: MESES | AJ8: 12 | AL8: MESES | AN8: 11 | BE8: MESES | BG8: 1 | BI8: MESES | BK8: 12 | BM8: MESES | BO8: 11
F9: SUBTOTAL UNITARIO MENSUAL INCLUIDO AIU E IVA | G9: SUBTOTAL MES POR TOTALES REQUERIDOS INCLUIDO AIU E IVA | H9: VALOR TOTAL 1 MES INCLUIDO AIU E IVA | J9: SUBTOTAL UNITARIO MENSUAL INCLUIDO AIU E IVA | K9: SUBTOTAL MES POR TOTALES REQUERIDOS INCLUIDO AIU E IVA | L9: VALOR TOTAL 12 MESES INCLUIDO AIU E IVA | N9: SUBTOTAL UNITARIO MENSUAL INCLUIDO AIU E IVA | O9: SUBTOTAL MES POR TOTALES REQUERIDOS INCLUIDO AIU E IVA | P9: VALOR TOTAL 11 MESES INCLUIDO AIU E IVA | R9: SUBTOTAL UNITARIO MENSUAL INCLUIDO AIU E IVA | S9: SUBTOTAL MES POR TOTALES REQUERIDOS INCLUIDO AIU E IVA | T9: VALOR TOTAL 1 MES INCLUIDO AIU E IVA | V9: SUBTOTAL UNITARIO MENSUAL INCLUIDO AIU E IVA | W9: SUBTOTAL MES POR TOTALES REQUERIDOS INCLUIDO AIU E IVA | X9: VALOR TOTAL 12 MESES INCLUIDO AIU E IVA | Z9: SUBTOTAL UNITARIO MENSUAL INCLUIDO AIU E IVA | AA9: SUBTOTAL MES POR TOTALES REQUERIDOS INCLUIDO AIU E IVA | AB9: VALOR TOTAL 11 MESES INCLUIDO AIU E IVA | AD9: SUBTOTAL UNITARIO MENSUAL INCLUIDO AIU E IVA | AE9: SUBTOTAL MES POR TOTALES REQUERIDOS INCLUIDO AIU E IVA | AF9: VALOR TOTAL 1 MES INCLUIDO AIU E IVA | AH9: SUBTOTAL UNITARIO MENSUAL INCLUIDO AIU E IVA | AI9: SUBTOTAL MES POR TOTALES REQUERIDOS INCLUIDO AIU E IVA | AJ9: VALOR TOTAL 12 MESES INCLUIDO AIU E IVA | AL9: SUBTOTAL UNITARIO MENSUAL INCLUIDO AIU E IVA | AM9: SUBTOTAL MES POR TOTALES REQUERIDOS INCLUIDO AIU E IVA | AN9: VALOR TOTAL 11 MESES INCLUIDO AIU E IVA | AP9: COTIZACIÓN MÁS BAJA | AQ9: COTIZACIÓN MÁS ALTA | AR9: PROMEDIO | AS9: MEDIA ARITMÉTICA BAJA | AU9: COTIZACIÓN MÁS BAJA | AV9: COTIZACIÓN MÁS ALTA | AW9: PROMEDIO | AX9: MEDIA ARITMÉTICA BAJA | AZ9: COTIZACIÓN MÁS BAJA | BA9: COTIZACIÓN MÁS ALTA | BB9: PROMEDIO | BC9: MEDIA ARITMÉTICA BAJA | BE9: SUBTOTAL UNITARIO MENSUAL INCLUIDO AIU E IVA | BF9: SUBTOTAL MES POR TOTALES REQUERIDOS INCLUIDO AIU E IVA | BG9: VALOR TOTAL 1 MES INCLUIDO AIU E IVA | BI9: SUBTOTAL UNITARIO MENSUAL INCLUIDO AIU E IVA | BJ9: SUBTOTAL MES POR TOTALES REQUERIDOS INCLUIDO AIU E IVA | BK9: VALOR TOTAL 12 MESES INCLUIDO AIU E IVA | BM9: SUBTOTAL UNITARIO MENSUAL INCLUIDO AIU E IVA | BN9: SUBTOTAL MES POR TOTALES REQUERIDOS INCLUIDO AIU E IVA | BO9: VALOR TOTAL 11 MESES INCLUIDO AIU E IVA
A10: REGIONAL CARIBE
A11: 1 | B11: MONITOR DE 43" LED FULL HD, Resolución: Full HD 1920x1080, Brillo de 400 cd/m2, Entradas HDMI, VGA, USB. Salida de audio. Capacidad de trabajo 7/24. | C11: CONFORME A LO ESPECIFICADO EN LA FICHA TECNICA | D11: 96 | F11: 142458.33 | G11: =ROUND(F11*$D11,2) -> 13676000 | H11: =ROUND(G11*$H$8,2) -> 13676000 | J11: 142458.33 | K11: =ROUND(J11*$D11,2) -> 13676000 | L11: =ROUND(K11*$L$8,2) -> 1.64112e+08 | N11: 142458.33 | O11: =ROUND(N11*$D11,2) -> 13676000 | P11: =ROUND(O11*$P$8,2) -> 1.50436e+08 | R11: 152540.07 | S11: =ROUND(R11*$D11,2) -> 14643847 | T11: =ROUND(S11*$T$8,2) -> 14643847 | V11: 162424.67 | W11: =ROUND(V11*$D11,2) -> 15592768 | X11: =ROUND(W11*$X$8,2) -> 1.8711322e+08 | Z11: 170221.05 | AA11: =ROUND(Z11*$D11,2) -> 16341221 | AB11: =ROUND(AA11*$AB$8,2) -> 1.7975343e+08 | AE11: =ROUND(AD11*$D11,2) -> 0 | AF11: =ROUND(AE11*$T$8,2) -> 0 | AI11: =ROUND(AH11*$D11,2) -> 0 | AJ11: =ROUND(AI11*$X$8,2) -> 0 | AM11: =ROUND(AL11*$D11,2) -> 0 | AN11: =ROUND(AM11*$AB$8,2) -> 0 | AP11: =ROUND(MIN(F11,R11),2) -> 142458.33 | AQ11: =ROUND(MAX(F11,R11),2) -> 152540.07 | AR11: =ROUND(AVERAGE(F11,R11),2) -> 147499.2 | AS11: =ROUND(AVERAGE(AP11,AR11),2) -> 144978.77 | AU11: =ROUND(MIN(J11,V11),2) -> 142458.33 | AV11: =ROUND(MAX(J11,V11),2) -> 162424.67 | AW11: =ROUND(AVERAGE(J11,V11),2) -> 152441.5 | AX11: =ROUND(AVERAGE(AU11,AW11),2) -> 147449.92 | AZ11: =ROUND(MIN(N11,Z11),2) -> 142458.33 | BA11: =ROUND(MAX(N11,Z11),2) -> 170221.05 | BB11: =ROUND(AVERAGE(N11,Z11),2) -> 156339.69 | BC11: =ROUND(AVERAGE(AZ11,BB11),2) -> 149399.01 | BE11: =AP11 -> 142458.33 | BF11: =ROUND(BE11*$D11,2) -> 13676000 | BG11: =ROUND(BF11*$BG$8,2) -> 13676000 | BI11: =AU11 -> 142458.33 | BJ11: =ROUND(BI11*$D11,2) -> 13676000 | BK11: =ROUND(BJ11*$BK$8,2) -> 1.64112e+08 | BM11: =AZ11 -> 142458.33 | BN11: =ROUND(BM11*$D11,2) -> 13676000 | BO11: =ROUND(BN11*$BO$8,2) -> 1.50436e+08
A12: 2 | B12: CAMARAS IP TIPO MINI DOMO Resolución (4 Megapíxeles 30 fps 2688x1520), Iluminación mínima 0.01lux B/N 0 Lux, Día/Noche Real con filtro ICR, Distancia Focal 2.8 mm/4mm, Iluminación IR 30 m, Compresión de video H264+/H265, Detección de movimiento. Protección Ip67, Puerto de red RJ45 10M/100M/1000M, PoE (Power over Ethernet) Protocolos TCP/IP, ICMP, HTTP, HTTPS, DHCP, DNS, RTP, RTSP, RTCP, NTP, IGMP, QoS, UDP. | C12: CONFORME A LO ESPECIFICADO EN LA FICHA TECNICA | D12: 494 | F12: 21119.58 | G12: =ROUND(F12*$D12,2) -> 10433073 | H12: =ROUND(G12*$H$8,2) -> 10433073 | J12: 21119.58 | K12: =ROUND(J12*$D12,2) -> 10433073 | L12: =ROUND(K12*$L$8,2) -> 1.2519687e+08 | N12: 21119.58 | O12: =ROUND(N12*$D12,2) -> 10433073 | P12: =ROUND(O12*$P$8,2) -> 1.147638e+08 | R12: 63957.37 | S12: =ROUND(R12*$D12,2) -> 31594941 | T12: =ROUND(S12*$T$8,2) -> 31594941 | V12: 68101.81 | W12: =ROUND(V12*$D12,2) -> 33642294 | X12: =ROUND(W12*$X$8,2) -> 4.0370753e+08 | Z12: 71370.7 | AA12: =ROUND(Z12*$D12,2) -> 35257126 | AB12: =ROUND(AA12*$AB$8,2) -> 3.8782838e+08 | AE12: =ROUND(AD12*$D12,2) -> 0 | AF12: =ROUND(AE12*$T$8,2) -> 0 | AI12: =ROUND(AH12*$D12,2) -> 0 | AJ12: =ROUND(AI12*$X$8,2) -> 0 | AM12: =ROUND(AL12*$D12,2) -> 0 | AN12: =ROUND(AM12*$AB$8,2) -> 0 | AP12: =ROUND(MIN(F12,R12),2) -> 21119.58 | AQ12: =ROUND(MAX(F12,R12),2) -> 63957.37 | AR12: =ROUND(AVERAGE(F12,R12),2) -> 42538.48 | AS12: =ROUND(AVERAGE(AP12,AR12),2) -> 31829.03 | AU12: =ROUND(MIN(J12,V12),2) -> 21119.58 | AV12: =ROUND(MAX(J12,V12),2) -> 68101.81 | AW12: =ROUND(AVERAGE(J12,V12),2) -> 44610.7 | AX12: =ROUND(AVERAGE(AU12,AW12),2) -> 32865.14 | AZ12: =ROUND(MIN(N12,Z12),2) -> 21119.58 | BA12: =ROUND(MAX(N12,Z12),2) -> 71370.7 | BB12: =ROUND(AVERAGE(N12,Z12),2) -> 46245.14 | BC12: =ROUND(AVERAGE(AZ12,BB12),2) -> 33682.36 | BE12: =AP12 -> 21119.58 | BF12: =ROUND(BE12*$D12,2) -> 10433073 | BG12: =ROUND(BF12*$BG$8,2) -> 10433073 | BI12: =AU12 -> 21119.58 | BJ12: =ROUND(BI12*$D12,2) -> 10433073 | BK12: =ROUND(BJ12*$BK$8,2) -> 1.2519687e+08 | BM12: =AZ12 -> 21119.58 | BN12: =ROUND(BM12*$D12,2) -> 10433073 | BO12: =ROUND(BN12*$BO$8,2) -> 1.147638e+08
A13: 3 | B13: CAMARAS IP TIPO BALA Resolución (4 Megapíxeles 30 fps 2688x1520), Iluminación mínima 0.01lux B/N 0 Lux, Día/Noche Real con filtro ICR, Distancia Focal 2.8 mm/4mm, Iluminación IR 30 m, Compresión de video H264+/H265, Detección de movimiento. Protección Ip67, Puerto de red RJ45 10M/100M/1000M, PoE (Power over Ethernet) Protocolos TCP/IP, ICMP, HTTP, HTTPS, DHCP, DNS, RTP, RTSP, RTCP, NTP, IGMP, QoS, UDP. | C13: CONFORME A LO ESPECIFICADO EN LA FICHA TECNICA | D13: 301 | F13: 26270.83 | G13: =ROUND(F13*$D13,2) -> 7907519.8 | H13: =ROUND(G13*$H$8,2) -> 7907519.8 | J13: 26270.83 | K13: =ROUND(J13*$D13,2) -> 7907519.8 | L13: =ROUND(K13*$L$8,2) -> 94890238 | N13: 26270.83 | O13: =ROUND(N13*$D13,2) -> 7907519.8 | P13: =ROUND(O13*$P$8,2) -> 86982718 | R13: 61718.09 | S13: =ROUND(R13*$D13,2) -> 18577145 | T13: =ROUND(S13*$T$8,2) -> 18577145 | V13: 65717.42 | W13: =ROUND(V13*$D13,2) -> 19780943 | X13: =ROUND(W13*$X$8,2) -> 2.3737132e+08 | Z13: 68871.86 | AA13: =ROUND(Z13*$D13,2) -> 20730430 | AB13: =ROUND(AA13*$AB$8,2) -> 2.2803473e+08 | AE13: =ROUND(AD13*$D13,2) -> 0 | AF13: =ROUND(AE13*$T$8,2) -> 0 | AI13: =ROUND(AH13*$D13,2) -> 0 | AJ13: =ROUND(AI13*$X$8,2) -> 0 | AM13: =ROUND(AL13*$D13,2) -> 0 | AN13: =ROUND(AM13*$AB$8,2) -> 0 | AP13: =ROUND(MIN(F13,R13),2) -> 26270.83 | AQ13: =ROUND(MAX(F13,R13),2) -> 61718.09 | AR13: =ROUND(AVERAGE(F13,R13),2) -> 43994.46 | AS13: =ROUND(AVERAGE(AP13,AR13),2) -> 35132.65 | AU13: =ROUND(MIN(J13,V13),2) -> 26270.83 | AV13: =ROUND(MAX(J13,V13),2) -> 65717.42 | AW13: =ROUND(AVERAGE(J13,V13),2) -> 45994.13 | AX13: =ROUND(AVERAGE(AU13,AW13),2) -> 36132.48 | AZ13: =ROUND(MIN(N13,Z13),2) -> 26270.83 | BA13: =ROUND(MAX(N13,Z13),2) -> 68871.86 | BB13: =ROUND(AVERAGE(N13,Z13),2) -> 47571.35 | BC13: =ROUND(AVERAGE(AZ13,BB13),2) -> 36921.09 | BE13: =AP13 -> 26270.83 | BF13: =ROUND(BE13*$D13,2) -> 7907519.8 | BG13: =ROUND(BF13*$BG$8,2) -> 7907519.8 | BI13: =AU13 -> 26270.83 | BJ13: =ROUND(BI13*$D13,2) -> 7907519.8 | BK13: =ROUND(BJ13*$BK$8,2) -> 94890238 | BM13: =AZ13 -> 26270.83 | BN13: =ROUND(BM13*$D13,2) -> 7907519.8 | BO13: =ROUND(BN13*$BO$8,2) -> 86982718
A14: 4 | B14: CIBERDOMO IP PTZ cámara Tipo Domo IP Resolución (2 Megapíxeles 1920x1080). Iluminación IR 150 m, zoom óptico de 25x, Zoom digital 16x, Sensor de imagen 1/2.8”, Distancia focal 4.8mm a 120mm, Sistema de señal PAL/NTSC, Balance de blancos: Auto/Manual ATW/interior/ exterior/Día/Noche ICR, Compresión de video H264+/H265, Puerto de red Rj45 10M/100M/1000M Ethernet PoE+, Alimentación 24VAC & PoE. Protección Ip66 • Incluye fuente y soporte para pared. | C14: CONFORME A LO ESPECIFICADO EN LA FICHA TECNICA | D14: 92 | F14: 157787.5 | G14: =ROUND(F14*$D14,2) -> 14516450 | H14: =ROUND(G14*$H$8,2) -> 14516450 | J14: 157787.5 | K14: =ROUND(J14*$D14,2) -> 14516450 | L14: =ROUND(K14*$L$8,2) -> 174197400 | N14: 157787.5 | O14: =ROUND(N14*$D14,2) -> 14516450 | P14: =ROUND(O14*$P$8,2) -> 159680950 | R14: 320753.9 | S14: =ROUND(R14*$D14,2) -> 29509359 | T14: =ROUND(S14*$T$8,2) -> 29509359 | V14: 341538.75 | W14: =ROUND(V14*$D14,2) -> 31421565 | X14: =ROUND(W14*$X$8,2) -> 377058780 | Z14: 357932.61 | AA14: =ROUND(Z14*$D14,2) -> 32929800 | AB14: =ROUND(AA14*$AB$8,2) -> 3.622278e+08 | AE14: =ROUND(AD14*$D14,2) -> 0 | AF14: =ROUND(AE14*$T$8,2) -> 0 | AI14: =ROUND(AH14*$D14,2) -> 0 | AJ14: =ROUND(AI14*$X$8,2) -> 0 | AM14: =ROUND(AL14*$D14,2) -> 0 | AN14: =ROUND(AM14*$AB$8,2) -> 0 | AP14: =ROUND(MIN(F14,R14),2) -> 157787.5 | AQ14: =ROUND(MAX(F14,R14),2) -> 320753.9 | AR14: =ROUND(AVERAGE(F14,R14),2) -> 239270.7 | AS14: =ROUND(AVERAGE(AP14,AR14),2) -> 198529.1 | AU14: =ROUND(MIN(J14,V14),2) -> 157787.5 | AV14: =ROUND(MAX(J14,V14),2) -> 341538.75 | AW14: =ROUND(AVERAGE(J14,V14),2) -> 249663.13 | AX14: =ROUND(AVERAGE(AU14,AW14),2) -> 203725.32 | AZ14: =ROUND(MIN(N14,Z14),2) -> 157787.5 | BA14: =ROUND(MAX(N14,Z14),2) -> 357932.61 | BB14: =ROUND(AVERAGE(N14,Z14),2) -> 257860.06 | BC14: =ROUND(AVERAGE(AZ14,BB14),2) -> 207823.78 | BE14: =AP14 -> 157787.5 | BF14: =ROUND(BE14*$D14,2) -> 14516450 | BG14: =ROUND(BF14*$BG$8,2) -> 14516450 | BI14: =AU14 -> 157787.5 | BJ14: =ROUND(BI14*$D14,2) -> 14516450 | BK14: =ROUND(BJ14*$BK$8,2) -> 174197400 | BM14: =AZ14 -> 157787.5 | BN14: =ROUND(BM14*$D14,2) -> 14516450 | BO14: =ROUND(BN14*$BO$8,2) -> 159680950
A15: 5 | B15: GRABADOR DE 8/16/32 CANALES PENTAHIBRIDO 8/16/32 Canales Pentahibrido. Video Grabador Digital. Procesador Embebido Compresión de Video H.265+/H.265/H.264+. Entradas de video Max 10/16/32 canales IP. Cada canal hasta 5MP Min. Ancho de Banda 200/260Mbps. Búsqueda Inteligente. Función RAID 0, RAID 1, RAID 5, RAID 6 and RAID 10. Puerto de red Rj45 10M/100M/1000M Ethernet. 4 bahías SATA con soporte de discos hasta de 10TB por cada disco. LA CANTIDAD DE CANALES DE ENTRADA DEPENDERÁ DE LA SEDE EN LA QUE SE INSTALE EL EQUIPO. (DE AUERDO CON LA CANTIDAD DE CÁMARAS). | C15: CONFORME A LO ESPECIFICADO EN LA FICHA TECNICA | D15: 95 | F15: 175127.17 | G15: =ROUND(F15*$D15,2) -> 16637081 | H15: =ROUND(G15*$H$8,2) -> 16637081 | J15: 175127.17 | K15: =ROUND(J15*$D15,2) -> 16637081 | L15: =ROUND(K15*$L$8,2) -> 1.9964497e+08 | N15: 175127.17 | O15: =ROUND(N15*$D15,2) -> 16637081 | P15: =ROUND(O15*$P$8,2) -> 1.8300789e+08 | R15: 218549.52 | S15: =ROUND(R15*$D15,2) -> 20762204 | T15: =ROUND(S15*$T$8,2) -> 20762204 | V15: 232711.53 | W15: =ROUND(V15*$D15,2) -> 22107595 | X15: =ROUND(W15*$X$8,2) -> 2.6529114e+08 | Z15: 243881.68 | AA15: =ROUND(Z15*$D15,2) -> 23168760 | AB15: =ROUND(AA15*$AB$8,2) -> 2.5485636e+08 | AE15: =ROUND(AD15*$D15,2) -> 0 | AF15: =ROUND(AE15*$T$8,2) -> 0 | AI15: =ROUND(AH15*$D15,2) -> 0 | AJ15: =ROUND(AI15*$X$8,2) -> 0 | AM15: =ROUND(AL15*$D15,2) -> 0 | AN15: =ROUND(AM15*$AB$8,2) -> 0 | AP15: =ROUND(MIN(F15,R15),2) -> 175127.17 | AQ15: =ROUND(MAX(F15,R15),2) -> 218549.52 | AR15: =ROUND(AVERAGE(F15,R15),2) -> 196838.35 | AS15: =ROUND(AVERAGE(AP15,AR15),2) -> 185982.76 | AU15: =ROUND(MIN(J15,V15),2) -> 175127.17 | AV15: =ROUND(MAX(J15,V15),2) -> 232711.53 | AW15: =ROUND(AVERAGE(J15,V15),2) -> 203919.35 | AX15: =ROUND(AVERAGE(AU15,AW15),2) -> 189523.26 | AZ15: =ROUND(MIN(N15,Z15),2) -> 175127.17 | BA15: =ROUND(MAX(N15,Z15),2) -> 243881.68 | BB15: =ROUND(AVERAGE(N15,Z15),2) -> 209504.43 | BC15: =ROUND(AVERAGE(AZ15,BB15),2) -> 192315.8 | BE15: =AP15 -> 175127.17 | BF15: =ROUND(BE15*$D15,2) -> 16637081 | BG15: =ROUND(BF15*$BG$8,2) -> 16637081 | BI15: =AU15 -> 175127.17 | BJ15: =ROUND(BI15*$D15,2) -> 16637081 | BK15: =ROUND(BJ15*$BK$8,2) -> 1.9964497e+08 | BM15: =AZ15 -> 175127.17 | BN15: =ROUND(BM15*$D15,2) -> 16637081 | BO15: =ROUND(BN15*$BO$8,2) -> 1.8300789e+08
A16: 6 | B16: CONTROL JOYSTICK. Joystick tridimensional para el control de Cámaras PTZ. Funciones: Posición Predeterminada, Auto Scan, Auto Pan, Auto Tour. | C16: CONFORME A LO ESPECIFICADO EN LA FICHA TECNICA | D16: 28 | F16: 67545.83 | G16: =ROUND(F16*$D16,2) -> 1891283.2 | H16: =ROUND(G16*$H$8,2) -> 1891283.2 | J16: 67545.83 | K16: =ROUND(J16*$D16,2) -> 1891283.2 | L16: =ROUND(K16*$L$8,2) -> 22695399 | N16: 67545.83 | O16: =ROUND(N16*$D16,2) -> 1891283.2 | P16: =ROUND(O16*$P$8,2) -> 20804116 | R16: 450544.7 | S16: =ROUND(R16*$D16,2) -> 12615252 | T16: =ROUND(S16*$T$8,2) -> 12615252 | V16: 479740 | W16: =ROUND(V16*$D16,2) -> 13432720 | X16: =ROUND(W16*$X$8,2) -> 161192640 | Z16: 502767.52 | AA16: =ROUND(Z16*$D16,2) -> 14077491 | AB16: =ROUND(AA16*$AB$8,2) -> 1.548524e+08 | AE16: =ROUND(AD16*$D16,2) -> 0 | AF16: =ROUND(AE16*$T$8,2) -> 0 | AI16: =ROUND(AH16*$D16,2) -> 0 | AJ16: =ROUND(AI16*$X$8,2) -> 0 | AM16: =ROUND(AL16*$D16,2) -> 0 | AN16: =ROUND(AM16*$AB$8,2) -> 0 | AP16: =ROUND(MIN(F16,R16),2) -> 67545.83 | AQ16: =ROUND(MAX(F16,R16),2) -> 450544.7 | AR16: =ROUND(AVERAGE(F16,R16),2) -> 259045.27 | AS16: =ROUND(AVERAGE(AP16,AR16),2) -> 163295.55 | AU16: =ROUND(MIN(J16,V16),2) -> 67545.83 | AV16: =ROUND(MAX(J16,V16),2) -> 479740 | AW16: =ROUND(AVERAGE(J16,V16),2) -> 273642.92 | AX16: =ROUND(AVERAGE(AU16,AW16),2) -> 170594.38 | AZ16: =ROUND(MIN(N16,Z16),2) -> 67545.83 | BA16: =ROUND(MAX(N16,Z16),2) -> 502767.52 | BB16: =ROUND(AVERAGE(N16,Z16),2) -> 285156.68 | BC16: =ROUND(AVERAGE(AZ16,BB16),2) -> 176351.26 | BE16: =AP16 -> 67545.83 | BF16: =ROUND(BE16*$D16,2) -> 1891283.2 | BG16: =ROUND(BF16*$BG$8,2) -> 1891283.2 | BI16: =AU16 -> 67545.83 | BJ16: =ROUND(BI16*$D16,2) -> 1891283.2 | BK16: =ROUND(BJ16*$BK$8,2) -> 22695399 | BM16: =AZ16 -> 67545.83 | BN16: =ROUND(BM16*$D16,2) -> 1891283.2 | BO16: =ROUND(BN16*$BO$8,2) -> 20804116
A17: 7 | B17: SISTEMA DE IDENTIFICACIÓN BIOMÉTRICA PARA INGRESO DE FUNCIONARIOS. Lectores duales Biométrico y RFID (lectora de tarjetas de proximidad). Debe soportar tarjetas con el protocolo MIFARE PLUS X 4K (Carné Institucional). Software de administración y configuración del sistema. El software debe permitir la generación de reportes tanto de ingreso como de salida. El sistema debe soportar hasta 20.000 plantillas de huellas digitales, 60.000 tarjetas y almacenar hasta 100.000 eventos y transacciones. La información debe permanecer guardada en la memoria interna en caso de pérdida de energía. El controlador deberá continuar operando aún si se interrumpe la conexión de red. Deberá incluir: panel gabinete, batería transformador, lectoras requeridas para el bloqueo de puertas, electroimán de 350lb, brazo, anti remanente y pulsador. El sistema debe contar con una UPS de respaldo de energía diferente a la del sistema de CCTV. | C17: CONFORME A LO ESPECIFICADO EN LA FICHA TECNICA | D17: 44 | F17: 173333.33 | G17: =ROUND(F17*$D17,2) -> 7626666.5 | H17: =ROUND(G17*$H$8,2) -> 7626666.5 | J17: 173333.33 | K17: =ROUND(J17*$D17,2) -> 7626666.5 | L17: =ROUND(K17*$L$8,2) -> 91519998 | N17: 173333.33 | O17: =ROUND(N17*$D17,2) -> 7626666.5 | P17: =ROUND(O17*$P$8,2) -> 83893332 | R17: 247495.77 | S17: =ROUND(R17*$D17,2) -> 10889814 | T17: =ROUND(S17*$T$8,2) -> 10889814 | V17: 263533.5 | W17: =ROUND(V17*$D17,2) -> 11595474 | X17: =ROUND(W17*$X$8,2) -> 139145688 | Z17: 276183.11 | AA17: =ROUND(Z17*$D17,2) -> 12152057 | AB17: =ROUND(AA17*$AB$8,2) -> 1.3367263e+08 | AE17: =ROUND(AD17*$D17,2) -> 0 | AF17: =ROUND(AE17*$T$8,2) -> 0 | AI17: =ROUND(AH17*$D17,2) -> 0 | AJ17: =ROUND(AI17*$X$8,2) -> 0 | AM17: =ROUND(AL17*$D17,2) -> 0 | AN17: =ROUND(AM17*$AB$8,2) -> 0 | AP17: =ROUND(MIN(F17,R17),2) -> 173333.33 | AQ17: =ROUND(MAX(F17,R17),2) -> 247495.77 | AR17: =ROUND(AVERAGE(F17,R17),2) -> 210414.55 | AS17: =ROUND(AVERAGE(AP17,AR17),2) -> 191873.94 | AU17: =ROUND(MIN(J17,V17),2) -> 173333.33 | AV17: =ROUND(MAX(J17,V17),2) -> 263533.5 | AW17: =ROUND(AVERAGE(J17,V17),2) -> 218433.42 | AX17: =ROUND(AVERAGE(AU17,AW17),2) -> 195883.38 | AZ17: =ROUND(MIN(N17,Z17),2) -> 173333.33 | BA17: =ROUND(MAX(N17,Z17),2) -> 276183.11 | BB17: =ROUND(AVERAGE(N17,Z17),2) -> 224758.22 | BC17: =ROUND(AVERAGE(AZ17,BB17),2) -> 199045.78 | BE17: =AP17 -> 173333.33 | BF17: =ROUND(BE17*$D17,2) -> 7626666.5 | BG17: =ROUND(BF17*$BG$8,2) -> 7626666.5 | BI17: =AU17 -> 173333.33 | BJ17: =ROUND(BI17*$D17,2) -> 7626666.5 | BK17: =ROUND(BJ17*$BK$8,2) -> 91519998 | BM17: =AZ17 -> 173333.33 | BN17: =ROUND(BM17*$D17,2) -> 7626666.5 | BO17: =ROUND(BN17*$BO$8,2) -> 83893332
A18: 8 | B18: SISTEMA DE REGISTRO Y CONTROL DE ACCESO DE VISITANTES. Estación de registro. (En sedes principales se debe contar con mínimo dos (2) estaciones de registro). Lector de Cédula de ciudadanía. Cámara para registro fotográfico. Capturador Biométrico de huella. Software Licenciado Y Operativo. Debe permitir la generación de reportes tanto de ingreso como de salida. El sistema debe contar con una UPS de respaldo de energía diferente a la del sistema de CCTV. | C18: CONFORME A LO ESPECIFICADO EN LA FICHA TECNICA | D18: 56 | F18: 243750 | G18: =ROUND(F18*$D18,2) -> 13650000 | H18: =ROUND(G18*$H$8,2) -> 13650000 | J18: 243750 | K18: =ROUND(J18*$D18,2) -> 13650000 | L18: =ROUND(K18*$L$8,2) -> 163800000 | N18: 243750 | O18: =ROUND(N18*$D18,2) -> 13650000 | P18: =ROUND(O18*$P$8,2) -> 150150000 | R18: 436499.33 | S18: =ROUND(R18*$D18,2) -> 24443962 | T18: =ROUND(S18*$T$8,2) -> 24443962 | V18: 464784.49 | W18: =ROUND(V18*$D18,2) -> 26027931 | X18: =ROUND(W18*$X$8,2) -> 3.1233518e+08 | Z18: 487094.15 | AA18: =ROUND(Z18*$D18,2) -> 27277272 | AB18: =ROUND(AA18*$AB$8,2) -> 3.0005e+08 | AE18: =ROUND(AD18*$D18,2) -> 0 | AF18: =ROUND(AE18*$T$8,2) -> 0 | AI18: =ROUND(AH18*$D18,2) -> 0 | AJ18: =ROUND(AI18*$X$8,2) -> 0 | AM18: =ROUND(AL18*$D18,2) -> 0 | AN18: =ROUND(AM18*$AB$8,2) -> 0 | AP18: =ROUND(MIN(F18,R18),2) -> 243750 | AQ18: =ROUND(MAX(F18,R18),2) -> 436499.33 | AR18: =ROUND(AVERAGE(F18,R18),2) -> 340124.67 | AS18: =ROUND(AVERAGE(AP18,AR18),2) -> 291937.34 | AU18: =ROUND(MIN(J18,V18),2) -> 243750 | AV18: =ROUND(MAX(J18,V18),2) -> 464784.49 | AW18: =ROUND(AVERAGE(J18,V18),2) -> 354267.25 | AX18: =ROUND(AVERAGE(AU18,AW18),2) -> 299008.63 | AZ18: =ROUND(MIN(N18,Z18),2) -> 243750 | BA18: =ROUND(MAX(N18,Z18),2) -> 487094.15 | BB18: =ROUND(AVERAGE(N18,Z18),2) -> 365422.08 | BC18: =ROUND(AVERAGE(AZ18,BB18),2) -> 304586.04 | BE18: =AP18 -> 243750 | BF18: =ROUND(BE18*$D18,2) -> 13650000 | BG18: =ROUND(BF18*$BG$8,2) -> 13650000 | BI18: =AU18 -> 243750 | BJ18: =ROUND(BI18*$D18,2) -> 13650000 | BK18: =ROUND(BJ18*$BK$8,2) -> 163800000 | BM18: =AZ18 -> 243750 | BN18: =ROUND(BM18*$D18,2) -> 13650000 | BO18: =ROUND(BN18*$BO$8,2) -> 150150000
A19: 9 | B19: ARCO DETECTOR DE METALES 18 zonas de detección interconectadas en diferentes áreas y alarma simultánea de múltiples zonas. Pantalla LCD 5.7”. Sensibilidad ajustable: Cada zona tiene 256 niveles de sensibilidad. Control remoto. Alarma de sonido y LED´s para indicar la zona del metal detectado. Conteo automático de personas y alarmas. Intensidad de alarma mostrada en el panel. Diseñado con material de alta densidad anti inflamable. Función de autodiagnóstico al encenderse, sin necesidad de calibración inicial o periódica. Batería de respaldo con duración de 4-8 horas. Inofensivo para el cuerpo humano, personas con marcapasos, colgantes magnéticos, prótesis, mujeres embarazadas, etc. | C19: CONFORME A LO ESPECIFICADO EN LA FICHA TECNICA | D19: 10 | F19: 886816.67 | G19: =ROUND(F19*$D19,2) -> 8868166.7 | H19: =ROUND(G19*$H$8,2) -> 8868166.7 | J19: 886816.67 | K19: =ROUND(J19*$D19,2) -> 8868166.7 | L19: =ROUND(K19*$L$8,2) -> 1.06418e+08 | N19: 886816.67 | O19: =ROUND(N19*$D19,2) -> 8868166.7 | P19: =ROUND(O19*$P$8,2) -> 97549834 | R19: 427295.9 | S19: =ROUND(R19*$D19,2) -> 4272959 | T19: =ROUND(S19*$T$8,2) -> 4272959 | V19: 454984.67 | W19: =ROUND(V19*$D19,2) -> 4549846.7 | X19: =ROUND(W19*$X$8,2) -> 54598160 | Z19: 476823.93 | AA19: =ROUND(Z19*$D19,2) -> 4768239.3 | AB19: =ROUND(AA19*$AB$8,2) -> 52450632 | AE19: =ROUND(AD19*$D19,2) -> 0 | AF19: =ROUND(AE19*$T$8,2) -> 0 | AI19: =ROUND(AH19*$D19,2) -> 0 | AJ19: =ROUND(AI19*$X$8,2) -> 0 | AM19: =ROUND(AL19*$D19,2) -> 0 | AN19: =ROUND(AM19*$AB$8,2) -> 0 | AP19: =ROUND(MIN(F19,R19),2) -> 427295.9 | AQ19: =ROUND(MAX(F19,R19),2) -> 886816.67 | AR19: =ROUND(AVERAGE(F19,R19),2) -> 657056.29 | AS19: =ROUND(AVERAGE(AP19,AR19),2) -> 542176.1 | AU19: =ROUND(MIN(J19,V19),2) -> 454984.67 | AV19: =ROUND(MAX(J19,V19),2) -> 886816.67 | AW19: =ROUND(AVERAGE(J19,V19),2) -> 670900.67 | AX19: =ROUND(AVERAGE(AU19,AW19),2) -> 562942.67 | AZ19: =ROUND(MIN(N19,Z19),2) -> 476823.93 | BA19: =ROUND(MAX(N19,Z19),2) -> 886816.67 | BB19: =ROUND(AVERAGE(N19,Z19),2) -> 681820.3 | BC19: =ROUND(AVERAGE(AZ19,BB19),2) -> 579322.12 | BE19: =AP19 -> 427295.9 | BF19: =ROUND(BE19*$D19,2) -> 4272959 | BG19: =ROUND(BF19*$BG$8,2) -> 4272959 | BI19: =AU19 -> 454984.67 | BJ19: =ROUND(BI19*$D19,2) -> 4549846.7 | BK19: =ROUND(BJ19*$BK$8,2) -> 54598160 | BM19: =AZ19 -> 476823.93 | BN19: =ROUND(BM19*$D19,2) -> 4768239.3 | BO19: =ROUND(BN19*$BO$8,2) -> 52450632
A20: 10 | B20: SWITCH DE 8/16/24 PUERTOS POE Puertos giga. Full poe ,700w. 2 puertos SFP. Apilable, QOS, ESTANDARES: IEEE 802.3 10BASE-T Ethernet, IEEE 802.3u 100BASE-TX Fast Ethernet, IEEE 802.3ab 1000BASE- T Gigabit Ethernet. DEBE INCLUIR PATCH PANEL MINIMO CAT 6, ORGANIZADORES DE CABLES, ACCESORIOS Y TORNILLERIA PARA MONTAJE EN RACK. | C20: CONFORME A LO ESPECIFICADO EN LA FICHA TECNICA | D20: 58 | F20: 108333.33 | G20: =ROUND(F20*$D20,2) -> 6283333.1 | H20: =ROUND(G20*$H$8,2) -> 6283333.1 | J20: 108333.33 | K20: =ROUND(J20*$D20,2) -> 6283333.1 | L20: =ROUND(K20*$L$8,2) -> 75399998 | N20: 108333.33 | O20: =ROUND(N20*$D20,2) -> 6283333.1 | P20: =ROUND(O20*$P$8,2) -> 69116665 | R20: 539952.11 | S20: =ROUND(R20*$D20,2) -> 31317222 | T20: =ROUND(S20*$T$8,2) -> 31317222 | V20: 574941.01 | W20: =ROUND(V20*$D20,2) -> 33346579 | X20: =ROUND(W20*$X$8,2) -> 4.0015894e+08 | Z20: 602538.18 | AA20: =ROUND(Z20*$D20,2) -> 34947214 | AB20: =ROUND(AA20*$AB$8,2) -> 3.8441936e+08 | AE20: =ROUND(AD20*$D20,2) -> 0 | AF20: =ROUND(AE20*$T$8,2) -> 0 | AI20: =ROUND(AH20*$D20,2) -> 0 | AJ20: =ROUND(AI20*$X$8,2) -> 0 | AM20: =ROUND(AL20*$D20,2) -> 0 | AN20: =ROUND(AM20*$AB$8,2) -> 0 | AP20: =ROUND(MIN(F20,R20),2) -> 108333.33 | AQ20: =ROUND(MAX(F20,R20),2) -> 539952.11 | AR20: =ROUND(AVERAGE(F20,R20),2) -> 324142.72 | AS20: =ROUND(AVERAGE(AP20,AR20),2) -> 216238.03 | AU20: =ROUND(MIN(J20,V20),2) -> 108333.33 | AV20: =ROUND(MAX(J20,V20),2) -> 574941.01 | AW20: =ROUND(AVERAGE(J20,V20),2) -> 341637.17 | AX20: =ROUND(AVERAGE(AU20,AW20),2) -> 224985.25 | AZ20: =ROUND(MIN(N20,Z20),2) -> 108333.33 | BA20: =ROUND(MAX(N20,Z20),2) -> 602538.18 | BB20: =ROUND(AVERAGE(N20,Z20),2) -> 355435.76 | BC20: =ROUND(AVERAGE(AZ20,BB20),2) -> 231884.55 | BE20: =AP20 -> 108333.33 | BF20: =ROUND(BE20*$D20,2) -> 6283333.1 | BG20: =ROUND(BF20*$BG$8,2) -> 6283333.1 | BI20: =AU20 -> 108333.33 | BJ20: =ROUND(BI20*$D20,2) -> 6283333.1 | BK20: =ROUND(BJ20*$BK$8,2) -> 75399998 | BM20: =AZ20 -> 108333.33 | BN20: =ROUND(BM20*$D20,2) -> 6283333.1 | BO20: =ROUND(BN20*$BO$8,2) -> 69116665
A21: 11 | B21: UPS RESPALDO DE ENERGIA DE 3KVA PARA SOPORTAR SISTEMA DE CCTV Doble conversión en línea. Entrada y salida monofásica. Alto Factor de potencia de Entrada 0.98 y salida 0.9. Alta confiabilidad y Eficiencia > 95%. Función ECO ahorrador de energía. Apagado de emergencia EPO. Conexión de batería externa. UPS ONLINE con tipo control micro-procesado por DSP, Bypass automático. Certificación RETIE. DEBE SOPORTAR TODO EL SISTEMA DE CCTV, INCLUYENDO LAS CÁMARAS DE VIDEO POR UN PERIODO DE TIEMPO MÍNIMO DE DOS (2) HORAS EN CASO DE PÉRDIDA DEL FUIDO ELÉCTRICO. | C21: CONFORME A LO ESPECIFICADO EN LA FICHA TECNICA | D21: 81 | F21: 433333.33 | G21: =ROUND(F21*$D21,2) -> 35100000 | H21: =ROUND(G21*$H$8,2) -> 35100000 | J21: 433333.33 | K21: =ROUND(J21*$D21,2) -> 35100000 | L21: =ROUND(K21*$L$8,2) -> 4.212e+08 | N21: 433333.33 | O21: =ROUND(N21*$D21,2) -> 35100000 | P21: =ROUND(O21*$P$8,2) -> 3.861e+08 | R21: 385636.28 | S21: =ROUND(R21*$D21,2) -> 31236539 | T21: =ROUND(S21*$T$8,2) -> 31236539 | V21: 410625.51 | W21: =ROUND(V21*$D21,2) -> 33260666 | X21: =ROUND(W21*$X$8,2) -> 3.99128e+08 | Z21: 430335.53 | AA21: =ROUND(Z21*$D21,2) -> 34857178 | AB21: =ROUND(AA21*$AB$8,2) -> 3.8342896e+08 | AE21: =ROUND(AD21*$D21,2) -> 0 | AF21: =ROUND(AE21*$T$8,2) -> 0 | AI21: =ROUND(AH21*$D21,2) -> 0 | AJ21: =ROUND(AI21*$X$8,2) -> 0 | AM21: =ROUND(AL21*$D21,2) -> 0 | AN21: =ROUND(AM21*$AB$8,2) -> 0 | AP21: =ROUND(MIN(F21,R21),2) -> 385636.28 | AQ21: =ROUND(MAX(F21,R21),2) -> 433333.33 | AR21: =ROUND(AVERAGE(F21,R21),2) -> 409484.81 | AS21: =ROUND(AVERAGE(AP21,AR21),2) -> 397560.55 | AU21: =ROUND(MIN(J21,V21),2) -> 410625.51 | AV21: =ROUND(MAX(J21,V21),2) -> 433333.33 | AW21: =ROUND(AVERAGE(J21,V21),2) -> 421979.42 | AX21: =ROUND(AVERAGE(AU21,AW21),2) -> 416302.47 | AZ21: =ROUND(MIN(N21,Z21),2) -> 430335.53 | BA21: =ROUND(MAX(N21,Z21),2) -> 433333.33 | BB21: =ROUND(AVERAGE(N21,Z21),2) -> 431834.43 | BC21: =ROUND(AVERAGE(AZ21,BB21),2) -> 431084.98 | BE21: =AP21 -> 385636.28 | BF21: =ROUND(BE21*$D21,2) -> 31236539 | BG21: =ROUND(BF21*$BG$8,2) -> 31236539 | BI21: =AU21 -> 410625.51 | BJ21: =ROUND(BI21*$D21,2) -> 33260666 | BK21: =ROUND(BJ21*$BK$8,2) -> 3.99128e+08 | BM21: =AZ21 -> 430335.53 | BN21: =ROUND(BM21*$D21,2) -> 34857178 | BO21: =ROUND(BN21*$BO$8,2) -> 3.8342896e+08
A22: 12 | B22: RACK DE PISO O EMPOTRABLE, Material metálico cold rolled. Pintura electrostática. Ruedas o tornillos de nivelación. Puerta frontal con llave. Las Dimensiones deben ser las adecuadas y que permitan salvaguardar la UPS, el cableado y los demás equipos del sistema de CCTV. EL RACK USADO DEPENDERÁ DEL TAMAÑO DE LA SEDE EN LA QUE SE VA A INSTALAR. | C22: CONFORME A LO ESPECIFICADO EN LA FICHA TECNICA | D22: 81 | F22: 96197.62 | G22: =ROUND(F22*$D22,2) -> 7792007.2 | H22: =ROUND(G22*$H$8,2) -> 7792007.2 | J22: 96197.62 | K22: =ROUND(J22*$D22,2) -> 7792007.2 | L22: =ROUND(K22*$L$8,2) -> 93504087 | N22: 96197.62 | O22: =ROUND(N22*$D22,2) -> 7792007.2 | P22: =ROUND(O22*$P$8,2) -> 85712079 | R22: 128533.19 | S22: =ROUND(R22*$D22,2) -> 10411188 | T22: =ROUND(S22*$T$8,2) -> 10411188 | V22: 136862.14 | W22: =ROUND(V22*$D22,2) -> 11085833 | X22: =ROUND(W22*$X$8,2) -> 1.3303e+08 | Z22: 143431.52 | AA22: =ROUND(Z22*$D22,2) -> 11617953 | AB22: =ROUND(AA22*$AB$8,2) -> 1.2779748e+08 | AE22: =ROUND(AD22*$D22,2) -> 0 | AF22: =ROUND(AE22*$T$8,2) -> 0 | AI22: =ROUND(AH22*$D22,2) -> 0 | AJ22: =ROUND(AI22*$X$8,2) -> 0 | AM22: =ROUND(AL22*$D22,2) -> 0 | AN22: =ROUND(AM22*$AB$8,2) -> 0 | AP22: =ROUND(MIN(F22,R22),2) -> 96197.62 | AQ22: =ROUND(MAX(F22,R22),2) -> 128533.19 | AR22: =ROUND(AVERAGE(F22,R22),2) -> 112365.41 | AS22: =ROUND(AVERAGE(AP22,AR22),2) -> 104281.52 | AU22: =ROUND(MIN(J22,V22),2) -> 96197.62 | AV22: =ROUND(MAX(J22,V22),2) -> 136862.14 | AW22: =ROUND(AVERAGE(J22,V22),2) -> 116529.88 | AX22: =ROUND(AVERAGE(AU22,AW22),2) -> 106363.75 | AZ22: =ROUND(MIN(N22,Z22),2) -> 96197.62 | BA22: =ROUND(MAX(N22,Z22),2) -> 143431.52 | BB22: =ROUND(AVERAGE(N22,Z22),2) -> 119814.57 | BC22: =ROUND(AVERAGE(AZ22,BB22),2) -> 108006.1 | BE22: =AP22 -> 96197.62 | BF22: =ROUND(BE22*$D22,2) -> 7792007.2 | BG22: =ROUND(BF22*$BG$8,2) -> 7792007.2 | BI22: =AU22 -> 96197.62 | BJ22: =ROUND(BI22*$D22,2) -> 7792007.2 | BK22: =ROUND(BJ22*$BK$8,2) -> 93504087 | BM22: =AZ22 -> 96197.62 | BN22: =ROUND(BM22*$D22,2) -> 7792007.2 | BO22: =ROUND(BN22*$BO$8,2) -> 85712079
... A26: 16 | B26: KIT DE ALARMA BASICO• Comunicación GPRS con reporte a central de monitoreo• Gabinete, batería de respaldo, transformador, sirena de 30watts• Panel de 32 zonas. • Sensores de movimiento (inmune a mascotas).• Sensores de humo.• Sensores magnéticos livianos (detector de apertura) Nota: Las cantidades de los sensores están sujetas a las características físicas de la sede en la que se instalarán. | C26: CONFORME A LO ESPECIFICADO EN LA FICHA TECNICA | D26: 28 | F26: 95062.5 | G26: =ROUND(F26*$D26,2) -> 2661750 | H26: =ROUND(G26*$H$8,2) -> 2661750 | J26: 95062.5 | K26: =ROUND(J26*$D26,2) -> 2661750 | L26: =ROUND(K26*$L$8,2) -> 31941000 | N26: 95062.5 | O26: =ROUND(N26*$D26,2) -> 2661750 | P26: =ROUND(O26*$P$8,2) -> 29279250 | R26: 258987.76 | S26: =ROUND(R26*$D26,2) -> 7251657.3 | T26: =ROUND(S26*$T$8,2) -> 7251657.3 | V26: 275770.17 | W26: =ROUND(V26*$D26,2) -> 7721564.8 | X26: =ROUND(W26*$X$8,2) -> 92658777 | Z26: 289007.14 | AA26: =ROUND(Z26*$D26,2) -> 8092199.9 | AB26: =ROUND(AA26*$AB$8,2) -> 89014199 | AE26: =ROUND(AD26*$D26,2) -> 0 | AF26: =ROUND(AE26*$T$8,2) -> 0 | AI26: =ROUND(AH26*$D26,2) -> 0 | AJ26: =ROUND(AI26*$X$8,2) -> 0 | AM26: =ROUND(AL26*$D26,2) -> 0 | AN26: =ROUND(AM26*$AB$8,2) -> 0 | AP26: =ROUND(MIN(F26,R26),2) -> 95062.5 | AQ26: =ROUND(MAX(F26,R26),2) -> 258987.76 | AR26: =ROUND(AVERAGE(F26,R26),2) -> 177025.13 | AS26: =ROUND(AVERAGE(AP26,AR26),2) -> 136043.82 | AU26: =ROUND(MIN(J26,V26),2) -> 95062.5 | AV26: =ROUND(MAX(J26,V26),2) -> 275770.17 | AW26: =ROUND(AVERAGE(J26,V26),2) -> 185416.34 | AX26: =ROUND(AVERAGE(AU26,AW26),2) -> 140239.42 | AZ26: =ROUND(MIN(N26,Z26),2) -> 95062.5 | BA26: =ROUND(MAX(N26,Z26),2) -> 289007.14 | BB26: =ROUND(AVERAGE(N26,Z26),2) -> 192034.82 | BC26: =ROUND(AVERAGE(AZ26,BB26),2) -> 143548.66 | BE26: =AP26 -> 95062.5 | BF26: =ROUND(BE26*$D26,2) -> 2661750 | BG26: =ROUND(BF26*$BG$8,2) -> 2661750 | BI26: =AU26 -> 95062.5 | BJ26: =ROUND(BI26*$D26,2) -> 2661750 | BK26: =ROUND(BJ26*$BK$8,2) -> 31941000 | BM26: =AZ26 -> 95062.5 | BN26: =ROUND(BM26*$D26,2) -> 2661750 | BO26: =ROUND(BN26*$BO$8,2) -> 29279250
A27: SUBTOTAL REGIONAL CARIBE | D27: =SUM(D11:D26) -> 1673 | H27: =ROUND(SUM(H11:H26),2) -> 1.7418898e+08 | L27: =ROUND(SUM(L11:L26),2) -> 2.0902677e+09 | P27: =ROUND(SUM(P11:P26),2) -> 1.9160787e+09 | T27: =ROUND(SUM(T11:T26),2) -> 4.1988337e+08 | X27: =ROUND(SUM(X11:X26),2) -> 5.3651017e+09 | AB27: =ROUND(SUM(AB11:AB26),2) -> 5.1540744e+09 | AF27: =ROUND(SUM(AF11:AF26),2) -> 0 | AJ27: =ROUND(SUM(AJ11:AJ26),2) -> 0 | AN27: =ROUND(SUM(AN11:AN26),2) -> 0 | BG27: =ROUND(SUM(BG11:BG26),2) -> 1.6573031e+08 | BK27: =ROUND(SUM(BK11:BK26),2) -> 2.0163759e+09 | BO27: =ROUND(SUM(BO11:BO26),2) -> 1.8683085e+09

Sheet HISTORICO Y CONSOLIDADO MED T
A1: OBJETO | C1: PRESTAR LOS SERVICIOS DE VIGILANCIA Y SEGURIDAD PRIVADA FIJA Y MÓVIL, CON MEDIOS TECNOLÓGICOS Y PERSONAL UNIFORMADO CON Y SIN ARMAS, PARA LA ADECUADA PROTECCIÓN, CUSTODIA, AMPARO Y SALVAGUARDA DE LAS PERSONAS QUE LABORAN E INGRESAN A LAS INSTALACIONES Y DE LOS BIENES MUEBLES E INMUEBLES DE LA FISCALÍA GENERAL DE LA NACIÓN Y DEL FONDO ESPECIAL PARA LA ADMINISTRACIÓN DE BIENES (FEAB), EN LA REGIONAL CARIBE, CONFORMADA POR LAS SECCIONALES: I) LA GUAJIRA, II) CESAR, III) MAGDALENA, IV) ATLÁNTICO Y V) BOLÍVAR, SAN ANDRÉS Y PROVIDENCIA.
A4: ITEM | B4: DESCRIPCION | C4: UBICACIÓN | D4: CANTIDAD | F4: HISTORICO | N4: VALORES DEFINITIVOS VIGENCIAS 2026-2028
F5: PROCESO FGN-RCA-IPSE-0090-2024 | H5: PROYECCIÓN VALOR UNITARIO SIN IVA (IPC / Indices - Serie de empalme) | K5: ANÁLISIS PROYECCIÓN COSTOS HISTÓRICOS | N5: VALORES DEFINITIVOS 2026 INCLUIDO AIU E IVA | R5: VALORES DEFINITIVOS 2027 INCLUIDO AIU E IVA | V5: VALORES DEFINITIVOS 2028 INCLUIDO AIU E IVA
N6: MESES | P6: 1 | R6: MESES | S6: 12 | T6: 0.044 | V6: MESES | W6: 11 | X6: 0.03
F7: VALOR UNITARIO INCLUIDO AIU E IVA ESTUDIO DEL SECTOR 2024 | H7: JULIO. 2024 | I7: SEPTIEMBRE 2026 | K7: VALOR UNITARIO INCLUIDO AIU E IVA | L7: VALOR TOTAL INCLUIDO AIU E IVA | N7: SUBTOTAL UNITARIO MENSUAL INCLUIDO AIU E IVA | O7: SUBTOTAL MES POR TOTALES REQUERIDOS INCLUIDO AIU E IVA | P7: VALOR TOTAL 1 MES INCLUIDO AIU E IVA | R7: SUBTOTAL UNITARIO MENSUAL INCLUIDO AIU E IVA | S7: SUBTOTAL MES POR TOTALES REQUERIDOS INCLUIDO AIU E IVA | T7: VALOR TOTAL 12 MESES INCLUIDO AIU E IVA | V7: SUBTOTAL UNITARIO MENSUAL INCLUIDO AIU E IVA | W7: SUBTOTAL MES POR TOTALES REQUERIDOS INCLUIDO AIU E IVA | X7: VALOR TOTAL 11 MESES INCLUIDO AIU E IVA
A8: REGIONAL CABIBE | H8: 143.67 | I8: 161
A9: 1 | B9: MONITOR DE 43" LED FULL HD, Resolución: Full HD 1920x1080, Brillo de 400 cd/m2, Entradas HDMI, VGA, USB. Salida de audio. Capacidad de trabajo 7/24. | C9: CONFORME A LO ESPECIFICADO EN LA FICHA TECNICA | D9: 96 | F9: 8360 | H9: =ROUND($I$8/$H$8*F9,2) -> 9368.41 | K9: =ROUND(H9,0) -> 9368 | L9: =K9*D9 -> 899328 | N9: =K9 -> 9368 | O9: =ROUND(N9*$D9,0) -> 899328 | P9: =ROUND(O9*$P$6,0) -> 899328 | R9: =ROUND(N9+(N9*$T$6),0) -> 9780 | S9: =ROUND(R9*$D9,2) -> 938880 | T9: =ROUND(S9*$S$6,2) -> 11266560 | V9: =ROUND(R9+(R9*$X$6),0) -> 10073 | W9: =ROUND(V9*$D9,2) -> 967008 | X9: =ROUND(W9*$W$6,2) -> 10637088
A10: 2 | B10: CAMARAS IP TIPO MINI DOMO Resolución (4 Megapíxeles 30 fps 2688x1520), Iluminación mínima 0.01lux B/N 0 Lux, Día/Noche Real con filtro ICR, Distancia Focal 2.8 mm/4mm, Iluminación IR 30 m, Compresión de video H264+/H265, Detección de movimiento. Protección Ip67, Puerto de red RJ45 10M/100M/1000M, PoE (Power over Ethernet) Protocolos TCP/IP, ICMP, HTTP, HTTPS, DHCP, DNS, RTP, RTSP, RTCP, NTP, IGMP, QoS, UDP. | C10: CONFORME A LO ESPECIFICADO EN LA FICHA TECNICA | D10: 494 | F10: 3344 | H10: =ROUND($I$8/$H$8*F10,2) -> 3747.37 | K10: =ROUND(H10,0) -> 3747 | L10: =K10*D10 -> 1851018 | N10: =K10 -> 3747 | O10: =ROUND(N10*$D10,0) -> 1851018 | P10: =ROUND(O10*$P$6,0) -> 1851018 | R10: =ROUND(N10+(N10*$T$6),0) -> 3912 | S10: =ROUND(R10*$D10,2) -> 1932528 | T10: =ROUND(S10*$S$6,2) -> 23190336 | V10: =ROUND(R10+(R10*$X$6),0) -> 4029 | W10: =ROUND(V10*$D10,2) -> 1990326 | X10: =ROUND(W10*$W$6,2) -> 21893586
A11: 3 | B11: CAMARAS IP TIPO BALA Resolución (4 Megapíxeles 30 fps 2688x1520), Iluminación mínima 0.01lux B/N 0 Lux, Día/Noche Real con filtro ICR, Distancia Focal 2.8 mm/4mm, Iluminación IR 30 m, Compresión de video H264+/H265, Detección de movimiento. Protección Ip67, Puerto de red RJ45 10M/100M/1000M, PoE (Power over Ethernet) Protocolos TCP/IP, ICMP, HTTP, HTTPS, DHCP, DNS, RTP, RTSP, RTCP, NTP, IGMP, QoS, UDP. | C11: CONFORME A LO ESPECIFICADO EN LA FICHA TECNICA | D11: 301 | F11: 3344 | H11: =ROUND($I$8/$H$8*F11,2) -> 3747.37 | K11: =ROUND(H11,0) -> 3747 | L11: =K11*D11 -> 1127847 | N11: =K11 -> 3747 | O11: =ROUND(N11*$D11,0) -> 1127847 | P11: =ROUND(O11*$P$6,0) -> 1127847 | R11: =ROUND(N11+(N11*$T$6),0) -> 3912 | S11: =ROUND(R11*$D11,2) -> 1177512 | T11: =ROUND(S11*$S$6,2) -> 14130144 | V11: =ROUND(R11+(R11*$X$6),0) -> 4029 | W11: =ROUND(V11*$D11,2) -> 1212729 | X11: =ROUND(W11*$W$6,2) -> 13340019
A12: 4 | B12: CIBERDOMO IP PTZ cámara Tipo Domo IP Resolución (2 Megapíxeles 1920x1080). Iluminación IR 150 m, zoom óptico de 25x, Zoom digital 16x, Sensor de imagen 1/2.8”, Distancia focal 4.8mm a 120mm, Sistema de señal PAL/NTSC, Balance de blancos: Auto/Manual ATW/interior/ exterior/Día/Noche ICR, Compresión de video H264+/H265, Puerto de red Rj45 10M/100M/1000M Ethernet PoE+, Alimentación 24VAC & PoE. Protección Ip66 • Incluye fuente y soporte para pared. | C12: CONFORME A LO ESPECIFICADO EN LA FICHA TECNICA | D12: 92 | F12: 15049 | H12: =ROUND($I$8/$H$8*F12,2) -> 16864.27 | K12: =ROUND(H12,0) -> 16864 | L12: =K12*D12 -> 1551488 | N12: =K12 -> 16864 | O12: =ROUND(N12*$D12,0) -> 1551488 | P12: =ROUND(O12*$P$6,0) -> 1551488 | R12: =ROUND(N12+(N12*$T$6),0) -> 17606 | S12: =ROUND(R12*$D12,2) -> 1619752 | T12: =ROUND(S12*$S$6,2) -> 19437024 | V12: =ROUND(R12+(R12*$X$6),0) -> 18134 | W12: =ROUND(V12*$D12,2) -> 1668328 | X12: =ROUND(W12*$W$6,2) -> 18351608
A13: 5 | B13: GRABADOR DE 8/16/32 CANALES PENTAHIBRIDO 8/16/32 Canales Pentahibrido. Video Grabador Digital. Procesador Embebido Compresión de Video H.265+/H.265/H.264+. Entradas de video Max 10/16/32 canales IP. Cada canal hasta 5MP Min. Ancho de Banda 200/260Mbps. Búsqueda Inteligente. Función RAID 0, RAID 1, RAID 5, RAID 6 and RAID 10. Puerto de red Rj45 10M/100M/1000M Ethernet. 4 bahías SATA con soporte de discos hasta de 10TB por cada disco. LA CANTIDAD DE CANALES DE ENTRADA DEPENDERÁ DE LA SEDE EN LA QUE SE INSTALE EL EQUIPO. (DE AUERDO CON LA CANTIDAD DE CÁMARAS). | C13: CONFORME A LO ESPECIFICADO EN LA FICHA TECNICA | D13: 95 | F13: 8360 | H13: =ROUND($I$8/$H$8*F13,2) -> 9368.41 | K13: =ROUND(H13,0) -> 9368 | L13: =K13*D13 -> 889960 | N13: =K13 -> 9368 | O13: =ROUND(N13*$D13,0) -> 889960 | P13: =ROUND(O13*$P$6,0) -> 889960 | R13: =ROUND(N13+(N13*$T$6),0) -> 9780 | S13: =ROUND(R13*$D13,2) -> 929100 | T13: =ROUND(S13*$S$6,2) -> 11149200 | V13: =ROUND(R13+(R13*$X$6),0) -> 10073 | W13: =ROUND(V13*$D13,2) -> 956935 | X13: =ROUND(W13*$W$6,2) -> 10526285
A14: 6 | B14: CONTROL JOYSTICK. Joystick tridimensional para el control de Cámaras PTZ. Funciones: Posición Predeterminada, Auto Scan, Auto Pan, Auto Tour. | C14: CONFORME A LO ESPECIFICADO EN LA FICHA TECNICA | D14: 28 | F14: 6354 | H14: =ROUND($I$8/$H$8*F14,2) -> 7120.44 | K14: =ROUND(H14,0) -> 7120 | L14: =K14*D14 -> 199360 | N14: =K14 -> 7120 | O14: =ROUND(N14*$D14,0) -> 199360 | P14: =ROUND(O14*$P$6,0) -> 199360 | R14: =ROUND(N14+(N14*$T$6),0) -> 7433 | S14: =ROUND(R14*$D14,2) -> 208124 | T14: =ROUND(S14*$S$6,2) -> 2497488 | V14: =ROUND(R14+(R14*$X$6),0) -> 7656 | W14: =ROUND(V14*$D14,2) -> 214368 | X14: =ROUND(W14*$W$6,2) -> 2358048
