Workbook
Name contratación: 'IDENTIFICACION Y ANALISIS'!$B$38:$B$42
Name ejecución: 'IDENTIFICACION Y ANALISIS'!$B$44:$B$67
Name OPCIONES: 'ASIGNACION Y TRATAMIENTO'!$B$44:$B$46
Name planeación: 'IDENTIFICACION Y ANALISIS'!$B$19:$B$29
Name selección: 'IDENTIFICACION Y ANALISIS'!$B$31:$B$36

Sheet CONTEXTO
C2: MATRIZ DE RIESGOS EN CONTRATACIÓN | F2: Código: GCO-GCI-F164 Versión: 02 Vigencia: 01 de diciembre de 2022 Caso HOLA: 280117
B6: ESTABLECER EL CONTEXTO
B7: El punto inicial es identificar el contexto en el cual interactúa la Entidad Estatal para conocer el ambiente social, económico y político, e identificar (i) sus propios Riesgos; (ii) los Riesgos comunes a sus Procesos de Contratación; y (iii) los Riesgos del Proceso de Contratación en particular. (Aplica igual para contratos interadministrativos) En este paso la Entidad Estatal debe identificar los aspectos que se mencionan a continuación y los posibles efectos adversos que estos pueden generar.
B8: Objeto del Proceso de Contratación
B9: Partícipes del Proceso de Contratación: Agentes externos (Organismos de control, veedurías ciudadanas), agentes internos (supervisores, funcionarios y demás usuarios).
B10: Ciudadanía que se beneficia del Proceso de Contratación: Agentes internos (funcionarios, pasantes) y externos (contratistas, visitantes y usuarios externos en general)
B11: Capacidad de la Entidad Estatal entendida como la disponibilidad de recursos y conocimientos para el Proceso de Contratación: La disponibilidad de la Entidad de sus recursos y el conocimiento de su equipo humano se refleja en los diferentes funcionarios que participarán en las diversas etapas del proceso de selección: participan las áreas que requieren los procesos de contratación (Etapa de Planeación), Dirección de Contratación, Comité Evaluador (Etapa de selección), Dirección de Contratación (Etapa de contratación) y la supervisión y apoyos a la misma (Estapa de Ejecución).
B12: Suficiencia del presupuesto oficial del Proceso de Contratación: De acuerdo al Plan Anual de Adquisiciones se deben estimar los recursos necesarios para el desarrollo del proceso de la contratación, el cual tendrá el soporte presupuestal suficiente para su desarrollo.
B13: Condiciones geográficas y de acceso del lugar en el cual se debe cumplir el objeto del Proceso de Contratación: El suministro, obra o servicio se prestará principalmente en las Sedes de la Entidad, o en el lugar indicado en los estudios previos del proceso.
B14: Entorno socio ambiental: Si aplican
B15: Condiciones políticas: Si aplican
B16: Factores ambientales.
B17: Sector del objeto del Proceso de Contratación y su mercado.
... B19: Experiencia propia y de otras Entidades Estatales en Procesos de Contratación del mismo tipo.

Sheet IDENTIFICACION Y ANALISIS
C2: MATRIZ DE RIESGOS DE CONTRATACIÓN | F2: Código: GCO-GCI-F164 Versión: 02 Vigencia: 01 de diciembre de 2022 Caso HOLA: 280117
B6: DEFINICIONES
B7: RIESGO: Evento que puede generar efectos adversos y de distinta magnitud en el logro de los objetivos del Proceso de Contratación o en la ejecución de un contrato RIESGOS PREVISIBLES: Son los posibles hechos o circunstancias que por la naturaleza del contrato y de la actividad a ejecutar es factible su ocurrencia. ETAPA DE PLANEACIÓN: Está comprendida desde el momento en que se identifican las necesidades que debe satisfacer la Secretaría Distrital de Gobierno y los Fondos de Desarrollo Local, a través del abastecimiento de bienes, obras o servicios, la elaboración del Plan Anual de Adquisiciones y la estructuración de los documentos y estudios previos. ETAPA DE SELECCIÓN: Está comprendida entre el acto de Apertura del Proceso de Contratación y la Adjudicación o la declaración de desierto del Proceso de Contratación ETAPA DE CONTRATACIÓN: Una vez adjudicado el contrato objeto del Proceso de Contratación, inicia la etapa para la celebración del contrato y el cumplimiento de los requisitos para de perfeccionamiento y ejecución. ETAPA DE EJECUCIÓN: Inicia una vez cumplidos los requisitos previstos para iniciar la ejecución del contrato respectivo y termina con el vencimiento del plazo del contrato o la fecha de liquidación si hay lugar a ella. RIESGO GENERAL: Es un riesgo de todos los procesos de contratación adelantados por la Entidad Estatal, por lo cual está presente en toda su actividad contractual. RIEGO específico: Es un riesgo propio del proceso de contratación objeto de análisis. RIESGOS ECONÓMICOS: Son los derivados del comportamiento del mercado, tales como la fluctuación de los precios de los insumos, desabastecimiento y especulación de los mismos, entre otros. RIESGOS SOCIALES O POLÍTICOS: son los derivados de los cambios de las políticas gubernamentales y de cambios en las condiciones sociales que tengan impacto en la ejecución del contrato. RIESGOS OPERACIONALES: Son los asociados a la operatividad del contrato, tales como la suficiencia del presupuesto oficial, del plazo o los derivados de procesos, procedimientos, parámetros, sistemas de información y tecnológicos, equipos humanos o técnicos inadecuados o insuficientes. RIESGOS FINANCIEROS: Son (i) el riesgo de consecución de financiación o riesgo de liquidez para obtener recursos para cumplir con el objeto del contrato, y (ii) el riesgo de las condiciones financieras establecidas para la obtención de los recursos, tales como plazos, tasas, garantías, contragarantías, y refinanciaciones, entre otros. RIESGOS REGULATORIOS: Derivados de cambios regulatorios o reglamentarios que afecten la ecuación económica del contrato. RIESGOS DE LA NATURALEZA: Son los eventos naturales previsibles en los cuales no hay intervención humana que puedan tener impacto en la ejecución del contrato, por ejemplo los temblores, inundaciones, lluvias, sequías, entre otros. RIESGOS AMBIENTALES: Son los derivados de las obligaciones legales o reglamentarias de carácter ambiental, así como de las licencias, planes de manejo o de permisos y autorizaciones ambientales, incluyendo tasas retributivas y compensatorias, obligaciones de mitigación, táreas de monitoreo y control, entre otras. RIESGOS TECNOLÓGICOS: Son los derivados de fallas en los sistemas de comunicación de voz y de datos, suspensión de servicios públicos, nuevos desarrollos tecnológicos o estándares que deben ser tenidos en cuenta para la ejecución del contrato, obsolescencia tecnológica.
B15: INSTRUCCIONES PARA LA IDENTIFICACIÓN, ANALISIS, EVALUACIÓN , ASIGNACIÓN Y TRATAMIENTO DE RIESGOS EN LA CONTRATACIÓN
B16: 1) Identifique los riesgos previsibles que le apliquen al objeto contractual que se adelante. Los relacionados a continuación se establecen de manera general y como proforma. No obstante, si del objeto contractual se identifican otros riesgos diferentes a los aquí determinados, por favor reemplace el texto de la casilla teniendo en cuenta la etapa del proceso. Así mismo, seleccione la clase, fuente y el tipo (Operacional, Económico, Sociales o Políticos, Regulatorios, Financieros, Tecnológicos, De la naturaleza, Ambientales) 2) Continúe en la hoja de "EVALUACIÓN" (SI EXISTEN DUDAS CONCEPTUALES PARA LA ELABORACIÓN DE LA MATRIZ DE RIESGO CONSULTE EL MANUAL PARA LA IDENTIFICACIÓN Y COBERTURA DEL RIESGO EN LOS PROCESOS DE CONTRATACIÓN EXPEDIDO POR COLOMBIA COMPRA EFICIENTE Y LA GUÍA DE RIESGOS PREVISIBLES CONTRACTUALES, EXPEDIDA POR LA VEEDURÍA DISTRITAL)
C17: ETAPAS | D17: CLASE | E17: FUENTE | F17: TIPO
C18: PLANEACIÓN
B19: Inadecuada escogencia de la modalidad de contratación | F19: Operacionales
B20: Requisitos habilitantes inapropiados para el proceso de selección | D20: General | E20: Interno | F20: Operacionales
B21: Inadecuado análisis económico estimativo del valor del contrato | F21: económicos
B22: Inadecuada descripción del bien o servicio requerido | D22: específico | E22: Interno | F22: Operacionales
B23: Inadecuada elaboración de estudios y diseños | F23: Operacionales
B24: Requisitos habilitantes que impidan la selección objetiva | F24: Operacionales
B25: Falta de profundidad en el estudio de sector no identificandose claramente aspectos de oferta y demanda | D25: específico | E25: Interno | F25: económicos
B26: Ausencia de fundamentación de la justificación y conveniencia de la contratación | D26: específico | E26: Interno | F26: Operacionales
B27: Inadecuada identificación de las condiciones contractuales | F27: Operacionales
B28: No aprobación o demoras en la expedición vigencias futuras | F28: Operacionales
B29: Apertura de procesos sin disponibilidad presupuestal | F29: Operacionales
C30: SELECCIÓN
B31: Inadecuada evaluación de las ofertas y/o verificación de requisitos habilitantes | D31: específico | E31: Interno | F31: Operacionales
B32: Inadecuado manejo administrativo del proceso contractual | F32: Operacionales
B33: Falta de claridad en la elaboración de los actos administrativos | F33: Operacionales
B34: Contestación inoportuna a todas las observaciones formuladas a los documentos de la contratación | F34: Operacionales
B35: No publicación de la documentación del proceso de selección en el SECOP | D35: General | E35: Interno | F35: Operacionales
B36: Selección de ofertas con precios artificialmente bajos. | D36: específico | E36: Interno | F36: Operacionales
C37: CONTRATACIÓN
B38: Riesgo de que no se firme el contrato. | F38: Operacionales
B39: Falta de constitución o constitución tardía de la garantía única. Aceptación de garantías que no se ajustan a lo contemplado en el contrato | D39: específico | E39: Externo | F39: Operacionales
B40: Falta de solicitud o solicitud tardía del registro presupuestal | F40: Operacionales
B41: No publicación de la documentación del proceso de selección en el SECOP | D41: General | E41: Externo | F41: Operacionales
B42: Presentación de reclamos de terceros sobre la selección del oferente que retrasen el perfeccionamiento del contrato. | F42: Operacionales
C43: EJECUCIÓN
B44: Fluctuaciones del valor de la moneda | F44: económicos
B45: Cambio de precios en factores de producción. | F45: económicos
B46: Variación de los precios del mercado | D46: General | E46: Externo | F46: económicos
B47: Factores políticos o macroeconómicos. | D47: General | E47: Externo | F47: económicos
B48: Cancelación de pedidos. | F48: económicos
B49: Variación en la disponibilidad o en el costo de los insumos necesarios para prestar los servicios. | F49: económicos
B50: Incumplimiento de compromisos adquiridos por el contratista seleccionado con sus subcontratistas, suministradores de bienes y servicios. | D50: General | E50: Externo | F50: económicos
B51: Incumplimiento de la administración en los pagos. | F51: económicos
...

Sheet EVALUACIÓN
C2: MATRIZ DE RIESGOS DE CONTRATACIÓN | K2: Código: GCO-GCI-F164 Versión: 02 Vigencia: 01 de diciembre de 2022 Caso HOLA: 280117
B6: Objeto Contractual: ADQUISICIÓN DE LOS ELEMENTOS DESTINADOS A LA DOTACIÓN Y FORTALECIMIENTO DE LOS ORGANISMOS DE SEGURIDAD, DE ACUERDO CON LAS ESPECIFICACIONES Y REQUERIMIENTOS TÉCNICOS ESTABLECIDOS POR LA POLICÍA METROPOLITANA DE BOGOTÁ Y LA SECRETARÍA DISTRITAL DE SEGURIDAD, CONVIVENCIA Y JUSTICIA, EN DESARROLLO DEL PROYECTO DE INVERSIÓN 2719, META “SUMINISTRAR 4 DOTACIONES A ORGANISMOS DE SEGURIDAD
B7: INSTRUCCIONES PARA LA IDENTIFICACIÓN, ANALISIS, EVALUACIÓN , ASIGNACIÓN Y TRATAMIENTO DE RIESGOS EN LA CONTRATACIÓN
B8: 1) Diligencie el objeto contractual y seleccione la(s) etapas y los riesgos que aplican al objeto contractual, de acuerdo a lo definido en la hoja de "IDENTIFICACIÓN Y ANÁLISIS"
B9: 2) Describa las consecuencias de la ocurrencia del Riesgo/evento.
B10: 3) Asigne la probabilidad de ocurrencia del riesgo, de conformidad con la tabla de probabilidad y la valoración del riesgo (Cualitativa o Monetaria)
B11: 4) Asigne el impacto que generaría la materialización del riesgo, de conformidad con la tabla de impacto y la valoración del riesgo (Cualitativa o Monetaria)
B12: 5) Al realizar las anteriores actividades se obtendrá la calificación total y la valoración del riesgo (prioridad).
B13: 6) Continúe en la hoja de "EVALUACIÓN DE CONTROLES"
B15: CALIFICACIÓN | H15: Cualitativa
B16: ETAPA | C16: Descripción (Que puede pasar y, cómo puede ocurrir) | H16: Consecuencias de la ocurrencia del evento | I16: Probabilidad de Ocurrencia | J16: Impacto | K16: Calificación Total | L16: Prioridad
B17: PLANEACIÓN | C17: Requisitos habilitantes inapropiados para el proceso de selección | H17: 1. Exclusión de actores valiosos o sesgo en el proceso. 2. Sesgo hacia grandes organizaciones 3. Conflictos legales o impugnaciones | I17: 1 | J17: 4 | K17: =I17+J17 -> 5 | L17: =IF(K17<=4,"BAJO",IF(K17=5,"MEDIO",IF(K17=6,"ALTO",IF(K17=7,"ALTO","EXTREMO")))) -> MEDIO
B18: PLANEACIÓN | C18: Inadecuada descripción del bien o servicio requerido | H18: 1. Adquisición de bienes o servicios que no cumplen las necesidades. 2. Problemas en la ejecución y cumplimiento de metas del plan de desarrollo local. 3. Incumplimiento del contrato por entregas deficientes o abandono del proyecto. | I18: 2 | J18: 5 | K18: =+I18+J18 -> 7 | L18: =IF(K18<=4,"BAJO",IF(K18=5,"MEDIO",IF(K18=6,"ALTO",IF(K18=7,"ALTO","EXTREMO")))) -> ALTO
B19: PLANEACIÓN | C19: Falta de profundidad en el estudio de sector no identificandose claramente aspectos de oferta y demanda | H19: 1. El proceso se puede declarar desierto. 2. Proponentes que no cumplan con todos los requisitos. 3. Incumplimiento del contrato por entregas deficientes o abandono del proyecto. | I19: 1 | J19: 4 | K19: =+I19+J19 -> 5 | L19: =IF(K19<=4,"BAJO",IF(K19=5,"MEDIO",IF(K19=6,"ALTO",IF(K19=7,"ALTO","EXTREMO")))) -> MEDIO
B20: SELECCIÓN | C20: Inadecuada evaluación de las ofertas y/o verificación de requisitos habilitantes | H20: 1. Riesgo de adjudicación a oferentes no idóneos 2. pérdida de confianza y credibilidad en la administración. 3. Incumplimiento del contrato, por retrasos, entregas deficientes, o abandono del proyecto. 4. Conflictos legales o impugnaciones | I20: 1 | J20: 5 | K20: =+I20+J20 -> 6 | L20: =IF(K20<=4,"BAJO",IF(K20=5,"MEDIO",IF(K20=6,"ALTO",IF(K20=7,"ALTO","EXTREMO")))) -> ALTO
B21: SELECCIÓN | C21: Selección de ofertas con precios artificialmente bajos. | H21: 1. Desequilibrio económico del contrato 2. Incumplimiento del contrato por falta de capacidad administrativa y operativa del contratista para ejecutar los servicios requeridos y adquirir los bienes solicitados. | I21: 1 | J21: 4 | K21: =+I21+J21 -> 5 | L21: =IF(K21<=4,"BAJO",IF(K21=5,"MEDIO",IF(K21=6,"ALTO",IF(K21=7,"ALTO","EXTREMO")))) -> MEDIO
B22: CONTRATACIÓN | C22: Falta de constitución o constitución tardía de la garantía única. Aceptación de garantías que no se ajustan a lo contemplado en el contrato | H22: 1. Riesgo de incumplimiento contractual 2. sanciones administrativas y económicas , como multas o inhabilitación para el contratista para próximos procesos de selección. | I22: 1 | J22: 3 | K22: =+I22+J22 -> 4 | L22: =IF(K22<=4,"BAJO",IF(K22=5,"MEDIO",IF(K22=6,"ALTO",IF(K22=7,"ALTO","EXTREMO")))) -> BAJO
B23: CONTRATACIÓN | C23: No publicación de la documentación del proceso de selección en el SECOP | H23: 1. Falta de claridad de los documentos definitivos del contrato. 2. Conflictos administrativos, jurídicos o disciplinarios. | I23: 1 | J23: 3 | K23: =+I23+J23 -> 4 | L23: =IF(K23<=4,"BAJO",IF(K23=5,"MEDIO",IF(K23=6,"ALTO",IF(K23=7,"ALTO","EXTREMO")))) -> BAJO
B24: EJECUCIÓN | C24: Variación de los precios del mercado | H24: 1. Variación presupuestal que afecte la capacidad de adquisición de bienes y servicios 2. Desfase presupuestal 3. Reclamaciones de rompimiento del equilibrio económico por parte del operador. | I24: 3 | J24: 3 | K24: =+I24+J24 -> 6 | L24: =IF(K24<=4,"BAJO",IF(K24=5,"MEDIO",IF(K24=6,"ALTO",IF(K24=7,"ALTO","EXTREMO")))) -> ALTO
B25: EJECUCIÓN | C25: Incumplimiento de compromisos adquiridos por el contratista seleccionado con sus subcontratistas, suministradores de bienes y servicios. | H25: 1. Retraso en la ejecución de actividades contempladas en el contrato 2. Sanciones económicas o penalizaciones por incumplir los terminos del contrato 3. Afectación del cumplimiento del contrato dentro de la vigencia | I25: 1 | J25: 4 | K25: =+I25+J25 -> 5 | L25: =IF(K25<=4,"BAJO",IF(K25=5,"MEDIO",IF(K25=6,"ALTO",IF(K25=7,"ALTO","EXTREMO")))) -> MEDIO
B26: EJECUCIÓN | C26: Eventos naturales tales como lluvias, inundaciones y sequias entre otros | H26: 1. Suspensión temporal de actividades. 2. Incumplimiento de cronogramas. 3. Modificaciones contractuales | I26: 1 | J26: 3 | K26: =+I26+J26 -> 4 | L26: =IF(K26<=4,"BAJO",IF(K26=5,"MEDIO",IF(K26=6,"ALTO",IF(K26=7,"ALTO","EXTREMO")))) -> BAJO
B27: EJECUCIÓN | C27: Demora en la entrega de los bienes. | H27: 1. Problemas logísticos o de transporte atribuibles al contratista. 2. Deficiente planeación del contratista para atender los tiempos de entrega establecidos. 3. Demoras en la entrega de accesorios o elementos requeridos para la recepción a satisfacción. | I27: 1 | J27: 3 | K27: =+I27+J27 -> 4 | L27: =IF(K27<=4,"BAJO",IF(K27=5,"MEDIO",IF(K27=6,"ALTO",IF(K27=7,"ALTO","EXTREMO")))) -> BAJO
B28: EJECUCIÓN | C28: Dificultades para el ingreso de los bienes al almacén | H28: 1. Retraso en el trámite del recibo a satisfacción, cuando este dependa de la acreditación del cumplimiento de las condiciones contractuales. 2. Afectación del cronograma de ejecución contractual. 3. Posible configuración de incumplimiento contractual, cuando las inconsistencias sean atribuibles al contratista. | I28: 1 | J28: 3 | K28: =+I28+J28 -> 4 | L28: =IF(K28<=4,"BAJO",IF(K28=5,"MEDIO",IF(K28=6,"ALTO",IF(K28=7,"ALTO","EXTREMO")))) -> BAJO
B31: Probabilidad | C31: Categoría | E31: Valoración | G31: Impacto | H31: Categoria | I31: Valoración
C32: Raro (puede ocurrir excepcionalmente) | E32: 1 | H32: Insignificante | I32: 1
C33: Improbable (puede ocurrir ocasionalmente) | E33: 2 | H33: Menor | I33: 2
C34: Posible (puede ocurrir en cualquier momento futuro) | E34: 3 | H34: Moderado | I34: 3
C35: Probable (probablemente va a ocurrir) | E35: 4 | H35: Mayor | I35: 4
C36: Casi cierto (ocurre en la mayoría de circunstancias) | E36: 5 | H36: Catastrófico | I36: 5
C38: Valoración del Riesgo
C39: Calificación Cualitativa | F39: Obstruye la ejecución del contrato de manera intrascendente. | G39: Dificulta la ejecución del contrato de manera baja, aplicando medidas mínimas se pueden lograr el objeto contractual | H39: Afecta la ejecución del contrato sin alterar el beneficio para las partes | I39: Obstruye la ejecución del contrato sustancialmente pero aun así permite la consecución del objeto contractual | K39: Perturba la ejecución del contrato de manera grave imposibilitando la consecución del objeto contractual.
C40: Calificación Monetaria | F40: Los sobrecostos no representan más del uno por ciento (1%) del valor del contrato. | G40: Los sobrecostos no representan más del cinco por ciento (5%) del valor del contrato. | H40: Genera un impacto sobre el valor del contrato entre el cinco (5%) y el quince por ciento (15%). | I40: Incrementa el valor del contrato entre el quince (15%) y el treinta por ciento (30%). | K40: Impacto sobre el valor del contrato en más del treinta por ciento (30%).
C41: Categoría | E41: Valoración | F41: Insignificante | G41: Menor | H41: Moderado | I41: Mayor | K41: Catastrófico
F42: 1 | G42: 2 | H42: 3 | I42: 4 | K42: 5
C43: Raro (puede ocurrir excepcionalmente) | E43: 1 | F43: 2 | G43: 3 | H43: 4 | I43: 5 | K43: 6
C44: Improbable (puede ocurrir ocasionalmente) | E44: 2 | F44: 3 | G44: 4 | H44: 5 | I44: 6 | K44: 7
C45: Posible (puede ocurrir en cualquier momento futuro) | E45: 3 | F45: 4 | G45: 5 | H45: 6 | I45: 7 | K45: 8
C46: Probable (probablemente va a ocurrir) | E46: 4 | F46: 5 | G46: 6 | H46: 7 | I46: 8 | K46: 9
C47: Casi cierto (ocurre en la mayoría de circunstancias) | E47: 5 | F47: 6 | G47: 7 | H47: 8 | I47: 9 | K47: 10
G49: Categoria del Riesgo
...

Sheet EVALUACIÓN CON CONTROLES
C2: MATRIZ DE RIESGOS DE CONTRATACIÓN | Q2: Código: GCO-GCI-F164 Versión: 02 Vigencia: 01 de diciembre de 2022 Caso HOLA: 280117
B6: =EVALUACIÓN!B6 -> Objeto Contractual: ADQUISICIÓN DE LOS ELEMENTOS DESTINADOS A LA DOTACIÓN Y FORTALECIMIENTO DE LOS ORGANISMOS DE SEGURIDAD, DE ACUERDO CON LAS ESPECIFICACIONES Y REQUERIMIENTOS TÉCNICOS ESTABLECIDOS POR LA POLICÍA METROPOLITANA DE BOGOTÁ Y LA SECRETARÍA DISTRITAL DE SEGURIDAD, CONVIVENCIA Y JUSTICIA, EN DESARROLLO DEL PROYECTO DE INVERSIÓN 2719, META “SUMINISTRAR 4 DOTACIONES A ORGANISMOS DE SEGURIDAD
B7: INSTRUCCIONES PARA LA IDENTIFICACIÓN, ANALISIS, EVALUACIÓN , ASIGNACIÓN Y TRATAMIENTO DE RIESGOS EN LA CONTRATACIÓN
B8: 1) Describa el tratamiento/controles a ser implementados
B9: 2) Diligencie la información de las siguientes columnas, de acuerdo con el análisis realizado a cada riesgo: Afecta el equilibrio económico, persona responsable de implementar el tratamiento, fecha estimada de inicio del tratamiento, fecha estimada en la que se completa el tratamiento, cómo se realiza el monitoreo y la periodicidad.
B10: 3) Continúe en la hoja de "ASIGNACIÓN Y TRATAMIENTO" y diligencie las siguientes casillas: A quien se le asigna y el porcentaje que asume cada una de las partes en caso de que sea compartido.
B15: ETAPA | C15: Descripción (Que puede pasar y, cómo puede ocurrir) | G15: Tratamiento/Controles a ser implementados | I15: Probabilidad de Ocurrencia | J15: Impacto | K15: Calificación Total | L15: Prioridad | M15: ¿Afecta el equilibrio económico del contrato? | N15: Persona responsable por implementar el tratamiento | O15: Fecha estimada en que se inicia el tratamiento | P15: Fecha estimada en que se completa el tratamiento | Q15: ¿Cómo se realiza el monitoreo? | R15: Periodicidad ¿Cuándo?
B16: =EVALUACIÓN!B17 -> PLANEACIÓN | C16: =EVALUACIÓN!C17 -> Requisitos habilitantes inapropiados para el proceso de selección | G16: Secretaria de Gobierno ha establecido procesos y formatos que orientan la formulación de los procesos de contratación y es menester de los profesionales de Planeación acatar y cumplir estos procedimientos y revisiones por parte de Contratación, Planeación y Comité de Contratación. | I16: =+EVALUACIÓN!I17 -> 1 | J16: =+EVALUACIÓN!J17 -> 4 | K16: =+I16+J16 -> 5 | L16: =IF(K16<=4,"BAJO",IF(K16=5,"MEDIO",IF(K16=6,"ALTO",IF(K16=7,"ALTO","EXTREMO")))) -> MEDIO | M16: NO | N16: FDLM | O16: Una vez iniciado el proceso de convocatoria | P16: Hasta la fecha de Adjudicación del contrato | Q16: Revisión documental del proceso - Planeación y Contratación y presentación de la información a Comité de Contratación | R16: CONSTANTE. ETAPA DE PLANEACIÓN Y SELECCIÓN.
B17: =+EVALUACIÓN!B18 -> PLANEACIÓN | C17: =+EVALUACIÓN!C18 -> Inadecuada descripción del bien o servicio requerido | G17: Establecer especificaciones técnicas detalladas de los elementos acordes a lo requerido para la ejecución del contrato, teniendo en cuenta la necesidad de la ciudadanía, las metas establecidas en el plan de desarrollo local, los lineamientos del sector y los procesos anteriores del FDLM. | I17: =+EVALUACIÓN!I18 -> 2 | J17: =+EVALUACIÓN!J18 -> 5 | K17: =+I17+J17 -> 7 | L17: =IF(K17<=4,"BAJO",IF(K17=5,"MEDIO",IF(K17=6,"ALTO",IF(K17=7,"ALTO","EXTREMO")))) -> ALTO | M17: SI | N17: FDLM | O17: Una vez iniciado el proceso de convocatoria | P17: Hasta la fecha de Adjudicación del contrato | Q17: Revisión documental del proceso - Planeación y Contratación y presentación de la información a Comité de Contratación | R17: CONSTANTE. ETAPA DE PLANEACIÓN Y SELECCIÓN.
B18: =+EVALUACIÓN!B19 -> PLANEACIÓN | C18: =+EVALUACIÓN!C19 -> Falta de profundidad en el estudio de sector no identificandose claramente aspectos de oferta y demanda | G18: Establecer el sector identificando claramente los elementos y servicios que se van a ofrecer de acuerdo a a necesidad de la ciudadanía, las metas establecidas en el plan de desarrollo local, los lineamientos del sector y los procesos anteriores del FDLM. | I18: =+EVALUACIÓN!I19 -> 1 | J18: =+EVALUACIÓN!J19 -> 4 | K18: =+I18+J18 -> 5 | L18: =IF(K18<=4,"BAJO",IF(K18=5,"MEDIO",IF(K18=6,"ALTO",IF(K18=7,"ALTO","EXTREMO")))) -> MEDIO | M18: NO | N18: FDLM | O18: Una vez iniciado el proceso de convocatoria | P18: Hasta la fecha de Adjudicación del contrato | Q18: Revisión documental del proceso - Planeación y Contratación y presentación de la información a Comité de Contratación | R18: CONSTANTE. ETAPA DE PLANEACIÓN Y SELECCIÓN.
B19: =+EVALUACIÓN!B20 -> SELECCIÓN | C19: =+EVALUACIÓN!C20 -> Inadecuada evaluación de las ofertas y/o verificación de requisitos habilitantes | G19: Establecer criterios claros (técnicos, económicos y legales) desde la formulación , evaluar la capacidad de los oferentes y la experiencia de los mismos; verificar capacidad financiera y realizar un comité de evaluación o revision desde planeación y contratacion a este punto específico. | I19: =+EVALUACIÓN!I20 -> 1 | J19: =+EVALUACIÓN!J20 -> 5 | K19: =+I19+J19 -> 6 | L19: =IF(K19<=4,"BAJO",IF(K19=5,"MEDIO",IF(K19=6,"ALTO",IF(K19=7,"ALTO","EXTREMO")))) -> ALTO | M19: SI | N19: FDLM | O19: Desde la fecha de Publicación del Pliego de Condiciones | P19: Hasta la fecha de Adjudicación del contrato | Q19: Establecer puntos de revisión a las evaluaciónes efectuadas por parte de planeación y contratación | R19: CONSTANTE. ETAPA DE SELECCIÓN
B20: =+EVALUACIÓN!B21 -> SELECCIÓN | C20: =+EVALUACIÓN!C21 -> Selección de ofertas con precios artificialmente bajos. | G20: Evaluar la propuesta económica de los proponentes e implementar la guía para el manejo de ofertas artificialmente bajas de Colombia Compra Eficiente. | I20: =+EVALUACIÓN!I21 -> 1 | J20: =+EVALUACIÓN!J21 -> 4 | K20: =+I20+J20 -> 5 | L20: =IF(K20<=4,"BAJO",IF(K20=5,"MEDIO",IF(K20=6,"ALTO",IF(K20=7,"ALTO","EXTREMO")))) -> MEDIO | M20: SI | N20: FDLM Y CONTRATISTA | O20: Desde la etapa de selección | P20: Hasta la adjudicación | Q20: Revisión de las propuestas económicas de los proponentes. | R20: CONSTANTE. ETAPA DE SELECCIÓN
B21: =+EVALUACIÓN!B22 -> CONTRATACIÓN | C21: =+EVALUACIÓN!C22 -> Falta de constitución o constitución tardía de la garantía única. Aceptación de garantías que no se ajustan a lo contemplado en el contrato | G21: Establecer plazo claro para la constitución de la garantía, realizar seguimiento y verificar la aceptación. Asimismo, revisar que la garantía cumpla con los requisitos de los estudios previos, y la debida documentación antes de ser aprobada. | I21: =+EVALUACIÓN!I22 -> 1 | J21: =+EVALUACIÓN!J22 -> 3 | K21: =+I21+J21 -> 4 | L21: =IF(K21<=4,"BAJO",IF(K21=5,"MEDIO",IF(K21=6,"ALTO",IF(K21=7,"ALTO","EXTREMO")))) -> BAJO | M21: NO | N21: FDLM Y CONTRATISTA | O21: Desde la Fecha de la Firma del Contrato | P21: Hasta la fecha de la firma del Acta de Recibo Final | Q21: Seguimiento por parte del apoyo a la supervisión y contratación a la constitución de garantías del contrato. | R21: SEMANAL ETAPA DE CONTRATACIÓN Y EJECUCIÓN.
B22: =+EVALUACIÓN!B23 -> CONTRATACIÓN | C22: =+EVALUACIÓN!C23 -> No publicación de la documentación del proceso de selección en el SECOP | G22: Efectuar verificaciones a los documentos cargados de acuerdo con la lista de chequeo sugeridas para la entidad. Coordinar las áreas involucradas. | I22: =+EVALUACIÓN!I23 -> 1 | J22: =+EVALUACIÓN!J23 -> 3 | K22: =+I22+J22 -> 4 | L22: =IF(K22<=4,"BAJO",IF(K22=5,"MEDIO",IF(K22=6,"ALTO",IF(K22=7,"ALTO","EXTREMO")))) -> BAJO | M22: NO | N22: FDLM Y CONTRATISTA | O22: Desde la Fecha de la Firma del Contrato | P22: Hasta la fecha de la firma del Acta de Recibo Final | Q22: Monitoreo constante de los documentos publicados en la plataforma | R22: SEMANAL. ETAPA DE CONTRATACIÓN Y EJECUCIÓN.
B23: =+EVALUACIÓN!B24 -> EJECUCIÓN | C23: =+EVALUACIÓN!C24 -> Variación de los precios del mercado | G23: Establecer cláusulas contractuales que prevean ajustes por variación de los precios del mercado. Definir en la propuesta económica los valores reales del mercado. | I23: =+EVALUACIÓN!I24 -> 3 | J23: =+EVALUACIÓN!J24 -> 3 | K23: =+I23+J23 -> 6 | L23: =IF(K23<=4,"BAJO",IF(K23=5,"MEDIO",IF(K23=6,"ALTO",IF(K23=7,"ALTO","EXTREMO")))) -> ALTO | M23: SI | N23: FDLM Y CONTRATISTA | O23: Una vez instalado y puesta en marcha el servicio | P23: Hasta la liquidación del contrato. | Q23: Monitoreo constante de los precios del mercado y revisión periódica de las cláusulas | R23: QUINCENAL. ETAPA DE EJECUCIÓN.
B24: =+EVALUACIÓN!B25 -> EJECUCIÓN | C24: =+EVALUACIÓN!C25 -> Incumplimiento de compromisos adquiridos por el contratista seleccionado con sus subcontratistas, suministradores de bienes y servicios. | G24: Realizar monitoreo permanente a los subcontratistas y proveedores para evitar retrasos en la entrega de bienes y prestación de servicios. Constitución de garantías necesarias para asegurar la ejecución de actividades del contrato. | I24: =+EVALUACIÓN!I25 -> 1 | J24: =+EVALUACIÓN!J25 -> 4 | K24: =+I24+J24 -> 5 | L24: =IF(K24<=4,"BAJO",IF(K24=5,"MEDIO",IF(K24=6,"ALTO",IF(K24=7,"ALTO","EXTREMO")))) -> MEDIO | M24: SI | N24: CONTRATISTA | O24: Una vez instalado y puesta en marcha el servicio | P24: Hasta la liquidación del contrato. | Q24: Seguimiento por parte del comité técnico a las actividades establecidas en el contrato. | R24: QUINCENAL. ETAPA DE EJECUCIÓN.
B25: =+EVALUACIÓN!B26 -> EJECUCIÓN | C25: =+EVALUACIÓN!C26 -> Eventos naturales tales como lluvias, inundaciones y sequias entre otros | G25: Monitoreo permanente de la ejecución de actividades que puedan verse afectadas por la situación climática y condiciones naturales, de tal manera que se puedan planificar en lugares y periodos de mayor estabilidad o condiciones favorables. | I25: =+EVALUACIÓN!I26 -> 1 | J25: =+EVALUACIÓN!J26 -> 3 | K25: =+I25+J25 -> 4 | L25: =IF(K25<=4,"BAJO",IF(K25=5,"MEDIO",IF(K25=6,"ALTO",IF(K25=7,"ALTO","EXTREMO")))) -> BAJO | M25: NO | N25: FDLM Y CONTRATISTA | O25: Una vez instalado y puesta en marcha el servicio | P25: Hasta la liquidación del contrato. | Q25: Seguimiento por parte del comité técnico a las actividades establecidas en el contrato. | R25: QUINCENAL. ETAPA DE EJECUCIÓN.
B26: =+EVALUACIÓN!B27 -> EJECUCIÓN | C26: =+EVALUACIÓN!C27 -> Demora en la entrega de los bienes. | G26: Solicitar al contratista un cronograma de entrega, realizar seguimiento periódico al avance de la entrega y verificar oportunamente la disponibilidad de los bienes. En caso de evidenciarse retrasos, requerir al contratista y adoptar las medidas contractuales a que haya lugar. | I26: =+EVALUACIÓN!I27 -> 1 | J26: =+EVALUACIÓN!J27 -> 3 | K26: =+I26+J26 -> 4 | L26: =IF(K26<=4,"BAJO",IF(K26=5,"MEDIO",IF(K26=6,"ALTO",IF(K26=7,"ALTO","EXTREMO")))) -> BAJO | M26: NO | N26: FDLM Y CONTRATISTA | O26: Una vez instalado y puesta en marcha el servicio | P26: Hasta la liquidación del contrato. | Q26: Seguimiento por parte del comité técnico a las actividades establecidas en el contrato. | R26: QUINCENAL. ETAPA DE EJECUCIÓN.
B27: =+EVALUACIÓN!B28 -> EJECUCIÓN | C27: =+EVALUACIÓN!C28 -> Dificultades para el ingreso de los bienes al almacén | G27: Verificar previamente a la recepción que las motocicletas cumplan las especificaciones técnicas, cantidades y condiciones establecidas en el contrato y que cuenten con la documentación requerida para su ingreso al almacén. La recepción deberá realizarse conjuntamente con el supervisor y el responsable del almacén, dejando constancia mediante los documentos y registros correspondientes. | I27: =+EVALUACIÓN!I28 -> 1 | J27: =+EVALUACIÓN!J28 -> 3 | K27: =+I27+J27 -> 4 | L27: =IF(K27<=4,"BAJO",IF(K27=5,"MEDIO",IF(K27=6,"ALTO",IF(K27=7,"ALTO","EXTREMO")))) -> BAJO | M27: NO | N27: FDLM Y CONTRATISTA | O27: Una vez instalado y puesta en marcha el servicio | P27: Hasta la liquidación del contrato. | Q27: Seguimiento por parte del comité técnico a las actividades establecidas en el contrato. | R27: QUINCENAL. ETAPA DE EJECUCIÓN.
C29: Categoria del Riesgo | H29: Impacto del Riesgo
B30: Probabilidad | C30: Categoría | F30: Valoración | H30: Categoria | J30: Valoración | N30: Categoria del Riesgo
C31: Raro (puede ocurrir excepcionalmente) | F31: 1 | H31: Insignificante | J31: 1 | N31: Valoración del Riesgo | P31: Categoría
C32: Improbable (puede ocurrir ocasionalmente) | F32: 2 | H32: Menor | J32: 2 | N32: 8, 9 y 10 | P32: Riesgo extremo
C33: Posible (puede ocurrir en cualquier momento futuro) | F33: 3 | H33: Moderado | J33: 3 | N33: 6 y 7 | P33: Riesgo alto
C34: Probable (probablemente va a ocurrir) | F34: 4 | H34: Mayor | J34: 4 | N34: 5 | P34: Riesgo medio
C35: Casi cierto (ocurre en la mayoría de circunstancias) | F35: 5 | H35: Catastrófico | J35: 5 | N35: 2, 3 y 4 | P35: Riesgo bajo
C37: Valoración del Riesgo
C38: Calificación Cualitativa | G38: Obstruye la ejecución del contrato de manera intrascendente. | I38: Dificulta la ejecución del contrato de manera baja, aplicando medidas mínimas se pueden lograr el objeto contractual | L38: Afecta la ejecución del contrato sin alterar el beneficio para las partes | N38: Obstruye la ejecución del contrato sustancialmente pero aun así permite la consecución del objeto contractual | P38: Perturba la ejecución del contrato de manera grave imposibilitando la consecución del objeto contractual.
C39: Calificación Monetaria | G39: Los sobrecostos no representan más del uno por ciento (1%) del valor del contrato. | I39: Los sobrecostos no representan más del cinco por ciento (5%) del valor del contrato. | L39: Genera un impacto sobre el valor del contrato entre el cinco (5%) y el quince por ciento (15%). | N39: Incrementa el valor del contrato entre el quince (15%) y el treinta por ciento (30%). | P39: Impacto sobre el valor del contrato en más del treinta por ciento (30%).
C40: Categoría | F40: Valoración | G40: Insignificante | I40: Menor | L40: Moderado | N40: Mayor | P40: Catastrófico
G41: 1 | I41: 2 | L41: 3 | N41: 4 | P41: 5
C42: Raro (puede ocurrir excepcionalmente) | F42: 1 | G42: 2 | I42: 3 | L42: 4 | N42: 5 | P42: 6
C43: Improbable (puede ocurrir ocasionalmente) | F43: 2 | G43: 3 | I43: 4 | L43: 5 | N43: 6 | P43: 7
C44: Posible (puede ocurrir en cualquier momento futuro) | F44: 3 | G44: 4 | I44: 5 | L44: 6 | N44: 7 | P44: 8
C45: Probable (probablemente va a ocurrir) | F45: 4 | G45: 5 | I45: 6 | L45: 7 | N45: 8 | P45: 9
C46: Casi cierto (ocurre en la mayoría de circunstancias) | F46: 5 | G46: 6 | I46: 7 | L46: 8 | N46: 9 | P46: 10

Sheet ASIGNACION Y TRATAMIENTO
C2: MATRIZ DE RIESGOS DE CONTRATACIÓN | W2: Código: GCO-GCI-F164 Versión: 02 Vigencia: 01 de diciembre de 2022 Caso HOLA: 280117
B6: =+EVALUACIÓN!B6 -> Objeto Contractual: ADQUISICIÓN DE LOS ELEMENTOS DESTINADOS A LA DOTACIÓN Y FORTALECIMIENTO DE LOS ORGANISMOS DE SEGURIDAD, DE ACUERDO CON LAS ESPECIFICACIONES Y REQUERIMIENTOS TÉCNICOS ESTABLECIDOS POR LA POLICÍA METROPOLITANA DE BOGOTÁ Y LA SECRETARÍA DISTRITAL DE SEGURIDAD, CONVIVENCIA Y JUSTICIA, EN DESARROLLO DEL PROYECTO DE INVERSIÓN 2719, META “SUMINISTRAR 4 DOTACIONES A ORGANISMOS DE SEGURIDAD
B7: Esta matriz es un documento anexo del Estudio Previo
B10: No | C10: Descripción (Que puede pasar y, cómo puede ocurrir) | D10: Etapa | E10: Clase | F10: Fuente | G10: Consecuencias de la ocurrencia del evento | H10: Probabilidad | I10: Impacto | J10: Calificación total | K10: Prioridad | L10: ¿A quien se le asigna? | M10: % | N10: Tratamiento/Controles a ser implementados | O10: Probabilidad | P10: Impacto | Q10: Calificación total | R10: Prioridad | S10: ¿Afecta el equilibrio económico del contrato? | T10: Persona responsable por implementar el tratamiento | U10: Fecha estimada en que se inicia el tratamiento | V10: Fecha estimada en que se completa el tratamiento | W10: ¿Cómo se realiza el monitoreo | X10: Periodicidad ¿Cuándo?
B11: 1 | C11: =+'EVALUACIÓN CON CONTROLES'!C16:F16 -> Requisitos habilitantes inapropiados para el proceso de selección | D11: =+'EVALUACIÓN CON CONTROLES'!B16 -> PLANEACIÓN | E11: =VLOOKUP(C11,'IDENTIFICACION Y ANALISIS'!$B$19:$F$67,3,FALSE) -> General | F11: =VLOOKUP(C11,'IDENTIFICACION Y ANALISIS'!$B$19:$F$67,4,FALSE) -> Interno | G11: =+EVALUACIÓN!H17 -> 1. Exclusión de actores valiosos o sesgo en el proceso. 2. Sesgo hacia grandes organizaciones 3. Conflictos legales o impugnaciones | H11: =+EVALUACIÓN!I17 -> 1 | I11: =+EVALUACIÓN!J17 -> 4 | J11: =+EVALUACIÓN!K17 -> 5 | K11: =+EVALUACIÓN!L17 -> MEDIO | L11: SDG | M11: 100 | N11: =+'EVALUACIÓN CON CONTROLES'!G16 -> Secretaria de Gobierno ha establecido procesos y formatos que orientan la formulación de los procesos de contratación y es menester de los profesionales de Planeación acatar y cumplir estos procedimientos y revisiones por parte de Contratación, Planeación y Comité de Contratación. | O11: =+'EVALUACIÓN CON CONTROLES'!I16 -> 1 | P11: =+'EVALUACIÓN CON CONTROLES'!J16 -> 4 | Q11: =+'EVALUACIÓN CON CONTROLES'!K16 -> 5 | R11: =+'EVALUACIÓN CON CONTROLES'!L16 -> MEDIO | S11: =+'EVALUACIÓN CON CONTROLES'!M16 -> NO | T11: =+'EVALUACIÓN CON CONTROLES'!N16 -> FDLM | U11: =+'EVALUACIÓN CON CONTROLES'!#REF! -> #REF! | V11: =+'EVALUACIÓN CON CONTROLES'!P16 -> Hasta la fecha de Adjudicación del contrato | W11: =+'EVALUACIÓN CON CONTROLES'!Q16 -> Revisión documental del proceso - Planeación y Contratación y presentación de la información a Comité de Contratación | X11: =+'EVALUACIÓN CON CONTROLES'!R16 -> CONSTANTE. ETAPA DE PLANEACIÓN Y SELECCIÓN.
B12: 2 | C12: =+'EVALUACIÓN CON CONTROLES'!C17:F17 -> Inadecuada descripción del bien o servicio requerido | D12: =+'EVALUACIÓN CON CONTROLES'!B17 -> PLANEACIÓN | E12: =VLOOKUP(C12,'IDENTIFICACION Y ANALISIS'!$B$19:$F$67,3,FALSE) -> específico | F12: =VLOOKUP(C12,'IDENTIFICACION Y ANALISIS'!$B$19:$F$67,4,FALSE) -> Interno | G12: =+EVALUACIÓN!H18 -> 1. Adquisición de bienes o servicios que no cumplen las necesidades. 2. Problemas en la ejecución y cumplimiento de metas del plan de desarrollo local. 3. Incumplimiento del contrato por entregas deficientes o abandono del proyecto. | H12: =+EVALUACIÓN!I18 -> 2 | I12: =+EVALUACIÓN!J18 -> 5 | J12: =+EVALUACIÓN!K18 -> 7 | K12: =+EVALUACIÓN!L18 -> ALTO | L12: SDG | M12: 100 | N12: =+'EVALUACIÓN CON CONTROLES'!G17 -> Establecer especificaciones técnicas detalladas de los elementos acordes a lo requerido para la ejecución del contrato, teniendo en cuenta la necesidad de la ciudadanía, las metas establecidas en el plan de desarrollo local, los lineamientos del sector y los procesos anteriores del FDLM. | O12: =+'EVALUACIÓN CON CONTROLES'!I17 -> 2 | P12: =+'EVALUACIÓN CON CONTROLES'!J17 -> 5 | Q12: =+'EVALUACIÓN CON CONTROLES'!K17 -> 7 | R12: =+'EVALUACIÓN CON CONTROLES'!L17 -> ALTO | S12: =+'EVALUACIÓN CON CONTROLES'!M17 -> SI | T12: =+'EVALUACIÓN CON CONTROLES'!N17 -> FDLM | U12: =+'EVALUACIÓN CON CONTROLES'!O17 -> Una vez iniciado el proceso de convocatoria | V12: =+'EVALUACIÓN CON CONTROLES'!P17 -> Hasta la fecha de Adjudicación del contrato | ... X12: =+'EVALUACIÓN CON CONTROLES'!R17 -> CONSTANTE. ETAPA DE PLANEACIÓN Y SELECCIÓN.
B13: 3 | C13: =+'EVALUACIÓN CON CONTROLES'!C18:F18 -> Falta de profundidad en el estudio de sector no identificandose claramente aspectos de oferta y demanda | D13: =+'EVALUACIÓN CON CONTROLES'!B18 -> PLANEACIÓN | E13: =VLOOKUP(C13,'IDENTIFICACION Y ANALISIS'!$B$19:$F$67,3,FALSE) -> específico | F13: =VLOOKUP(C13,'IDENTIFICACION Y ANALISIS'!$B$19:$F$67,4,FALSE) -> Interno | G13: =+EVALUACIÓN!H19 -> 1. El proceso se puede declarar desierto. 2. Proponentes que no cumplan con todos los requisitos. 3. Incumplimiento del contrato por entregas deficientes o abandono del proyecto. | H13: =+EVALUACIÓN!I19 -> 1 | I13: =+EVALUACIÓN!J19 -> 4 | J13: =+EVALUACIÓN!K19 -> 5 | K13: =+EVALUACIÓN!L19 -> MEDIO | L13: SDG | M13: 100 | N13: =+'EVALUACIÓN CON CONTROLES'!G18 -> Establecer el sector identificando claramente los elementos y servicios que se van a ofrecer de acuerdo a a necesidad de la ciudadanía, las metas establecidas en el plan de desarrollo local, los lineamientos del sector y los procesos anteriores del FDLM. | O13: =+'EVALUACIÓN CON CONTROLES'!I18 -> 1 | P13: =+'EVALUACIÓN CON CONTROLES'!J18 -> 4 | Q13: =+'EVALUACIÓN CON CONTROLES'!K18 -> 5 | R13: =+'EVALUACIÓN CON CONTROLES'!L18 -> MEDIO | S13: =+'EVALUACIÓN CON CONTROLES'!M18 -> NO | T13: =+'EVALUACIÓN CON CONTROLES'!N18 -> FDLM | U13: =+'EVALUACIÓN CON CONTROLES'!O18 -> Una vez iniciado el proceso de convocatoria | V13: =+'EVALUACIÓN CON CONTROLES'!P18 -> Hasta la fecha de Adjudicación del contrato | ... X13: =+'EVALUACIÓN CON CONTROLES'!R18 -> CONSTANTE. ETAPA DE PLANEACIÓN Y SELECCIÓN.
B14: 4 | C14: =+'EVALUACIÓN CON CONTROLES'!C19:F19 -> Inadecuada evaluación de las ofertas y/o verificación de requisitos habilitantes | D14: =+'EVALUACIÓN CON CONTROLES'!B19 -> SELECCIÓN | E14: =VLOOKUP(C14,'IDENTIFICACION Y ANALISIS'!$B$19:$F$67,3,FALSE) -> específico | F14: =VLOOKUP(C14,'IDENTIFICACION Y ANALISIS'!$B$19:$F$67,4,FALSE) -> Interno | G14: =+EVALUACIÓN!H20 -> 1. Riesgo de adjudicación a oferentes no idóneos 2. pérdida de confianza y credibilidad en la administración. 3. Incumplimiento del contrato, por retrasos, entregas deficientes, o abandono del proyecto. 4. Conflictos legales o impugnaciones | H14: =+EVALUACIÓN!I20 -> 1 | I14: =+EVALUACIÓN!J20 -> 5 | J14: =+EVALUACIÓN!K20 -> 6 | K14: =+EVALUACIÓN!L20 -> ALTO | L14: SDG | M14: 100 | N14: =+'EVALUACIÓN CON CONTROLES'!G19 -> Establecer criterios claros (técnicos, económicos y legales) desde la formulación , evaluar la capacidad de los oferentes y la experiencia de los mismos; verificar capacidad financiera y realizar un comité de evaluación o revision desde planeación y contratacion a este punto específico. | O14: =+'EVALUACIÓN CON CONTROLES'!I19 -> 1 | P14: =+'EVALUACIÓN CON CONTROLES'!J19 -> 5 | Q14: =+'EVALUACIÓN CON CONTROLES'!K19 -> 6 | R14: =+'EVALUACIÓN CON CONTROLES'!L19 -> ALTO | S14: =+'EVALUACIÓN CON CONTROLES'!M19 -> SI | T14: =+'EVALUACIÓN CON CONTROLES'!N19 -> FDLM | U14: =+'EVALUACIÓN CON CONTROLES'!O19 -> Desde la fecha de Publicación del Pliego de Condiciones | V14: =+'EVALUACIÓN CON CONTROLES'!P19 -> Hasta la fecha de Adjudicación del contrato | ... X14: =+'EVALUACIÓN CON CONTROLES'!R19 -> CONSTANTE. ETAPA DE SELECCIÓN
B15: 6 | C15: =+'EVALUACIÓN CON CONTROLES'!C20:F20 -> Selección de ofertas con precios artificialmente bajos. | D15: =+'EVALUACIÓN CON CONTROLES'!B20 -> SELECCIÓN | E15: =VLOOKUP(C15,'IDENTIFICACION Y ANALISIS'!$B$19:$F$67,3,FALSE) -> específico | F15: =VLOOKUP(C15,'IDENTIFICACION Y ANALISIS'!$B$19:$F$67,4,FALSE) -> Interno | G15: =+EVALUACIÓN!H21 -> 1. Desequilibrio económico del contrato 2. Incumplimiento del contrato por falta de capacidad administrativa y operativa del contratista para ejecutar los servicios requeridos y adquirir los bienes solicitados. | H15: =+EVALUACIÓN!I21 -> 1 | I15: =+EVALUACIÓN!J21 -> 4 | J15: =+EVALUACIÓN!K21 -> 5 | K15: =+EVALUACIÓN!L21 -> MEDIO | L15: CONTRATISTA Y SDG | M15: 50 | N15: =+'EVALUACIÓN CON CONTROLES'!G20 -> Evaluar la propuesta económica de los proponentes e implementar la guía para el manejo de ofertas artificialmente bajas de Colombia Compra Eficiente. | O15: =+'EVALUACIÓN CON CONTROLES'!I20 -> 1 | P15: =+'EVALUACIÓN CON CONTROLES'!J20 -> 4 | Q15: =+'EVALUACIÓN CON CONTROLES'!K20 -> 5 | R15: =+'EVALUACIÓN CON CONTROLES'!L20 -> MEDIO | S15: =+'EVALUACIÓN CON CONTROLES'!M20 -> SI | T15: =+'EVALUACIÓN CON CONTROLES'!N20 -> FDLM Y CONTRATISTA | U15: =+'EVALUACIÓN CON CONTROLES'!O20 -> Desde la etapa de selección | V15: =+'EVALUACIÓN CON CONTROLES'!P20 -> Hasta la adjudicación | ... X15: =+'EVALUACIÓN CON CONTROLES'!R20 -> CONSTANTE. ETAPA DE SELECCIÓN
B16: 7 | C16: =+'EVALUACIÓN CON CONTROLES'!C21:F21 -> Falta de constitución o constitución tardía de la garantía única. Aceptación de garantías que no se ajustan a lo contemplado en el contrato | D16: =+'EVALUACIÓN CON CONTROLES'!B21 -> CONTRATACIÓN | E16: =VLOOKUP(C16,'IDENTIFICACION Y ANALISIS'!$B$19:$F$67,3,FALSE) -> específico | F16: =VLOOKUP(C16,'IDENTIFICACION Y ANALISIS'!$B$19:$F$67,4,FALSE) -> Externo | G16: =+EVALUACIÓN!H22 -> 1. Riesgo de incumplimiento contractual 2. sanciones administrativas y económicas , como multas o inhabilitación para el contratista para próximos procesos de selección. | H16: =+EVALUACIÓN!I22 -> 1 | I16: =+EVALUACIÓN!J22 -> 3 | J16: =+EVALUACIÓN!K22 -> 4 | K16: =+EVALUACIÓN!L22 -> BAJO | L16: CONTRATISTA | M16: 100 | N16: =+'EVALUACIÓN CON CONTROLES'!G21 -> Establecer plazo claro para la constitución de la garantía, realizar seguimiento y verificar la aceptación. Asimismo, revisar que la garantía cumpla con los requisitos de los estudios previos, y la debida documentación antes de ser aprobada. | O16: =+'EVALUACIÓN CON CONTROLES'!I21 -> 1 | P16: =+'EVALUACIÓN CON CONTROLES'!J21 -> 3 | Q16: =+'EVALUACIÓN CON CONTROLES'!K21 -> 4 | R16: =+'EVALUACIÓN CON CONTROLES'!L21 -> BAJO | S16: =+'EVALUACIÓN CON CONTROLES'!M21 -> NO | T16: =+'EVALUACIÓN CON CONTROLES'!N21 -> FDLM Y CONTRATISTA | U16: =+'EVALUACIÓN CON CONTROLES'!O21 -> Desde la Fecha de la Firma del Contrato | V16: =+'EVALUACIÓN CON CONTROLES'!P21 -> Hasta la fecha de la firma del Acta de Recibo Final | ... X16: =+'EVALUACIÓN CON CONTROLES'!R21 -> SEMANAL ETAPA DE CONTRATACIÓN Y EJECUCIÓN.
B17: 8 | C17: =+'EVALUACIÓN CON CONTROLES'!C22:F22 -> No publicación de la documentación del proceso de selección en el SECOP | D17: =+'EVALUACIÓN CON CONTROLES'!B22 -> CONTRATACIÓN | E17: =VLOOKUP(C17,'IDENTIFICACION Y ANALISIS'!$B$19:$F$67,3,FALSE) -> General | F17: =VLOOKUP(C17,'IDENTIFICACION Y ANALISIS'!$B$19:$F$67,4,FALSE) -> Interno | G17: =+EVALUACIÓN!H23 -> 1. Falta de claridad de los documentos definitivos del contrato. 2. Conflictos administrativos, jurídicos o disciplinarios. | H17: =+EVALUACIÓN!I23 -> 1 | I17: =+EVALUACIÓN!J23 -> 3 | J17: =+EVALUACIÓN!K23 -> 4 | K17: =+EVALUACIÓN!L23 -> BAJO | L17: CONTRATISTA Y SDG | M17: 50 | N17: =+'EVALUACIÓN CON CONTROLES'!G22 -> Efectuar verificaciones a los documentos cargados de acuerdo con la lista de chequeo sugeridas para la entidad. Coordinar las áreas involucradas. | O17: =+'EVALUACIÓN CON CONTROLES'!I22 -> 1 | P17: =+'EVALUACIÓN CON CONTROLES'!J22 -> 3 | Q17: =+'EVALUACIÓN CON CONTROLES'!K22 -> 4 | R17: =+'EVALUACIÓN CON CONTROLES'!L22 -> BAJO | S17: =+'EVALUACIÓN CON CONTROLES'!M22 -> NO | T17: =+'EVALUACIÓN CON CONTROLES'!N22 -> FDLM Y CONTRATISTA | U17: =+'EVALUACIÓN CON CONTROLES'!O22 -> Desde la Fecha de la Firma del Contrato | V17: =+'EVALUACIÓN CON CONTROLES'!P22 -> Hasta la fecha de la firma del Acta de Recibo Final | ... X17: =+'EVALUACIÓN CON CONTROLES'!R22 -> SEMANAL. ETAPA DE CONTRATACIÓN Y EJECUCIÓN.
B18: 9 | C18: =+'EVALUACIÓN CON CONTROLES'!C23:F23 -> Variación de los precios del mercado | D18: =+'EVALUACIÓN CON CONTROLES'!B23 -> EJECUCIÓN | E18: =VLOOKUP(C18,'IDENTIFICACION Y ANALISIS'!$B$19:$F$67,3,FALSE) -> General | F18: =VLOOKUP(C18,'IDENTIFICACION Y ANALISIS'!$B$19:$F$67,4,FALSE) -> Externo | G18: =+EVALUACIÓN!H24 -> 1. Variación presupuestal que afecte la capacidad de adquisición de bienes y servicios 2. Desfase presupuestal 3. Reclamaciones de rompimiento del equilibrio económico por parte del operador. | H18: =+EVALUACIÓN!I24 -> 3 | I18: =+EVALUACIÓN!J24 -> 3 | J18: =+EVALUACIÓN!K24 -> 6 | K18: =+EVALUACIÓN!L24 -> ALTO | L18: CONTRATISTA | M18: 100 | N18: =+'EVALUACIÓN CON CONTROLES'!G23 -> Establecer cláusulas contractuales que prevean ajustes por variación de los precios del mercado. Definir en la propuesta económica los valores reales del mercado. | O18: =+'EVALUACIÓN CON CONTROLES'!I23 -> 3 | P18: =+'EVALUACIÓN CON CONTROLES'!J23 -> 3 | Q18: =+'EVALUACIÓN CON CONTROLES'!K23 -> 6 | R18: =+'EVALUACIÓN CON CONTROLES'!L23 -> ALTO | S18: =+'EVALUACIÓN CON CONTROLES'!M23 -> SI | T18: =+'EVALUACIÓN CON CONTROLES'!N23 -> FDLM Y CONTRATISTA | U18: =+'EVALUACIÓN CON CONTROLES'!O23 -> Una vez instalado y puesta en marcha el servicio | V18: =+'EVALUACIÓN CON CONTROLES'!P23 -> Hasta la liquidación del contrato. | ... X18: =+'EVALUACIÓN CON CONTROLES'!R23 -> QUINCENAL. ETAPA DE EJECUCIÓN.
B19: 10 | C19: =+'EVALUACIÓN CON CONTROLES'!C24:F24 -> Incumplimiento de compromisos adquiridos por el contratista seleccionado con sus subcontratistas, suministradores de bienes y servicios. | D19: =+'EVALUACIÓN CON CONTROLES'!B24 -> EJECUCIÓN | E19: =VLOOKUP(C19,'IDENTIFICACION Y ANALISIS'!$B$19:$F$67,3,FALSE) -> General | F19: =VLOOKUP(C19,'IDENTIFICACION Y ANALISIS'!$B$19:$F$67,4,FALSE) -> Externo | G19: =+EVALUACIÓN!H25 -> 1. Retraso en la ejecución de actividades contempladas en el contrato 2. Sanciones económicas o penalizaciones por incumplir los terminos del contrato 3. Afectación del cumplimiento del contrato dentro de la vigencia | H19: =+EVALUACIÓN!I25 -> 1 | I19: =+EVALUACIÓN!J25 -> 4 | J19: =+EVALUACIÓN!K25 -> 5 | K19: =+EVALUACIÓN!L25 -> MEDIO | L19: CONTRATISTA | M19: 100 | N19: =+'EVALUACIÓN CON CONTROLES'!G24 -> Realizar monitoreo permanente a los subcontratistas y proveedores para evitar retrasos en la entrega de bienes y prestación de servicios. Constitución de garantías necesarias para asegurar la ejecución de actividades del contrato. | O19: =+'EVALUACIÓN CON CONTROLES'!I24 -> 1 | P19: =+'EVALUACIÓN CON CONTROLES'!J24 -> 4 | Q19: =+'EVALUACIÓN CON CONTROLES'!K24 -> 5 | R19: =+'EVALUACIÓN CON CONTROLES'!L24 -> MEDIO | S19: =+'EVALUACIÓN CON CONTROLES'!M24 -> SI | T19: =+'EVALUACIÓN CON CONTROLES'!N24 -> CONTRATISTA | U19: =+'EVALUACIÓN CON CONTROLES'!O24 -> Una vez instalado y puesta en marcha el servicio | V19: =+'EVALUACIÓN CON CONTROLES'!P24 -> Hasta la liquidación del contrato. | ... X19: =+'EVALUACIÓN CON CONTROLES'!R24 -> QUINCENAL. ETAPA DE EJECUCIÓN.
B20: 11 | C20: =+'EVALUACIÓN CON CONTROLES'!C25:F25 -> Eventos naturales tales como lluvias, inundaciones y sequias entre otros | D20: =+'EVALUACIÓN CON CONTROLES'!B25 -> EJECUCIÓN | E20: =VLOOKUP(C20,'IDENTIFICACION Y ANALISIS'!$B$19:$F$67,3,FALSE) -> General | F20: =VLOOKUP(C20,'IDENTIFICACION Y ANALISIS'!$B$19:$F$67,4,FALSE) -> Externo | G20: =+EVALUACIÓN!H26 -> 1. Suspensión temporal de actividades. 2. Incumplimiento de cronogramas. 3. Modificaciones contractuales | H20: =+EVALUACIÓN!I26 -> 1 | I20: =+EVALUACIÓN!J26 -> 3 | J20: =+EVALUACIÓN!K26 -> 4 | K20: =+EVALUACIÓN!L26 -> BAJO | L20: CONTRATISTA Y SDG | M20: 50 | N20: =+'EVALUACIÓN CON CONTROLES'!G25 -> Monitoreo permanente de la ejecución de actividades que puedan verse afectadas por la situación climática y condiciones naturales, de tal manera que se puedan planificar en lugares y periodos de mayor estabilidad o condiciones favorables. | O20: =+'EVALUACIÓN CON CONTROLES'!I25 -> 1 | P20: =+'EVALUACIÓN CON CONTROLES'!J25 -> 3 | Q20: =+'EVALUACIÓN CON CONTROLES'!K25 -> 4 | R20: =+'EVALUACIÓN CON CONTROLES'!L25 -> BAJO | S20: =+'EVALUACIÓN CON CONTROLES'!M25 -> NO | T20: =+'EVALUACIÓN CON CONTROLES'!N25 -> FDLM Y CONTRATISTA | U20: =+'EVALUACIÓN CON CONTROLES'!O25 -> Una vez instalado y puesta en marcha el servicio | V20: =+'EVALUACIÓN CON CONTROLES'!P25 -> Hasta la liquidación del contrato. | ... X20: =+'EVALUACIÓN CON CONTROLES'!R25 -> QUINCENAL. ETAPA DE EJECUCIÓN.
B21: 12 | C21: =+'EVALUACIÓN CON CONTROLES'!C26:F26 -> Demora en la entrega de los bienes. | D21: =+'EVALUACIÓN CON CONTROLES'!B26 -> EJECUCIÓN | E21: =VLOOKUP(C21,'IDENTIFICACION Y ANALISIS'!$B$19:$F$67,3,FALSE) -> General | F21: =VLOOKUP(C21,'IDENTIFICACION Y ANALISIS'!$B$19:$F$67,4,FALSE) -> Externo | G21: =+EVALUACIÓN!H27 -> 1. Problemas logísticos o de transporte atribuibles al contratista. 2. Deficiente planeación del contratista para atender los tiempos de entrega establecidos. 3. Demoras en la entrega de accesorios o elementos requeridos para la recepción a satisfacción. | H21: =+EVALUACIÓN!I27 -> 1 | I21: =+EVALUACIÓN!J27 -> 3 | J21: =+EVALUACIÓN!K27 -> 4 | K21: =+EVALUACIÓN!L27 -> BAJO | L21: CONTRATISTA | M21: 100 | N21: =+'EVALUACIÓN CON CONTROLES'!G26 -> Solicitar al contratista un cronograma de entrega, realizar seguimiento periódico al avance de la entrega y verificar oportunamente la disponibilidad de los bienes. En caso de evidenciarse retrasos, requerir al contratista y adoptar las medidas contractuales a que haya lugar. | O21: =+'EVALUACIÓN CON CONTROLES'!I26 -> 1 | P21: =+'EVALUACIÓN CON CONTROLES'!J26 -> 3 | Q21: =+'EVALUACIÓN CON CONTROLES'!K26 -> 4 | R21: =+'EVALUACIÓN CON CONTROLES'!L26 -> BAJO | S21: =+'EVALUACIÓN CON CONTROLES'!M26 -> NO | T21: =+'EVALUACIÓN CON CONTROLES'!N26 -> FDLM Y CONTRATISTA | U21: =+'EVALUACIÓN CON CONTROLES'!O26 -> Una vez instalado y puesta en marcha el servicio | V21: =+'EVALUACIÓN CON CONTROLES'!P26 -> Hasta la liquidación del contrato. | ... X21: =+'EVALUACIÓN CON CONTROLES'!R26 -> QUINCENAL. ETAPA DE EJECUCIÓN.
B22: 13 | C22: =+'EVALUACIÓN CON CONTROLES'!C27:F27 -> Dificultades para el ingreso de los bienes al almacén | D22: =+'EVALUACIÓN CON CONTROLES'!B27 -> EJECUCIÓN | E22: =VLOOKUP(C22,'IDENTIFICACION Y ANALISIS'!$B$19:$F$67,3,FALSE) -> General | F22: =VLOOKUP(C22,'IDENTIFICACION Y ANALISIS'!$B$19:$F$67,4,FALSE) -> Externo | G22: =+EVALUACIÓN!H28 -> 1. Retraso en el trámite del recibo a satisfacción, cuando este dependa de la acreditación del cumplimiento de las condiciones contractuales. 2. Afectación del cronograma de ejecución contractual. 3. Posible configuración de incumplimiento contractual, cuando las inconsistencias sean atribuibles al contratista. | H22: =+EVALUACIÓN!I28 -> 1 | I22: =+EVALUACIÓN!J28 -> 3 | J22: =+EVALUACIÓN!K28 -> 4 | K22: =+EVALUACIÓN!L28 -> BAJO | L22: CONTRATISTA | M22: 100 | N22: =+'EVALUACIÓN CON CONTROLES'!G27 -> Verificar previamente a la recepción que las motocicletas cumplan las especificaciones técnicas, cantidades y condiciones establecidas en el contrato y que cuenten con la documentación requerida para su ingreso al almacén. La recepción deberá realizarse conjuntamente con el supervisor y el responsable del almacén, dejando constancia mediante los documentos y registros correspondientes. | O22: =+'EVALUACIÓN CON CONTROLES'!I27 -> 1 | P22: =+'EVALUACIÓN CON CONTROLES'!J27 -> 3 | Q22: =+'EVALUACIÓN CON CONTROLES'!K27 -> 4 | R22: =+'EVALUACIÓN CON CONTROLES'!L27 -> BAJO | S22: =+'EVALUACIÓN CON CONTROLES'!M27 -> NO | T22: =+'EVALUACIÓN CON CONTROLES'!N27 -> FDLM Y CONTRATISTA | U22: =+'EVALUACIÓN CON CONTROLES'!O27 -> Una vez instalado y puesta en marcha el servicio | V22: =+'EVALUACIÓN CON CONTROLES'!P27 -> Hasta la liquidación del contrato. | ... X22: =+'EVALUACIÓN CON CONTROLES'!R27 -> QUINCENAL. ETAPA DE EJECUCIÓN.
F24: Categoria | J24: Impacto del Riesgo
E25: Probabilidad | F25: Categoría | G25: Valoración | J25: Categoria | L25: Valoración
F26: Raro (puede ocurrir excepcionalmente) | G26: 1 | J26: Insignificante | L26: 1
F27: Improbable (puede ocurrir ocasionalmente) | G27: 2 | J27: Menor | L27: 2
F28: Posible (puede ocurrir en cualquier momento futuro) | G28: 3 | J28: Moderado | L28: 3
F29: Probable (probablemente va a ocurrir) | G29: 4 | J29: Mayor | L29: 4
F30: Casi cierto (ocurre en la mayoría de circunstancias) | G30: 5 | J30: Catastrófico | L30: 5
D32: Valoración del Riesgo
D33: Categoría | E33: Valoración | F33: Insignificante | H33: Menor | J33: Moderado | K33: Mayor | L33: Catastrófico | P33: Categoria del Riesgo
F34: 1 | H34: 2 | J34: 3 | K34: 4 | L34: 5 | P34: Valoración del Riesgo | S34: Categoría
D35: Raro (puede ocurrir excepcionalmente) | E35: 1 | F35: 2 | H35: 3 | J35: 4 | K35: 5 | L35: 6 | P35: 8, 9 y 10 | S35: Riesgo extremo
D36: Improbable (puede ocurrir ocasionalmente) | E36: 2 | F36: 3 | H36: 4 | J36: 5 | K36: 6 | L36: 7 | P36: 6 y 7 | S36: Riesgo alto
D37: Posible (puede ocurrir en cualquier momento futuro) | E37: 3 | F37: 4 | H37: 5 | J37: 6 | K37: 7 | L37: 8 | P37: 5 | S37: Riesgo medio
D38: Probable (probablemente va a ocurrir) | E38: 4 | F38: 5 | H38: 6 | J38: 7 | K38: 8 | L38: 9 | P38: 2, 3 y 4 | S38: Riesgo bajo
D39: Casi cierto (ocurre en la mayoría de circunstancias) | E39: 5 | F39: 6 | H39: 7 | J39: 8 | K39: 9 | L39: 10
B44: CONTRATISTA
B45: SDG
B46: CONTRATISTA Y SDG
