Workbook
Name _: #REF!
Name _________________________________apu1: #REF!
Name ________________________________apu1: #REF!
Name _______________________________apu1: #REF!
Name ______________________________apu1: #REF!
Name ____________________________apu1: #REF!
Name ___________________________apu1: #REF!
Name __________________________apu1: #REF!
Name _________________________apu1: #REF!
Name ________________________apu1: #REF!
Name _______________________apu1: #REF!
Name _____________________apu1: #REF!
Name ____________________apu1: #REF!
Name ___________________apu1: #REF!
Name __________________apu1: #REF!
Name _________________apu1: #REF!
Name ________________apu1: #REF!
Name _______________apu1: #REF!
Name _______________EST1: #REF!
Name _______________EST10: #REF!
Name _______________EST11: #REF!
Name _______________EST12: #REF!
Name _______________EST13: #REF!
Name _______________EST14: #REF!
Name _______________EST15: #REF!
Name _______________EST16: #REF!
Name _______________EST17: #REF!
Name _______________EST18: #REF!
Name _______________EST19: #REF!
Name _______________EST2: #REF!
Name _______________EST3: #REF!
Name _______________EST4: #REF!
Name _______________EST5: #REF!
Name _______________EST6: #REF!
Name _______________EST7: #REF!
Name _______________EST8: #REF!
Name _______________EST9: #REF!
Name _______________EXC1: #REF!
Name _______________EXC10: #REF!
Name _______________EXC11: #REF!
Name _______________EXC12: #REF!
Name _______________EXC2: #REF!
Name _______________EXC3: #REF!
Name _______________EXC4: #REF!
Name _______________EXC5: #REF!
Name _______________EXC6: #REF!
Name _______________EXC7: #REF!
Name _______________EXC8: #REF!
Name _______________EXC9: #REF!
Name ______________apu1: #REF!
Name _____________apu1: #REF!
Name _____________cua1: #REF!
Name _____________DMD1: #REF!
Name _____________EST1: #REF!
Name _____________EST10: #REF!
Name _____________EST11: #REF!
Name _____________EST12: #REF!
Name _____________EST13: #REF!
Name _____________EST14: #REF!
Name _____________EST15: #REF!

Sheet 1. Demolicion de estructuras
A1: FORMATO DE ANALISIS DE PRECIOS UNITARIOS-APU
A2: REPUBLICA DE COLOMBIA | E2: ANALISIS DE PRECIOS UNITARIOS
A4: OBJETO: | B4: =+#REF! -> #REF! | G4: ITEM: | H4: 1
A5: DESCRIPCIÓN: | B5: =VLOOKUP(H4,#REF!,2,0) -> #REF! | G5: UNIDAD: | H5: M3
A7: DATOS ESPECÍFICOS
A9: ITEM | B9: DESCRIPCIÓN | K9: UNIDAD | L9: CANTIDAD
A10: 201.7 | B10: DEMOLICIONES | K10: M3
A12: I. EQUIPO
A14: DESCRIPCIÓN | F14: MARCA | H14: TIPO | J14: TARIFA/HORA | K14: RENDIMIENTO | L14: Vr. UNITARIO
A15: HERRAMIENTA MENOR (10% MO) | L15: =+L44*0.1 -> 0
A18: SUBTOTAL $ | L18: =SUM(L15:L17) -> 0
A20: II. MATERIALES
A22: DESCRIPCIÓN | I22: UNIDAD | J22: CANTIDAD | K22: PRECIO UNIT. | L22: Vr. UNITARIO
A30: SUBTOTAL $ | L30: =SUM(L23:L29) -> 0
A32: III. TRANSPORTES
A34: MATERIAL | H34: VOL. o PESO | I34: DISTANCIA | J34: M3 o Ton/Km | K34: TARIFA | L34: Vr. UNITARIO
A35: MATERIAL DE EXCAVACION | H35: 1.3 | I35: 5 | J35: =+H35*I35 -> 6.5 | K35: 2315 | L35: =+J35*K35 -> 15047.5
A37: SUBTOTAL $ | L37: =SUM(L35:L36) -> 15047.5
A39: IV. MANO DE OBRA
A41: TRABAJADOR | H41: JORNAL | I41: PRESTACIONES | J41: JORNAL TOTAL | K41: RENDIMIENTO | L41: Vr. UNITARIO
K42: 0.2 | L42: =+K42*H42 -> 0
A44: SUBTOTAL $ | L44: =SUM(L42:L43) -> 0
A46: TOTAL COSTO DIRECTO $ | L46: =ROUND(L18+L30+L37+L44,0) -> 15048
F54: (Firma)
F55: (Nombre)
A56: Contratista
A58: OBSERVACIONES
A63: ELABORO:
A64: M.P.
A67: FIRMA

Sheet 2. Campamento
A1: FORMATO DE ANALISIS DE PRECIOS UNITARIOS-APU
A2: REPUBLICA DE COLOMBIA | E2: ANALISIS DE PRECIOS UNITARIOS
A4: OBJETO: | B4: =+#REF! -> #REF! | G4: ITEM: | H4: 2
A5: DESCRIPCIÓN: | B5: =VLOOKUP(H4,#REF!,2,0) -> #REF! | G5: UNIDAD: | H5: =VLOOKUP(H4,#REF!,3,0) -> #REF!
A7: DATOS ESPECÍFICOS
A9: ITEM | B9: DESCRIPCIÓN | K9: UNIDAD | L9: CANTIDAD
A10: 201.7 | B10: DEMOLICIONES | K10: M3
A12: I. EQUIPO
A14: DESCRIPCIÓN | F14: MARCA | H14: TIPO | J14: TARIFA/HORA | K14: RENDIMIENTO | L14: Vr. UNITARIO
A15: HERRAMIENTA MENOR (10% MO) | L15: =+L44*0.1 -> 0
A18: SUBTOTAL $ | L18: =SUM(L15:L17) -> 0
A20: II. MATERIALES
A22: DESCRIPCIÓN | I22: UNIDAD | J22: CANTIDAD | K22: PRECIO UNIT. | L22: Vr. UNITARIO
A23: CONCRETO 2500 psi - 17.5 Mpa | I23: M3 | J23: 0.08 | K23: 535318 | L23: =+K23*J23 -> 42825.44
A24: SUMINISTRO, TRANSPORTE E INSTALACION MALLA ELECTROSOLDADA CUALQUIER REFERENCIA (Incluye alambre negro, colocación y traslapo). | I24: KG | J24: 2.5 | K24: 8886 | L24: =+K24*J24 -> 22215
A25: PUERTAS Y VENTANAS EN TABLA PARA CAMPAMENTO | I25: M2 | J25: 0.515 | K25: 4626 | L25: =+K25*J25 -> 2382.39
A26: INSTALACIONES PROVISIONALES | I26: UN | J26: 1.03 | K26: 23749 | L26: =+K26*J26 -> 24461.47
A27: GUADUA-TABLA-CUARTÓN-LISTÓN-VARILLÓN PARA CAMPAMENTO | I27: M2 | J27: 0.515 | K27: 145647 | L27: =+K27*J27 -> 75008.205
A28: TEJA DE ZINC ONDULADA TZO L=2.44X0.80 | I28: UN | J28: 0.35 | K28: 43033 | L28: =+K28*J28 -> 15061.55
A30: SUBTOTAL $ | L30: =SUM(L23:L29) -> 181954.05
A32: III. TRANSPORTES
A34: MATERIAL | H34: VOL. o PESO | I34: DISTANCIA | J34: M3 o Ton/Km | K34: TARIFA | L34: Vr. UNITARIO
A37: SUBTOTAL $ | L37: =SUM(L35:L36) -> 0
A39: IV. MANO DE OBRA
A41: TRABAJADOR | H41: JORNAL | I41: PRESTACIONES | J41: JORNAL TOTAL | K41: RENDIMIENTO | L41: Vr. UNITARIO
K42: 0.85 | L42: =+K42*H42 -> 0
A44: SUBTOTAL $ | L44: =SUM(L42:L43) -> 0
A46: TOTAL COSTO DIRECTO $ | L46: =ROUND(L18+L30+L37+L44,0) -> 181954
F54: (Firma)
F55: (Nombre)
A56: Contratista
A58: OBSERVACIONES
A63: ELABORO:
A64: M.P.
A67: FIRMA

Sheet 3. conformación  calzada
A1: FORMATO DE ANALISIS DE PRECIOS UNITARIOS-APU
A2: REPUBLICA DE COLOMBIA | E2: ANALISIS DE PRECIOS UNITARIOS
A4: OBJETO: | B4: =+#REF! -> #REF! | G4: ITEM: | H4: 3
A5: DESCRIPCIÓN: | B5: =VLOOKUP(H4,#REF!,2,0) -> #REF! | G5: UNIDAD: | H5: =VLOOKUP(H4,#REF!,3,0) -> #REF!
A6: I.EQUIPO
A7: Descripción | D7: Tipo | E7: Tarifa/Hora | F7: Rendimiento | G7: Valor-Unit.
A8: Carrotanque de agua | D8: $/hora | E8: 50000 | F8: 0.002 | G8: =+E8*F8 -> 100
A9: Motoniveladora potencia 140 HP | D9: $/hora | E9: 150000 | F9: 0.0015 | G9: =+E9*F9 -> 225
A10: Vibrocompactador ptencia 153 HP | D10: $/hora | E10: 95000 | F10: 0.0015 | G10: =+E10*F10 -> 142.5
G11: Sub-Total | H11: =SUM(G8:G10) -> 467.5
A12: II. MATERIALES EN OBRA
A13: Descripción | D13: Unidad | E13: Precio-Unit. | F13: Cantidad | G13: Valor-Unit.
A14: Agua | D14: Lt | E14: 20 | F14: 3 | G14: =+F14*E14 -> 60
G17: Sub-Total | H17: =SUM(G14:G16) -> 60
A18: III.TRANSPORTES
A19: Material | C19: Vol-Peso ó Cant. | D19: Distancia | E19: M3-KM | F19: Tarifa | G19: Valor-Unit.
G23: Sub-Total | H23: =SUM(G20:G22) -> 0
A24: IV. MANO DE OBRA
A25: Trabajador | C25: Jornal | D25: Prestaciones | E25: Jornal Total | F25: Rendimiento | G25: Valor-Unit.
F26: 0.5 | G26: =+E26*F26*D26 -> 0
G29: Sub-Total | H29: =SUM(G26:G28) -> 0
E31: Total Costo Directo | H31: =ROUND((+H11+H17+H23+H29),4) -> 527.5
A33: V. AU
A34: Descripción | D34: PORCENTAJE | E34: Tarifa/Hora | F34: Rendimiento | G34: Valor-Unit.
A35: ADMINISTRACIÓN | D35: =+#REF! -> #REF! | G35: =$H$31*D35 -> #REF!
A36: UTILIDADES | D36: 0.05 | G36: =$H$31*D36 -> 26.375
G37: Sub-Total
E40: Total Costo | H40: =ROUND(H37+H31,0) -> 528

Sheet 4. excavación 
A1: FORMATO DE ANALISIS DE PRECIOS UNITARIOS-APU
A2: REPUBLICA DE COLOMBIA | E2: ANALISIS DE PRECIOS UNITARIOS
A4: OBJETO: | B4: =+#REF! -> #REF! | G4: ITEM: | H4: 4
A5: DESCRIPCIÓN: | B5: =VLOOKUP(H4,#REF!,2,0) -> #REF! | G5: UNIDAD: | H5: =VLOOKUP(H4,#REF!,3,0) -> #REF!
A6: I.EQUIPO
A7: Descripción | D7: Tipo | E7: Tarifa/Hora | F7: Rendimiento | G7: Valor-Unit.
A8: Herramienta menor | D8: % | E8: 19396.28 | F8: 0.15 | G8: =+E8*F8 -> 2909.442
A9: Minicargador | D9: h | E9: 150000 | F9: 0.03 | G9: =+E9*F9 -> 4500
G11: Sub-Total | H11: =SUM(G8:G10) -> 7409.442
A12: II. MATERIALES EN OBRA
A13: Descripción | D13: Unidad | E13: Precio-Unit. | F13: Cantidad | G13: Valor-Unit.
G14: =+F14*E14 -> 0
G17: Sub-Total | H17: =SUM(G14:G16) -> 0
A18: III.TRANSPORTES
A19: Material | C19: Vol-Peso ó Cant. | D19: Distancia | E19: M3-KM | F19: Tarifa | G19: Valor-Unit.
G23: Sub-Total | H23: =SUM(G20:G22) -> 0
A24: IV. MANO DE OBRA
A25: Trabajador | C25: Jornal | D25: Prestaciones | E25: Jornal Total | F25: Rendimiento | G25: Valor-Unit.
A26: 1 Oficial | C26: 1 | E26: 196414.19 | F26: =1.5/8 -> 0.1875 | G26: =+E26*F26*C26 -> 36827.66
G29: Sub-Total | H29: =SUM(G26:G28) -> 36827.66
E31: Total Costo Directo | H31: =ROUND((+H11+H17+H23+H29),4) -> 44237.102
A33: V. AU
A34: Descripción | D34: PORCENTAJE | E34: Tarifa/Hora | F34: Rendimiento | G34: Valor-Unit.
A35: ADMINISTRACIÓN | D35: =+#REF! -> #REF! | G35: =$H$31*D35 -> #REF!
A36: UTILIDADES | D36: 0.05 | G36: =$H$31*D36 -> 2211.8551
G37: Sub-Total
E40: Total Costo | H40: =ROUND(H37+H31,0) -> 44237

Sheet 5. plastico 
A1: FORMATO DE ANALISIS DE PRECIOS UNITARIOS-APU
A2: REPUBLICA DE COLOMBIA | E2: ANALISIS DE PRECIOS UNITARIOS
A4: OBJETO: | B4: =+#REF! -> #REF! | G4: ITEM: | H4: 5
A5: DESCRIPCIÓN: | B5: =VLOOKUP(H4,#REF!,2,0) -> #REF! | G5: UNIDAD: | H5: =VLOOKUP(H4,#REF!,3,0) -> #REF!
A6: I.EQUIPO
A7: Descripción | D7: Tipo | E7: Tarifa/Hora | F7: Rendimiento | G7: Valor-Unit.
A8: Herramienta menor | D8: % | E8: 19396.28 | F8: 0.15 | G8: =+E8*F8 -> 2909.442
G10: Sub-Total | H10: =SUM(G8:G9) -> 2909.442
A11: II. MATERIALES EN OBRA
A12: Descripción | D12: Unidad | E12: Precio-Unit. | F12: Cantidad | G12: Valor-Unit.
A13: Plastico Cal 3.5 | E13: 3686 | F13: 1 | G13: =+F13*E13 -> 3686
G16: Sub-Total | H16: =SUM(G13:G15) -> 3686
A17: III.TRANSPORTES
A18: Material | C18: Vol-Peso ó Cant. | D18: Distancia | E18: M3-KM | F18: Tarifa | G18: Valor-Unit.
G22: Sub-Total | H22: =SUM(G19:G21) -> 0
A23: IV. MANO DE OBRA
A24: Trabajador | C24: Jornal | D24: Prestaciones | E24: Jornal Total | F24: Rendimiento | G24: Valor-Unit.
A25: 1 Oficial | C25: 1 | E25: 196414.19 | F25: 0.025 | G25: =+E25*F25*C25 -> 4910.3547
G28: Sub-Total | H28: =SUM(G25:G27) -> 4910.3547
E30: Total Costo Directo | H30: =ROUND((+H10+H16+H22+H28),4) -> 11505.797
A32: V. AU
A33: Descripción | D33: PORCENTAJE | E33: Tarifa/Hora | F33: Rendimiento | G33: Valor-Unit.
A34: ADMINISTRACIÓN | D34: =+#REF! -> #REF! | G34: =$H$30*D34 -> #REF!
A35: UTILIDADES | D35: 0.05 | G35: =$H$30*D35 -> 575.28984
G36: Sub-Total
E39: Total Costo | H39: =ROUND(H36+H30,0) -> 11506

Sheet 6. relleno suelo
A1: FORMATO DE ANALISIS DE PRECIOS UNITARIOS-APU
A2: REPUBLICA DE COLOMBIA | E2: ANALISIS DE PRECIOS UNITARIOS
A4: OBJETO: | B4: =+#REF! -> #REF! | G4: ITEM: | H4: 6
A5: DESCRIPCIÓN: | B5: =VLOOKUP(H4,#REF!,2,0) -> #REF! | G5: UNIDAD: | H5: =VLOOKUP(H4,#REF!,3,0) -> #REF!
A6: I.EQUIPO
A7: Descripción | D7: Tipo | E7: Tarifa/Hora | F7: Rendimiento | G7: Valor-Unit.
A8: Herramienta menor | D8: % | E8: 5676.96 | F8: 0.05 | G8: =+E8*F8 -> 283.848
A9: Vibrocomactador tipo saltarín | D9: $/hora | E9: 9465 | F9: 0.55 | G9: =+E9*F9 -> 5205.75
G10: =+E10*F10 -> 0
G11: Sub-Total | H11: =SUM(G8:G10) -> 5489.598
A12: II. MATERIALES EN OBRA
A13: Descripción | D13: Unidad | E13: Precio-Unit. | F13: Cantidad | G13: Valor-Unit.
G14: =+F14*E14 -> 0
G17: Sub-Total | H17: =SUM(G14:G16) -> 0
A18: III.TRANSPORTES
A19: Material | C19: Vol-Peso ó Cant. | D19: Distancia | E19: M3-KM | F19: Tarifa | G19: Valor-Unit.
G23: Sub-Total | H23: =SUM(G20:G22) -> 0
A24: IV. MANO DE OBRA
A25: Trabajador | C25: Jornal | D25: Prestaciones | E25: Jornal Total | F25: Rendimiento | G25: Valor-Unit.
A26: 1 Oficial | C26: 1 | E26: 196414.19 | F26: 0.1875 | G26: =+E26*F26*C26 -> 36827.66
G29: Sub-Total | H29: =SUM(G26:G28) -> 36827.66
E31: Total Costo Directo | H31: =ROUND((+H11+H17+H23+H29),4) -> 42317.258
A33: V. AU
A34: Descripción | D34: PORCENTAJE | E34: Tarifa/Hora | F34: Rendimiento | G34: Valor-Unit.
A35: ADMINISTRACIÓN | D35: =+#REF! -> #REF! | G35: =$H$31*D35 -> #REF!
A36: UTILIDADES | D36: 0.05 | G36: =$H$31*D36 -> 2115.8629
G37: Sub-Total
E40: Total Costo | H40: =ROUND(H37+H31,0) -> 42317

Sheet 7. relleno recebo
A1: FORMATO DE ANALISIS DE PRECIOS UNITARIOS-APU
A2: REPUBLICA DE COLOMBIA | E2: ANALISIS DE PRECIOS UNITARIOS
A4: OBJETO: | B4: =+#REF! -> #REF! | G4: ITEM: | H4: 7
A5: DESCRIPCIÓN: | B5: =VLOOKUP(H4,#REF!,2,0) -> #REF! | G5: UNIDAD: | H5: =VLOOKUP(H4,#REF!,3,0) -> #REF!
A6: I.EQUIPO
A7: Descripción | D7: Tipo | E7: Tarifa/Hora | F7: Rendimiento | G7: Valor-Unit.
A8: Herramienta menor | D8: % | E8: 11827 | F8: 0.05 | G8: =+E8*F8 -> 591.35
A9: Vibrocompactador tipo saltarín | D9: $/hora | E9: 10829 | F9: 0.45 | G9: =+E9*F9 -> 4873.05
G10: =+E10*F10 -> 0
G11: Sub-Total | H11: =SUM(G8:G10) -> 5464.4
A12: II. MATERIALES EN OBRA
A13: Descripción | D13: Unidad | E13: Precio-Unit. | F13: Cantidad | G13: Valor-Unit.
A14: Recebo | D14: m3 | E14: 49934 | F14: 1.3 | G14: =+E14*F14 -> 64914.2
G17: Sub-Total | H17: =SUM(G14:G16) -> 64914.2
A18: III.TRANSPORTES
A19: Material | C19: Vol-Peso ó Cant. | D19: Distancia | E19: M3-KM | F19: Tarifa | G19: Valor-Unit.
G23: Sub-Total | H23: =SUM(G20:G22) -> 0
A24: IV. MANO DE OBRA
A25: Trabajador | C25: Jornal | D25: Prestaciones | E25: Jornal Total | F25: Rendimiento | G25: Valor-Unit.
A26: 1 Oficial | C26: 1 | E26: 196414.19 | F26: 0.1875 | G26: =+E26*F26*C26 -> 36827.66
G29: Sub-Total | H29: =SUM(G26:G28) -> 36827.66
E31: Total Costo Directo | H31: =ROUND((+H11+H17+H23+H29),4) -> 107206.26
A33: V. AU
A34: Descripción | D34: PORCENTAJE | E34: Tarifa/Hora | F34: Rendimiento | G34: Valor-Unit.
A35: ADMINISTRACIÓN | D35: =+#REF! -> #REF! | G35: =$H$31*D35 -> #REF!
A36: UTILIDADES | D36: 0.05 | G36: =$H$31*D36 -> 5360.313
G37: Sub-Total
E40: Total Costo | H40: =(H37+H31) -> 107206.26

Sheet 8. concreto 21MPA
A1: FORMATO DE ANALISIS DE PRECIOS UNITARIOS-APU
A2: REPUBLICA DE COLOMBIA | E2: ANALISIS DE PRECIOS UNITARIOS
A4: OBJETO: | B4: =+#REF! -> #REF! | G4: ITEM: | H4: 8
A5: DESCRIPCIÓN: | B5: =VLOOKUP(H4,#REF!,2,0) -> #REF! | G5: UNIDAD: | H5: =VLOOKUP(H4,#REF!,3,0) -> #REF!
A6: I.EQUIPO
A7: Descripción | D7: Tipo | E7: Tarifa/Hora | F7: Rendimiento | G7: Valor-Unit.
A8: Herramienta menor | D8: % | E8: 108862 | F8: 0.05 | G8: =+E8*F8 -> 5443.1
A9: Mezcladora motor a gasolina | D9: $/hora | E9: 10055.5 | F9: 0.25 | G9: =+E9*F9 -> 2513.875
G10: =+E10*F10 -> 0
G11: Sub-Total | H11: =SUM(G8:G10) -> 7956.975
A12: II. MATERIALES EN OBRA
A13: Descripción | D13: Unidad | E13: Precio-Unit. | F13: Cantidad | G13: Valor-Unit.
A14: Agua | D14: Lts | E14: 34 | F14: 170 | G14: =+E14*F14 -> 5780
A15: Arena | D15: m3 | E15: 110940 | F15: 0.56 | G15: =+E15*F15 -> 62126.4
A16: Cemento gris | D16: Kg | E16: 690 | F16: 350 | G16: =+E16*F16 -> 241500
A17: Triturado | D17: m3 | E17: 142000 | F17: 0.84 | G17: =+E17*F17 -> 119280
A18: Vibrador a gasolina | D18: día | E18: 66212 | F18: 0.15 | G18: =+E18*F18 -> 9931.8
A19: Formaleta | D19: m2 | E19: 20000 | F19: 1 | G19: =+E19*F19 -> 20000
G20: Sub-Total | H20: =SUM(G14:G19) -> 458618.2
A21: III.TRANSPORTES
A22: Material | C22: Vol-Peso ó Cant. | D22: Distancia | E22: M3-KM | F22: Tarifa | G22: Valor-Unit.
A23: Transporte interno | D23: 9 | F23: 1900 | G23: =+F23*D23 -> 17100
G26: Sub-Total | H26: =SUM(G23:G25) -> 17100
A27: IV. MANO DE OBRA
A28: Trabajador | C28: Jornal | D28: Prestaciones | E28: Jornal Total | F28: Rendimiento | G28: Valor-Unit.
A29: 1 Oficial | C29: 1 | E29: 196414.19 | F29: 0.75 | G29: =+E29*F29*C29 -> 147310.64
G32: Sub-Total | H32: =SUM(G29:G31) -> 147310.64
E34: Total Costo Directo | H34: =ROUND((+H11+H20+H26+H32),4) -> 630985.82
A36: V. AU
A37: Descripción | D37: PORCENTAJE | E37: Tarifa/Hora | F37: Rendimiento | G37: Valor-Unit.
A38: ADMINISTRACIÓN | D38: =+#REF! -> #REF! | G38: =$H$34*D38 -> #REF!
A39: UTILIDADES | D39: 0.05 | G39: =$H$34*D39 -> 31549.291
G40: Sub-Total
E43: Total Costo | H43: =ROUND(H40+H34,0) -> 630986

Sheet 9. concreto Acelerante
A1: FORMATO DE ANALISIS DE PRECIOS UNITARIOS-APU
A2: REPUBLICA DE COLOMBIA | E2: ANALISIS DE PRECIOS UNITARIOS
A4: OBJETO: | B4: =+#REF! -> #REF! | G4: ITEM: | H4: 9
A5: DESCRIPCIÓN: | B5: =VLOOKUP(H4,#REF!,2,0) -> #REF! | G5: UNIDAD: | H5: =VLOOKUP(H4,#REF!,3,0) -> #REF!
A6: I.EQUIPO
A7: Descripción | D7: Tipo | E7: Tarifa/Hora | F7: Rendimiento | G7: Valor-Unit.
A8: Herramienta menor | D8: % | E8: 108862 | F8: 0.1 | G8: =+E8*F8 -> 10886.2
A9: Mezcaldora motor a gasolina | D9: $/hora | E9: 7975 | F9: 0.5 | G9: =+E9*F9 -> 3987.5
G10: =+E10*F10 -> 0
G11: Sub-Total | H11: =SUM(G8:G10) -> 14873.7
A12: II. MATERIALES EN OBRA
A13: Descripción | D13: Unidad | E13: Precio-Unit. | F13: Cantidad | G13: Valor-Unit.
A14: Agua | D14: Lts | E14: 34 | F14: 170 | G14: =+E14*F14 -> 5780
A15: Arena | D15: m3 | E15: 110940 | F15: 0.56 | G15: =+E15*F15 -> 62126.4
A16: Cemento gris | D16: Kg | E16: 690 | F16: 350 | G16: =+E16*F16 -> 241500
A17: Triturado | D17: m3 | E17: 142000 | F17: 0.84 | G17: =+E17*F17 -> 119280
A18: Puntilla 1" | D18: LB | E18: 5304 | F18: 0.2 | G18: =+E18*F18 -> 1060.8
A19: Aditivo para curar el concreto | D19: UND | E19: 46702 | F19: 0.09 | G19: =+E19*F19 -> 4203.18
A20: Sika set x 5kg | D20: UND | E20: 128856 | F20: 1.2 | G20: =+E20*F20 -> 154627.2
A21: formaleta | D21: m2 | E21: 20000 | F21: 1 | G21: =+E21*F21 -> 20000
A22: Vibrador a gasolina | D22: día | E22: 66212 | F22: 0.15 | G22: =+E22*F22 -> 9931.8
G24: Sub-Total | H24: =SUM(G14:G23) -> 618509.38
A25: III.TRANSPORTES
A26: Material | C26: Vol-Peso ó Cant. | D26: Distancia | E26: M3-KM | F26: Tarifa | G26: Valor-Unit.
A27: Transporte interno | D27: 9 | F27: 1900 | G27: =+F27*D27 -> 17100
G30: Sub-Total | H30: =SUM(G27:G29) -> 17100
A31: IV. MANO DE OBRA
A32: Trabajador | C32: Jornal | D32: Prestaciones | E32: Jornal Total | F32: Rendimiento | G32: Valor-Unit.
A33: 1 Oficial | C33: 1 | E33: 196414.19 | F33: 0.75 | G33: =+E33*F33*C33 -> 147310.64
G36: Sub-Total | H36: =SUM(G33:G35) -> 147310.64
E38: Total Costo Directo | H38: =ROUND((+H11+H24+H30+H36),4) -> 797793.72
A40: V. AU
A41: Descripción | D41: PORCENTAJE | E41: Tarifa/Hora | F41: Rendimiento | G41: Valor-Unit.
A42: ADMINISTRACIÓN | D42: =+#REF! -> #REF! | G42: =$H$38*D42 -> #REF!
A43: UTILIDADES | D43: 0.05 | G43: =$H$38*D43 -> 39889.686
G44: Sub-Total
E47: Total Costo | H47: =ROUND(H44+H38,0) -> 797794

Sheet 10. Ciclópeo
A1: FORMATO DE ANALISIS DE PRECIOS UNITARIOS-APU
A2: REPUBLICA DE COLOMBIA | E2: ANALISIS DE PRECIOS UNITARIOS
A4: OBJETO: | B4: =+#REF! -> #REF! | G4: ITEM: | H4: 10
A5: DESCRIPCIÓN: | B5: =VLOOKUP(H4,#REF!,2,0) -> #REF! | G5: UNIDAD: | H5: =VLOOKUP(H4,#REF!,3,0) -> #REF!
A6: I.EQUIPO
A7: Descripción | D7: Tipo | E7: Tarifa/Hora | F7: Rendimiento | G7: Valor-Unit.
A8: Herramienta menor | D8: % | E8: 112924.01 | F8: 0.05 | G8: =+E8*F8 -> 5646.2005
A9: Mezcaldora motor a gasolina | D9: $/hora | E9: 7975 | F9: 0.5 | G9: =+E9*F9 -> 3987.5
G10: =+E10*F10 -> 0
G11: Sub-Total | H11: =SUM(G8:G10) -> 9633.7005
A12: II. MATERIALES EN OBRA
A13: Descripción | D13: Unidad | E13: Precio-Unit. | F13: Cantidad | G13: Valor-Unit.
A14: Agua | D14: Lts | E14: 34 | F14: 140 | G14: =+E14*F14 -> 4760
A15: Arena | D15: m3 | E15: 110940 | F15: 0.34 | G15: =+E15*F15 -> 37719.6
A16: Cemento gris | D16: Kg | E16: 690 | F16: 300 | G16: =+E16*F16 -> 207000
A17: Triturado | D17: m3 | E17: 142000 | F17: 0.58 | G17: =+E17*F17 -> 82360
A18: Piedra ciclópeo | D18: m3 | E18: 98800 | F18: 0.4 | G18: =+E18*F18 -> 39520
A19: formaleta | D19: m2 | E19: 20000 | F19: 1 | G19: =+E19*F19 -> 20000
G21: Sub-Total | H21: =SUM(G14:G20) -> 391359.6
A22: III.TRANSPORTES
A23: Material | C23: Vol-Peso ó Cant. | D23: Distancia | E23: M3-KM | F23: Tarifa | G23: Valor-Unit.
A24: Transporte interno | D24: 9 | F24: 1900 | G24: =+F24*D24 -> 17100
G27: Sub-Total | H27: =SUM(G24:G26) -> 17100
A28: IV. MANO DE OBRA
A29: Trabajador | C29: Jornal | D29: Prestaciones | E29: Jornal Total | F29: Rendimiento | G29: Valor-Unit.
A30: 1 Oficial | C30: 1 | E30: 196414.19 | F30: 0.75 | G30: =+E30*F30*C30 -> 147310.64
G33: Sub-Total | H33: =SUM(G30:G32) -> 147310.64
E35: Total Costo Directo | H35: =ROUND((+H11+H21+H27+H33),4) -> 565403.94
A37: V. AU
A38: Descripción | D38: PORCENTAJE | E38: Tarifa/Hora | F38: Rendimiento | G38: Valor-Unit.
A39: ADMINISTRACIÓN | D39: =+#REF! -> #REF! | G39: =$H$35*D39 -> #REF!
A40: UTILIDADES | D40: 0.05 | G40: =$H$35*D40 -> 28270.197
G41: Sub-Total
E44: Total Costo | H44: =ROUND(H41+H35,0) -> 565404

Sheet 11. Acero
A1: FORMATO DE ANALISIS DE PRECIOS UNITARIOS-APU
A2: REPUBLICA DE COLOMBIA | E2: ANALISIS DE PRECIOS UNITARIOS
A4: OBJETO: | B4: =+#REF! -> #REF! | G4: ITEM: | H4: 11
A5: DESCRIPCIÓN: | B5: =VLOOKUP(H4,#REF!,2,0) -> #REF! | G5: UNIDAD: | H5: =VLOOKUP(H4,#REF!,3,0) -> #REF!
A6: I.EQUIPO
A7: Descripción | D7: Tipo | E7: Tarifa/Hora | F7: Rendimiento | G7: Valor-Unit.
A8: Herramienta menor | D8: % | E8: 993.47 | F8: 0.1 | G8: =+E8*F8 -> 99.347
G9: =+E9*F9 -> 0
G10: =+E10*F10 -> 0
G11: Sub-Total | H11: =SUM(G8:G10) -> 99.347
A12: II. MATERIALES EN OBRA
A13: Descripción | D13: Unidad | E13: Precio-Unit. | F13: Cantidad | G13: Valor-Unit.
A14: Acero Fy = 420 MPa (60.000 psi) d> 1/4" | D14: kg | E14: 4423 | F14: 1.05 | G14: =+E14*F14 -> 4644.15
A15: Alambre negro cal 18 | D15: kg | E15: 6176 | F15: 0.11 | G15: =+E15*F15 -> 679.36
G18: Sub-Total | H18: =SUM(G14:G17) -> 5323.51
A19: III.TRANSPORTES
A20: Material | C20: Vol-Peso ó Cant. | D20: Distancia | E20: M3-KM | F20: Tarifa | G20: Valor-Unit.
G21: =+F21*D21 -> 0
G24: Sub-Total | H24: =SUM(G21:G23) -> 0
A25: IV. MANO DE OBRA
A26: Trabajador | C26: Jornal | D26: Prestaciones | E26: Jornal Total | F26: Rendimiento | G26: Valor-Unit.
A27: 1 Oficial | C27: 1 | E27: 196414.19 | F27: 0.01 | G27: =+E27*F27*C27 -> 1964.1419
G30: Sub-Total | H30: =SUM(G27:G29) -> 1964.1419
E32: Total Costo Directo | H32: =ROUND((+H11+H18+H24+H30),4) -> 7386.9989
A34: V. AU
A35: Descripción | D35: PORCENTAJE | E35: Tarifa/Hora | F35: Rendimiento | G35: Valor-Unit.
A36: ADMINISTRACIÓN | D36: =+#REF! -> #REF! | G36: =$H$32*D36 -> #REF!
A37: UTILIDADES | D37: 0.05 | G37: =$H$32*D37 -> 369.34994
G38: Sub-Total
E41: Total Costo | H41: =ROUND(H38+H32,0) -> 7387

Sheet 12. corte
A1: FORMATO DE ANALISIS DE PRECIOS UNITARIOS-APU
A2: REPUBLICA DE COLOMBIA | E2: ANALISIS DE PRECIOS UNITARIOS
A4: OBJETO: | B4: =+#REF! -> #REF! | G4: ITEM: | H4: 12
A5: DESCRIPCIÓN: | B5: =VLOOKUP(H4,#REF!,2,0) -> #REF! | G5: UNIDAD: | H5: =VLOOKUP(H4,#REF!,3,0) -> #REF!
A6: I.EQUIPO
A7: Descripción | D7: Tipo | E7: Tarifa/Hora | F7: Rendimiento | G7: Valor-Unit.
A8: Equipo para corte de juntas en soleras de concreto. | E8: 18538.29 | F8: 0.45 | G8: =+E8*F8 -> 8342.2305
A9: Herramienta menor | E9: 4059.78 | F9: 0.02 | G9: =+E9*F9 -> 81.1956
G10: =+E10*F10 -> 0
G11: Sub-Total | H11: =SUM(G8:G10) -> 8423.4261
A12: II. MATERIALES EN OBRA
A13: Descripción | D13: Unidad | E13: Precio-Unit. | F13: Cantidad | G13: Valor-Unit.
G16: Sub-Total | H16: =SUM(G14:G15) -> 0
A17: III.TRANSPORTES
A18: Material | C18: Vol-Peso ó Cant. | D18: Distancia | E18: M3-KM | F18: Tarifa | G18: Valor-Unit.
G21: Sub-Total | H21: =SUM(G19:G20) -> 0
A22: IV. MANO DE OBRA
A23: Trabajador | C23: Jornal | D23: Prestaciones | E23: Jornal Total | F23: Rendimiento | G23: Valor-Unit.
A24: 1 Oficial | C24: 1 | E24: 196414.19 | F24: 0.02 | G24: =+E24*F24*C24 -> 3928.2838
G27: Sub-Total | H27: =SUM(G24:G26) -> 3928.2838
E29: Total Costo Directo | H29: =ROUND((+H11+H16+H21+H27),4) -> 12351.71
A31: V. AU
A32: Descripción | D32: PORCENTAJE | E32: Tarifa/Hora | F32: Rendimiento | G32: Valor-Unit.
A33: ADMINISTRACIÓN | D33: =+#REF! -> #REF! | G33: =$H$29*D33 -> #REF!
A34: UTILIDADES | D34: 0.05 | G34: =$H$29*D34 -> 617.5855
G35: Sub-Total
E38: Total Costo | H38: =ROUND(H35+H29,0) -> 12352

Sheet 13. Malla electro
A1: FORMATO DE ANALISIS DE PRECIOS UNITARIOS-APU
A2: REPUBLICA DE COLOMBIA | E2: ANALISIS DE PRECIOS UNITARIOS
A4: OBJETO: | B4: =+#REF! -> #REF! | G4: ITEM: | H4: 13
A5: DESCRIPCIÓN: | B5: =VLOOKUP(H4,#REF!,2,0) -> #REF! | G5: UNIDAD: | H5: =VLOOKUP(H4,#REF!,3,0) -> #REF!
A6: I.EQUIPO
A7: Descripción | D7: Tipo | E7: Tarifa/Hora | F7: Rendimiento | G7: Valor-Unit.
A8: Herramienta menor | D8: % | E8: 993.47 | F8: 0.1 | G8: =+E8*F8 -> 99.347
G9: =+E9*F9 -> 0
G10: =+E10*F10 -> 0
G11: Sub-Total | H11: =SUM(G8:G10) -> 99.347
A12: II. MATERIALES EN OBRA
A13: Descripción | D13: Unidad | E13: Precio-Unit. | F13: Cantidad | G13: Valor-Unit.
A14: Malla electrosoldada 15x15 5mm | D14: kg | E14: 14664 | F14: 1.05 | G14: =+E14*F14 -> 15397.2
A15: Alambre negro cal 18 | D15: kg | E15: 6176 | F15: 0.03 | G15: =+E15*F15 -> 185.28
G18: Sub-Total | H18: =SUM(G14:G17) -> 15582.48
A19: III.TRANSPORTES
A20: Material | C20: Vol-Peso ó Cant. | D20: Distancia | E20: M3-KM | F20: Tarifa | G20: Valor-Unit.
A21: Equipo de transporte | D21: 0.0005 | F21: 180217 | G21: =+F21*D21 -> 90.1085
G24: Sub-Total | H24: =SUM(G21:G23) -> 90.1085
A25: IV. MANO DE OBRA
A26: Trabajador | C26: Jornal | D26: Prestaciones | E26: Jornal Total | F26: Rendimiento | G26: Valor-Unit.
A27: 1 Oficial | C27: 1 | E27: 196414.19 | F27: 0.02 | G27: =+E27*F27*C27 -> 3928.2838
G30: Sub-Total | H30: =SUM(G27:G29) -> 3928.2838
E32: Total Costo Directo | H32: =ROUND((+H11+H18+H24+H30),4) -> 19700.219
A34: V. AU
A35: Descripción | D35: PORCENTAJE | E35: Tarifa/Hora | F35: Rendimiento | G35: Valor-Unit.
A36: ADMINISTRACIÓN | D36: =+#REF! -> #REF! | G36: =$H$32*D36 -> #REF!
A37: UTILIDADES | D37: 0.05 | G37: =$H$32*D37 -> 985.01097
G38: Sub-Total
E41: Total Costo | H41: =ROUND(H38+H32,0) -> 19700

Sheet 14. Cordón en sueloc
A1: FORMATO DE ANALISIS DE PRECIOS UNITARIOS-APU
A2: REPUBLICA DE COLOMBIA | E2: ANALISIS DE PRECIOS UNITARIOS
A4: OBJETO: | B4: =+#REF! -> #REF! | G4: ITEM: | H4: 14
A5: DESCRIPCIÓN: | B5: =VLOOKUP(H4,#REF!,2,0) -> #REF! | G5: UNIDAD: | H5: =VLOOKUP(H4,#REF!,3,0) -> #REF!
A6: I.EQUIPO
A7: Descripción | D7: Tipo | E7: Tarifa/Hora | F7: Rendimiento | G7: Valor-Unit.
A8: Herramienta menor | D8: % | E8: 3623 | F8: 0.15 | G8: =+E8*F8 -> 543.45
G9: =+E9*F9 -> 0
G10: =+E10*F10 -> 0
G11: Sub-Total | H11: =SUM(G8:G10) -> 543.45
A12: II. MATERIALES EN OBRA
A13: Descripción | D13: Unidad | E13: Precio-Unit. | F13: Cantidad | G13: Valor-Unit.
A14: SUELO CEMENTO 10:1 | D14: m3 | E14: 202387 | F14: 0.01 | G14: =+E14*F14 -> 2023.87
G18: Sub-Total | H18: =SUM(G14:G17) -> 2023.87
A19: III.TRANSPORTES
A20: Material | C20: Vol-Peso ó Cant. | D20: Distancia | E20: M3-KM | F20: Tarifa | G20: Valor-Unit.
A21: ACARREO INTERNO | D21: 0.159 | F21: 1897 | G21: =+F21*D21 -> 301.623
G24: Sub-Total | H24: =SUM(G21:G23) -> 301.623
A25: IV. MANO DE OBRA
A26: Trabajador | C26: Jornal | D26: Prestaciones | E26: Jornal Total | F26: Rendimiento | G26: Valor-Unit.
G27: =+E27*F27*C27 -> 0
G30: Sub-Total | H30: =SUM(G27:G29) -> 0
E32: Total Costo Directo | H32: =ROUND((+H11+H18+H24+H30),4) -> 2868.943
A34: V. AU
A35: Descripción | D35: PORCENTAJE | E35: Tarifa/Hora | F35: Rendimiento | G35: Valor-Unit.
A36: ADMINISTRACIÓN | D36: =+#REF! -> #REF! | G36: =$H$32*D36 -> #REF!
A37: UTILIDADES | D37: 0.05 | G37: =$H$32*D37 -> 143.44715
G38: Sub-Total
E41: Total Costo | H41: =ROUND(H38+H32,0) -> 2869

Sheet 15. Limpieza de Alcant
A1: FORMATO DE ANALISIS DE PRECIOS UNITARIOS-APU
A2: REPUBLICA DE COLOMBIA | E2: ANALISIS DE PRECIOS UNITARIOS
A4: OBJETO: | B4: =+#REF! -> #REF! | G4: ITEM: | H4: 15
A5: DESCRIPCIÓN: | B5: =VLOOKUP(H4,#REF!,2,0) -> #REF! | G5: UNIDAD: | H5: =VLOOKUP(H4,#REF!,3,0) -> #REF!
A7: DATOS ESPECÍFICOS
A9: ITEM | B9: DESCRIPCIÓN | K9: UNIDAD | L9: CANTIDAD
K10: M2
A12: I. EQUIPO
A14: DESCRIPCIÓN | F14: MARCA | H14: TIPO | J14: TARIFA/HORA | K14: RENDIMIENTO | L14: Vr. UNITARIO
A15: EQUIPO BASICO (HERRAMIENTA MENOR) | K15: 0.09 | L15: 4000
A18: SUBTOTAL $ | L18: =+L15*K15 -> 360
A20: II. MATERIALES
A22: DESCRIPCIÓN | I22: UNIDAD | J22: CANTIDAD | K22: PRECIO UNIT. | L22: Vr. UNITARIO
A23: COSTAL | J23: 80 | K23: 1200 | L23: =+K23*J23 -> 96000
A30: SUBTOTAL $ | L30: =SUM(L23:L29) -> 96000
A32: III. TRANSPORTES
A34: MATERIAL | H34: VOL. o PESO | I34: DISTANCIA | J34: M3 o Ton/Km | K34: TARIFA | L34: Vr. UNITARIO
A37: SUBTOTAL $ | L37: =SUM(L35:L36) -> 0
A39: IV. MANO DE OBRA
A41: TRABAJADOR | H41: JORNAL | I41: PRESTACIONES | J41: JORNAL TOTAL | K41: RENDIMIENTO | L41: Vr. UNITARIO
L42: =+J42*K42 -> 0
A44: SUBTOTAL $ | L44: =SUM(L42:L43) -> 0
A46: TOTAL COSTO DIRECTO $ | L46: =ROUND(L18+L30+L37+L44,0) -> 96360
F54: (Firma)
F55: (Nombre)
A56: Contratista
A58: OBSERVACIONES
A63: ELABORO:
A64: M.P.
A67: FIRMA

Sheet 16. Roceria
B1: FORMATO DE ANALISIS DE PRECIOS UNITARIOS-APU
B2: REPUBLICA DE COLOMBIA | F2: ANALISIS DE PRECIOS UNITARIOS
B4: OBJETO: | C4: =+#REF! -> #REF! | H4: ITEM: | I4: 16
B5: DESCRIPCIÓN: | C5: =VLOOKUP(I4,#REF!,2,0) -> #REF! | H5: UNIDAD: | I5: =VLOOKUP(I4,#REF!,3,0) -> #REF!
B8: DATOS ESPECÍFICOS
B10: ÍTEM | C10: DESCRIPCIÓN | K10: GRUPO DE AJUSTE | L10: UNIDAD | N10: CANTIDAD
B11: 200,1,2 | C11: DESMONTE Y LIMPIEZA EN BOSQUE (Análisis aplicado para la tala de árboles, remoción de tocones, desraíce y limpieza en zonas de vegetación en forma de bosque continuo) | L11: m2
B12: ,
B13: I. EQUIPO
B15: CÓDIGO | C15: DESCRIPCIÓN | J15: TIPO | K15: TARIFA/HORA | L15: RENDIMIENTO | N15: Vr. UNITARIO
B16: C0010140 | C16: Cargador: potencia en el volante 125 hp, clasificación de rpm del motor 2300 | K16: 202300 | L16: 0.0010596588 | N16: =IF(L16="","",ROUND(L16*K16,2)) -> 214.37
B17: C0010620 | C17: Motosierra, 4.5 HP - 7.1 HP, longitud de espada 45-90 cm | K17: 6487.5 | L17: 0.0010596588 | N17: =IF(L17="","",ROUND(L17*K17,2)) -> 6.87
B18: C0010052 | C18: Buldozer, potencia al volante de 140 HP, motor de 2200 RPM, longitud de hoja 4,80m | K18: 249900 | L18: 0.0010596588 | N18: =IF(L18="","",ROUND(L18*K18,2)) -> 264.81
B19: C0010015 | C19: Astilladora de madera para triturar, potencia aproximada 75 HP | K19: 98628.911 | L19: 0.0010596588 | N19: =IF(L19="","",ROUND(L19*K19,2)) -> 104.51
B20: C0010190 | C20: Compactador manual vibratorio (rana) con motor de 6 hp | K20: 5741.75 | L20: 0.0010596588 | N20: =IF(L20="","",ROUND(L20*K20,2)) -> 6.08
N21: =IF(L21="","",ROUND(L21*K21,2))
N22: =IF(L22="","",ROUND(L22*K22,2))
N23: =IF(L23="","",ROUND(L23*K23,2))
N24: =IF(L24="","",ROUND(L24*K24,2))
N25: =IF(L25="","",ROUND(L25*K25,2))
N26: =IF(L26="","",ROUND(L26*K26,2))
N27: =IF(L27="","",ROUND(L27*K27,2))
N28: =IF(L28="","",ROUND(L28*K28,2))
N29: =IF(L29="","",ROUND(L29*K29,2))
B30: HERMENINV | C30: HERRAMIENTA MENOR (% MANO DE OBRA) | J30: % | K30: =IF(B30="","",N77) -> 0 | L30: 0.05 | N30: =IF(K30="","",ROUND(L30*K30,2)) -> 0
B31: SUBTOTAL $ | N31: =ROUND(SUM(N16:N30),2) -> 596.64
B33: II. MATERIALES
B35: CÓDIGO | C35: DESCRIPCIÓN | J35: UNIDAD | K35: CANTIDAD | L35: PRECIO UNIT. | N35: Vr. UNITARIO
B36: B0013791 | C36: Derechos de conformación y/o disposición de materiales sobrantes (Incluye todos los costos inherentes a las posibles obras requeridas en los sitios de disposición de sobrantes) | J36: m3 | K36: 0.04 | L36: 6942.4594 | N36: =IF(L36="","",ROUND(L36*K36,2)) -> 277.7
N37: =IF(L37="","",ROUND(L37*K37,2))
N38: =IF(L38="","",ROUND(L38*K38,2))
N39: =IF(L39="","",ROUND(L39*K39,2))
N40: =IF(L40="","",ROUND(L40*K40,2))
N41: =IF(L41="","",ROUND(L41*K41,2))
N42: =IF(L42="","",ROUND(L42*K42,2))
N43: =IF(L43="","",ROUND(L43*K43,2))
N44: =IF(L44="","",ROUND(L44*K44,2))
N45: =IF(L45="","",ROUND(L45*K45,2))
N46: =IF(L46="","",ROUND(L46*K46,2))
N47: =IF(L47="","",ROUND(L47*K47,2))
...

Sheet 18. Sobreacarreo al hombro
A1: FORMATO DE ANALISIS DE PRECIOS UNITARIOS-APU
A2: REPUBLICA DE COLOMBIA | E2: ANALISIS DE PRECIOS UNITARIOS
A4: OBJETO: | B4: =+#REF! -> #REF! | G4: ITEM: | H4: 18
A5: DESCRIPCIÓN: | B5: =VLOOKUP(H4,#REF!,2,0) -> #REF! | G5: UNIDAD: | H5: =VLOOKUP(H4,#REF!,3,0) -> #REF!
A9: DATOS ESPECÍFICOS
A11: ITEM | B11: DESCRIPCIÓN | K11: UNIDAD | L11: CANTIDAD
A12: P3 | B12: SOBREACARREO EN VEHICULO NO AUTOMOTOR AL HOMBRO EN FUERTE PENDIENTE | K12: M3-HM
A14: I. EQUIPO
A16: DESCRIPCIÓN | F16: MARCA | H16: TIPO | J16: TARIFA/HORA | K16: RENDIMIENTO | L16: Vr. UNITARIO
A17: Herramienta menor | F17: Gl | L17: =+L46*0.03 -> 0
A20: SUBTOTAL $ | L20: =SUM(L17:L19) -> 0
A22: II. MATERIALES
A24: DESCRIPCIÓN | I24: UNIDAD | J24: CANTIDAD | K24: PRECIO UNIT. | L24: Vr. UNITARIO
A32: SUBTOTAL $ | L32: =SUM(L25:L31) -> 0
A34: III. TRANSPORTES
A36: MATERIAL | H36: VOL. o PESO | I36: DISTANCIA | J36: M3 o Ton/Km | K36: TARIFA | L36: Vr. UNITARIO
L37: =+J37*K37 -> 0
L38: =+J38*K38 -> 0
A39: SUBTOTAL $ | L39: =SUM(L37:L38) -> 0
A41: IV. MANO DE OBRA
A43: TRABAJADOR | H43: JORNAL | I43: PRESTACIONES | J43: JORNAL TOTAL | K43: RENDIMIENTO | L43: Vr. UNITARIO
I44: 0.85 | J44: =+H44*1.85 -> 0 | K44: 3 | L44: =+J44/K44 -> 0
A46: SUBTOTAL $ | L46: =SUM(L44:L45) -> 0
A48: TOTAL COSTO DIRECTO $ | L48: =ROUND(L20+L32+L39+L46,0) -> 0
F56: (Firma)
F57: (Nombre)
A58: Contratista
A60: OBSERVACIONES INTERVENTORÍA
A65: ELABORO:
A66: M.P.
A69: FIRMA

Sheet 19. Alquiler Campamento
A1: FORMATO DE ANALISIS DE PRECIOS UNITARIOS-APU
A2: REPUBLICA DE COLOMBIA | E2: ANALISIS DE PRECIOS UNITARIOS
A4: OBJETO: | B4: =+#REF! -> #REF! | G4: ITEM: | H4: 19
A5: DESCRIPCIÓN: | B5: =VLOOKUP(H4,#REF!,2,0) -> #REF! | G5: UNIDAD: | H5: =VLOOKUP(H4,#REF!,3,0) -> #REF!
A6: I.EQUIPO
A7: Descripción | D7: Unidad | E7: Tarifa/mes | F7: Rendimiento | G7: Valor-Unit.
A8: ALQUILER DE BODEGA PARA CAMPAMENTO | D8: mes | E8: 345926 | F8: 1 | G8: =+E8*F8 -> 345926
G11: Sub-Total | H11: =SUM(G8:G10) -> 345926
A13: V. AU
A14: Descripción | D14: PORCENTAJE | E14: Tarifa/Hora | F14: Rendimiento | G14: Valor-Unit.
A15: ADMINISTRACIÓN | D15: =+#REF! -> #REF! | G15: =H11*D15 -> #REF!
A16: UTILIDADES | D16: 0.05 | G16: =+H11*D16 -> 17296.3
G17: Sub-Total
E20: Total Costo | H20: =ROUND(H17+H11,0) -> 345926

Sheet 20. Sardinel
A1: FORMATO DE ANALISIS DE PRECIOS UNITARIOS-APU
A2: REPUBLICA DE COLOMBIA | E2: ANALISIS DE PRECIOS UNITARIOS
A4: OBJETO: | B4: =+#REF! -> #REF! | G4: ITEM: | H4: 20
A5: DESCRIPCIÓN: | B5: =VLOOKUP(H4,#REF!,2,0) -> #REF! | G5: UNIDAD: | H5: =VLOOKUP(H4,#REF!,3,0) -> #REF!
A6: I.EQUIPO
A7: Descripción | D7: Tipo | E7: Tarifa/Hora | F7: Rendimiento | G7: Valor-Unit.
A8: Herramienta menor | D8: % | E8: 108862 | F8: 0.05 | G8: =+E8*F8 -> 5443.1
A9: Mezcladora motor a gasolina | D9: $/hora | E9: 10055.5 | F9: 0.25 | G9: =+E9*F9 -> 2513.875
G10: =+E10*F10 -> 0
G11: Sub-Total | H11: =SUM(G8:G10) -> 7956.975
A12: II. MATERIALES EN OBRA
A13: Descripción | D13: Unidad | E13: Precio-Unit. | F13: Cantidad | G13: Valor-Unit.
A14: Agua | D14: Lts | E14: 34 | F14: 5.4 | G14: =+E14*F14 -> 183.6
A15: Arena | D15: m3 | E15: 110940 | F15: =0.56*0.15*0.2 -> 0.0168 | G15: =+E15*F15 -> 1863.792
A16: Cemento gris | D16: Kg | E16: 690 | F16: =0.15*0.2*350 -> 10.5 | G16: =+E16*F16 -> 7245
A17: Triturado | D17: m3 | E17: 142000 | F17: =0.84*0.15*0.2 -> 0.0252 | G17: =+E17*F17 -> 3578.4
A18: Vibrador a gasolina | D18: día | E18: 66212 | F18: 0.15 | G18: =+E18*F18 -> 9931.8
A19: Formaleta | D19: m2 | E19: 20000 | F19: 1 | G19: =+E19*F19 -> 20000
G20: Sub-Total | H20: =SUM(G14:G19) -> 42802.592
A21: III.TRANSPORTES
A22: Material | C22: Vol-Peso ó Cant. | D22: Distancia | E22: M3-KM | F22: Tarifa | G22: Valor-Unit.
A23: Transporte interno | D23: 9 | F23: 1900 | G23: =+F23*D23 -> 17100
G26: Sub-Total | H26: =SUM(G23:G25) -> 17100
A27: IV. MANO DE OBRA
A28: Trabajador | C28: Jornal | D28: Prestaciones | E28: Jornal Total | F28: Rendimiento | G28: Valor-Unit.
A29: 1 Oficial | C29: 1 | E29: 196414.19 | F29: 0.033333333 | G29: =+E29*F29*C29 -> 6547.1396
G32: Sub-Total | H32: =SUM(G29:G31) -> 6547.1396
E34: Total Costo Directo | H34: =ROUND((+H11+H20+H26+H32),4) -> 74406.707
A36: V. AU
A37: Descripción | D37: PORCENTAJE | E37: Tarifa/Hora | F37: Rendimiento | G37: Valor-Unit.
A38: ADMINISTRACIÓN | D38: =+#REF! -> #REF! | G38: =$H$34*D38 -> #REF!
A39: UTILIDADES | D39: 0.05 | G39: =$H$34*D39 -> 3720.3353
G40: Sub-Total
E43: Total Costo | H43: =ROUND(H40+H34,0) -> 74407

Sheet SOBREACARREO
A1: MEMORIAS DE CALCULO DE CANTIDADES DE OBRA
A2: Contratista:
A3: Objeto: | C3: =#REF! -> #REF!
A4: Base No. | B4: Item No. | C4: Unidad | D4: Descripción | G4: Acta | J4: Fecha preacta
B5: 1.1 | C5: M3 | D5: SOBREACARREO
A6: Localización / Descripción | E6: Dimensiones promedio | K6: Medida Total
E7: Ancho (m) | F7: COSTO SOBREACARREO VIAJE | G7: COSTO SOBREACARREO M3 | H7: Área (m2) | I7: Volumen (m3) | J7: Nº Elementos / factor de expansión
A9: =+MC!A9 -> Banderas Sector El madroño | F9: 850000 | G9: =+F9/7 -> 121428.57 | J9: 1 | K9: =+J9*F9 -> 850000
A10: =+MC!A10 -> Pisamo | F10: 800000 | G10: =+F10/7 -> 114285.71 | J10: 1 | K10: =+J10*F10 -> 800000
A11: =+MC!A11 -> El Cairo | F11: 1100000 | G11: =+F11/7 -> 157142.86 | J11: 1 | K11: =+J11*F11 -> 1100000
A12: =+MC!A12 -> Sarciri sector Empocaldas | F12: 900000 | G12: =+F12/7 -> 128571.43 | J12: 1 | K12: =+J12*F12 -> 900000
A13: =+MC!#REF! -> #REF! | F13: 1100000 | G13: =+F13/7 -> 157142.86 | J13: 1 | K13: =+J13*F13 -> 1100000
F14: 900000 | G14: =+F14/7 -> 128571.43 | J14: 1 | K14: =+J14*F14 -> 900000
F15: 750000 | G15: =+F15/7 -> 107142.86 | J15: 1 | K15: =+J15*F15 -> 750000
F16: 1100000 | G16: =+F16/7 -> 157142.86 | J16: 1 | K16: =+J16*F16 -> 1100000
F17: 800000 | G17: =+F17/7 -> 114285.71 | J17: 1 | K17: =+J17*F17 -> 800000
F18: 800000 | G18: =+F18/7 -> 114285.71 | J18: 1 | K18: =+J18*F18 -> 800000
F19: 800000 | G19: =+F19/7 -> 114285.71 | J19: 1 | K19: =+J19*F19 -> 800000
F20: 1100000 | G20: =+F20/7 -> 157142.86 | J20: 1 | K20: =+J20*F20 -> 1100000
F21: 700000 | G21: =+F21/7 -> 100000 | J21: 1 | K21: =+J21*F21 -> 700000
F22: 850000 | G22: =+F22/7 -> 121428.57 | J22: 1 | K22: =+J22*F22 -> 850000
F23: 800000 | G23: =+F23/7 -> 114285.71 | J23: 1 | K23: =+J23*F23 -> 800000
F24: 900000 | G24: =+F24/7 -> 128571.43 | J24: 1 | K24: =+J24*F24 -> 900000
F25: 750000 | G25: =+F25/7 -> 107142.86 | J25: 1 | K25: =+J25*F25 -> 750000
... F28: 1100000 | G28: =+F28/7 -> 157142.86 | J28: 1 | K28: =+J28*F28 -> 1100000
E30: promedio | F30: =AVERAGE(F9:F28) -> 902500 | G30: =AVERAGE(G9:G28) -> 128928.57 | H30: =AVERAGE(H9:H28) -> #DIV/0! | I30: =AVERAGE(I9:I28) -> #DIV/0! | J30: =AVERAGE(J9:J28) -> 1 | K30: =AVERAGE(K9:K28) -> 902500

Sheet AU
A1: ANALISIS DE AU
A4: INFORMACION GENERAL DEL CONTRATO:
A5: OBJETO:
B6: AU (calculado): | C6: =ROUND(D39,4) -> 0.345 | D6: PLAZO (meses): | E6: 2.5
B7: COSTO DIRECTO: | C7: 349442379 | D7: Anticipo:
B8: VALOR TOTAL DE LA OFERTA: | C8: 469999999 | D8: Salario Minimo: | E8: 1750905
A11: PERSONAL DE PLANILLA (con vinculacion) | B11: SUELDO MES | C11: DEDICACION MES | D11: No. MESES | E11: V/r PARCIAL
A12: Residente de obra | B12: 3700000 | C12: 0.75 | D12: =+E6 -> 2.5 | E12: =B12*C12*D12 -> 6937500
A13: Maestro de obra | B13: 2600000 | C13: 1 | D13: =+D12 -> 2.5 | E13: =B13*C13*D13 -> 6500000
A14: Subtotal Personal | E14: =SUM(E12:E13) -> 13437500
A15: Factor Prestacional | D15: =+'[165]Analisis Factor Prestacional'!C28 -> 0.8087 | E15: =E14*D15 -> 10866906
A16: Total Personal | E16: =E14+E15 -> 24304406
A17: PERSONAL ASESOR | B17: SUELDO MES | C17: DEDICACION MES | D17: No. MESES | E17: V/r PARCIAL
A18: Asesor en Seguridad y Salud en el Trabajo | B18: 2500000 | C18: 0.75 | D18: =+E6 -> 2.5 | E18: =ROUND(B18*C18*D18,0) -> 4687500
A19: Asesor social | B19: 2500000 | C19: 0.5 | D19: =+E6 -> 2.5 | E19: =ROUND(B19*C19*D19,0) -> 3125000
A20: Subtotal Personal | E20: =SUM(E18:E19) -> 7812500
A21: Factor Prestacional | D21: 0.0696 | E21: =E20*D21 -> 543750
A22: Total Personal | E22: =E20+E21 -> 8356250
A25: IMPUESTOS Y LEGALIZACIÓN | B25: VALOR | C25: CANTIDAD | E25: V/r PARCIAL
A26: Pólizas | B26: 4.7e+08 | C26: 0.0098400959 | E26: =B26*C26 -> 4624845
A27: Estampilla Pro cultura | B27: 4.7e+08 | C27: 0.02 | E27: =B27*C27 -> 9400000
A28: Estampilla Pro deporte | B28: 4.7e+08 | C28: 0.01 | E28: =B28*C28 -> 4700000
A29: Estampilla Pro Adulto mayor | B29: 4.7e+08 | C29: 0.04 | E29: =B29*C29 -> 18800000
A30: Estampilla Pro justicia | B30: 4.7e+08 | C30: 0.02 | E30: =B30*C30 -> 9400000
A31: Contribucion Especial | B31: 4.7e+08 | C31: 0.05 | E31: =B31*C31 -> 23500000
A33: Subtotal Impuestos | E33: =SUM(E26:E31) -> 70424845
A35: VALOR TOTAL ADMINISTRACION | D35: =+E35/C7 -> 0.295 | E35: =ROUND(E16+E22+E33,0) -> 103085501
A37: VALOR UTILIDAD | D37: 0.05 | E37: =ROUND(D37*$C$7,0) -> 17472119
A39: AU CALCULADO | D39: =+D37+D35 -> 0.345

Sheet MC
A1: MEMORIAS DE CALCULO DE CANTIDADES DE OBRA
A2: Contratista:
A3: Objeto:
A4: Base No. | D4: Acta | G4: Fecha preacta
D5: PRESUPUESTO DE OBRA
A6: Localización / Descripción | B6: Dimensiones promedio | H6: Medida Total
B7: Ancho (m) | C7: Longitud (m) | D7: Espesor / Altura (m) | E7: Área (m2) | F7: Volumen (m3) | G7: Nº Elementos / factor de expansión
A9: Banderas Sector El madroño | C9: =+$H$34/4 -> 102.10482 | G9: 1 | H9: =+G9*C9 -> 102.10482
A10: Pisamo | C10: =+$H$34/4 -> 102.10482 | G10: 1 | H10: =+G10*C10 -> 102.10482
A11: El Cairo | C11: =+$H$34/4 -> 102.10482 | G11: 1 | H11: =+G11*C11 -> 102.10482
A12: Sarciri sector Empocaldas | C12: =+$H$34/4 -> 102.10482 | G12: 1 | H12: =+G12*C12 -> 102.10482
G13: 1 | H13: =+G13*C13 -> 0
G14: 1 | H14: =+G14*C14 -> 0
G15: 1 | H15: =+G15*C15 -> 0
G16: 1 | H16: =+G16*C16 -> 0
G17: 1 | H17: =+G17*C17 -> 0
G18: 1 | H18: =+G18*C18 -> 0
G19: 1 | H19: =+G19*C19 -> 0
G20: 1 | H20: =+G20*C20 -> 0
G21: 1 | H21: =+G21*C21 -> 0
G22: 1 | H22: =+G22*C22 -> 0
G23: 1 | H23: =+G23*C23 -> 0
G24: 1 | H24: =+G24*C24 -> 0
... G27: 1 | H27: =+G27*C27 -> 0
A28: Supervisor | C28: Contratista
A34: Total Item Acumulado | H34: 408.41926 | J34: =AVERAGE(J9:J27) -> #DIV/0! | K34: =+J34/$H$34 -> #DIV/0!

Sheet PRESUPUESTO RESUMEN
B1: ALCALDIA DE RISARALDA, CALDAS
B2: CONSTRUCCIÓN DE PLACA HUELLA EN LA ZONA RURAL DEL MUNICIPIO DE RISARALDA, CALDAS - SIN MANO DE OBRA (JAC)
B3: ITEM | C3: ACTIVIDAD | D3: UNIDAD | E3: VR. UNITARIO | F3: CANT TOTAL | G3: VR TOTAL
C4: PRELIMINARES | G4: =ROUNDUP(SUM(G5:G7),0) -> 20089122
B5: 1 | C5: Conformación de calzada existente | D5: m2 | E5: =+'3. conformación calzada'!H40*1.345 -> 710.16 | F5: 1592.8351 | G5: =+E5*F5 -> 1131167.8
B6: 2 | C6: Excavaciones varias en material común (manual) | D6: m3 | E6: =+'4. excavación '!H40*1.345 -> 59498.765 | F6: 159.28351 | G6: =+E6*F6 -> 9477172.2
B7: 3 | C7: suministro transporte e instalación de plástico para protección de concreto | D7: m2 | E7: =+'5. plastico '!H39*1.345 -> 15475.57 | F7: 612.62889 | G7: =+E7*F7 -> 9480781.3
C8: CIMENTACIÓN | G8: =ROUNDUP(SUM(G9:G10),2) -> 27151708
B9: 4 | C9: Rellenos para estructuras con suelo | D9: m3 | E9: =+'6. relleno suelo'!H40*1.345 -> 56916.365 | F9: 73.515467 | G9: =+E9*F9 -> 4184233.2
B10: 5 | C10: Rellenos para estructuras con recebo | D10: m3 | E10: =+'7. relleno recebo'!H40*1.345 -> 144192.42 | F10: 159.28351 | G10: =+E10*F10 -> 22967475
C11: CONCRETOS | G11: =ROUNDUP(SUM(G12:G15),0) -> 228919065
B12: 6 | C12: Concreto Resistencia 21MPA (D) | D12: m3 | E12: =+'8. concreto 21MPA'!H43*1.345 -> 848676.17 | F12: 178.88764 | G12: =+E12*F12 -> 1.5181767e+08
B13: 7 | C13: Concreto ciclópeo clase G (concreto 21Mpa 60% piedra 40%) | D13: m3 | E13: =+'10. Ciclópeo'!H44*1.345 -> 760468.38 | F13: 51.869246 | G13: =+E13*F13 -> 39444922
B14: 8 | C14: Acero de Refuerzo Fy 4200 MPA | D14: kg | E14: =+'11. Acero'!H41*1.345 -> 9935.515 | F14: 409.2361 | G14: =+E14*F14 -> 4065971.4
B15: 9 | C15: Malla electrosoldada 15x15 5mm | D15: m2 | E15: =+'13. Malla electro'!H41*1.345 -> 26496.5 | F15: 1267.7334 | G15: =+E15*F15 -> 33590498
C16: TRANSPORTE | G16: =ROUNDUP(SUM(G17:G17),0) -> 110697204
B17: 10 | C17: Sobre acarreo en jeep o camioneta | D17: m3 | E17: =+SOBREACARREO!G30*1.345 -> 173408.93 | F17: 638.3593 | G17: =+E17*F17 -> 1.106972e+08
C18: OTROS | G18: =ROUNDUP(SUM(G19:G20),0) -> 83142900
B19: 11 | C19: alquiler de bodega para campamento | D19: mes | E19: =+'19. Alquiler Campamento'!H20*1.345 -> 465270.47 | F19: 3 | G19: =+E19*F19 -> 1395811.4
B20: 12 | C20: Sardinel en concreto clase d. Incluye preparación e instalación de concreto. Incluye formaleta. Incluye agregados. Incluye suministro de cemento. | D20: m | E20: =+'20. Sardinel'!H43*1.345 -> 100077.41 | F20: 816.83852 | G20: =+E20*F20 -> 81747088
B21: VALOR TOTAL PRESUPUESTO DE OBRA | G21: =ROUND(G4+G8+G11+G16+G18,0) -> 469999999
H24: =+#REF!/MC!$H$34 -> #REF!

Sheet PRESUPUESTO OFICIAL (Entidad)
C3: Formulario 1 - Propuesta económica - Documento tipo de selección abreviada de menor cuantía - versión 2
C4: Código | D4: CCE-EICP-FM-25 | E4: Versión | F4: 2
C6: FORMULARIO 1
C7: PRESUPUESTO OFICIAL
C8: [La entidad puede utilizar este formulario de detalle del presupuesto oficial para determinar las condiciones bajo las cuales los proponentes analizarán y presentarán su propuesta económica de forma detallada, sin perjuicio que la entidad pueda modificarlo o establecer la presentación de la oferta económica con un formulario distinto al indicado.]
C10: Adicionalmente, cuando el proceso de contratación es estructurado por precios unitarios, la Entidad debe aplicar las notas 1, 2 y 3 del presente formulario y las casillas de "Descripción", "Porcentaje" de la Administración, Imprevisto, Utilidad y total A.I.U. resaltadas en colo amarillo. Tratándose de otras modalidades de precio, la Entidad puede o no configurar los mismos aspectos.
C12: Nº | D12: ITEM DE PAGO | E12: ESPECIFICACIONES | G12: DESCRIPCION | H12: UND. | I12: CANTIDAD | J12: VALOR UNITARIO | K12: VALOR TOTAL
E13: GENERAL | F13: PARTICULAR
G14: PRELIMINARES
C15: 1 | G15: Conformación de calzada existente | H15: m2 | I15: 1592.8351 | J15: 710.16 | K15: 1131167.8
C16: 2 | G16: Excavaciones varias en material común (manual) | H16: m3 | I16: 159.28351 | J16: 59498.765 | K16: 9477172.2
C17: 3 | G17: suministro transporte e instalación de plástico para protección de concreto | H17: m2 | I17: 612.62889 | J17: 15475.57 | K17: 9480781.3
C18: Subtotal
G19: CIMENTACION
C20: 4 | G20: Rellenos para estructuras con suelo | H20: m3 | I20: 73.515467 | J20: 56916.365 | K20: 4184233.2
C21: 5 | G21: Rellenos para estructuras con recebo | H21: m3 | I21: 159.28351 | J21: 144192.42 | K21: 22967475
C22: Subtotal
G23: CONCRETOS
C24: 6 | G24: Concreto Resistencia 21MPA (D) | H24: m3 | I24: 178.88764 | J24: 848676.17 | K24: 1.5181767e+08
C25: 7 | G25: Concreto ciclópeo clase G (concreto 21Mpa 60% piedra 40%) | H25: m3 | I25: 51.869246 | J25: 760468.38 | K25: 39444922
C26: 8 | G26: Acero de Refuerzo Fy 4200 MPA | H26: kg | I26: 409.2361 | J26: 9935.515 | K26: 4065971.4
C27: 9 | G27: Malla electrosoldada 15x15 5mm | H27: m2 | I27: 1267.7334 | J27: 26496.5 | K27: 33590498
C28: Subtotal
G29: TRANSPORTE
C30: 10 | G30: Sobre acarreo en jeep o camioneta | H30: m3 | I30: 638.3593 | J30: 173408.93 | K30: 1.106972e+08
C31: Subtotal
G32: OTROS
C33: 11 | G33: alquiler de bodega para campamento | H33: mes | I33: 3 | J33: 465270.47 | K33: 1395811.4
C34: 12 | G34: Sardinel en concreto clase d. Incluye preparación e instalación de concreto. Incluye formaleta. Incluye agregados. Incluye suministro de cemento. | H34: m | I34: 816.83852 | J34: 100077.41 | K34: 81747088
C35: Subtotal
C36: SUBTOTAL OBRAS | K36: 469999999
G41: SUBTOTAL OBRAS (INCLUYE IVA)
G45: VALOR TOTAL | K45: =K36 -> 469999999
C48: NOTA 1: Se debe tener en cuenta que el PRECIO UNITARIO incluye el valor de A.I.U. | H48: DESCRIPCION | K48: PORCENTAJE
C49: NOTA 2: Cuando la fracción decimal del peso sea igual o superior a 5 se aproximara por exceso al número entero siguiente del peso y cuando la fracción decimal del peso sea inferior a 5 se aproximará por defecto al número entero del peso. | H49: ADMINISTRACION | J49: A= | K49: 0.295
C50: NOTA 3: El A.I.U y su discriminación deben estar en porcentaje (%). | H50: IMPREVISTO | J50: I= | K50: 0
H51: UTILIDAD | J51: U= | K51: 0.05
H52: TOTAL A.I.U | J52: A.I.U.= | K52: =K49+K50+K51 -> 0.345

Sheet PROPUESTA ECONOMICA(Proponente)
C3: Formulario 1 - Propuesta económica - Documento tipo de selección abreviada de menor cuantía - versión 2
C4: Código | D4: CCE-EICP-FM-25 | E4: Versión | F4: 2
C6: FORMULARIO 1
C7: PROPUESTA ECONOMICA
C8: [La entidad puede utilizar este formulario de presentación de propuesta económica de forma detallada, sin perjuicio que la entidad pueda modificarlo o establecer la presentación de la oferta económica con un formulario distinto al indicado.] [Los proponentes emplearán el formulario establecido por la entidad para determinar su propuesta económica conforme al Formulario 1 - Presupuesto Oficial publicado por la Entidad]
C10: Cuando el proceso de contratación es estructurado por precios unitarios, la Entidad debe aplicar las notas 1, 2 y 3 del presente formato y las casillas de "Descripción", "Porcentaje" de la Administración, Imprevisto, Utilidad y total A.I.U. resaltadas en color amarillo.
C12: Nº | D12: ITEM DE PAGO | E12: ESPECIFICACIONES | G12: DESCRIPCION | H12: UND. | I12: CANTIDAD | J12: VALOR UNITARIO | K12: VALOR TOTAL
E13: GENERAL | F13: PARTICULAR
C18: Subtotal
C22: Subtotal
C28: Subtotal
C31: Subtotal
C35: Subtotal
C36: SUBTOTAL OBRAS
G41: SUBTOTAL OBRAS (INCLUYE IVA)
G45: VALOR TOTAL
C48: NOTA 1: Se debe tener en cuenta que el PRECIO UNITARIO incluye el valor de A.I.U. | H48: DESCRIPCION | K48: PORCENTAJE
C49: NOTA 2: Cuando la fracción decimal del peso sea igual o superior a 5 se aproximara por exceso al número entero siguiente del peso y cuando la fracción decimal del peso sea inferior a 5 se aproximará por defecto al número entero del peso. | H49: ADMINISTRACION | J49: A= | K49: [Ofrecimiento del Proponente]
C50: NOTA 3: El A.I.U y su discriminación deben estar en porcentaje (%). | H50: IMPREVISTO | J50: I= | K50: [Ofrecimiento del Proponente]
H51: UTILIDAD | J51: U= | K51: [Ofrecimiento del Proponente]
H52: TOTAL A.I.U | J52: A.I.U.= | K52: [Ofrecimiento del Proponente]
G55: Firma del Proponente o de su Representante Legal
