Workbook
Name Servicio: [1]Listas!$G$2:$G$17
Name Servicio: [1]Listas!$G$2:$G$17
Name Servicio: [1]Listas!$G$2:$G$17
Name Servicio: [2]Listas!$G$2:$G$17
Name Servicio: [1]Listas!$G$2:$G$17
Name Servicio: #REF!
Name TipodeVehiculo: [1]Listas!$C$2:$C$10
Name TipodeVehiculo: [1]Listas!$C$2:$C$10
Name TipodeVehiculo: [1]Listas!$C$2:$C$10
Name TipodeVehiculo: [2]Listas!$C$2:$C$10
Name TipodeVehiculo: [1]Listas!$C$2:$C$10
Name TipodeVehiculo: #REF!

Sheet ESTUDIO DE MERCADO 2026
D2: AGENCIA DE DESARROLLO RURAL
D4: ANEXO No. ESTUDIO DE MERCADO
D5: CALCULO VALORES APROXIMADOS DE PRIMA
D7: PROYECCIÓN PRESUPUESTO PROCESO VIGENCIA TECNICA 2026-2027
D8: GRUPO N°1
D9: VIGENCIA DESDE 00:00 HORAS | E9: 46352
D10: VIGENCIA HASTA 00:00 HORAS | E10: 46434
D11: DIAS DE COBERTURA | E11: =E10-E9 -> 82 | F11: NOTA: LA VIGENCIA PARA SOAT SERA DE 365 DIAS A PARTIR DE SU VENCIMIENTO-VER RELACION.
C12: ITEM | D12: RAMO | E12: VALOR ASEGURADO | F12: TASA ANUAL | G12: TIPO TASA | H12: PRIMA NETA | I12: IVA | J12: PRIMA TOTAL
C13: 1 | D13: TODO RIESGO DAÑOS MATERIALES | E13: ='VRES ASEGURADOS TRDM ACTUAL'!C19 -> 4.4947126e+10 | F13: =TASASPROMEDIO!I6 -> 1.53072 | G13: %o | H13: =ROUND((E13*F13/1000)/365*E11,0) -> 15456767 | I13: =ROUND(H13*19/100,0) -> 2936786 | J13: =H13+I13 -> 18393553
C14: 1.1 | D14: Indice Variable 5% | E14: ='VRES ASEGURADOS TRDM ACTUAL'!C20 -> 3.3385328e+08 | F14: =ROUND(F13/2,3) -> 0.765 | H14: =ROUND((E14*F14/1000),0) -> 255398 | I14: =ROUND(H14*19/100,0) -> 48526 | J14: =H14+I14 -> 303924
C15: 1.2 | D15: Futuras Inclusiones TRDM | H15: 0 | I15: 0 | J15: 0
D16: TOTAL TODO RIESGO DAÑOS MATERIALES | E16: =E13+E14 -> 4.5280979e+10 | H16: =SUM(H13:H15) -> 15712165 | I16: =SUM(I13:I15) -> 2985312 | J16: =SUM(J13:J15) -> 18697477
C17: 2 | D17: MANEJO GLOBAL ENTIDADES ESTATALES | E17: 700000001 | F17: =TASASPROMEDIO!F11 -> 4.0198 | G17: % | H17: =ROUND((E17*F17/100)/365*E11,0) -> 6321549 | I17: =ROUND(H17*19/100,0) -> 1201094 | J17: =H17+I17 -> 7522643
C18: 3 | D18: RESPONSABILIDAD CIVI EXTRACONTRACTUAL | E18: 5000000001 | F18: =TASASPROMEDIO!F16 -> 0.198 | G18: % | H18: =ROUND((E18*F18/100)/365*E11,0) -> 2224110 | I18: =ROUND(H18*19/100,0) -> 422581 | J18: =H18+I18 -> 2646691
C19: 4 | D19: TRANSPORTE DE VALORES -LIM. DESPACHO $6.000.000 | E19: 40000000 | F19: =TASASPROMEDIO!F21 -> 0.336 | G19: % | H19: =ROUND((E19*F19/100)/365*E11,0) -> 30194 | I19: =ROUND(H19*19/100,0) -> 5737 | J19: =H19+I19 -> 35931
C20: 5 | D20: TRANSPORTE DE MERCANCÍAS- LIM. despacho $70.000.000 | E20: 200000000 | F20: =TASASPROMEDIO!F26 -> 0.3325 | G20: % | H20: =ROUND((E20*F20/100)/365*E11,0) -> 149397 | I20: =ROUND(H20*19/100,0) -> 28385 | J20: =H20+I20 -> 177782
C21: 6 | D21: TODO RIESGO EQUIPO Y MAQUINARÍA | E21: ='R. BIENES EYM'!I29 -> 1.3504491e+10 | F21: =TASASPROMEDIO!F30 -> 8.671 | G21: %o | H21: =(E21*F21/1000)/365*E11 -> 26306822 | I21: =H21*19/100 -> 4998296.2 | J21: =H21+I21 -> 31305118
C22: 6.1 | D22: Indice Variable 10% | E22: ='R. BIENES EYM'!J29 -> 3.0338856e+08 | F22: =ROUND(F21/2,3) -> 4.336 | G22: %o | H22: =ROUND((E22*F22/1000),0) -> 1315493 | I22: =ROUND(H22*19/100,0) -> 249944 | J22: =H22+I22 -> 1565437
C23: 6.3 | D23: Futuras Inclusiones Todo Riesgo Equipo y Maquinaria | E23: 0 | F23: 0 | H23: =E23*F23/100 -> 0 | I23: =H23*19/100 -> 0 | J23: 0
D24: TOTAL TODO RIESGO EQUIPO Y MAQUINARÍA | E24: =E21+E22 -> 1.3807879e+10 | H24: =H21+H22+H23 -> 27622315 | I24: =I21+I22+I23 -> 5248240.2 | J24: =J21+J22+J23 -> 32870555
C25: 7.1 | D25: AUTOMOVILES - VEHICULOS PESAADOS Y LIVIANOS | E25: =AUTOS!S18 -> 2035300000 | F25: =TASASPROMEDIO!F35 -> 3.5576 | G25: % | H25: =ROUND((E25*F25/100)/365*E11,0) -> 16266965 | I25: =ROUND(H25*19/100,0) -> 3090723 | J25: =H25+I25 -> 19357688
D26: TOTAL GRUPO No. 1 | H26: =H16+H17+H18+H19+H20+H24+H25 -> 68326695 | I26: =I16+I17+I18+I19+I20+I24+I25 -> 12982072 | J26: =J16+J17+J18+J19+J20+J24+J25 -> 81308767
D28: GRUPO N°2
D29: RAMO | E29: VALOR ASEGURADO | F29: TASA ANUAL | G29: TIPO TASA | H29: PRIMA NETA ANUAL | I29: IVA | J29: PRIMA TOTAL
C30: 8 | D30: RESPONSABILIDAD CIVI SERVIDORES PÚBLICOS | E30: 6600000001 | F30: =TASASPROMEDIO!F40 -> 2.85848 | G30: % | H30: =ROUND((E30*F30/100)/365*E11,0) -> 42383819 | I30: =ROUND(H30*19/100,0) -> 8052926 | J30: =H30+I30 -> 50436745
C31: 9 | D31: INFIDELIDAD Y RIESGOS FINANCIEROS | E31: 4000000000 | F31: =TASASPROMEDIO!F45 -> 1.6448 | G31: % | H31: =ROUND((E31*F31/100)/365*E11,0) -> 14780668 | I31: =ROUND(H31*19/100,0) -> 2808327 | J31: =H31+I31 -> 17588995
D32: RESPONSABILIDAD CIVI EXTRACONTRACTUAL - PROYECTO TRIANGULO DEL TOLIMA | E32: 6000000000 | F32: =TASASPROMEDIO!E50 -> 3.4999 | G32: % | H32: =ROUND((E32*F32/100)/365*E11,0) -> 47176734 | I32: =ROUND(H32*19/100,0) -> 8963579 | J32: =H32+I32 -> 56140313
D33: TOTAL GRUPONo. 2 | H33: =SUM(H30:H32) -> 104341221 | I33: =SUM(I30:I32) -> 19824832 | J33: =SUM(J30:J32) -> 124166053
D35: GRUPO N°3
D36: RAMO | E36: VALOR ASEGURADO | F36: TASA ANUAL | G36: TIPO TASA | H36: PRIMA NETA ANUAL | I36: IVA | J36: PRIMA TOTAL
C37: 10 | D37: TRDM OBRAS CIVILES TERMINADAS | E37: ='R. BIENES TRIAN.T TROCV'!D26 -> 3.4471369e+11 | F37: =TASASPROMEDIO!I52 -> 5.28 | G37: %o | H37: =ROUND((E37*F37/1000)/365*E11,0) -> 408896543 | I37: =ROUND(H37*19/100,0) -> 77690343 | J37: =H37+I37 -> 486586886
D38: Indice Variable 5% | E38: ='R. BIENES TRIAN.T TROCV'!E30 -> 3.8721264e+09 | F38: =ROUND(F37/2,3) -> 2.64 | G38: %o | H38: =ROUND((E38*F38/1000),0) -> 10222414 | I38: =ROUND(H38*19/100,0) -> 1942259 | J38: =H38+I38 -> 12164673
D39: 10% Del Valor Asegurado de Edificio a Construcciones a las Normas de Sismo Resistencia | E39: ='R. BIENES TRIAN.T TROCV'!D27 -> 3.4326892e+10 | F39: =TASASPROMEDIO!I52 -> 5.28 | G39: %o | H39: =ROUND((E39*F39/1000)/365*E11,0) -> 40718277 | I39: =ROUND(H39*19/100,0) -> 7736473 | J39: =H39+I39 -> 48454750
D40: 5% Del Valor Asegurado de Edificio de Gastos para la Adecuación de Terrenos | E40: ='R. BIENES TRIAN.T TROCV'!D28 -> 1.7163446e+10 | F40: =TASASPROMEDIO!I52 -> 5.28 | G40: %o | H40: =ROUND((E40*F40/1000)/365*E11,0) -> 20359139 | I40: =ROUND(H40*19/100,0) -> 3868236 | J40: =H40+I40 -> 24227375
D41: Futuras Inclusiones TRDM Obras Civiles Terminadas | E41: 0 | H41: 0 | I41: 0 | J41: 0
D42: TOTAL OBRAS CIVILES TERMINADAS | E42: =SUM(E37:E41) -> 4.0007615e+11 | H42: =SUM(H37:H41) -> 480196373 | I42: =SUM(I37:I41) -> 91237311 | J42: =SUM(J37:J41) -> 571433684
C43: 11 | D43: CASCO BARCO | E43: 19835926 | F43: =TASASPROMEDIO!F54 -> 7.03176 | G43: % | H43: =ROUND((E43*F43/100)/365*E11,0) -> 313356 | I43: =ROUND(H43*19/100,0) -> 59538 | J43: =H43+I43 -> 372894
D44: Indice Variable 5% | E44: ='R. BIENES CASCO'!E13 -> 222814.51 | F44: =ROUND(F43/2,3) -> 3.516 | G44: % | H44: =ROUND((E44*F44/100),0) -> 7834 | I44: =ROUND(H44*19/100,0) -> 1488 | J44: =H44+I44 -> 9322
D45: TOTAL CASCO BARCO | E45: =SUM(E43:E44) -> 20058741 | H45: =SUM(H43:H44) -> 321190 | I45: =SUM(I43:I44) -> 61026 | J45: =SUM(J43:J44) -> 382216
...

Sheet TASASPROMEDIO
B1: AGENCIA DE DESARROLLO RURAL
B3: ANEXO No. ESTUDIO DE MERCADO- DETERMINACIÓN TASAS 2026-2027
B4: ENTIDAD | C4: No PROCESO | D4: RAMO | E4: TASAS | F4: TASA APLICABLE | H4: INCREMENTO TASA POR MERCADO REASEGURO EN % | I4: PROMEDIO TASA MERCADO+ INCLEMENTO RASEGURO
F5: PROMEDIO TASA MERCADO | G5: TIPO DE TASA % - %o
B6: AGENCIA DE DESARROLLO RURAL | C6: SELECCION ABREVIADA DE MENOR CUANTIA SAMC-03-2026 | D6: TODO RIESGO DAÑOS MATERIALES | E6: 1.29 | F6: =AVERAGE(E6:E10) -> 1.2756 | G6: %o | H6: 0.2 | I6: =F6*1.2 -> 1.53072
B7: FONDO DE DESARROLLO DE PROYECTOS DE CUNDINAMARCA-FONDECUN | C7: SELECCION ABREVIADA SAMC-001-2026 | E7: 0.98
B8: INSTITUTO CARO Y CUERVO | C8: SAMC-ICC-161-2026 | E8: 1.24
B9: CONTRALORIA DE BOGOTA | C9: LICITACIÓN PÚBLICA No. CB-LP-001-2026 | E9: 1.6
B10: ARTESANIAS DE COLOMBIA | C10: INVITACIÓN ABIERTA ADC-004-2026 | E10: 1.268
B11: AGENCIA DE DESARROLLO RURAL | C11: SELECCION ABREVIADA DE MENOR CUANTIA SAMC-03-2026 | D11: MANEJO GLOBAL | E11: 4 | F11: =AVERAGE(E11:E15) -> 4.0198 | G11: % | H11: N/A | I11: N/A
B12: ARTESANIAS DE COLOMBIA | C12: INVITACIÓN ABIERTA ADC-004-2026 | E12: 4.374
B13: INSTITUTO DE VIVIENDA DE INTERES SOCIAL Y REFORMA URBANA BUCARAMANGA | C13: SA-001-2026 | E13: 4.3
B14: DIRECCION NACIONAL DE DERECHO DE AUTOR | C14: MC DNDA-028-2026 | E14: 4.3
B15: CONCEJO DE BOGOTA | C15: SELECCIÓN ABREVIADA DE MENOR CUANTIA No. SDH-SAMC-0001-2026 | E15: 3.125
B16: AGENCIA DE DESARROLLO RURAL | C16: SELECCION ABREVIADA DE MENOR CUANTIA SAMC-01-2026 | D16: RESPONSABILIDAD CIVIL EXTRACONTRACTUAL | E16: 0.2 | F16: =AVERAGE(E16:E20) -> 0.198 | G16: % | H16: N/A | I16: N/A
B17: FONDO DE DESARROLLO DE PROYECTOS DE CUNDINAMARCA-FONDECUN | C17: SELECCION ABREVIADA SAMC-001-2026 | E17: 0.19
B18: CONTRALORIA DE BOGOTA | C18: LICITACIÓN PÚBLICA No. CB-LP-001-2026 | E18: 0.22
B19: SUPERINTENDENCIA DE INDUSTRIA Y COMERCIO - SIC | C19: LICITACIÓN PÚBLICA SIC 8 DE 2026 | E19: 0.19
B20: CONCEJO DE BOGOTA | C20: SELECCIÓN ABREVIADA DE MENOR CUANTIA No. SDH-SAMC-0001-2026 | E20: 0.19
B21: AGENCIA DE DESARROLLO RURAL | C21: SELECCION ABREVIADA DE MENOR CUANTIA SAMC-01-2026 | D21: TRANSPORTE DE VALORES | E21: 0.37 | F21: =AVERAGE(E21:E25) -> 0.336 | G21: % | H21: N/A | I21: N/A
B22: ARTESANIAS DE COLOMBIA | C22: INVITACIÓN ABIERTA ADC-004-2026 | E22: 0.24
B23: AGENCIA LOGISTICA DE LAS FUERZA MILITARES | C23: LICITACIÓN PÚBLICA No. 002-046-2026 | E23: 0.2
B24: FONDO PASIVO SOCIAL DE FERROCARRILES NACIONALES DE COLOMBIA | C24: Selección de MÍNIMA CUANTÍA No. IPMC-FPS-001-2026. | E24: 0.12
B25: UNIDAD DE INFORMACIÓN Y ANÁLISIS FINANCIERO - UIAF | C25: CONTRATACIÓN DIRECTA DE BIENES Y SERVICIOS QUE REQUIEREN DE RESERVA-2025 | E25: 0.75
B26: AGENCIA DE DESARROLLO RURAL | C26: SELECCION ABREVIADA DE MENOR CUANTIA SAMC-03-2026 | D26: TRANSPORTE DE MERCANCIAS | E26: 0.25 | F26: =AVERAGE(E26:E29) -> 0.3325 | G26: % | H26: N/A | I26: N/A
B27: CONTRALORIA DE BOGOTA | C27: LICITACIÓN PÚBLICA No. CB-LP-001-2026 | E27: 0.5
B28: INSTITUTO NACIONAL DE SALUD | C28: PROCESO INS-LP-002-2026 | E28: 0.5
B29: MINISTERIO DEL INTERIOR | C29: SAMC-002-2026 | E29: 0.08
B30: AGENCIA DE DESARROLLO RURAL | C30: SELECCION ABREVIADA DE MENOR CUANTIA SAMC-03-2026 | D30: EQUIPO Y MAQUINARIA | E30: 10.095 | F30: =AVERAGE(E30:E34) -> 8.671 | G30: %o | H30: N/A | I30: N/A
B31: AGENCIA LOGISTICA DE LAS FUERZA MILITARES | C31: LICITACIÓN PÚBLICA No. 002-046-2026 | E31: 12.1
B32: INSTITUTO CARO Y CUERVO | C32: SAMC-ICC-161-2026 | E32: 5.27
B33: INSTITUTO NACIONAL DE SALUD | C33: PROCESO INS-LP-002-2026 | E33: 8
B34: COMPUTADORES PARA EDUCAR | C34: LICITACIÓN PÚBLICA No. 01 DE 2025 | E34: 7.89
B35: AGENCIA DE DESARROLLO RURAL | C35: SELECCION ABREVIADA DE MENOR CUANTIA SAMC-03-2026 | D35: AUTOMÓVILES | E35: 3.6 | F35: =AVERAGE(E35:E39) -> 3.5576 | G35: % | H35: N/A | I35: N/A
B36: ARTESANIAS DE COLOMBIA | C36: INVITACIÓN ABIERTA ADC-004-2026 | E36: 4.268
B37: INSTITUTO DE VIVIENDA DE INTERES SOCIAL Y REFORMA URBANA BUCARAMANGA | C37: SA-001-2026 | E37: 2.8
B38: SECRETARIA DISTRITAL DEL HABITAT | C38: SDHT-SAMC-001-2026 | E38: 3.67
B39: FONDO DE DESARROLLO DE PROYECTOS DE CUNDINAMARCA-FONDECUN | C39: SELECCION ABREVIADA SAMC-001-2026 | E39: 3.45
B40: AGENCIA DE DESARROLLO RURAL | C40: SELECCION ABREVIADA DE MENOR CUANTIA SAMC-03-2026 | D40: RESPONSABILIDAD CIVIL SERVIDORES PUBLICOS | E40: 2.6624 | F40: =AVERAGE(E40:E44) -> 2.85848 | G40: % | H40: N/A | I40: N/A
B41: FONDO DE DESARROLLO DE PROYECTOS DE CUNDINAMARCA-FONDECUN | C41: SELECCION ABREVIADA SAMC-001-2026 | E41: 2
...

Sheet VRES ASEGURADOS TRDM ACTUAL
B3: AGENCIA DE DESARROLLO RURAL
B4: ANEXO No. 2 RELACIÓN DE BIENES Y VALORES ASEGURADOS
B5: RELACIÓN DE BIENES Y VALORES ASEGURADOS (PROPIOS Y EN COMODATO)
B6: POLIZA DE TODO RIESGO DAÑOS MATERIALES
B7: RELACION DE BIENES | C7: VALOR ASEGURADO ACTUALIZADO + INDICE VARIABLE DEL 5% ITEM A,B y D
B8: EDIFICIO SEDE CENTRAL, PARQUEADERO | C8: =C24+C25 -> 1.3410919e+10
B9: UNIDADES TECNICAS TERRITORIALES | C9: =C26+C27+C28+C29+C30+C31+C32+C33+C34+C35+C36+C37+C38+C39+C40+C41+C42+C43+C44+C45+C46+C47+C48+C49+C50+C51+C52+C53+C54+C55+C56+C57+C58 -> 6.5833605e+09
B10: A) SUBTOTAL EDIFICIOS | C10: =SUM(C8:C9) -> 1.999428e+10
B11: MEJORAS LOCATIVAS | C11: 2.0646584e+09
B12: B). ' CONTENIDO EN GEENRAL (MUEBLES Y ENSERES -EQUIPOS Y MAQUINAS OFICINA - EQUIPOS COMEDOR - HERRAMIENTAS ACCESORIOS, CANCHA SINTETICA. Entre Otros) A NIVEL NACIONAL) (Sede Central, UTT´s, DAT adminsitrados por la ADR y Proyectos Estratégicos Nacionales). | C12: 2.783428e+09
B13: C) EQUIPO ELECTRICO, ELECTRONICO Y DE COMUNCIACIÓN (incluidos equipos móviles y portátiles)(Sede Central, UTT´s, DAT adminsitrados por la ADR y Proyectos Estratégicos Nacionales) | C13: 7929820597
B14: D). MAQUINARIA Y EQUIPO A NIVEL NACIONA | C14: 4.8787188e+09
B15: E) DINERO Y TITULOS VALORES | C15: 31000000
B16: F). 'MERCANCIAS - MAQUINARIA EN REPOSO A NIVEL NACIONAL | C16: 4.266078e+09
B17: G).ADECUACION DE CONSTRUCCIONES A LAS NORMAS DE SISMO RESISTENCIA 10% | C17: =C10*10/100 -> 1.999428e+09
B18: H). COBERTURA PARA ADECUACION DE TERRENOS 5% | C18: =C10*5/100 -> 9.9971399e+08
B19: SUBTOTAL | C19: =C10+C11+C12+C13+C14+C15+C16+C17+C18 -> 4.4947126e+10
B20: INDICE VARIABLE ITEMS A, B,Y D | C20: =((C10+C11+C12+C14)*5%)/365*82 -> 3.3385328e+08
B21: TOTAL GENERAL | C21: =C19+C20 -> 4.5280979e+10
B23: RELACION EDIFICIOS | C23: VALOR ASEGURADO
B24: Calle 43 No 57-41 CAN - Sede Central - Bogotá | C24: 1.3117375e+10
B25: Calle 43 No 57-41 CAN - Lote de Cesión Tipo B - Bogotá | C25: 2.9354451e+08
B26: Calle 32 No 8-56 OFICINA 1301- Cartagena | C26: 2.1141573e+08
B27: Calle 32 No 8-56 OFICINA 1302- Cartagena | C27: 2.3577769e+08
B28: Calle 32 No 8-56 OFICINA 1303- Cartagena | C28: 1.5878834e+08
B29: Calle 32 No 8-56 OFICINA 1304- Cartagena | C29: 1.5878834e+08
B30: Calle 32 No 8-56 OFICINA 1305- Cartagena | C30: 1.6607253e+08
B31: Calle 32 No 8-56 OFICINA 1306- Cartagena | C31: 1.5746394e+08
B32: Calle 32 No 8-56- Oficina 805 060-16363 - Cartagena | C32: 1.9358402e+08
B33: Calle 32 No 8-56-Oficina 806 060-16364 - Cartagena | C33: 2.0419846e+08
B34: Calle 7 # 06-07 Neiva Oficina 1401 | C34: 75279588
B35: Calle 7 # 06-07 Neiva Oficina 1402 | C35: 76121583
... B58: Edificación FMI 140140-25216 Monteria | C58: 86822819
B59: TOTAL | C59: =SUM(C24:C58) -> 1.999428e+10
B60: Elaborado: Jargu S.A. Corredores de Seguros. - septiembre de 2026

Sheet R. BIENES TRIAN.T TROCV
B4: AGENCIA DE DESARROLLO RURAL
B5: ANEXO No. 2 RELACIÓN DE BIENES Y VALORES ASEGURADOS
B6: RELACIÓN DE BIENES TODO RIESGO OBRAS CIVILES TERMINADAS
B7: RELACION OBRAS CIVILES TERMINADAS - PROYECTO DE IRRIGACIÓN EN EL DISTRITO, TRIÁNGULO DEL TOLIMA
B8: II | C8: CONDUCCION | D8: VALOR ASEGURADO | E8: INDICE VARIABLE 5%
B9: 1 | C9: Túnel | D9: 6.9104864e+10 | E9: =(D9*5/100) -> 3.4552432e+09
B10: 2 | C10: Canal Principal de Conducción | D10: 7.2706078e+09 | E10: =(D10*5/100) -> 3.6353039e+08
B11: 3 | C11: Box Coulvert | D11: 9.9555315e+09 | E11: =(D11*5/100) -> 4.9777658e+08
B12: 4 | C12: Puentes box Coulvert | D12: 7.4628612e+09 | E12: =(D12*5/100) -> 3.7314306e+08
C13: TOTALES CONDUCCION | D13: =SUM(D9:D12) -> 9.3793864e+10 | E13: =SUM(E9:E12) -> 4.6896932e+09
B14: IV | C14: PRESA Y EMBALSE ZANJA HONDA | D14: VALOR ASEGURADO | E14: INDICE VARIABLE 5%
B15: 1 | C15: Presa y embalse | D15: 28964706872 | E15: =(D15*5/100) -> 1.4482353e+09
B16: V | C16: DISTRIBUCIÓN | D16: VALOR ASEGURADO | E16: INDICE VARIABLE 5%
B17: 1 | C17: Canal principal de Distribución N. 1 | D17: 4.0261678e+10 | E17: =(D17*5/100) -> 2.0130839e+09
B18: 2 | C18: Canal principal de Distribución N. 2 | D18: 7.7195766e+10 | E18: =(D18*5/100) -> 3.8597883e+09
B19: 3 | C19: Canal principal de Distribución N. 3 | D19: 7.1961944e+10 | E19: =(D19*5/100) -> 3.5980972e+09
B20: 4 | C20: Canal principal de Distribución N. 4 | D20: 3.1090961e+10 | E20: =(D20*5/100) -> 1.554548e+09
C21: TOTALES DISTRIBUCION | D21: =SUM(D17:D20) -> 2.2051035e+11 | E21: =SUM(E17:E20) -> 1.1025517e+10
C22: TOTALES II,IV y V | D22: =D13+D15+D21 -> 3.4326892e+11 | E22: =E13+E15+E21 -> 1.7163446e+10
B23: IV | C23: EQUIPOS PROPIOS DE LA OPERACION DEL PROYECTO | D23: VALOR ASEGURADO | E23: INDICE VARIABLE 5%
C24: EQUIPOS ASOCIADOS CON EL PROYECTO | D24: 1.4447667e+09 | E24: =(D24*5/100) -> 72238336
C25: TOTALES IV | D25: =SUM(D24) -> 1.4447667e+09 | E25: =SUM(E24) -> 72238336
C26: GRAN TOTAL BIENES | D26: =D22+D25 -> 3.4471369e+11 | E26: =E22+E25 -> 1.7235684e+10
C27: ADECUACION DE CONSTRUCCIONES A LAS NORMAS DE SISMO RESISTENCIA (10 %) | D27: =D22*10/100 -> 3.4326892e+10
C28: GASTOS PARA LA ADECUACION DE TERRENOS (5 %) | D28: =D22*5/100 -> 1.7163446e+10
C29: TOTALES ADECUACION Y GASTOS | D29: =SUM(D27:D28) -> 5.1490338e+10
C30: SUBTOTAL | D30: =D26+D29 -> 3.9620403e+11 | E30: =(E13+E15+E21+E25+E29)/365*82 -> 3.8721264e+09
C31: GRAN TOTAL | D31: =D30+E30 -> 4.0007615e+11
B32: Elaborado: Jargu S.A. Corredores de Seguros. -septiembre de 2026

Sheet R. BIENES EYM
B6: AGENCIA DE DESARROLLO RURAL - NIT. 900948958-4
B8: RELACIÓN DE BIENES ASEGURADOS TODO RIESGO EQUIPO Y MAQUINARÍA
B11: ITEM | C11: PLACA | D11: ACTIVO | E11: PROVEEDOR | F11: NIT | G11: FACTURA | H11: FECHA_INGRESO | I11: VALOR_ASEGURADO | J11: INDICE VARIABLE 10%
B12: 1 | C12: 15841 | D12: EXCAVADORA | E12: CASATORO S.A. BIC CASATORO S.A. BIC | F12: 830004993 | G12: 044/100595 | H12: 45291 | I12: 1.0038068e+09 | J12: =ROUND((I12*10%),0) -> 100380685
B13: 2 | C13: 15847 | D13: EXCAVADORA | E13: CASATORO S.A. BIC CASATORO S.A. BIC | F13: 830004993 | G13: N044/100599 | H13: 45291 | I13: 1.0038068e+09 | J13: =ROUND((I13*10%),0) -> 100380685
B14: 3 | C14: 15842 | D14: EXCAVADORA | E14: CASATORO S.A. BIC CASATORO S.A. BIC | F14: 830004993 | G14: N044/100593 | H14: 45291 | I14: 1.0038068e+09 | J14: =ROUND((I14*10%),0) -> 100380685
B15: 4 | C15: 15855 | D15: VIBROCOMPACTADOR | E15: CASATORO S.A. BIC CASATORO S.A. BIC | F15: 830004993 | G15: N044/100617 | H15: 45291 | I15: 5.0683513e+08 | J15: =ROUND((I15*10%),0) -> 50683513
B16: 5 | C16: 15858 | D16: EXCAVADORA | E16: NAVITRANS NAVITRANS | F16: 890903024 | G16: BOGA1000004 | H16: 45291 | I16: 9.6948924e+08 | J16: =ROUND((I16*10%),0) -> 96948924
B17: 6 | C17: 15913 | D17: MOTONIVELADORA | E17: DISTRIBUIDORA NISSAN SA DISTRIBUIDORA NISSAN SA | F17: 860001307 | G17: Q030-10212 | H17: 45291 | I17: 1.2318684e+09 | J17: =ROUND((I17*10%),0) -> 123186837
B18: 7 | C18: 15939 | D18: RETROEXCAVADORA | E18: DISTRIBUIDORA NISSAN SA DISTRIBUIDORA NISSAN SA | F18: 860001307 | G18: Q030-10210 | H18: 45291 | I18: 4.9453618e+08 | J18: =ROUND((I18*10%),0) -> 49453618
B19: 8 | C19: 15943 | D19: RETROEXCAVADORA | E19: DISTRIBUIDORA NISSAN SA DISTRIBUIDORA NISSAN SA | F19: 860001307 | G19: Q030-10226 | H19: 45291 | I19: 4.9688809e+08 | J19: =ROUND((I19*10%),0) -> 49688809
B20: 9 | C20: 16003 | D20: RETROEXCAVADORA | E20: KOMATSU KOMATSU | F20: 830060331 | G20: FEVP-967551 | H20: 45291 | I20: 4.8796047e+08 | J20: =ROUND((I20*10%),0) -> 48796047
B21: 10 | C21: 16004 | D21: VIBROCOMPACTADORA | E21: KOMATSU KOMATSU | F21: 830060331 | G21: FEVP-965658 | H21: 45291 | I21: 5.1258855e+08 | J21: =ROUND((I21*10%),0) -> 51258855
B22: 11 | C22: 16010 | D22: MOTONIVELADORA | E22: KOMATSU KOMATSU | F22: 830060331 | G22: FEVP-967554 | H22: 45291 | I22: 1.3245849e+09 | J22: =ROUND((I22*10%),0) -> 132458488
B23: 12 | C23: 16094 | D23: EXCAVADORA | E23: DISTRIBUIDORA NISSAN SA DISTRIBUIDORA NISSAN SA | F23: 860001307 | G23: Q030-10244 | H23: 45385 | I23: 9.2221071e+08 | J23: =ROUND((I23*10%),0) -> 92221071
... B27: 16 | C27: 16013 | D27: RETROEXCAVADORA | E27: DISTRIBUIDORA NISSAN SA DISTRIBUIDORA NISSAN SA | F27: 860001307 | G27: Q030-10218 | H27: 45280 | I27: 4.9590113e+08 | J27: =ROUND((I27*10%),0) -> 49590113
B28: 17 | D28: EXCAVADORA JHON DEERE MOTOR J04045L748556 | E28: DISTRIBUIDORA NISSAN SA DISTRIBUIDORA NISSAN SA | I28: 8.498266e+08 | J28: =ROUND((I28*10%),0) -> 84982660
E29: TOTALES. | I29: =SUM(I12:I28) -> 1.3504491e+10 | J29: =SUM(J12:J28)/365*82 -> 3.0338856e+08
E32: TOTAL CON INDICE VARIABLE DEL 10% | J32: =I29+J29 -> 1.3807879e+10
E34: RESPONSABILIDAD CIVIL EXTRACONTRACTUAL $500.000.000 SIN COBRO DE PRIMA
E35: Elaborado: Jargu S.A. Corredores de Seguros. - septiembre de 2026

Sheet R. BIENES CASCO
B5: AGENCIA DE DESARROLLO RURAL
B6: ANEXO No. 2 RELACIÓN DE BIENES Y VALORES ASEGURADOS
B7: RELACIÓN DE BIENES CASCO BARCO
B8: RELACION DE EMBARCACIONES
B9: PLACA | C9: DESCRIPCION | D9: VALOR ASEGURADO | E9: INDICE VARIABLE 5%
B10: 12079 | C10: BOTE EMBARCACIÓN - REPRESA TRIANGULO DEL TOLIMA - RESOLUCION 1415 DE 2016 - DISTRITOS / 6 PERSONAS O 400 K, ESLORA 4 MTS, MANGA 1.6 MTS, DIMENSIONES (MTS): 4,00 X 1,60, MATERIAL CASCO FIBRA / YAMAHA 9.96 H.P. SE UTILIZA PARA LA LIMPIEZA DE LAS COMPUERTAS DE TOMA 1 Y 2, UBICADAS EN EL EMBALSE ZANJA HONDA, MUNICIPIO DE COYAIMA TOLIMA. | D10: 9366965.1 | E10: =(D10*5%) -> 468348.26
B11: 12420 | C11: BOTE EMBARCACION - SUBESTACIÓN RANCHERÍA - RESOLUCION 1415 DE 2016 - DISTRITOS TRANSPORTE TAXI 150 ,8 PASAJEROS Y 560KG, DIMENSIONES (MTS): DIMENSIONES (MTS): ESLORA:4.57M MANGA :1.71M PUNTAL: 1.67M, MATERIAL CASCO FIBRA (EDUARDOÑO), FECHA CONSTRUCCION 23/01/2012, MOD. E15ACB / MOTOR YAMAHA, 50 HP, 4 TIEMPOS, MOD FT50CETL / EMBALSE DE ZANJA HONDA EN UN AREA DE SUPERFICIE DE AGUA DE 375 HECTAREAS, EMBALSE RIO RANCHERIA…… | D11: 9366965.1 | E11: =(D11*5%) -> 468348.26
B12: 12967 | C12: REMOLQUE LANCHA - CAMPAMENTO RANCHERÍA - RESOLUCION 1415 DE 2016 - DISTRITOS REMOLQUE PARA TRANSPORTE DE BOTE, MEDIDAS 4,80 X 1.40, CAPACIDAD DE CARGA 2300 KG, CHASIS ELABORADO EN TUBERIA ESTRUCTURAL, SUSPENSION POR MUELLES (HOJAS DE RSAORTE), UN EJE CON CAPACIDAD DE CARGA DE 2500 KG, DOS LLANTAS RIN 15, DOS RINS 15, UN MATACATE CON GUAYA, ORRES ENTAPETADAS DE CORREDERA, LUCES DE COLA, ENGANCHE DE BOLA DE 3.500 LB, TOMA DE LUCES 7 VIDAS / REMOLQUE PARA TRANSPORTE DE BOTE……… | D12: 1101996 | E12: =(D12*5%) -> 55099.798
C13: TOTALES | D13: =SUM(D10:D12) -> 19835926 | E13: =SUM(E10:E12)/365*82 -> 222814.51
C14: GRAN TOTAL | D14: =D13+E13 -> 20058741
C15: Elaborado: Jargu S.A. Corredores de Seguros. -septiembre de 2026

Sheet AUTOS
A3: AGENCIA DE DESARROLLO RURAL - ADR
A5: AUTOMÓVILES DE AGENCIA DE DESARROLLO RURAL - ADR - CALCULO PRIMA VIGENCIA-ASEGURADORA SOLIDARIA
B6: No. | C6: Póliza N° | D6: Modalidad Póliza | E6: Placa | F6: Número de Motor | G6: Número de Chasis | H6: VIN | I6: Marca | J6: Línea | K6: Modelo | L6: Servicio | M6: Fecha de Inicio | N6: Fecha de Vencimiento | O6: Clase de vehículo | P6: Subtipo | Q6: Cilindraje | R6: Codigo Fasecolda | S6: VR. FASECOLDA SEPTIEMBRE 2026 | T6: TASA% | U6: Prima | V6: IVA | W6: Total Prima
B7: 1 | C7: 1011897 | D7: LIVIANO | E7: OJK039 | F7: 2KD6116701 | G7: MR0FR22G480652610 | H7: MR0FR22G480652610 | I7: TOYOTA | J7: HILUX | K7: 2008 | L7: Oficiales | M7: 46352 | N7: =M7+82 -> 46434 | O7: Campero y o camioneta | P7: CAMPEROS Y CAMIONETAS 1500 a 2500 10 años o mas | Q7: 2494 | R7: 9021027 | S7: 77700000 | T7: 5.5 | U7: =S7*T7/100 -> 4273500 | V7: =U7*19/100 -> 811965 | W7: =U7+V7 -> 5085465
B8: 2 | C8: 1011897 | D8: LIVIANO | E8: OKZ732 | F8: 2TR-A164762 | G8: 8AJCX8GS8H0690735 | H8: 8AJCX8GS8H0690735 | I8: TOYOTA | J8: FORTUNER | K8: 2017 | L8: Oficiales | M8: 46352 | N8: =M8+82 -> 46434 | O8: Campero y o camioneta | P8: CAMPEROS Y CAMIONETAS Más de 2500 c.c. 0 a 9 años | Q8: 2694 | R8: 9006160 | S8: 134800000
B9: 3 | C9: 1011897 | D9: LIVIANO | E9: JDW300 | F9: 27091031070093 | G9: WDC1569431J292994 | H9: WDC1569431J292994 | I9: MERCEDES BENZ | J9: GLA 200 | K9: 2017 | L9: Particular | M9: 46352 | N9: =M9+82 -> 46434 | O9: Camioneta | P9: Camioneta | Q9: 1600 | R9: 05806114 | S9: 91000000
B10: 4 | C10: 1011897 | D10: LIVIANO | E10: MUL729 | F10: 180413054417204PT | G10: SALVA2BG7DH801467 | H10: SALVA2BG7DH801467 | I10: LAND ROVER | J10: RANGE ROVER EVOQUE | K10: 2013 | L10: Particular | M10: 46352 | N10: =M10+82 -> 46434 | O10: Campero | P10: Campero | Q10: 1999 | R10: 05236079 | S10: 84300000
B11: 5 | C11: 1011897 | D11: LIVIANO | E11: IOS157 | F11: 27091030781385 | G11: WDD1173421N276767 | H11: WDD1173421N276767 | I11: MERCEDES BENZ | J11: CLA 180 | K11: 2016 | L11: Particular | M11: 46352 | N11: =M11+82 -> 46434 | O11: Automóviles | P11: Automóviles familiar | Q11: 1595 | R11: 05833192 | S11: 87700000 | T11: 5.5 | U11: =S11*T11/100 -> 4823500 | V11: =U11*19/100 -> 916465 | W11: =U11+V11 -> 5739965
I12: LIVIANOS | S12: =SUM(S7:S11) -> 475500000 | U12: =SUM(U7:U11) -> 9097000 | V12: =SUM(V7:V11) -> 1728430 | W12: =SUM(W7:W11) -> 10825430
B13: 1 | C13: 1011898 | D13: PESADO | E13: LIT 050 | F13: 99134798 | G13: 3HAEUMMR9RL210411 | H13: 3HAEUMMR9RL210411 | I13: INTERNATIONAL | J13: MV607 SBA 4X2 | K13: 2024 | L13: Oficiales | M13: 46352 | N13: =M13+82 -> 46434 | O13: Carga o Mixto | P13: CARGA O MIXTO De 5 a 15 toneladas | Q13: 6700 | R13: 3626107 | S13: 462800000 | T13: 5.5 | U13: =S13*T13/100 -> 25454000 | V13: =U13*19/100 -> 4836260 | W13: =U13+V13 -> 30290260
B14: 2 | C14: 1011898 | D14: PESADO | E14: LIT054 | F14: 99133359 | G14: 3HAEUMMR8RL179166 | H14: 3HAEUMMR8RL179166 | I14: INTERNATIONAL | J14: MV607 SBA 4X2 | K14: 2024 | L14: Oficiales | M14: 46352 | N14: =M14+82 -> 46434 | O14: Carga o Mixto | P14: CARGA O MIXTO De 5 a 15 toneladas | Q14: 6700 | R14: 3626107 | S14: 462800000 | T14: 5.5 | U14: =S14*T14/100 -> 25454000 | V14: =U14*19/100 -> 4836260 | W14: =U14+V14 -> 30290260
B15: 3 | C15: 1011898 | D15: PESADO | E15: LIT 076 | F15: 93165101 | G15: LVBV6PDB8RW085675 | H15: LVBV6PDB8RW085675 | I15: FOTON | J15: BJ1226VMPHA-F3 | K15: 2024 | L15: Oficiales | M15: 46352 | N15: =M15+82 -> 46434 | O15: Carga o Mixto | P15: CARGA O MIXTO De 5 a 15 toneladas | Q15: 6690 | R15: 18965024 | S15: 317100000 | T15: 5.5 | U15: =S15*T15/100 -> 17440500 | V15: =U15*19/100 -> 3313695 | W15: =U15+V15 -> 20754195
B16: 4 | C16: 1011898 | D16: PESADO | E16: LIT 078 | F16: 93165098 | G16: LVBV6PDB3RW085678 | H16: LVBV6PDB3RW085678 | I16: FOTON | J16: BJ1226VMPHA-F3 | K16: 2024 | L16: Oficiales | M16: 46352 | N16: =M16+82 -> 46434 | O16: Carga o Mixto | P16: CARGA O MIXTO De 5 a 15 toneladas | Q16: 6690 | R16: 18965024 | S16: 317100000 | T16: 5.5 | U16: =S16*T16/100 -> 17440500 | V16: =U16*19/100 -> 3313695 | W16: =U16+V16 -> 20754195
I17: PESADOS | S17: =SUM(S13:S16) -> 1559800000 | U17: =SUM(U13:U16) -> 85789000 | V17: =SUM(V13:V16) -> 16299910 | W17: =SUM(W13:W16) -> 102088910
I18: TOTALES LIVIANOS Y PESADOS | S18: =S12+S17 -> 2035300000 | U18: =U12+U17 -> 94886000 | V18: =V12+V17 -> 18028340 | W18: =W12+W17 -> 112914340
B19: Elaborado: Jargu S.A. Corredores de Seguros. - sepiembre de 2026

Sheet SOAT ESTUD MERCADO
A3: AGENCIA DE DESARROLLO RURAL - ADR
A5: SOAT DE AGENCIA DE DESARROLLO RURAL - ADR - VIGENCIA 2026-2027-2028- ASEGUADORA ACTUAL PREVISORA
B6: No. | C6: Póliza N° | D6: Factura N° | E6: Placa | F6: Número de Motor | G6: Número de Chasis | H6: VIN | I6: Marca | J6: Línea | K6: Modelo | L6: Servicio | M6: Fecha de Inicio | N6: Fecha de Vencimiento | P6: Clase de vehículo | Q6: Subtipo | R6: Cilindraje | S6: Tarifa | T6: Prima | U6: Contribución | V6: Tasa RUNT | W6: Total Prima
B7: 2 | C7: 4337491 | D7: 70SO-264675 | E7: LIT 050 | F7: 99134798 | G7: 3HAEUMMR9RL210411 | H7: 3HAEUMMR9RL210411 | I7: INTERNATIONAL | J7: MV607 SBA 4X2 | K7: 2024 | L7: Oficiales | M7: 0 | N7: 0 | O7: =N7-M7 -> 0 | P7: Carga o Mixto | Q7: CARGA O MIXTO De 5 a 15 toneladas | R7: 6700 | S7: 320 | T7: 842400 | U7: 438000 | V7: 2400 | W7: =T7+U7+V7 -> 1282800
B8: 3 | C8: 4337492 | D8: 70SO-264677 | E8: LIT054 | F8: 99133359 | G8: 3HAEUMMR8RL179166 | H8: 3HAEUMMR8RL179166 | I8: INTERNATIONAL | J8: MV607 SBA 4X2 | K8: 2024 | L8: Oficiales | M8: 0 | N8: 0 | O8: =N8-M8 -> 0 | P8: Carga o Mixto | Q8: CARGA O MIXTO De 5 a 15 toneladas | R8: 6700 | S8: 320 | T8: 842400 | U8: 438000 | V8: 2400 | W8: =T8+U8+V8 -> 1282800
B9: 4 | C9: 4337493 | D9: 70SO-264643 | E9: LIT 076 | F9: 93165101 | G9: LVBV6PDB8RW085675 | H9: LVBV6PDB8RW085675 | I9: FOTON | J9: BJ1226VMPHA-F3 | K9: 2024 | L9: Oficiales | M9: 46350 | N9: 46714 | O9: =N9-M9 -> 364 | P9: Carga o Mixto | Q9: CARGA O MIXTO De 5 a 15 toneladas | R9: 6690 | S9: 320 | T9: 842400 | U9: 438000 | V9: 2400 | W9: =T9+U9+V9 -> 1282800
B10: 5 | C10: 4337494 | D10: 70SO-264635 | E10: LIT 078 | F10: 93165098 | G10: LVBV6PDB3RW085678 | H10: LVBV6PDB3RW085678 | I10: FOTON | J10: BJ1226VMPHA-F3 | K10: 2024 | L10: Oficiales | M10: 46350 | N10: 46714 | O10: =N10-M10 -> 364 | P10: Carga o Mixto | Q10: CARGA O MIXTO De 5 a 15 toneladas | R10: 6690 | S10: 320 | T10: 842400 | U10: 438000 | V10: 2400 | W10: =T10+U10+V10 -> 1282800
B11: 6 | C11: 4337489 | D11: 70SO-264712 | E11: OJK039 | F11: 2KD6116701 | G11: MR0FR22G480652610 | H11: MR0FR22G480652610 | I11: TOYOTA | J11: HILUX | K11: 2008 | L11: Oficiales | M11: 46386 | N11: 46750 | O11: =N11-M11 -> 364 | P11: Campero y o camioneta | Q11: CAMPEROS Y CAMIONETAS 1500 a 2500 10 años o mas | R11: 2494 | S11: 222 | T11: 736200 | U11: 382800 | V11: 2400 | W11: =T11+U11+V11 -> 1121400
B12: 7 | C12: 4337490 | D12: 70SO-264686 | E12: OKZ732 | F12: 2TR-A164762 | G12: 8AJCX8GS8H0690735 | H12: 8AJCX8GS8H0690735 | I12: TOYOTA | J12: FORTUNER | K12: 2017 | L12: Oficiales | M12: 46386 | N12: 46750 | O12: =N12-M12 -> 364 | P12: Campero y o camioneta | Q12: CAMPEROS Y CAMIONETAS Más de 2500 c.c. 0 a 9 años | R12: 2694 | S12: 231 | T12: 728900 | U12: 379000 | V12: 2400 | W12: =T12+U12+V12 -> 1110300
B13: 1 | C13: 4351309000 | D13: 70SO -278569 | E13: IOS157 | F13: 27091030781385 | G13: WDD1173421N276767 | H13: WDD1173421N276767 | I13: MERCEDES BENZ | J13: CLA 180 | K13: 2016 | L13: Particular | M13: 46447 | N13: 46812 | O13: =N13-M13 -> 365 | P13: Automóviles | Q13: Ato familiar | R13: 1595 | S13: 522 | T13: 444100 | U13: 230900 | V13: 2400 | W13: =T13+U13+V13 -> 677400
B14: 8 | C14: 9800020237 | E14: JDW300 | F14: 27091031070093 | G14: WDC1569431J292994 | H14: WDC1569431J292994 | I14: MERCEDES BENZ | J14: GLA 200 | K14: 2017 | L14: Particular | M14: 46495 | N14: 46860 | O14: =N14-M14 -> 365 | P14: Camioneta | Q14: Campero camioneta | R14: 1600 | S14: 221 | T14: 621200 | U14: 323000 | V14: 2400 | W14: =T14+U14+V14 -> 946600
B15: 9 | C15: 9800020238 | E15: MUL729 | F15: 180413054417204PT | G15: SALVA2BG7DH801467 | H15: SALVA2BG7DH801467 | I15: LAND ROVER | J15: RANGE ROVER EVOQUE | K15: 2013 | L15: Particular | M15: 46495 | N15: 46860 | O15: =N15-M15 -> 365 | P15: Campero | Q15: Campero | R15: 1999 | S15: 222 | T15: 736200 | U15: 382800 | V15: 2400 | W15: =T15+U15+V15 -> 1121400
I16: TOTALES PRIMAS | T16: =SUM(T7:T15) -> 6636200 | U16: =SUM(U7:U15) -> 3450500 | V16: =SUM(V7:V15) -> 21600 | W16: =SUM(W7:W15) -> 10108300
B17: Elaborado: Jargu S.A. Corredores de Seguros. -septiembre de 2026 | T17: NOTA 1. LA PRIMA INDICADA SE CALCULA CON LA TARIFA DE 2026
B18: NOTA 2. SE ACLARA QUE LA VIGENCIA DE LOS SOAT DE LOS VEHÍCULOS DE PLACAS LIT050 Y LIT054 QUE TIENE VENCIMIENTO 16/11/26 A LAS 24:00, INICIARÁN NUEVA VIGENCIA A PARTIR DE LAS 00:00 HORAS DEL DIA SIGUIENTE AL PERFECCIONAMIENTO DE LOS REQUISITOS DE EJECUCION DEL CONTRATO ESTATAL. | Q18: 10260900
