Workbook
Name _1: #REF!
Name _2: #REF!
Name A: #REF!
Name A_impresión_IM: #REF!
Name aaa: #REF!
Name Auxiliarjal: #REF!
Name B: #REF!
Name basecaro: #REF!
Name basejuliet1: #REF!
Name basemetroabril2017: #REF!
Name basemetroabril2017final: #REF!
Name BLOQUE: #REF!
Name cargo: #REF!
Name CLASE: #REF!
Name correoelectronico: #REF!
Name COSTOM2: #REF!
Name Dólar: #REF!
Name epsypension: #REF!
Name Factor: #REF!
Name JJJJ: #REF!
Name lineainstitucional: #REF!
Name mesabril: #REF!
Name nuevosoi: #REF!
Name origenaux: #REF!
Name pagojuliethjunio: #REF!
Name Profesional: #REF!
Name profesionaljal: #REF!
Name SVASFD: #REF!
Name TCRM: #REF!
Name TCRM_al_03_MAYO_2000: #REF!
Name Títulos_a_imprimir_IM: #REF!
Name TOP: #REF!
Name TRM: #REF!

Sheet METODOLOGÍA DE EVALUACIÓN
B2: AGENCIA DE DESARROLLO RURAL
B4: Formato No. 3. Condiciones Técnicas Adicionales
B5: METODOLOGÍA DE EVALUACIÓN - APLICABLE A TODAS LAS PÓLIZAS
B6: El Asegurado precisa que las condiciones, coberturas, cláusulas, límites y/o plazo indicados a continuación no son de obligatorio ofrecimiento y las aseguradoras participantes tienen la postedad de decidir su ofrecimiento. Para su evaluación se considerarán los siguientes criterios que corresponden a los generales aplicables, por lo tanto en el caso que se estipulen criterios particulares dentro del contenido de las condiciones, estos primarán sobre los generales: Las aseguradoras deben tener en cuenta que el ofrecimiento de condiciones que presten beneficio a la Entidad adicionales a las relacionadas en cada póliza pero que son en exceso a las mismas; no serán objeto de asignación de puntaje adicional a esos exceso y solo evaluables con base en los criterios que esten definidos en cada condición, no obstante la presentación de éstas obliga a la Aseguradora a su otorgamiento en caso de que el contrato le sea adjudicado y el oferente con la firma de la propuesta acepta esta condición.
B7: CONDICIONES ADICIONALES QUE CONTIENEN SOLO TEXTO: | D7: Se otorgará el máximo puntaje asignado a las propuestas que las ofrezcan con el mismo texto y bajo las mismas condiciones o en condiciones superiores en beneficio de la Entidad. Las propuestas que modifiquen el texto, sin que ello conlleve a la pérdida de la aplicabilidad y/u operatividad de la condición, se le asignará el 50% del puntaje y las propuestas que no las ofrezcan se calificarán con cero (0) puntos.
B8: CONDICIONES ADICIONALES QUE APLIQUEN PARA OFERTAS DE LÍMITES Y/O VALORES FIJOS QUE SE REGISTREN EN TABLAS Y/O CONTENGAN RANGOS Y/O VALORES CON BASE EN LOS CUALES SE DEBE EFECTUAR EL OFRECIMIENTO. | D8: Las aseguradoras deben tener en cuenta: 1. Para acceder a calificación, el oferente deberá registrar en forma expresa y de manera clara, el valor y/o límite que ofrece. En aquellos casos que se exprese valores en COL$ o en SMMLV para realizar una evaluación equitativa, se podrá homologar el ofrecimiento a alguna de las dos constantes COL$ o SMMLV. 2. Se otorga el máximo puntaje a la propuesta que dentro del rango o tabla se aproxime al máximo sublímite o plazo requerido y las demas ofertas se calificaran en forma proporcional a la propuesta calificada con el máximo puntaje. 3. En el caso de presentar propuesta por un valor y/o límite diferente al establecido en los rangos de la tabla, se tomará para la asignación de puntaje, el monto y/o límite del rango inmediatamente anterior al del valor ofrecido y el oferente acepta esta condición con la firma de la oferta y, de ser adjudicada la propuesta, expedirá la póliza con el valor indicado en la propuesta.
B9: CONDICIONES ADICIONALES | D9: NOTA: Las aseguradoras deben señalar expresamente en su propuesta las Condiciones Adicionales que ofrece especificando los límites, periodos y demás información necesaria para su evaluación de acuerdo con las condiciones de cada una de ellas, en caso que manifieste "SE OTORGA" ó "SI" u otra expresión que implica que si esta otorgando la condición, pero no está especificado, se entenderá que las mismas fueron ofrecidas al máximo límite, sublímite o periodos o plazos y por lo tanto se asignará el mayor puntaje de esta condición, al límite, sublímite o períodos o plazos requerido y de ser adjudicada la propuesta, la aseguradora expedirá la póliza con las condiciones máximas exigidas de ese criterio en particular.
B10: By: Tiger | G10: VERSIÓN: AGOSTO 2026

Sheet G1. COND ADIC. TRDMC
B2: AGENCIA DE DESARROLLO RURAL
B4: Formato No. 3. Condiciones Técnicas Adicionales
B5: GRUPO No. 1
B6: 1. PÓLIZA DE SEGURO DE TODO RIESGO DAÑOS MATERIALES COMBINADOS
B7: OBJETO DEL SEGURO
B8: Amparar todos los activos (bienes inmuebles y muebles) de propiedad de la AGENCIA DE DESARROLLO RURAL, o aquellos que se encuentren bajo su control, tenencia, responsabilidad o custodia, contra los daños o pérdidas materiales a consecuencia de cualquier riesgo, tanto por eventos internos o externos y en general los recibidos a cualquier título o por los que tenga algún interés asegurable, ubicados en el territorio nacional o por aquellos que por su naturaleza se deban trasladar a nivel mundial, dentro o fuera de las instalaciones del asegurado y/o en predios de terceros o a la intemperie y los utilizados en desarrollo del objeto social de la AGENCIA DE DESARROLLO RURAL.
B9: INFORMACIÓN GENERAL:
B10: TOMADOR: | C10: =+B2 -> AGENCIA DE DESARROLLO RURAL | G10: NIT | H10: 900.948.958-4
B11: ASEGURADO: | C11: =+C10 -> AGENCIA DE DESARROLLO RURAL | G11: =+G10 -> NIT | H11: =+H10 -> 900.948.958-4
B12: BENEFICIARIO: | C12: =+C10 -> AGENCIA DE DESARROLLO RURAL | G12: =+G11 -> NIT | H12: =+H10 -> 900.948.958-4
B13: NOTA: | C13: CADA SUBLÍMITE O GASTOS OFRECIDOS EN FORMA ADICIONAL QUEDA CONTEMPLADO DENTRO DEL LÍMITE ASEGURADO.
B14: CRITERIOS DE EVALUACIÓN:
B15: CONDICIÓN REQUERIDA PARA EVALUACIÓN | E15: CRITERIO DE EVALUACIÓN | F15: PUNTAJE ESTABLECIDO | G15: OFRECIMIENTO DEL PROPONENTE | H15: PUNTAJE OBTENIDO POR EL PROPONENTE
A16: 1 | B16: HURTO Y HURTO CALIFICADO Sublímite de $5.000.000.000 (vigencia 1.4.3.) combinado para todos los bienes. NOTA: Solo se acepta propuesta en los límites señados en los siguientes rangos. Ofrecimientos de otros valores diferentes serán evaluados con cero (0) puntos), excepto que sea superior al último rango. | D16: PUNTOS AL MAYOR VALOR DENTRO DEL RANGO | E16: Se califica el aumento adicional del sublímite Hasta un monto total de $ 6.000.000.000 incluido el básico | F16: =D19 -> 8
B17: Límite adicional al básico mayor a $250.000.000 y hasta $500.000.000: | D17: 2
B18: Límite adicional al básico mayor a $500.000.000 y hasta $750.000.000: | D18: 4
B19: Límite adicional al básico mayor a $750.000.000 y hasta $1.000.000.000: | D19: 8
A20: 2 | B20: ANTICIPO DE INDEMNIZACIÓN DEL 50%. NOTA 1: Si el aumento adicional del porcentaje de anticipo es condicionado a la demostración de la ocurrencia y cuantía, se califica con cero (0) puntos este factor. NOTA 2: Solo se acepta propuesta en los límites señados en los siguientes rangos. | D20: PUNTOS AL MAYOR VALOR DENTRO DEL RANGO | E20: Se califica el aumento adicional del porcentaje ofrecido. Bajo la definición del texto de la condición obligatoria y sin estar condicionada a la demostración de ocurrencia y cuantía. | F20: =D23 -> 6
B21: Límite adicional al básico mayor al 10% y hasta el 15%. | D21: 2
B22: Límite adicional al básico mayor al 15% y hasta el 20%. | D22: 4
B23: Límite adicional al básico mayor al 20% y hasta el 30%. | D23: 6
A24: 3 | B24: RENUNCIA A LA APLICACIÓN DE SEGURO INSUFICIENTE Y/O INFRASEGURO Siempre y cuando la diferencia entre el valor asegurado y el valor asegurable no sea superior al 23%. NOTA: Solo se acepta propuesta en los límites señados en los siguientes rangos. Ofrecimientos de otros valores diferentes serán evaluados con cero (0) puntos), excepto que sea superior al último rango. | D24: PUNTOS AL MAYOR VALOR DENTRO DEL RANGO | E24: Se califica en Condiciones Adicionales el aumento adicional del porcentaje ofrecido. Hasta un máximo del 30% incluido el básico | F24: =D27 -> 4
B25: Porcentaje adicional mayor al 2% y hasta el 5%: | D25: 1.5
B26: Porcentaje adicional mayor al 5% y hasta el 6%: | D26: 3
B27: Porcentaje adicional mayor al 6% y hasta el 7%: | D27: 4
A28: 4 | B28: CLÁUSULA DE NO TASACIÓN EN CASO DE SINIESTRO Sublímite de hasta $160.000.000, por siniestro. NOTA: Solo se acepta propuesta en los límites señados en los siguientes rangos. Ofrecimientos de otros valores diferentes serán evaluados con cero (0) puntos), excepto que sea superior al último rango. | D28: PUNTOS AL MAYOR VALOR DENTRO DEL RANGO | E28: Se califica el aumento adicional del sublímite Hasta un monto total de $240.000.000 incluido el básico | F28: =D31 -> 4
B29: Límite adicional al básico mayor a $20.000.000 y hasta $40.000.000: | D29: 1
B30: Límite adicional al básico mayor a $40.000.000 y hasta $60.000.000: | D30: 2
B31: Límite adicional al básico mayor a $60.000.000 y hasta $80.000.000: | D31: 4
A32: 5 | B32: COMPROMISO PARA EL PAGO DE LAS INDEMNIZACIONES Plazo de diez (10) días hábiles. | E32: Se califica el menor número de días hábiles una vez demostrada ocurrencia y cuantía. | F32: 2
B33: ASISTENCIA DOMICILIARIA Bajo esta condición la aseguradora se compromete a brindar el servicio de asistencia domiciliaria a la sede principal de la Entidad, para los servicios de plomería, electricidad y cerrajería. Acorde con las políticas establecidas en los clausulados particulares de cada aseguradora. Calle 43 No 57-41 CAN - Sede Central - Bogotá Calle 32 No 8-56 - Cartagena Calle 7 # 06-07 Neiva SE OFERTA PARA ESTOS 3 RIESGOS | E33: Se califica el ofrecimiento de esta asistencia | F33: 2
B34: AUTORIZACIÓN EXPRESA AL ASEGURADO PARA ATENCIÓN DE DAÑOS POR SINIESTROS CUYO VALOR NO EXCEDA $ 150.000.000. NOTA: Solo se acepta propuesta en los límites señados en los siguientes rangos. Ofrecimientos de otros valores diferentes serán evaluados con cero (0) puntos), excepto que sea superior al último rango. | D34: PUNTOS AL MAYOR VALOR DENTRO DEL RANGO | E34: Se califica el aumento adicional del sublímite para la autorización expresa para la atención de siniestros. Hasta un monto total de $350.000.000 incluido el básico | F34: =D37 -> 4
B35: Límite adicional al básico mayor a $50.000.000 y hasta $100.000.000: | D35: 1.5
B36: Límite adicional al básico mayor a $100.000.000 y hasta $150.000.000: | D36: 3
A37: 6 | B37: Límite adicional al básico mayor a $150.000.000 y hasta $200.000.000: | D37: 4
B38: MÁXIMO CALIFICACIÓN | F38: =SUM(F16:F37) -> 30 | G38: CALIFICACIÓN DEL PROPONENTE | H38: =SUM(H20:H37) -> 0
B39: By: Tiger | H39: VER. AGOST 2026

Sheet G1. COND. BÁSICAS MANEJO
B2: ='G1. COND. BÁSICAS RCE'!B2 -> AGENCIA DE DESARROLLO RURAL
B4: Formato No. 3. Condiciones Técnicas Adicionales
B5: GRUPO No.1
B6: 2. PÓLIZA DE SEGURO GLOBAL DE MANEJO PARA ENTIDADES OFICIALES
B7: OBJETO DEL SEGURO
B8: Amparar los riesgos que impliquen menoscabo de los fondos y/o bienes de propiedad de AGENCIA DE DESARROLLO RURAL - ADR o que estén bajo su tenencia, control y/o responsabilidad causados por acciones u omisiones de sus servidores, que incurran en delitos contra la administración pública o fallos con responsabilidad fiscal, por incumplimiento de las disposiciones legales y reglamentarias, incluyendo el costo de la rendición de cuentas en caso de abandono del cargo o fallecimiento del empleado, en concordancia con la Resolución 014249 del 15 de mayo de 1992, aprobada por la Contraloría General de la República.
B9: INFORMACIÓN GENERAL:
B10: TOMADOR: | C10: =+B2 -> AGENCIA DE DESARROLLO RURAL | G10: NIT. | H10: 900.948.958-4
B11: ASEGURADO: | C11: =+C10 -> AGENCIA DE DESARROLLO RURAL | G11: NIT. | H11: =+H10 -> 900.948.958-4
B12: BENEFICIARIO: | C12: =+C10 -> AGENCIA DE DESARROLLO RURAL | G12: NIT. | H12: =+H10 -> 900.948.958-4
B13: NOTA: | C13: CADA SUBLÍMITE O GASTOS OFRECIDOS EN FORMA ADICIONAL QUEDA CONTEMPLADO DENTRO DEL LÍMITE ASEGURADO.
B14: CRITERIOS DE EVALUACIÓN:
B15: CONDICIÓN REQUERIDA PARA EVALUACIÓN | E15: CRITERIO DE EVALUACIÓN | F15: PUNTAJE ESTABLECIDO | G15: OFRECIMIENTO DEL OFERENTE | H15: PUNTAJE OBTENIDO POR EL OFERENTE
A16: 1 | B16: INCREMENTO DEL LÍMITE BÁSICO PARA LA COBERTURA DE MANEJO GLOBAL. LÍMITE $700.000.001 EVENTO / (vigencia 2.3.2) NOTA: Solo se acepta propuesta en los límites señados en los siguientes rangos. Ofrecimientos de otros valores diferentes serán evaluados con cero (0) puntos), excepto que sea superior al último rango. | D16: PUNTOS AL MAYOR VALOR DENTRO DEL RANGO | E16: Se califica el aumento adicional del límite asegurado. Hasta un monto total de $800.000.001 incluido el básico SIN COBRO DE PRIMA | F16: =D20 -> 15
B17: Límite adicional al básico mayor a $20.000.000 y hasta $40.000.000 | D17: 3
B18: Límite adicional al básico mayor a $40.000.000 y hasta $60.000.000 | D18: 5
B19: Límite adicional al básico mayor a $60.000.000 y hasta $80.000.000 | D19: 10
B20: Límite adicional al básico mayor a $80.000.000 y hasta $100.000.00 | D20: 15
A21: 2 | B21: ANTICIPO DE INDEMNIZACIÓN DEL 50%. NOTA 1: Si el aumento adicional del porcentaje de anticipo es condicionado a la demostración de la ocurrencia y cuantía, se califica con cero (0) puntos este factor. NOTA 2: Solo se acepta propuesta en los límites señados en los siguientes rangos. | D21: PUNTOS AL MAYOR VALOR DENTRO DEL RANGO | E21: Se califica el aumento adicional del porcentaje ofrecido. Bajo la definición del texto de la condición obligatoria y sin estar condicionada a la demostración de ocurrencia y cuantía. | F21: =D24 -> 5
B22: Límite adicional al básico mayor al 10% y hasta el 15%. | D22: 1.5
B23: Límite adicional al básico mayor al 15% y hasta el 20%. | D23: 3
B24: Límite adicional al básico mayor al 20% y hasta el 30%. | D24: 5
A25: 3 | B25: RESTABLECIMIENTO ADICIONAL AUTOMÁTICO DEL LÍMITE ASEGURADO POR PAGO DE SINIESTRO, HASTA (1,6) VECES DEL LÍMITE CONTRATADO CON COBRO DE PRIMA A PRORRATA. NOTA: Solo se acepta propuesta en los límites señados en los siguientes rangos. Ofrecimientos de otros valores diferentes serán evaluados con cero (0) puntos), excepto que sea superior al último rango. | D25: PUNTOS AL MAYOR VALOR DENTRO DEL RANGO | E25: Se califica el número de reestablecimientos adicionales, únicamente relacionados en la tabla de rangos en la condición requerida para la evaluación. | F25: =D28 -> 5
B26: Superior a 2.0 veces y hasta 2,5 veces | D26: 1
B27: Superior a 2,5 veces y hasta 3,0 veces | D27: 3
B28: Superior a 3,0 veces y hasta 3,5 veces | D28: 5
A29: 4 | B29: COMPROMISO PARA EL PAGO DE LAS INDEMNIZACIONES Plazo de diez (10) días hábiles. | D29: 5 | E29: Se califica el menor número de días hábiles una vez demostrada ocurrencia y cuantía. | F29: =D29 -> 5
B30: MÁXIMO CALIFICACIÓN | F30: =SUM(F16:F29) -> 30 | G30: CALIFICACIÓN DEL OFERENTE | H30: =SUM(H16:H29) -> 0
B31: By: Tiger | H31: VER. AGOSTO 2026

Sheet G1. COND. BÁSICAS RCE
B2: ='G1. COND ADIC. TRDMC'!B2 -> AGENCIA DE DESARROLLO RURAL
B4: Formato No. 3. Condiciones Técnicas Adicionales
B5: GRUPO No. 1
B6: 3. PÓLIZA DE SEGURO DE RESPONSABILIDAD CIVIL EXTRACONTRACTUAL
B7: OBJETO DEL SEGURO
B8: Amparar los perjuicios patrimoniales y extrapatrimoniales que cause la AGENCIA DE DESARROLLO RURAL - ADR como consecuencia de la Responsabilidad Civil Extracontractual originada dentro o fuera de sus instalaciones, en el desarrollo de sus actividades o en lo relacionado con ella, lo mismo que los actos de sus empleados y funcionarios o el personal para el apoyo a la gestión administrativa dentro y fuera del territorio nacional o por bienes que se encuentren bajo tenencia, control y/o responsabilidad . Nota: Se entenderán como terceros todos empleados y funcionarios los permanentes, o temporales, o estudiantes en práctica o pasantias, o contratistas, o subcontratistas, o de personas voluntarias que presten servicios al asegurado, incluyendo miembros de las Directivas y cada una de las personas que circulen, ingresen, accedan o se encuentren en los predios de asegurado o por los cuales es responsable en su aseguramiento, independientemente que el asegurado le esté prestando un servicio objeto de su razón social.
B9: INFORMACIÓN GENERAL:
B10: TOMADOR: | C10: =+B2 -> AGENCIA DE DESARROLLO RURAL | G10: NIT. | H10: =+'[1]3. COND. BÁSICAS RCE'!$G$9 -> 900.948.958-4
B11: ASEGURADO: | C11: =+C10 -> AGENCIA DE DESARROLLO RURAL | G11: NIT. | H11: =+H10 -> 900.948.958-4
B12: BENEFICIARIOS: | C12: TERCEROS AFECTADOS
B13: NOTA: | C13: CADA SUBLÍMITE O GASTOS OFRECIDOS EN FORMA ADICIONAL QUEDA CONTEMPLADO DENTRO DEL LÍMITE ASEGURADO.
B14: CRITERIOS DE EVALUACIÓN:
B15: CONDICIÓN REQUERIDA PARA EVALUACIÓN | E15: CRITERIO DE EVALUACIÓN | F15: PUNTAJE ESTABLECIDO | G15: OFRECIMIENTO DEL OFERENTE | H15: PUNTAJE OBTENIDO POR EL OFERENTE
A16: 1 | B16: INCREMENTO DEL LÍMITE BÁSICO PARA LA COBERTURA DE RESPONSABILIDAD CIVIL EXTRACONTRACTUAL $5,000,000,001 EVENTO / vigencia 3.4.1. NOTA: Solo se acepta propuesta en los límites señados en los siguientes rangos. Ofrecimientos de otros valores diferentes serán evaluados con cero (0) puntos), excepto que sea superior al último rango. | D16: PUNTOS AL MAYOR VALOR DENTRO DEL RANGO | E16: Se califica el aumento adicional del límite asegurado. Hasta un monto total de $7.000.000.001 incluido el básico SIN COBRO DE PRIMA | F16: =D19 -> 6
B17: Límite adicional al básico mayor a $300.000.000 y hasta $500.000.000 | D17: 2
B18: Límite adicional al básico mayor a $500.000.000 y hasta $1.000.000.000 | D18: 4
B19: Límite adicional al básico mayor a $1.000.000.000 y hasta $2.000.000.000 | D19: 6
A20: 2 | B20: GASTOS MÉDICOS (sin aplicación de deducibles). Sublímite $200,000,000 evento / $600.000.000 (vigencia 3.4.1.) ANEXO 1. | D20: PUNTOS AL MAYOR VALOR DENTRO DEL RANGO | E20: Se califica el aumento adicional del sublímite evento. Hasta un monto total de $400.000.000 incluido el básico | F20: =D24 -> 4
B21: Rangos para el sublímite por evento
B22: Límite adicional al básico mayor a $50.000.000 y hasta $100.000.000 | D22: 1.5
B23: Límite adicional al básico mayor a $100.000.000 y hasta $150.000.000 | D23: 2.4
B24: Límite adicional al básico mayor a $150.000.000 y hasta $200.000.000 | D24: 4 | E24: Se califica el aumento adicional del sublímite (vigencia 1.4.1) ANEXO 1. Hasta un monto total de $900.000.000 incluido el básico
B25: Rangos para el sublímite por (vigencia 1.4.1.) ANEXO 1. | D25: PUNTOS AL MAYOR VALOR DENTRO DEL RANGO | F25: =D28 -> 4
B26: Límite adicional al básico mayor a $50.000.000 y hasta $100.000.000 | D26: 1.5
B27: Límite adicional al básico mayor a $100.000.000 y hasta $200.000.000 | D27: 2.4
B28: Límite adicional al básico mayor a $200.000.000 y hasta $300.000.000 | D28: 4
A29: 3 | B29: RESPONSABILIDAD CIVIL PATRONAL Sublímite $120.000.000 evento / $360.000.000 (vigencia 1.4.1.) ANEXO 1. NOTA: Solo se acepta propuesta en los límites señados en los siguientes rangos. Ofrecimientos de otros valores diferentes serán evaluados con cero (0) puntos), excepto que sea superior al último rango. | D29: PUNTOS AL MAYOR VALOR DENTRO DEL RANGO | E29: Se califica el aumento adicional del sublímite evento. Hasta un monto total de $500.000.000 incluido el básico | F29: =D33 -> 4
B30: Rangos para el sublímite por evento
B31: Límite adicional al básico mayor a $100.000.000 y hasta $150.000.000 | D31: 1.5
B32: Límite adicional al básico mayor a $150.000.000 y hasta $200.000.000 | D32: 3
B33: Límite adicional al básico mayor a $200.000.000 y hasta $250.000.000 | D33: 4 | E33: Se califica el aumento adicional del sublímite (vigencia 1.4.1) ANEXO 1. Hasta un monto total de 1.300.000.000 incluido el básico
B34: Rangos para el sublímite por (vigencia 1.4.1.) ANEXO 1. | D34: PUNTOS AL MAYOR VALOR DENTRO DEL RANGO | F34: =D37 -> 4
B35: Límite adicional al básico mayor a $100.000.000 y hasta $200.000.000 | D35: 1.5
B36: Límite adicional al básico mayor a $200.000.000 y hasta $400.000.000 | D36: 3
B37: Límite adicional al básico mayor a $400.000.000 y hasta $800.000.000 | D37: 4
A38: 4 | B38: ANTICIPO DE INDEMNIZACIÓN DEL 50%. NOTA 1: Si el aumento adicional del porcentaje de anticipo es condicionado a la demostración de la ocurrencia y cuantía, se califica con cero (0) puntos este factor. NOTA 2: Solo se acepta propuesta en los límites señados en los siguientes rangos. | D38: PUNTOS AL MAYOR VALOR DENTRO DEL RANGO | E38: Se califica el aumento adicional del porcentaje ofrecido. Bajo la definición del texto de la condición obligatoria y sin estar condicionada a la demostración de ocurrencia y cuantía. | F38: =D41 -> 4
B39: Límite adicional al básico mayor al 10% y hasta el 15%. | D39: 1
B40: Límite adicional al básico mayor al 15% y hasta el 20%. | D40: 2
B41: Límite adicional al básico mayor al 20% y hasta el 25%. | D41: 4
A42: 5 | B42: COMPROMISO PARA EL PAGO DE LAS INDEMNIZACIONES Plazo de diez (10) días hábiles. | D42: 4 | E42: Se califica el menor número de días hábiles una vez demostrada ocurrencia y cuantía. | F42: =D42 -> 4
...

Sheet G1. COND ADIC. TRANSP VAL
B2: ='G1. COND ADIC. TRANSP MERCANC'!B2 -> AGENCIA DE DESARROLLO RURAL
B4: ='G1. COND ADIC. TRANSP MERCANC'!B4 -> Formato No. 3. Condiciones Técnicas Adicionales
B5: GRUPO No. 1
B6: 4. PÓLIZA DE TRANSPORTE DE VALORES
B7: OBJETO DEL SEGURO
B8: Amparar las pérdidas y los daños materiales causados como consecuencia de los eventos que constituyen los amparos mencionados, por el transporte de dineros en efectivo, títulos valores, cheques, y cualquier otro documento de propiedad del asegurado que pueda ser convertido fácilmente en dinero en efectivo, incluyendo las movilizaciones de dinero en efectivo realizadas por los los funcionarios en comisión y delegados del manejo de las cajas menoresy demás títulos valores, por los cuales la AGENCIA DE DESARROLLO RURAL sea o deba ser legalmente responsable.
B9: INFORMACIÓN GENERAL:
B10: TOMADOR: | C10: =+B2 -> AGENCIA DE DESARROLLO RURAL | G10: NIT. | H10: 900.948.958-4
B11: ASEGURADO: | C11: =+C10 -> AGENCIA DE DESARROLLO RURAL | G11: NIT. | H11: =+H10 -> 900.948.958-4
B12: BENEFICIARIO: | C12: =+C10 -> AGENCIA DE DESARROLLO RURAL | G12: NIT. | H12: =+H10 -> 900.948.958-4
B13: NOTA: | C13: CADA SUBLÍMITE O GASTOS OFRECIDOS EN FORMA ADICIONAL QUEDA CONTEMPLADO DENTRO DEL LÍMITE ASEGURADO.
B14: CRITERIOS DE EVALUACIÓN:
B15: CONDICIÓN REQUERIDA PARA EVALUACIÓN | D15: PUNTOS | E15: CRITERIO DE EVALUACIÓN | F15: PUNTAJE ESTABLECIDO | G15: OFRECIMIENTO DEL OFERENTE | H15: PUNTAJE OBTENIDO POR EL OFERENTE
A16: 1 | B16: ANTICIPO DE INDEMNIZACIÓN DEL 50%. NOTA 1: Si el aumento adicional del porcentaje de anticipo es condicionado a la demostración de la ocurrencia y cuantía, se califica con cero (0) puntos este factor. NOTA 2: Solo se acepta propuesta en los límites señados en los siguientes rangos. | D16: PUNTOS AL MAYOR VALOR DENTRO DEL RANGO | E16: Se califica el aumento adicional del porcentaje ofrecido. Bajo la definición del texto de la condición obligatoria y sin estar condicionada a la demostración de ocurrencia y cuantía. | F16: =D19 -> 30
B17: Límite adicional al básico mayor al 10% y hasta el 20%. | D17: 5
B18: Límite adicional al básico mayor al 20% y hasta el 25%. | D18: 10
B19: Límite adicional al básico mayor al 25% y hasta el 30%. | D19: 30
B20: MÁXIMO CALIFICACIÓN | F20: =SUM(F16:F16) -> 30 | G20: CALIFICACIÓN DEL OFERENTE | H20: =SUM(H16:H16) -> 0
B21: By: Tiger | H21: VER. AGOSTO 2026

Sheet G1. COND ADIC. TRANSP MERCANC
B2: ='G1. ADICIONALES TR. EQ. Y MAQ.'!B2 -> AGENCIA DE DESARROLLO RURAL
B4: Formato No. 3. Condiciones Técnicas Adicionales
B5: GRUPO No. 1
B6: 5. PÓLIZA DE TRANSPORTE DE MERCANCÍAS
B7: Amparar las pérdidas y los daños materiales causados como consecuencia de los eventos que constituyen los amparos mencionados, en el transporte de cualquier tipo de mercancías nuevas y usadas incluida maquinaría, por cualquier medio de transporte, de los bienes de su propiedad, bajo tenencia, responsabilidad y/o control; propios del giro normal de las actividades de la AGENCIA DE DESARROLLO RURAL
B8: INFORMACIÓN GENERAL:
B9: TOMADOR: | C9: =+B2 -> AGENCIA DE DESARROLLO RURAL | G9: NIT. | H9: 900.948.958-4
B10: ASEGURADO: | C10: =+B2 -> AGENCIA DE DESARROLLO RURAL | G10: NIT. | H10: =+H9 -> 900.948.958-4
B11: BENEFICIARIO: | C11: =+B2 -> AGENCIA DE DESARROLLO RURAL | G11: NIT. | H11: =+H9 -> 900.948.958-4
B12: NOTA: | C12: CADA SUBLÍMITE O GASTOS OFRECIDOS EN FORMA ADICIONAL QUEDA CONTEMPLADO DENTRO DEL LÍMITE ASEGURADO.
B13: CRITERIOS DE EVALUACIÓN:
B14: CONDICIÓN REQUERIDA PARA EVALUACIÓN | E14: CRITERIO DE EVALUACIÓN | F14: PUNTAJE ESTABLECIDO | G14: OFRECIMIENTO DEL OFERENTE | H14: PUNTAJE OBTENIDO POR EL OFERENTE
A15: 1 | B15: ANTICIPO DE INDEMNIZACIÓN DEL 50%. NOTA 1: Si el aumento adicional del porcentaje de anticipo es condicionado a la demostración de la ocurrencia y cuantía, se califica con cero (0) puntos este factor. NOTA 2: Solo se acepta propuesta en los límites señados en los siguientes rangos. | D15: PUNTOS AL MAYOR VALOR DENTRO DEL RANGO | E15: Se califica el aumento adicional del porcentaje ofrecido. Bajo la definición del texto de la condición obligatoria y sin estar condicionada a la demostración de ocurrencia y cuantía. | F15: =D18 -> 30
B16: Límite adicional al básico mayor al 10% y hasta el 20%. | D16: 5
B17: Límite adicional al básico mayor al 20% y hasta el 25%. | D17: 10
B18: Límite adicional al básico mayor al 25% y hasta el 30%. | D18: 30
B19: MÁXIMO CALIFICACIÓN | F19: =SUM(F15:F15) -> 30 | G19: CALIFICACIÓN DEL OFERENTE | H19: =SUM(H15:H15) -> 0
B20: By: Tiger | H20: VER. AGOSTO 2026

Sheet G1. ADICIONALES TR. EQ. Y MAQ.
B2: ='G1. COND. BÁSICAS MANEJO'!B2 -> AGENCIA DE DESARROLLO RURAL
B4: ='G1. COND. BÁSICAS RCE'!B4 -> Formato No. 3. Condiciones Técnicas Adicionales
B5: GRUPO No. 1
B7: 6. PÓLIZA DE SEGURO DE TODO RIESGO EQUIPO Y MAQUINARÍA
B8: OBJETO DEL SEGURO
B9: Amparar las pérdidas o daños materiales que afecten a los Equipos y Maquinarías de propiedad de la AGENCIA DE DESARROLLO RURAL o aquellos que se encuentren bajo su control, tenencia, responsabilidad o custodia, ubicados en el territorio nacional contra los daños o pérdidas materiales a consecuencia de cualquier riesgo, tanto por eventos internos o externos, incluyendo las pérdidas consecuenciales por todo concepto dentro o fuera de las instalaciones del asegurado y/o en predios de terceros y los utilizados en desarrollo del objeto social de la AGENCIA DE DESARROLLO RURAL.
B10: INFORMACIÓN GENERAL:
B11: TOMADOR: | C11: =+B2 -> AGENCIA DE DESARROLLO RURAL | G11: NIT. | H11: =+'[2]G1. COND ADIC. TRDMC'!H10 -> 900.948.958-4
B12: ASEGURADO: | C12: =+C11 -> AGENCIA DE DESARROLLO RURAL | G12: NIT. | H12: =+H11 -> 900.948.958-4
B13: BENEFICIARIO: | C13: =+C11 -> AGENCIA DE DESARROLLO RURAL | G13: NIT. | H13: =+H12 -> 900.948.958-4
B14: NOTA: | C14: CADA SUBLÍMITE O GASTOS OFRECIDOS EN FORMA ADICIONAL QUEDA CONTEMPLADO DENTRO DEL LÍMITE ASEGURADO.
B15: CRITERIOS DE EVALUACIÓN:
B16: CONDICIÓN REQUERIDA PARA EVALUACIÓN | D16: PUNTOS | E16: CRITERIO DE EVALUACIÓN | F16: PUNTAJE ESTABLECIDO | G16: OFRECIMIENTO DEL OFERENTE | H16: PUNTAJE OBTENIDO POR EL OFERENTE
A17: 1 | B17: HURTO Y HURTO CALIFICADO. Sublímite de $1.000.000.000 evento/ (vigencia 6.5.) ANEXO 1. combinado para todos los bienes. NOTA: Solo se acepta propuesta en los límites señados en los siguientes rangos. Ofrecimientos de otros valores diferentes serán evaluados con cero (0) puntos), excepto que sea superior al último rango. | D17: PUNTOS AL MAYOR VALOR DENTRO DEL RANGO | E17: Se califica el aumento adicional del sublímite Hasta un monto total de $1.500.000.000 incluido el básico | F17: =D20 -> 12
B18: Límite adicional al básico mayor a $50.000.000 y hasta $100.000.000: | D18: 4
B19: Límite adicional al básico mayor a $100.000.000 y hasta $300.000.000: | D19: 8
B20: Límite adicional al básico mayor a $300.000.000 y hasta $500.000.000: | D20: 12
A21: 2 | B21: GASTOS ADICIONALES. Sublímite por la suma de 300.000.000, incluido en el valor asegurado,sin aplicación de deducible y combinado para los gastos relacionados en en Anexo No. 1. NOTA: Solo se acepta propuesta en los límites señados en los siguientes rangos. Ofrecimientos de otros valores diferentes serán evaluados con cero (0) puntos), excepto que sea superior al último rango. | D21: PUNTOS AL MAYOR VALOR DENTRO DEL RANGO | E21: Se califica el aumento adicional del sublímite Hasta un monto total de $500.000.000 incluido el básico | F21: =D24 -> 8
B22: Límite adicional al básico mayor a $25.000.000 y hasta $50.000.000: | D22: 2
B23: Límite adicional al básico mayor a $50.000.000 y hasta $100.000.000: | D23: 4
B24: Límite adicional al básico mayor a $100.000.000 y hasta $200.000.000: | D24: 8
A25: 3 | B25: ANTICIPO DE INDEMNIZACIÓN DEL 50%. NOTA 1: Si el aumento adicional del porcentaje de anticipo es condicionado a la demostración de la ocurrencia y cuantía, se califica con cero (0) puntos este factor. NOTA 2: Solo se acepta propuesta en los límites señados en los siguientes rangos. | D25: PUNTOS AL MAYOR VALOR DENTRO DEL RANGO | E25: Se califica el aumento adicional del porcentaje ofrecido. Bajo la definición del texto de la condición obligatoria y sin estar condicionada a la demostración de ocurrencia y cuantía. | F25: =D28 -> 5
B26: Límite adicional al básico mayor al 10% y hasta el 20%. | D26: 2
B27: Límite adicional al básico mayor al 20% y hasta el 25%. | D27: 3
B28: Límite adicional al básico mayor al 25% y hasta el 30%. | D28: 5
A29: 4 | B29: CLÁUSULA DE NO TASACIÓN EN CASO DE SINIESTRO Sublímite de hasta $500.000.000, por siniestro. NOTA: Solo se acepta propuesta en los límites señados en los siguientes rangos. Ofrecimientos de otros valores diferentes serán evaluados con cero (0) puntos), excepto que sea superior al último rango. | D29: PUNTOS AL MAYOR VALOR DENTRO DEL RANGO | E29: Se califica el aumento adicional del sublímite Hasta un monto total de $700.000.000 incluido el básico | F29: =D32 -> 5
B30: Límite adicional al básico mayor a $20.000.000 y hasta $50.000.000: | D30: 2
B31: Límite adicional al básico mayor a $50.000.000 y hasta $100.000.000: | D31: 3
B32: Límite adicional al básico mayor a $100.000.000 y hasta $200.000.000: | D32: 5
B33: MÁXIMO CALIFICACIÓN | F33: =SUM(F17:F29) -> 30 | G33: CALIFICACIÓN DEL OFERENTE | H33: =SUM(H17:H29) -> 0
B34: By: Tiger | H34: VER. AGOSTO 2026

Sheet G1 COND ADIC. AUTOMÓVILES
B4: =+'[3]METODOLOGÍA DE EVALUACIÓN'!B2:G2 -> AGENCIA DE DESARROLLO RURAL - ADR
B6: Formato No. 3. Condiciones Técnicas Adicionales
B7: GRUPO No.1
B8: 7. PÓLIZA DE AUTOMÓVILES
B9: OBJETO DEL SEGURO
B10: Amparar a la Entidad por los perjuicios que cause patrimonial (daños materiales incluyendo daño emergente y lucro cesante) y extrapatrimonialmnte (incluidos el daño moral, daño fisiológico y daño a la vida en relación), al igual que los daños a bienes o lesiones o muerte a terceros. De igual forma se amparan los daños y/o pérdidas que afecten a los vehículos de su propiedad, bajo tenencia, control o por los que sea legalmente responsable o incluidos aquellos recibidos por parte de otras entidades para el desarrollo misional de la Entidad.
B11: INFORMACIÓN GENERAL:
B12: TOMADOR: | C12: =+B4 -> AGENCIA DE DESARROLLO RURAL - ADR | G12: NIT. | H12: 900.948.958-4
B13: ASEGURADO: | C13: =+C12 -> AGENCIA DE DESARROLLO RURAL - ADR | G13: NIT. | H13: =+H12 -> 900.948.958-4
B14: BENEFICIARIO: | C14: =+C12 -> AGENCIA DE DESARROLLO RURAL - ADR | G14: NIT. | H14: =+H12 -> 900.948.958-4
B15: NOTA: | C15: CADA SUBLÍMITE O GASTOS OFRECIDOS EN FORMA ADICIONAL QUEDA CONTEMPLADO DENTRO DEL LÍMITE ASEGURADO.
B16: CRITERIOS DE EVALUACIÓN:
B17: CONDICIÓN REQUERIDA PARA EVALUACIÓN | E17: CRITERIO DE EVALUACIÓN | F17: PUNTAJE ESTABLECIDO | G17: OFRECIMIENTO DEL OFERENTE | H17: PUNTAJE OBTENIDO POR EL OFERENTE
B18: INCREMENTO DEL LÍMITE BÁSICO PARA LA COBERTURA DE RESPONSABILIDAD CIVIL EXTRACONTRACTUAL EVENTO /AGREGADO ANUAL. NOTA: Solo se acepta propuesta en los límites señados en los siguientes rangos. Ofrecimientos de otros valores diferentes serán evaluados con cero (0) puntos), excepto que sea superior al último rango. | E18: Se califica el aumento adicional del límite asegurado. SIN COBRO DE PRIMA | F18: =D22 -> 10
A19: 1 | B19: Al proponente que ofrezca únicamente el límite básico exigido de $1.500.000.000 / $1.500.000.000 / $3.000.000.000, ó Límite único combinado de $4.500.0000.000, se evaluara con CERO (0) puntos. Solo se acepta propuesta en los límites a continuación señalados, ofrecimientos de otros valores diferentes serán evaluados con cero (0) puntos). | D19: PUNTOS
B20: Al proponente que ofrezca límite de: $2.000.000.000 / $2.000.000.000 / $4.000.000.000. O límite único combinado de $6.000.000.000. | D20: 4
B21: Al proponente que ofrezca límite de: $2.200.000.000 / $2.200.000.000 / $4.400.000.000. O límite único combinado de $6.600.000.000. | D21: 6
B22: Al proponente que ofrezca límite de: $2.500.000.000 / $2.500.000.000 / $5.000.000.000. O límite único combinado de $7.500.000.000. | D22: 10
A23: 2 | B23: GASTOS DE TRANSPORTE POR PÉRDIDAS TOTALES (Daños y/o Hurto) (esta condición no aplica para motos y vehiculos pesados.) Limite de $40.000 diarios y hasta noventa y cinco (95) días | D23: 3 | E23: Se califica el aumento adicional del (incluido el básico) monto de los gastos de transporte. | F23: =D23 -> 3
A24: 3 | B24: GASTOS DE BODEGAJE Limite de $10.000.000 evento / agregado vigencia | D24: PUNTOS AL MAYOR VALOR DENTRO DEL RANGO | E24: Se califica el aumento adicional del monto de los gastos de bodegaje. Hasta $15.000.000 incluido el básico. | F24: =+D27 -> 3
B25: Límite adicional al básico mayor a $500.000 y hasta $1.000.000 | D25: 1
B26: Límite adicional al básico mayor a $1.000.000 y hasta $2.000.000. | D26: 2
B27: Límite adicional al básico mayor a $2.000.000 y hasta $5.000.000: | D27: 3
A28: 4 | B28: ANTICIPO DE INDEMNIZACIÓN DEL 65%. NOTA 1: Si el aumento adicional del porcentaje de anticipo es condicionado a la demostración de la ocurrencia y cuantía, se califica con cero (0) puntos este factor. NOTA 2: Solo se acepta propuesta en los límites señados en los siguientes rangos. | D28: PUNTOS AL MAYOR VALOR DENTRO DEL RANGO | E28: Se califica el aumento adicional del porcentaje ofrecido. Bajo la definición del texto de la condición obligatoria y sin estar condicionada a la demostración de ocurrencia y cuantía. | F28: =+D31 -> 3
B29: Límite adicional al básico mayor al 5% y hasta el 10%. | D29: 1
B30: Límite adicional al básico mayor al 10% y hasta el 15%. | D30: 1.5
B31: Límite adicional al básico mayor al 15% y hasta el 20%. | D31: 3
A32: 5 | B32: AMPARO AUTOMÁTICO DE VEHÍCULOS NUEVOS Y USADOS Sublímite de $450.000.000 por vehículo y término de 90 días de aviso. | D32: 2.5 | E32: Se califica el aumento adicional del monto del sublímite para este amparo. | F32: =D32 -> 2.5
A33: 6 | B33: AMPARO AUTOMÁTICO DE EQUIPOS Y ACCESORIOS Sublímite de $50.000.000 por vehículo y término de 90 días de aviso. | D33: 2.5 | E33: Se califica el aumento adicional del monto del sublímite para este amparo. | F33: =D33 -> 2.5
B34: GASTOS DE GRÚA PARA VEHÍCULOS DE TERCEROS, AFECTADOS EN ACCIDENTES EN LOS CUALES SEA EVIDENTE LA RESPONSABILIDAD DEL ASEGURADO. Se paga por rembolso el servicio prestado de grúa al tercero. | D34: 3 | E34: Se califica el otorgamiento de este servicio. | F34: =D34 -> 3
B35: COBERTURA DE PÉRDIDA DE LLAVES Sublimite 1 SMLMV | D35: 2 | E35: Se califica el aumento del sublimite sin cobro de prima adicional | F35: 2
A36: 7 | B36: COMPROMISO PARA EL PAGO DE LAS INDEMNIZACIONES Plazo de cinco (5) días hábiles. | D36: 1 | E36: Se califica el menor número de días hábiles una vez demostrada ocurrencia y cuantía. | F36: 1
B37: MÁXIMO CALIFICACIÓN | F37: =SUM(F18:F36) -> 30 | G37: CALIFICACIÓN DEL OFERENTE | H37: =SUM(H18:H36) -> 0
B38: By: Tiger | H38: VER. AGOSTO 2026

Sheet G2. COND ADIC. IRF
B3: AGENCIA DE DESARROLLO RURAL
B5: Formato No. 3. Condiciones Técnicas Adicionales
B6: GRUPO No. 2
B7: 1. PÓLIZA DE INFIDELIDAD Y RIESGOS FINANCIEROS
B8: OBJETO DEL SEGURO
B9: Amparar al asegurado las pérdidas, gastos y daños como consecuencia de actos deshonestos o fraudulentos cometidos por empleados del asegurado, solos o en concurso con otros, o con terceros, con la intención manifiesta de hacer que el asegurado sufra dicha pérdida. Se extienen el objeto del seguro a amparar el patrimonio del asegurado por la pérdida o daños de bienes propios y no propios por los cuales el Asegurado sea responsable tales como dineros efectivo y dinero en todas sus formas y representaciones, títulos valores y cualquier documento y forma material o inmaterial de representación de dinero, como consecuencia de los riesgos a que está expuesto el Asegurado en el giro normal de su actividad social.
B10: INFORMACIÓN GENERAL:
B11: TOMADOR: | C11: =+B3 -> AGENCIA DE DESARROLLO RURAL | G11: NIT. | H11: 900.948.958-4
B12: ASEGURADO: | C12: =+C11 -> AGENCIA DE DESARROLLO RURAL | G12: NIT. | H12: =+H11 -> 900.948.958-4
B13: BENEFICIARIO: | C13: =+C11 -> AGENCIA DE DESARROLLO RURAL | G13: NIT. | H13: =+H11 -> 900.948.958-4
B14: NOTA: | C14: CADA SUBLÍMITE O GASTOS OFRECIDOS EN FORMA ADICIONAL QUEDA CONTEMPLADO DENTRO DEL LÍMITE ASEGURADO.
B15: CRITERIOS DE EVALUACIÓN:
B16: CONDICIÓN REQUERIDA PARA EVALUACIÓN | E16: CRITERIO DE EVALUACIÓN | F16: PUNTAJE ESTABLECIDO | G16: OFRECIMIENTO DEL OFERENTE | H16: PUNTAJE OBTENIDO POR EL OFERENTE
A17: 1 | B17: COBERTURA DE HUELGA, MOTIN, CONMOCIÓN CIVIL O POPULAR Y ACTOS MAL INTENCIONADOS DE TERCEROS (TEXTO NMA-1387) Límite de $1.000.000.000 evento /agregado (vigencia 7.4.)ANEXO NO.1 NOTA: Solo se acepta propuesta en los límites señados en los siguientes rangos. Ofrecimientos de otros valores diferentes serán evaluados con cero (0) puntos), excepto que sea superior al último rango. | D17: PUNTOS | E17: Se califica el aumento adicional del porcentaje ofrecido. Hasta un monto total de $1.500.000.000 Bajo la definición del texto de la condición obligatoria y sin estar condicionada a la demostración de ocurrencia y cuantía. | F17: =D20 -> 6
B18: Ofrecimiento adicional superior a $200.000.000 y hasta $300.000.000 | D18: 2
B19: Ofrecimiento adicional superior a $300.000.000 y hasta $400.000.000 | D19: 4
B20: Ofrecimiento adicional superior a $400.000.000 y hasta $500.000.000 | D20: 6
A21: 2 | B21: COBERTURA PARA COSTOS DE LIMPIEZA Sublímite del 35% evento (vigencia 7.4.) ANEXO NO.1 | D21: 3 | E21: Se califica el aumento adicional del límite asegurado. | F21: =D21 -> 3
A22: 3 | B22: ANTICIPO DE INDEMNIZACIÓN DEL 76%. NOTA 1: Si el aumento adicional del porcentaje de anticipo es condicionado a la demostración de la ocurrencia y cuantía, se califica con cero (0) puntos este factor. NOTA 2: Solo se acepta propuesta en los límites señados en los siguientes rangos. | D22: PUNTOS | E22: Se califica el aumento adicional del porcentaje ofrecido. Bajo la definición del texto de la condición obligatoria y sin estar condicionada a la demostración de ocurrencia y cuantía. | F22: =D25 -> 6
B23: Límite adicional al básico mayor al 5% y hasta el 10%. | D23: 2
B24: Límite adicional al básico mayor al 10% y hasta el 15%. | D24: 4
B25: Límite adicional al básico mayor al 15% y hasta el 20%. | D25: 6
A26: 4 | B26: COMPROMISO PARA EL PAGO DE LAS INDEMNIZACIONES Plazo de cinco (3) días hábiles. | D26: 3 | E26: Se califica el menor número de días hábiles una vez demostrada ocurrencia y cuantía. | F26: =D26 -> 3
B27: SALVAMENTO Y RECUPERACIÓN En caso de que se recupere alguna suma por pérdidas cubiertas bajo esta póliza, se aplicará el importe recuperado, después de deducir el costo ocasionado para lograrla, así: - Reembolsar al asegurado en su totalidad la parte, si la hubiere, de tal pérdida que exceda el importe de cobertura prevista por la presente póliza. - El saldo, si los hubiere, o el total neto recuperado si el monto de tal pérdida no excede el importe de la cobertura provista por la presente póliza, reducirá con anterioridad al pago de la pérdida, aquella parte de dicha pérdida amparada por este seguro o, si la indemnización correspondiente ya se hubiese efectuado, dicho saldo o total neto recuperado se reembolsará a la compañía. - Finalmente, al reintegrar al asegurado aquella parte de la pérdida asumida en razón de la aplicación de cualquier deducible existente en la presente póliza o se aplicará a aquella parte de tal pérdida cubierta por cualquier póliza o pólizas de seguro de las cuales la presente póliza opere como seguro en exceso. | D27: 6 | E27: Se califica el ofrecimiento de esta condicion técnica | F27: =D27 -> 6
B28: OFRECIMIENTO DE ESTUDIO DE RIESGOS CON COSTO A CARGO DE LA ASEGURADORA (SURVEY) Las recomendaciones, sugerencias y/o demás aspectos que se deriven del resultado de este estudio, no generarán exigencia de implementación de medidas de prevención y/o control de riesgo, aplicación de garantías o cualquier tipo de compromiso para el asegurado, así como la modificación de las condiciones ofertadas. El estudio deberá realizarse dentro de los cuatro (4) primeros meses de la vigencia de la póliza, para lo cual la aseguradora se compromete a presentar dentro de los primeros treinta (30) dias calendarios, contados a partir de la fecha del inicio de la vigencia de la póliza, el cronograma en el que se indiquen las actividades que desarrollará para tal efecto y los funcionarios y/o firma externa que llevarán a cabo las mismas. | D28: 6 | E28: Se califica el otorgamiento del Estudio de Riesgos | F28: =D28 -> 6
B29: MÁXIMO CALIFICACIÓN | F29: =SUM(F17:F28) -> 30 | G29: CALIFICACIÓN DEL OFERENTE | H29: =SUM(H21:H28) -> 0
B30: By: Tiger | H30: VER. AGOSTO 2026

Sheet G2 . COND ADIC. RCSP
B3: =+'[3]METODOLOGÍA DE EVALUACIÓN'!B2:G2 -> AGENCIA DE DESARROLLO RURAL - ADR
B5: Formato No. 3. Condiciones Técnicas Adicionales
B6: GRUPO No. 2
B7: 2. PÓLIZA DE RESPONSABILIDAD CIVIL SERVIDORES PÚBLICOS
B8: OBJETO DEL SEGURO
B9: Amparar los perjuicios patrimoniales causados a terceros y/o a la AGENCIA DE DESARROLLO RURAL - ADR provenientes de la responsabilidad civil de los servidores públicos y/o funcionarios con regímenes de responsabilidad similares a los de los servidores públicos, en el desempeño de las funciones de los cargos asegurados, por toda acción u omisión, correcta o incorrecta, culposa, real o presunta, así como los perjuicios que les sean imputable y los ocasionados por juicios de responsabilidad fiscal. Amparar los gastos de defensa (tales como, pero sin limitarse a: honorarios profesionales de abogados defensores, gastos y costas procesales y cauciones judiciales) según los límites por etapas procesales establecidos en este documento, en todo tipo de procesos, incluidos, pero sin limitarse a: procesos fiscales, procesos disciplinarios, procesos penales siempre que se trate de delitos no dolosos, procesos civiles, procesos administrativos (incluidos los de reparación directa); indagaciones, investigaciones preliminares, procesos internos y cualquier otro en los que se discuta la responsabilidad correspondiente a los cargos asegurados y en general los incurridos para defenderse en cualquier tipo de investigación o proceso adelantados por organismos oficial de vigilancia y control o entes de investigación según los límites por: tipos de procesos y etapas procesales establecidos en este documento.
B10: INFORMACIÓN GENERAL:
B11: TOMADOR: | C11: =+B3 -> AGENCIA DE DESARROLLO RURAL - ADR | G11: NIT. | H11: 900.948.958-4
B12: ASEGURADO: | C12: NOMBRE DE LA ENTIDAD Y/O CARGOS ASEGURADOS | G12: NIT. | H12: =+H11 -> 900.948.958-4
B13: BENEFICIARIO: | C13: NOMBRE DE LA ENTIDAD Y/O CARGOS ASEGURADOS Y/O TERCEROS AFECTADOS | G13: NIT. | H13: =+H11 -> 900.948.958-4
B14: NOTA: | C14: CADA SUBLÍMITE O GASTOS OFRECIDOS EN FORMA ADICIONAL QUEDA CONTEMPLADO DENTRO DEL LÍMITE ASEGURADO.
B15: CRITERIOS DE EVALUACIÓN:
B16: CONDICIÓN REQUERIDA PARA EVALUACIÓN | E16: CRITERIO DE EVALUACIÓN | F16: PUNTAJE ESTABLECIDO | G16: OFRECIMIENTO DEL OFERENTE | H16: PUNTAJE OBTENIDO POR EL OFERENTE
B17: INCREMENTO DEL LÍMITE BÁSICO PARA LA COBERTURA DE PERJUICIOS O DETRIMENTO PATRIMONIAL. | E17: Se califica el aumento adicional del límite asegurado, únicamente relacionados en la tabla de rangos en la condición requerida para la evaluación. Hasta un monto total de $7.600.000.001 SIN COBRO DE PRIMA | F17: =D22 -> 8
A18: 1 | B18: Límite de $6,600,000,001 evento /agregado anual. Incluido los Gastos de Defensa. NOTA: Solo se acepta propuesta en los límites señados en los siguientes rangos. Ofrecimientos de otros valores diferentes serán evaluados con cero (0) puntos), excepto que sea superior al último rango. | D18: PUNTOS
B19: Ofrecimiento adicional superior a $400.000.000 y hasta $500.000.000 | D19: 2
B20: Ofrecimiento adicional superior a 500.000.000 y hasta $600.000.000 | D20: 4
B21: Ofrecimiento adicional superior a $600.000.000 y hasta $800.000.000 | D21: 6
B22: Ofrecimiento adicional superior a $800.000.000 y hasta $1.000.000.000 | D22: 8
A23: 2 | B23: INCREMENTO DEL LÍMITE BÁSICO PARA LA COBERTURA DE GASTOS DE DEFENSA. Incluidos en el límite de Perjuicios o Detrimento Patrimonial sin cobro de prima. NOTA: Solo se acepta propuesta en los límites señados en los siguientes rangos. Ofrecimientos de otros valores diferentes serán evaluados con cero (0) puntos), excepto que sea superior al último rango. | E23: Se califica el aumento adicional del límite asegurado, únicamente relacionados en la tabla de rangos en la condición requerida para la evaluación. Hasta un monto total de $4.000.000.000 SIN COBRO DE PRIMA | F23: =D29 -> 10
B24: Límite de $3.750,000,000 evento / agregado anual. Incluidos en el límite de Perjuicios o Detrimento Patrimonial sin cobro de prima. | D24: PUNTOS
B25: Ofrecimiento adicional de $50.000.000 al límite básico. | D25: 2
B26: Ofrecimiento adicional de $100.000.000 al límite básico. | D26: 4
B27: Ofrecimiento adicional de $150.000.000 al límite básico. | D27: 6
B28: Ofrecimiento adicional de $200.000.000 al límite básico. | D28: 8
B29: Ofrecimiento adicional de $250.000.000 al límite básico. | D29: 10
B30: COBERTURA PARA CINCO (5) CARGOS ADICIONALES SIN COBRO DE PRIMA Mediante esta condición la aseguradora acepta incluir cinco (5) cargos adicionales a definir posteriormente por la Entidad, sin cobro de prima y con la misma retroactividad de esta póliza. La retroactividad solo aplica para los cargos ya creados, en caso de nuevos cargos, la retroactividad es a partir de la creación de éste. | D30: PUNTOS | E30: Se califica el ofrecimiento de cargos adicionales soin cobero de priam de acuerdo cona l tabla. En caso de indicar "Se otorga", se tendenra que oferta la totalidad de 5 cargos adicionales | F30: =D35 -> 5
B31: Ofrecimiento de un (1) cargo adicional sin cobro de prima | D31: 1
B32: Ofrecimiento de dos (2) cargo adicional sin cobro de prima | D32: 2
B33: Ofrecimiento de tres (3) cargo adicional sin cobro de prima | D33: 3
B34: Ofrecimiento de cuatro (4) cargo adicional sin cobro de prima | D34: 4
B35: Ofrecimiento de cinco (5) cargo adicional sin cobro de prima | D35: 5
B36: GASTOS Y COSTAS JUDICIALES POR HONORARIOS PROFESIONALES EN RECLAMACIONES QUE SE GENEREN CON OCASIÓN DE CITACIONES A AUDIENCIAS DE CONCILIACIÓN EXTRAJUDICIAL ANTE LA AUTORIDAD JUDICIAL O ENTES DEBIDAMENTE FACULTADOS PARA CELEBRARLAS. Incluidos en el límíte establecido para los Gastos de Defensa para los cargos asegurados. Se amparan los gastosgastos y costas judiciales por honorarios profesionales en reclamaciones que se generen con ocasión de citaciones a audiencias de conciliación extrajudicial ante la autoridad judicial o entes debidamente facultados para celebrarlas. | D36: 2 | E36: Se califica el ofrecimiento de la condición | F36: =D36 -> 2
B37: DIVISIBILIDAD EN LAS EXCLUSIONES Queda entendido, convenido y aceptado que ningún hecho con el conocimiento de algún cargo asegurado será imputado a otro asegurado para efectos de determinar la cobertura bajo la póliza, es decir; la reticencia o inexactitud de un asegurado en la declaración del estado del riesgo, no se hará extensiva a los demás asegurados de la póliza. | D37: 2 | E37: Se califica el ofrecimiento de la condición | F37: =D37 -> 2
A38: 3 | B38: ANTICIPO DE INDEMNIZACIÓN DEL 81%. NOTA 1: Si el aumento adicional del porcentaje de anticipo es condicionado a la demostración de la ocurrencia y cuantía, se califica con cero (0) puntos este factor. NOTA 2: Solo se acepta propuesta en los límites señados en los siguientes rangos. | D38: PUNTOS | E38: Se califica el aumento adicional del porcentaje ofrecido. Bajo la definición del texto de la condición obligatoria y sin estar condicionada a la demostración de ocurrencia y cuantía. | F38: =D41 -> 3
B39: Límite adicional al básico mayor al 2.5% y hasta el 5%. | D39: 1
B40: Límite adicional al básico mayor al 5% y hasta el 10%. | D40: 2
B41: Límite adicional al básico mayor al 10% y hasta el 15%. | D41: 3
B42: MÁXIMO CALIFICACIÓN | F42: =SUM(F17:F38) -> 30 | G42: CALIFICACIÓN DEL OFERENTE | H42: =SUM(H17:H38) -> 0 | I42: =+'G1 COND ADIC. AUTOMÓVILES'!I36 -> 0
B43: By: Tiger | H43: VER.AGOSTO 2026

Sheet G3. COND ADIC. DRONES
B3: ='G2. COND ADIC. IRF'!B3 -> AGENCIA DE DESARROLLO RURAL
B5: FORMATO No. 3 EVALUACIÓN DE LAS CONDICIONES TÉCNICAS ADICIONALES
B6: GRUPO No. 3
B7: SEGURO DE CASCO AVIACIÓN (DRONES)
B8: OBJETO DEL SEGURO
B9: Bajo esta póliza se otorga amparo en la modalidad de todo riesgo por las pérdidas y/o daños materiales (incluida la desaparición) de las aeronaves no tripuladas (Drones) de su propiedad o de aquellas que esten bajo su responsabilidad, tenencia y/o control, y en general los recibidos a cualquier titulo y/o por los que tenga algún interés asegurable, al igual que la responsabilidad civil causada frente a terceros. Acorde con las disposiciones legales que se encuentran en la Circular Reglamentaria No. 2 - REQUISITOS GENERALES DE AERONAVEGABILIDAD Y OPERACIÓN PARA AERONAVES PILOTEADAS A DISTANCIA (RPAS). NOTA: La Agencia De Desarrollo Rural Está Interesada En Obtener Propuestas Que Ofrezcan La Mayor Cobertura, De Tal Forma Que Le Permita Lograr La Mayor Indemnización Posible En Los Casos De Pérdidas Y/O Daños, Sin Aplicación De Demérito Y/O Mejora Tecnológica.
B10: INFORMACIÓN GENERAL:
B11: TOMADOR: | C11: =B3 -> AGENCIA DE DESARROLLO RURAL | G11: NIT. | H11: 900.948.958-4
B12: ASEGURADO: | C12: =C11 -> AGENCIA DE DESARROLLO RURAL | G12: NIT. | H12: =+H11 -> 900.948.958-4
B13: BENEFICIARIO: | C13: =C11 -> AGENCIA DE DESARROLLO RURAL | G13: NIT. | H13: =+H11 -> 900.948.958-4
B14: NOTA: | C14: CADA SUBLÍMITE OFRECIDO EN FORMA ADICIONAL QUEDA CONTEMPLADO DENTRO DEL LÍMITE ASEGURADO.
B15: CRITERIOS DE EVALUACIÓN: | G15: PROPONENTE
B16: CONDICIÓN REQUERIDA PARA EVALUACIÓN | E16: CRITERIO DE EVALUACIÓN | F16: PUNTAJE ESTABLECIDO | G16: OFRECIMIENTO | H16: PUNTAJE OBTENIDO
A17: 1 | B17: AMPLIACIÓN AVISO DEL SINIESTRO Con término de treinta (30) días | E17: Se califica el mayor número de días hábiles | F17: 15
A18: 2 | B18: COMPROMISO PARA EL PAGO DE LAS INDEMNIZACIONES Plazo de diez (10) días hábiles. | E18: Se califica el menor número de días hábiles una vez demostrada ocurrencia y cuantía. | F18: 15
B19: MÁXIMO CALIFICACIÓN | F19: =+F18+F17 -> 30 | G19: CALIFICACIÓN DEL PROPONENTE | H19: =SUM(H17:H18) -> 0
B20: By: Tiger | H20: ='G2. COND ADIC. IRF'!H30 -> VER. AGOSTO 2026

Sheet G2. COND ADIC. RCE-TRIANGULO T.
B4: AGENCIA DE DESARROLLO RURAL- ADR
B5: Formato No. 3. Condiciones Técnicas Adicionales
B6: GRUPO No. 2
B7: 3. PÓLIZA DE SEGURO DE RESPONSABILIDAD CIVIL EXTRACONTRACTUAL
B8: OBJETO DEL SEGURO
B9: Amparar los perjuicios patrimoniales y extrapatrimoniales que cause el PROYECTO DEL TRIÁNGULO DEL TOLIMA, como consecuencia de la Responsabilidad Civil Extracontractual originada dentro o fuera de sus instalaciones, en el desarrollo de sus actividades o en lo relacionado con ella, lo mismo que los actos de sus empleados y funcionarios o el personal para el apoyo a la gestión administrativa dentro y fuera del territorio nacional o por bienes que se encuentren bajo tenencia, control y/o responsabilidad . Nota: Se entenderán como terceros todas y cada una de las personas que circulen, ingresen, accedan o se encuentren en los predios de asegurado o por los cuales es responsable en su aseguramiento, independientemente que el asegurado le esté prestando un servicio objeto de su razón social.
B10: INFORMACIÓN GENERAL:
B11: TOMADOR: | C11: AGENCIA DE DESARROLLO RURAL -ADR | G11: NIT. | H11: 900,948,958-4
B12: ASEGURADO: | C12: =+C11 -> AGENCIA DE DESARROLLO RURAL -ADR | G12: NIT. | H12: =+H11 -> 900,948,958-4
B13: BENEFICIARIOS: | C13: TERCEROS AFECTADOS
B14: NOTA: | C14: CADA SUBLÍMITE OFRECIDO EN FORMA ADICIONAL QUEDA CONTEMPLADO DENTRO DEL LÍMITE ASEGURADO.
B15: CRITERIOS DE EVALUACIÓN:
B16: CONDICIÓN REQUERIDA PARA EVALUACIÓN | E16: CRITERIO DE EVALUACIÓN | F16: PUNTAJE ESTABLECIDO | G16: OFRECIMIENTO DEL OFERENTE | H16: PUNTAJE OBTENIDO POR EL OFERENTE
A17: 1 | B17: INCREMENTO DEL LÍMITE BÁSICO PARA LA COBERTURA DE RESPONSABILIDAD CIVIL EXTRACONTRACTUAL $6.000.000.000 EVENTO / (vigencia 1.4.1.) ANEXO 1. NOTA: Solo se acepta propuesta en los límites señados en los siguientes rangos. Ofrecimientos de otros valores diferentes serán evaluados con cero (0) puntos), excepto que sea superior al último rango. | D17: PUNTOS AL MAYOR VALOR DENTRO DEL RANGO | E17: Se califica el aumento adicional del límite asegurado. Hasta un monto total de $7.000.000.000 incluido el básico SIN COBRO DE PRIMA | F17: =D20 -> 6
B18: Límite adicional al básico mayor a $250.000.000 y hasta $500.000.000 | D18: 2
B19: Límite adicional al básico mayor a $500.000.000 y hasta $750.000.000 | D19: 4
B20: Límite adicional al básico mayor a $750.000.000 y hasta $1.000.000.000 | D20: 6
A21: 2 | B21: GASTOS MÉDICOS (sin aplicación de deducibles). Sublímite $300.000.000 evento / $1.500.000.000 (vigencia 1.4.1.) NOTA: Solo se acepta propuesta en los límites señados en los siguientes rangos. Ofrecimientos de otros valores diferentes serán evaluados con cero (0) puntos), excepto que sea superior al último rango. | D21: PUNTOS AL MAYOR VALOR DENTRO DEL RANGO | E21: Se califica el aumento adicional del límite asegurado. SIN COBRO DE PRIMA, así: | F21: =D25 -> 3
B22: Rangos para el sublímite por evento | E22: Se califica el aumento adicional del sublímite evento. Hasta un monto total de $500.000.000 incluido el básico
B23: Límite adicional al básico mayor a $50.000.000 y hasta $100.000.000 | D23: 1
B24: Límite adicional al básico mayor a $100.000.000 y hasta $150.000.000 | D24: 2
B25: Límite adicional al básico mayor a $150.000.000 y hasta $200.000.000 | D25: 3
B26: Rangos para el sublímite por (vigencia 1.4.1.) | D26: PUNTOS AL MAYOR VALOR DENTRO DEL RANGO | E26: Se califica el aumento adicional del sublímite Hasta un monto total de $1.700.000.000 incluido el básico | F26: =D29 -> 3
B27: Límite adicional al básico mayor a $50.000.000 y hasta $100.000.000 | D27: 1
B28: Límite adicional al básico mayor a $100.000.000 y hasta $150.000.000 | D28: 2
B29: Límite adicional al básico mayor a $150.000.000 y hasta $200.000.000 | D29: 3
A30: 3 | B30: RESPONSABILIDAD CIVIL PATRONAL Sublímite $500.000.000 evento / $1.500.000.000 NOTA: Solo se acepta propuesta en los límites señados en los siguientes rangos. Ofrecimientos de otros valores diferentes serán evaluados con cero (0) puntos), excepto que sea superior al último rango. | D30: PUNTOS AL MAYOR VALOR DENTRO DEL RANGO | E30: Se califica el aumento adicional del sublímite evento. Sin cobro de prima | F30: =D34 -> 3
B31: Rangos para el sublímite por evento | E31: Se califica el aumento adicional del sublímite Hasta un monto total de 750.000.000 incluido el básico
B32: Límite adicional al básico mayor a $100.000.000 y hasta $150.000.000 | D32: 1
B33: Límite adicional al básico mayor a $150.000.000 y hasta $200.000.000 | D33: 2
B34: Límite adicional al básico mayor a $200.000.000 y hasta $250.000.000 | D34: 3
B35: Rangos para el sublímite por (vigencia 1.4.1.) | D35: PUNTOS AL MAYOR VALOR DENTRO DEL RANGO | E35: Se califica el aumento adicional del sublímite Hasta un monto total de 2.000.000.000 incluido el básico | F35: =D38 -> 3
B36: Límite adicional al básico mayor a $100.000.000 y hasta $200.000.000 | D36: 1
B37: Límite adicional al básico mayor a $200.000.000 y hasta $300.000.000 | D37: 2
B38: Límite adicional al básico mayor a $300.000.000 y hasta $500.000.000 | D38: 3
A39: 4 | B39: ANTICIPO DE INDEMNIZACIÓN DEL 81%. NOTA 1: Si el aumento adicional del porcentaje de anticipo es condicionado a la demostración de la ocurrencia y cuantía, se califica con cero (0) puntos este factor. NOTA 2: Solo se acepta propuesta en los límites señados en los siguientes rangos. | D39: PUNTOS AL MAYOR VALOR DENTRO DEL RANGO | E39: Se califica el aumento adicional del porcentaje ofrecido. Bajo la definición del texto de la condición obligatoria y sin estar condicionada a la demostración de ocurrencia y cuantía. | F39: =D42 -> 3
B40: Límite adicional al básico mayor al 2.5% y hasta el 5%. | D40: 1
B41: Límite adicional al básico mayor al 5% y hasta el 7.5%. | D41: 2
B42: Límite adicional al básico mayor al 7.5% y hasta el 10%. | D42: 3
A43: 5 | B43: RESTABLECIMIENTO ADICIONAL AUTOMÁTICO DEL LÍMITE ASEGURADO POR PAGO DE SINIESTRO, HASTA DOS . CINCO (2.5) VECES EL LÍMITE CONTRATADO CON COBRO DE PRIMA A PRORRATA. NOTA: Solo se acepta propuesta en los límites señados en los siguientes rangos. Ofrecimientos de otros valores diferentes serán evaluados con cero (0) puntos), excepto que sea superior al último rango. | D43: PUNTOS AL MAYOR VALOR DENTRO DEL RANGO | E43: Se califica el número de reestablecimientos adicionales, únicamente relacionados en la tabla de rangos en la condición requerida para la evaluación. | F43: =D46 -> 3
...

Sheet G3.  COND ADIC. TR OBRAS CIV.
B2: ='G1. COND ADIC. TRANSP VAL'!B2 -> AGENCIA DE DESARROLLO RURAL
B4: ='G1. COND ADIC. TRANSP VAL'!B4 -> Formato No. 3. Condiciones Técnicas Adicionales
B5: GRUPO No. 3
B6: 1. PÓLIZA DE SEGURO DE TODO RIESGO DAÑOS MATERIALES OBRAS CIVILES TERMINADAS
B7: OBJETO DEL SEGURO
B8: Amparar la infraestructura de las obras civiles del Distrito, propiedad de la AGENCIA DE DESARROLLO RURAL, o aquellos que se encuentren bajo su control, tenencia, responsabilidad o custodia, o por las cuales sea legal o contractualmente responsable, y en general los recibidos a cualquier título o por los que tenga algún interés asegurable, que se encuentran en cualquier sitio del Territorio Nacional (túneles, canales principales de conducción, Box Coulvert, presas, embalses y canales principales de distribución) y en desarrollo del objeto social de la AGENCIA DE DESARROLLO RURAL.
B9: INFORMACIÓN GENERAL:
B10: TOMADOR: | C10: =B2 -> AGENCIA DE DESARROLLO RURAL | G10: NIT. | H10: 900,948,958-4
B11: ASEGURADO: | C11: =C10 -> AGENCIA DE DESARROLLO RURAL | G11: NIT. | H11: =+H10 -> 900,948,958-4
B12: BENEFICIARIOS: | C12: =C11 -> AGENCIA DE DESARROLLO RURAL | G12: NIT. | H12: =+H10 -> 900,948,958-4
B13: NOTA: | C13: CADA SUBLÍMITE O GASTOS OFRECIDOS EN FORMA ADICIONAL QUEDA CONTEMPLADO DENTRO DEL LÍMITE ASEGURADO.
B14: CRITERIOS DE EVALUACIÓN:
B15: CONDICIÓN REQUERIDA PARA EVALUACIÓN | D15: PUNTOS AL MAYOR VALOR DENTRO DEL RANGO | E15: CRITERIO DE EVALUACIÓN | F15: PUNTAJE ESTABLECIDO | G15: OFRECIMIENTO DEL PROPONENTE | H15: PUNTAJE OBTENIDO POR EL PROPONENTE
A16: 1 | B16: HURTO Y HURTO CALIFICADO Sublímite de $2.000.000.000 combinado para todos los bienes. NOTA: Solo se acepta propuesta en los límites señados en los siguientes rangos. Ofrecimientos de otros valores diferentes serán evaluados con cero (0) puntos), excepto que sea superior al último rango. | D16: PUNTOS AL MAYOR VALOR DENTRO DEL RANGO | E16: Se califica el aumento adicional del sublímite Hasta un monto total de $3.000.000.000 incluido el básico | F16: =D19 -> 3
B17: Límite adicional al básico mayor a $250.000.000 y hasta $500.000.000: | D17: 1
B18: Límite adicional al básico mayor a $500.000.000 y hasta $750.000.000: | D18: 2
