Workbook

Sheet G1. CALIF. DEDUCIBLES TRDM
B2: AGENCIA DE DESARROLLO RURAL
B3: Formato No. 14 Evaluación de Deducibles
B4: GRUPO No. 1
B5: 1. PÓLIZA DE SEGURO DE TODO RIESGO DAÑOS MATERIALES COMBINADOS
B6: OBJETO DEL SEGURO
B7: Amparar todos los activos (bienes inmuebles y muebles) de propiedad de la AGENCIA DE DESARROLLO RURAL, o aquellos que se encuentren bajo su control, tenencia, responsabilidad o custodia, contra los daños o pérdidas materiales a consecuencia de cualquier riesgo, tanto por eventos internos o externos y en general los recibidos a cualquier título o por los que tenga algún interés asegurable, ubicados en el territorio nacional o por aquellos que por su naturaleza se deban trasladar a nivel mundial, dentro o fuera de las instalaciones del asegurado y/o en predios de terceros o a la intemperie y los utilizados en desarrollo del objeto social de la AGENCIA DE DESARROLLO RURAL.
B8: INFORMACIÓN GENERAL:
B9: TOMADOR: | C9: =+B2 -> AGENCIA DE DESARROLLO RURAL | I9: NIT. | J9: 900.948.958-4
B10: ASEGURADO: | C10: =+C9 -> AGENCIA DE DESARROLLO RURAL | I10: NIT. | J10: =+J9 -> 900.948.958-4
B11: BENEFICIARIO: | C11: =+C9 -> AGENCIA DE DESARROLLO RURAL | I11: NIT. | J11: =+J9 -> 900.948.958-4
B12: CRITERIOS DE EVALUACIÓN:
B13: Los criterios establecidos tienen como objeto que la Entidad pueda obtener los mejores deducibles que le permitan lograr la mayor indemnización posible, frente a las pérdidas que pueda sufrir derivadas de un evento súbito e imprevisto que no depende de la voluntad del asegurado.
B14: DEDUCIBLES ACTUALES Y MÁXIMOS ACEPTABLES:
B15: Actualmente la AGENCIA DE DESARROLLO RURAL, tiene únicamente los siguientes deducibles aplicables:
B16: TERREMOTO, TEMBLOR, ERUPCION VOLCANICA: | E16: 1,00% DEL VALOR ASEGURABLE DEL RIESGO AFECTADO. MINIMO 1.00 SMMLV
B17: ACTOS MAL INTENCIONADOS DE TERCEROS ASONADA, MOTÍN, CONMOCIÓN CIVIL O POPULAR Y HUELGA (INCLUIDO TERRORISMO Y SABOTAJE). | E17: 1,00% DEL VALOR DE LA PÉRDIDA. MINIMO 1.00 SMMLV
B18: HURTO Y HURTO CALIFICADO | E18: SIN DEDUCIBLE
B19: DEMÁS EVENTOS Y/O AMPAROS | E19: SIN DEDUCIBLE
B20: PARÁMETROS PARA LA CALIFICACIÓN
B21: Para calificación del deducible se realizará aplicando los criterios aquí indicados y los puntajes señalados en las tablas de rangos relacionadas en estas.
B22: CALIFICACIÓN APLICABLE AL AMPARO DE TERREMOTO, TEMBLOR Y/O ERUPCIÓN VOLCÁNICA
B23: Las aseguradoras deben presentar únicamente propuestas de deducibles aplicables sobre el valor asegurado y/o valor asegurable, DEL ITEM AFECTADO DENTRO DEL PREDIO ASEGURADO para el amparo de Terremoto, temblor y/o erupción volcánica; propuestas que ofrezcan sobre el valor asegurado TOTAL y/o valor asegurable TOTAL, SERÁN OBJETO DE RECHAZO.
B24: De acuerdo con lo anterior y para los fines pertinentes de deducible y a efectos de la determinación del “valor asegurado o asegurable del ITEM AFECTADO DENTRO DEL PREDIO ASEGURADO”, se considerarán las siguientes definiciones:
B25: DEFINICIONES | E25: PREDIO ASEGURADO Es el sitio de ocurrencia del siniestro donde la Entidad lleva a cabo actividades y en el cual se encuentran contenidos los bienes asegurados, ya sea en uno o varios edificios o a la intemperie, si están diseñados para ello.
E26: ÍTEM AFECTADO Corresponde a la agrupación de bienes de iguales o similares características, tales como: Edificios, bienes muebles, equipos eléctricos, equipos electrónicos, maquinaria, equipo, mercancías, dineros y otros bienes de la Entidad en alcance de la definición establecida en las Anexo No. 1 Condiciones Obligatorias (Mínimas Técnicas).
E27: VALOR ASEGURADO O ASEGURABLE DEL ITEM AFECTADO DENTRO DEL PREDIO ASEGURADO Corresponde al monto asegurado o asegurable de los bienes contenidos en cada predio; es decir, los bienes correspondientes a los ítems de: Edificios, bienes muebles, equipos eléctricos, equipos electrónicos, maquinaria, equipo, mercancías, dineros y otros bienes de la Entidad en alcance de la definición establecida en las Anexo No. 1 Condiciones Obligatorias (Mínimas Técnicas).
E28: Se aclara que en caso de siniestro por pérdida o daño, que afecte solo algunos de los items antes citados, el valor asegurado o valor asegurable considerado para la aplicación del deducible corresponderá solamente al item o ítems correspondientes a los bienes afectados.
B29: TABLA DE CALIFICACIÓN
B31: Para efectos de la evaluación, se tendrán los siguientes ítems y puntajes: | F31: PUNTOS
B32: TERREMOTO, TEMBLOR Y/O ERUPCIÓN VOLCÁNICA: | F32: 5
B33: ACTOS MAL INTENCIONADOS DE TERCEROS ASONADA, MOTÍN, CONMOCIÓN CIVIL O POPULAR Y HUELGA (INCLUIDO TERRORISMO Y SABOTAJE). | F33: 5
B34: TOTAL PUNTOS | F34: =F32+F33 -> 10
B35: NOTA: Para efectos de la evaluación y en aquellas tablas en los cuales se tengan rangos, en caso que el oferente indique "SE OTORGA" ó "SI" u otra expresión que implica que si esta otorgando el deducible, la Entidad entenderá que estos deducibles fueron ofrecidos con el valor del MÍNIMO RANGO y por lo tanto se asignará el puntaje respectivo de este rango y la aseguradora en caso de ser adjudicada su propuesta, expedirá la póliza con las condiciones mínimas de ese criterio en particular.
B36: 1- TERREMOTO, TEMBLOR Y/O ERUPCIÓN VOLCÁNICA DOS (2) PUNTO
B37: RANGO DEL DEDUCIBLES PORCENTUAL | E37: PUNTAJE SOBRE EL VALOR DE LA PERDIDA | I37: DEDUCIBLE OFERTADO | J37: PUNTOS OBTENIDOS
B38: Sin deducible | E38: 2,00 Puntos | I38: (INDICAR EL DEDUCIBLE OFERTADO)
B39: Superior a 0,0% y hasta 0,2% | E39: 1,90 Puntos
B40: Superior a 0,2% y hasta 0,4% | E40: 1,70 Puntos
B41: Superior a 0,4% y hasta 0,8% | E41: 1,50 Puntos
B42: Superior a 0,8% y hasta 1,0% | E42: 1,40 Puntos
...

Sheet G1.DEDUCIBLES MAQYEQUIPO
B2: AGENCIA DE DESARROLLO RURAL
B3: Formato No. 14 Evaluación de Deducibles
B4: GRUPO No. 1
B5: 2. PÓLIZA DE SEGURO DE TODO RIESGO EQUIPO Y MAQUINARÍA
B6: OBJETO DEL SEGURO
B7: Amparar las pérdidas o daños materiales que afecten a los Equipos y Maquinarías de propiedad de la AGENCIA DE DESARROLLO RURAL o aquellos que se encuentren bajo su control, tenencia, responsabilidad o custodia, ubicados en el territorio nacional contra los daños o pérdidas materiales a consecuencia de cualquier riesgo, tanto por eventos internos o externos, incluyendo las pérdidas consecuenciales por todo concepto dentro o fuera de las instalaciones del asegurado y/o en predios de terceros y los utilizados en desarrollo del objeto social de la AGENCIA DE DESARROLLO RURAL.
B8: INFORMACIÓN GENERAL:
B9: TOMADOR: | C9: =+B2 -> AGENCIA DE DESARROLLO RURAL | I9: NIT. | J9: 900.948.958-4
B10: ASEGURADO: | C10: =+C9 -> AGENCIA DE DESARROLLO RURAL | I10: NIT. | J10: =+J9 -> 900.948.958-4
B11: BENEFICIARIO: | C11: =+C9 -> AGENCIA DE DESARROLLO RURAL | I11: NIT. | J11: =+J9 -> 900.948.958-4
B12: CRITERIOS DE EVALUACIÓN:
B13: Los criterios establecidos tienen como objeto que la Entidad pueda obtener los mejores deducibles que le permitan lograr la mayor indemnización posible, frente a las pérdidas que pueda sufrir derivadas de un evento súbito e imprevisto que no depende de la voluntad del asegurado.
B14: DEDUCIBLES ACTUALES Y MÁXIMOS ACEPTABLES:
B15: Actualmente la AGENCIA DE DESARROLLO RURAL, tiene únicamente los siguientes deducibles aplicables:
B16: TERREMOTO, TEMBLOR, ERUPCION VOLCANICA: | E16: SIN DEDUCIBLE
B17: ACTOS MAL INTENCIONADOS DE TERCEROS ASONADA, MOTÍN, CONMOCIÓN CIVIL O POPULAR Y HUELGA (INCLUIDO TERRORISMO Y SABOTAJE). | E17: 2,0% SOBRE EL VALOR DE LA PERDIDA SIN MINIMO
B18: RESPONSABILIDAD CIVIL EXTRACONTRACTUAL | E18: SIN DEDUCIBLE
B19: HURTO CALIFICADO | E19: SIN DEDUCIBLE
B20: DEMÁS EVENTOS Y/O AMPAROS | E20: SIN DEDUCIBLE
B21: TABLA DE CALIFICACIÓN
B23: Para efectos de la evaluación, se tendrán los siguientes ítems y puntajes: | F23: PUNTOS
B24: ACTOS MAL INTENCIONADOS DE TERCEROS ASONADA, MOTÍN, CONMOCIÓN CIVIL O POPULAR Y HUELGA (INCLUIDO TERRORISMO Y SABOTAJE) | F24: 10
B25: TOTAL PUNTOS | F25: =SUM(F24:J24) -> 10
B26: NOTA: Para efectos de la evaluación y en aquellas tablas en los cuales se tengan rangos, en caso que el oferente indique "SE OTORGA" ó "SI" u otra expresión que implica que si esta otorgando el deducible, la Entidad entenderá que estos deducibles fueron ofrecidos con el valor del MÍNIMO RANGO y por lo tanto se asignará el puntaje respectivo de este rango y la aseguradora en caso de ser adjudicada su propuesta, expedirá la póliza con las condiciones mínimas de ese criterio en particular.
B27: 1- ACTOS MAL INTENCIONADOS DE TERCEROS ASONADA, MOTÍN, CONMOCIÓN CIVIL O POPULAR Y HUELGA (INCLUIDO TERRORISMO Y SABOTAJE): diez (10) puntos
B28: RANGO DEL DEDUCIBLES PORCENTUAL | E28: PUNTAJE SOBRE EL VALOR DE LA PERDIDA | I28: DEDUCIBLE OFERTADO | J28: PUNTOS OBTENIDOS
B29: Sin deducible | E29: 10,00 Puntos | I29: (INDICAR EL DEDUCIBLE OFERTADO)
B30: Superior a 0,0% y hasta 0,5% | E30: 9,00Puntos
B31: Superior a 0,5% y hasta 1,0% | E31: 6,00 Puntos
B32: Superior a 1,0% y hasta 1,5% | E32: 3,00 Puntos
B33: Superior a 1,5% y hasta 2,0% | E33: 1,00 Puntos
B34: Superior a 2,0% | E34: SE RECHAZA LA OFERTA
B35: By: Tiger | J35: VERSIÓN:AGOSTO 2026

Sheet G2 DED IRF
B2: =+'G1. CALIF. DEDUCIBLES TRDM'!B2 -> AGENCIA DE DESARROLLO RURAL
B3: Formato No. 14 Evaluación de Deducibles
B4: GRUPOS No. 2
B5: 4. PÓLIZA DE INFIDELIDAD Y RIESGOS FINANCIEROS
B6: OBJETO DEL SEGURO
B7: Amparar al asegurado las pérdidas, gastos y daños como consecuencia de actos deshonestos o fraudulentos cometidos por empleados del asegurado, solos o en concurso con otros, o con terceros, con la intención manifiesta de hacer que el asegurado sufra dicha pérdida. Se extienen el objeto del seguro a amparar el patrimonio del asegurado por la pérdida o daños de bienes propios y no propios por los cuales el Asegurado sea responsable tales como dineros efectivo y dinero en todas sus formas y representaciones, títulos valores y cualquier documento y forma material o inmaterial de representación de dinero, como consecuencia de los riesgos a que está expuesto el Asegurado en el giro normal de su actividad social.
B8: INFORMACIÓN GENERAL:
B9: TOMADOR: | C9: =+B2 -> AGENCIA DE DESARROLLO RURAL | I9: NIT. | J9: =+'G1. CALIF. DEDUCIBLES TRDM'!J9 -> 900.948.958-4
B10: ASEGURADO: | C10: =+C9 -> AGENCIA DE DESARROLLO RURAL | I10: NIT. | J10: =+J9 -> 900.948.958-4
B11: BENEFICIARIO: | C11: =+C9 -> AGENCIA DE DESARROLLO RURAL | I11: NIT. | J11: =+J9 -> 900.948.958-4
B12: CRITERIOS DE EVALUACIÓN:
B13: Los criterios establecidos tienen como objeto que la Entidad pueda obtener los mejores deducibles que le permitan lograr la mayor indemnización posible, frente a las pérdidas que pueda sufrir derivadas de un evento súbito e imprevisto que no depende de la voluntad del asegurado.
B14: DEDUCIBLES ACTUALES Y MÁXIMOS ACEPTABLES:
B15: Actualmente la AGENCIA DE DESARROLLO RURAL, tiene únicamente los siguientes deducibles aplicables:
B16: TODA Y CADA PÉRDIDA | E16: $40.000.000
B17: Para calificación del deducible se realizará aplicando los criterios aquí indicados y los puntajes señalados en las tablas de rangos relacionadas en estas.
B18: TABLA DE CALIFICACIÓN
B20: Para efectos de la evaluación, se tendrán los siguientes ítems y puntajes: | E20: PUNTOS
B21: TODA Y CADA PÉRDIDA | E21: 10
B22: TOTAL PUNTOS | E22: =SUM(E21:H21) -> 10
B23: NOTA: Para efectos de la evaluación y en aquellas tablas en los cuales se tengan rangos, en caso que el oferente indique "SE OTORGA" ó "SI" u otra expresión que implica que si esta otorgando el deducible, la Entidad entenderá que estos deducibles fueron ofrecidos con el valor del MÍNIMO RANGO y por lo tanto se asignará el puntaje respectivo de este rango y la aseguradora en caso de ser adjudicada su propuesta, expedirá la póliza con las condiciones mínimas de ese criterio en particular.
B24: Se aclara que en caso de siniestro por pérdida o daño, que afecte solo algunos de los items antes citados, el valor asegurado o valor asegurable considerado para la aplicación del deducible corresponderá solamente al item o ítems correspondientes a los bienes afectados.
B25: 1- TODA Y CADA PÉRDIDA: Diez (10) puntos
B26: RANGO DE DEDUCIBLES EN PORCENTAJE % | E26: PUNTAJE SOBRE EL VALOR DE LA PERDIDA | I26: DEDUCIBLE OFERTADO | J26: PUNTOS OBTENIDOS
B27: Sin deducible | E27: 10,00 Puntos | I27: (INDICAR EL DEDUCIBLE OFERTADO)
B28: Superior a $1.000.000 y hasta $5.000.000 | E28: 9,00 Puntos
B29: Superior a $5.000.000 y hasta $10.000.000 | E29: 7,00 Puntos
B30: Superior a $10.000.000 y hasta $20.000.000 | E30: 5,00 Puntos
B31: Superior a $20.000.000 y hasta $30.000.000 | E31: 3,00 Puntos
B32: Superior a $30.000.000 y hasta $40.000.000 | E32: 1,00 Puntos
B33: Superior a $40.000.000 | E33: SE RECHAZA LA OFERTA
J34: VERSIÓN:AGOSTO 2026
B48: By: Tiger | J48: =+'G1. CALIF. DEDUCIBLES TRDM'!J165 -> VERSIÓN: ENERO 2026

Sheet G3, DED TRDM OBRAS CIVILES TERM
B2: AGENCIA DE DESARROLLO RURAL
B3: Formato No. 14 Evaluación de Deducibles
B4: GRUPO No. 3
B5: 3. PÓLIZA DE SEGURO DE TODO RIESGO DAÑOS MATERIALES OBRAS CIVILES TERMINADAS
B6: OBJETO DEL SEGURO
B7: Amparar la infraestructura de las obras civiles del Distrito, propiedad de la AGENCIA DE DESARROLLO RURAL, o aquellos que se encuentren bajo su control, tenencia, responsabilidad o custodia, o por las cuales sea legal o contractualmente responsable, y en general los recibidos a cualquier título o por los que tenga algún interés asegurable, que se encuentran en cualquier sitio del Territorio Nacional (túneles, canales principales de conducción, Box Coulvert, presas, embalses y canales principales de distribución) y en desarrollo del objeto social de la AGENCIA DE DESARROLLO RURAL.
B8: INFORMACIÓN GENERAL:
B9: TOMADOR: | C9: =+B2 -> AGENCIA DE DESARROLLO RURAL | I9: NIT. | J9: 900.948.958-4
B10: ASEGURADO: | C10: =+C9 -> AGENCIA DE DESARROLLO RURAL | I10: NIT. | J10: =+J9 -> 900.948.958-4
B11: BENEFICIARIO: | C11: =+C9 -> AGENCIA DE DESARROLLO RURAL | I11: NIT. | J11: =+J9 -> 900.948.958-4
B12: CRITERIOS DE EVALUACIÓN:
B13: Los criterios establecidos tienen como objeto que la Entidad pueda obtener los mejores deducibles que le permitan lograr la mayor indemnización posible, frente a las pérdidas que pueda sufrir derivadas de un evento súbito e imprevisto que no depende de la voluntad del asegurado.
B14: DEDUCIBLES ACTUALES Y MÁXIMOS ACEPTABLES:
B15: Actualmente la AGENCIA DE DESARROLLO RURAL, tiene únicamente los siguientes deducibles aplicables:
B16: GASTOS PARA LA EXTINCION DEL SINIESTRO | E16: SIN APLICACIÓN DE DEDUCIBLE
B17: GASTOS ADICIONALES | E17: SIN APLICACIÓN DE DEDUCIBLE
B18: GASTOS EXTRAORDINARIOS | E18: SIN APLICACIÓN DE DEDUCIBLE
B19: TERREMOTO, TEMBLOR, ERUPCION VOLCANICA: | E19: 3% del valor asegurable del ítem afectado dentro del predio asegurado, mínimo $255.000.000 toda y cada perdida.
B20: ACTOS MAL INTENCIONADOS DE TERCEROS ASONADA, MOTÍN, CONMOCIÓN CIVIL O POPULAR Y HUELGA (INCLUIDO TERRORISMO Y SABOTAJE). | E20: 10% del valor de la perdida, mínimo $255.000.000 toda y cada perdida.
B21: EEE Y ROTURA DE MAQUINARIA | E21: 10% del valor de la perdida, mínimo $10.000.000 toda y cada perdida
B22: DEMAS EVENTOS Y/O AMPAROS | E22: 5% del valor de la perdida, mínimo $255.000.000 toda y cada perdida.
B23: OTROS RIESGOS DE LA NATURALEZA, TALES COMO INUNDACION, DESLIZAMIENTO DE TIERRA, DAÑOS POR AGUA | E23: 10% del valor de la perdida, mínimo $255.000.000 toda y cada perdida
B24: PARÁMETROS PARA LA CALIFICACIÓN
B25: Para calificación del deducible se realizará aplicando los criterios aquí indicados y los puntajes señalados en las tablas de rangos relacionadas en estas.
B26: CALIFICACIÓN APLICABLE AL AMPARO DE TERREMOTO, TEMBLOR Y/O ERUPCIÓN VOLCÁNICA
B27: Las aseguradoras deben presentar únicamente propuestas de deducibles aplicables sobre el valor asegurado y/o valor asegurable, DEL ITEM AFECTADO DENTRO DEL PREDIO ASEGURADO para el amparo de Terremoto, temblor y/o erupción volcánica; propuestas que ofrezcan sobre el valor asegurado TOTAL y/o valor asegurable TOTAL, SERÁN OBJETO DE RECHAZO.
B28: De acuerdo con lo anterior y para los fines pertinentes de deducible y a efectos de la determinación del “valor asegurado o asegurable del ITEM AFECTADO DENTRO DEL PREDIO ASEGURADO”, se considerarán las siguientes definiciones:
B29: DEFINICIONES | E29: PREDIO ASEGURADO Es el sitio de ocurrencia del siniestro donde la Entidad lleva a cabo actividades y en el cual se encuentran contenidos los bienes asegurados, ya sea en uno o varios edificios o a la intemperie, si están diseñados para ello.
E30: ÍTEM AFECTADO Corresponde a la agrupación de bienes de iguales o similares características, tales como: Edificios, bienes muebles, equipos eléctricos, equipos electrónicos, maquinaria, equipo, mercancías, dineros y otros bienes de la Entidad en alcance de la definición establecida en las Anexo No. 1 Condiciones Obligatorias (Mínimas Técnicas).
E31: VALOR ASEGURADO O ASEGURABLE DEL ITEM AFECTADO DENTRO DEL PREDIO ASEGURADO Corresponde al monto asegurado o asegurable de los bienes contenidos en cada predio; es decir, los bienes correspondientes a los ítems de: Edificios, bienes muebles, equipos eléctricos, equipos electrónicos, maquinaria, equipo, mercancías, dineros y otros bienes de la Entidad en alcance de la definición establecida en las Anexo No. 1 Condiciones Obligatorias (Mínimas Técnicas).
E32: Se aclara que en caso de siniestro por pérdida o daño, que afecte solo algunos de los items antes citados, el valor asegurado o valor asegurable considerado para la aplicación del deducible corresponderá solamente al item o ítems correspondientes a los bienes afectados.
B33: TABLA DE CALIFICACIÓN
B35: Para efectos de la evaluación, se tendrán los siguientes ítems y puntajes: | F35: PUNTOS
B36: TERREMOTO, TEMBLOR, ERUPCION VOLCANICA: | F36: 2
B37: ACTOS MAL INTENCIONADOS DE TERCEROS ASONADA, MOTÍN, CONMOCIÓN CIVIL O POPULAR Y HUELGA (INCLUIDO TERRORISMO Y SABOTAJE). | F37: 2
B38: EEE Y ROTURA DE MAQUINARIA | E38: 4 | F38: 2
B39: DEMAS EVENTOS Y/O AMPAROS | E39: 2 | F39: 2
B40: OTROS RIESGOS DE LA NATURALEZA, TALES COMO INUNDACION, DESLIZAMIENTO DE TIERRA, DAÑOS POR AGUA | E40: 2 | F40: 2
B41: TOTAL PUNTOS | F41: =SUM(F36:J40) -> 10
B42: NOTA: Para efectos de la evaluación y en aquellas tablas en los cuales se tengan rangos, en caso que el oferente indique "SE OTORGA" ó "SI" u otra expresión que implica que si esta otorgando el deducible, la Entidad entenderá que estos deducibles fueron ofrecidos con el valor del MÍNIMO RANGO y por lo tanto se asignará el puntaje respectivo de este rango y la aseguradora en caso de ser adjudicada su propuesta, expedirá la póliza con las condiciones mínimas de ese criterio en particular.
...

Sheet G3. CALIF DEDUCIBLES CASCO BARC
B2: AGENCIA DE DESARROLLO RURAL
B3: Formato No. 14 Evaluación de Deducibles
B4: GRUPO No. 3
B5: 4. PÓLIZA DE CASCO BARCO
B6: OBJETO DEL SEGURO
B7: Amparar los daños y/o pérdidas y gastos en que tenga que incurrir la AGENCIA DE DESARROLLO RURAL, a consecuencia de los riesgos a que está expuesta en el giro de las actividades desarrolladas con el equipo marítimo y fluvial y demás embarcaciones incluyendo sus equipos y accesorios, de propiedad o por las que sea legalmente responsable la Entidad, así como los daños a bienes y/o lesiones y/o muerte de terceros, por causa de accidentes en el giro propio de su misionalidad.
B8: INFORMACIÓN GENERAL:
B9: TOMADOR: | C9: =+B2 -> AGENCIA DE DESARROLLO RURAL | I9: NIT. | J9: 900.948.958-4
B10: ASEGURADO: | C10: =+B2 -> AGENCIA DE DESARROLLO RURAL | I10: NIT. | J10: =+J9 -> 900.948.958-4
B11: BENEFICIARIO: | C11: =+B2 -> AGENCIA DE DESARROLLO RURAL | I11: NIT. | J11: =+J9 -> 900.948.958-4
B12: CRITERIOS DE EVALUACIÓN:
B13: Los criterios establecidos tienen como objeto que la Entidad pueda obtener los mejores deducibles que le permitan lograr la mayor indemnización posible, frente a las pérdidas que pueda sufrir derivadas de un evento súbito e imprevisto que no depende de la voluntad del asegurado.
B14: DEDUCIBLES ACTUALES Y MÁXIMOS ACEPTABLES:
B15: Actualmente la (NOMBRE DE LA ENTIDAD), tiene únicamente el siguiente deducible aplicable:
B16: GASTOS MÉDICOS | E16: SIN DEDUCIBLE
B17: RESPONSABILIDAD CIVIL (PANDI). | E17: SIN DEDUCIBLE
B18: DEMÁS EVENTOS. | E18: 10% DE LA PÉRDIDA, MINIMO 1 SMMLV
B19: NOTA: Para efectos de la evaluación y en aquellas tablas en los cuales se tengan rangos, en caso que el oferente indique "SE OTORGA" ó "SI" u otra expresión que implica que si esta otorgando el deducible, la Entidad entenderá que estos deducibles fueron ofrecidos con el valor del MÍNIMO RANGO y por lo tanto se asignará el puntaje respectivo de este rango y la aseguradora en caso de ser adjudicada su propuesta, expedirá la póliza con las condiciones mínimas de ese criterio en particular.
B20: TABLA DE CALIFICACIÓN
B22: Para efectos de la evaluación, se tendrán los siguientes ítems y puntajes: | E22: PUNTOS | I22: DEDUCIBLE OFERTADO | J22: PUNTOS OBTENIDOS
B23: DEMÁS EVENTOS. | E23: 10
B24: TOTAL PUNTOS | E24: =E23 -> 10
B25: 3- DEMÁS EVENTOS PORCENTUAL: Cinco (5) puntos
B26: RANGO DE DEDUCIBLES PORCENTUAL | E26: PUNTAJE SOBRE EL VALOR DE LA PERDIDA | I26: DEDUCIBLE OFERTADO | J26: PUNTOS OBTENIDOS
B27: Sin deducible | E27: 5,00 Puntos | I27: (INDICAR EL DEDUCIBLE OFERTADO) | J27: (INDICAR EL DEDUCIBLE OFERTADO)
B28: Superior a 0,0% y hasta 3,0% | E28: 3,00 Puntos
B29: Superior a 3,0% y hasta 5,0% | E29: 1,00 Puntos
B30: Superior ab 5,0% y hasta 8,0% | E30: 0.50 Puntos
B31: Superior a 8,0% y hasta 10,0% | E31: 0,30 Puntos
B32: Superior a 10,0% | E32: SE RECHAZA LA OFERTA
B33: 3- DEMÁS EVENTOS SMMLV: Cinco (5) puntos
B34: Sin deducible | E34: 5.00 Puntos | I34: (INDICAR EL DEDUCIBLE OFERTADO) | J34: (INDICAR EL DEDUCIBLE OFERTADO)
B35: Superior a 0,0 SMMLV y hasta 0,2 SMMLV | E35: 3.00 Puntos
B36: Superior a 0,2 SMMLV y hasta 0,4 SMMLV | E36: 1,00 Puntos
B37: Superior a 0,4 SMMLV y hasta 0,8 SMMLV | E37: 0,50 Puntos
B38: Superior a 0,8 SMMLV y hasta 1.0 SMMLV | E38: 0.30 Puntos
B39: Superior a 1,0 SMMLV | E39: SE RECHAZA LA OFERTA
B40: By: Tiger | J40: VERSIÓN AGOSTO 2026

Sheet G3 DED DRONES
B2: =+'G1. CALIF. DEDUCIBLES TRDM'!B2 -> AGENCIA DE DESARROLLO RURAL
B3: ='G3, DED TRDM OBRAS CIVILES TERM'!B3 -> Formato No. 14 Evaluación de Deducibles
B4: GRUPO No. 3
B5: 5. PÓLIZA DE SEGURO CASCO AVIACIÓN (DRONES)
B6: OBJETO DEL SEGURO
B7: Bajo esta póliza se otorga amparo en la modalidad de todo riesgo por las pérdidas y/o daños materiales (incluida la desaparición) de las aeronaves no tripuladas (Drones) de su propiedad o de aquellas que esten bajo su responsabilidad, tenencia y/o control, y en general los recibidos a cualquier titulo y/o por los que tenga algún interés asegurable, al igual que la responsabilidad civil causada frente a terceros. Acorde con las disposiciones legales que se encuentran en la Circular Reglamentaria No. 2 - REQUISITOS GENERALES DE AERONAVEGABILIDAD Y OPERACIÓN PARA AERONAVES PILOTEADAS A DISTANCIA (RPAS). NOTA: La Agencia De Desarrollo Rural Está Interesada En Obtener Propuestas Que Ofrezcan La Mayor Cobertura, De Tal Forma Que Le Permita Lograr La Mayor Indemnización Posible En Los Casos De Pérdidas Y/O Daños, Sin Aplicación De Demérito Y/O Mejora
B8: INFORMACIÓN GENERAL:
B9: TOMADOR: | C9: =+B2 -> AGENCIA DE DESARROLLO RURAL | I9: NIT. | J9: =+'G1. CALIF. DEDUCIBLES TRDM'!J9 -> 900.948.958-4
B10: ASEGURADO: | C10: =+C9 -> AGENCIA DE DESARROLLO RURAL | I10: NIT. | J10: =+J9 -> 900.948.958-4
B11: BENEFICIARIO: | C11: =+C9 -> AGENCIA DE DESARROLLO RURAL | I11: NIT. | J11: =+J9 -> 900.948.958-4
B12: CRITERIOS DE EVALUACIÓN:
B13: Los criterios establecidos tienen como objeto que la Entidad pueda obtener los mejores deducibles que le permitan lograr la mayor indemnización posible, frente a las pérdidas que pueda sufrir derivadas de un evento súbito e imprevisto que no depende de la voluntad del asegurado.
B14: DEDUCIBLES ACTUALES Y MÁXIMOS ACEPTABLES:
B15: Actualmente la AGENCIA DE DESARROLLO RURAL, tiene únicamente los siguientes deducibles aplicables:
B16: CASCO | E16: 10% toda y cada pérdida $ 600,000 APLICABLE A TODA Y CADA
B17: RESPONSABILIDAD CIVIL EXTRACONTRACTUAL | E17: $2.000.000 aplicable a daños a la propiedad.
B18: Para calificación del deducible se realizará aplicando los criterios aquí indicados y los puntajes señalados en las tablas de rangos relacionadas en estas.
B19: TABLA DE CALIFICACIÓN
B21: Para efectos de la evaluación, se tendrán los siguientes ítems y puntajes: | E21: PUNTOS
B22: 1- CASCO | E22: 5
B23: 2- RESPONSABILIDAD CIVIL EXTRACONTRACTUAL | E23: 5
B24: TOTAL PUNTOS | E24: =+E22+E23 -> 10
B25: NOTA: Para efectos de la evaluación y en aquellas tablas en los cuales se tengan rangos, en caso que el oferente indique "SE OTORGA" ó "SI" u otra expresión que implica que si esta otorgando el deducible, la Entidad entenderá que estos deducibles fueron ofrecidos con el valor del MÍNIMO RANGO y por lo tanto se asignará el puntaje respectivo de este rango y la aseguradora en caso de ser adjudicada su propuesta, expedirá la póliza con las condiciones mínimas de ese criterio en particular.
B26: Se aclara que en caso de siniestro por pérdida o daño, que afecte solo algunos de los items antes citados, el valor asegurado o valor asegurable considerado para la aplicación del deducible corresponderá solamente al item o ítems correspondientes a los bienes afectados.
B27: 1- CASCO: Cinco (5) puntos
B28: RANGO DE DEDUCIBLES EN PORCENTAJE % | E28: PUNTAJE SOBRE EL VALOR DE LA PERDIDA | I28: DEDUCIBLE OFERTADO | J28: PUNTOS OBTENIDOS
B29: Sin deducible | E29: 3,00 Puntos | I29: (INDICAR EL DEDUCIBLE OFERTADO)
B30: Superior a 0,0% y hasta 1,5% | E30: 2,50 Puntos
B31: Superior a 1,5% y hasta 3,0% | E31: 2,00 Puntos
B32: Superior a 3,0% y hasta 6,0% | E32: 1,50 Puntos
B33: Superior a 6,0% y hasta 8,0% | E33: 1,00 Puntos
B34: Superior a 8,0% y hasta 10% | E34: 0,50Puntos
B35: Superior a 10% | E35: SE RECHAZA LA OFERTA
B36: RANGO DEL DEDUCIBLES SMMLV | E36: PUNTAJE SOBRE EL VALOR DE LA PERDIDA | I36: DEDUCIBLE OFERTADO | J36: PUNTOS OBTENIDOS
B37: Sin deducible | E37: 2,00 Puntos | I37: (INDICAR EL DEDUCIBLE OFERTADO)
B38: Superior a $50.0000 y hasta $100.000 | E38: 1,50 Puntos
B39: Superior a $100.0000 y hasta $200.000 | E39: 1,00 Puntos
B40: Superior a $200.0000 y hasta $300.000 | E40: 0,50 Puntos
B41: Superior a $300.0000 y hasta $400.000 | E41: 0,40 Puntos
B42: Superior a $400.0000 y hasta $500.000 | E42: 0,30 Puntos
...
