Workbook

Sheet PRESUPUESTO OFICIAL
B7: FONDO DE DESARROLLO LOCAL DE TUNJUELITO
B8: ALCALDÍA LOCAL DE TUNJUELITO
B9: (objeto del contrato)
B10: FORMULARIO No. 1
B11: PRESUPUESTO OFICIAL
B12: MANTENIMIENTO DE SEDE ALCALDIA LOCAL DE TUNJUELITO
B14: COD | C14: REFERENCIA | D14: ÍTEM | E14: DESCRIPCIÓN | F14: UNID. | G14: CANTIDAD | H14: VR. UNITARIO | I14: VR. UNITARIO INCLUYE AIU | J14: VALOR TOTAL COSTO DIRECTO | K14: VALOR TOTAL
B15: =+'Consolidado por ítem'!D5 -> 11.1.7 | C15: FFIE | D15: 1 | E15: =+'Consolidado por ítem'!E5 -> IMPERMEABILIZACION INTERIOR PARA TANQUES DE CONCRETO MEMBRANA PVC SIKAPLAN 12 NTR O EQUIVALENTE. INCLUYE REMATES | F15: =+'Consolidado por ítem'!F5 -> M2 | G15: 120 | H15: =+'Consolidado por ítem'!H5 -> 196990 | I15: =+ROUND(H15*(1+$H$66+$H$67+$H$68),0) -> 256087 | J15: =ROUND(H15*G15,0) -> 23638800 | K15: =ROUND(I15*G15,0) -> 30730440
B16: =+'Consolidado por ítem'!D7 -> 1.2.39N | C16: FFIE | D16: 3 | E16: =+'Consolidado por ítem'!E7 -> DEMOLICIÓN DE PAÑETE DE MUROS (INC CARGUE, RETIRO Y DISPOSICION FINAL A SITIOS AUTORIZADOS) | F16: =+'Consolidado por ítem'!F7 -> M2 | G16: 25.2 | H16: =+'Consolidado por ítem'!H7 -> 14647 | I16: =+ROUND(H16*(1+$H$66+$H$67+$H$68),0) -> 19041 | J16: =ROUND(H16*G16,0) -> 369104 | K16: =ROUND(I16*G16,0) -> 479833
B17: =+'Consolidado por ítem'!D8 -> 9.1.2 | C17: FFIE | D17: 4 | E17: =+'Consolidado por ítem'!E8 -> PAÑETE IMPERMEABILIZADO S/MUROS 1:3. | F17: =+'Consolidado por ítem'!F8 -> M2 | G17: =+'Consolidado por ítem'!G8 -> 305 | H17: =+'Consolidado por ítem'!H8 -> 36330 | I17: =+ROUND(H17*(1+$H$66+$H$67+$H$68),0) -> 47229 | J17: =ROUND(H17*G17,0) -> 11080650 | K17: =ROUND(I17*G17,0) -> 14404845
B18: =+'Consolidado por ítem'!D9 -> 17.1.1 | C18: FFIE | D18: 5 | E18: =+'Consolidado por ítem'!E9 -> SUMINISTRO E INSTALACION DE ESTUCO SOBRE PAÑETE | F18: =+'Consolidado por ítem'!F9 -> M2 | G18: =+G17 -> 305 | H18: =+'Consolidado por ítem'!H9 -> 13767 | I18: =+ROUND(H18*(1+$H$66+$H$67+$H$68),0) -> 17897 | J18: =ROUND(H18*G18,0) -> 4198935 | K18: =ROUND(I18*G18,0) -> 5458585
B19: =+'Consolidado por ítem'!D10 -> 17.1.2 | C19: FFIE | D19: 6 | E19: =+'Consolidado por ítem'!E10 -> SUMINISTRO E INSTALACION DE PINTURA EN VINILO TIPO 1 MUROS INTERIORES 3 MANOS | F19: =+'Consolidado por ítem'!F10 -> M2 | G19: =+'Consolidado por ítem'!G10 -> 1010 | H19: =+'Consolidado por ítem'!H10 -> 19673 | I19: =+ROUND(H19*(1+$H$66+$H$67+$H$68),0) -> 25575 | J19: =ROUND(H19*G19,0) -> 19869730 | K19: =ROUND(I19*G19,0) -> 25830750
B20: =+'Consolidado por ítem'!D11 -> 17.3.7 | C20: FFIE | D20: 7 | E20: =+'Consolidado por ítem'!E11 -> SUMINISTRO E INSTALACION DE PINTURA EPOXICA PARA PISOS, MUROS Y TECHOS INCLUYE PREPARACION DE SUPERFICIE Y PRIMER DE ADHERENCIA | F20: =+'Consolidado por ítem'!F11 -> M2 | G20: =+'Consolidado por ítem'!G11 -> 155 | H20: =+'Consolidado por ítem'!H11 -> 24063 | I20: =+ROUND(H20*(1+$H$66+$H$67+$H$68),0) -> 31282 | J20: =ROUND(H20*G20,0) -> 3729765 | K20: =ROUND(I20*G20,0) -> 4848710
B21: =+'Consolidado por ítem'!D12 -> NP-PVC-01 | C21: FFIE | D21: 8 | E21: LAMINAS DE PVC PARA PARED | F21: =+'Consolidado por ítem'!F12 -> UN | G21: =+'Consolidado por ítem'!G12 -> 32 | H21: 35000 | I21: =+ROUND(H21*(1+$H$66+$H$67+$H$68),0) -> 45500 | J21: =ROUND(H21*G21,0) -> 1120000 | K21: =ROUND(I21*G21,0) -> 1456000
B22: =+'Consolidado por ítem'!D13 -> 15.2.8 | C22: FFIE | D22: 9 | E22: =+'Consolidado por ítem'!E13 -> SUMINISTRO E INSTALACIÓN REJILLA SIFON 20 X 20 | F22: =+'Consolidado por ítem'!F13 -> UN | G22: =+'Consolidado por ítem'!G13 -> 10 | H22: =+'Consolidado por ítem'!H13 -> 14172 | I22: =+ROUND(H22*(1+$H$66+$H$67+$H$68),0) -> 18424 | J22: =ROUND(H22*G22,0) -> 141720 | K22: =ROUND(I22*G22,0) -> 184240
B23: =+'Consolidado por ítem'!D14 -> 1.2.49N | C23: FFIE | D23: 10 | E23: =+'Consolidado por ítem'!E14 -> LIMPIEZA Y ADECUACIÓN A CÁRCAMO (INCLUYE DESMONTE Y MONTAJE DE REJILLA, LIMPIEZA, RETIRO Y DISPOSICIÓN DE MATERIAL SOBRANTE, RESANE DE GRIETAS Y BORDE) | F23: =+'Consolidado por ítem'!F14 -> M | G23: 20 | H23: =+'Consolidado por ítem'!H14 -> 14628 | I23: =+ROUND(H23*(1+$H$66+$H$67+$H$68),0) -> 19016 | J23: =ROUND(H23*G23,0) -> 292560 | K23: =ROUND(I23*G23,0) -> 380320
B24: =+'Consolidado por ítem'!D15 -> 11.1.2 | C24: FFIE | D24: 11 | E24: =+'Consolidado por ítem'!E15 -> IMPERMEABILIZACION EXTERIOR ESTRUCTURAS DE CONCRETO ENTERRADAS IGOL DENSO 2 MANOS | F24: =+'Consolidado por ítem'!F15 -> M2 | G24: 300 | H24: =+'Consolidado por ítem'!H15 -> 61267 | I24: =+ROUND(H24*(1+$H$66+$H$67+$H$68),0) -> 79647 | J24: =ROUND(H24*G24,0) -> 18380100 | K24: =ROUND(I24*G24,0) -> 23894100
B25: =+'Consolidado por ítem'!D16 -> 17.1.5 | C25: FFIE | D25: 12 | E25: =+'Consolidado por ítem'!E16 -> SUMINISTRO E INSTALACION DE VINILO BAJO PLACA - 2 MANOS | F25: =+'Consolidado por ítem'!F16 -> M2 | G25: =+'Consolidado por ítem'!G16 -> 115 | H25: =+'Consolidado por ítem'!H16 -> 18685 | I25: =+ROUND(H25*(1+$H$66+$H$67+$H$68),0) -> 24291 | J25: =ROUND(H25*G25,0) -> 2148775 | K25: =ROUND(I25*G25,0) -> 2793465
B26: =+'Consolidado por ítem'!D17 -> 20.1.7 | C26: FFIE | D26: 13 | E26: =+'Consolidado por ítem'!E17 -> LIMPIEZA E IMPERMEABILIZACION DE FACHADAS CON ACIDO MURIATICO E HIDROFUGADO CON SIKA IMPERMUR O SIMILAR | F26: =+'Consolidado por ítem'!F17 -> M2 | G26: =+'Consolidado por ítem'!G17 -> 45 | H26: =+'Consolidado por ítem'!H17 -> 45408 | I26: =+ROUND(H26*(1+$H$66+$H$67+$H$68),0) -> 59030 | J26: =ROUND(H26*G26,0) -> 2043360 | K26: =ROUND(I26*G26,0) -> 2656350
B27: =+'Consolidado por ítem'!D18 -> 18.1.3 | C27: FFIE | D27: 14 | E27: =+'Consolidado por ítem'!E18 -> SUMINISTRO E INSTALACION CERRADURA PARA OFICINA POMO ENTRADA REF. SATURNO DE SCHLAGE O EQUIVALENTE | F27: =+'Consolidado por ítem'!F18 -> UN | G27: =+'Consolidado por ítem'!G18 -> 2 | H27: =+'Consolidado por ítem'!H18 -> 94986 | I27: =+ROUND(H27*(1+$H$66+$H$67+$H$68),0) -> 123482 | J27: =ROUND(H27*G27,0) -> 189972 | K27: =ROUND(I27*G27,0) -> 246964
B28: =+'Consolidado por ítem'!D19 -> 8.1.23 | C28: FFIE | D28: 15 | E28: =+'Consolidado por ítem'!E19 -> SALIDA + TOMACORRIENTE DOBLE MONOFASICA - INCLUYE CAJA, TUBERIA PVC DE 1/2", CONDUCTORES DE COBRE #12 AWG, LS ZH, APARATO ELECTRICO CORRESPONDIENTE Y DEMÁS ACCESORIOS NECESARIOS PARA SU CORRECTA INSTALACIÓN. SALIDA HASTA UNA DISTANCIA DE 3,00M | F28: =+'Consolidado por ítem'!F19 -> UN | G28: =+'Consolidado por ítem'!G19 -> 10 | H28: =+'Consolidado por ítem'!H19 -> 130558 | I28: =+ROUND(H28*(1+$H$66+$H$67+$H$68),0) -> 169725 | J28: =ROUND(H28*G28,0) -> 1305580 | K28: =ROUND(I28*G28,0) -> 1697250
B29: =+'Consolidado por ítem'!D20 -> 18.3.3 | C29: FFIE | D29: 16 | E29: =+'Consolidado por ítem'!E20 -> SUMINISTRO E INSTALACION VIDRIO CRISTAL TEMPLADO INCOLORO - 10 MM | F29: =+'Consolidado por ítem'!F20 -> M2 | G29: 32 | H29: =+'Consolidado por ítem'!H20 -> 352091 | I29: =+ROUND(H29*(1+$H$66+$H$67+$H$68),0) -> 457718 | J29: =ROUND(H29*G29,0) -> 11266912 | K29: =ROUND(I29*G29,0) -> 14646976
B30: =+'Consolidado por ítem'!D21 -> 1.2.58N | C30: FFIE | D30: 17 | E30: =+'Consolidado por ítem'!E21 -> LIMPIEZA Y REEMBOQUILLE DE ENCHAPE (Incluye Acido Nitrico, boquilla y todo lo requerido para su respectiva ejecucion) | F30: =+'Consolidado por ítem'!F21 -> M2 | G30: =+'Consolidado por ítem'!G21 -> 25 | H30: =+'Consolidado por ítem'!H21 -> 20317 | I30: =+ROUND(H30*(1+$H$66+$H$67+$H$68),0) -> 26412 | J30: =ROUND(H30*G30,0) -> 507925 | K30: =ROUND(I30*G30,0) -> 660300
B31: =+'Consolidado por ítem'!D22 -> 15.1.12 | C31: FFIE | D31: 18 | E31: =+'Consolidado por ítem'!E22 -> SUMINISTRO, TRANSPORTE E INSTALACION DE LAVAMANOS DE SOBREPONER MARSELLA BLANCO TIPO CORONA Ó EQUIVALENTE. INCLUYE SIFON Y ACOPLE | F31: =+'Consolidado por ítem'!F22 -> UN | G31: =+'Consolidado por ítem'!G22 -> 4 | H31: =+'Consolidado por ítem'!H22 -> 415619 | I31: =+ROUND(H31*(1+$H$66+$H$67+$H$68),0) -> 540305 | J31: =ROUND(H31*G31,0) -> 1662476 | K31: =ROUND(I31*G31,0) -> 2161220
B32: =+'Consolidado por ítem'!D23 -> 10.2.7 | C32: FFIE | D32: 19 | E32: =+'Consolidado por ítem'!E23 -> BALDOSIN GRANITO BH-5 DE 33X33 MORTERO 1:4 - (INCLUYE JUNTA DE DILATACION, DESTRONQUE, PULIDA Y BRILLADA) (SUMINISTRO E INSTALACIÓN) | F32: =+'Consolidado por ítem'!F23 -> M2 | G32: =+'Consolidado por ítem'!G23 -> 4 | H32: =+'Consolidado por ítem'!H23 -> 197310 | I32: =+ROUND(H32*(1+$H$66+$H$67+$H$68),0) -> 256503 | J32: =ROUND(H32*G32,0) -> 789240 | K32: =ROUND(I32*G32,0) -> 1026012
B33: =+'Consolidado por ítem'!D24 -> 15.2.11 | C33: FFIE | D33: 20 | E33: =+'Consolidado por ítem'!E24 -> SUMINISTRO E INSTALACIÓN REJILLA VENTILACION 20 X 20 | F33: =+'Consolidado por ítem'!F24 -> UN | G33: =+'Consolidado por ítem'!G24 -> 3 | H33: =+'Consolidado por ítem'!H24 -> 21332 | I33: =+ROUND(H33*(1+$H$66+$H$67+$H$68),0) -> 27732 | J33: =ROUND(H33*G33,0) -> 63996 | K33: =ROUND(I33*G33,0) -> 83196
B34: =+'Consolidado por ítem'!D25 -> 12.1.8 | C34: FFIE | D34: 21 | E34: =+'Consolidado por ítem'!E25 -> PUERTA Y MARCO EN ALUMINIO ANODIZADO SERIE 3831/5020 - COLOR MATE NATURAL + VIDRIO CRISTAL TEMPLADO INCOLORO 5 MM (SUMINISTRO E INSTALACIÓN) | F34: =+'Consolidado por ítem'!F25 -> M2 | G34: =+'Consolidado por ítem'!G25 -> 6 | H34: =+'Consolidado por ítem'!H25 -> 998477 | I34: =+ROUND(H34*(1+$H$66+$H$67+$H$68),0) -> 1298020 | J34: =ROUND(H34*G34,0) -> 5990862 | K34: =ROUND(I34*G34,0) -> 7788120
B35: =+'Consolidado por ítem'!D26 -> 12.2.11N | C35: FFIE | D35: 22 | E35: =+'Consolidado por ítem'!E26 -> SUMINISTRO E INSTALACIÓN DE PUERTA EN LÁMINA SENCILLA COLD ROLLED C18 INCLUYE MARCO EN LAMINA GALVANIZADA C18 (ANTICORROSIVO Y PINTURA EN ESMALTE A DOS MANOS, INCLUYE ANCLAJES, BISAGRAS Y CERRADURA DE PASADOR) | F35: =+'Consolidado por ítem'!F26 -> M2 | G35: =+'Consolidado por ítem'!G26 -> 2.1 | H35: =+'Consolidado por ítem'!H26 -> 616222 | I35: =+ROUND(H35*(1+$H$66+$H$67+$H$68),0) -> 801089 | J35: =ROUND(H35*G35,0) -> 1294066 | K35: =ROUND(I35*G35,0) -> 1682287
B36: =+'Consolidado por ítem'!D27 -> 10.2.19 | C36: FFIE | D36: 23 | E36: =+'Consolidado por ítem'!E27 -> SUMINISTRO E INSTALACION DE CINTA ANTIDESLIZANTE PISOS ANCHO 5 CMS INCLUYE MATERIALES Y MANO DE OBRA | F36: =+'Consolidado por ítem'!F27 -> M | G36: =+'Consolidado por ítem'!G27 -> 35 | H36: =+'Consolidado por ítem'!H27 -> 15811 | I36: =+ROUND(H36*(1+$H$66+$H$67+$H$68),0) -> 20554 | J36: =ROUND(H36*G36,0) -> 553385 | K36: =ROUND(I36*G36,0) -> 719390
B37: =+'Consolidado por ítem'!D28 -> 8.2.8 | C37: FFIE | D37: 24 | E37: =+'Consolidado por ítem'!E28 -> SUMINISTRO, TRANSPORTE E INSTALACIÓN DE CANALETA PLASTICA (20 X 5) CM CON DIVISIÓN. INCLUYE: PINTURA ELECTROSTATICA, PUESTA A TIERRA, TAPA TORNILLO, ELEMENTOS DE FIJACIÓN EN PARED Y DEMÁS ACCESORIOS PARA SU CORRECTA INSTALACIÓN | F37: =+'Consolidado por ítem'!F28 -> M | G37: =+'Consolidado por ítem'!G28 -> 22 | H37: =+'Consolidado por ítem'!H28 -> 21734 | I37: =+ROUND(H37*(1+$H$66+$H$67+$H$68),0) -> 28254 | J37: =ROUND(H37*G37,0) -> 478148 | K37: =ROUND(I37*G37,0) -> 621588
B38: =+'Consolidado por ítem'!D29 -> 18.3.4 | C38: FFIE | D38: 25 | E38: =+'Consolidado por ítem'!E29 -> SUMINISTRO E INSTALACION DE VIDRIO DE SEGURIDAD LAMINADO 3+3 | F38: =+'Consolidado por ítem'!F29 -> M2 | G38: =+'Consolidado por ítem'!G29 -> 3 | H38: =+'Consolidado por ítem'!H29 -> 213331 | I38: =+ROUND(H38*(1+$H$66+$H$67+$H$68),0) -> 277330 | J38: =ROUND(H38*G38,0) -> 639993 | K38: =ROUND(I38*G38,0) -> 831990
B39: =+'Consolidado por ítem'!D30 -> 8.1.32N | C39: FFIE | D39: 26 | E39: =+'Consolidado por ítem'!E30 -> SUMINISTRO, TRANSPORTE E INSTALACIÓN DE SALIDA ELÉCTRICA PARA SENSOR DE PRESENCIA 360°, 1000W, 360º, 120V. INCLUYE: SENSOR 360° , TUBERÍA EMT Ø3/4", CAJA METÁLICA 12X12X5, CONDUCTORES #12 AWG, PE, HF, FR, LS, CT Y DEMÁS ACCESORIOS NECESARIOS PARA SU CORRECTA INSTALACIÓN. (SALIDA PROMEDIO HASTA 3M) | F39: =+'Consolidado por ítem'!F30 -> UN | G39: =+'Consolidado por ítem'!G30 -> 3 | H39: =+'Consolidado por ítem'!H30 -> 184397 | I39: =+ROUND(H39*(1+$H$66+$H$67+$H$68),0) -> 239716 | J39: =ROUND(H39*G39,0) -> 553191 | K39: =ROUND(I39*G39,0) -> 719148
B40: =+'Consolidado por ítem'!D31 -> 16.1.7N | C40: FFIE | D40: 27 | E40: =+'Consolidado por ítem'!E31 -> REINSTALACION DE CIELO RASO EXISTENTE. INCLUYE REPOSICION DE PIEZAS EN MALESTADO. NO INCLUYE ESTRUCTURA | F40: =+'Consolidado por ítem'!F31 -> M2 | G40: =+'Consolidado por ítem'!G31 -> 18 | H40: =+'Consolidado por ítem'!H31 -> 58708 | I40: =+ROUND(H40*(1+$H$66+$H$67+$H$68),0) -> 76320 | J40: =ROUND(H40*G40,0) -> 1056744 | K40: =ROUND(I40*G40,0) -> 1373760
B41: =+'Consolidado por ítem'!D32 -> 9.1.1 | C41: FFIE | D41: 28 | E41: =+'Consolidado por ítem'!E32 -> FILOS Y DILATACIONES EN PAÑETE | F41: =+'Consolidado por ítem'!F32 -> M | G41: =+'Consolidado por ítem'!G32 -> 80 | H41: =+'Consolidado por ítem'!H32 -> 10065 | I41: =+ROUND(H41*(1+$H$66+$H$67+$H$68),0) -> 13085 | J41: =ROUND(H41*G41,0) -> 805200 | K41: =ROUND(I41*G41,0) -> 1046800
... B49: =+'Consolidado por ítem'!D40 -> 18.1.4 | C49: FFIE | D49: 36 | E49: =+'Consolidado por ítem'!E40 -> SUMINISTRO E INSTALACION CERRADURA PARA BAÑO POMO ENTRADA REF. SATURNO DE SCHLAGE O EQUIVALENTE | F49: =+'Consolidado por ítem'!F40 -> UN | G49: =+'Consolidado por ítem'!G40 -> 4 | H49: =+'Consolidado por ítem'!H40 -> 93008 | I49: =+ROUND(H49*(1+$H$66+$H$67+$H$68),0) -> 120910 | J49: =ROUND(H49*G49,0) -> 372032 | K49: =ROUND(I49*G49,0) -> 483640
B50: =+'Consolidado por ítem'!D41 -> 12.2.6 | C50: FFIE | D50: 38 | E50: =+'Consolidado por ítem'!E41 -> SUMINISTRO E INSTALACION DE BARANDA METALICA CORREDORES DE CIRCULACION, TUBO CIRCULAR EN ACERO GALVANIZADO DE 2" INCLINADO HACIA EL INTERIOR, EN ANCLAJE LATERAL A LA LOSA CON PLATINAS DE 0,17 CM X 0,20 CM DE ACERO DE 1/4" Y CHAZO DE ANCLAJE DE 3/8" X 3" CON PLATINAS DE HIERRO LATERALES DE 3/8" X 2" Y PLATINAS INTERNAS DE 1/4" X 1 1/2" TUBO INTERNO EN ACERO DE 1 1/2" DOS MANOS DE ANTICORROSIVO Y ACABADO EN PINTURA ESMALTE | F50: =+'Consolidado por ítem'!F41 -> M | G50: 13.6 | H50: =+'Consolidado por ítem'!H41 -> 770969 | I50: =+ROUND(H50*(1+$H$66+$H$67+$H$68),0) -> 1002260 | J50: =ROUND(H50*G50,0) -> 10485178 | K50: =ROUND(I50*G50,0) -> 13630736
B51: =+'Consolidado por ítem'!D42 -> 16.2.2 | C51: FFIE | D51: 39 | E51: =+'Consolidado por ítem'!E42 -> SUMINISTRO E INSTALACION DE DIVISIONES PARA BAÑOS EN LAMINA CALIBRE 18 | F51: =+'Consolidado por ítem'!F42 -> M2 | G51: =+'Consolidado por ítem'!G42 -> 4 | H51: =+'Consolidado por ítem'!H42 -> 812077 | I51: =+ROUND(H51*(1+$H$66+$H$67+$H$68),0) -> 1055700 | J51: =ROUND(H51*G51,0) -> 3248308 | K51: =ROUND(I51*G51,0) -> 4222800
B52: =+'Consolidado por ítem'!D43 -> 13.1.4 | C52: FFIE | D52: 40 | E52: =+'Consolidado por ítem'!E43 -> ENCHAPE PARED 20 X 30 - (INCLUYE WIN EN ALUMINIO) (SUMINISTRO E INSTALACIÓN) | F52: =+'Consolidado por ítem'!F43 -> M2 | G52: =+'Consolidado por ítem'!G43 -> 3 | H52: =+'Consolidado por ítem'!H43 -> 61712 | I52: =+ROUND(H52*(1+$H$66+$H$67+$H$68),0) -> 80226 | J52: =ROUND(H52*G52,0) -> 185136 | K52: =ROUND(I52*G52,0) -> 240678
B53: =+'Consolidado por ítem'!D44 -> 18.1.1 | C53: FFIE | D53: 41 | E53: =+'Consolidado por ítem'!E44 -> SUMINISTRO E INSTALACION CERRADURA DE INGRESO PRINCIPAL LLAVE MULTIPUNTO YALE 987 O EQUIVALENTE | F53: =+'Consolidado por ítem'!F44 -> UN | G53: =+'Consolidado por ítem'!G44 -> 1 | H53: =+'Consolidado por ítem'!H44 -> 288322 | I53: =+ROUND(H53*(1+$H$66+$H$67+$H$68),0) -> 374819 | J53: =ROUND(H53*G53,0) -> 288322 | K53: =ROUND(I53*G53,0) -> 374819
B54: =+'Consolidado por ítem'!D45 -> 16.1.3 | C54: FFIE | D54: 1 | E54: =+'Consolidado por ítem'!E45 -> SUMINISTRO, TRANSPORTE E INSTALACIÓN DE CIELO RASO EN LAMINA PLANA SUPERBOARD O EQUIVALENTE E=6MM. INCLUYE: ENCINTADO, MASILLA Y PINTURA | F54: =+'Consolidado por ítem'!F45 -> M2 | G54: =+'Consolidado por ítem'!G45 -> 23 | H54: =+'Consolidado por ítem'!H45 -> 119342 | I54: =+ROUND(H54*(1+$H$66+$H$67+$H$68),0) -> 155145 | J54: =ROUND(H54*G54,0) -> 2744866 | K54: =ROUND(I54*G54,0) -> 3568335
...

Sheet AIU OBRA
B7: FONDO DE DESARROLLO LOCAL DE TUNJUELITO
B8: ALCALDÍA LOCAL DE TUNJUELITO
B13: PRESUPUESTO ESTIMADO DE OBRA | J13: FECHA:
B14: COSTOS DIRECTOS DE OBRA | E14: =+'PRESUPUESTO OFICIAL'!J59 -> 213738949 | J14: PROYECTO No. | P14: 384847000 | Q14: =+P14*0.11 -> 42333170
B15: TERMINO ESTIMADO DE EJECUCIÓN DE OBRA | E15: 4.5 | F15: MESES | P15: =+P14-Q14 -> 342513830
B16: TERMINO ESTIMADO ETAPA DE PRELIMINARES | E16: 0.5 | F16: MESES | P16: =+P15*0.65 -> 2.2263399e+08
A18: IDU | B18: ÍTEM | C18: A. ADMINISTRACIÓN
C19: 1. COSTOS MENSUALES DE PERSONAL
C20: CARGO | E20: CANT | F20: CATEGORÍA | G20: PRELIMINARES | H20: OBRA | I20: RECIBO | J20: TOPE SALARIO (MES) | K20: FACTOR PRESTACIONAL | L20: TOTAL DEDICACIÓN POR ETAPA | O20: SALARIO + PRESTACIONES
G21: MES | H21: MES | I21: MES
G22: 1 | H22: =+E15 -> 4.5 | I22: 0 | L22: INICIO | M22: OBRA | N22: RECIBO
E23: A | G23: B | J23: C | K23: D | L23: E | O23: F=A*B*C*D*E
B24: 1 | C24: PERSONAL PROFESIONAL (Ingenieros y Otros)
A25: 9110 | B25: 1.1 | C25: DIRECTOR DE OBRA | E25: 1 | F25: 3 | G25: 0.1 | H25: 0.2 | J25: 6149000 | K25: 1.45 | L25: 0.5 | M25: =+E15 -> 4.5 | O25: =(E25*J25*K25)*((M25*H25)+(G25*L25)) -> 8470247.5
A26: 9484 | B26: 1.2 | C26: RESIDENTE DE OBRA | E26: 1 | F26: 4 | H26: 0.5 | J26: 5149000 | K26: 1.45 | L26: 0.5 | M26: =+E15 -> 4.5 | O26: =(E26*J26*K26)*((M26*H26)+(G26*L26)) -> 16798612
O28: =+SUM(O25:O27) -> 25268860
B30: 2 | C30: GASTOS OPERACIONALES MENSUALES | E30: CANT. | F30: AREA (M2) | G30: DEDICACIÓN | J30: DEDICACIÓN X ÁREA (M2) | K30: COSTO ($/M2.MES) | L30: N. MESES | O30: VALOR ($)
A31: 9578 | B31: 2.2 | C31: GASTOS OFICINA MES (PAPELERIA, FOTOCOPIAS Y OTROS | E31: 1 | F31: N/A | G31: 1 | J31: GLOB/MS | K31: 1460000 | L31: 4.5 | O31: =+L31*E31*G31*K31 -> 6570000
C32: SUBTOTAL GASTOS OPERACIONALES MENSUALES | O32: =O31 -> 6570000
C34: TOTAL COSTOS PERSONAL + GASTOS OPERACIONALES POR EL TÉRMINO DE EJECUCIÓN | O34: =+O28+O32 -> 31838860
C35: TOTAL COSTOS PERSONAL + GASTOS OPERACIONALES POR EL TÉRMINO DE EJECUCIÓN EN PORCENTAJE DEL COSTO DIRECTO | O35: =+O34/E14 -> 0.14896143
B38: 3. IMPUESTOS ESTIMADOS
B39: 3.1 | C39: IMPUESTOS
B40: ÍTEM | C40: DESCRIPCIÓN | L40: IMPUESTO | O40: VALOR ($)
B41: 3.101 | C41: Contribución Especial (Impuesto de Guerra Ley 1738 Dic 18-2014 Prórroga 4 años) | L41: 0.05 | O41: =L41*$E$14 -> 10686947
B42: 3.102 | C42: ICA (Ley 14 6 Jul 1983, Res 219 25 Feb 2004) | L42: 0.0076 | O42: =L42*$E$14 -> 1624416
B43: 3.103 | C43: GMF (Ley 1739 23 Dic 2014 modifica el Estatuto Tributario) | L43: 0.004 | O43: =L43*$E$14 -> 854955.8
B44: 3.104 | C44: Retefuente | L44: 0.02 | O44: =L44*$E$14 -> 4274779
B45: 3.105 | C45: Estampilla Unipedagógica (Dec 584 de 19 Dic 2014) | L45: 0.005 | O45: =L45*$E$14 -> 1068694.7
C46: SUBTOTAL IMPUESTOS | O46: =+SUM(O41:O45) -> 18509793
C48: TOTAL IMPUESTOS | O48: =+O46 -> 18509793
C49: TOTAL IMPUESTOS EN PORCENTAJE DEL COSTO DIRECTO | O49: =+O48/E14 -> 0.0866
C52: 4. GARANTÍAS
C53: ÍTEM | D53: DESCRIPCIÓN | H53: VR. BASE | J53: % ASEGURADO | K53: VIGENCIA AMPARO (MESES) | M53: TASA ASEGURADORA | O53: VALOR ($)
C54: 1.0001 | D54: Cumplimiento | F54: GARANTÍA ÚNICA | H54: 77835297 | J54: 0.2 | K54: 16 | M54: 0.004 | O54: =(((((H54*J54)*M54)/12)*K54)+2500)*1.19 -> 101773.94
C55: =C54+0.001 -> 1.0011 | D55: Salarios y Prestaciones Sociales | H55: 77835297 | J55: 0.1 | K55: =36+8 -> 44 | M55: 0.003 | O55: =(((((H55*J55)*M55)/12)*K55)+2500)*1.19 -> 104861.4
C56: =C55+0.001 -> 1.0021 | D56: Estabilidad de la Obra | H56: 77835297 | J56: 0.3 | K56: 60 | M56: 0.004 | O56: =(((((H56*J56)*M56)/12)*K56)+2500)*1.19 -> 558719.02
C57: =C56+0.001 -> 1.0031 | D57: Predios, labores y Operaciones- Vigencia (Decreto 1082 de 2015 Sección III) | F57: RESPONSABILIDAD CIVIL EXTRACONTRACTUAL | H57: 77835297 | J57: 200 SMMLV | K57: 6 | M57: 0.003 | O57: =((((H57*M57)/12)*K57)+2500)*1.19 -> 141911
C59: TOTAL GARANTIAS | O59: =ROUND((SUM(O54:O57)),0) -> 907265
C60: TOTAL GARANTIAS EN PORCENTAJE DEL COSTO DIRECTO | O60: =+O59/E14 -> 0.0042447341
...

Sheet PGA- SST
A7: FONDO DE DESARROLLO LOCAL DE TUNJUELITO
A8: ALCALDÍA LOCAL DE TUNJUELITO
A11: PLAN DE GESTIÓN AMBIENTAL, SEGURIDAD Y SALUD EN EL TRABAJO
A13: COMPONTE A. ACTIVIDADES CONSTRUCTIVAS
A14: ÍTEMS | E14: ESPECIFICACIÓN | F14: UN. | G14: CANTIDAD | I14: VALOR UNITARIO | L14: VALOR TOTAL
A15: A 1 | B15: MANEJO DE CAMPAMENTOS Y CENTROS DE ACOPIO
A16: 1.1 | B16: ELEMENTOS DE CERRAMIENTO Y ASEO | E16: CANECA PLÁSTICA NEGRA DE 55 GALONES CON TAPA PLANA. | F16: UN | G16: 4 | I16: 122000 | L16: =I16*G16 -> 488000
A17: 1.2 | E17: POLISOMBRA VERDE PARA CERRAMIENTO. SUMINISTRO E INSTALACION. | F17: M2 | G17: 300 | I17: 2601 | L17: =G17*I17 -> 780300
F18: SUBTOTAL DEL PROGRAMA CA1 | L18: =L16+L17 -> 1268300
A20: A 2 | B20: MANEJO DE MATERIALES DE CONSTRUCCIÓN
A21: 2.1 | B21: PUNTO DE ACOPIO DE MATERIALES | E21: SEÑALIZACION TUBULAR COLOMBINA PLASTICA | F21: UN | G21: 8 | I21: 43962 | L21: =I21*G21 -> 351696
E22: PLASTICO NEGRO CALIBRE 6 | F22: M2 | G22: 300 | I22: 1312 | L22: =I22*G22 -> 393600
E23: CINTA PARA SEÑALIZACION DE 500MT X 4" PELIGRO CALIBRE 3.5 | F23: ROLLO | G23: 10 | I23: 24285 | L23: =I23*G23 -> 242850
F24: SUBTOTAL DEL PROGRAMA A2 | L24: =SUM(L21:M23) -> 988146
A26: COMPONENTE B. GESTIÓN EN SEGURIDAD Y SALUD EN EL TRABAJO
A27: ÍTEMS | F27: UN. | G27: CANTIDAD | I27: VALOR UNITARIO | L27: VALOR TOTAL
A28: B1 | B28: SEGURIDAD Y SALUD EN EL TRABAJO
A29: 1.01 | B29: BOTIQUIN PRIMEROS AUXILIOS CON MEDICAMENTOS DE 22CM X 27CM | F29: UN | G29: 2 | I29: 51308 | L29: =I29*G29 -> 102616
A30: 1.02 | B30: GAFAS DE SEGURIDAD | F30: UN | G30: 15 | I30: 4641 | L30: =I30*G30 -> 69615
A31: 1.03 | B31: GUANTES DE VAQUETA | F31: UN | G31: 5 | I31: 5831 | L31: =I31*G31 -> 29155
A32: 1.04 | B32: CASCO DE SEGURIDAD DIELECTRICO | F32: UN | G32: 15 | I32: 20111 | L32: =I32*G32 -> 301665
A33: 1.05 | B33: PROTECTOR AUDITIVO TIPO COPA | F33: UN | G33: 4 | I33: 18921 | L33: =I33*G33 -> 75684
A34: 1.07 | B34: EXTINTOR POLVO QUIMICO SECO DE 20LB TIPO ABC METALICO CON GANCHO Y AVISO | F34: UN | G34: 2 | I34: 56287 | L34: =I34*G34 -> 112574
A35: 1.09 | B35: MASCARILLA DESECHABLE CONTRA POLVOS Y PARTICULAS NO TÓXICAS | F35: UN | G35: 100 | I35: 1785 | L35: =I35*G35 -> 178500
A36: 1.1 | B36: PROTECTOR AUDITIVO TIPO TAPON INSERCIÓN EN SILICONA CON CORDEL EN ESTUCHE | F36: PAR | G36: 30 | I36: 2023 | L36: =I36*G36 -> 60690
A37: 1.11 | B37: BARBUQUEJO EN REATA CON MENTONERA CON TRES APOYOS PARA CASCO | F37: UN | G37: 15 | I37: 4165 | L37: =I37*G37 -> 62475
A38: 1.13 | B38: GUANTE NITRILO 13" RESISTENTE CONTRA QUIMICOS COMBUSTIBLES SOLVENTES GRASAS | F38: PAR | G38: 15 | I38: 7021 | L38: =I38*G38 -> 105315
A39: 1.14 | B39: GUANTE CAUCHO NEGRO CORRUGADO CALIBRE 35 | F39: PAR | G39: 30 | I39: 4641 | L39: =I39*G39 -> 139230
A40: 1.15 | B40: OVEROL EN DRILL DOS PIEZAS, CAMISA Y PANTALÓN | F40: UN | G40: 15 | I40: 44500 | L40: =I40*G40 -> 667500
A41: 1.16 | B41: FILTRO CONTRA POLVO PARA RESPIRADORES | F41: UN | G41: 2 | I41: 1904 | L41: =I41*G41 -> 3808
B42: EXÁMENES OCUPACIONALES | G42: CANTIDAD | I42: VALOR UNITARIO | L42: VALOR TOTAL
A43: 1.17 | B43: EXÁMEN MÉDICO OCUPACIONAL DE INGRESO O RETIRO | F43: UN | G43: 12 | I43: 55000 | L43: =I43*G43 -> 660000
B44: PERSONAL | G44: CANTIDAD | I44: VALOR UNITARIO | L44: VALOR TOTAL
A45: 1.17 | B45: TARIFA MES - PERSONAL DE OBRA - AYUDANTE (No incluye Factor de Prestaciones) | F45: UN | G45: 0.3 | I45: 1720000 | L45: =I45*G45*4 -> 2064000
F46: SUBTOTAL COMPONENTE B | L46: =SUM(L29:M45) -> 4632827
A50: SUBTOTAL COMPONENTES A+B+C | L50: =L18+L24+L46 -> 6889273
A51: COSTO DIRECTO DE OBRA | L51: =+'PRESUPUESTO OFICIAL'!J59 -> 213738949
A52: CALCULO DE COMPONENTE PGA Y SST | L52: =L50/L51 -> 0.032232183

Sheet PGS
B7: FONDO DE DESARROLLO LOCAL DE TUNJUELITO
B8: ALCALDÍA LOCAL DE TUNJUELITO
B11: CONTROL DE INVERSIÓN GESTIÓN SOCIAL PARA OBRAS
B12: COMPONENTE | D12: Unidad | E12: Valor Unitario | F12: Factor Prestacional | G12: Cantidad | H12: Dedicación H/Mes | I12: Plazo (Meses) | J12: Dedicación Total (Meses) | K12: Subtotal
B13: Componente A. Personal Profesional de Gestión Social
B14: ACTAS DE VECINDAD
B16: B.2 | C16: Programa PAC- PUNTO DE ATENCIÓN A LA CIUDADANIA
B17: COMPONENTE | D17: Unidad | E17: Valor Unitario | H17: Cantidad Obra | J17: Subtotal
B18: B.2.1. | C18: IMPRESIÓN HOJA CARTA, A 1X0 TINTAS EN PAPEL BOND DE 75 GR. | D18: UN | E18: 120 | H18: 50 | J18: =ROUND((E18*H18),0) -> 6000
B19: B.2.2. | C19: AFICHE TAMAÑO MEDIO PLIEGO A 4X0 TINTAS EN PROPALCOTE DE 115 GR. | D19: UN | E19: 1309 | H19: 2 | J19: =ROUND((E19*H19),0) -> 2618
B20: B.2.3. | C20: PLEGABLES DE SOSTENIBILIDAD EN TRES CUERPOS TAMAÑO CARTA A 4X4 TINTAS EN PROPALCOTE. | D20: UN | E20: 500 | H20: 50 | J20: =ROUND((E20*H20),0) -> 25000
B21: B.2.5 | C21: PENDONES ELABORADOS EN BANNER, CON UNA DIMENSIÓN DE 1.00 M DE ANCHO POR 1.50 M DE LARGO. IMPRESIÓN A FULL COLOR SEGÚN DISEÑOS DE OJALETES. | D21: UN | E21: 44625 | H21: 2 | J21: =E21*H21 -> 89250
B22: Subtotal Programa de Divulgación al Ciudadano | J22: =SUM(J18:K21) -> 122868
B24: B.3 | C24: PAC : Programa de Atención al Ciudadano
B25: COMPONENTE | D25: Unidad | E25: Valor Unitario | F25: Cantidad | H25: Dedicación Mes | I25: Plazo (Meses) | J25: Dedicación Total (Meses) | K25: Subtotal
B26: B.3.1 | C26: PAC: Programa de Atención al Ciudadano
B27: B.3.1.1 | C27: ALQUILER DE PUESTO DE TRABAJO - ESCRITORIO 75x120x50cm | D27: UN/MES | E27: 11521 | F27: 2 | H27: 1 | I27: 4 | J27: 4 | K27: =ROUND((E27*I27),0) -> 46084
B28: B.3.1.2 | C28: ALQUILER DE SILLA PARA ESCRITORIO PARA PUESTO DE TRABAJO | D28: UN/MES | E28: 10414 | F28: 2 | H28: 1 | I28: 4 | J28: 4 | K28: =ROUND((E28*I28),0) -> 41656
B29: Subtotal Programa de Atención al Ciudadano | K29: =SUM(K27:K28) -> 87740
C31: SUBTOTAL COSTOS DE SUBPROGRAMAS DE PLAN DE GESTIÓN SOCIAL | K31: =J22+K29 -> 210608
C34: TOTAL COSTO DEL PLAN DE GESTIÓN SOCIAL | K34: =+K31 -> 210608
C35: COSTO DIRECTO DE OBRA | K35: ='[1]PRESUPUESTO TOTAL'!I55 -> 190984506
C36: CALCULO DEL COMPONENTE PGS | K36: =+K34/K35 -> 0.0011027491

Sheet Consolidado por ítem
A1: PRESUPUESTO CONSOLIDADO POR ÍTEM
A2: Las cantidades se suman por código de ítem, descripción, unidad y precio unitario.
A4: No. | B4: Capítulo principal | C4: Capítulos asociados | D4: Ítem | E4: Descripción ítem listado | F4: UN | G4: Cantidad consolidada | H4: PU Bogotá 2026 | I4: Valor parcial | J4: Prioridad | K4: Pisos donde aplica | L4: Actividades consolidadas | M4: Ubicaciones consolidadas | N4: Fuentes
A5: 1 | B5: Impermeabilización tanques | C5: Impermeabilización tanques | D5: 11.1.7 | E5: IMPERMEABILIZACION INTERIOR PARA TANQUES DE CONCRETO MEMBRANA PVC SIKAPLAN 12 NTR O EQUIVALENTE. INCLUYE REMATES | F5: M2 | G5: 120 | H5: 196990 | I5: =G5*H5 -> 23638800 | J5: Alta | K5: Sótano 2 | L5: Impermeabilización interior de dos tanques de concreto para agua potable | M5: Sótano 2 – Tanques de agua potable / archivo | N5: Informe Sótano 2 / sotano 2
A6: 3 | B6: Impermeabilización tanques | C6: Impermeabilización tanques | D6: NP-TAN-02 | E6: PENDIENTE | F6: UN | G6: 2 | H6: 0 | I6: =G6*H6 -> 0 | J6: Alta | K6: Sótano 2 | L6: Pruebas de estanqueidad de tanques | M6: Sótano 2 – Tanques | N6: Informe Sótano 2
A7: 4 | B7: Demoliciones | C7: Demoliciones | D7: 1.2.39N | E7: DEMOLICIÓN DE PAÑETE DE MUROS (INC CARGUE, RETIRO Y DISPOSICION FINAL A SITIOS AUTORIZADOS) | F7: M2 | G7: 25 | H7: 14647 | I7: =G7*H7 -> 366175 | J7: Alta | K7: Sótano 2 | L7: Demolición de pañete deteriorado en muros | M7: Sótano 2 – Archivo institucional | N7: Informe Sótano 2
A8: 5 | B8: Pañetes y humedades | C8: Pañetes y humedades | D8: 9.1.2 | E8: PAÑETE IMPERMEABILIZADO S/MUROS 1:3. | F8: M2 | G8: 305 | H8: 36330 | I8: =G8*H8 -> 11080650 | J8: Alta | K8: Sótano 2, Piso 1, Piso 4, Piso 5, Piso 6, Piso 7 | L8: Pañete impermeabilizado sobre muros | M8: Sótano 2 – Archivo institucional; Piso 1 – CDI / recepción / escaleras; Piso 4 – Ventanas / fachada Caracas; Piso 5 – Cafetería; Piso 5 – Infraestructura / ventanería; Piso 6 – Cubierta / pared bajo cubierta; Piso 7 – Caja de escaleras / columnas | N8: Informe Sótano 2; PISO 1; Piso 4; PISO 5; piso 6; PISO 7
A9: 6 | B9: Acabados | C9: Acabados | D9: 17.1.1 | E9: SUMINISTRO E INSTALACION DE ESTUCO SOBRE PAÑETE | F9: M2 | G9: 115 | H9: 13767 | I9: =G9*H9 -> 1583205 | J9: Media | K9: Sótano 2, Sótano 1 | L9: Estuco sobre pañete | M9: Sótano 2 – Archivo institucional; Sótano 1 – Oficinas sistemas y archivo | N9: sotano 2; Daños sótano 1
A10: 7 | B10: Pintura | C10: Pintura | D10: 17.1.2 | E10: SUMINISTRO E INSTALACION DE PINTURA EN VINILO TIPO 1 MUROS INTERIORES 3 MANOS | F10: M2 | G10: 1010 | H10: 19673 | I10: =G10*H10 -> 19869730 | J10: Media, Alta | K10: Sótano 2, Sótano 1, Piso 1, Piso 3, Piso 4, Piso 5, Piso 6, Piso 7 | L10: Pintura vinilo tipo 1 en muros interiores | M10: Sótano 2 – Archivo institucional; Sótano 2 – Cuarto de máquinas; Sótano 1 – Oficinas sistemas y archivo; Piso 1 – CDI / recepción / escaleras; Piso 3 – JAL / cocina / cuarto lavado; Piso 4 – Oficinas; Piso 5 – Áreas administrativas; Piso 6 – Cuarto racks; Piso 6 – Oficinas; Piso 7 – Encuentros cubierta-muro | N10: sotano 2; Daños sótano 1; PISO 1; Revisión daños tercer piso; Piso 4; PISO 5; piso 6; PISO 7
A11: 8 | B11: Pisos y pintura especial | C11: Pisos y pintura especial, Pintura especial | D11: 17.3.7 | E11: SUMINISTRO E INSTALACION DE PINTURA EPOXICA PARA PISOS, MUROS Y TECHOS INCLUYE PREPARACION DE SUPERFICIE Y PRIMER DE ADHERENCIA | F11: M2 | G11: 155 | H11: 24063 | I11: =G11*H11 -> 3729765 | J11: Media | K11: Sótano 2, Piso 5, Piso 6 | L11: Pintura epóxica para pisos, muros y techos | M11: Sótano 2 – Archivo institucional; Piso 5 – Pasarela; Piso 5 – Elementos metálicos pasarela; Piso 6 – Terraza | N11: Informe Sótano 2; PISO 5; piso 6
A12: 9 | B12: Cerramientos | C12: Cerramientos | D12: NP-PVC-01 | E12: PENDIENTE | F12: UN | G12: 32 | H12: 0 | I12: =G12*H12 -> 0 | J12: Media | K12: Sótano 2, Sótano 1 | L12: Reposición de cerramiento en lámina PVC | M12: Sótano 2 – Parqueadero; Sótano 1 – Parqueadero | N12: sotano 2; Daños sótano 1
A13: 10 | B13: Hidrosanitario | C13: Hidrosanitario | D13: 15.2.8 | E13: SUMINISTRO E INSTALACIÓN REJILLA SIFON 20 X 20 | F13: UN | G13: 10 | H13: 14172 | I13: =G13*H13 -> 141720 | J13: Alta, Media | K13: Sótano 2, Sótano 1, Piso 1, Piso 3 | L13: Suministro e instalación rejilla sifón 20x20; Rejilla sifón 20x20 | M13: Sótano 2 – Cuarto de máquinas; Sótano 1 – Cajas / tapas / sifones; Piso 1 – Baños; Piso 3 – JAL | N13: sotano 2; Daños sótano 1; PISO 1; Revisión daños tercer piso
A14: 11 | B14: Hidrosanitario | C14: Hidrosanitario | D14: 1.2.49N | E14: LIMPIEZA Y ADECUACIÓN A CÁRCAMO (INCLUYE DESMONTE Y MONTAJE DE REJILLA, LIMPIEZA, RETIRO Y DISPOSICIÓN DE MATERIAL SOBRANTE, RESANE DE GRIETAS Y BORDE) | F14: M | G14: 8 | H14: 14628 | I14: =G14*H14 -> 117024 | J14: Media | K14: Sótano 2 | L14: Limpieza y adecuación a cárcamo | M14: Sótano 2 – Cuarto de máquinas | N14: sotano 2
A15: 12 | B15: Impermeabilización | C15: Impermeabilización | D15: 11.1.2 | E15: IMPERMEABILIZACION EXTERIOR ESTRUCTURAS DE CONCRETO ENTERRADAS IGOL DENSO 2 MANOS | F15: M2 | G15: 60 | H15: 61267 | I15: =G15*H15 -> 3676020 | J15: Alta | K15: Sótano 1 | L15: Impermeabilización exterior estructuras de concreto enterradas / muros | M15: Sótano 1 – Parqueaderos / vigas | N15: Daños sótano 1
A16: 13 | B16: Pintura | C16: Pintura | D16: 17.1.5 | E16: SUMINISTRO E INSTALACION DE VINILO BAJO PLACA - 2 MANOS | F16: M2 | G16: 115 | H16: 18685 | I16: =G16*H16 -> 2148775 | J16: Media | K16: Sótano 1, Piso 1, Piso 4 | L16: Vinilo bajo placa 2 manos | M16: Sótano 1 – Placa / inicio rampa S-2; Piso 1 – Sala de juntas; Piso 4 – Cielo raso / rociador | N16: Daños sótano 1; PISO 1; Piso 4
... A49: 54 | B49: Impermeabilización cubierta | C49: Impermeabilización cubierta | D49: 11.1.3 | E49: IMPERMEABILIZACION CANALES MANTO ASFALTICO Y FOIL ALUMINIO | F49: M2 | G49: 30 | H49: 97100 | I49: =G49*H49 -> 2913000 | J49: Alta | K49: Piso 7 | L49: Impermeabilización canales manto asfáltico y foil | M49: Piso 7 – Lucernario / muro perimetral | N49: PISO 7
H51: TOTAL VALORADO | I51: =SUM(I5:I49) -> 1.959572e+08

Sheet Presupuesto
A1: PRESUPUESTO PRELIMINAR ESTIMADO – MANTENIMIENTO LOCATIVO SEDE ADMINISTRATIVA FDLT
A2: Base de precios: Listado de Precios Tope Dpto Vigencia 2026 – columna BOGOTÁ. Cantidades estimadas por afectación; requieren verificación y medición en campo.
A4: No. | B4: Capítulo | C4: Piso | D4: Ubicación | E4: Patología / hallazgo | F4: Actividad presupuestada | G4: Ítem | H4: Descripción ítem listado | I4: UN | J4: Cantidad est. | K4: PU Bogotá 2026 | L4: Valor parcial | M4: Prioridad | N4: Observación técnica | O4: Fuente
A5: 1 | B5: Impermeabilización tanques | C5: Sótano 2 | D5: Tanques de agua potable / archivo | E5: Filtración recurrente desde tanque, inundación de archivo | F5: Impermeabilización interior de dos tanques de concreto para agua potable | G5: 11.1.7 | H5: IMPERMEABILIZACION INTERIOR PARA TANQUES DE CONCRETO MEMBRANA PVC SIKAPLAN 12 NTR O EQUIVALENTE. INCLUYE REMATES | I5: M2 | J5: 120 | K5: 196990 | L5: =J5*K5 -> 23638800 | M5: Alta | N5: Cantidad estimada 60 m² por tanque; verificar dimensiones reales y estado de juntas. | O5: Informe Sótano 2 / sotano 2
A6: 3 | B6: Impermeabilización tanques | C6: Sótano 2 | D6: Tanques | E6: Validación posterior a reparación | F6: Pruebas de estanqueidad de tanques | G6: NP-TAN-02 | H6: Ítem no previsto / actividad compuesta a cotizar | I6: UN | J6: 2 | K6: 0 | L6: =J6*K6 -> 0 | M6: Alta | N6: Ensayo por tanque posterior a impermeabilización; actividad no listada. | O6: Informe Sótano 2
A7: 4 | B7: Demoliciones | C7: Sótano 2 | D7: Archivo institucional | E7: Pañetes afectados por humedad e inundación | F7: Demolición de pañete deteriorado en muros | G7: 1.2.39N | H7: DEMOLICIÓN DE PAÑETE DE MUROS (INC CARGUE, RETIRO Y DISPOSICION FINAL A SITIOS AUTORIZADOS) | I7: M2 | J7: 25 | K7: 14647 | L7: =J7*K7 -> 366175 | M7: Alta | N7: Incluye zonas inferiores de muros con desprendimiento. | O7: Informe Sótano 2
A8: 5 | B8: Pañetes y humedades | C8: Sótano 2 | D8: Archivo institucional | E8: Muros con humedad ascendente | F8: Pañete impermeabilizado sobre muros | G8: 9.1.2 | H8: PAÑETE IMPERMEABILIZADO S/MUROS 1:3. | I8: M2 | J8: 40 | K8: 36330 | L8: =J8*K8 -> 1453200 | M8: Alta | N8: Franja inferior y zonas adyacentes a tanques. | O8: Informe Sótano 2
A9: 6 | B9: Acabados | C9: Sótano 2 | D9: Archivo institucional | E9: Muros deteriorados por humedad | F9: Estuco sobre pañete | G9: 17.1.1 | H9: SUMINISTRO E INSTALACION DE ESTUCO SOBRE PAÑETE | I9: M2 | J9: 40 | K9: 13767 | L9: =J9*K9 -> 550680 | M9: Media | O9: sotano 2
A10: 7 | B10: Pintura | C10: Sótano 2 | D10: Archivo institucional | E10: Muros deteriorados por humedad | F10: Pintura vinilo tipo 1 en muros interiores | G10: 17.1.2 | H10: SUMINISTRO E INSTALACION DE PINTURA EN VINILO TIPO 1 MUROS INTERIORES 3 MANOS | I10: M2 | J10: 85 | K10: 19673 | L10: =J10*K10 -> 1672205 | M10: Media | O10: sotano 2
A11: 8 | B11: Pisos y pintura especial | C11: Sótano 2 | D11: Archivo institucional | E11: Piso afectado por inundación | F11: Pintura epóxica para pisos, muros y techos | G11: 17.3.7 | H11: SUMINISTRO E INSTALACION DE PINTURA EPOXICA PARA PISOS, MUROS Y TECHOS INCLUYE PREPARACION DE SUPERFICIE Y PRIMER DE ADHERENCIA | I11: M2 | J11: 45 | K11: 24063 | L11: =J11*K11 -> 1082835 | M11: Media | N11: Se estima recuperación de área afectada por humedad sobre acabado de piso. | O11: Informe Sótano 2
A12: 9 | B12: Cerramientos | C12: Sótano 2 | D12: Parqueadero | E12: Láminas de PVC rotas en cerramiento | F12: Reposición de cerramiento en lámina PVC | G12: NP-PVC-01 | H12: Ítem no previsto / actividad compuesta a cotizar | I12: UN | J12: 12 | K12: 0 | L12: =J12*K12 -> 0 | M12: Media | N12: No se identificó ítem directo para cerramiento en lámina PVC; formular APU. | O12: sotano 2
A13: 10 | B13: Hidrosanitario | C13: Sótano 2 | D13: Cuarto de máquinas | E13: Tapas de cámaras de desagüe deterioradas | F13: Suministro e instalación rejilla sifón 20x20 | G13: 15.2.8 | H13: SUMINISTRO E INSTALACIÓN REJILLA SIFON 20 X 20 | I13: UN | J13: 2 | K13: 14172 | L13: =J13*K13 -> 28344 | M13: Alta | N13: Se asimila a tapa/rejilla de cámara menor; verificar dimensiones. | O13: sotano 2
A14: 11 | B14: Pintura | C14: Sótano 2 | D14: Cuarto de máquinas | E14: Humedad en muros técnicos | F14: Pintura vinilo tipo 1 en muros interiores | G14: 17.1.2 | H14: SUMINISTRO E INSTALACION DE PINTURA EN VINILO TIPO 1 MUROS INTERIORES 3 MANOS | I14: M2 | J14: 60 | K14: 19673 | L14: =J14*K14 -> 1180380 | M14: Media | O14: sotano 2
A15: 12 | B15: Hidrosanitario | C15: Sótano 2 | D15: Cuarto de máquinas | E15: Cámaras y drenajes requieren mantenimiento | F15: Limpieza y adecuación a cárcamo | G15: 1.2.49N | H15: LIMPIEZA Y ADECUACIÓN A CÁRCAMO (INCLUYE DESMONTE Y MONTAJE DE REJILLA, LIMPIEZA, RETIRO Y DISPOSICIÓN DE MATERIAL SOBRANTE, RESANE DE GRIETAS Y BORDE) | I15: M | J15: 8 | K15: 14628 | L15: =J15*K15 -> 117024 | M15: Media | N15: Incluye limpieza y resanes de bordes. | O15: sotano 2
A16: 13 | B16: Impermeabilización | C16: Sótano 1 | D16: Parqueaderos / vigas | E16: Halos de humedad y filtraciones en vigas | F16: Impermeabilización exterior estructuras de concreto enterradas / muros | G16: 11.1.2 | H16: IMPERMEABILIZACION EXTERIOR ESTRUCTURAS DE CONCRETO ENTERRADAS IGOL DENSO 2 MANOS | I16: M2 | J16: 60 | K16: 61267 | L16: =J16*K16 -> 3676020 | M16: Alta | N16: Aplicable a zonas localizadas de concreto expuesto con humedad. | O16: Daños sótano 1
A17: 14 | B17: Acabados | C17: Sótano 1 | D17: Oficinas sistemas y archivo | E17: Resane y pintura | F17: Estuco sobre pañete | G17: 17.1.1 | H17: SUMINISTRO E INSTALACION DE ESTUCO SOBRE PAÑETE | I17: M2 | J17: 75 | K17: 13767 | L17: =J17*K17 -> 1032525 | M17: Media | O17: Daños sótano 1
A18: 15 | B18: Pintura | C18: Sótano 1 | D18: Oficinas sistemas y archivo | E18: Resane y pintura | F18: Pintura vinilo tipo 1 en muros interiores | G18: 17.1.2 | H18: SUMINISTRO E INSTALACION DE PINTURA EN VINILO TIPO 1 MUROS INTERIORES 3 MANOS | I18: M2 | J18: 150 | K18: 19673 | L18: =J18*K18 -> 2950950 | M18: Media | O18: Daños sótano 1
A19: 16 | B19: Pintura | C19: Sótano 1 | D19: Placa / inicio rampa S-2 | E19: Humedad en techo por filtración de agua lluvia | F19: Vinilo bajo placa 2 manos | G19: 17.1.5 | H19: SUMINISTRO E INSTALACION DE VINILO BAJO PLACA - 2 MANOS | I19: M2 | J19: 80 | K19: 18685 | L19: =J19*K19 -> 1494800 | M19: Media | O19: Daños sótano 1
A20: 17 | B20: Impermeabilización | C20: Sótano 1 | D20: Fachadas interiores / intemperie | E20: Halos de humedad en superficie expuesta | F20: Limpieza e impermeabilización de fachadas con hidrofugado | G20: 20.1.7 | H20: LIMPIEZA E IMPERMEABILIZACION DE FACHADAS CON ACIDO MURIATICO E HIDROFUGADO CON SIKA IMPERMUR O SIMILAR | I20: M2 | J20: 45 | K20: 45408 | L20: =J20*K20 -> 2043360 | M20: Media | N20: Para muros expuestos a intemperie en acceso/parqueadero. | O20: Daños sótano 1
A21: 18 | B21: Cerramientos | C21: Sótano 1 | D21: Parqueadero | E21: Rotura material de cubrimiento PVC | F21: Reposición de cerramiento en lámina PVC | G21: NP-PVC-01 | H21: Ítem no previsto / actividad compuesta a cotizar | I21: UN | J21: 20 | K21: 0 | L21: =J21*K21 -> 0 | M21: Media | N21: Formular APU. | O21: Daños sótano 1
A22: 19 | B22: Hidrosanitario | C22: Sótano 1 | D22: Cajas / tapas / sifones | E22: Mantenimiento de cajas y cambio de rejilla | F22: Suministro e instalación rejilla sifón 20x20 | G22: 15.2.8 | H22: SUMINISTRO E INSTALACIÓN REJILLA SIFON 20 X 20 | I22: UN | J22: 3 | K22: 14172 | L22: =J22*K22 -> 42516 | M22: Media | O22: Daños sótano 1
A23: 20 | B23: Carpintería y herrajes | C23: Sótano 1 | D23: Puertas cuarto equipos / archivo | E23: Ajuste y mantenimiento de puertas | F23: Cerradura para oficina pomo entrada | G23: 18.1.3 | H23: SUMINISTRO E INSTALACION CERRADURA PARA OFICINA POMO ENTRADA REF. SATURNO DE SCHLAGE O EQUIVALENTE | I23: UN | J23: 2 | K23: 94986 | L23: =J23*K23 -> 189972 | M23: Media | N23: Se usa como ítem compatible para reposición de cerradura; ajustes menores requieren APU si no aplica. | O23: Daños sótano 1
A24: 21 | B24: Eléctrico | C24: Sótano 1 | D24: Puntos eléctricos | E24: Instalación de tapa ciega o toma | F24: Salida + tomacorriente doble monofásica | G24: 8.1.23 | H24: SALIDA + TOMACORRIENTE DOBLE MONOFASICA - INCLUYE CAJA, TUBERIA PVC DE 1/2", CONDUCTORES DE COBRE #12 AWG, LS ZH, APARATO ELECTRICO CORRESPONDIENTE Y DEMÁS ACCESORIOS NECESARIOS PARA SU CORRECTA INSTALACIÓN. SALIDA HASTA UNA DISTANCIA DE 3,00M | I24: UN | J24: 2 | K24: 130558 | L24: =J24*K24 -> 261116 | M24: Media | O24: Daños sótano 1
A25: 22 | B25: Vidrios | C25: Sótano 1 | D25: Zona ascensores | E25: Delaminación de vidrio / fisura horizontal | F25: Suministro e instalación vidrio templado incoloro 10 mm | G25: 18.3.3 | H25: SUMINISTRO E INSTALACION VIDRIO CRISTAL TEMPLADO INCOLORO - 10 MM | I25: M2 | J25: 3.5 | K25: 352091 | L25: =J25*K25 -> 1232318.5 | M25: Alta | N25: Verificar si corresponde vidrio laminado/templado según sistema existente. | O25: Daños sótano 1
A26: 23 | B26: Pisos y enchapes | C26: Piso 1 | D26: Sala de juntas | E26: Pérdida de boquilla en enchape | F26: Limpieza y reemboquille de enchape | G26: 1.2.58N | H26: LIMPIEZA Y REEMBOQUILLE DE ENCHAPE (Incluye Acido Nitrico, boquilla y todo lo requerido para su respectiva ejecucion) | I26: M2 | J26: 25 | K26: 20317 | L26: =J26*K26 -> 507925 | M26: Media | O26: PISO 1
A27: 24 | B27: Pintura | C27: Piso 1 | D27: Sala de juntas | E27: Cielo raso con suciedad/desgaste | F27: Vinilo bajo placa 2 manos | G27: 17.1.5 | H27: SUMINISTRO E INSTALACION DE VINILO BAJO PLACA - 2 MANOS | I27: M2 | J27: 20 | K27: 18685 | L27: =J27*K27 -> 373700 | M27: Media | O27: PISO 1
A28: 25 | B28: Eléctrico | C28: Piso 1 | D28: Sala de juntas | E28: Toma corriente deteriorada | F28: Salida + tomacorriente doble monofásica | G28: 8.1.23 | H28: SALIDA + TOMACORRIENTE DOBLE MONOFASICA - INCLUYE CAJA, TUBERIA PVC DE 1/2", CONDUCTORES DE COBRE #12 AWG, LS ZH, APARATO ELECTRICO CORRESPONDIENTE Y DEMÁS ACCESORIOS NECESARIOS PARA SU CORRECTA INSTALACIÓN. SALIDA HASTA UNA DISTANCIA DE 3,00M | I28: UN | J28: 2 | K28: 130558 | L28: =J28*K28 -> 261116 | M28: Alta | O28: PISO 1
A29: 26 | B29: Hidrosanitario | C29: Piso 1 | D29: Sala lactante | E29: Desagüe lavamanos y llave push | F29: Lavamanos de sobreponer incluye sifón y acople | G29: 15.1.12 | H29: SUMINISTRO, TRANSPORTE E INSTALACION DE LAVAMANOS DE SOBREPONER MARSELLA BLANCO TIPO CORONA Ó EQUIVALENTE. INCLUYE SIFON Y ACOPLE | I29: UN | J29: 1 | K29: 415619 | L29: =J29*K29 -> 415619 | M29: Media | N29: Verificar si solo requiere accesorios; el ítem incluye lavamanos completo. | O29: PISO 1
A30: 27 | B30: Pañetes y humedades | C30: Piso 1 | D30: CDI / recepción / escaleras | E30: Humedades en muros y zonas contiguas | F30: Pañete impermeabilizado sobre muros | G30: 9.1.2 | H30: PAÑETE IMPERMEABILIZADO S/MUROS 1:3. | I30: M2 | J30: 50 | K30: 36330 | L30: =J30*K30 -> 1816500 | M30: Alta | O30: PISO 1
A31: 28 | B31: Pintura | C31: Piso 1 | D31: CDI / recepción / escaleras | E31: Humedades y acabados deteriorados | F31: Pintura vinilo tipo 1 en muros interiores | G31: 17.1.2 | H31: SUMINISTRO E INSTALACION DE PINTURA EN VINILO TIPO 1 MUROS INTERIORES 3 MANOS | I31: M2 | J31: 120 | K31: 19673 | L31: =J31*K31 -> 2360760 | M31: Media | O31: PISO 1
A32: 29 | B32: Pisos y enchapes | C32: Piso 1 | D32: Escaleras / recepción | E32: Desprendimiento de granito | F32: Baldosín granito BH-5 33x33 | G32: 10.2.7 | H32: BALDOSIN GRANITO BH-5 DE 33X33 MORTERO 1:4 - (INCLUYE JUNTA DE DILATACION, DESTRONQUE, PULIDA Y BRILLADA) (SUMINISTRO E INSTALACIÓN) | I32: M2 | J32: 4 | K32: 197310 | L32: =J32*K32 -> 789240 | M32: Media | O32: PISO 1
A33: 30 | B33: Hidrosanitario | C33: Piso 1 | D33: Baños hombres/mujeres | E33: Rejillas faltantes o deterioradas | F33: Suministro e instalación rejilla ventilación 20x20 | G33: 15.2.11 | H33: SUMINISTRO E INSTALACIÓN REJILLA VENTILACION 20 X 20 | I33: UN | J33: 3 | K33: 21332 | L33: =J33*K33 -> 63996 | M33: Media | O33: PISO 1
A34: 31 | B34: Hidrosanitario | C34: Piso 1 | D34: Baños | E34: Rejillas de piso/desagüe | F34: Suministro e instalación rejilla sifón 20x20 | G34: 15.2.8 | H34: SUMINISTRO E INSTALACIÓN REJILLA SIFON 20 X 20 | I34: UN | J34: 2 | K34: 14172 | L34: =J34*K34 -> 28344 | M34: Media | O34: PISO 1
A35: 32 | B35: Vidrios | C35: Piso 1 | D35: Baños | E35: Divisiones y puerta en vidrio | F35: Vidrio templado incoloro 10 mm | G35: 18.3.3 | H35: SUMINISTRO E INSTALACION VIDRIO CRISTAL TEMPLADO INCOLORO - 10 MM | I35: M2 | J35: 6 | K35: 352091 | L35: =J35*K35 -> 2112546 | M35: Alta | N35: Incluye estimación de puerta/paños de baño; herrajes deben verificarse. | O35: PISO 1
A36: 33 | B36: Puertas y vidrios | C36: Piso 1 | D36: Recepción | E36: Puerta de vidrio faltante en acceso | F36: Puerta y marco en aluminio + vidrio templado 5 mm | G36: 12.1.8 | H36: PUERTA Y MARCO EN ALUMINIO ANODIZADO SERIE 3831/5020 - COLOR MATE NATURAL + VIDRIO CRISTAL TEMPLADO INCOLORO 5 MM (SUMINISTRO E INSTALACIÓN) | I36: M2 | J36: 3.2 | K36: 998477 | L36: =J36*K36 -> 3195126.4 | M36: Alta | O36: PISO 1
A37: 35 | B37: Carpintería metálica | C37: Piso 1 | D37: Auditorio / cuarto UPS | E37: Puerta metálica requerida | F37: Puerta lámina sencilla cold rolled C18 | G37: 12.2.11N | H37: SUMINISTRO E INSTALACIÓN DE PUERTA EN LÁMINA SENCILLA COLD ROLLED C18 INCLUYE MARCO EN LAMINA GALVANIZADA C18 (ANTICORROSIVO Y PINTURA EN ESMALTE A DOS MANOS, INCLUYE ANCLAJES, BISAGRAS Y CERRADURA DE PASADOR) | I37: M2 | J37: 2.1 | K37: 616222 | L37: =J37*K37 -> 1294066.2 | M37: Alta | O37: PISO 1
A38: 36 | B38: Seguridad | C38: Piso 1 | D38: Escaleras | E38: Falta cintas antideslizantes y reflectivas | F38: Cinta antideslizante pisos ancho 5 cm | G38: 10.2.19 | H38: SUMINISTRO E INSTALACION DE CINTA ANTIDESLIZANTE PISOS ANCHO 5 CMS INCLUYE MATERIALES Y MANO DE OBRA | I38: M | J38: 35 | K38: 15811 | L38: =J38*K38 -> 553385 | M38: Alta | O38: PISO 1
A39: 37 | B39: Eléctrico | C39: Piso 1 | D39: Recepción | E39: Canaleta/toma corriente deteriorada | F39: Canaleta plástica 20x5 cm | G39: 8.2.8 | H39: SUMINISTRO, TRANSPORTE E INSTALACIÓN DE CANALETA PLASTICA (20 X 5) CM CON DIVISIÓN. INCLUYE: PINTURA ELECTROSTATICA, PUESTA A TIERRA, TAPA TORNILLO, ELEMENTOS DE FIJACIÓN EN PARED Y DEMÁS ACCESORIOS PARA SU CORRECTA INSTALACIÓN | I39: M | J39: 10 | K39: 21734 | L39: =J39*K39 -> 217340 | M39: Media | O39: PISO 1
A40: 39 | B40: Vidrios | C40: Piso 2 | D40: Vano esquinero diagonal ascensores | E40: Delaminación/fisura vidrio | F40: Vidrio de seguridad laminado 3+3 | G40: 18.3.4 | H40: SUMINISTRO E INSTALACION DE VIDRIO DE SEGURIDAD LAMINADO 3+3 | I40: M2 | J40: 3 | K40: 213331 | L40: =J40*K40 -> 639993 | M40: Alta | O40: PATOLOGIAS PISO 2
A41: 40 | B41: Eléctrico | C41: Piso 2 | D41: Pasillo acceso | E41: Sensor desprendido | F41: Salida eléctrica para sensor de presencia 360° | G41: 8.1.32N | H41: SUMINISTRO, TRANSPORTE E INSTALACIÓN DE SALIDA ELÉCTRICA PARA SENSOR DE PRESENCIA 360°, 1000W, 360º, 120V. INCLUYE: SENSOR 360° , TUBERÍA EMT Ø3/4", CAJA METÁLICA 12X12X5, CONDUCTORES #12 AWG, PE, HF, FR, LS, CT Y DEMÁS ACCESORIOS NECESARIOS PARA SU CORRECTA INSTALACIÓN. (SALIDA PROMEDIO HASTA 3M) | I41: UN | J41: 1 | K41: 184397 | L41: =J41*K41 -> 184397 | M41: Media | O41: PATOLOGIAS PISO 2
...

Sheet Resumen
A1: RESUMEN DEL PRESUPUESTO PRELIMINAR
A3: Total estimado con ítems valorados | B3: =+SUM(TablaConsolidadoItems[Valor parcial]) -> 1.959572e+08
A4: Cantidad de líneas presupuestales | B4: 107
A5: Líneas con precio del listado | B5: 90
A6: Líneas como ítem no previsto / APU | B6: 17
A8: Capítulo | B8: Valor estimado | C8: Participación
A9: Impermeabilización cubierta | B9: 24283640 | C9: 0.15945032
A10: Impermeabilización tanques | B10: 23638800 | C10: 0.1552162
A11: Pintura | B11: 22018505 | C11: 0.14457708
A12: Vidrios | B12: 14565152 | C12: 0.095637157
A13: Seguridad | B13: 11346951 | C13: 0.074505923
A14: Eléctrico | B14: 11264899 | C14: 0.073967156
A15: Pañetes y humedades | B15: 11080650 | C15: 0.072757348
A16: Puertas y vidrios | B16: 5990862 | C16: 0.039336973
A17: Impermeabilización | B17: 5719380 | C17: 0.037554378
A18: Cielorrasos | B18: 3801610 | C18: 0.024961989
A19: Baños | B19: 3248308 | C19: 0.021328918
A20: Pintura especial | B20: 2646930 | C20: 0.017380172
... A32: Mobiliario | B32: 0 | C32: 0
A34: Piso / nivel | B34: Valor estimado | C34: Participación
A35: Piso 1 | B35: 13989664 | C35: 0.091858403
A36: Piso 2 | B36: 10475383 | C36: 0.068783064
A37: Piso 3 | B37: 7694080 | C37: 0.050520579
A38: Piso 4 | B38: 3408807 | C38: 0.02238278
A39: Piso 5 | B39: 18026315 | C39: 0.11836371
A40: Piso 6 | B40: 19009222 | C40: 0.12481764
A41: Piso 7 | B41: 36679268 | C41: 0.24084203
A42: Sótano 1 | B42: 12923578 | C42: 0.084858309
A43: Sótano 2 | B43: 30089643 | C43: 0.19757348

Sheet Supuestos
A1: Criterio | B1: Detalle
A2: Base de precios | B2: Listado de Precios Tope Dpto Vigencia 2026.xlsx, columna BOGOTÁ.
A3: Alcance | B3: Mantenimiento locativo integral desde sótano 2 hasta piso 7, incluyendo impermeabilización de dos tanques de agua potable.
A4: Cantidades | B4: Estimadas por afectación a partir de informes y registro fotográfico. Deben verificarse en visita técnica, medición directa y planos.
A5: Ítems no previstos | B5: Se marcaron con prefijo NP cuando el listado no tenía un ítem directo; se recomienda formular APU o solicitar cotización.
A6: Impermeabilización de tanques | B6: Se estimó 120 m² en total para dos tanques. Ajustar con dimensiones internas, accesos, juntas, pases y esquinas.
A7: Cubierta y lucernario | B7: Se incluyó mantenimiento de impermeabilización y reemplazo de vidrios; debe validarse espesores y sistema de seguridad del vidrio.
A8: Eléctricos | B8: Las líneas de tomas, luminarias y sensores deben ser revisadas por personal competente y ajustadas a RETIE/NTC aplicable.
A9: Hidrosanitarios | B9: Cuando el listado incluye aparatos completos, se dejó observación para confirmar si basta cambio de accesorio menor.
A10: No incluidos | B10: AIU, IVA cuando aplique, administración, interventoría, diseños especializados, permisos, contingencias y costos indirectos no se adicionaron en el total.

Sheet Ítems usados
A1: Ítem | B1: Descripción | C1: UN | D1: PU Bogotá 2026 | E1: Tipo
A2: 11.1.7 | B2: IMPERMEABILIZACION INTERIOR PARA TANQUES DE CONCRETO MEMBRANA PVC SIKAPLAN 12 NTR O EQUIVALENTE. INCLUYE REMATES | C2: M2 | D2: 196990 | E2: Listado 2026
A3: NP-TAN-01 | B3: Ítem no previsto / actividad compuesta a cotizar | C3: UN | D3: 0 | E3: NP/APU
A4: NP-TAN-02 | B4: Ítem no previsto / actividad compuesta a cotizar | C4: UN | D4: 0 | E4: NP/APU
A5: 1.2.39N | B5: DEMOLICIÓN DE PAÑETE DE MUROS (INC CARGUE, RETIRO Y DISPOSICION FINAL A SITIOS AUTORIZADOS) | C5: M2 | D5: 14647 | E5: Listado 2026
A6: 9.1.2 | B6: PAÑETE IMPERMEABILIZADO S/MUROS 1:3. | C6: M2 | D6: 36330 | E6: Listado 2026
A7: 17.1.1 | B7: SUMINISTRO E INSTALACION DE ESTUCO SOBRE PAÑETE | C7: M2 | D7: 13767 | E7: Listado 2026
A8: 17.1.2 | B8: SUMINISTRO E INSTALACION DE PINTURA EN VINILO TIPO 1 MUROS INTERIORES 3 MANOS | C8: M2 | D8: 19673 | E8: Listado 2026
A9: 17.3.7 | B9: SUMINISTRO E INSTALACION DE PINTURA EPOXICA PARA PISOS, MUROS Y TECHOS INCLUYE PREPARACION DE SUPERFICIE Y PRIMER DE ADHERENCIA | C9: M2 | D9: 24063 | E9: Listado 2026
A10: NP-PVC-01 | B10: Ítem no previsto / actividad compuesta a cotizar | C10: UN | D10: 0 | E10: NP/APU
A11: 15.2.8 | B11: SUMINISTRO E INSTALACIÓN REJILLA SIFON 20 X 20 | C11: UN | D11: 14172 | E11: Listado 2026
A12: 1.2.49N | B12: LIMPIEZA Y ADECUACIÓN A CÁRCAMO (INCLUYE DESMONTE Y MONTAJE DE REJILLA, LIMPIEZA, RETIRO Y DISPOSICIÓN DE MATERIAL SOBRANTE, RESANE DE GRIETAS Y BORDE) | C12: M | D12: 14628 | E12: Listado 2026
A13: 11.1.2 | B13: IMPERMEABILIZACION EXTERIOR ESTRUCTURAS DE CONCRETO ENTERRADAS IGOL DENSO 2 MANOS | C13: M2 | D13: 61267 | E13: Listado 2026
... A55: 11.1.3 | B55: IMPERMEABILIZACION CANALES MANTO ASFALTICO Y FOIL ALUMINIO | C55: M2 | D55: 97100 | E55: Listado 2026

Sheet Detalle consolidación
A1: DETALLE DE AFECTACIONES AGRUPADAS EN EL PRESUPUESTO CONSOLIDADO
A3: No. | B3: Capítulo | C3: Piso | D3: Ubicación | E3: Patología / hallazgo | F3: Actividad presupuestada | G3: Ítem | H3: Descripción ítem listado | I3: UN | J3: Cantidad est. | K3: PU Bogotá 2026 | L3: Valor parcial | M3: Prioridad | N3: Observación técnica | O3: Fuente | P3: Clave consolidación
A4: 1 | B4: Impermeabilización tanques | C4: Sótano 2 | D4: Tanques de agua potable / archivo | E4: Filtración recurrente desde tanque, inundación de archivo | F4: Impermeabilización interior de dos tanques de concreto para agua potable | G4: 11.1.7 | H4: IMPERMEABILIZACION INTERIOR PARA TANQUES DE CONCRETO MEMBRANA PVC SIKAPLAN 12 NTR O EQUIVALENTE. INCLUYE REMATES | I4: M2 | J4: 120 | K4: 196990 | L4: 23638800 | M4: Alta | N4: Cantidad estimada 60 m² por tanque; verificar dimensiones reales y estado de juntas. | O4: Informe Sótano 2 / sotano 2 | P4: 11.1.7 | M2 | 196990
A5: 2 | B5: Impermeabilización tanques | C5: Sótano 2 | D5: Tanques / muro contiguo | E5: Orificio de filtración y discontinuidad en muro | F5: Sellado hidráulico y reparación puntual de fuga en tanque/muro | G5: NP-TAN-01 | H5: Ítem no previsto / actividad compuesta a cotizar | I5: UN | J5: 2 | K5: 0 | L5: 0 | M5: Alta | N5: Actividad especializada no identificada con ítem directo; requiere APU y prueba de estanqueidad. | O5: Informe Sótano 2 | P5: NP-TAN-01 | UN | 0
A6: 3 | B6: Impermeabilización tanques | C6: Sótano 2 | D6: Tanques | E6: Validación posterior a reparación | F6: Pruebas de estanqueidad de tanques | G6: NP-TAN-02 | H6: Ítem no previsto / actividad compuesta a cotizar | I6: UN | J6: 2 | K6: 0 | L6: 0 | M6: Alta | N6: Ensayo por tanque posterior a impermeabilización; actividad no listada. | O6: Informe Sótano 2 | P6: NP-TAN-02 | UN | 0
A7: 4 | B7: Demoliciones | C7: Sótano 2 | D7: Archivo institucional | E7: Pañetes afectados por humedad e inundación | F7: Demolición de pañete deteriorado en muros | G7: 1.2.39N | H7: DEMOLICIÓN DE PAÑETE DE MUROS (INC CARGUE, RETIRO Y DISPOSICION FINAL A SITIOS AUTORIZADOS) | I7: M2 | J7: 25 | K7: 14647 | L7: 366175 | M7: Alta | N7: Incluye zonas inferiores de muros con desprendimiento. | O7: Informe Sótano 2 | P7: 1.2.39N | M2 | 14647
A8: 5 | B8: Pañetes y humedades | C8: Sótano 2 | D8: Archivo institucional | E8: Muros con humedad ascendente | F8: Pañete impermeabilizado sobre muros | G8: 9.1.2 | H8: PAÑETE IMPERMEABILIZADO S/MUROS 1:3. | I8: M2 | J8: 40 | K8: 36330 | L8: 1453200 | M8: Alta | N8: Franja inferior y zonas adyacentes a tanques. | O8: Informe Sótano 2 | P8: 9.1.2 | M2 | 36330
A9: 6 | B9: Acabados | C9: Sótano 2 | D9: Archivo institucional | E9: Muros deteriorados por humedad | F9: Estuco sobre pañete | G9: 17.1.1 | H9: SUMINISTRO E INSTALACION DE ESTUCO SOBRE PAÑETE | I9: M2 | J9: 40 | K9: 13767 | L9: 550680 | M9: Media | O9: sotano 2 | P9: 17.1.1 | M2 | 13767
A10: 7 | B10: Pintura | C10: Sótano 2 | D10: Archivo institucional | E10: Muros deteriorados por humedad | F10: Pintura vinilo tipo 1 en muros interiores | G10: 17.1.2 | H10: SUMINISTRO E INSTALACION DE PINTURA EN VINILO TIPO 1 MUROS INTERIORES 3 MANOS | I10: M2 | J10: 85 | K10: 19673 | L10: 1672205 | M10: Media | O10: sotano 2 | P10: 17.1.2 | M2 | 19673
A11: 8 | B11: Pisos y pintura especial | C11: Sótano 2 | D11: Archivo institucional | E11: Piso afectado por inundación | F11: Pintura epóxica para pisos, muros y techos | G11: 17.3.7 | H11: SUMINISTRO E INSTALACION DE PINTURA EPOXICA PARA PISOS, MUROS Y TECHOS INCLUYE PREPARACION DE SUPERFICIE Y PRIMER DE ADHERENCIA | I11: M2 | J11: 45 | K11: 24063 | L11: 1082835 | M11: Media | N11: Se estima recuperación de área afectada por humedad sobre acabado de piso. | O11: Informe Sótano 2 | P11: 17.3.7 | M2 | 24063
A12: 9 | B12: Cerramientos | C12: Sótano 2 | D12: Parqueadero | E12: Láminas de PVC rotas en cerramiento | F12: Reposición de cerramiento en lámina PVC | G12: NP-PVC-01 | H12: Ítem no previsto / actividad compuesta a cotizar | I12: UN | J12: 12 | K12: 0 | L12: 0 | M12: Media | N12: No se identificó ítem directo para cerramiento en lámina PVC; formular APU. | O12: sotano 2 | P12: NP-PVC-01 | UN | 0
A13: 10 | B13: Hidrosanitario | C13: Sótano 2 | D13: Cuarto de máquinas | E13: Tapas de cámaras de desagüe deterioradas | F13: Suministro e instalación rejilla sifón 20x20 | G13: 15.2.8 | H13: SUMINISTRO E INSTALACIÓN REJILLA SIFON 20 X 20 | I13: UN | J13: 2 | K13: 14172 | L13: 28344 | M13: Alta | N13: Se asimila a tapa/rejilla de cámara menor; verificar dimensiones. | O13: sotano 2 | P13: 15.2.8 | UN | 14172
A14: 11 | B14: Pintura | C14: Sótano 2 | D14: Cuarto de máquinas | E14: Humedad en muros técnicos | F14: Pintura vinilo tipo 1 en muros interiores | G14: 17.1.2 | H14: SUMINISTRO E INSTALACION DE PINTURA EN VINILO TIPO 1 MUROS INTERIORES 3 MANOS | I14: M2 | J14: 60 | K14: 19673 | L14: 1180380 | M14: Media | O14: sotano 2 | P14: 17.1.2 | M2 | 19673
A15: 12 | B15: Hidrosanitario | C15: Sótano 2 | D15: Cuarto de máquinas | E15: Cámaras y drenajes requieren mantenimiento | F15: Limpieza y adecuación a cárcamo | G15: 1.2.49N | H15: LIMPIEZA Y ADECUACIÓN A CÁRCAMO (INCLUYE DESMONTE Y MONTAJE DE REJILLA, LIMPIEZA, RETIRO Y DISPOSICIÓN DE MATERIAL SOBRANTE, RESANE DE GRIETAS Y BORDE) | I15: M | J15: 8 | K15: 14628 | L15: 117024 | M15: Media | N15: Incluye limpieza y resanes de bordes. | O15: sotano 2 | P15: 1.2.49N | M | 14628
A16: 13 | B16: Impermeabilización | C16: Sótano 1 | D16: Parqueaderos / vigas | E16: Halos de humedad y filtraciones en vigas | F16: Impermeabilización exterior estructuras de concreto enterradas / muros | G16: 11.1.2 | H16: IMPERMEABILIZACION EXTERIOR ESTRUCTURAS DE CONCRETO ENTERRADAS IGOL DENSO 2 MANOS | I16: M2 | J16: 60 | K16: 61267 | L16: 3676020 | M16: Alta | N16: Aplicable a zonas localizadas de concreto expuesto con humedad. | O16: Daños sótano 1 | P16: 11.1.2 | M2 | 61267
A17: 14 | B17: Acabados | C17: Sótano 1 | D17: Oficinas sistemas y archivo | E17: Resane y pintura | F17: Estuco sobre pañete | G17: 17.1.1 | H17: SUMINISTRO E INSTALACION DE ESTUCO SOBRE PAÑETE | I17: M2 | J17: 75 | K17: 13767 | L17: 1032525 | M17: Media | O17: Daños sótano 1 | P17: 17.1.1 | M2 | 13767
A18: 15 | B18: Pintura | C18: Sótano 1 | D18: Oficinas sistemas y archivo | E18: Resane y pintura | F18: Pintura vinilo tipo 1 en muros interiores | G18: 17.1.2 | H18: SUMINISTRO E INSTALACION DE PINTURA EN VINILO TIPO 1 MUROS INTERIORES 3 MANOS | I18: M2 | J18: 150 | K18: 19673 | L18: 2950950 | M18: Media | O18: Daños sótano 1 | P18: 17.1.2 | M2 | 19673
A19: 16 | B19: Pintura | C19: Sótano 1 | D19: Placa / inicio rampa S-2 | E19: Humedad en techo por filtración de agua lluvia | F19: Vinilo bajo placa 2 manos | G19: 17.1.5 | H19: SUMINISTRO E INSTALACION DE VINILO BAJO PLACA - 2 MANOS | I19: M2 | J19: 80 | K19: 18685 | L19: 1494800 | M19: Media | O19: Daños sótano 1 | P19: 17.1.5 | M2 | 18685
A20: 17 | B20: Impermeabilización | C20: Sótano 1 | D20: Fachadas interiores / intemperie | E20: Halos de humedad en superficie expuesta | F20: Limpieza e impermeabilización de fachadas con hidrofugado | G20: 20.1.7 | H20: LIMPIEZA E IMPERMEABILIZACION DE FACHADAS CON ACIDO MURIATICO E HIDROFUGADO CON SIKA IMPERMUR O SIMILAR | I20: M2 | J20: 45 | K20: 45408 | L20: 2043360 | M20: Media | N20: Para muros expuestos a intemperie en acceso/parqueadero. | O20: Daños sótano 1 | P20: 20.1.7 | M2 | 45408
A21: 18 | B21: Cerramientos | C21: Sótano 1 | D21: Parqueadero | E21: Rotura material de cubrimiento PVC | F21: Reposición de cerramiento en lámina PVC | G21: NP-PVC-01 | H21: Ítem no previsto / actividad compuesta a cotizar | I21: UN | J21: 20 | K21: 0 | L21: 0 | M21: Media | N21: Formular APU. | O21: Daños sótano 1 | P21: NP-PVC-01 | UN | 0
