Workbook
Name \0: #REF!
Name \00: #REF!
Name \a: #REF!
Name \a: #REF!
Name \AA: [1]LIQUIDACION!#REF!
Name \b: [2]STRSUMM0!#REF!
Name \bb: [2]STRSUMM0!#REF!
Name \E: #REF!
Name \EE: #REF!
Name \G: #REF!
Name \k: '[3]7422CW00'!#REF!
Name \l: [4]STRSUMM0!#REF!
Name \M: #REF!
Name \ñ: '[5]7422CW00'!#REF!
Name \P: #REF!
Name \R: #REF!
Name \s: #REF!
Name \s: #REF!
Name \V: #REF!
Name \X: 'INDICAR CÓDIGO DEL ITEM DE PAGO'!ERR
Name \X: [0]!ERR
Name \Z: 'INDICAR CÓDIGO DEL ITEM DE PAGO'!ERR
Name \Z: [0]!ERR
Name _________AFC1: [6]INV!$A$25:$D$28
Name _________AFC3: [6]INV!$F$25:$I$28
Name _________AFC5: [6]INV!$K$25:$N$28
Name _________BGC1: [6]INV!$A$5:$D$8
Name _________BGC3: [6]INV!$F$5:$I$8
Name _________BGC5: [6]INV!$K$5:$N$8
Name _________CAC1: [6]INV!$A$19:$D$22
Name _________CAC3: [6]INV!$F$19:$I$22
Name _________CAC5: [6]INV!$K$19:$N$22
Name _________PJ50: #REF!
Name _________PJ50: #REF!
Name _________SBC1: [6]INV!$A$12:$D$15
Name _________SBC3: [6]INV!$F$12:$I$15
Name _________SBC5: [6]INV!$K$12:$N$15
Name ________AFC1: [6]INV!$A$25:$D$28
Name ________AFC3: [6]INV!$F$25:$I$28
Name ________AFC5: [6]INV!$K$25:$N$28
Name ________BGC1: [6]INV!$A$5:$D$8
Name ________BGC3: [6]INV!$F$5:$I$8
Name ________BGC5: [6]INV!$K$5:$N$8
Name ________CAC1: [6]INV!$A$19:$D$22
Name ________CAC3: [6]INV!$F$19:$I$22
Name ________CAC5: [6]INV!$K$19:$N$22
Name ________MA2: #REF!
Name ________MA2: #REF!
Name ________PJ50: #REF!
Name ________PJ50: #REF!
Name ________SBC1: [6]INV!$A$12:$D$15
Name ________SBC3: [6]INV!$F$12:$I$15
Name ________SBC5: [6]INV!$K$12:$N$15
Name _______AFC1: [6]INV!$A$25:$D$28
Name _______AFC3: [6]INV!$F$25:$I$28
Name _______AFC5: [6]INV!$K$25:$N$28
Name _______BGC1: [6]INV!$A$5:$D$8
Name _______BGC3: [6]INV!$F$5:$I$8
Name _______BGC5: [6]INV!$K$5:$N$8
Name _______CAC1: [6]INV!$A$19:$D$22

Sheet PRESUPUESTO OFICIAL(Entidad)
B1: Formulario 1 - Propuesta económica - Documento tipo de selección abreviada de menor cuantía - versión 1
B2: Versión: 1 del 21 de agosto de 2025
G3: CASA DE LA CULTURA Y BIBLIOTECA MUNICIPAL
C5: FORMULARIO 1
C6: PROPUESTA ECONOMICA
C7: [La entidad puede utilizar este formulario de presentación de propuesta económica de forma detallada, sin perjuicio que la entidad pueda modificarlo o establecer la presentación de la oferta económica con un formulario distinto al indicado.] [Los proponentes emplearán el formulario establecido por la entidad para determinar su propuesta económica conforme al Formulario 1 - Presupuesto Oficial publicado por la Entidad] [En caso de modificar el formulario, es importante tener en cuenta que no se deben incluir causales de rechazo, reglas o parámetros contrarios a los definidos en el documento base. Los términos del proceso solo se encuentran en el Documento Base, por lo que la Entidad no deberá incluir ningún tipo de notas que se configuren en reglas contrarias a las definidas en dicho documento, las notas únicamente pueden ser aclaratorias para efectos del diligenciamiento del formato]
C9: Cuando el proceso de contratación es estructurado por precios unitarios, la Entidad debe aplicar las notas 1, 2 y 3 del presente formato y las casillas de "Descripción", "Porcentaje" de la Administración, Imprevisto, Utilidad y total A.I.U. resaltadas en color amarillo.
B10: 1 | C10: CASA DE LA CULTURA PALESTINA, CALDAS.
C11: Nº | D11: ITEM DE PAGO | E11: ESPECIFICACIONES | G11: DESCRIPCION | H11: UND. | I11: CANTIDAD | J11: VALOR UNITARIO | K11: VALOR TOTAL
E12: GENERAL | F12: PARTICULAR
C13: 1 | G13: CUBIERTA
C14: 1.1 | G14: =[115]A.P.U!$C$21141 -> RECORRIDO DE CUBIERTA EN TEJA DE BARRO | H14: M2 | I14: 225.3 | J14: ='INDICAR CÓDIGO DEL ITEM DE PAGO'!O67 -> 36450.071 | K14: =J14*I14 -> 8212201 | N14: =I14*'INDICAR CÓDIGO DEL ITEM DE PAGO'!O59 -> 5078036.7
C15: 1.2 | G15: ='[116]PRESUPUESTO OFICIAL(Entidad)'!$G$14 -> RECORRIDO DE CUBIERTA EN FIBROCEMENTO INCLUYE GANCHOS Y AMARRAS | H15: M2 | I15: 162.2 | J15: ='INDICAR CÓDIGO DEL ITEM DE PAGO'!O400 -> 37985.602 | K15: =J15*I15 -> 6161264.7 | N15: =I15*'INDICAR CÓDIGO DEL ITEM DE PAGO'!O392 -> 3809834.7
C16: 1.3 | G16: =[115]A.P.U!$C$20453 -> DESMONTE CIELO RASO (INCLUYE RETIRO) | H16: M2 | I16: 34.2 | J16: ='INDICAR CÓDIGO DEL ITEM DE PAGO'!O164 -> 31765.582 | K16: =J16*I16 -> 1086382.9 | N16: =I16*'INDICAR CÓDIGO DEL ITEM DE PAGO'!O156 -> 671767.82
C17: Subtotal | K17: =K14+K16+K15 -> 15459849
C18: 2 | G18: ACABADOS
C19: 2.1 | G19: =[115]A.P.U!$C$11506 -> SUMINISTRO, TRANSPORTE E INSTALACION DE MOLDURA EN MADERA CHOIBÁ DE 8CM PARA CIELO RASOS | H19: ML | I19: 31.4 | J19: ='INDICAR CÓDIGO DEL ITEM DE PAGO'!O117 -> 20322.357 | K19: =J19*I19 -> 638122 | N19: =I19*'INDICAR CÓDIGO DEL ITEM DE PAGO'!O109 -> 394584.47
C20: 2.2 | G20: =[115]A.P.U!$C$2844 -> SUMINISTRO E INSTALACIÓN COLUMNA EN MADERA CHANUL 20 X 20 CM X 3 M | H20: ML | I20: 11.31 | J20: ='INDICAR CÓDIGO DEL ITEM DE PAGO'!O354 -> 501657.06 | K20: =J20*I20 -> 5673741.3 | N20: =I20*'INDICAR CÓDIGO DEL ITEM DE PAGO'!O346 -> 3508373.3
C21: 2.3 | G21: =[115]A.P.U!$C$10827 -> SUMINISTRO,TRANSPORTE E INSTALACION REVOQUE LISO MUROS 1:3 INTERIOR ( INCLUYE FILOS Y DILATACIONES ) | H21: M2 | I21: 10.7 | J21: ='INDICAR CÓDIGO DEL ITEM DE PAGO'!O258 -> 61655.75 | K21: =J21*I21 -> 659716.52 | N21: =I21*'INDICAR CÓDIGO DEL ITEM DE PAGO'!O250 -> 407937.5
C22: 2.4 | G22: =[115]A.P.U!$C$14343 -> SUMINISTRO, TRANSPORTE E INSTALACION ESTUCO Y VINILO 3 MANOS SOBRE MURO EXTERIOR (INCLUYE ESTUCO, 1 MANO EN PINTURA TIPO 2 Y DOS MANOS EN PINTURA TIPO 1, FILOS Y DILATACIONES). COLOR SEGÚN DISEÑO POR M2 | H22: M2 | I22: 10.7 | J22: ='INDICAR CÓDIGO DEL ITEM DE PAGO'!O211 -> 50833.098 | K22: =J22*I22 -> 543914.15 | N22: =I22*'INDICAR CÓDIGO DEL ITEM DE PAGO'!O203 -> 336330.79
C23: Subtotal | K23: =K22+K19+K21+K20 -> 7515494
C24: 3 | G24: OTROS
C25: 3.1 | G25: ASEO GENERAL | H25: M2 | I25: 45.06 | J25: ='INDICAR CÓDIGO DEL ITEM DE PAGO'!O305 -> 7824.0136 | K25: =J25*I25 -> 352550.05 | N25: =I25*'INDICAR CÓDIGO DEL ITEM DE PAGO'!O297 -> 218000.28
C26: Subtotal | K26: =K25 -> 352550.05
C27: TOTAL | K27: =K26+K23+K17 -> 23327893 | N27: =N14+N16+N19+N20+N21+N22+N25+N15 -> 14424866
G28: VALOR TOTAL
J30: COSTO DIRECTO | K30: =N27 -> 14424866
G33: SUBTOTAL OBRAS (INCLUYE IVA)
I35: 0.5672 | J35: ADMINISTRACIÓN | K35: =K30*I35 -> 8181783.7
I36: 0.05 | J36: UTILIDAD | K36: =K30*I36 -> 721243.28
G37: VALOR TOTAL | I37: =I35+I36 -> 0.6172 | K37: =K30+K35+K36 -> 23327893
C41: NOTA 1: Se debe tener en cuenta que el PRECIO UNITARIO incluye el valor de A.I.U. | H41: DESCRIPCION | K41: PORCENTAJE
C42: NOTA 2: Cuando la fracción decimal del peso sea igual o superior a 5 se aproximara por exceso al número entero siguiente del peso y cuando la fracción decimal del peso sea inferior a 5 se aproximará por defecto al número entero del peso. | H42: ADMINISTRACION | J42: A= | K42: =I35 -> 0.5672
C43: NOTA 3: El A.I.U y su discriminación deben estar en porcentaje (%). | H43: IMPREVISTO | J43: I= | K43: 0
H44: UTILIDAD | J44: U= | K44: 0.05
H45: TOTAL A.I.U | J45: A.I.U.= | K45: =K42+K43+K44 -> 0.6172
G48: Firma del Proponente o de su Representante Legal

Sheet PROPUESTA ECONOMICA(Proponente)
B1: Formulario 1 - Propuesta económica - Documento tipo de selección abreviada de menor cuantía - versión 1
B2: Versión: 1 del 21 de agosto de 2025
C5: FORMULARIO 1
C6: PRESUPUESTO OFICIAL
C7: [La entidad puede utilizar este formulario de detalle del presupuesto oficial para determinar las condiciones bajo las cuales los proponentes analizarán y presentarán su propuesta económica de forma detallada, sin perjuicio que la entidad pueda modificarlo o establecer la presentación de la oferta económica con un formulario distinto al indicado.]
C9: Adicionalmente, cuando el proceso de contratación es estructurado por precios unitarios, la Entidad debe aplicar las notas 1, 2 y 3 del presente formulario y las casillas de "Descripción", "Porcentaje" de la Administración, Imprevisto, Utilidad y total A.I.U. resaltadas en colo amarillo. Tratándose de otras modalidades de precio, la Entidad puede o no configurar los mismos aspectos.
C11: Nº | D11: ITEM DE PAGO | E11: ESPECIFICACIONES | G11: DESCRIPCION | H11: UND. | I11: CANTIDAD | J11: VALOR UNITARIO | K11: VALOR TOTAL
E12: GENERAL | F12: PARTICULAR
C15: Subtotal
C21: Subtotal
C31: Subtotal
C36: Subtotal
C39: Subtotal
C40: SUBTOTAL OBRAS
C44: NOTA 1: Se debe tener en cuenta que el PRECIO UNITARIO incluye el valor de A.I.U. | H44: DESCRIPCION | K44: PORCENTAJE
C45: NOTA 2: Cuando la fracción decimal del peso sea igual o superior a 5 se aproximara por exceso al número entero siguiente del peso y cuando la fracción decimal del peso sea inferior a 5 se aproximará por defecto al número entero del peso. | H45: ADMINISTRACION | J45: A= | K45: [Determinar por la Entidad]
C46: NOTA 3: El A.I.U y su discriminación deben estar en porcentaje (%). | H46: IMPREVISTO | J46: I= | K46: [Determinar por la Entidad]
H47: UTILIDAD | J47: U= | K47: [Determinar por la Entidad]
H48: TOTAL A.I.U | J48: A.I.U.= | K48: [Determinar por la Entidad]

Sheet INDICAR CÓDIGO DEL ITEM DE PAGO
B1: Formulario 1 - Propuesta económica - Documento tipo de selección abreviada de menor cuantía
B2: Versión: 1 del 21 de agosto de 2025
C5: Formulario 1 - Propuesta económica - Documento tipo de selección abreviada de menor cuantía - versión 3
C6: Código | D6: CCE-EICP-FM-25 | E6: Versión | F6: 3
C8: [La entidad podrá utilizar este formato para la presentación de los análisis de precios unitarios el contratista en la oportunidad prevista en el numeral 8.1. del Documento Base]
D11: ALCALDIA DE PALESTINA
L12: VERSIÓN
D13: CASA DE LA CULTURA Y BIBLIOTECA MUNICIPAL
L14: PÁGINA | M14: 1 | N14: DE | O14: 1
D16: ANALISIS DE PRECIOS UNITARIOS
L18: FECHA | M18: DD | N18: MM | O18: AA
C20: ITEMS DE LA PROPUESTA ECONÓMICA
C23: ITEM | D23: DESCRIPCIÓN | M23: UNIDAD | O23: CANTIDAD
D24: =[115]A.P.U!$C$21141 -> RECORRIDO DE CUBIERTA EN TEJA DE BARRO | M24: m2
C25: I. EQUIPO
C28: DESCRIPCIÓN | H28: MARCA | J28: TIPO | L28: TARIFA/HORA | M28: RENDIMIENTO | O28: Vr. UNITARIO
C29: EQUIPO BASICO (HERRAMIENTA MENOR) | L29: 0.5 | M29: 3623 | N29: 1812 | O29: =+M29*L29 -> 1811.5
C30: ACARREO INTERNO | L30: 0.5 | M30: 1897 | N30: 949 | O30: =+M30*L30 -> 948.5
C32: SUBTOTAL $ | O32: =+O29+O30 -> 2760
C33: II. MATERIALES
C36: DESCRIPCIÓN | K36: UNIDAD | L36: CANTIDAD | M36: PRECIO UNIT. | O36: Vr. UNITARIO
C41: SUBTOTAL $ | O41: =+O40+O39+O38+O37 -> 0
C42: III. TRANSPORTES
C45: MATERIAL | J45: VOL. o PESO | K45: DISTANCIA | L45: M3 o Ton/Km | M45: TARIFA | O45: Vr. UNITARIO
C48: SUBTOTAL $
C49: IV. MANO DE OBRA
C52: TRABAJADOR | J52: JORNAL | K52: PRESTACIONES | L52: JORNAL TOTAL | M52: RENDIMIENTO | O52: Vr. UNITARIO
C53: CUADRILLA AA TIPO 1 (1 OFICIAL + 1 AYUDANTE) (Albañileria) | J53: HR | L53: 0.5 | M53: 39558 | N53: 19779 | O53: =+M53*L53 -> 19779
C57: SUBTOTAL $ | O57: =+O53 -> 19779
C59: TOTAL COSTO DIRECTO $ | O59: =+O57+O32 -> 22539
C60: V. COSTOS INDIRECTOS
C63: Descripción | L63: Porcentaje | M63: Valor Total
C64: ADMINISTRACION | L64: ='PRESUPUESTO OFICIAL(Entidad)'!I35 -> 0.5672 | M64: =+L64*O59 -> 12784.121 | O64: =+M64 -> 12784.121
C65: IMPREVISTOS
C66: UTILIDAD | L66: 0.05 | M66: =+L66*O59 -> 1126.95 | O66: =+M66 -> 1126.95
C67: SUBTOTAL $ | O67: =+O66+O64+O59 -> 36450.071
C69: Precio Unitario Total Aproximado al peso $ | O69: =+O67+O59 -> 58989.071
C70: ITEM | D70: DESCRIPCIÓN | M70: UNIDAD | O70: CANTIDAD
D71: =[115]A.P.U!$C$11506 -> SUMINISTRO, TRANSPORTE E INSTALACION DE MOLDURA EN MADERA CHOIBÁ DE 8CM PARA CIELO RASOS | M71: ML
C72: I. EQUIPO
...
