Workbook

Sheet Solicitud cotizaciones
A1: ANEXO 1
A3: Apreciados Señores: De manera atenta la Fiscalía General de la Nación Nivel Central, requiere cotizar con ustedes lo siguiente:
A5: ITEM | B5: SOLICITUD COTIZACIÓN
A6: 1 | B6: ADVERTENCIA | C6: La cotización solicitada servirá de base para REVALIDAR los precios indicativos del mercado; para compra y por tanto NO CONSTITUYE en sí misma una oferta y consecuentemente NO OBLIGA a las partes.
A7: 2 | B7: OBJETO | C7: OBJETO DEL CONTRATO
A8: 3 | B8: VALIDEZ DE LA COTIZACIÓN | C8: La validez de oferta debe ser mínima de NOVENTA (90) DIAS, especificando si los días de la validez son hábiles o calendario.
A9: 4 | B9: ESPECIFICACIONES TÉCNICAS | C9: VER ARCHIVO ADJUNTO (EN WORD SE ENVIA LA FICHA TECNICA)
A14: 5 | B14: CONDICIONES DE LA COTRATACIÓN | C14: PLAZO DE EJECUCIÓN
C15: FORMA DE PAGO | D15: La Fiscalía General de la Nación cancelará el valor del contrato, mediante pagos parciales por la ejecución de objeto del contrato, dentro de los treinta (30) días calendarios siguientes a la fecha en que el contratista radique la factura comercial, acompañada de la certificación donde conste el cumplimiento del contrato expedida por el supervisor del contrato y de la certificación que acredite el pago por parte del contratista de las obligaciones al sistema general de seguridad social (salud, pensiones y riesgos profesionales) y aportes parafiscales (cajas de compensación familiar, SENA e ICBF).
C16: MECANISMOS DE COBERTURA DE LOS RIESGOS | D16: AMPAROS
A19: 6 | B19: VALOR OFRECIDO | C19: DESCRIPCION DEL OBJETO DEL CONTRATO | E19: VALOR UNITARIO | F19: IVA DE VLR UNI. | G19: VALOR UNI. + IVA
A20: 7 | B20: PLAZO PARA PRESENTAR LA COTIZACIÓN | C20: TRES (3) DIAS HABILES.
A21: NOTA:
A22: Agradecemos su gentil colaboración y estaremos atentos a responder cualquier inquietud al respecto, quedamos atentos al envío de su propuesta por este mismo medio dentro del plazo establecido para su presentación.
A24: Cordial saludo,
A26: NOMBRE
A27: GRUPO DE ANALISIS DEL SECTOR ECONOMICO Y DE OFERENTES
A28: TELEFONO

Sheet GENERAL
A1: No. Estudio | B1: DIA Y MES | C1: valor estudios previos | D1: Dependencia solicitante | E1: Destino | F1: Plazo de Ejecución | G1: No. COTIZACIONES | H1: No. COTIZACIONES LETRAS | I1: EMPRESA 1 | J1: EMPRESA 2 | K1: EMPRESA 3 | L1: EMPRESA 4 | M1: NUMERO DE EMPRESAS SECOP | N1: OBJETO DEL CONTRATO | O1: PROCESO HISTORICO ANALIZADO | P1: OBJETO | Q1: IPC INICIAL | R1: IPC FINAL | S1: OFERTAS DEL HISTORICO | T1: CONTRATISTA HISTORICO | U1: VALOR DEL CONTRATO | V1: TERMINO DE EJECUCION | W1: LINK | X1: MODALIAD DE CONTRATACION | Y1: FECHA DE SUSCRIPCION DEL CONTRATO | Z1: FECHA DE INICIO DEL CONTRATO | AA1: OFERTAS DEL HISTORICO | AB1: V/R ESTUDIO | AC1: BIEN O SERVICIO | AD1: FORMULA UTILIZADA | AF1: CODIGOS CUPS UTILIZADOS | AG1: DESCRIPCION SEGMENTO | AH1: # EMPRESAS POTENCIALES | AI1: # DE EMPRESAS INTERESADAS
A2: 200 | B2: 44764 | C2: =+AB2 -> #REF! | D2: Jefe Departamento de Seguridad y el Director Protección y Asistencia de la Fiscalía General de la Nación | E2: El contrato se ejecutará en los lugares relacionados en las “FICHA TÉCNICA DE BIENES Y SERVICIOS DE CARACTERÍSTICAS TÉCNICAS UNIFORMES Y DE COMÚN UTILIZACIÓN”, de cada una de las Regionales, anexas al presente proceso contractual. | F2: desde el 01 de diciembre de 2020 hasta el 31 de julio de 2022 | I2: COLVISEG | J2: SEGURIDAD HORUS LTDA | K2: COSEQUIN LTDA | N2: PRESTAR LOS SERVICIOS DE VIGILANCIA Y SEGURIDAD PRIVADA FIJA Y MOVIL, CON MEDIOS TECNOLÓGICOS Y PERSONAL UNIFORMADO CON Y SIN ARMAS, PARA LA ADECUADA PROTECCIÓN, CUSTODIA, AMPARO Y SALVAGUARDA DE LAS PERSONAS QUE LABORAN E INGRESAN A LAS INSTALACIONES, Y LOS BIENES MUEBLES E INMUEBLES DEL NIVEL CENTRAL | O2: PROCESO FGN-IPSE-040-2018 NC | P2: PRESTAR LOS SERVICIOS DE VIGILANCIA Y SEGURIDAD PRIVADA FIJA Y MOVIL, CON MEDIOS TECNOLÓGICOS Y PERSONAL UNIFORMADO CON Y SIN ARMAS, PARA LA ADECUADA PROTECCIÓN, CUSTODIA, AMPARO Y SALVAGUARDA DE LAS PERSONAS QUE LABORAN E INGRESAN A LAS INSTALACIONES, Y LOS BIENES MUEBLES E INMUEBLES DE LAS DIFERENTES REGIONALES QUE CONFORMAN LA FISCALIA GENERAL DE LA NACIÓN- GRUPO 9: NIVEL CENTRAL | Q2: 99.7 | R2: 105.36 | T2: SU OPORTUNO SERVICIO LTDA. | U2: 29,379,751,963 | V2: 60 DIAS | W2: https://www.contratos.gov.co/consultas/detalleProceso.do?numConstancia=18-9-449535 | X2: SUBASTA INVERSA | Y2: =+O3 -> 01 de diciembre de 2020 | Z2: 01 DE DICIEMBRE DE 2018 | AB2: =#REF! -> #REF! | AC2: BIENES | AD2: PARA CALCULAR EL VALOR QUE CORRESPONDE AL FACTOR HUMANO SE EMPLEARON LOS VALORES ESTABLECIDOS POR LA SUPERINTENDENCIA DE VIGILANCIA Y SEGURIDAD PARA EL AÑO 2020 SEGÚN CIRCULAR EXTERNA Nº 20201300000015 Y PARA EL FACTOR TECNOLOGICO SE EMPLEARON LOS VALORES DE REFERENCIA. | AE2: IVA INCLUIDO Y TODOS LOS COSTOS DIRECTOS E INDIRECTOS
O3: 01 de diciembre de 2020

Sheet Anexo 1
B1: ANEXO 1
B4: LISTADO DE POSIBLES PROVEEDORES
B5: No. | C5: Nombre Empresa | D5: Telefono Fijo y/o celular | E5: Correo electronico
B6: 1 | C6: =+GENERAL!K2 -> COSEQUIN LTDA | D6: 4343584 | E6: auxiliarcomercial.cosequin@gmail.com
B7: 2 | C7: =+GENERAL!J2 -> SEGURIDAD HORUS LTDA | D7: 6311500 | E7: comercial2@horusseguridad.com
B8: 3 | C8: =+GENERAL!I2 -> COLVISEG | D8: 5189191 | E8: dircomercial@colviseg.com

Sheet Anexo 2
A1: ANEXO 2
A3: EXPERIENCIA EN CONTRATACIÓN EN LOS ÚLTIMOS AÑOS
A5: Con el fin de conocer la experiencia con la que cuentan las empresas del sector relacionadas con el objeto del presente estudio de mercado, agradecemos diligenciar el cuadro relacionado a continuación con base en los contratos suscritos en los ultimos 5 años
A6: EMPRESA | B6: OBJETO DEL CONTRATO | C6: FECHA DE SUSCRIPCIÓN | D6: % DE PARTICIPACIÓN | E6: VALOR TOTAL EJECUTADO DEL CONTRATO DE ACUERDO AL % DE PARTICIPACIÓN
A7: =+GENERAL!K2 -> COSEQUIN LTDA
A8: NO SE EVIDENCIAN PROCESOS DE CONTRATACION PUBLICA ADELANTADOS POR ESTE OFERENTE
A9: =+GENERAL!J2 -> SEGURIDAD HORUS LTDA
A10: NO SE EVIDENCIAN PROCESOS DE CONTRATACION PUBLICA ADELANTADOS POR ESTE OFERENTE
A11: =+'Anexo 1'!C8 -> COLVISEG
A12: NO SE EVIDENCIAN PROCESOS DE CONTRATACION PUBLICA ADELANTADOS POR ESTE OFERENTE

Sheet ANEXO 1. VALOR 2026 (1 MES)
A1: ANEXO 1 - FACTOR HUMANO - VIGENCIA 2026 (1 MES)
B3: PRESTAR LOS SERVICIOS DE VIGILANCIA Y SEGURIDAD PRIVADA FIJA Y MOVIL, CON MEDIOS TECNOLÓGICOS Y PERSONAL UNIFORMADO CON Y SIN ARMAS, PARA LA ADECUADA PROTECCIÓN, CUSTODIA, AMPARO Y SALVAGUARDA DE LAS PERSONAS QUE LABORAN E INGRESAN A LAS INSTALACIONES Y LOS BIENES MUEBLES E INMUEBLES DE LA FISCALIA GENERAL DE LA NACIÓN Y DEL FONDO ESPECIAL PARA LA ADMINISTRACIÓN DE BIENES – F.E.A.B. DE LA FISCALIA GENERAL DE LA NACIÓN, DE LA REGIONAL EJE CAFETERO CONFORMADA POR LAS SECCIONALES: RISARALDA, CALDAS, QUINDIO Y CHOCÓ
A4: VARIABLES ESTABLECIDAS POR LA SUPERINTENDENCIA DE VIGILANCIA Y SEGURIDAD PARA EL AÑO 2026 SEGÚN CIRCULAR EXTERNA Nº 202513000001105CS DEL 30 DE DICIEMBRE DE 2025 Y RESOLUCIÓN 20251000059517CS DEL 8 DE AGOSTO DE 2025
A5: SALARIO MINIMO 2026 | D5: 1750905
A6: TARIFA MINIMA SECTOR PUBLICO | D6: 10.21
A7: VALOR TARIFA MINIMA SECTOR PUBLICO | D7: =ROUND(D5*D6,2) -> 17876740
A8: VALOR PRIMA SEGURO DE VIDA | D8: 1500
A9: VALOR TARIFA MÍNIMA MAS PRIMA SEGURO DE VIDA | D9: =D7+D8 -> 17878240
A11: MODALIDAD DE MEDIO, TARIFA, PORCENTAJE ADMINISTRACION Y SUPERVISION.
A12: MODALIDAD MEDIO | B12: TARIFA | C12: PORCENTAJE A Y S | D12: VALOR A Y S | E12: TARIFA + A Y S
A13: 24 HRS CON ARMA DOMINGO A DOMINGO | B13: =D9 -> 17878240 | C13: 0.1 | D13: =ROUND(B13*C13,2) -> 1787824 | E13: =ROUND(B13+D13,2) -> 19666064
A14: 24 HRS SIN ARMA DOMINGO A DOMINGO | B14: =D9 -> 17878240 | C14: 0.08 | D14: =ROUND(B14*C14,2) -> 1430259.2 | E14: =ROUND(B14+D14,2) -> 19308499
A15: 12 HRS DIURNO CON ARMA LUNES A VIERNES CON FESTIVOS | B15: 5759434 | C15: 0.1 | D15: =ROUND(B15*C15,2) -> 575943.4 | E15: =ROUND(B15+D15,2) -> 6335377.4
A16: 12 HRS DIURNO SIN ARMA LUNES A VIERNES CON FESTIVOS | B16: 5759434 | C16: 0.08 | D16: =ROUND(B16*C16,2) -> 460754.72 | E16: =ROUND(B16+D16,2) -> 6220188.7
A17: 12 HRS NOCTURNO CON ARMA DOMINGO A DOMINGO | B17: 8649217 | C17: 0.1 | D17: =ROUND(B17*C17,2) -> 864921.7 | E17: =ROUND(B17+D17,2) -> 9514138.7
A18: 12 HRS DIURNO CON ARMA DOMINGO A DOMINGO | B18: 7853773 | C18: 0.1 | D18: =ROUND(B18*C18,2) -> 785377.3 | E18: =ROUND(B18+D18,2) -> 8639150.3
A19: 12 HRS DIURNO CON ARMA LUNES A VIERNES SIN FESTIVOS | B19: 5235849 | C19: 0.1 | D19: =ROUND(B19*C19,2) -> 523584.9 | E19: =ROUND(B19+D19,2) -> 5759433.9
A20: 12 HRS DIURNO SIN ARMA LUNES A VIERNES SIN FESTIVOS | B20: 5235849 | C20: 0.08 | D20: =ROUND(B20*C20,2) -> 418867.92 | E20: =ROUND(B20+D20,2) -> 5654716.9
A22: DIAS A TENER EN CUENTA PARA EL COBRO DE LAS TARIFAS MINIMAS EN LA PRESTACION DE LOS SERVICIOS DE VIGILANCIA Y SEGURIDAD PRIVADA PARA 2026
A23: LUNES A VIERNES SIN FESTIVOS | D23: 20
A24: LUNES A VIERNES CON FESTIVOS | D24: 22
A25: LUNES A SABADO SIN FESTIVOS | D25: 24
A26: LUNES A SABADO CON FESTIVOS | D26: 26
A27: FESTIVOS | D27: 2
A28: SABADOS Y DOMINGOS | D28: 8
A29: SABADOS, DOMINGOS Y FESTIVOS | D29: 10
A32: VARIABLE DE PROPORCIONALIDAD SOBRE EL VALOR DEL SERVICIO ESTABLECIDO PARA UN SERVICIO DE VEINTICUATRO (24) HORAS Y TREINTA (30) DÍAS AL MES Y EN LOS TÉRMINOS DE LA JORNADA LABORAL VIGENTE.
A33: JORNADA LABORAL | C33: VARIABLE DE PROPORCIONALIDAD
A34: 6:00:00 a. m. a 7:00 p.m. (Turno de 13 horas Diurnas) | C34: 0.4759
A36: 7:00 a 6:00 a.m. (Turno de 11 horas Nocturnas) | C36: 0.5241
A38: b. Tomar el valor resultante de la aplicación de la variable de proporcionalidad anteriormente establecida, dividirlo por treinta (30) días y multiplicarlo por el número de días en que se prestará el servicio, luego dividirlo por la jornada laboral y el resultado multiplicarlo por las horas requeridas del servicio.
A39: Lo anterior, corresponde a la aplicación de la siguiente fórmula matemática: (SMLMV x TARIFA DE SERVICIOS) x VARIABLE PROPORCIONALIDAD) /30) x DÍAS QUE SE REQUIERE EL SERVICIO) /JORNADA LABORAL) x HORAS REQUERIDAS DEL SERVICIO.
A42: NECESIDAD FGN ( VALORES UNITARIOS MES) | K42: VALIDACION TOTAL DE CIFRAS
A43: MODALIDAD /MEDIO | B43: JORNADA LABORAL | C43: DIAS AL MES SEGÚN CIRCULAR DE SUPERVIGILANCIA | D43: VALOR MES | E43: % ADMINISTRACION Y SUPERVISION | G43: VALOR MES ADMINISTRACION Y SUPERVISION | H43: VALOR MES INCLUIDO ADMINISTRACION Y SUPERVISION | I43: IVA | J43: VALOR MES INCLUIDO AYS E IVA | K43: CONSOLIDADO PUESTOS | L43: VALOR 2026 1 MES
A44: 24 HRS CON ARMA | B44: DOMINGO A DOMINGO | C44: 30 | D44: =+B13 -> 17878240 | E44: 0.1 | G44: =ROUND(D44*E44,2) -> 1787824 | H44: =ROUND(D44+G44,2) -> 19666064 | I44: =ROUND(H44*10%*19%,2) -> 373655.22 | J44: =ROUND(H44+I44,2) -> 20039719 | K44: 39 | L44: =ROUND(K44*J44,2)*1 -> 7.8154905e+08
A45: 24 HRS SIN ARMA | B45: DOMINGO A DOMINGO | C45: 30 | D45: =+B13 -> 17878240 | E45: 0.08 | G45: =ROUND(D45*E45,2) -> 1430259.2 | H45: =ROUND(D45+G45,2) -> 19308499 | I45: =ROUND(H45*10%*19%,2) -> 366861.49 | J45: =ROUND(H45+I45,2) -> 19675361 | K45: 2 | L45: =ROUND(K45*J45,2)*1 -> 39350721
A46: 12 HRS DIURNO CON ARMA | B46: LUNES A VIERNES CON FESTIVOS | C46: 22 | D46: =ROUND($D$9*$C$34/30*C46/13*12,0) -> 5759434 | E46: 0.1 | G46: =ROUND(D46*E46,2) -> 575943.4 | H46: =ROUND(D46+G46,2) -> 6335377.4 | I46: =ROUND(H46*10%*19%,2) -> 120372.17 | J46: =ROUND(H46+I46,2) -> 6455749.6 | K46: 7 | L46: =ROUND(K46*J46,2)*1 -> 45190247
A47: 12 HRS DIURNO SIN ARMA | B47: LUNES A VIERNES CON FESTIVOS | C47: 22 | D47: =ROUND($D$9*$C$34/30*C47/13*12,0) -> 5759434 | E47: 0.08 | G47: =ROUND(D47*E47,2) -> 460754.72 | H47: =ROUND(D47+G47,2) -> 6220188.7 | I47: =ROUND(H47*10%*19%,2) -> 118183.59 | J47: =ROUND(H47+I47,2) -> 6338372.3 | K47: 1 | L47: =ROUND(K47*J47,2)*1 -> 6338372.3
A48: 12 HRS NOCTURNO CON ARMA | B48: DOMINGO A DOMINGO | C48: 30 | D48: =ROUND($D$9*$C$36/30*C48/13*12,0) -> 8649217 | E48: 0.1 | G48: =ROUND(D48*E48,2) -> 864921.7 | H48: =ROUND(D48+G48,2) -> 9514138.7 | I48: =ROUND(H48*10%*19%,2) -> 180768.64 | J48: =ROUND(H48+I48,2) -> 9694907.3 | K48: 2 | L48: =ROUND(K48*J48,2)*1 -> 19389815
A49: 12 HRS DIURNO CON ARMA | B49: DOMINGO A DOMINGO | C49: 30 | D49: =ROUND($D$9*$C$34/30*C49/13*12,0) -> 7853773 | E49: 0.1 | G49: =ROUND(D49*E49,2) -> 785377.3 | H49: =ROUND(D49+G49,2) -> 8639150.3 | I49: =ROUND(H49*10%*19%,2) -> 164143.86 | J49: =ROUND(H49+I49,2) -> 8803294.2 | K49: 4 | L49: =ROUND(K49*J49,2)*1 -> 35213177
...

Sheet ANEXO 1.1.VALOR 2027 (12 MESES)
A1: ANEXO 1.1. - FACTOR HUMANO - VIGENCIA 2027 (12 MESES)
B3: PRESTAR LOS SERVICIOS DE VIGILANCIA Y SEGURIDAD PRIVADA FIJA Y MOVIL, CON MEDIOS TECNOLÓGICOS Y PERSONAL UNIFORMADO CON Y SIN ARMAS, PARA LA ADECUADA PROTECCIÓN, CUSTODIA, AMPARO Y SALVAGUARDA DE LAS PERSONAS QUE LABORAN E INGRESAN A LAS INSTALACIONES Y LOS BIENES MUEBLES E INMUEBLES DE LA FISCALIA GENERAL DE LA NACIÓN Y DEL FONDO ESPECIAL PARA LA ADMINISTRACIÓN DE BIENES – F.E.A.B. DE LA FISCALIA GENERAL DE LA NACIÓN, DE LA REGIONAL EJE CAFETERO CONFORMADA POR LAS SECCIONALES: RISARALDA, CALDAS, QUINDIO Y CHOCÓ
A4: VARIABLES ESTABLECIDAS POR LA SUPERINTENDENCIA DE VIGILANCIA Y SEGURIDAD PARA EL AÑO 2026 SEGÚN CIRCULAR EXTERNA Nº 202513000001105CS DEL 30 DE DICIEMBRE DE 2025 Y RESOLUCIÓN 20251000059517CS DEL 8 DE AGOSTO DE 2025
A5: SALARIO MINIMO 2026 | D5: =(1750905+(1750905*4.4%)) -> 1827944.8
A6: TARIFA MINIMA SECTOR PUBLICO - ENERO 1 AL 30 DE JUNIO 2027 (6 meses) | D6: 10.21
A7: VALOR TARIFA MINIMA SECTOR PUBLICO | D7: =ROUND(D5*D6,2) -> 18663317
A8: VALOR PRIMA SEGURO DE VIDA | D8: 1500
A9: VALOR TARIFA MÍNIMA MAS PRIMA SEGURO DE VIDA | D9: =D7+D8 -> 18664817
A11: SALARIO MINIMO 2026 | D11: =(1750905+(1750905*4.4%)) -> 1827944.8
A12: TARIFA MINIMA SECTOR PUBLICO - 1 DE JULIO AL 31 DE DICIEMBRE DE 2027 ( 6 meses) | D12: 10.38
A13: VALOR TARIFA MINIMA SECTOR PUBLICO | D13: =ROUND(D11*D12,2) -> 18974067
A14: VALOR PRIMA SEGURO DE VIDA | D14: 1500
A15: VALOR TARIFA MÍNIMA MAS PRIMA SEGURO DE VIDA | D15: =D13+D14 -> 18975567
A18: MODALIDAD DE MEDIO, TARIFA, PORCENTAJE ADMINISTRACION Y SUPERVISION - ENERO 1 AL 30 DE JUNIO 2027
A19: MODALIDAD MEDIO | B19: TARIFA | C19: PORCENTAJE A Y S | D19: VALOR A Y S | E19: TARIFA + A Y S
A20: 24 HRS CON ARMA DOMINGO A DOMINGO | B20: =$D$9 -> 18664817 | C20: 0.1 | D20: =ROUND(B20*C20,2) -> 1866481.7 | E20: =ROUND(B20+D20,2) -> 20531298
A21: 24 HRS SIN ARMA DOMINGO A DOMINGO | B21: =$D$9 -> 18664817 | C21: 0.08 | D21: =ROUND(B21*C21,2) -> 1493185.3 | E21: =ROUND(B21+D21,2) -> 20158002
A22: 12 HRS DIURNO CON ARMA LUNES A VIERNES CON FESTIVOS | B22: 6112935.2 | C22: 0.1 | D22: =ROUND(B22*C22,2) -> 611293.52 | E22: =ROUND(B22+D22,2) -> 6724228.7
A23: 12 HRS DIURNO SIN ARMA LUNES A VIERNES CON FESTIVOS | B23: 6112935.2 | C23: 0.08 | D23: =ROUND(B23*C23,2) -> 489034.82 | E23: =ROUND(B23+D23,2) -> 6601970
A24: 12 HRS NOCTURNO CON ARMA DOMINGO A DOMINGO | B24: 9180087.5 | C24: 0.1 | D24: =ROUND(B24*C24,2) -> 918008.75 | E24: =ROUND(B24+D24,2) -> 10098096
A25: 12 HRS DIURNO CON ARMA DOMINGO A DOMINGO | B25: 9180087.5 | C25: 0.1 | D25: =ROUND(B25*C25,2) -> 918008.75 | E25: =ROUND(B25+D25,2) -> 10098096
A26: 12 HRS DIURNO CON ARMA LUNES A VIERNES SIN FESTIVOS | B26: 5557213.8 | C26: 0.1 | D26: =ROUND(B26*C26,2) -> 555721.38 | E26: =ROUND(B26+D26,2) -> 6112935.2
A27: 12 HRS DIURNO SIN ARMA LUNES A VIERNES SIN FESTIVOS | B27: 5557213.8 | C27: 0.08 | D27: =ROUND(B27*C27,2) -> 444577.1 | E27: =ROUND(B27+D27,2) -> 6001790.9
A30: MODALIDAD DE MEDIO, TARIFA, PORCENTAJE ADMINISTRACION Y SUPERVISION - 1 DE JULIO AL 31 DE DICIEMBRE DE 2027
A31: MODALIDAD MEDIO | B31: TARIFA | C31: PORCENTAJE A Y S | D31: VALOR A Y S | E31: TARIFA + A Y S
A32: 24 HRS CON ARMA DOMINGO A DOMINGO | B32: =$D$15 -> 18975567 | C32: 0.1 | D32: =ROUND(B32*C32,2) -> 1897556.7 | E32: =ROUND(B32+D32,2) -> 20873124
A33: 24 HRS SIN ARMA DOMINGO A DOMINGO | B33: =$D$15 -> 18975567 | C33: 0.08 | D33: =ROUND(B33*C33,2) -> 1518045.4 | E33: =ROUND(B33+D33,2) -> 20493613
A34: 12 HRS DIURNO CON ARMA LUNES A VIERNES CON FESTIVOS | B34: 6112935.2 | C34: 0.1 | D34: =ROUND(B34*C34,2) -> 611293.52 | E34: =ROUND(B34+D34,2) -> 6724228.7
A35: 12 HRS DIURNO SIN ARMA LUNES A VIERNES CON FESTIVOS | B35: 6112935.2 | C35: 0.08 | D35: =ROUND(B35*C35,2) -> 489034.82 | E35: =ROUND(B35+D35,2) -> 6601970
A36: 12 HRS NOCTURNO CON ARMA DOMINGO A DOMINGO | B36: 9180087.5 | C36: 0.1 | D36: =ROUND(B36*C36,2) -> 918008.75 | E36: =ROUND(B36+D36,2) -> 10098096
A37: 12 HRS DIURNO CON ARMA DOMINGO A DOMINGO | B37: 9180087.5 | C37: 0.1 | D37: =ROUND(B37*C37,2) -> 918008.75 | E37: =ROUND(B37+D37,2) -> 10098096
A38: 12 HRS DIURNO CON ARMA LUNES A VIERNES SIN FESTIVOS | B38: 5557213.8 | C38: 0.1 | D38: =ROUND(B38*C38,2) -> 555721.38 | E38: =ROUND(B38+D38,2) -> 6112935.2
A39: 12 HRS DIURNO SIN ARMA LUNES A VIERNES SIN FESTIVOS | B39: 5557213.8 | C39: 0.08 | D39: =ROUND(B39*C39,2) -> 444577.1 | E39: =ROUND(B39+D39,2) -> 6001790.9
A42: DIAS A TENER EN CUENTA PARA EL COBRO DE LAS TARIFAS MINIMAS EN LA PRESTACION DE LOS SERVICIOS DE VIGILANCIA Y SEGURIDAD PRIVADA PARA 2024
A43: LUNES A VIERNES SIN FESTIVOS | D43: 20
A44: LUNES A VIERNES CON FESTIVOS | D44: 22
A45: LUNES A SABADO SIN FESTIVOS | D45: 24
A46: LUNES A SABADO CON FESTIVOS | D46: 26
A47: FESTIVOS | D47: 2
A48: SABADOS Y DOMINGOS | D48: 8
...

Sheet ANEXO 1.2.VALOR 2028 (11 MESES)
A1: ANEXO 1.2. - FACTOR HUMANO - VIGENCIA 2028 (11 MESES)
B3: PRESTAR LOS SERVICIOS DE VIGILANCIA Y SEGURIDAD PRIVADA FIJA Y MOVIL, CON MEDIOS TECNOLÓGICOS Y PERSONAL UNIFORMADO CON Y SIN ARMAS, PARA LA ADECUADA PROTECCIÓN, CUSTODIA, AMPARO Y SALVAGUARDA DE LAS PERSONAS QUE LABORAN E INGRESAN A LAS INSTALACIONES Y LOS BIENES MUEBLES E INMUEBLES DE LA FISCALIA GENERAL DE LA NACIÓN Y DEL FONDO ESPECIAL PARA LA ADMINISTRACIÓN DE BIENES – F.E.A.B. DE LA FISCALIA GENERAL DE LA NACIÓN, DE LA REGIONAL EJE CAFETERO CONFORMADA POR LAS SECCIONALES: RISARALDA, CALDAS, QUINDIO Y CHOCÓ
A4: VARIABLES ESTABLECIDAS POR LA SUPERINTENDENCIA DE VIGILANCIA Y SEGURIDAD PARA EL AÑO 2026 SEGÚN CIRCULAR EXTERNA Nº 202513000001105CS DEL 30 DE DICIEMBRE DE 2025 Y RESOLUCIÓN 20251000059517CS DEL 8 DE AGOSTO DE 2025
A5: SALARIO MINIMO 2026 | D5: =1827945+(1827945*3%) -> 1882783.4
A6: TARIFA MINIMA SECTOR PUBLICO | D6: 10.38
A7: VALOR TARIFA MINIMA SECTOR PUBLICO | D7: =ROUND(D5*D6,2) -> 19543291
A8: VALOR PRIMA SEGURO DE VIDA | D8: 1500
A9: VALOR TARIFA MÍNIMA MAS PRIMA SEGURO DE VIDA | D9: =D7+D8 -> 19544791
A12: MODALIDAD DE MEDIO, TARIFA, PORCENTAJE ADMINISTRACION Y SUPERVISION.
A13: MODALIDAD MEDIO | B13: TARIFA | C13: PORCENTAJE A Y S | D13: VALOR A Y S | E13: TARIFA + A Y S
A14: 24 HRS CON ARMA DOMINGO A DOMINGO | B14: =$D$9 -> 19544791 | C14: 0.1 | D14: =ROUND(B14*C14,2) -> 1954479.1 | E14: =ROUND(B14+D14,2) -> 21499270
A15: 24 HRS SIN ARMA DOMINGO A DOMINGO | B15: =$D$9 -> 19544791 | C15: 0.08 | D15: =ROUND(B15*C15,0) -> 1563583 | E15: =ROUND(B15+D15,2) -> 21108374
A16: 12 HRS DIURNO CON ARMA LUNES A VIERNES CON FESTIVOS | B16: 6934010.8 | C16: 0.1 | D16: =ROUND(B16*C16,0) -> 693401 | E16: =ROUND(B16+D16,2) -> 7627411.8
A17: 12 HRS DIURNO SIN ARMA LUNES A VIERNES CON FESTIVOS | B17: 6296309.4 | C17: 0.08 | D17: =ROUND(B17*C17,0) -> 503705 | E17: =ROUND(B17+D17,2) -> 6800014.4
A18: 12 HRS NOCTURNO CON ARMA DOMINGO A DOMINGO | B18: 9455469.3 | C18: 0.1 | D18: =ROUND(B18*C18,0) -> 945547 | E18: =ROUND(B18+D18,2) -> 10401016
A19: 12 HRS DIURNO CON ARMA DOMINGO A DOMINGO | B19: 9455469.3 | C19: 0.1 | D19: =ROUND(B19*C19,0) -> 945547 | E19: =ROUND(B19+D19,2) -> 10401016
A20: 12 HRS DIURNO CON ARMA LUNES A VIERNES SIN FESTIVOS | B20: 6303646.2 | C20: 0.1 | D20: =ROUND(B20*C20,0) -> 630365 | E20: =ROUND(B20+D20,2) -> 6934011.2
A21: 12 HRS DIURNO SIN ARMA LUNES A VIERNES SIN FESTIVOS | B21: 5723917.6 | C21: 0.08 | D21: =ROUND(B21*C21,0) -> 457913 | E21: =ROUND(B21+D21,2) -> 6181830.6
A23: DIAS A TENER EN CUENTA PARA EL COBRO DE LAS TARIFAS MINIMAS EN LA PRESTACION DE LOS SERVICIOS DE VIGILANCIA Y SEGURIDAD PRIVADA PARA 2024
A24: LUNES A VIERNES SIN FESTIVOS | D24: 20
A25: LUNES A VIERNES CON FESTIVOS | D25: 22
A26: LUNES A SABADO SIN FESTIVOS | D26: 24
A27: LUNES A SABADO CON FESTIVOS | D27: 26
A28: FESTIVOS | D28: 2
A29: SABADOS Y DOMINGOS | D29: 8
A30: SABADOS, DOMINGOS Y FESTIVOS | D30: 10
A33: VARIABLE DE PROPORCIONALIDAD SOBRE EL VALOR DEL SERVICIO ESTABLECIDO PARA UN SERVICIO DE VEINTICUATRO (24) HORAS Y TREINTA (30) DÍAS AL MES Y EN LOS TÉRMINOS DE LA JORNADA LABORAL VIGENTE.
A34: JORNADA LABORAL | C34: VARIABLE DE PROPORCIONALIDAD
A35: 6:00:00 a. m. a 7:00 p.m. (Turno de 13 horas Diurnas) | C35: 0.4759
A37: 7:00 a 6:00 a.m. (Turno de 11 horas Nocturnas) | C37: 0.5241
A39: b. Tomar el valor resultante de la aplicación de la variable de proporcionalidad anteriormente establecida, dividirlo por treinta (30) días y multiplicarlo por el número de días en que se prestará el servicio, luego dividirlo por la jornada laboral y el resultado multiplicarlo por las horas requeridas del servicio.
A40: Lo anterior, corresponde a la aplicación de la siguiente fórmula matemática: (SMLMV x TARIFA DE SERVICIOS) x VARIABLE PROPORCIONALIDAD) /30) x DÍAS QUE SE REQUIERE EL SERVICIO) /JORNADA LABORAL) x HORAS REQUERIDAS DEL SERVICIO.
A43: NECESIDAD DE LA ENTIDAD ( VALORES UNITARIOS MES) | K43: VALIDACION TOTAL DE CIFRAS
A44: MODALIDAD /MEDIO | B44: JORNADA LABORAL | C44: DIAS AL MES SEGÚN CIRCULAR DE SUPERVIGILANCIA | D44: VALOR MES | E44: % ADMINISTRACION Y SUPERVISION | G44: VALOR MES ADMINISTRACION Y SUPERVISION | H44: VALOR MES INCLUIDO ADMINISTRACION Y SUPERVISION | I44: IVA | J44: VALOR MES INCLUIDO AYS E IVA | K44: CONSOLIDADO PUESTOS | L44: VALOR TOTAL 2028 11 MESES
A45: 24 HRS CON ARMA | B45: DOMINGO A DOMINGO | C45: 30 | D45: =+B14 -> 19544791 | E45: 0.1 | G45: =ROUND(D45*E45,2) -> 1954479.1 | H45: =ROUND(D45+G45,2) -> 21499270 | I45: =ROUND(H45*10%*19%,2) -> 408486.14 | J45: =ROUND(H45+I45,2) -> 21907756 | K45: 39 | L45: =ROUND(K45*J45,2)*11 -> 9.3984275e+09
A46: 24 HRS SIN ARMA | B46: DOMINGO A DOMINGO | C46: 30 | D46: =+B15 -> 19544791 | E46: 0.08 | G46: =ROUND(D46*E46,2) -> 1563583.3 | H46: =ROUND(D46+G46,2) -> 21108374 | I46: =ROUND(H46*10%*19%,2) -> 401059.11 | J46: =ROUND(H46+I46,2) -> 21509434 | K46: 2 | L46: =ROUND(K46*J46,2)*11 -> 4.7320754e+08
A47: 12 HRS DIURNO CON ARMA | B47: LUNES A VIERNES CON FESTIVOS | C47: 22 | D47: =ROUND($D$9*$C$37/30*C47/13*12,2) -> 6934010.8 | E47: 0.1 | G47: =ROUND(D47*E47,2) -> 693401.08 | H47: =ROUND(D47+G47,2) -> 7627411.9 | I47: =ROUND(H47*10%*19%,2) -> 144920.83 | J47: =ROUND(H47+I47,2) -> 7772332.7 | K47: 7 | L47: =ROUND(K47*J47,2)*11 -> 5.9846962e+08
A48: 12 HRS DIURNO SIN ARMA | B48: LUNES A VIERNES CON FESTIVOS | C48: 22 | D48: =ROUND($D$9*$C$35/30*C48/13*12,2) -> 6296309.4 | E48: 0.08 | G48: =ROUND(D48*E48,2) -> 503704.75 | H48: =ROUND(D48+G48,2) -> 6800014.1 | I48: =ROUND(H48*10%*19%,2) -> 129200.27 | J48: =ROUND(H48+I48,2) -> 6929214.4 | K48: 1 | L48: =ROUND(K48*J48,2)*11 -> 76221358
A49: 12 HRS NOCTURNO CON ARMA | B49: DOMINGO A DOMINGO | C49: 30 | D49: =ROUND($D$9*$C$37/30*C49/13*12,2) -> 9455469.3 | E49: 0.1 | G49: =ROUND(D49*E49,2) -> 945546.93 | H49: =ROUND(D49+G49,2) -> 10401016 | I49: =ROUND(H49*10%*19%,2) -> 197619.31 | J49: =ROUND(H49+I49,2) -> 10598636 | K49: 2 | L49: =ROUND(K49*J49,2)*11 -> 2.3316998e+08
A50: 12 HRS DIURNO CON ARMA | B50: DOMINGO A DOMINGO | C50: 30 | D50: =ROUND($D$9*$C$37/30*C50/13*12,2) -> 9455469.3 | E50: 0.1 | G50: =ROUND(D50*E50,2) -> 945546.93 | H50: =ROUND(D50+G50,2) -> 10401016 | I50: =ROUND(H50*10%*19%,2) -> 197619.31 | J50: =ROUND(H50+I50,2) -> 10598636 | K50: 4 | L50: =ROUND(K50*J50,2)*11 -> 4.6633996e+08
...

Sheet ANEXO 2 HIST VS. COTIZ MEDIOS
A1: ANEXO 2
C2: PROYECCION DE COSTOS HISTORICOS Y COTIZACIÓN
C3: SERVICIO DE VIGILANCIA Y SEGURIDAD PRIVADA QUE REQUIERA LA FISCALÍA GENERAL DE LA NACIÓN REGIONAL EJE CAFETERO VIGENCIA 2026 - 2028
A4: ÍTEM | B4: DESCRIPCIÓN DEL BIEN | C4: UNIDAD DE MEDIDA | D4: CANTIDAD | F4: PROCESO No. FGN-REC-0036-2024 | J4: JULIO 2024 | K4: AGOSTO 2026 | M4: ANÁLISIS PROYECCIÓN COSTOS HISTÓRICOS (IPC / Indices - Serie de empalme)
F5: VALOR UNITARIO SIN IVA | G5: IVA UNITARIO | H5: VALOR UNITARIO INCLUIDO IVA | J5: 1.4367 | K5: 1.6042 | M5: VALOR UNITARIO SIN IVA | N5: IVA UNITARIO | O5: VALOR UNITARIO INCLUIDO IVA | P5: VALOR TOTAL MENSUAL | Q5: VALOR TOTAL 24 MESES | R5: VALOR COTIZACION POR 24 MESES | S5: VALOR FINAL PROMEDIO COSTOS HISTORICOS Y COTIZACION
B7: SECCIONAL RISARALDA
A8: 1 | B8: MONITOR DE 43" LED FULL HD, Resolución: Full HD 1920x1080, Brillo de 400 cd/m2, Entradas HDMI, VGA, USB. Salida de audio. Capacidad de trabajo 7/24. | C8: UNIDAD | D8: 21 | F8: 1 | G8: =ROUND(F8*19%,0) -> 0 | H8: =ROUND(F8+G8,0) -> 1 | J8: =+($K$5/$J$5)*F8 -> 1.1165866 | M8: =+ROUND(J8,0) -> 1 | N8: =ROUND(M8*19%,0) -> 0 | O8: =ROUND(N8+M8,0) -> 1 | P8: =O8*D8 -> 21 | Q8: =P8*24 -> 504 | R8: 3172907 | S8: =(Q8+R8)/2 -> 1586705.5
A9: 2 | B9: CAMARAS FIJA TIPO MINI DOMO IP Resolución (4 Megapíxeles 30 fps 2688x1520), Iluminación mínima 0.01lux B/N 0 Lux, Día/Noche Real con filtro ICR, Distancia Focal 2.8 mm/4mm/6mm, Iluminación IR 30 mts Compresión de video H264+/H265, Detección de movimiento. Protección Ip67, Puerto de red RJ45 10M/100M/1000M, PoE (Power over Ethernet), Protocolos TCP/IP, ICMP, HTTP, HTTPS, DHCP, DNS, RTP, RTSP, RTCP, NTP, IGMP, QoS, UDP. EL TIPO DE CÁMARA DEPENDERÁ DEL SITIO EN EL QUE SE INSTALARÁ (DOMO INTERIORES, BALA EXTERIORES). | C9: UNIDAD | D9: 203 | F9: 1 | G9: =ROUND(F9*19%,0) -> 0 | H9: =ROUND(F9+G9,0) -> 1 | J9: =+($K$5/$J$5)*F9 -> 1.1165866 | M9: =+ROUND(J9,0) -> 1 | N9: =ROUND(M9*19%,0) -> 0 | O9: =ROUND(N9+M9,0) -> 1 | P9: =O9*D9 -> 203 | Q9: =P9*24 -> 4872 | R9: 15237966 | S9: =(Q9+R9)/2 -> 7621419
A10: 3 | B10: CIBERDOMO IP PTZ cámara Tipo Domo IP Resolución (2 Megapíxeles 1920x1080). Iluminación IR 150 m, zoom óptico de 25x, Zoom digital 16x, Sensor de imagen 1/2.8”, Distancia focal 4.8mm a 120mm, Sistema de señal PAL/NTSC, Balance de blancos: Auto/Manual ATW/interior/ exterior/Día/Noche ICR, Compresión de video H264+/H265, Puerto de red Rj45 10M/100M/1000M Ethernet PoE+, Alimentación 24VAC & PoE. Protección Ip66 • Incluye fuente y soporte para pared. | C10: UNIDAD | D10: 6 | F10: 1 | G10: =ROUND(F10*19%,0) -> 0 | H10: =ROUND(F10+G10,0) -> 1 | J10: =+($K$5/$J$5)*F10 -> 1.1165866 | M10: =+ROUND(J10,0) -> 1 | N10: =ROUND(M10*19%,0) -> 0 | O10: =ROUND(N10+M10,0) -> 1 | P10: =O10*D10 -> 6 | Q10: =P10*24 -> 144 | R10: 450413 | S10: =(Q10+R10)/2 -> 225278.5
A11: 4 | B11: GRABADOR DE 8/16/32 CANALES PENTAHIBRIDO 8/16/32 Canales Pentahibrido. Video Grabador Digital. Procesador Embebido Compresión de Video H.265+/H.265/H.264+. Entradas de video Max 10/16/32 canales IP. Cada canal hasta 5MP Min. Ancho de Banda 200/260Mbps. Búsqueda Inteligente. Función RAID 0, RAID 1, RAID 5, RAID 6 and RAID 10. Puerto de red Rj45 10M/100M/1000M Ethernet. 4 bahías SATA con soporte de discos hasta de 10TB por cada disco. LA CANTIDAD DE CANALES DE ENTRADA DEPENDERÁ DE LA SEDE EN LA QUE SE INSTALE EL EQUIPO. (DE AUERDO CON LA CANTIDAD DE CÁMARAS). | C11: UNIDAD | D11: 20 | F11: 1 | G11: =ROUND(F11*19%,0) -> 0 | H11: =ROUND(F11+G11,0) -> 1 | J11: =+($K$5/$J$5)*F11 -> 1.1165866 | M11: =+ROUND(J11,0) -> 1 | N11: =ROUND(M11*19%,0) -> 0 | O11: =ROUND(N11+M11,0) -> 1 | P11: =O11*D11 -> 20 | Q11: =P11*24 -> 480 | R11: 12630624 | S11: =(Q11+R11)/2 -> 6315552
A12: 5 | B12: CONTROL JOYSTICK. Joystick tridimensional para el control de Cámaras PTZ. Funciones: Posición Predeterminada, Auto Scan, Auto Pan, Auto Tour. | C12: UNIDAD | D12: 3 | F12: 1 | G12: =ROUND(F12*19%,0) -> 0 | H12: =ROUND(F12+G12,0) -> 1 | J12: =+($K$5/$J$5)*F12 -> 1.1165866 | M12: =+ROUND(J12,0) -> 1 | N12: =ROUND(M12*19%,0) -> 0 | O12: =ROUND(N12+M12,0) -> 1 | P12: =O12*D12 -> 3 | Q12: =P12*24 -> 72 | R12: 225206 | S12: =(Q12+R12)/2 -> 112639
A13: 6 | B13: SISTEMA DE IDENTIFICACIÓN BIOMÉTRICA PARA INGRESO DE FUNCIONARIOS. Lectores duales Biométrico y RFID (lectora de tarjetas de proximidad). Debe soportar tarjetas con el protocolo MIFARE PLUS X 4K (Carné Institucional). Software de administración y configuración del sistema. El software debe permitir la generación de reportes tanto de ingreso como de salida. El sistema debe soportar hasta 20.000 plantillas de huellas digitales, 60.000 tarjetas y almacenar hasta 100.000 eventos y transacciones. La información debe permanecer guardada en la memoria interna en caso de pérdida de energía. El controlador deberá continuar operando aún si se interrumpe la conexión de red. Deberá incluir: panel gabinete, batería transformador, lectoras requeridas para el bloqueo de puertas, electroimán de 350lb, brazo, anti remanente y pulsador. El sistema debe contar con una UPS de respaldo de energía diferente a la del sistema de CCTV. | C13: UNIDAD | D13: 6 | F13: 1 | G13: =ROUND(F13*19%,0) -> 0 | H13: =ROUND(F13+G13,0) -> 1 | J13: =+($K$5/$J$5)*F13 -> 1.1165866 | M13: =+ROUND(J13,0) -> 1 | N13: =ROUND(M13*19%,0) -> 0 | O13: =ROUND(N13+M13,0) -> 1 | P13: =O13*D13 -> 6 | Q13: =P13*24 -> 144 | R13: 557653 | S13: =(Q13+R13)/2 -> 278898.5
A14: 7 | B14: SISTEMA DE REGISTRO Y CONTROL DE ACCESO DE VISITANTES. Estación de registro. (En sedes principales se debe contar con mínimo dos (2) estaciones de registro). Lector de Cédula de ciudadanía. Cámara para registro fotográfico. Capturador Biométrico de huella. Software Licenciado Y Operativo. Debe permitir la generación de reportes tanto de ingreso como de salida. El sistema debe contar con una UPS de respaldo de energía diferente a la del sistema de CCTV. | C14: UNIDAD | D14: 10 | F14: 1 | G14: =ROUND(F14*19%,0) -> 0 | H14: =ROUND(F14+G14,0) -> 1 | J14: =+($K$5/$J$5)*F14 -> 1.1165866 | M14: =+ROUND(J14,0) -> 1 | N14: =ROUND(M14*19%,0) -> 0 | O14: =ROUND(N14+M14,0) -> 1 | P14: =O14*D14 -> 10 | Q14: =P14*24 -> 240 | R14: 5199571 | S14: =(Q14+R14)/2 -> 2599905.5
A15: 8 | B15: ARCO DETECTOR DE METALES 18 zonas de detección interconectadas en diferentes áreas y alarma simultánea de múltiples zonas. Pantalla LCD 5.7”. Sensibilidad ajustable: Cada zona tiene 256 niveles de sensibilidad. Control remoto. Alarma de sonido y LED´s para indicar la zona del metal detectado. Conteo automático de personas y alarmas. Intensidad de alarma mostrada en el panel. Diseñado con material de alta densidad anti-inflamable. Función de autodiagnóstico al encenderse, sin necesidad de calibración inicial o periódica. Batería de respaldo con duración de 4-8 horas. Inofensivo para el cuerpo humano, personas con marcapasos, colgantes magnéticos, prótesis, mujeres embarazadas, etc. | C15: UNIDAD | D15: 3 | F15: 1 | G15: =ROUND(F15*19%,0) -> 0 | H15: =ROUND(F15+G15,0) -> 1 | J15: =+($K$5/$J$5)*F15 -> 1.1165866 | M15: =+ROUND(J15,0) -> 1 | N15: =ROUND(M15*19%,0) -> 0 | O15: =ROUND(N15+M15,0) -> 1 | P15: =O15*D15 -> 3 | Q15: =P15*24 -> 72 | R15: 1715859 | S15: =(Q15+R15)/2 -> 857965.5
A16: 9 | B16: SWITCH DE 8/16/32 PUERTOS POE Puertos giga. Full poe ,700w. 2 puertos SFP. Apilable, QOS, ESTANDARES: IEEE 802.3 10BASE-T Ethernet, IEEE 802.3u 100BASE-TX Fast Ethernet, IEEE 802.3ab 1000BASE- T Gigabit Ethernet. DEBE INCLUIR PATCH PANEL MINIMO CAT 6, ORGANIZADORES DE CABLES, ACCESORIOS Y TORNILLERIA PARA MONTAJE EN RACK. | C16: UNIDAD | D16: 16 | F16: 1 | G16: =ROUND(F16*19%,0) -> 0 | H16: =ROUND(F16+G16,0) -> 1 | J16: =+($K$5/$J$5)*F16 -> 1.1165866 | M16: =+ROUND(J16,0) -> 1 | N16: =ROUND(M16*19%,0) -> 0 | O16: =ROUND(N16+M16,0) -> 1 | P16: =O16*D16 -> 16 | Q16: =P16*24 -> 384 | R16: 4575621 | S16: =(Q16+R16)/2 -> 2288002.5
A17: 10 | B17: UPS RESPALDO DE ENERGIA DE 3KVA PARA SOPORTAR SISTEMA DE CCTV • Doble conversión en línea. Entrada y salida monofásica. Alto Factor de potencia de Entrada 0.98 y salida 0.9. Alta confiabilidad y Eficiencia > 95%. Función ECO ahorrador de energía. Apagado de emergencia EPO. Conexión de batería externa. UPS ONLINE con tipo control micro-procesado por DSP, Bypass automático. Certificación RETIE. DEBE SOPORTAR TODO EL SISTEMA DE CCTV, INCLUYENDO LAS CÁMARAS DE VIDEO POR UN PERIODO DE TIEMPO MÍNIMO DE DOS (2) HORAS EN CASO DE PÉRDIDA DEL FUIDO ELÉCTRICO. | C17: UNIDAD | D17: 16 | F17: 1 | G17: =ROUND(F17*19%,0) -> 0 | H17: =ROUND(F17+G17,0) -> 1 | J17: =+($K$5/$J$5)*F17 -> 1.1165866 | M17: =+ROUND(J17,0) -> 1 | N17: =ROUND(M17*19%,0) -> 0 | O17: =ROUND(N17+M17,0) -> 1 | P17: =O17*D17 -> 16 | Q17: =P17*24 -> 384 | R17: 7626037 | S17: =(Q17+R17)/2 -> 3813210.5
A18: 11 | B18: RACK DE PISO O EMPOTRABLE DE 20 UNIDADES, Material metálico cold rolled. Pintura electrostática. Ruedas o tornillos de nivelación. Puerta frontal con llave. Las Dimensiones deben ser las adecuadas y que permitan salvaguardar la UPS, el cableado y los demás equipos del sistema de CCTV. EL RACK USADO DEPENDERÁ DEL TAMAÑO DE LA SEDE EN LA QUE SE VA A INSTALAR. | C18: UNIDAD | D18: 16 | F18: 1 | G18: =ROUND(F18*19%,0) -> 0 | H18: =ROUND(F18+G18,0) -> 1 | J18: =+($K$5/$J$5)*F18 -> 1.1165866 | M18: =+ROUND(J18,0) -> 1 | N18: =ROUND(M18*19%,0) -> 0 | O18: =ROUND(N18+M18,0) -> 1 | P18: =O18*D18 -> 16 | Q18: =P18*24 -> 384 | R18: 4575621 | S18: =(Q18+R18)/2 -> 2288002.5
A19: 12 | B19: DISCO DURO MULTIMARCA QUE SOPORTE FUNCION RAID PARA CCTV. | C19: UNIDAD | D19: 84 | F19: 1 | G19: =ROUND(F19*19%,0) -> 0 | H19: =ROUND(F19+G19,0) -> 1 | J19: =+($K$5/$J$5)*F19 -> 1.1165866 | M19: =+ROUND(J19,0) -> 1 | N19: =ROUND(M19*19%,0) -> 0 | O19: =ROUND(N19+M19,0) -> 1 | P19: =O19*D19 -> 84 | Q19: =P19*24 -> 2016 | R19: 28359325 | S19: =(Q19+R19)/2 -> 14180670
A20: 13 | B20: SCANER DE RAYOS X. Tamaño del Túnel (A) 660 mm (Al) 510 mm. Velocidad de Transporte de la Banda 0.20 m/s. Altura de la Banda Transportadora 700 mm. Aprox. Carga Máxima ≤180 Kg Distribuido Uniformemente. Resolución de Contraste 40 AWG (Alambre Metálico de 0.0787 mm). Definición de Penetración 34 AWG. Penetración (Placa de Acero) 38 mm. Monitor LED de 17 pulgadas. Funciones del Sistema Alarma de Alta Densidad. Detección Auxiliar de Explosivos/Drogas. Proyección de Imágenes de Amenaza (TIP). Zoom de 64x. Seguridad Fotográfica. Normas ASA/ISO 1600. Dosis de Radiación por Inspección <1.0 μ Gy (μ Sv) Tasa de Dosis de Radiación Externa 0.1 μ Gy/h (μ Sv/h) (a 5 cm de la Carcasa). El contratista asumirá el trámite y los costos de licencia y de control dosimétrico. | C20: UNIDAD | D20: 3 | G20: =ROUND(F20*19%,0) -> 0 | H20: =ROUND(F20+G20,0) -> 0 | J20: =+($K$5/$J$5)*F20 -> 0 | M20: =+ROUND(J20,0) -> 0 | N20: =ROUND(M20*19%,0) -> 0 | O20: 1290297 | P20: =O20*D20 -> 3870891.1 | Q20: =P20*24 -> 92901385 | R20: 47186104 | S20: =(Q20+R20)/2 -> 70043745
A21: 14 | B21: MOLINETES BIDIRECCIONALES Molinete bidireccional para tráfico continúo, Brazo abatible. Pulsador de liberación de emergencia. De acuerdo con el caso de uso (Sistema ingreso funcionarios o Sistema ingreso de visitantes) Debe contar con espacio para la instalación de lectoras apropiadas. EL NÚMERO DE MOLINETES A INSTALAR DEPENDERÁ DE LA NECESIDAD DE CADA SEDE. | C21: UNIDAD | D21: 4 | F21: 1 | G21: =ROUND(F21*19%,0) -> 0 | H21: =ROUND(F21+G21,0) -> 1 | J21: =+($K$5/$J$5)*F21 -> 1.1165866 | M21: =+ROUND(J21,0) -> 1 | N21: =ROUND(M21*19%,0) -> 0 | O21: =ROUND(N21+M21,0) -> 1 | P21: =O21*D21 -> 4 | Q21: =P21*24 -> 96 | R21: 3193403 | S21: =(Q21+R21)/2 -> 1596749.5
A22: 15 | B22: Sistema de control de acceso vehicular - 02 lectoras de acceso (una entrada, una Salida, Para operar con el carné institucional el cual es de tecnología MIFARE PLUS X 4k). 02 Barreras vehiculares (una entrada, una Salida) Tipo talanquera de mástil en aluminio debidamente señalizados reflectivos (medida según necesidad). Sensor de cruce con Fotoceldas para control de cierre (para evitar accidentes). Velocidad de apertura < 5 segundos. Motor a 110V con sistema de refrigeración. Sistema de apertura Bloqueo y desbloqueo manual (utilizado en caso de emergencia). Estación de registro para el enrolamiento de los usuarios y la generación de reportes de ingresos y salidas de los vehículos. Instalación y configuración que incluye todos los materiales y accesorios requeridos tales como (adaptadores, baterías, canaletas, tubería, soportes, mástiles, cableado, conectores, switchs de comunicación y todo elemento necesario para su correcto funcionamiento). | C22: UNIDAD | D22: 2 | G22: =ROUND(F22*19%,0) -> 0 | H22: =ROUND(F22+G22,0) -> 0 | J22: =+($K$5/$J$5)*F22 -> 0 | M22: =+ROUND(J22,0) -> 0 | N22: =ROUND(M22*19%,0) -> 0 | O22: 47641.73 | P22: =O22*D22 -> 95283.46 | Q22: =P22*24 -> 2286803 | R22: 1263063 | S22: =(Q22+R22)/2 -> 1774933
A23: 16 | B23: KIT DE ALARMA BASICO: Comunicación GPRS con reporte a central de monitoreo, Gabinete, batería de respaldo, transformador, sirena de 30watts, Panel de 32 zonas, Sensores de movimiento (inmune a mascotas), Sensores de humo, Sensores magnéticos livianos (detector de apertura) Nota: Las cantidades de los sensores están sujetas a las características físicas de la sede en la que se instalarán. | C23: UNIDAD | D23: 16 | F23: 1 | G23: =ROUND(F23*19%,0) -> 0 | H23: =ROUND(F23+G23,0) -> 1 | J23: =+($K$5/$J$5)*F23 -> 1.1165866 | M23: =+ROUND(J23,0) -> 1 | N23: =ROUND(M23*19%,0) -> 0 | O23: =ROUND(N23+M23,0) -> 1 | P23: =O23*D23 -> 16 | Q23: =P23*24 -> 384 | R23: 4766273 | S23: =(Q23+R23)/2 -> 2383328.5
B24: SUB TOTAL RISARALDA | Q24: =SUM(Q8:Q23) -> 95198364 | R24: =SUM(R8:R23) -> 140735646 | S24: =SUM(S8:S23) -> 1.1796701e+08
B25: SECCIONAL CALDAS CUADRO 1
A26: 1 | B26: MONITOR DE 43" LED FULL HD, Resolución: Full HD 1920x1080, Brillo de 400 cd/m2, Entradas HDMI, VGA, USB. Salida de audio. Capacidad de trabajo 7/24. | C26: UNIDAD | D26: 11 | F26: 1 | G26: =ROUND(F26*19%,0) -> 0 | H26: =ROUND(F26+G26,0) -> 1 | J26: =+($K$5/$J$5)*F26 -> 1.1165866 | M26: =+ROUND(J26,0) -> 1 | N26: =ROUND(M26*19%,0) -> 0 | O26: =ROUND(N26+M26,0) -> 1 | P26: =O26*D26 -> 11 | Q26: =P26*24 -> 264 | R26: 5855367 | S26: =(Q26+R26)/2 -> 2927815.5
A27: 2 | B27: CAMARAS FIJA TIPO MINI DOMO IP Resolución (4 Megapíxeles 30 fps 2688x1520), Iluminación mínima 0.01lux B/N 0 Lux, Día/Noche Real con filtro ICR, Distancia Focal 2.8 mm/4mm/6mm, Iluminación IR 30 mts Compresión de video H264+/H265, Detección de movimiento. Protección Ip67, Puerto de red RJ45 10M/100M/1000M, PoE (Power over Ethernet), Protocolos TCP/IP, ICMP, HTTP, HTTPS, DHCP, DNS, RTP, RTSP, RTCP, NTP, IGMP, QoS, UDP. EL TIPO DE CÁMARA DEPENDERÁ DEL SITIO EN EL QUE SE INSTALARÁ (DOMO INTERIORES, BALA EXTERIORES). | C27: UNIDAD | D27: 78 | F27: 1 | G27: =ROUND(F27*19%,0) -> 0 | H27: =ROUND(F27+G27,0) -> 1 | J27: =+($K$5/$J$5)*F27 -> 1.1165866 | M27: =+ROUND(J27,0) -> 1 | N27: =ROUND(M27*19%,0) -> 0 | O27: =ROUND(N27+M27,0) -> 1 | P27: =O27*D27 -> 78 | Q27: =P27*24 -> 1872 | R27: 6946843 | S27: =(Q27+R27)/2 -> 3474357.5
A28: 3 | B28: GRABADOR DE 8/16/32 CANALES PENTAHIBRIDO 8/16/32 Canales Pentahibrido. Video Grabador Digital. Procesador Embebido Compresión de Video H.265+/H.265/H.264+. Entradas de video Max 10/16/32 canales IP. Cada canal hasta 5MP Min. Ancho de Banda 200/260Mbps. Búsqueda Inteligente. Función RAID 0, RAID 1, RAID 5, RAID 6 and RAID 10. Puerto de red Rj45 10M/100M/1000M Ethernet. 4 bahías SATA con soporte de discos hasta de 10TB por cada disco. LA CANTIDAD DE CANALES DE ENTRADA DEPENDERÁ DE LA SEDE EN LA QUE SE INSTALE EL EQUIPO. (DE AUERDO CON LA CANTIDAD DE CÁMARAS). | C28: UNIDAD | D28: 11 | F28: 1 | G28: =ROUND(F28*19%,0) -> 0 | H28: =ROUND(F28+G28,0) -> 1 | J28: =+($K$5/$J$5)*F28 -> 1.1165866 | M28: =+ROUND(J28,0) -> 1 | N28: =ROUND(M28*19%,0) -> 0 | O28: =ROUND(N28+M28,0) -> 1 | P28: =O28*D28 -> 11 | Q28: =P28*24 -> 264 | R28: 1208250 | S28: =(Q28+R28)/2 -> 604257
A29: 4 | B29: SISTEMA DE IDENTIFICACIÓN BIOMÉTRICA PARA INGRESO DE FUNCIONARIOS. Lectores duales Biométrico y RFID (lectora de tarjetas de proximidad). Debe soportar tarjetas con el protocolo MIFARE PLUS X 4K (Carné Institucional). Software de administración y configuración del sistema. El software debe permitir la generación de reportes tanto de ingreso como de salida. El sistema debe soportar hasta 20.000 plantillas de huellas digitales, 60.000 tarjetas y almacenar hasta 100.000 eventos y transacciones. La información debe permanecer guardada en la memoria interna en caso de pérdida de energía. El controlador deberá continuar operando aún si se interrumpe la conexión de red. Deberá incluir: panel gabinete, batería transformador, lectoras requeridas para el bloqueo de puertas, electroimán de 350lb, brazo, anti remanente y pulsador. El sistema debe contar con una UPS de respaldo de energía diferente a la del sistema de CCTV. | C29: UNIDAD | D29: 13 | F29: 1 | G29: =ROUND(F29*19%,0) -> 0 | H29: =ROUND(F29+G29,0) -> 1 | J29: =+($K$5/$J$5)*F29 -> 1.1165866 | M29: =+ROUND(J29,0) -> 1 | N29: =ROUND(M29*19%,0) -> 0 | O29: =ROUND(N29+M29,0) -> 1 | P29: =O29*D29 -> 13 | Q29: =P29*24 -> 312 | R29: 2599786 | S29: =(Q29+R29)/2 -> 1300049
A30: 5 | B30: SISTEMA DE REGISTRO Y CONTROL DE ACCESO DE VISITANTES. Estación de registro. (En sedes principales se debe contar con mínimo dos (2) estaciones de registro). Lector de Cédula de ciudadanía. Cámara para registro fotográfico. Capturador Biométrico de huella. Software Licenciado Y Operativo. Debe permitir la generación de reportes tanto de ingreso como de salida. El sistema debe contar con una UPS de respaldo de energía diferente a la del sistema de CCTV. | C30: UNIDAD | D30: 5 | F30: 1 | G30: =ROUND(F30*19%,0) -> 0 | H30: =ROUND(F30+G30,0) -> 1 | J30: =+($K$5/$J$5)*F30 -> 1.1165866 | M30: =+ROUND(J30,0) -> 1 | N30: =ROUND(M30*19%,0) -> 0 | O30: =ROUND(N30+M30,0) -> 1 | P30: =O30*D30 -> 5 | Q30: =P30*24 -> 120 | R30: 1143905 | S30: =(Q30+R30)/2 -> 572012.5
A31: 6 | B31: ARCO DETECTOR DE METALES 18 zonas de detección interconectadas en diferentes áreas y alarma simultánea de múltiples zonas. Pantalla LCD 5.7”. Sensibilidad ajustable: Cada zona tiene 256 niveles de sensibilidad. Control remoto. Alarma de sonido y LED´s para indicar la zona del metal detectado. Conteo automático de personas y alarmas. Intensidad de alarma mostrada en el panel. Diseñado con material de alta densidad anti-inflamable. Función de autodiagnóstico al encenderse, sin necesidad de calibración inicial o periódica. Batería de respaldo con duración de 4-8 horas. Inofensivo para el cuerpo humano, personas con marcapasos, colgantes magnéticos, prótesis, mujeres embarazadas, etc. | C31: UNIDAD | D31: 2 | F31: 1 | G31: =ROUND(F31*19%,0) -> 0 | H31: =ROUND(F31+G31,0) -> 1 | J31: =+($K$5/$J$5)*F31 -> 1.1165866 | M31: =+ROUND(J31,0) -> 1 | N31: =ROUND(M31*19%,0) -> 0 | O31: =ROUND(N31+M31,0) -> 1 | P31: =O31*D31 -> 2 | Q31: =P31*24 -> 48 | R31: 3145741 | S31: =(Q31+R31)/2 -> 1572894.5
A32: 7 | B32: SWITCH DE 8/16/32 PUERTOS POE Puertos giga. Full poe ,700w. 2 puertos SFP. Apilable, QOS, ESTANDARES: IEEE 802.3 10BASE-T Ethernet, IEEE 802.3u 100BASE-TX Fast Ethernet, IEEE 802.3ab 1000BASE- T Gigabit Ethernet. DEBE INCLUIR PATCH PANEL MINIMO CAT 6, ORGANIZADORES DE CABLES, ACCESORIOS Y TORNILLERIA PARA MONTAJE EN RACK. | C32: UNIDAD | D32: 11 | F32: 1 | G32: =ROUND(F32*19%,0) -> 0 | H32: =ROUND(F32+G32,0) -> 1 | J32: =+($K$5/$J$5)*F32 -> 1.1165866 | M32: =+ROUND(J32,0) -> 1 | N32: =ROUND(M32*19%,0) -> 0 | O32: =ROUND(N32+M32,0) -> 1 | P32: =O32*D32 -> 11 | Q32: =P32*24 -> 264 | R32: 5242901 | S32: =(Q32+R32)/2 -> 2621582.5
A33: 8 | B33: UPS RESPALDO DE ENERGIA DE 3KVA PARA SOPORTAR SISTEMA DE CCTV • Doble conversión en línea. Entrada y salida monofásica. Alto Factor de potencia de Entrada 0.98 y salida 0.9. Alta confiabilidad y Eficiencia > 95%. Función ECO ahorrador de energía. Apagado de emergencia EPO. Conexión de batería externa. UPS ONLINE con tipo control micro-procesado por DSP, Bypass automático. Certificación RETIE. DEBE SOPORTAR TODO EL SISTEMA DE CCTV, INCLUYENDO LAS CÁMARAS DE VIDEO POR UN PERIODO DE TIEMPO MÍNIMO DE DOS (2) HORAS EN CASO DE PÉRDIDA DEL FUIDO ELÉCTRICO. | C33: UNIDAD | D33: 11 | F33: 1 | G33: =ROUND(F33*19%,0) -> 0 | H33: =ROUND(F33+G33,0) -> 1 | J33: =+($K$5/$J$5)*F33 -> 1.1165866 | M33: =+ROUND(J33,0) -> 1 | N33: =ROUND(M33*19%,0) -> 0 | O33: =ROUND(N33+M33,0) -> 1 | P33: =O33*D33 -> 11 | Q33: =P33*24 -> 264 | R33: 3145741 | S33: =(Q33+R33)/2 -> 1573002.5
A34: 9 | B34: RACK DE PISO O EMPOTRABLE DE 20 UNIDADES, Material metálico cold rolled. Pintura electrostática. Ruedas o tornillos de nivelación. Puerta frontal con llave. Las Dimensiones deben ser las adecuadas y que permitan salvaguardar la UPS, el cableado y los demás equipos del sistema de CCTV. EL RACK USADO DEPENDERÁ DEL TAMAÑO DE LA SEDE EN LA QUE SE VA A INSTALAR. | C34: UNIDAD | D34: 11 | F34: 1 | G34: =ROUND(F34*19%,0) -> 0 | H34: =ROUND(F34+G34,0) -> 1 | J34: =+($K$5/$J$5)*F34 -> 1.1165866 | M34: =+ROUND(J34,0) -> 1 | N34: =ROUND(M34*19%,0) -> 0 | O34: =ROUND(N34+M34,0) -> 1 | P34: =O34*D34 -> 11 | Q34: =P34*24 -> 264 | R34: 14854884 | S34: =(Q34+R34)/2 -> 7427574
A35: 10 | B35: DISCO DURO MULTIMARCA QUE SOPORTE FUNCION RAID PARA CCTV. | C35: UNIDAD | D35: 44 | F35: 1 | G35: =ROUND(F35*19%,0) -> 0 | H35: =ROUND(F35+G35,0) -> 1 | J35: =+($K$5/$J$5)*F35 -> 1.1165866 | M35: =+ROUND(J35,0) -> 1 | N35: =ROUND(M35*19%,0) -> 0 | O35: =ROUND(N35+M35,0) -> 1 | P35: =O35*D35 -> 44 | Q35: =P35*24 -> 1056 | R35: 15728702 | S35: =(Q35+R35)/2 -> 7864879
A36: 11 | B36: KIT DE ALARMA BASICO: Comunicación GPRS con reporte a central de monitoreo, Gabinete, batería de respaldo, transformador, sirena de 30watts, Panel de 32 zonas, Sensores de movimiento (inmune a mascotas), Sensores de humo, Sensores magnéticos livianos (detector de apertura) Nota: Las cantidades de los sensores están sujetas a las características físicas de la sede en la que se instalarán. | C36: UNIDAD | D36: 1 | F36: 1 | G36: =ROUND(F36*19%,0) -> 0 | H36: =ROUND(F36+G36,0) -> 1 | J36: =+($K$5/$J$5)*F36 -> 1.1165866 | M36: =+ROUND(J36,0) -> 1 | N36: =ROUND(M36*19%,0) -> 0 | O36: =ROUND(N36+M36,0) -> 1 | P36: =O36*D36 -> 1 | Q36: =P36*24 -> 24 | R36: 631531 | S36: =(Q36+R36)/2 -> 315777.5
A37: 12 | B37: DISCO DURO 4 TB MULTIMARCA QUE SOPORTE FUNCION RAID PARA CCTV | C37: UNIDAD | D37: 1 | F37: 1 | G37: =ROUND(F37*19%,0) -> 0 | H37: =ROUND(F37+G37,0) -> 1 | J37: =+($K$5/$J$5)*F37 -> 1.1165866 | M37: =+ROUND(J37,0) -> 1 | N37: =ROUND(M37*19%,0) -> 0 | O37: =ROUND(N37+M37,0) -> 1 | P37: =O37*D37 -> 1 | Q37: =P37*24 -> 24 | R37: $ - | S37: =Q37 -> 24
A38: 13 | B38: KIT DE ALARMA BASICO • Comunicación GPRS con reporte a central de monitoreo • Gabinete, batería de respaldo, transformador, sirena de 30watts • Panel de 32 zonas. • Sensores de movimiento (inmune a mascotas). • Sensores de humo. • Sensores magnéticos livianos (detector de apertura) Nota: Las cantidades de los sensores están sujetas a las características físicas de la sede en la que se instalarán. | C38: UNIDAD | D38: 12 | F38: 1 | G38: =ROUND(F38*19%,0) -> 0 | H38: =ROUND(F38+G38,0) -> 1 | J38: =+($K$5/$J$5)*F38 -> 1.1165866 | M38: =+ROUND(J38,0) -> 1 | N38: =ROUND(M38*19%,0) -> 0 | O38: =ROUND(N38+M38,0) -> 1 | P38: =O38*D38 -> 12 | Q38: =P38*24 -> 288 | R38: 3193415 | S38: =(Q38+R38)/2 -> 1596851.5
B39: SUB TOTAL CALDAS CUADRO 1 | Q39: =SUM(Q26:Q38) -> 5064 | R39: =SUM(R26:R38) -> 63697066 | S39: =SUM(S26:S38) -> 31851077
B40: SECCIONAL CALDAS CUADRO 2
A41: 1 | B41: MONITOR DE 43" LED FULL HD, Resolución: Full HD 1920x1080, Brillo de 400 cd/m2, Entradas HDMI, VGA, USB. Salida de audio. Capacidad de trabajo 7/24. | C41: UNIDAD | D41: 9 | F41: 1 | G41: =ROUND(F41*19%,0) -> 0 | H41: =ROUND(F41+G41,0) -> 1 | J41: =+($K$5/$J$5)*F41 -> 1.1165866 | M41: =+ROUND(J41,0) -> 1 | N41: =ROUND(M41*19%,0) -> 0 | O41: =ROUND(N41+M41,0) -> 1 | P41: =O41*D41 -> 9 | Q41: =P41*24 -> 216 | R41: 1359818 | S41: =(Q41+R41)/2 -> 680017
...

Sheet ANEXO 3 CONSOLIDADO
A1: ANEXO 3 CONSOLIDADO - ESTUDIO DEL SECTOR
B2: PRESTAR LOS SERVICIOS DE VIGILANCIA Y SEGURIDAD PRIVADA FIJA Y MOVIL, CON MEDIOS TECNOLÓGICOS Y PERSONAL UNIFORMADO CON Y SIN ARMAS, PARA LA ADECUADA PROTECCIÓN, CUSTODIA, AMPARO Y SALVAGUARDA DE LAS PERSONAS QUE LABORAN E INGRESAN A LAS INSTALACIONES Y LOS BIENES MUEBLES E INMUEBLES DE LA FISCALIA GENERAL DE LA NACIÓN Y DEL FONDO ESPECIAL PARA LA ADMINISTRACIÓN DE BIENES – F.E.A.B. DE LA FISCALIA GENERAL DE LA NACIÓN, DE LA REGIONAL EJE CAFETERO CONFORMADA POR LAS SECCIONALES: RISARALDA, CALDAS, QUINDIO Y CHOCÓ
A4: FGN | B4: DESCRIPCIÓN DEL SERVICIO | C4: VALOR TOTAL 2026 (1 MES) | D4: VALOR TOTAL 2027 (12 MESES) | E4: VALOR TOTAL 2028 (11 MESES) | F4: VALOR TOTAL PRESUPUESTO 2026 - 2028
B6: FACTOR HUMANO – F.G.N. | C6: ='ANEXO 1. VALOR 2026 (1 MES)'!L53 -> 9.8518648e+08 | D6: ='ANEXO 1.1.VALOR 2027 (12 MESES)'!L87 -> 1.2445117e+10 | E6: ='ANEXO 1.2.VALOR 2028 (11 MESES)'!L54 -> 1.1980913e+10 | F6: =+C6+D6+E6 -> 2.5411217e+10
B7: FACTOR TECNOLÓGICO | C7: =+'ANEXO 2 HIST VS. COTIZ MEDIOS'!S94 -> 12531590 | D7: =+'ANEXO 2 HIST VS. COTIZ MEDIOS'!S95 -> 1.5037909e+08 | E7: =+'ANEXO 2 HIST VS. COTIZ MEDIOS'!S96 -> 1.378475e+08 | F7: =+C7+D7+E7 -> 3.0075817e+08
B8: TOTAL FGN | C8: =SUM(C6:C7) -> 9.9771807e+08 | D8: =SUM(D6:D7) -> 1.2595496e+10 | E8: =SUM(E6:E7) -> 1.2118761e+10 | F8: =+C8+D8+E8 -> 2.5711975e+10
A9: VALOR TOTAL NECESIDADES VIGENCIAS 2026 - 2027 - 2028 | F9: =+F8 -> 2.5711975e+10
A11: VALOR TOTAL PRESUPUESTO ESTIMADO VIGENCIAS 2026 - 2027 - 2028 | F11: 26238136487
