Workbook
Name A_impresión_IM: '[1]CRA.MODI'!#REF!
Name AJFIL: [2]Ajustes!#REF!
Name BASE_DATOS_MATERIALES: [3]MATERIALES!$A$1:$C$1541
Name PRESUPUESTOS: [4]PRESUPUESTO!#REF!
Name TABLA: '[1]CRA.MODI'!#REF!
Name PRODUCTOS: #REF!
Name MATERIALES: #REF!
Name ABREVIATURAS: #REF!
Name Contrahuella: #REF!
Name deprecion: #REF!
Name PRECIOSVALIDOS: #REF!
Name dc: #REF!
Name Q: #REF!
Name y_inicial: #REF!
Name B: #REF!
Name Oficial: #REF!
Name Durmiente_5_5: #REF!
Name HmaxNap: #REF!
Name P13MATERIALES: #REF!
Name Ayudante: #REF!
Name UNIDADES: #REF!
Name Hdam: #REF!
Name Puntilla_2_3: #REF!

Sheet PRESUPUESTO OFICIAL (Entidad)
B1: Formulario 1 - Propuesta económica - Documento tipo de selección abreviada de menor cuantía - versión 1
B2: Versión: 1 del 21 de agosto de 2025
C5: FORMULARIO 1
C6: PRESUPUESTO OFICIAL
C7: [La entidad puede utilizar este formulario de detalle del presupuesto oficial para determinar las condiciones bajo las cuales los proponentes analizarán y presentarán su propuesta económica de forma detallada, sin perjuicio que la entidad pueda modificarlo o establecer la presentación de la oferta económica con un formulario distinto al indicado.]
C9: Adicionalmente, cuando el proceso de contratación es estructurado por precios unitarios, la Entidad debe aplicar las notas 1, 2 y 3 del presente formulario y las casillas de "Descripción", "Porcentaje" de la Administración, Imprevisto, Utilidad y total A.I.U. resaltadas en colo amarillo. Tratándose de otras modalidades de precio, la Entidad puede o no configurar los mismos aspectos.
C11: Nº | D11: ITEM DE PAGO | E11: ESPECIFICACIONES | G11: DESCRIPCION | H11: UND. | I11: VALOR UNITARIO | J11: CANTIDAD | K11: VALOR TOTAL
E12: GENERAL | F12: PARTICULAR
C13: SISTEMA DE BOMBEO Y SANEAMIENTO
C14: 1 | D14: 1.1 | F14: OAP-1 | G14: MANTENIMIENTO CORRECTIVO Y PUESTA EN FUNCIONAMIENTO DE BOMBA SUMERGIBLE PARA AGUAS RESIDUALES EXISTENTE | H14: UN | I14: ='OAP-1'!K37 -> 1000000 | J14: ='1.1'!B7 -> 2 | K14: =+J14*I14 -> 2000000
C15: 2 | D15: 1.2 | F15: OAP-2 | G15: MANTENIMIENTO Y ADECUACIÓN DEL TABLERO ELÉCTRICO Y SISTEMA DE CONTROL DE BOMBAS | H15: GL | I15: 1000000 | J15: ='1.2'!B7 -> 1 | K15: =I15*J15 -> 1000000
C16: Subtotal | K16: =SUM(K14:K15) -> 3000000
C17: SUPERFICIE DEPORTIVA Y DRENAJE
C18: 3 | D18: 2.1 | E18: CC 14.46 | G18: GRAMA SINTÉTICA PARA CAMPOS DEPORTIVOS | H18: M2 | I18: 164382 | J18: ='2.1'!B7 -> 1050 | K18: =I18*J18 -> 172601100
C19: 4 | D19: 2.2 | F19: OAP-3 | G19: MANTENIMIENTO DE SISTEMA DE DRENAJE SUBSUPERFICIAL EXISTENTE EN CANCHA DE CÉSPED SINTÉTICO, TIPO ESPINA DE PESCADO, INCLUYE LOCALIZACIÓN DE LÍNEAS DE DRENAJE, LIMPIEZA Y DESTAPE DE TUBERÍAS, LAVADO A PRESIÓN, RETIRO DE SEDIMENTOS, REVISIÓN DE CAJAS Y PUNTOS DE DESCARGA, REPOSICIÓN LOCALIZADA DE MATERIAL FILTRANTE Y GEOTEXTIL DONDE SE REQUIERA, PRUEBAS DE FLUJO Y LIMPIEZA FINAL. | H19: ML | I19: ='OAP-3'!K39 -> 99838.431 | J19: 350 | K19: =I19*J19 -> 34943451
C20: Subtotal | K20: =SUM(K18:K19) -> 2.0754455e+08
C21: INSTALACIONES ELECTRICAS E ILUMINACIÓN
C22: 5 | D22: 3.1 | F22: OAP-4 | G22: SUMINISTRO E INSTALACIÓN DE PROYECTOR LED TIPO REFLECTOR PARA EXTERIOR, POTENCIA 500 W, TEMPERATURA DE COLOR 5000 K, EFICIENCIA ≥130 LM/W, IP66, IK08 O SUPERIOR, TENSIÓN 100–277 V, CUERPO EN ALUMINIO, SOPORTE ORIENTABLE Y PROTECCIÓN CONTRA SOBRETENSIONES; INCLUYE ELEMENTOS DE FIJACIÓN A ESTRUCTURA METÁLICA, CONEXIONES, ACCESORIOS, PRUEBAS Y PUESTA EN FUNCIONAMIENTO. | H22: UN | I22: ='OAP-4'!$K$40 -> 781744.56 | J22: ='3.1'!$B$7 -> 14 | K22: =I22*J22 -> 10944424
C23: 6 | D23: 3.2 | F23: OAP-5 | G23: SUMINISTRO E INSTALACIÓN DE PROYECTOR LED DEPORTIVO 1200 W, 181200 LM, IP66 O SUPERIOR, PARA INSTALACIÓN EN ESTRUCTURA DE CUBIERTA, INCLUYE SOPORTE, CONEXIONES Y ACCESORIOS.CONTRA SOBRETENSIONES; INCLUYE ELEMENTOS DE FIJACIÓN A ESTRUCTURA METÁLICA, CONEXIONES, ACCESORIOS, PRUEBAS Y PUESTA EN FUNCIONAMIENTO. | H23: UN | I23: ='OAP-5'!$K$40 -> 6464864.2 | J23: ='3.2'!$B$7 -> 12 | K23: =I23*J23 -> 77578370
C24: 7 | D24: 3.3 | E24: 12.76 | G24: INTERRUPTOR TERMOMAGNÉTICO ENCHUFABLE - TRIPOLAR 20A - 30A - 40A | H24: UND | I24: 180323 | J24: ='3.3'!$B$7 -> 2 | K24: =I24*J24 -> 360646
C25: 8 | D25: 3.4 | F25: OAP-6 | G25: CIRCUITO RAMAL TRIPLEX 3xNo.4 ALUMINIO-THHN/THWN-2 INCLUYE TUBERIA EMT | H25: ML | I25: ='OAP-6'!$K$40 -> 45842.971 | J25: ='3.4'!$B$7 -> 140 | K25: =I25*J25 -> 6418016
C26: Subtotal | K26: =SUM(K22:K25) -> 95301456
C27: INSTALACIONES HIDRAULICAS
C28: 9 | D28: 4.1 | F28: OAP-7 | G28: TANQUE PLÁSTICO ELEVADO 2.000 LT (INCLUYE ACCESORIOS E INSTALACIÓN) | H28: UND | I28: ='OAP-7'!$K$37 -> 1397075 | J28: 1 | K28: =I28*J28 -> 1397075
C29: 10 | D29: 4.2 | E29: 11.8 | G29: CONEXIÓN TANQUE ELEVADO PVC. INC ACCESORIOS | H29: UND | I29: 392116 | J29: 1 | K29: =I29*J29 -> 392116
C30: 11 | D30: 4.3 | E30: 11.27 | G30: RED SUMINISTRO PVC 1/2". INC ACCESORIOS | H30: ML | I30: 14487 | J30: 25 | K30: =I30*J30 -> 362175
C31: 12 | D31: 4.4 | E31: 11.36 | G31: REGISTRO 1/2". INC ACCESORIOS | H31: UND | I31: 94630 | J31: ='4.4'!$B$7 -> 2 | K31: =I31*J31 -> 189260
C32: 13 | D32: 4.5 | E32: 11.16 | G32: PUNTO HIDRÁULICO PVC-P/PARAL 1/2" | H32: UND | I32: 115377 | J32: ='4.5'!$B$7 -> 1 | K32: =I32*J32 -> 115377
C33: 14 | D33: 4.6 | E33: 14.33 | G33: REJILLA METÁLICA TRADICIONAL 3X2 SOSCO | H33: UND | I33: 25869 | J33: ='4.6'!$B$7 -> 25 | K33: =I33*J33 -> 646725
C34: 15 | D34: 4.7 | F34: OAP-11 | G34: SUMINISTRO E INSTALACIÓN DE SIFÓN Y GRIFERÍA PARA LAVAMANOS EXISTENTE | H34: UND | I34: ='OAP-11'!$K$37 -> 248939 | J34: 8 | K34: =I34*J34 -> 1991512
C35: Subtotal | K35: =SUM(K28:K34) -> 5094240
G36: CAMERINOS, CARPINTERÍA Y ACABADOS
C37: 16 | D37: 5.1 | F37: OAP-8 | G37: ITEM: MANTENIMIENTO Y REPARACIÓN DE PUERTA METÁLICA EXISTENTE, INCLUYE LIMPIEZA Y PREPARACIÓN DE SUPERFICIE, REMOCIÓN DE ÓXIDO Y PINTURA DETERIORADA, REPARACIÓN Y AJUSTE DE ELEMENTOS METÁLICOS, SOLDADURAS MENORES, AJUSTE O REPOSICIÓN DE HERRAJES DETERIORADOS, APLICACIÓN DE ANTICORROSIVO Y ACABADO EN ESMALTE, INCLUYE MATERIALES, EQUIPO, MANO DE OBRA Y DEMÁS ELEMENTOS NECESARIOS PARA SU CORRECTO FUNCIONAMIENTO. | H37: M2 | I37: ='OAP-8'!$K$36 -> 463910.58 | J37: 20 | K37: =I37*J37 -> 9278211.6
C38: 17 | D38: 5.2 | F38: OAP-9 | G38: SUMINISTRO Y CONSTRUCCIÓN DE BANCA EN CONCRETO REFORZADO PARA CAMERINO, L=1,80 M, CON ASIENTO, RESPALDO Y SOPORTES LATERALES, ACABADO LISO, INCLUYE CONCRETO, ACERO DE REFUERZO, FORMALETA, ANCLAJES, MATERIALES, EQUIPO, MANO DE OBRA Y DEMÁS ELEMENTOS NECESARIOS PARA SU CORRECTA EJECUCIÓN. | H38: UN | I38: ='OAP-9'!$K$37 -> 1210805.2 | J38: ='5.2'!$B$7 -> 20 | K38: =I38*J38 -> 24216104
C39: 18 | D39: 5.3 | E39: 7.28 | G39: TEJA TIPO SANDWICH 525-C CAL. 26, POLIURETANO INYECTADO 30MM | H39: M2 | I39: 225742 | J39: ='5.3'!$B$7 -> 30 | K39: =I39*J39 -> 6772260
C40: 19 | D40: 5.4 | E40: 9.18 | G40: CERRADURA DE ENTRADA PRINCIPAL | H40: UND | I40: 183635 | J40: 8 | K40: =I40*J40 -> 1469080
C41: 20 | D41: 5.5 | E41: 18.3 | G41: ANTICORROSIVO SOBRE LÁMINA LLENA | H41: M2 | I41: 20009 | J41: 30 | K41: =I41*J41 -> 600270
C42: 21 | D42: 5.6 | F42: OAP-10 | G42: CERRAMIENTO MALLA ESLABONADA C. 10 INC. ÁNGULO | H42: M2 | I42: ='OAP-10'!$K$37 -> 140658.9 | J42: 30 | K42: =I42*J42 -> 4219767
C43: 22 | D43: 5.7 | E43: 18.12 | G43: ESMALTE SOBRE MARCOS LÁMINA | H43: M2 | I43: 9559 | J43: 10 | K43: =I43*J43 -> 95590
C44: 23 | D44: 5.8 | E44: 1.38 | G44: DESMONTE MARCOS Y PUERTAS, INC RETIRO | H44: UND | I44: 26090 | J44: 5 | K44: =I44*J44 -> 130450
...

Sheet AIU
C1: COSTOS ADMINISTRATIVOS, IMPREVISTOS Y UTILIDADES (AIU) | I1: Código: FO-PMC- 25 Fecha: 16/02/2026 Versión: 01 Pág: 1 de 1
C2: MANTENIMIENTO CAMPO DEPORTIVO ESTADIO MUNICIPAL
B5: EJECUCION FISICA | C5: 2 | D5: MES | G5: COSTOS DIRECTOS | I5: ='PRESUPUESTO OFICIAL (Entidad)'!K47 -> 3.589119e+08
B7: DESCRIPCION | D7: CANTIDAD- JORNADA | E7: % DEDICACION | F7: TIEMPO (MESES) | G7: ASIGNACION BASICA | H7: FACTOR PRESTACIONAL | I7: VALOR
B9: PERSONAL TECNICO-ADMINISTRATIVO
B10: DIRECTOR DE PROYECTO | D10: 1 | E10: 0.1 | F10: 2 | G10: 4100000 | H10: 2 | I10: =D10*E10*F10*G10*H10 -> 1640000
B11: PROFESIONAL RESIDENTE | D11: 1 | E11: 0.8 | F11: 2 | G11: 2000000 | H11: 2 | I11: =D11*E11*F11*G11*H11 -> 6400000
B12: PROFESIONAL SISO | D12: 1 | E12: 0.4 | F12: 2 | G12: 2000000 | H12: 2 | I12: =D12*E12*F12*G12*H12 -> 3200000
B13: Subtotal personal tecnico-administrativo | I13: =SUM(I10:I12) -> 11240000
B14: POLIZAS Y GARANTÍAS
B15: GARANTÍA DE CUMPLIMIENTO | E15: =M34 -> 4.8453107e+08 | F15: 0.1 | G15: =E15*F15 -> 48453107 | H15: 0.001 | I15: 39731.17
B16: ESTABILIDAD Y CALIDAD DE LA OBRA | E16: =M34 -> 4.8453107e+08 | F16: 0.2 | G16: =E16*F16 -> 96906214 | H16: 0.0019 | I16: =G16*H16 -> 184121.81
B17: PAGO DE SALARIOS Y PRESTACIONES SOCIALES E INDEMNIZACIONES | E17: =M34 -> 4.8453107e+08 | F17: 0.05 | G17: =E17*F17 -> 24226554 | H17: 0.0005 | I17: =G17*H17 -> 12113.277
B18: RESPONSABILIDAD CIVIL Y EXTRACONTRACTUAL | E18: 1750905 | F18: 200 SMMLV | G18: 350181000 | H18: 0.001 | I18: =G18*H18 -> 350181
B19: Subtotal polizas y garantías | H19: =I19/M34 -> 0.0012097207 | I19: =SUM(I15:I18) -> 586147.25
B20: DESCUENTOS LEGALES
B21: ESTAMPILLA PROCULTURA 2% | H21: 0.02 | I21: =H21*$M34 -> 9690621.4
B22: ESTAMPILLA ADULTO MAYOR 4% | H22: 0.04 | I22: =H22*$M34 -> 19381243
B23: RETEICA 0.8% | H23: 0.008 | I23: =H23*$M34 -> 3876248.6
B24: ESTAMPILLA JUSTICIA FAMILIAR 2% | H24: 0.02 | I24: =H24*$M34 -> 9690621.4
B25: ESTAMPILLA PRODEPORTE 2,5% | H25: 0.025 | I25: =H25*$M34 -> 12113277
B26: CONTRIBUCCION ESPECIAL 5% | H26: 0.05 | I26: =H26*$M34 -> 24226554
B27: RETENCION EN LA FUENTE 6.99X1000 | H27: 0.02 | I27: =H27*$M34 -> 9690621.4
B28: Subtotal descuentos legales | H28: =SUM(H21:H27) -> 0.183 | I28: =SUM(I21:I27) -> 88669186
B29: TOTAL GASTOS ADMINISTRATIVOS | I29: =+I28+I19+I13 -> 1.0049533e+08 | L29: DIRECTOS | M29: ='PRESUPUESTO OFICIAL (Entidad)'!K47 -> 3.589119e+08
B30: ADMINISTRACION | I30: =I29/I5 -> 0.28 | K30: =I29-M30 -> -0.0023311675 | L30: 0.28 | M30: =$M$29*L30 -> 1.0049533e+08
B31: IMPREVISTOS | I31: 0.02 | L31: 0.02 | M31: =$M$29*L31 -> 7178238.1
B32: UTILIDAD | I32: 0.05 | L32: 0.05 | M32: =$M$29*L32 -> 17945595
B33: TOTAL AIU | I33: =SUM(I30:I32) -> 0.35
L34: TOTAL ANTES DE IVA | M34: =SUM(M29:M32) -> 4.8453107e+08
B37: ING. JOSE MAURICIO BELLO PEREZ
B39: Proyectó: | C39: Arq. Stefanny Caballero Casallas

Sheet OAP-1
B6: ANÁLISIS DE PRECIOS UNITARIOS CONSTRUCCIÓN
B7: ITEM: | C7: Mantenimiento correctivo y puesta en funcionamiento de bomba sumergible para aguas residuales existente
B8: PROVINCIA: MUNICIPIO: | F8: GUALIVÁ Villeta | J8: ESPECIFICACIÓN: Particular UNIDAD: Unidad
B9: I. EQUIPO
B10: Descripción | E10: U.M | G10: Tarifa | H10: Rendimiento | I10: Valor-Unit.
B11: HERRAMIENTA MENOR | E11: GL | G11: 120000 | H11: 1 | I11: 60000
B12: Equipo de lavado y limpieza a presión | E12: DIA | G12: 180000 | H12: 0.5 | I12: 45000
B16: Sub-Total | K16: =I11+I12 -> 105000
B17: II. MATERIALES EN OBRA
B18: Descripción | E18: Unidad | G18: Precio-Unit. | H18: Cantidad | I18: Valor-Unit.
B19: Kit de mantenimiento y repuestos menores compatibles con la bomba existente: sellos, rodamientos, empaques, O-rings y elementos de ajuste | E19: GL | G19: 850000 | H19: 1 | I19: 425000
B20: Cableado, terminales, conectores y elementos eléctricos menores | E20: GL | G20: 180000 | H20: 1 | I20: 90000
B21: Lubricantes, limpiadores, desengrasantes, anticorrosivos y consumibles | E21: GL | G21: 120000 | H21: 1 | I21: 60000
B22: Sub-Total | K22: =I19+I20+I21 -> 575000
B23: III. TRANSPORTES
B24: Material | D24: Vol-peso ó Cant. | E24: Distancia | G24: M3-Km | H24: Tarifa | I24: Valor-Unit.
B25: Transporte de bomba a taller y retorno al sitio | H25: 100000 | I25: 50000
B28: Sub-Total | K28: =I25 -> 50000
B29: IV. MANO DE OBRA
B30: Trabajador | D30: Jornal | E30: Prestaciones | G30: Jornal Total | H30: Rendimiento | I30: Valor-Unit.
B31: Técnico electromecánico especializado | D31: 190000 | E31: 2 | G31: =D31*E31 -> 380000 | H31: 1 | I31: 190000
B32: Ayudante técnico | D32: 80000 | E32: 2 | G32: =D32*E32 -> 160000 | H32: 1 | I32: 80000
B35: Sub-Total | K35: =I31+I32 -> 270000
B37: Total Costo Directo | K37: =K35+K28+K22+K16 -> 1000000

Sheet OAP-2
B6: ANÁLISIS DE PRECIOS UNITARIOS CONSTRUCCIÓN
B7: ITEM: | C7: Mantenimiento y adecuación del tablero eléctrico y sistema de control de bombas
B8: PROVINCIA: MUNICIPIO: | F8: GUALIVÁ Villeta | J8: ESPECIFICACIÓN: Particular UNIDAD: Unidad
B9: I. EQUIPO
B10: Descripción | E10: U.M | G10: Tarifa | H10: Rendimiento | I10: Valor-Unit.
B11: Herramienta menor y equipo para trabajos eléctricos | E11: GL | G11: 2325 | H11: 1 | I11: =H11*G11 -> 2325
B12: Equipo de medición eléctrica (multímetro, pinza amperimétrica, megóhmetro) | E12: DIA | G12: 25000 | H12: 1 | I12: =G12*H12 -> 25000
B17: Sub-Total | K17: =I11+I12 -> 27325
B18: II. MATERIALES EN OBRA
B19: Descripción | E19: Unidad | G19: Precio-Unit. | H19: Cantidad | I19: Valor-Unit.
B20: Elementos eléctricos para mantenimiento y adecuación de tablero de control de dos bombas (protecciones, contactores, relés, elementos de mando y señalización) | E20: GL | G20: 69849.157 | H20: 1 | I20: =G20*H20 -> 69849.157
B21: INTERRUPTOR TERMOMAGNÉTICO INDUSTRIAL (MCCB) - TRIPOLAR 30A - 40A - 25kA - 240V | E21: UN | G21: 227717 | H21: 1.1 | I21: =G21*H21 -> 250488.7
I22: =G22*H22 -> 0
I23: =G23*H23 -> 0
I24: =G24*H24 -> 0
B27: Sub-Total | K27: =I20+I21 -> 320337.86
B28: III. TRANSPORTES
B29: Material | D29: Vol-peso ó Cant. | E29: Distancia | G29: M3-Km | H29: Tarifa | I29: Valor-Unit.
B33: Sub-Total
B34: IV. MANO DE OBRA
B35: Trabajador | D35: Jornal | E35: Prestaciones | G35: Jornal Total | H35: Rendimiento | I35: Valor-Unit.
B36: MANO DE OBRA DD | D36: 228318 | E36: 2 | G36: =D36*E36 -> 456636 | H36: 0.7 | I36: =G36/H36 -> 652337.14
B40: Sub-Total | K40: =I36+I37 -> 652337.14
B42: Total Costo Directo | K42: =+K17+K27+K40 -> 1000000

Sheet OAP-3
B6: ANÁLISIS DE PRECIOS UNITARIOS CONSTRUCCIÓN
B7: ITEM: MANTENIMIENTO DE SISTEMA DE DRENAJE SUBSUPERFICIAL EXISTENTE EN CANCHA DE CÉSPED SINTÉTICO, TIPO ESPINA DE PESCADO, INCLUYE LOCALIZACIÓN DE LÍNEAS DE DRENAJE, LIMPIEZA Y DESTAPE DE TUBERÍAS, LAVADO A PRESIÓN, RETIRO DE SEDIMENTOS, REVISIÓN DE CAJAS Y PUNTOS DE DESCARGA, REPOSICIÓN LOCALIZADA DE MATERIAL FILTRANTE Y GEOTEXTIL DONDE SE REQUIERA, PRUEBAS DE FLUJO Y LIMPIEZA FINAL.
B8: PROVINCIA: MUNICIPIO: | F8: GUALIVÁ Villeta | J8: ESPECIFICACIÓN: Particular UNIDAD: Unidad
B9: I. EQUIPO
B10: Descripción | E10: U.M | G10: Tarifa | H10: Rendimiento | I10: Valor-Unit.
B11: HERRAMIENTA MENOR | E11: GL | G11: 25000 | H11: 0.3 | I11: =H11*G11 -> 7500
B12: Hidrolavadora o equipo de lavado a presión | E12: DIA | G12: 80000 | H12: 0.05 | I12: =H12*G12 -> 4000
B13: Equipo manual para destape/sondeo | E13: DIA | G13: 120000 | H13: 0.06 | I13: =H13*G13 -> 7200
B17: Sub-Total | K17: =SUM(I11:J14) -> 18700
B18: II. MATERIALES EN OBRA
B19: Descripción | E19: Unidad | G19: Precio-Unit. | H19: Cantidad | I19: Valor-Unit.
B20: Geotextil no tejido para reposición localizada | E20: M2 | G20: 12900 | H20: 1 | I20: =G20*H20 -> 12900
B21: Tubería PVC perforada del diámetro existente, para reposición localizada | E21: ML | G21: 14600 | H21: 1 | I21: =G21*H21 -> 14600
B22: Consumibles menores para limpieza y mantenimiento | E22: GL | G22: 10000 | H22: 1 | I22: =G22*H22 -> 10000
B24: Sub-Total | K24: =I20+I21+I22 -> 37500
B25: III. TRANSPORTES
B26: Material | D26: Vol-peso ó Cant. | E26: Distancia | G26: M3-Km | H26: Tarifa | I26: Valor-Unit.
B27: Retiro de sedimentos y residuos | D27: 1 | H27: 5000 | I27: =H27*D27 -> 5000
B30: Sub-Total | K30: =I27 -> 5000
B31: IV. MANO DE OBRA
B32: Trabajador | D32: Jornal | E32: Prestaciones | G32: Jornal Total | H32: Rendimiento | I32: Valor-Unit.
B33: MANO DE OBRA DD | D33: 228318 | E33: 2.2 | G33: =D33*E33 -> 502299.6 | H33: 13 | I33: =G33/H33 -> 38638.431
B37: Sub-Total | K37: =I33 -> 38638.431
B39: Total Costo Directo | K39: =K17+K24+K30+K37 -> 99838.431

Sheet OAP-4
B6: ANÁLISIS DE PRECIOS UNITARIOS CONSTRUCCIÓN
B7: ITEM: SUMINISTRO E INSTALACIÓN DE PROYECTOR LED TIPO REFLECTOR PARA EXTERIOR, POTENCIA 500 W, TEMPERATURA DE COLOR 5000 K, EFICIENCIA ≥130 LM/W, IP66, IK08 O SUPERIOR, TENSIÓN 100–277 V, CUERPO EN ALUMINIO, SOPORTE ORIENTABLE Y PROTECCIÓN CONTRA SOBRETENSIONES; INCLUYE ELEMENTOS DE FIJACIÓN A ESTRUCTURA METÁLICA, CONEXIONES, ACCESORIOS, PRUEBAS Y PUESTA EN FUNCIONAMIENTO.
B8: PROVINCIA: MUNICIPIO: | F8: GUALIVÁ Villeta | J8: ESPECIFICACIÓN: Particular UNIDAD: Unidad
B9: I. EQUIPO
B10: Descripción | E10: U.M | G10: Tarifa | H10: Rendimiento | I10: Valor-Unit.
B11: HERRAMIENTA MENOR | E11: GL | G11: 1046.46 | H11: 1 | I11: =H11*G11 -> 1046.46
B12: SECCION DE 1,4 POR 1,4 H=2,0 - ANDAMIO CERTIFICADO | E12: DIA | G12: 31397 | H12: 10 | I12: =G12/H12 -> 3139.7
B17: Sub-Total | K17: =I11+I12 -> 4186.16
B18: II. MATERIALES EN OBRA
B19: Descripción | E19: Unidad | G19: Precio-Unit. | H19: Cantidad | I19: Valor-Unit.
B20: LUMINARIA LED - 500W - 4000K/6000K - IP65 - | E20: UN | G20: 698000 | H20: 1 | I20: =G20*H20 -> 698000
B21: ACCESORIOS DE INSTALACION | E21: UN | G21: 10000 | H21: 3.77 | I21: =G21*H21 -> 37700
I22: =G22*H22 -> 0
I23: =G23*H23 -> 0
I24: =G24*H24 -> 0
B25: Sub-Total | K25: =I20+I21 -> 735700
B26: III. TRANSPORTES
B27: Material | D27: Vol-peso ó Cant. | E27: Distancia | G27: M3-Km | H27: Tarifa | I27: Valor-Unit.
B31: Sub-Total
B32: IV. MANO DE OBRA
B33: Trabajador | D33: Jornal | E33: Prestaciones | G33: Jornal Total | H33: Rendimiento | I33: Valor-Unit.
B34: MANO DE OBRA BB | D34: 209292 | E34: 2 | G34: =D34*E34 -> 418584 | H34: 10 | I34: =G34/H34 -> 41858.4
B38: Sub-Total | K38: =I34+I35 -> 41858.4
B40: Total Costo Directo | K40: =K38+K25+K17 -> 781744.56

Sheet OAP-5
B6: ANÁLISIS DE PRECIOS UNITARIOS CONSTRUCCIÓN
B7: ITEM: SUMINISTRO E INSTALACIÓN DE PROYECTOR LED DEPORTIVO 1200 W, 181200 LM, IP66 O SUPERIOR, PARA INSTALACIÓN EN ESTRUCTURA DE CUBIERTA, INCLUYE SOPORTE, CONEXIONES Y ACCESORIOS.CONTRA SOBRETENSIONES; INCLUYE ELEMENTOS DE FIJACIÓN A ESTRUCTURA METÁLICA, CONEXIONES, ACCESORIOS, PRUEBAS Y PUESTA EN FUNCIONAMIENTO.
B8: PROVINCIA: MUNICIPIO: | F8: GUALIVÁ Villeta | J8: ESPECIFICACIÓN: Particular UNIDAD: Unidad
B9: I. EQUIPO
B10: Descripción | E10: U.M | G10: Tarifa | H10: Rendimiento | I10: Valor-Unit.
B11: HERRAMIENTA MENOR | E11: GL | G11: 1046.46 | H11: 1 | I11: =H11*G11 -> 1046.46
B12: Equipo en altura
B17: Sub-Total | K17: =I11+I12 -> 1046.46
B18: II. MATERIALES EN OBRA
B19: Descripción | E19: Unidad | G19: Precio-Unit. | H19: Cantidad | I19: Valor-Unit.
B20: LUMINARIA LED - 1200W - 4000K/6000K - IP65 - | E20: UN | G20: 6012590 | H20: 1 | I20: =G20*H20 -> 6012590
B21: Cable encauchetado / conductor para alimentación | E21: ML | G21: 30000 | H21: 1.077 | I21: =G21*H21 -> 32310
B22: Caja de conexión exterior IP65/IP66 | E22: UN | G22: 30000 | H22: 1.077 | I22: =G22*H22 -> 32310
B23: Prensaestopas y conectores | E23: UN | G23: 30000 | H23: 1.077 | I23: =G23*H23 -> 32310
B24: Elementos de fijación, abrazaderas, tornillería galvanizada, terminales y consumibles | E24: GL | G24: 30000 | H24: 1.077 | I24: =G24*H24 -> 32310
B25: Sub-Total | K25: =+I20+I21+I22+I23+I24 -> 6141830
B26: III. TRANSPORTES
B27: Material | D27: Vol-peso ó Cant. | E27: Distancia | G27: M3-Km | H27: Tarifa | I27: Valor-Unit.
B31: Sub-Total
B32: IV. MANO DE OBRA
B33: Trabajador | D33: Jornal | E33: Prestaciones | G33: Jornal Total | H33: Rendimiento | I33: Valor-Unit.
B34: MANO DE OBRA BB | D34: 209292 | E34: 2 | G34: =D34*E34 -> 418584 | H34: 1.3 | I34: =G34/H34 -> 321987.69
B38: Sub-Total | K38: =I34+I35 -> 321987.69
B40: Total Costo Directo | K40: =K38+K25+K17 -> 6464864.2

Sheet OAP-6
B6: ANÁLISIS DE PRECIOS UNITARIOS CONSTRUCCIÓN
B7: CIRCUITO RAMAL TRIPLEX Cable Aislado No 4 Aluminio Serie 8000 THHN
B8: PROVINCIA: MUNICIPIO: | F8: GUALIVÁ Villeta | J8: ESPECIFICACIÓN: Particular UNIDAD: Unidad
B9: I. EQUIPO
B10: Descripción | E10: U.M | G10: Tarifa | H10: Rendimiento | I10: Valor-Unit.
B11: HERRAMIENTA MENOR | E11: GL | G11: 104.65 | H11: 1 | I11: =H11*G11 -> 104.65
B17: Sub-Total | K17: =I11+I12 -> 104.65
B18: II. MATERIALES EN OBRA
B19: Descripción | E19: Unidad | G19: Precio-Unit. | H19: Cantidad | I19: Valor-Unit.
B20: Cable Aislado No 4 AWG Aluminio Serie 8000 THHN Metros | E20: ML | G20: 3610 | H20: 3.3 | I20: =G20*H20 -> 11913
B21: CINTA AISLANTE NEGRA 18 MTS | E21: UN | G21: 6625 | H21: 0.05 | I21: =G21*H21 -> 331.25
B22: TUBERÍA EMT 1-1/2" | E22: ML | G22: 25013 | H22: 1.1 | I22: =G22*H22 -> 27514.3
I23: =G23*H23 -> 0
I24: =G24*H24 -> 0
B25: Sub-Total | K25: =I20+I21+I22 -> 39758.55
B26: III. TRANSPORTES
B27: Material | D27: Vol-peso ó Cant. | E27: Distancia | G27: M3-Km | H27: Tarifa | I27: Valor-Unit.
B31: Sub-Total
B32: IV. MANO DE OBRA
B33: Trabajador | D33: Jornal | E33: Prestaciones | G33: Jornal Total | H33: Rendimiento | I33: Valor-Unit.
B34: MANO DE OBRA BB | D34: 209292 | E34: 2 | G34: =D34*E34 -> 418584 | H34: 70 | I34: =G34/H34 -> 5979.7714
B38: Sub-Total | K38: =I34+I35 -> 5979.7714
B40: Total Costo Directo | K40: =K38+K25+K17 -> 45842.971

Sheet OAP-7
B6: ANÁLISIS DE PRECIOS UNITARIOS CONSTRUCCIÓN
B7: TANQUE PLÁSTICO ELEVADO 2000 LT (INCLUYE ACCESSORIOS E INSTALACIÓN)
B8: PROVINCIA: MUNICIPIO: | F8: GUALIVÁ Villeta | J8: ESPECIFICACIÓN: Particular UNIDAD: Unidad
B9: I. EQUIPO
B10: Descripción | E10: U.M | G10: Tarifa | H10: Rendimiento | I10: Valor-Unit.
B11: Herramienta menor | E11: GL | G11: 10460 | H11: 1 | I11: =H11*G11 -> 10460
B12: SECCION DE 1,4 POR 1,4 H=2,0 - ANDAMIO CERTIFICADO | G12: 31397 | H12: 1 | I12: =H12*G12 -> 31397
B13: Sub-Total | K13: =I11+I12 -> 41857
B14: II. MATERIALES EN OBRA
B15: Descripción | E15: Unidad | G15: Precio-Unit. | H15: Cantidad | I15: Valor-Unit.
B16: TANQUE PLÁSTICO 2000 LT INC. ACCESORIOS | E16: UND | G16: 1126900 | H16: 1 | I16: =G16*H16 -> 1126900
B22: Sub-Total | K22: =I16+I17+I18+I19 -> 1126900
B23: III. TRANSPORTES
B24: Material | D24: Vol-peso ó Cant. | E24: Distancia | G24: M3-Km | H24: Tarifa | I24: Valor-Unit.
B28: Sub-Total
B29: IV. MANO DE OBRA
B30: Trabajador | D30: Jornal | E30: Prestaciones | G30: Jornal Total | H30: Rendimiento | I30: Valor-Unit.
B31: MANO DE OBRA BB | D31: 228318 | E31: 2 | G31: =D31*E31 -> 456636 | H31: 2 | I31: =G31/H31 -> 228318
B35: Sub-Total | K35: =I31 -> 228318
B37: Total Costo Directo | K37: =K13+K22+K28+K35 -> 1397075

Sheet OAP-8
B6: ANÁLISIS DE PRECIOS UNITARIOS CONSTRUCCIÓN
B7: ITEM: MANTENIMIENTO Y REPARACIÓN DE PUERTA METÁLICA EXISTENTE, INCLUYE LIMPIEZA Y PREPARACIÓN DE SUPERFICIE, REMOCIÓN DE ÓXIDO Y PINTURA DETERIORADA, REPARACIÓN Y AJUSTE DE ELEMENTOS METÁLICOS, SOLDADURAS MENORES, AJUSTE O REPOSICIÓN DE HERRAJES DETERIORADOS, APLICACIÓN DE ANTICORROSIVO Y ACABADO EN ESMALTE, INCLUYE MATERIALES, EQUIPO, MANO DE OBRA Y DEMÁS ELEMENTOS NECESARIOS PARA SU CORRECTO FUNCIONAMIENTO.
B8: PROVINCIA: MUNICIPIO: | F8: GUALIVÁ Villeta | J8: ESPECIFICACIÓN: Particular UNIDAD: Unidad
B9: I. EQUIPO
B10: Descripción | E10: U.M | G10: Tarifa | H10: Rendimiento | I10: Valor-Unit.
B11: Herramienta menor | E11: GL | G11: 6008.37 | H11: 1 | I11: =H11*G11 -> 6008.37
B13: Sub-Total | K13: =I11 -> 6008.37
B14: II. MATERIALES EN OBRA
B15: Descripción | E15: Unidad | G15: Precio-Unit. | H15: Cantidad | I15: Valor-Unit.
B16: Pintura anticorrosiva para elementos metálicos | E16: GL | G16: 70405 | H16: 0.1 | I16: =G16*H16 -> 7040.5
B17: Esmalte sintético para acabado, dos manos | E17: GL | G17: 70405 | H17: 0.1 | I17: =G17*H17 -> 7040.5
B18: Lamina cold rolled CAL. 18 1.0 x 2.0 | E18: UN | G18: 61125.5 | H18: 0.5 | I18: =G18*H18 -> 30562.75
B19: Elementos de ferretería: bisagras, pasadores, tornillería y accesorios menores | E19: GL | G19: 62000 | H19: 1 | I19: =G19*H19 -> 62000
B21: Sub-Total | K21: =I16+I17+I18+I19 -> 106643.75
B22: III. TRANSPORTES
B23: Material | D23: Vol-peso ó Cant. | E23: Distancia | G23: M3-Km | H23: Tarifa | I23: Valor-Unit.
B27: Sub-Total
B28: IV. MANO DE OBRA
B29: Trabajador | D29: Jornal | E29: Prestaciones | G29: Jornal Total | H29: Rendimiento | I29: Valor-Unit.
B30: MANO DE OBRA DD | D30: 228318 | E30: 2 | G30: =E30*D30 -> 456636 | H30: 1.3 | I30: =G30/H30 -> 351258.46
B34: Sub-Total | K34: =I30+I31 -> 351258.46
B36: Total Costo Directo | K36: =K34+K21+K13 -> 463910.58

Sheet OAP-9
B6: ANÁLISIS DE PRECIOS UNITARIOS CONSTRUCCIÓN
B7: SUMINISTRO Y CONSTRUCCIÓN DE BANCA EN CONCRETO REFORZADO PARA CAMERINO, L=1,80 M, CON ASIENTO, RESPALDO Y SOPORTES LATERALES, ACABADO LISO, INCLUYE CONCRETO, ACERO DE REFUERZO, FORMALETA, ANCLAJES, MATERIALES, EQUIPO, MANO DE OBRA Y DEMÁS ELEMENTOS NECESARIOS PARA SU CORRECTA EJECUCIÓN.
B8: PROVINCIA: MUNICIPIO: | F8: GUALIVÁ Villeta | J8: ESPECIFICACIÓN: Particular UNIDAD: Unidad
B9: I. EQUIPO
B10: Descripción | E10: U.M | G10: Tarifa | H10: Rendimiento | I10: Valor-Unit.
B11: Herramienta menor | E11: GL | G11: 15464 | H11: 1 | I11: =H11*G11 -> 15464
B13: Sub-Total | K13: =I11 -> 15464
B14: II. MATERIALES EN OBRA
B15: Descripción | E15: Unidad | G15: Precio-Unit. | H15: Cantidad | I15: Valor-Unit.
B16: Concreto 3.000 psi | E16: M3 | G16: 515736 | H16: 0.2 | I16: =G16*H16 -> 103147.2
B17: ACERO DE REFUERZO 37000 PSI | E17: KG | G17: 6313 | H17: 18 | I17: =G17*H17 -> 113634
B18: Formaleta para concreto a la vista | E18: M2 | G18: 55000 | H18: 3.5 | I18: =G18*H18 -> 192500
B19: Alambre, separadores, anclajes y consumibles | E19: GL | G19: 25000 | H19: 1 | I19: =G19*H19 -> 25000
B22: Sub-Total | K22: =I16+I17+I18+I19 -> 434281.2
B23: III. TRANSPORTES
B24: Material | D24: Vol-peso ó Cant. | E24: Distancia | G24: M3-Km | H24: Tarifa | I24: Valor-Unit.
B28: Sub-Total
B29: IV. MANO DE OBRA
B30: Trabajador | D30: Jornal | E30: Prestaciones | G30: Jornal Total | H30: Rendimiento | I30: Valor-Unit.
B31: MANO DE OBRA BB | D31: 228318 | E31: 2 | G31: =D31*E31 -> 456636 | H31: 0.6 | I31: =G31/H31 -> 761060
B35: Sub-Total | K35: =I31 -> 761060
B37: Total Costo Directo | K37: =K13+K22+K28+K35 -> 1210805.2

Sheet OAP-10
B6: ANÁLISIS DE PRECIOS UNITARIOS CONSTRUCCIÓN
B7: CERRAMIENTO MALLA ESLABONADA C. 10 INC. ÁNGULO
B8: PROVINCIA: MUNICIPIO: | F8: GUALIVÁ Villeta | J8: ESPECIFICACIÓN: Particular UNIDAD: M2
B9: I. EQUIPO
B10: Descripción | E10: U.M | G10: Tarifa | H10: Rendimiento | I10: Valor-Unit.
B11: Herramienta menor | E11: GL | G11: 4566 | H11: 1 | I11: =H11*G11 -> 4566
B13: Sub-Total | K13: =I11 -> 4566
B14: II. MATERIALES EN OBRA
B15: Descripción | E15: Unidad | G15: Precio-Unit. | H15: Cantidad | I15: Valor-Unit.
B16: MALLA ESLABONADA CAL. 10 | E16: M2 | G16: 18366 | H16: 1 | I16: =G16*H16 -> 18366
B17: SOLDADURA ELÉCTRICA 0.004 KG DE 3/23" | E17: KG | G17: 27246 | H17: 0.3 | I17: =G17*H17 -> 8173.8
B18: ÁNGULO HIERRO 1" X 1" X 6M | E18: ML | G18: 8679 | H18: 2.1 | I18: =G18*H18 -> 18225.9
B22: Sub-Total | K22: =I16+I17+I18+I19 -> 44765.7
B23: III. TRANSPORTES
B24: Material | D24: Vol-peso ó Cant. | E24: Distancia | G24: M3-Km | H24: Tarifa | I24: Valor-Unit.
B28: Sub-Total
B29: IV. MANO DE OBRA
B30: Trabajador | D30: Jornal | E30: Prestaciones | G30: Jornal Total | H30: Rendimiento | I30: Valor-Unit.
B31: MANO DE OBRA DD | D31: 228318 | E31: 2 | G31: =D31*E31 -> 456636 | H31: 5 | I31: =G31/H31 -> 91327.2
B35: Sub-Total | K35: =I31 -> 91327.2
B37: Total Costo Directo | K37: =K13+K22+K28+K35 -> 140658.9

Sheet OAP-11
B6: ANÁLISIS DE PRECIOS UNITARIOS CONSTRUCCIÓN
B7: SUMINISTRO E INSTALACIÓN DE SIFÓN Y GRIFERÍA PARA LAVAMANOS EXISTENTE
B8: PROVINCIA: MUNICIPIO: | F8: GUALIVÁ Villeta | J8: ESPECIFICACIÓN: Particular UNIDAD: Unidad
B9: I. EQUIPO
B10: Descripción | E10: U.M | G10: Tarifa | H10: Rendimiento | I10: Valor-Unit.
B11: Herramienta menor | E11: GL | G11: 4566 | H11: 1 | I11: =H11*G11 -> 4566
B13: Sub-Total | K13: =I11 -> 4566
B14: II. MATERIALES EN OBRA
B15: Descripción | E15: Unidad | G15: Precio-Unit. | H15: Cantidad | I15: Valor-Unit.
B16: SIFÓN LAVAMANOS | E16: UN | G16: =(27900+26400)/2 -> 27150 | H16: 1 | I16: =G16*H16 -> 27150
B17: LLAVE LAVAMANOS | E17: UN | G17: =(174900+154900)/2 -> 164900 | H17: 1 | I17: =G17*H17 -> 164900
B22: Sub-Total | K22: =I16+I17+I18+I19 -> 192050
B23: III. TRANSPORTES
B24: Material | D24: Vol-peso ó Cant. | E24: Distancia | G24: M3-Km | H24: Tarifa | I24: Valor-Unit.
B28: Sub-Total
B29: IV. MANO DE OBRA
B30: Trabajador | D30: Jornal | E30: Prestaciones | G30: Jornal Total | H30: Rendimiento | I30: Valor-Unit.
B31: MANO DE OBRA BB | D31: 209292 | E31: 2 | G31: =D31*E31 -> 418584 | H31: 8 | I31: =G31/H31 -> 52323
B35: Sub-Total | K35: =I31 -> 52323
B37: Total Costo Directo | K37: =K13+K22+K28+K35 -> 248939

Sheet 1.1
A1: MEMORIAS DE CÁLCULO
B2: ALCALDÍA MUNICIPAL DE VILLETA SISTEMA INTEGRADO DE GESTIÓN SIG PROCESO: GESTIÓN DE PLANEACIÓN Y MEJORA CONTINUA FORMATO PRESUPUESTO APU
A3: ITEM | B3: 1.1
A4: REFERENCIA | B4: OAP-1
A5: DESCRIPCIÓN | B5: MANTENIMIENTO CORRECTIVO Y PUESTA EN FUNCIONAMIENTO DE BOMBA SUMERGIBLE PARA AGUAS RESIDUALES EXISTENTE
A6: UNIDAD | B6: UN
A7: CANTIDAD | B7: =H12 -> 2
A9: UBICACIÓN | C9: CANT | H9: ACUMULADO
A10: POZO DE BOMBEO DE AGUAS RESIDUALES | C10: 2 | H10: =+C10 -> 2
A12: TOTAL | H12: =H10 -> 2
A14: FOTO ó PLANO
A35: ING. JOSE MAURICIO BELLO PEREZ.
A36: Jefe Oficina Asesora de Planeación
A38: Proyectó: | B38: Arq. Stefanny Caballero - Profesional de apoyo OAP

Sheet 1.2
A1: MEMORIAS DE CÁLCULO
B2: ALCALDÍA MUNICIPAL DE VILLETA SISTEMA INTEGRADO DE GESTIÓN SIG PROCESO: GESTIÓN DE PLANEACIÓN Y MEJORA CONTINUA FORMATO PRESUPUESTO APU
A3: ITEM | B3: 1.2
A4: REFERENCIA | B4: OAP-2
A5: DESCRIPCIÓN | B5: MANTENIMIENTO Y ADECUACIÓN DEL TABLERO ELÉCTRICO Y SISTEMA DE CONTROL DE BOMBAS
A6: UNIDAD | B6: UN
A7: CANTIDAD | B7: =H14 -> 1
A9: UBICACIÓN | C9: CANT | H9: ACUMULADO
A10: SISTEMA DE BOMBEO DE AGUAS RESIDUALES | C10: 1 | H10: =+C10 -> 1
A14: TOTAL | H14: =H10 -> 1
A16: FOTO ó PLANO
A37: ING. JOSE MAURICIO BELLO PEREZ.
A38: Jefe Oficina Asesora de Planeación
A40: Proyectó: | B40: Arq. Stefanny Caballero - Profesional de apoyo OAP

Sheet 2.1
A1: MEMORIAS DE CÁLCULO
B2: ALCALDÍA MUNICIPAL DE VILLETA SISTEMA INTEGRADO DE GESTIÓN SIG PROCESO: GESTIÓN DE PLANEACIÓN Y MEJORA CONTINUA FORMATO PRESUPUESTO APU
A3: ITEM | B3: 2.1
A4: REFERENCIA | B4: CC 14,46
A5: DESCRIPCIÓN | B5: GRAMA SINTÉTICA PARA CAMPOS DEPORTIVOS
A6: UNIDAD | B6: M2
A7: CANTIDAD | B7: =H17 -> 1050
A9: UBICACIÓN | C9: CANT | D9: Ancho | E9: Longitud | F9: Área | H9: ACUMULADO
A10: LADO NORTE | C10: 1 | D10: 25 | E10: 8 | F10: =E10*D10 -> 200 | H10: =F10*C10 -> 200
A11: LADO SUR | C11: 1 | D11: 25 | E11: 8 | F11: =E11*D11 -> 200 | H11: =H10+F11 -> 400
A12: LADO OCCIDENTE | C12: 1 | D12: 20 | E12: 10 | F12: =E12*D12 -> 200 | H12: =H11+F12 -> 600
A13: LADO ORIENTE | C13: 1 | D13: 15 | E13: 10 | F13: =E13*D13 -> 150 | H13: =H12+F13 -> 750
A14: ÁREA CENTRAL | C14: 1 | D14: 15 | E14: 20 | F14: =E14*D14 -> 300 | H14: =H13+F14 -> 1050
A17: TOTAL | H17: =H14 -> 1050
A19: FOTO ó PLANO
A40: ING. JOSE MAURICIO BELLO PEREZ.
A41: Jefe Oficina Asesora de Planeación
A43: Proyectó: | B43: Arq. Stefanny Caballero - Profesional de apoyo OAP

Sheet 2.2
A1: MEMORIAS DE CÁLCULO
B2: ALCALDÍA MUNICIPAL DE VILLETA SISTEMA INTEGRADO DE GESTIÓN SIG PROCESO: GESTIÓN DE PLANEACIÓN Y MEJORA CONTINUA FORMATO PRESUPUESTO APU
A3: ITEM | B3: 2.2
A4: REFERENCIA | B4: OAP-3
A5: DESCRIPCIÓN | B5: MANTENIMIENTO DE SISTEMA DE DRENAJE SUBSUPERFICIAL EXISTENTE EN CANCHA DE CÉSPED SINTÉTICO, TIPO ESPINA DE PESCADO, INCLUYE LOCALIZACIÓN DE LÍNEAS DE DRENAJE, LIMPIEZA Y DESTAPE DE TUBERÍAS, LAVADO A PRESIÓN, RETIRO DE SEDIMENTOS, REVISIÓN DE CAJAS Y PUNTOS DE DESCARGA, REPOSICIÓN LOCALIZADA DE MATERIAL FILTRANTE Y GEOTEXTIL DONDE SE REQUIERA, PRUEBAS DE FLUJO Y LIMPIEZA FINAL.
A6: UNIDAD | B6: ML
A7: CANTIDAD | B7: =H15 -> 670
A9: UBICACIÓN | C9: CANT | D9: Ancho | G9: Total | H9: ACUMULADO
A10: TRAMO 1: COLECTOR LONGITUDINAL PRINCIPAL | C10: 1 | D10: 70 | G10: =C10*D10 -> 70 | H10: =D10*C10 -> 70
A11: TRAMO 2: RAMALES TRANSVERSALES LADO IZQUIERDO | C11: 10 | D11: 30 | G11: =C11*D11 -> 300 | H11: =+H10+G11 -> 370
A12: TRAMO 3: RAMALES TRANSVERSALES LADO DERECHO | C12: 10 | D12: 30 | G12: =C12*D12 -> 300 | H12: =+G12+H11 -> 670
A15: TOTAL | H15: =H12 -> 670
A17: FOTO ó PLANO
A38: ING. JOSE MAURICIO BELLO PEREZ.
A39: Jefe Oficina Asesora de Planeación
A41: Proyectó: | B41: Arq. Stefanny Caballero - Profesional de apoyo OAP

Sheet 3.1
A1: MEMORIAS DE CÁLCULO
B2: ALCALDÍA MUNICIPAL DE VILLETA SISTEMA INTEGRADO DE GESTIÓN SIG PROCESO: GESTIÓN DE PLANEACIÓN Y MEJORA CONTINUA FORMATO PRESUPUESTO APU
A3: ITEM | B3: 3.1
A4: REFERENCIA | B4: OAP-4
A5: DESCRIPCIÓN | B5: SUMINISTRO E INSTALACIÓN DE PROYECTOR LED TIPO REFLECTOR PARA EXTERIOR, POTENCIA 500 W, TEMPERATURA DE COLOR 5000 K, EFICIENCIA ≥130 LM/W, IP66, IK08 O SUPERIOR, TENSIÓN 100–277 V, CUERPO EN ALUMINIO, SOPORTE ORIENTABLE Y PROTECCIÓN CONTRA SOBRETENSIONES; INCLUYE ELEMENTOS DE FIJACIÓN A ESTRUCTURA METÁLICA, CONEXIONES, ACCESORIOS, PRUEBAS Y PUESTA EN FUNCIONAMIENTO.
A6: UNIDAD | B6: UN
A7: CANTIDAD | B7: =H13 -> 14
A9: UBICACIÓN | C9: CANT | H9: ACUMULADO
A10: LADO 1 | C10: 7 | H10: =C10 -> 7
A11: LADO 2 | C11: 7 | H11: =C11+H10 -> 14
A13: TOTAL | H13: =H11 -> 14
A15: FOTO ó PLANO
A36: ING. JOSE MAURICIO BELLO PEREZ.
A37: Jefe Oficina Asesora de Planeación
A39: Proyectó: | B39: Arq. Stefanny Caballero - Profesional de apoyo OAP

Sheet 3.2
A1: MEMORIAS DE CÁLCULO
B2: ALCALDÍA MUNICIPAL DE VILLETA SISTEMA INTEGRADO DE GESTIÓN SIG PROCESO: GESTIÓN DE PLANEACIÓN Y MEJORA CONTINUA FORMATO PRESUPUESTO APU
A3: ITEM | B3: 3.2
A4: REFERENCIA | B4: OAP-5
A5: DESCRIPCIÓN | B5: SUMINISTRO E INSTALACIÓN DE PROYECTOR LED DEPORTIVO 1200 W, 181200 LM, IP66 O SUPERIOR, PARA INSTALACIÓN EN ESTRUCTURA DE CUBIERTA, INCLUYE SOPORTE, CONEXIONES Y ACCESORIOS.CONTRA SOBRETENSIONES; INCLUYE ELEMENTOS DE FIJACIÓN A ESTRUCTURA METÁLICA, CONEXIONES, ACCESORIOS, PRUEBAS Y PUESTA EN FUNCIONAMIENTO.
A6: UNIDAD | B6: UN
A7: CANTIDAD | B7: =H15 -> 12
A9: UBICACIÓN | C9: CANT | H9: ACUMULADO
A10: TORRE1 | C10: 4 | H10: =C10 -> 4
A11: TORRE2 | C11: 3 | H11: =C11+H10 -> 7
A12: TORRE3 | C12: 3 | H12: =C12+H11 -> 10
A13: TORRE4 | C13: 2 | H13: =C13+H12 -> 12
A15: TOTAL | H15: =H13 -> 12
A17: FOTO ó PLANO
A38: ING. JOSE MAURICIO BELLO PEREZ.
A39: Jefe Oficina Asesora de Planeación
A41: Proyectó: | B41: Arq. Stefanny Caballero - Profesional de apoyo OAP

Sheet 3.3
A1: MEMORIAS DE CÁLCULO
B2: ALCALDÍA MUNICIPAL DE VILLETA SISTEMA INTEGRADO DE GESTIÓN SIG PROCESO: GESTIÓN DE PLANEACIÓN Y MEJORA CONTINUA FORMATO PRESUPUESTO APU
A3: ITEM | B3: 3.4
A4: REFERENCIA | B4: 12.76
A5: DESCRIPCIÓN | B5: INTERRUPTOR TERMOMAGNÉTICO ENCHUFABLE - TRIPOLAR 20A - 30A - 40A
A6: UNIDAD | B6: UN
A7: CANTIDAD | B7: =H12 -> 2
A9: UBICACIÓN | C9: CANT | H9: ACUMULADO
A10: TABLERO PRINCIPAL | C10: 2 | H10: =C10 -> 2
A12: TOTAL | H12: =H10 -> 2
A14: FOTO ó PLANO
A35: ING. JOSE MAURICIO BELLO PEREZ.
A36: Jefe Oficina Asesora de Planeación
A38: Proyectó: | B38: Arq. Stefanny Caballero - Profesional de apoyo OAP

Sheet 3.4
A1: MEMORIAS DE CÁLCULO
B2: ALCALDÍA MUNICIPAL DE VILLETA SISTEMA INTEGRADO DE GESTIÓN SIG PROCESO: GESTIÓN DE PLANEACIÓN Y MEJORA CONTINUA FORMATO PRESUPUESTO APU
A3: ITEM | B3: 3.5
A4: REFERENCIA | B4: OAP-6
A5: DESCRIPCIÓN | B5: CIRCUITO RAMAL TRIPLEX 3xNo.ALUMINIO-THHN/THWN-2 INCLUYE TUBERIA EMT
A6: UNIDAD | B6: ML
A7: CANTIDAD | B7: =H12 -> 140
A9: UBICACIÓN | C9: CANT | E9: LONGITUD | G9: TOTAL | H9: ACUMULADO
A10: LADO 1 | C10: 1 | E10: 70 | G10: =E10*C10 -> 70 | H10: =G10 -> 70
A11: LADO 2 | C11: 1 | E11: 70 | G11: =E11*C11 -> 70 | H11: =G11+H10 -> 140
A12: TOTAL | H12: =H11 -> 140
A14: FOTO ó PLANO
A35: ING. JOSE MAURICIO BELLO PEREZ.
A36: Jefe Oficina Asesora de Planeación
A38: Proyectó: | B38: Arq. Stefanny Caballero - Profesional de apoyo OAP

Sheet 4.1
A1: MEMORIAS DE CÁLCULO
B2: ALCALDÍA MUNICIPAL DE VILLETA SISTEMA INTEGRADO DE GESTIÓN SIG PROCESO: GESTIÓN DE PLANEACIÓN Y MEJORA CONTINUA FORMATO PRESUPUESTO APU
A3: ITEM | B3: 4.1
A4: REFERENCIA | B4: OAP-7
A5: DESCRIPCIÓN | B5: TANQUE PLÁSTICO ELEVADO 2.000 LT (INCLUYE ACCESORIOS E INSTALACIÓN)
A6: UNIDAD | B6: UN
A7: CANTIDAD | B7: =H11 -> 1
A9: UBICACIÓN | C9: CANT | G9: TOTAL | H9: ACUMULADO
A10: TANQUE SOBRE PLACA | C10: 1 | G10: 1 | H10: =G10 -> 1
A11: TOTAL | H11: 1
A13: FOTO ó PLANO
A34: ING. JOSE MAURICIO BELLO PEREZ.
A35: Jefe Oficina Asesora de Planeación
A37: Proyectó: | B37: Arq. Stefanny Caballero - Profesional de apoyo OAP

Sheet 4.2
A1: MEMORIAS DE CÁLCULO
B2: ALCALDÍA MUNICIPAL DE VILLETA SISTEMA INTEGRADO DE GESTIÓN SIG PROCESO: GESTIÓN DE PLANEACIÓN Y MEJORA CONTINUA FORMATO PRESUPUESTO APU
A3: ITEM | B3: 4.2
A4: REFERENCIA | B4: 11.8
A5: DESCRIPCIÓN | B5: CONEXIÓN TANQUE ELEVADO PVC. INC ACCESORIOS
A6: UNIDAD | B6: UN
A7: CANTIDAD | B7: =H11 -> 1
A9: UBICACIÓN | C9: CANT | G9: TOTAL | H9: ACUMULADO
A10: TANQUE SOBRE PLACA | C10: 1 | G10: 1 | H10: =G10 -> 1
A11: TOTAL | H11: 1
A13: FOTO ó PLANO
A34: ING. JOSE MAURICIO BELLO PEREZ.
A35: Jefe Oficina Asesora de Planeación
A37: Proyectó: | B37: Arq. Stefanny Caballero - Profesional de apoyo OAP

Sheet 4.3
A1: MEMORIAS DE CÁLCULO
B2: ALCALDÍA MUNICIPAL DE VILLETA SISTEMA INTEGRADO DE GESTIÓN SIG PROCESO: GESTIÓN DE PLANEACIÓN Y MEJORA CONTINUA FORMATO PRESUPUESTO APU
A3: ITEM | B3: 4.3
A4: REFERENCIA | B4: 11.27
A5: DESCRIPCIÓN | B5: RED SUMINISTRO PVC 1/2". INC ACCESORIOS
A6: UNIDAD | B6: ML
A7: CANTIDAD | B7: =H11 -> 25
A9: UBICACIÓN | C9: CANT | G9: TOTAL | H9: ACUMULADO
A10: CONEXIÓN PRINCIPAL | C10: 25 | G10: =C10 -> 25 | H10: =G10 -> 25
A11: TOTAL | H11: =H10 -> 25
A13: FOTO ó PLANO
A34: ING. JOSE MAURICIO BELLO PEREZ.
A35: Jefe Oficina Asesora de Planeación
A37: Proyectó: | B37: Arq. Stefanny Caballero - Profesional de apoyo OAP

Sheet 4.4
A1: MEMORIAS DE CÁLCULO
B2: ALCALDÍA MUNICIPAL DE VILLETA SISTEMA INTEGRADO DE GESTIÓN SIG PROCESO: GESTIÓN DE PLANEACIÓN Y MEJORA CONTINUA FORMATO PRESUPUESTO APU
A3: ITEM | B3: 4.4
A4: REFERENCIA | B4: 11.36
A5: DESCRIPCIÓN | B5: REGISTRO 1/2". INC ACCESORIOS
A6: UNIDAD | B6: UN
A7: CANTIDAD | B7: =H12 -> 2
A9: UBICACIÓN | C9: CANT | G9: TOTAL | H9: ACUMULADO
A10: CAMERINO VISITANTE | C10: 1 | G10: 1 | H10: 1
A11: CAMERINO LOCAL | C11: 1 | G11: =C11 -> 1 | H11: =G11+H10 -> 2
A12: TOTAL | H12: =H11 -> 2
A14: FOTO ó PLANO
A35: ING. JOSE MAURICIO BELLO PEREZ.
A36: Jefe Oficina Asesora de Planeación
A38: Proyectó: | B38: Arq. Stefanny Caballero - Profesional de apoyo OAP

Sheet 4.5
A1: MEMORIAS DE CÁLCULO
B2: ALCALDÍA MUNICIPAL DE VILLETA SISTEMA INTEGRADO DE GESTIÓN SIG PROCESO: GESTIÓN DE PLANEACIÓN Y MEJORA CONTINUA FORMATO PRESUPUESTO APU
A3: ITEM | B3: 4.5
A4: REFERENCIA | B4: 11.16
A5: DESCRIPCIÓN | B5: PUNTO HIDRÁULICO PVC-P/PARAL 1/2"
A6: UNIDAD | B6: UN
A7: CANTIDAD | B7: =H11 -> 1
A9: UBICACIÓN | C9: CANT | G9: TOTAL | H9: ACUMULADO
A10: CAMERINO VISITANTE | C10: 1 | G10: 1 | H10: 1
A11: TOTAL | H11: 1
A13: FOTO ó PLANO
A34: ING. JOSE MAURICIO BELLO PEREZ.
A35: Jefe Oficina Asesora de Planeación
A37: Proyectó: | B37: Arq. Stefanny Caballero - Profesional de apoyo OAP

Sheet 4.6
A1: MEMORIAS DE CÁLCULO
B2: ALCALDÍA MUNICIPAL DE VILLETA SISTEMA INTEGRADO DE GESTIÓN SIG PROCESO: GESTIÓN DE PLANEACIÓN Y MEJORA CONTINUA FORMATO PRESUPUESTO APU
A3: ITEM | B3: 4.6
A4: REFERENCIA | B4: 14.33
A5: DESCRIPCIÓN | B5: REJILLA METÁLICA TRADICIONAL 3X2 SOSCO
A6: UNIDAD | B6: UN
A7: CANTIDAD | B7: =H12 -> 25
A9: UBICACIÓN | C9: CANT | G9: TOTAL | H9: ACUMULADO
A10: CAMERINO LOCAL | C10: 12 | G10: =C10 -> 12 | H10: =G10 -> 12
A11: CAMERINO VISITANTE | C11: 13 | G11: =C11 -> 13 | H11: =G11+H10 -> 25
A12: TOTAL | H12: =H11 -> 25
A14: FOTO ó PLANO
A35: ING. JOSE MAURICIO BELLO PEREZ.
A36: Jefe Oficina Asesora de Planeación
A38: Proyectó: | B38: Arq. Stefanny Caballero - Profesional de apoyo OAP

Sheet 5.1
A1: MEMORIAS DE CÁLCULO
B2: ALCALDÍA MUNICIPAL DE VILLETA SISTEMA INTEGRADO DE GESTIÓN SIG PROCESO: GESTIÓN DE PLANEACIÓN Y MEJORA CONTINUA FORMATO PRESUPUESTO APU
A3: ITEM | B3: 5.1
A4: REFERENCIA | B4: OAP-8
A5: DESCRIPCIÓN | B5: MANTENIMIENTO Y REPARACIÓN DE PUERTA METÁLICA EXISTENTE, INCLUYE LIMPIEZA Y PREPARACIÓN DE SUPERFICIE, REMOCIÓN DE ÓXIDO Y PINTURA DETERIORADA, REPARACIÓN Y AJUSTE DE ELEMENTOS METÁLICOS, SOLDADURAS MENORES, AJUSTE O REPOSICIÓN DE HERRAJES DETERIORADOS, APLICACIÓN DE ANTICORROSIVO Y ACABADO EN ESMALTE, INCLUYE MATERIALES, EQUIPO, MANO DE OBRA Y DEMÁS ELEMENTOS NECESARIOS PARA SU CORRECTO FUNCIONAMIENTO.
A6: UNIDAD | B6: M2
A7: CANTIDAD | B7: =H14 -> 20
A9: UBICACIÓN | C9: CANT | F9: TOTAL | H9: ACUMULADO
A10: PUERTA SALIDA CAMERINO LOCAL | C10: 5 | F10: =C10 -> 5 | H10: =F10 -> 5
A11: PUERTA SALIDA CAMERINO LOCAL | C11: 5 | F11: =C11 -> 5 | H11: =F11+H10 -> 10
A12: PUERTA SALIDA CAMERINO VISITANTE | C12: 5 | F12: =C12 -> 5 | H12: =F12+H11 -> 15
A13: PUERTA SALIDA CAMERINO VISITANTE | C13: 5 | F13: =C13 -> 5 | H13: =F13+H12 -> 20
A14: TOTAL | H14: =H13 -> 20
A16: FOTO ó PLANO
A37: ING. JOSE MAURICIO BELLO PEREZ.
A38: Jefe Oficina Asesora de Planeación
A40: Proyectó: | B40: Arq. Stefanny Caballero - Profesional de apoyo OAP

Sheet 5.2
A1: MEMORIAS DE CÁLCULO
B2: ALCALDÍA MUNICIPAL DE VILLETA SISTEMA INTEGRADO DE GESTIÓN SIG PROCESO: GESTIÓN DE PLANEACIÓN Y MEJORA CONTINUA FORMATO PRESUPUESTO APU
A3: ITEM | B3: 5.2
A4: REFERENCIA | B4: OAP-9
A5: DESCRIPCIÓN | B5: SUMINISTRO Y CONSTRUCCIÓN DE BANCA EN CONCRETO REFORZADO PARA CAMERINO, L=1,80 M, CON ASIENTO, RESPALDO Y SOPORTES LATERALES, ACABADO LISO, INCLUYE CONCRETO, ACERO DE REFUERZO, FORMALETA, ANCLAJES, MATERIALES, EQUIPO, MANO DE OBRA Y DEMÁS ELEMENTOS NECESARIOS PARA SU CORRECTA EJECUCIÓN.
A6: UNIDAD | B6: UN
A7: CANTIDAD | B7: =H12 -> 20
A9: UBICACIÓN | C9: CANT | G9: TOTAL | H9: ACUMULADO
A10: CAMERINO LOCAL | C10: 10 | G10: =C10 -> 10 | H10: =G10 -> 10
A11: CAMERINO VISITANTES | C11: 10 | G11: =C11 -> 10 | H11: =G11+H10 -> 20
A12: TOTAL | H12: =H11 -> 20
A14: FOTO ó PLANO
A35: ING. JOSE MAURICIO BELLO PEREZ.
A36: Jefe Oficina Asesora de Planeación
A38: Proyectó: | B38: Arq. Stefanny Caballero - Profesional de apoyo OAP

Sheet 5.3
A1: MEMORIAS DE CÁLCULO
B2: ALCALDÍA MUNICIPAL DE VILLETA SISTEMA INTEGRADO DE GESTIÓN SIG PROCESO: GESTIÓN DE PLANEACIÓN Y MEJORA CONTINUA FORMATO PRESUPUESTO APU
A3: ITEM | B3: 5.4
A4: REFERENCIA | B4: 7.28
A5: DESCRIPCIÓN | B5: TEJA TIPO SANDWICH 525-C CAL. 26, POLIURETANO INYECTADO 30MM
A6: UNIDAD | B6: M2
A7: CANTIDAD | B7: =H11 -> 30
A9: UBICACIÓN | C9: CANT | D9: LONGITUD | E9: ANCHO | F9: AREA | G9: TOTAL | H9: ACUMULADO
A10: BANCAS SUPLENTES | C10: 1 | D10: 20 | E10: 1.5 | F10: =D10*E10 -> 30 | G10: =F10 -> 30 | H10: =G10 -> 30
A11: TOTAL | H11: =H10 -> 30
A13: FOTO ó PLANO
A34: ING. JOSE MAURICIO BELLO PEREZ.
A35: Jefe Oficina Asesora de Planeación
A37: Proyectó: | B37: Arq. Stefanny Caballero - Profesional de apoyo OAP
