Workbook
Name \0: #REF!
Name \0: #REF!
Name \0: #REF!
Name \0: #REF!
Name \0: #REF!
Name \00: #REF!
Name \00: #REF!
Name \00: #REF!
Name \00: #REF!
Name \00: #REF!
Name \a: #REF!
Name \a: #REF!
Name \a: #REF!
Name \a: #REF!
Name \a: #REF!
Name \a: #REF!
Name \a: #REF!
Name \a: #REF!
Name \a: #REF!
Name \a: #REF!
Name \a: #REF!
Name \a: #REF!
Name \a: #REF!
Name \a: #REF!
Name \a: #REF!
Name \a: #REF!
Name \a: #REF!
Name \a: #REF!
Name \a: #REF!
Name \a: #REF!
Name \a: #REF!
Name \a: #REF!
Name \a: #REF!
Name \a: #REF!
Name \a: #REF!
Name \a: #REF!
Name \a: #REF!
Name \a: #REF!
Name \AA: #REF!
Name \AA: [1]LIQUIDACION!#REF!
Name \AA: #REF!
Name \AA: #REF!
Name \AA: [1]LIQUIDACION!#REF!
Name \b: #REF!
Name \b: [2]STRSUMM0!#REF!
Name \b: #REF!
Name \b: #REF!
Name \b: [2]STRSUMM0!#REF!
Name \bb: #REF!
Name \bb: [2]STRSUMM0!#REF!
Name \bb: #REF!
Name \bb: #REF!
Name \bb: [2]STRSUMM0!#REF!
Name \E: #REF!
Name \E: #REF!
Name \E: #REF!
Name \E: #REF!
Name \E: #REF!
Name \EE: #REF!
Name \EE: #REF!

Sheet PRESUPUESTO OFICIAL (Entidad)
B1: Formulario 1 - Propuesta económica - Documento tipo de selección abreviada de menor cuantía - versión 1
B2: Versión: 1 del 21 de agosto de 2025
C5: FORMULARIO 1
C6: PRESUPUESTO OFICIAL
C7: [La entidad puede utilizar este formulario de detalle del presupuesto oficial para determinar las condiciones bajo las cuales los proponentes analizarán y presentarán su propuesta económica de forma detallada, sin perjuicio que la entidad pueda modificarlo o establecer la presentación de la oferta económica con un formulario distinto al indicado.]
C9: Adicionalmente, cuando el proceso de contratación es estructurado por precios unitarios, la Entidad debe aplicar las notas 1, 2 y 3 del presente formulario y las casillas de "Descripción", "Porcentaje" de la Administración, Imprevisto, Utilidad y total A.I.U. resaltadas en colo amarillo. Tratándose de otras modalidades de precio, la Entidad puede o no configurar los mismos aspectos.
C10: CENTRO DE CONVIVENCIA
C11: Nº | D11: ITEM DE PAGO | E11: ESPECIFICACIONES | G11: DESCRIPCION | H11: UND. | I11: CANTIDAD | J11: VALOR UNITARIO | K11: VALOR TOTAL | N11: CONSTRUPRECIOS
E12: GENERAL | F12: PARTICULAR
C13: 1 | G13: PRELIMINARES
C14: 1.01 | G14: DEMOLICION DE PISO EN CONCRETO | H14: M2 | I14: 80 | J14: ='ITEM 1,01'!O66 -> 43633 | K14: =ROUND(I14*J14,0) -> 3490640 | N14: 56240 | O14: MNUAL
C15: 1.02 | G15: DEMOLICION DE CERAMICA | H15: M2 | I15: 40 | J15: ='ITEM 1,02'!O68 -> 15453 | K15: =ROUND(I15*J15,0) -> 618120 | N15: 29027
C16: 1.03 | G16: PREPARACION DE SUPERFICIE | H16: M2 | I16: 208 | J16: ='ITEM 1,03'!O68 -> 5200 | K16: =ROUND(I16*J16,0) -> 1081600
C17: Subtotal | K17: =SUM(K14:K16) -> 5190360
C18: 3 | G18: CONCRETOS, MORTEROS Y MAMPOSTERIA
C19: 2.01 | G19: CONSTRUCCIÓN DE MURO EN BLOQUE NO.5 ROSADO B=0.10M | H19: M2 | I19: 100 | J19: ='ITEM 2,01'!O68 -> 96440 | K19: =ROUND(I19*J19,0) -> 9644000 | N19: 112000
C20: 2.02 | G20: PAÑETE LISO 1:5 | H20: M2 | I20: 208 | J20: ='ITEM 2,02'!O73 -> 62797 | K20: =ROUND(I20*J20,0) -> 13061776 | N20: 46991
C21: 2.03 | G21: PLACA MACIZA EN MESONES 0.60 DE ANCHO | H21: ML | I21: =5*2.5 -> 12.5 | J21: ='ITEM 2,03'!O70 -> 190474 | K21: =ROUND(I21*J21,0) -> 2380925 | N21: 222820
C22: 2.04 | G22: MORTERO DENIVELACIÓN 5.00 CM CON MORTERO DE CEMENTO 1:4 | H22: M2 | I22: =5*2.2*0.6 -> 6.6 | J22: ='ITEM 2,04'!O69 -> 64561 | K22: =ROUND(I22*J22,0) -> 426103 | N22: 69332
C23: 2.05 | G23: ALISTADO DE PISO | H23: M2 | I23: =I15 -> 40 | J23: ='ITEM 2,05'!O69 -> 78752 | K23: =ROUND(I23*J23,0) -> 3150080 | N23: 69332
C24: Subtotal | K24: =SUM(K19:K23) -> 28662884
C25: 6 | G25: APARATOS SANITARIOS
C26: 3.01 | G26: SUMINISTRO E INSTALACION DE GRIFERIA DUCHA TIPO ECONOMICA (Incluye manija y accesorios) | H26: UND | I26: 10 | J26: ='ITEM 3,01'!O69 -> 653731 | K26: =ROUND(I26*J26,0) -> 6537310
C27: 3.02 | G27: SUMINISTRO E INSTALACIÓN DE COMBO SANITARIO (INCLUYE SANITARIO, LAVAMANOS, GRIFERÍA LAVAMANOS, INCRUSTACIONES 5 UND. Y ACCESORIOS) | H27: UND | I27: 10 | J27: ='ITEM 3,02'!O70 -> 878413 | K27: =ROUND(I27*J27,0) -> 8784130 | N27: 812000
C28: 3.03 | G28: LAVAPLATOS 60 X 40 INOXIDABLE EMPOTRAR | H28: UND | I28: 10 | J28: ='ITEM 3,03'!O68 -> 389040 | K28: =ROUND(I28*J28,0) -> 3890400
C29: 3.04 | G29: SUMINISTRO E INSTALACION DE GRIFERIA PARA LAVAPLATOS - TIPO ECONOMICA CON MEZCLADOR y MONOCONTROL (Incluye accesorios) | H29: UND | I29: 10 | J29: ='ITEM 3,04'!O68 -> 340586 | K29: =ROUND(I29*J29,0) -> 3405860
C30: Subtotal | K30: =SUM(K26:K29) -> 22617700
C31: 8 | G31: ENCHAPES, MUROS Y PISOS
C32: 4.01 | G32: PISO EN CONCRETO CON MALLA ELECTROSOLDADA e=10cm | H32: M2 | I32: =I14+90 -> 170 | J32: ='ITEM 4,01'!O74 -> 193753 | K32: =ROUND(I32*J32,0) -> 32938010
C33: 4.02 | G33: SUMINISTRO E INSTALACION PARED EN CERAMICA BRILLANTE LISA, FORMATOS 20 cm x 30 cm hasta 30 cm x 60 cm (INCLUYE - ADHESIVO Y BOQUILLA) TIPO CORONA O SIMILAR. | H33: M2 | I33: =10*2.2*1.5*2.6 -> 85.8 | J33: ='ITEM 4,02'!O74 -> 166145 | K33: =ROUND(I33*J33,0) -> 14255241 | N33: 131799 | O33: VERONA
C34: 4.03 | G34: SUMINISTRO E INSTALACION DE PISO CERAMICA ANTIDESLIZANTE, FORMATOS de 33,8 cm x 33,8 cm HASTA 61 cm x 61 cm (INCLUYE - ADHESIVO Y BOQUILLA) TIPO CORONA O SIMILAR. | H34: M2 | I34: =I32+I15+(10*2.2*1.5) -> 243 | J34: ='ITEM 4,03'!O74 -> 191236 | K34: =ROUND(I34*J34,0) -> 46470348 | N34: 170655 | O34: CIAMANTE
C35: 4.04 | G35: SUMINISTRO E INSTALACION DE GUARDAESCOBA EN CERAMICA ANTIDESLIZANTE, h=8 cm (Incluye adhesivo y boquilla) | H35: ML | I35: 100 | J35: ='ITEM 4,04'!O74 -> 31340 | K35: =ROUND(I35*J35,0) -> 3134000
C36: 4.05 | G36: SUMINISTRO E INSTALACION DE ENCHAPE DE MESON CERAMICA, FORMATOS de 20 cm x 30 cm hasta 30 cm x 40 cm (Incluye adhesivo y boquilla). | H36: M2 | I36: =(I21*0.6)+(I22) -> 14.1 | J36: ='ITEM 4,05'!O74 -> 237572 | K36: =ROUND(I36*J36,0) -> 3349765
C37: 4.06 | G37: PASTA PARA MUROS | H37: M2 | I37: =I20 -> 208 | J37: ='ITEM 4,06'!O74 -> 45128 | K37: =ROUND(I37*J37,0) -> 9386624 | N37: 33692
C38: 4.07 | G38: PINTURA EN VINILO 3 MANOS | H38: M3 | I38: =I37 -> 208 | J38: ='ITEM 4,07'!O74 -> 27914 | K38: =ROUND(I38*J38,0) -> 5806112 | N38: 18465
C39: Subtotal | K39: =SUM(K32:K38) -> 115340100
C40: 5 | G40: CUBIERTAS
C41: 5.01 | G41: SUMINISTRO E INSTALACION DE TEJA ARQUITECTONICA EN LAMINA GALVANIZADA O SIMILAR calibre 30, e=0,3 mm | H41: M2 | I41: 80 | J41: ='ITEM 5,01'!O74 -> 109640 | K41: =ROUND(I41*J41,0) -> 8771200 | N41: 117668 | O41: UPVC
C42: 5.02 | G42: SUMINISTRO E INSTALACION DE PERFIL EN TUBO RECTANGULAR PTE 80 MM X 40 MM, e=2 mm (Incluye anticorrosivo) | H42: ML | I42: =I41*1.2 -> 96 | J42: ='ITEM 5,02'!O74 -> 84339 | K42: =ROUND(I42*J42,0) -> 8096544
C43: 5.03 | G43: SUMINISTRO E INSTALACION DE CIELO RASO EN DRYWALL | H43: M2 | I43: 40.789099 | J43: ='ITEM 5,03'!O76 -> 110766 | K43: =ROUND(I43*J43,0) -> 4518045 | N43: 114674
...

Sheet PROPUESTA ECONOMICA(Proponente)
B1: Formulario 1 - Propuesta económica - Documento tipo de selección abreviada de menor cuantía - versión 1
B2: Versión: 1 del 21 de agosto de 2025
C5: FORMULARIO 1
C6: PROPUESTA ECONOMICA
C7: [La entidad puede utilizar este formulario de presentación de propuesta económica de forma detallada, sin perjuicio que la entidad pueda modificarlo o establecer la presentación de la oferta económica con un formulario distinto al indicado.] [Los proponentes emplearán el formulario establecido por la entidad para determinar su propuesta económica conforme al Formulario 1 - Presupuesto Oficial publicado por la Entidad] [En caso de modificar el formulario, es importante tener en cuenta que no se deben incluir causales de rechazo, reglas o parámetros contrarios a los definidos en el documento base. Los términos del proceso solo se encuentran en el Documento Base, por lo que la Entidad no deberá incluir ningún tipo de notas que se configuren en reglas contrarias a las definidas en dicho documento, las notas únicamente pueden ser aclaratorias para efectos del diligenciamiento del formato]
C9: Cuando el proceso de contratación es estructurado por precios unitarios, la Entidad debe aplicar las notas 1, 2 y 3 del presente formato y las casillas de "Descripción", "Porcentaje" de la Administración, Imprevisto, Utilidad y total A.I.U. resaltadas en color amarillo.
C11: Nº | D11: ITEM DE PAGO | E11: ESPECIFICACIONES | G11: DESCRIPCION | H11: UND. | I11: CANTIDAD | J11: VALOR UNITARIO | K11: VALOR TOTAL
E12: GENERAL | F12: PARTICULAR
C15: Subtotal
C21: Subtotal
C31: Subtotal
C36: Subtotal
C39: Subtotal
C40: SUBTOTAL OBRAS
G45: SUBTOTAL OBRAS (INCLUYE IVA)
G49: VALOR TOTAL
C52: NOTA 1: Se debe tener en cuenta que el PRECIO UNITARIO incluye el valor de A.I.U. | H52: DESCRIPCION | K52: PORCENTAJE
C53: NOTA 2: Cuando la fracción decimal del peso sea igual o superior a 5 se aproximara por exceso al número entero siguiente del peso y cuando la fracción decimal del peso sea inferior a 5 se aproximará por defecto al número entero del peso. | H53: ADMINISTRACION | J53: A= | K53: [Ofrecimiento del Proponente]
C54: NOTA 3: El A.I.U y su discriminación deben estar en porcentaje (%). | H54: IMPREVISTO | J54: I= | K54: [Ofrecimiento del Proponente]
H55: UTILIDAD | J55: U= | K55: [Ofrecimiento del Proponente]
H56: TOTAL A.I.U | J56: A.I.U.= | K56: [Ofrecimiento del Proponente]
G59: Firma del Proponente o de su Representante Legal

Sheet MANO DE OBRA 
A1: Análisis de precios de mano de obra y transporte
A3: Salario mínimo mensual legal vigente (SMMLV) [ $ COL ]*: | C3: 1750905
A4: Concepto | B4: Relación de calculo | C4: Básico (%)
A5: Salario días trabajados | B5: 366(100/277) | C5: =366*100/277 -> 132.12996
A6: Prestaciones | C6: =SUM(C7:C10) -> 30.801444
A7: Cesantías | B7: 3(12)(100/277) | C7: =3*12*100/277 -> 12.99639
A8: Interés cesantías | B8: 0,12(CESANTÍAS) | C8: =0.12*C7 -> 1.5595668 | I8: =366/12 -> 30.5
A9: Primas de servicios | B9: 30(100/246) | C9: =30*100/277 -> 10.830325
A10: Dotación | B10: (5)(SMMLV)(3)(100/277) | C10: =5*1*3*100/277 -> 5.4151625
A11: Aportes | C11: =SUM(C12:C18) -> 51.398556
A12: Pensiones | B12: 12 | C12: =B12*366/277 -> 15.855596
A13: E.P.S | B13: 8.5 | C13: =B13*366/277 -> 11.231047 | F13: =C3*236.44% -> 4139839.8 | G13: =F13/30.5 -> 135732.45
A14: A.R.L | B14: 6.9 | C14: =B14*366/277 -> 9.1169675
A15: Sena | B15: 2 | C15: =B15*366/277 -> 2.6425993
A16: ICBF | B16: 3 | C16: =B16*366/277 -> 3.9638989
A17: C.C.F | B17: 4 | C17: =B17*366/277 -> 5.2851986
A18: F.I.C | B18: (366/40)(SMMLV)(100/277) | C18: =(366/277/40)*100 -> 3.3032491
A19: Otros conceptos | C19: =SUM(C20:C22) -> 22.110181
A20: Auxilio de transporte | B20: 15,22(366/277)(SMMLV) | C20: =15.22*366/277 -> 20.110181
A21: Indemnizaciones | C21: 2
A22: Otros
A23: Total pagado como relación de salario básico (%): | C23: =SUM(C5:C6,C11,C19) -> 236.44014
A24: Precio mano obra día
A25: Concepto | B25: Relación calculo | C25: Salario ($ COL/día)
A26: SB diario | B26: SB mensual/(365 días/ 12 mes) | C26: =$C$23%*$C$3/(366/12) -> 135732.53
A27: Ayudante de construcción | B27: 1 | C27: =C26 -> 135732.53
A28: Ayudante de especialidad | B28: 1.2 | C28: =1.2*C26 -> 162879.04
A29: Cadenero | B29: 1.2 | C29: =1.2*C27 -> 162879.04
A30: Oficial de construcción | B30: 1.5 | C30: =1.5*C26 -> 203598.8
A31: Oficial de especialidad | B31: 2 | C31: =2*C26 -> 271465.07
A32: Topografo | B32: 1.8 | C32: =1.8*C27 -> 244318.56
A33: Maestro | B33: 3 | C33: =3*C26 -> 407197.6
A34: Técnico | B34: 2.5 | C34: =2.5*C26 -> 339331.34
A35: Precio mano obra día al 113%
A36: AYUDANTE | B36: 1 | C36: =ROUND((C27/1.13),0) -> 120117
A37: AYUDANTE ESPECIALIZADO | B37: 1.2 | C37: =ROUND((C28/1.13),0) -> 144141
A38: OFICIAL | B38: 1.5 | C38: =ROUND((C30/1.13),0) -> 180176
A39: OFICIAL ESPECIALIZADO | B39: 2 | C39: =ROUND((C31/1.13),0) -> 240235 | F39: =C3/30 -> 58363.5 | G39: =F39*2.3 -> 134236.05
A40: Topografo | B40: 1.8 | C40: =ROUND((C32/1.13),0) -> 216211
A41: Cadenero | B41: 1.2 | C41: =ROUND((C29/1.13),0) -> 144141
...

Sheet C-21 MPA 
B1: Formulario 1 - Propuesta económica - Documento tipo de selección abreviada de menor cuantía
B2: Versión: 1 del 21 de agosto de 2025
C5: [La entidad podrá utilizar este formato para la presentación de los análisis de precios unitarios el contratista en la oportunidad prevista en el numeral 8.2. del Documento Base]
D8: ALCALDIA DE VILLA DEL ROSARIO
L9: VERSIÓN
D10: [NÚMERO DEL PROCESO]
L11: PÁGINA | M11: 1 | N11: DE | O11: 1
D13: ANALISIS DE PRECIOS UNITARIOS
L15: FECHA | M15: DD | N15: MM | O15: AA
C17: ITEMS DE LA PROPUESTA ECONÓMICA
C21: DATOS ESPECÍFICOS
C23: ITEM | D23: DESCRIPCIÓN | M23: UNIDAD | O23: CANTIDAD
C24: ='PRESUPUESTO OFICIAL (Entidad)'!C14 -> 1.01 | D24: CONCRETO 1:2:3 | M24: ='PRESUPUESTO OFICIAL (Entidad)'!H14 -> M2
C25: I. EQUIPO
C28: DESCRIPCIÓN | H28: MARCA | J28: TIPO | L28: TARIFA/HORA | M28: RENDIMIENTO | O28: Vr. UNITARIO
C29: MEZCLADORA BULTO | J29: DU | L29: 91300 | M29: 3.578 | O29: =L29/M29 -> 25517.049
C31: HERRAMIENTA MENOR (5%) | M31: 0.05 | O31: =M31*O58 -> 4738.55
C32: SUBTOTAL $ | O32: =ROUND(SUM(O29:O31),0) -> 30256
C33: II. MATERIALES
C36: DESCRIPCIÓN | K36: UNIDAD | L36: CANTIDAD | M36: PRECIO UNIT. | O36: Vr. UNITARIO
C37: CEMENTO GRIS | K37: KG | L37: 375 | M37: 793 | O37: =M37*L37 -> 297375
C38: Grava triturada 3/4" | K38: M3 | L38: 0.85 | M38: 61000 | O38: =M38*L38 -> 51850
C39: ARENA | K39: M3 | L39: 0.65 | M39: 90000 | O39: =M39*L39 -> 58500
C41: Desperdicio: 5% Vr. Materiales
C42: SUBTOTAL $ | O42: =SUM(O37:O39) -> 407725
C43: III. TRANSPORTES
C46: MATERIAL | J46: VOL. o PESO | K46: DISTANCIA | L46: M3 o Ton/Km | M46: TARIFA | O46: Vr. UNITARIO
C49: SUBTOTAL $
C50: IV. MANO DE OBRA
C53: TRABAJADOR | J53: JORNAL | K53: PRESTACIONES | L53: JORNAL TOTAL | M53: RENDIMIENTO | O53: Vr. UNITARIO
C54: 2 AYUDANTE | J54: ='MANO DE OBRA '!C42 -> 300293 | K54: 1.13 | L54: =J54*K54 -> 339331.09 | M54: 3.58055 | O54: =L54/M54 -> 94770.661
C58: SUBTOTAL $ | O58: =ROUND(SUM(O54:O57),0) -> 94771
C60: TOTAL COSTO DIRECTO $ | O60: =O32+O42+O49+O58 -> 532752
C61: V. COSTOS INDIRECTOS
C64: Descripción | L64: Porcentaje | M64: Valor Total
C65: ADMINISTRACION | L65: 0.3 | M65: =O60 -> 532752 | O65: =L65*M65 -> 159825.6
C66: UTILIDAD | L66: 0.05 | M66: =O60 -> 532752 | O66: =L66*M66 -> 26637.6
C67: SUBTOTAL $ | O67: =ROUND(SUM(O65:O66),0) -> 186463
C69: Precio Unitario Total Aproximado al peso $ | O69: =O60+O67 -> 719215
H73: Firma
...

Sheet M 14
A1: Formulario 1 - Propuesta económica - Documento tipo de selección abreviada de menor cuantía
A2: Versión: 1 del 21 de agosto de 2025
B5: [La entidad podrá utilizar este formato para la presentación de los análisis de precios unitarios el contratista en la oportunidad prevista en el numeral 8.2. del Documento Base]
C8: ALCALDIA DE VILLA DEL ROSARIO
K9: VERSIÓN
C10: [NÚMERO DEL PROCESO]
K11: PÁGINA | L11: 1 | M11: DE | N11: 1
C13: ANALISIS DE PRECIOS UNITARIOS
K15: FECHA | L15: DD | M15: MM | N15: AA
B17: ITEMS DE LA PROPUESTA ECONÓMICA
B21: DATOS ESPECÍFICOS
B23: ITEM | C23: DESCRIPCIÓN | L23: UNIDAD | N23: CANTIDAD
B24: ='PRESUPUESTO OFICIAL (Entidad)'!B14 -> 0 | C24: MORTERO 1:4 | L24: M2
B25: I. EQUIPO
B28: DESCRIPCIÓN | G28: MARCA | I28: TIPO | K28: TARIFA/HORA | L28: RENDIMIENTO | N28: Vr. UNITARIO
B29: MEZCLADORA BULTO | I29: DU | K29: 91300 | L29: 4.08195 | N29: =K29/L29 -> 22366.761
B31: HERRAMIENTA MENOR (5%) | L31: 0.05 | N31: =L31*N57 -> 4158.45
B32: SUBTOTAL $ | N32: =ROUND(SUM(N29:N31),0) -> 26525
B33: II. MATERIALES
B36: DESCRIPCIÓN | J36: UNIDAD | K36: CANTIDAD | L36: PRECIO UNIT. | N36: Vr. UNITARIO
B37: CEMENTO GRIS | J37: KG | K37: 370 | L37: 793 | N37: =L37*K37 -> 293410
B38: ARENA | J38: M3 | K38: 1.2 | L38: 90000 | N38: =L38*K38 -> 108000
B40: Desperdicio: 5% Vr. Materiales
B41: SUBTOTAL $ | N41: =SUM(N37:N38) -> 401410
B42: III. TRANSPORTES
B45: MATERIAL | I45: VOL. o PESO | J45: DISTANCIA | K45: M3 o Ton/Km | L45: TARIFA | N45: Vr. UNITARIO
B48: SUBTOTAL $
B49: IV. MANO DE OBRA
B52: TRABAJADOR | I52: JORNAL | J52: PRESTACIONES | K52: JORNAL TOTAL | L52: RENDIMIENTO | N52: Vr. UNITARIO
B53: 2 AYUDANTE | I53: ='MANO DE OBRA '!C42 -> 300293 | J53: 1.13 | K53: =I53*J53 -> 339331.09 | L53: 4.0800189 | N53: =K53/L53 -> 83169.001
B57: SUBTOTAL $ | N57: =SUM(N53:N56) -> 83169.001
B59: TOTAL COSTO DIRECTO $ | N59: =N32+N41+N48+N57 -> 511104
B60: V. COSTOS INDIRECTOS
B63: Descripción | K63: Porcentaje | L63: Valor Total
B64: ADMINISTRACION | K64: 0.3 | L64: =N59 -> 511104 | N64: =K64*L64 -> 153331.2
B65: UTILIDAD | K65: 0.05 | L65: =N59 -> 511104 | N65: =K65*L65 -> 25555.2
B66: SUBTOTAL $ | N66: =ROUND(SUM(N64:N65),0) -> 178886
B68: Precio Unitario Total Aproximado al peso $ | N68: =ROUND(N59+N66,0) -> 689990
G72: Firma
G73: Nombre:
...

Sheet ITEM 1,01
B1: Formulario 1 - Propuesta económica - Documento tipo de selección abreviada de menor cuantía
B2: Versión: 1 del 21 de agosto de 2025
C5: [La entidad podrá utilizar este formato para la presentación de los análisis de precios unitarios el contratista en la oportunidad prevista en el numeral 8.2. del Documento Base]
D8: ALCALDIA DE VILLA DEL ROSARIO
L9: VERSIÓN
D10: [NÚMERO DEL PROCESO]
L11: PÁGINA | M11: 1 | N11: DE | O11: 1
D13: ANALISIS DE PRECIOS UNITARIOS
L15: FECHA | M15: DD | N15: MM | O15: AA
C17: ITEMS DE LA PROPUESTA ECONÓMICA
C21: DATOS ESPECÍFICOS
C23: ITEM | D23: DESCRIPCIÓN | M23: UNIDAD | O23: CANTIDAD
C24: ='PRESUPUESTO OFICIAL (Entidad)'!C14 -> 1.01 | D24: ='PRESUPUESTO OFICIAL (Entidad)'!G14 -> DEMOLICION DE PISO EN CONCRETO | M24: ='PRESUPUESTO OFICIAL (Entidad)'!H14 -> M2 | O24: ='PRESUPUESTO OFICIAL (Entidad)'!I14 -> 80
C25: I. EQUIPO
C28: DESCRIPCIÓN | H28: MARCA | J28: TIPO | L28: TARIFA/HORA | M28: RENDIMIENTO | O28: Vr. UNITARIO
C29: Martillo electrico rompedor | J29: DU | L29: 78540 | M29: 16 | O29: =L29/M29 -> 4908.75
C31: HERRAMIENTA MENOR (5%) | M31: 0.05 | O31: =M31*O55 -> 1305.35
C32: SUBTOTAL $ | O32: =ROUND(SUM(O29:O31),0) -> 6214
C33: II. MATERIALES
C36: DESCRIPCIÓN | K36: UNIDAD | L36: CANTIDAD | M36: PRECIO UNIT. | O36: Vr. UNITARIO
C39: SUBTOTAL $ | O39: 0
C40: III. TRANSPORTES
C43: MATERIAL | J43: VOL. o PESO | K43: DISTANCIA | L43: M3 o Ton/Km | M43: TARIFA | O43: Vr. UNITARIO
C46: SUBTOTAL $
C47: IV. MANO DE OBRA
C50: TRABAJADOR | J50: JORNAL | K50: PRESTACIONES | L50: JORNAL TOTAL | M50: RENDIMIENTO | O50: Vr. UNITARIO
C51: 2 AYUDANTE | J51: ='MANO DE OBRA '!C44 -> 240234 | K51: 1.13 | L51: =J51*K51 -> 271464.42 | M51: 10.398265 | O51: =L51/M51 -> 26106.704
C55: SUBTOTAL $ | O55: =ROUND(SUM(O51:O54),0) -> 26107
C57: TOTAL COSTO DIRECTO $ | O57: =O32+O39+O46+O55 -> 32321
C58: V. COSTOS INDIRECTOS
C61: Descripción | L61: Porcentaje | M61: Valor Total
C62: ADMINISTRACION | L62: 0.3 | M62: =O57 -> 32321 | O62: =L62*M62 -> 9696.3
C63: UTILIDAD | L63: 0.05 | M63: =O57 -> 32321 | O63: =L63*M63 -> 1616.05
C64: SUBTOTAL $ | O64: =ROUND(SUM(O62:O63),0) -> 11312
C66: Precio Unitario Total Aproximado al peso $ | O66: =O57+O64 -> 43633
H70: Firma
H71: Nombre:
H72: Representante Legal del Contratista o su Apoderado
H73: Matricula No. :
C75: OBSERVACIONES INTERVENTORÍA
...

Sheet ITEM 1,02
B1: Formulario 1 - Propuesta económica - Documento tipo de selección abreviada de menor cuantía
B2: Versión: 1 del 21 de agosto de 2025
C5: [La entidad podrá utilizar este formato para la presentación de los análisis de precios unitarios el contratista en la oportunidad prevista en el numeral 8.2. del Documento Base]
D8: ALCALDIA DE VILLA DEL ROSARIO
L9: VERSIÓN
D10: [NÚMERO DEL PROCESO]
L11: PÁGINA | M11: 1 | N11: DE | O11: 1
D13: ANALISIS DE PRECIOS UNITARIOS
L15: FECHA | M15: DD | N15: MM | O15: AA
C17: ITEMS DE LA PROPUESTA ECONÓMICA
C21: DATOS ESPECÍFICOS
C23: ITEM | D23: DESCRIPCIÓN | M23: UNIDAD | O23: CANTIDAD
C24: ='PRESUPUESTO OFICIAL (Entidad)'!C15 -> 1.02 | D24: ='PRESUPUESTO OFICIAL (Entidad)'!G15 -> DEMOLICION DE CERAMICA | M24: ='PRESUPUESTO OFICIAL (Entidad)'!H15 -> M2 | O24: ='PRESUPUESTO OFICIAL (Entidad)'!I15 -> 40
C25: I. EQUIPO
C28: DESCRIPCIÓN | H28: MARCA | J28: TIPO | L28: TARIFA/HORA | M28: RENDIMIENTO | O28: Vr. UNITARIO
C31: HERRAMIENTA MENOR (5%) | M31: 0.05 | O31: =M31*O57 -> 545.1
C32: SUBTOTAL $ | O32: =ROUND(SUM(O29:O31),0) -> 545
C33: II. MATERIALES
C36: DESCRIPCIÓN | K36: UNIDAD | L36: CANTIDAD | M36: PRECIO UNIT. | O36: Vr. UNITARIO
C41: SUBTOTAL $ | O41: =ROUND(SUM(O37:O40),0) -> 0
C42: III. TRANSPORTES
C45: MATERIAL | J45: VOL. o PESO | K45: DISTANCIA | L45: M3 o Ton/Km | M45: TARIFA | O45: Vr. UNITARIO
O46: =M46*J46 -> 0
C48: SUBTOTAL $ | O48: =ROUND(SUM(O45:O47),0) -> 0
C49: IV. MANO DE OBRA
C52: TRABAJADOR | J52: JORNAL | K52: PRESTACIONES | L52: JORNAL TOTAL | M52: RENDIMIENTO | O52: Vr. UNITARIO
C53: 1 AYUDANTE | J53: ='MANO DE OBRA '!C36 -> 120117 | K53: 1.13 | L53: =J53*K53 -> 135732.21 | M53: 12.45 | O53: =L53/M53 -> 10902.186
C57: SUBTOTAL $ | O57: =ROUND(SUM(O53:O56),0) -> 10902
C59: TOTAL COSTO DIRECTO $ | O59: =O32+O41+O48+O57 -> 11447
C60: V. COSTOS INDIRECTOS
C63: Descripción | L63: Porcentaje | M63: Valor Total
C64: ADMINISTRACION | L64: 0.3 | M64: =O59 -> 11447 | O64: =L64*M64 -> 3434.1
C65: UTILIDAD | L65: 0.05 | M65: =O59 -> 11447 | O65: =L65*M65 -> 572.35
C66: SUBTOTAL $ | O66: =ROUND(SUM(O64:O65),0) -> 4006
C68: Precio Unitario Total Aproximado al peso $ | O68: =O59+O66 -> 15453
H72: Firma
H73: Nombre:
H74: Representante Legal del Contratista o su Apoderado
H75: Matricula No. :
C77: OBSERVACIONES INTERVENTORÍA
...

Sheet ITEM 1,03
B1: Formulario 1 - Propuesta económica - Documento tipo de selección abreviada de menor cuantía
B2: Versión: 1 del 21 de agosto de 2025
C5: [La entidad podrá utilizar este formato para la presentación de los análisis de precios unitarios el contratista en la oportunidad prevista en el numeral 8.2. del Documento Base]
D8: ALCALDIA DE VILLA DEL ROSARIO
L9: VERSIÓN
D10: [NÚMERO DEL PROCESO]
L11: PÁGINA | M11: 1 | N11: DE | O11: 1
D13: ANALISIS DE PRECIOS UNITARIOS
L15: FECHA | M15: DD | N15: MM | O15: AA
C17: ITEMS DE LA PROPUESTA ECONÓMICA
C21: DATOS ESPECÍFICOS
C23: ITEM | D23: DESCRIPCIÓN | M23: UNIDAD | O23: CANTIDAD
C24: ='PRESUPUESTO OFICIAL (Entidad)'!C16 -> 1.03 | D24: ='PRESUPUESTO OFICIAL (Entidad)'!G16 -> PREPARACION DE SUPERFICIE | M24: ='PRESUPUESTO OFICIAL (Entidad)'!H16 -> M2 | O24: ='PRESUPUESTO OFICIAL (Entidad)'!I16 -> 208
C25: I. EQUIPO
C28: DESCRIPCIÓN | H28: MARCA | J28: TIPO | L28: TARIFA/HORA | M28: RENDIMIENTO | O28: Vr. UNITARIO
C31: HERRAMIENTA MENOR (5%) | M31: 0.05 | O31: =M31*O57 -> 183.45
C32: SUBTOTAL $ | O32: =ROUND(SUM(O29:O31),0) -> 183
C33: II. MATERIALES
C36: DESCRIPCIÓN | K36: UNIDAD | L36: CANTIDAD | M36: PRECIO UNIT. | O36: Vr. UNITARIO
C41: SUBTOTAL $ | O41: =ROUND(SUM(O37:O40),0) -> 0
C42: III. TRANSPORTES
C45: MATERIAL | J45: VOL. o PESO | K45: DISTANCIA | L45: M3 o Ton/Km | M45: TARIFA | O45: Vr. UNITARIO
O46: =M46*J46 -> 0
C48: SUBTOTAL $ | O48: =ROUND(SUM(O45:O47),0) -> 0
C49: IV. MANO DE OBRA
C52: TRABAJADOR | J52: JORNAL | K52: PRESTACIONES | L52: JORNAL TOTAL | M52: RENDIMIENTO | O52: Vr. UNITARIO
C53: 1 AYUDANTE | J53: ='MANO DE OBRA '!C36 -> 120117 | K53: 1.13 | L53: =J53*K53 -> 135732.21 | M53: 36.997285 | O53: =L53/M53 -> 3668.7073
C57: SUBTOTAL $ | O57: =ROUND(SUM(O53:O56),0) -> 3669
C59: TOTAL COSTO DIRECTO $ | O59: =O32+O41+O48+O57 -> 3852
C60: V. COSTOS INDIRECTOS
C63: Descripción | L63: Porcentaje | M63: Valor Total
C64: ADMINISTRACION | L64: 0.3 | M64: =O59 -> 3852 | O64: =L64*M64 -> 1155.6
C65: UTILIDAD | L65: 0.05 | M65: =O59 -> 3852 | O65: =L65*M65 -> 192.6
C66: SUBTOTAL $ | O66: =ROUND(SUM(O64:O65),0) -> 1348
C68: Precio Unitario Total Aproximado al peso $ | O68: =O59+O66 -> 5200
H72: Firma
H73: Nombre:
H74: Representante Legal del Contratista o su Apoderado
H75: Matricula No. :
C77: OBSERVACIONES INTERVENTORÍA
...

Sheet ITEM 2,01
B1: Formulario 1 - Propuesta económica - Documento tipo de selección abreviada de menor cuantía
B2: Versión: 1 del 21 de agosto de 2025
C5: [La entidad podrá utilizar este formato para la presentación de los análisis de precios unitarios el contratista en la oportunidad prevista en el numeral 8.2. del Documento Base]
D8: ALCALDIA DE VILLA DEL ROSARIO
L9: VERSIÓN
D10: [NÚMERO DEL PROCESO]
L11: PÁGINA | M11: 1 | N11: DE | O11: 1
D13: ANALISIS DE PRECIOS UNITARIOS
L15: FECHA | M15: DD | N15: MM | O15: AA
C17: ITEMS DE LA PROPUESTA ECONÓMICA
C21: DATOS ESPECÍFICOS
C23: ITEM | D23: DESCRIPCIÓN | M23: UNIDAD | O23: CANTIDAD
C24: ='PRESUPUESTO OFICIAL (Entidad)'!C19 -> 2.01 | D24: ='PRESUPUESTO OFICIAL (Entidad)'!G19 -> CONSTRUCCIÓN DE MURO EN BLOQUE NO.5 ROSADO B=0.10M | M24: ='PRESUPUESTO OFICIAL (Entidad)'!H19 -> M2 | O24: ='PRESUPUESTO OFICIAL (Entidad)'!I19 -> 100
C25: I. EQUIPO
C28: DESCRIPCIÓN | H28: MARCA | J28: TIPO | L28: TARIFA/HORA | M28: RENDIMIENTO | O28: Vr. UNITARIO
C29: ANDAMIO TUBULAR | J29: DU | L29: 2044 | M29: 8 | O29: =L29/M29 -> 255.5
C30: TABLON PARA ANDAMIO | J30: DU | L30: 1392 | M30: 8 | O30: =L30/M30 -> 174
C31: HERRAMIENTA MENOR (5%) | M31: 0.05 | O31: =M31*O57 -> 1211.9
C32: SUBTOTAL $ | O32: =ROUND(SUM(O29:O31),0) -> 1641
C33: II. MATERIALES
C36: DESCRIPCIÓN | K36: UNIDAD | L36: CANTIDAD | M36: PRECIO UNIT. | O36: Vr. UNITARIO
C37: BLOQUE ESTANDAR N0 5 12*20*30 | K37: UND | L37: 15.5 | M37: 1950 | O37: =L37*M37 -> 30225
C38: MORTERO 1:4 | K38: M3 | L38: 0.03 | M38: 511104 | O38: =L38*M38 -> 15333.12
O39: =L39*M39 -> 0
O40: =L40*M40 -> 0
C41: SUBTOTAL $ | O41: =ROUND(SUM(O37:O40),0) -> 45558
C42: III. TRANSPORTES
C45: MATERIAL | J45: VOL. o PESO | K45: DISTANCIA | L45: M3 o Ton/Km | M45: TARIFA | O45: Vr. UNITARIO
O46: =M46*J46 -> 0
C48: SUBTOTAL $ | O48: =ROUND(SUM(O45:O47),0) -> 0
C49: IV. MANO DE OBRA
C52: TRABAJADOR | J52: JORNAL | K52: PRESTACIONES | L52: JORNAL TOTAL | M52: RENDIMIENTO | O52: Vr. UNITARIO
C53: CUADRILLA 1 AYUDANTE + 1 OFICIAL | J53: ='MANO DE OBRA '!C42 -> 300293 | K53: 1.13 | L53: =J53*K53 -> 339331.09 | M53: 14 | O53: =L53/M53 -> 24237.935
C57: SUBTOTAL $ | O57: =ROUND(SUM(O53:O56),0) -> 24238
C59: TOTAL COSTO DIRECTO $ | O59: =O32+O41+O48+O57 -> 71437
C60: V. COSTOS INDIRECTOS
C63: Descripción | L63: Porcentaje | M63: Valor Total
C64: ADMINISTRACION | L64: 0.3 | M64: =O59 -> 71437 | O64: =L64*M64 -> 21431.1
C65: UTILIDAD | L65: 0.05 | M65: =O59 -> 71437 | O65: =L65*M65 -> 3571.85
C66: SUBTOTAL $ | O66: =ROUND(SUM(O64:O65),0) -> 25003
...

Sheet ITEM 2,02
B1: Formulario 1 - Propuesta económica - Documento tipo de selección abreviada de menor cuantía
B2: Versión: 1 del 21 de agosto de 2025
C5: [La entidad podrá utilizar este formato para la presentación de los análisis de precios unitarios el contratista en la oportunidad prevista en el numeral 8.2. del Documento Base]
D8: ALCALDIA DE VILLA DEL ROSARIO
L9: VERSIÓN
D10: [NÚMERO DEL PROCESO]
L11: PÁGINA | M11: 1 | N11: DE | O11: 1
D13: ANALISIS DE PRECIOS UNITARIOS
L15: FECHA | M15: DD | N15: MM | O15: AA
C17: ITEMS DE LA PROPUESTA ECONÓMICA
C21: DATOS ESPECÍFICOS
C23: ITEM | D23: DESCRIPCIÓN | M23: UNIDAD | O23: CANTIDAD
C24: ='PRESUPUESTO OFICIAL (Entidad)'!C20 -> 2.02 | D24: ='PRESUPUESTO OFICIAL (Entidad)'!G20 -> PAÑETE LISO 1:5 | M24: ='PRESUPUESTO OFICIAL (Entidad)'!H20 -> M2 | O24: ='PRESUPUESTO OFICIAL (Entidad)'!I20 -> 208
C25: I. EQUIPO
C28: DESCRIPCIÓN | H28: MARCA | J28: TIPO | L28: TARIFA/HORA | M28: RENDIMIENTO | O28: Vr. UNITARIO
C29: ANDAMIO | J29: DIA | L29: 2044 | M29: 1.04 | O29: =L29/M29 -> 1965.3846
C30: TABLON | J30: DIA | L30: 1392 | M30: 1.04 | O30: =L30/M30 -> 1338.4615
C31: HERRAMIENTA MENOR (5%) | M31: 0.05 | O31: =M31*O62 -> 1570.9773
C32: SUBTOTAL $ | O32: =SUM(O29:O31) -> 4874.8234
C33: II. MATERIALES
C36: DESCRIPCIÓN | K36: UNIDAD | L36: CANTIDAD | M36: PRECIO UNIT. | O36: Vr. UNITARIO
C37: MORTERO 1:4 | K37: M3 | L37: 0.02 | M37: ='M 14'!N59 -> 511104 | O37: =M37*L37 -> 10222.08
C46: SUBTOTAL $ | O46: =SUM(O37:O45) -> 10222.08
C47: III. TRANSPORTES
C50: MATERIAL | J50: VOL. o PESO | K50: DISTANCIA | L50: M3 o Ton/Km | M50: TARIFA | O50: Vr. UNITARIO
O51: =M51*J51 -> 0
C53: SUBTOTAL $ | O53: =ROUND(SUM(O50:O52),0) -> 0
C54: IV. MANO DE OBRA
C57: TRABAJADOR | J57: JORNAL | K57: PRESTACIONES | L57: JORNAL TOTAL | M57: RENDIMIENTO | O57: Vr. UNITARIO
C58: 1 OFICIAL + 1 AYUDANTE | J58: ='MANO DE OBRA '!C42 -> 300293 | K58: 1.13 | L58: =(J58*K58) -> 339331.09 | M58: 10.8 | O58: =IF(M58>0,L58/M58,0) -> 31419.545
C62: SUBTOTAL $ | O62: =SUM(O58:O61) -> 31419.545
C64: TOTAL COSTO DIRECTO $ | O64: =O32+O46+O53+O62 -> 46516.449
C65: V. COSTOS INDIRECTOS
C68: Descripción | L68: Porcentaje | M68: Valor Total
C69: ADMINISTRACION | L69: 0.3 | M69: =O64 -> 46516.449 | O69: =L69*M69 -> 13954.935
C70: UTILIDAD | L70: 0.05 | M70: =O64 -> 46516.449 | O70: =L70*M70 -> 2325.8224
C71: SUBTOTAL $ | O71: =ROUND(SUM(O69:O70),0) -> 16281
C73: Precio Unitario Total Aproximado al peso $ | O73: =ROUND(O64+O71,0) -> 62797
H77: Firma
H78: Nombre:
...

Sheet ITEM 2,03
B1: Formulario 1 - Propuesta económica - Documento tipo de selección abreviada de menor cuantía
B2: Versión: 1 del 21 de agosto de 2025
C5: [La entidad podrá utilizar este formato para la presentación de los análisis de precios unitarios el contratista en la oportunidad prevista en el numeral 8.2. del Documento Base]
D8: ALCALDIA DE VILLA DEL ROSARIO
L9: VERSIÓN
D10: [NÚMERO DEL PROCESO]
L11: PÁGINA | M11: 1 | N11: DE | O11: 1
D13: ANALISIS DE PRECIOS UNITARIOS
L15: FECHA | M15: DD | N15: MM | O15: AA
C17: ITEMS DE LA PROPUESTA ECONÓMICA
C21: DATOS ESPECÍFICOS
C23: ITEM | D23: DESCRIPCIÓN | M23: UNIDAD | O23: CANTIDAD
C24: ='PRESUPUESTO OFICIAL (Entidad)'!C21 -> 2.03 | D24: ='PRESUPUESTO OFICIAL (Entidad)'!G21 -> PLACA MACIZA EN MESONES 0.60 DE ANCHO | M24: ='PRESUPUESTO OFICIAL (Entidad)'!H21 -> ML | O24: ='PRESUPUESTO OFICIAL (Entidad)'!I21 -> 12.5
C25: I. EQUIPO
C28: DESCRIPCIÓN | H28: MARCA | J28: TIPO | L28: TARIFA/HORA | M28: RENDIMIENTO | O28: Vr. UNITARIO
C30: FORMALETA PARA MESONES | J30: ML | L30: 27337 | M30: 1 | O30: =M30*L30 -> 27337
C31: ACARREO | J31: GLB | L31: 22579 | M31: 1 | O31: =M31*L31 -> 22579
C32: HERRAMIENTA MENOR (5%) | M32: 0.05 | O32: =M32*O59 -> 2423.8
C33: SUBTOTAL $ | O33: =ROUND(SUM(O29:O32),0) -> 52340
C34: II. MATERIALES
C37: DESCRIPCIÓN | K37: UNIDAD | L37: CANTIDAD | M37: PRECIO UNIT. | O37: Vr. UNITARIO
C38: CONCRETO 3.000PSI | K38: M3 | L38: =1*0.6*0.12 -> 0.072 | M38: ='C-21 MPA '!O60 -> 532752 | O38: =L38*M38 -> 38358.144
C42: DESPERDICIO | M42: =0.05 -> 0.05 | O42: =O38*M42 -> 1917.9072
C43: SUBTOTAL $ | O43: =ROUND(SUM(O38:O42),0) -> 40276
C44: III. TRANSPORTES
C47: MATERIAL | J47: VOL. o PESO | K47: DISTANCIA | L47: M3 o Ton/Km | M47: TARIFA | O47: Vr. UNITARIO
O48: =M48*J48 -> 0
C50: SUBTOTAL $ | O50: =ROUND(SUM(O47:O49),0) -> 0
C51: IV. MANO DE OBRA
C54: TRABAJADOR | J54: JORNAL | K54: PRESTACIONES | L54: JORNAL TOTAL | M54: RENDIMIENTO | O54: Vr. UNITARIO
C55: CUADRILLA 1 AYUDANTE + 1 OFICIAL | J55: ='MANO DE OBRA '!C42 -> 300293 | K55: 1.13 | L55: =J55*K55 -> 339331.09 | M55: 7 | O55: =L55/M55 -> 48475.87
C59: SUBTOTAL $ | O59: =ROUND(SUM(O55:O58),0) -> 48476
C61: TOTAL COSTO DIRECTO $ | O61: =O33+O43+O50+O59 -> 141092
C62: V. COSTOS INDIRECTOS
C65: Descripción | L65: Porcentaje | M65: Valor Total
C66: ADMINISTRACION | L66: 0.3 | M66: =O61 -> 141092 | O66: =L66*M66 -> 42327.6
C67: UTILIDAD | L67: 0.05 | M67: =O61 -> 141092 | O67: =L67*M67 -> 7054.6
C68: SUBTOTAL $ | O68: =ROUND(SUM(O66:O67),0) -> 49382
C70: Precio Unitario Total Aproximado al peso $ | O70: =O61+O68 -> 190474
H74: Firma
...

Sheet ITEM 2,04
B1: Formulario 1 - Propuesta económica - Documento tipo de selección abreviada de menor cuantía
B2: Versión: 1 del 21 de agosto de 2025
C5: [La entidad podrá utilizar este formato para la presentación de los análisis de precios unitarios el contratista en la oportunidad prevista en el numeral 8.2. del Documento Base]
D8: ALCALDIA DE VILLA DEL ROSARIO
L9: VERSIÓN
D10: [NÚMERO DEL PROCESO]
L11: PÁGINA | M11: 1 | N11: DE | O11: 1
D13: ANALISIS DE PRECIOS UNITARIOS
L15: FECHA | M15: DD | N15: MM | O15: AA
C17: ITEMS DE LA PROPUESTA ECONÓMICA
C21: DATOS ESPECÍFICOS
C23: ITEM | D23: DESCRIPCIÓN | M23: UNIDAD | O23: CANTIDAD
C24: ='PRESUPUESTO OFICIAL (Entidad)'!C22 -> 2.04 | D24: ='PRESUPUESTO OFICIAL (Entidad)'!G22 -> MORTERO DENIVELACIÓN 5.00 CM CON MORTERO DE CEMENTO 1:4 | M24: ='PRESUPUESTO OFICIAL (Entidad)'!H22 -> M2 | O24: ='PRESUPUESTO OFICIAL (Entidad)'!I22 -> 6.6
C25: I. EQUIPO
C28: DESCRIPCIÓN | H28: MARCA | J28: TIPO | L28: TARIFA/HORA | M28: RENDIMIENTO | O28: Vr. UNITARIO
C31: HERRAMIENTA MENOR (5%) | M31: 0.05 | O31: =M31*O58 -> 1060.4
C32: SUBTOTAL $ | O32: =ROUND(SUM(O29:O31),0) -> 1060
C33: II. MATERIALES
C36: DESCRIPCIÓN | K36: UNIDAD | L36: CANTIDAD | M36: PRECIO UNIT. | O36: Vr. UNITARIO
C37: MORTERO 1:4 | K37: M3 | L37: 0.05 | M37: ='M 14'!N59 -> 511104 | O37: =L37*M37 -> 25555.2
C42: SUBTOTAL $ | O42: =ROUND(SUM(O37:O41),0) -> 25555
C43: III. TRANSPORTES
C46: MATERIAL | J46: VOL. o PESO | K46: DISTANCIA | L46: M3 o Ton/Km | M46: TARIFA | O46: Vr. UNITARIO
O47: =M47*J47 -> 0
C49: SUBTOTAL $ | O49: =ROUND(SUM(O46:O48),0) -> 0
C50: IV. MANO DE OBRA
C53: TRABAJADOR | J53: JORNAL | K53: PRESTACIONES | L53: JORNAL TOTAL | M53: RENDIMIENTO | O53: Vr. UNITARIO
C54: CUADRILLA 1 AYUDANTE + 1 OFICIAL | J54: ='MANO DE OBRA '!C42 -> 300293 | K54: 1.13 | L54: =J54*K54 -> 339331.09 | M54: 16 | O54: =L54/M54 -> 21208.193
C58: SUBTOTAL $ | O58: =ROUND(SUM(O54:O57),0) -> 21208
C60: TOTAL COSTO DIRECTO $ | O60: =O32+O42+O49+O58 -> 47823
C61: V. COSTOS INDIRECTOS
C64: Descripción | L64: Porcentaje | M64: Valor Total
C65: ADMINISTRACION | L65: 0.3 | M65: =O60 -> 47823 | O65: =L65*M65 -> 14346.9
C66: UTILIDAD | L66: 0.05 | M66: =O60 -> 47823 | O66: =L66*M66 -> 2391.15
C67: SUBTOTAL $ | O67: =ROUND(SUM(O65:O66),0) -> 16738
C69: Precio Unitario Total Aproximado al peso $ | O69: =O60+O67 -> 64561
H73: Firma
H74: Nombre:
H75: Representante Legal del Contratista o su Apoderado
H76: Matricula No. :
...

Sheet ITEM 2,05
B1: Formulario 1 - Propuesta económica - Documento tipo de selección abreviada de menor cuantía
B2: Versión: 1 del 21 de agosto de 2025
C5: [La entidad podrá utilizar este formato para la presentación de los análisis de precios unitarios el contratista en la oportunidad prevista en el numeral 8.2. del Documento Base]
D8: ALCALDIA DE VILLA DEL ROSARIO
L9: VERSIÓN
D10: [NÚMERO DEL PROCESO]
L11: PÁGINA | M11: 1 | N11: DE | O11: 1
D13: ANALISIS DE PRECIOS UNITARIOS
L15: FECHA | M15: DD | N15: MM | O15: AA
C17: ITEMS DE LA PROPUESTA ECONÓMICA
C21: DATOS ESPECÍFICOS
C23: ITEM | D23: DESCRIPCIÓN | M23: UNIDAD | O23: CANTIDAD
C24: ='PRESUPUESTO OFICIAL (Entidad)'!C23 -> 2.05 | D24: ='PRESUPUESTO OFICIAL (Entidad)'!G23 -> ALISTADO DE PISO | M24: ='PRESUPUESTO OFICIAL (Entidad)'!H23 -> M2 | O24: ='PRESUPUESTO OFICIAL (Entidad)'!I23 -> 40
C25: I. EQUIPO
C28: DESCRIPCIÓN | H28: MARCA | J28: TIPO | L28: TARIFA/HORA | M28: RENDIMIENTO | O28: Vr. UNITARIO
C29: VIBROCOMPACTADOR DE 8HP | L29: 72000 | M29: 5 | O29: 14400
C31: HERRAMIENTA MENOR (5%) | M31: 0.05 | O31: =M31*O58 -> 875.25
C32: SUBTOTAL $ | O32: =ROUND(SUM(O29:O31),0) -> 15275
C33: II. MATERIALES
C36: DESCRIPCIÓN | K36: UNIDAD | L36: CANTIDAD | M36: PRECIO UNIT. | O36: Vr. UNITARIO
C37: MORTERO 1:4 | K37: M3 | L37: 0.05 | M37: ='M 14'!N59 -> 511104 | O37: =L37*M37 -> 25555.2
C42: SUBTOTAL $ | O42: =ROUND(SUM(O37:O41),0) -> 25555
C43: III. TRANSPORTES
C46: MATERIAL | J46: VOL. o PESO | K46: DISTANCIA | L46: M3 o Ton/Km | M46: TARIFA | O46: Vr. UNITARIO
O47: =M47*J47 -> 0
C49: SUBTOTAL $ | O49: =ROUND(SUM(O46:O48),0) -> 0
C50: IV. MANO DE OBRA
C53: TRABAJADOR | J53: JORNAL | K53: PRESTACIONES | L53: JORNAL TOTAL | M53: RENDIMIENTO | O53: Vr. UNITARIO
C54: CUADRILLA 1 AYUDANTE + 1 OFICIAL | J54: ='MANO DE OBRA '!C42 -> 300293 | K54: 1.13 | L54: =J54*K54 -> 339331.09 | M54: 19.38428 | O54: =L54/M54 -> 17505.478
C58: SUBTOTAL $ | O58: =ROUND(SUM(O54:O57),0) -> 17505
C60: TOTAL COSTO DIRECTO $ | O60: =O32+O42+O49+O58 -> 58335
C61: V. COSTOS INDIRECTOS
C64: Descripción | L64: Porcentaje | M64: Valor Total
C65: ADMINISTRACION | L65: 0.3 | M65: =O60 -> 58335 | O65: =L65*M65 -> 17500.5
C66: UTILIDAD | L66: 0.05 | M66: =O60 -> 58335 | O66: =L66*M66 -> 2916.75
C67: SUBTOTAL $ | O67: =ROUND(SUM(O65:O66),0) -> 20417
C69: Precio Unitario Total Aproximado al peso $ | O69: =O60+O67 -> 78752
H73: Firma
H74: Nombre:
H75: Representante Legal del Contratista o su Apoderado
...

Sheet ITEM 3,01
B1: Formulario 1 - Propuesta económica - Documento tipo de selección abreviada de menor cuantía
B2: Versión: 1 del 21 de agosto de 2025
C5: [La entidad podrá utilizar este formato para la presentación de los análisis de precios unitarios el contratista en la oportunidad prevista en el numeral 8.2. del Documento Base]
D8: ALCALDIA DE VILLA DEL ROSARIO
L9: VERSIÓN
D10: [NÚMERO DEL PROCESO]
L11: PÁGINA | M11: 1 | N11: DE | O11: 1
D13: ANALISIS DE PRECIOS UNITARIOS
L15: FECHA | M15: DD | N15: MM | O15: AA
C17: ITEMS DE LA PROPUESTA ECONÓMICA
C21: DATOS ESPECÍFICOS
C23: ITEM | D23: DESCRIPCIÓN | M23: UNIDAD | O23: CANTIDAD
C24: ='PRESUPUESTO OFICIAL (Entidad)'!C26 -> 3.01 | D24: ='PRESUPUESTO OFICIAL (Entidad)'!G26 -> SUMINISTRO E INSTALACION DE GRIFERIA DUCHA TIPO ECONOMICA (Incluye manija y accesorios) | M24: ='PRESUPUESTO OFICIAL (Entidad)'!H26 -> UND | O24: ='PRESUPUESTO OFICIAL (Entidad)'!I26 -> 10
C25: I. EQUIPO
C28: DESCRIPCIÓN | H28: MARCA | J28: TIPO | L28: TARIFA/HORA | M28: RENDIMIENTO | O28: Vr. UNITARIO
C31: HERRAMIENTA MENOR (5%) | M31: 0.05 | O31: =M31*O58 -> 1724.25
C32: SUBTOTAL $ | O32: =ROUND(SUM(O29:O31),0) -> 1724
C33: II. MATERIALES
C36: DESCRIPCIÓN | K36: UNIDAD | L36: CANTIDAD | M36: PRECIO UNIT. | O36: Vr. UNITARIO
C37: CEMENTO BLACO | K37: KG | L37: 3.55 | M37: 2368.6 | O37: =L37*M37 -> 8408.53
C38: DUCHA | K38: UND | L38: 1 | M38: 394027 | O38: =L38*M38 -> 394027
C39: ACCESORIOS PARA DUCHA | K39: UND | L39: 1 | M39: 45600 | O39: =L39*M39 -> 45600
C42: SUBTOTAL $ | O42: =ROUND(SUM(O37:O41),0) -> 448036
C43: III. TRANSPORTES
C46: MATERIAL | J46: VOL. o PESO | K46: DISTANCIA | L46: M3 o Ton/Km | M46: TARIFA | O46: Vr. UNITARIO
O47: =M47*J47 -> 0
C49: SUBTOTAL $ | O49: =ROUND(SUM(O46:O48),0) -> 0
C50: IV. MANO DE OBRA
C53: TRABAJADOR | J53: JORNAL | K53: PRESTACIONES | L53: JORNAL TOTAL | M53: RENDIMIENTO | O53: Vr. UNITARIO
C54: CUADRILLA 1 AYUDANTE + 1 OFICIAL | J54: ='MANO DE OBRA '!C42 -> 300293 | K54: 1.13 | L54: =J54*K54 -> 339331.09 | M54: 9.839962 | O54: =L54/M54 -> 34485
C58: SUBTOTAL $ | O58: =ROUND(SUM(O54:O57),0) -> 34485
C60: TOTAL COSTO DIRECTO $ | O60: =O32+O42+O49+O58 -> 484245
C61: V. COSTOS INDIRECTOS
C64: Descripción | L64: Porcentaje | M64: Valor Total
C65: ADMINISTRACION | L65: 0.3 | M65: =O60 -> 484245 | O65: =L65*M65 -> 145273.5
C66: UTILIDAD | L66: 0.05 | M66: =O60 -> 484245 | O66: =L66*M66 -> 24212.25
C67: SUBTOTAL $ | O67: =ROUND(SUM(O65:O66),0) -> 169486
C69: Precio Unitario Total Aproximado al peso $ | O69: =O60+O67 -> 653731
H73: Firma
H74: Nombre:
...

Sheet ITEM 3,02
B1: Formulario 1 - Propuesta económica - Documento tipo de selección abreviada de menor cuantía
B2: Versión: 1 del 21 de agosto de 2025
C5: [La entidad podrá utilizar este formato para la presentación de los análisis de precios unitarios el contratista en la oportunidad prevista en el numeral 8.2. del Documento Base]
D8: ALCALDIA DE VILLA DEL ROSARIO
L9: VERSIÓN
D10: [NÚMERO DEL PROCESO]
L11: PÁGINA | M11: 1 | N11: DE | O11: 1
D13: ANALISIS DE PRECIOS UNITARIOS
L15: FECHA | M15: DD | N15: MM | O15: AA
C17: ITEMS DE LA PROPUESTA ECONÓMICA
C21: DATOS ESPECÍFICOS
C23: ITEM | D23: DESCRIPCIÓN | M23: UNIDAD | O23: CANTIDAD
C24: ='PRESUPUESTO OFICIAL (Entidad)'!C27 -> 3.02 | D24: ='PRESUPUESTO OFICIAL (Entidad)'!G27 -> SUMINISTRO E INSTALACIÓN DE COMBO SANITARIO (INCLUYE SANITARIO, LAVAMANOS, GRIFERÍA LAVAMANOS, INCRUSTACIONES 5 UND. Y ACCESORIOS) | M24: ='PRESUPUESTO OFICIAL (Entidad)'!H27 -> UND | O24: ='PRESUPUESTO OFICIAL (Entidad)'!I27 -> 10
C25: I. EQUIPO
C28: DESCRIPCIÓN | H28: MARCA | J28: TIPO | L28: TARIFA/HORA | M28: RENDIMIENTO | O28: Vr. UNITARIO
C32: HERRAMIENTA MENOR (5%) | M32: 0.05 | O32: =M32*O59 -> 4074.95
C33: SUBTOTAL $ | O33: =ROUND(SUM(O29:O32),0) -> 4075
C34: II. MATERIALES
C37: DESCRIPCIÓN | K37: UNIDAD | L37: CANTIDAD | M37: PRECIO UNIT. | O37: Vr. UNITARIO
C38: CEMENTO BLANCO | K38: KG | L38: 1 | M38: 3629.7 | O38: =L38*M38 -> 3629.7
C39: MANGUERA EXTENSION FLEXIBLE | K39: UND | L39: 3 | M39: 14683 | O39: =L39*M39 -> 44049
C40: COMBO SANITARIO | K40: UND | L40: 1 | M40: 517423.64 | O40: =L40*M40 -> 517423.64
C43: SUBTOTAL $ | O43: =ROUND(SUM(O38:O42),0) -> 565102
C44: III. TRANSPORTES
C47: MATERIAL | J47: VOL. o PESO | K47: DISTANCIA | L47: M3 o Ton/Km | M47: TARIFA | O47: Vr. UNITARIO
O48: =M48*J48 -> 0
C50: SUBTOTAL $ | O50: =ROUND(SUM(O47:O49),0) -> 0
C51: IV. MANO DE OBRA
C54: TRABAJADOR | J54: JORNAL | K54: PRESTACIONES | L54: JORNAL TOTAL | M54: RENDIMIENTO | O54: Vr. UNITARIO
C55: CUADRILLA 1 AYUDANTE + 1 OFICIAL | J55: ='MANO DE OBRA '!C42 -> 300293 | K55: 1.13 | L55: =J55*K55 -> 339331.09 | M55: 4.1636227 | O55: =L55/M55 -> 81499
C59: SUBTOTAL $ | O59: =ROUND(SUM(O55:O58),0) -> 81499
C61: TOTAL COSTO DIRECTO $ | O61: =O33+O43+O50+O59 -> 650676
C62: V. COSTOS INDIRECTOS
C65: Descripción | L65: Porcentaje | M65: Valor Total
C66: ADMINISTRACION | L66: 0.3 | M66: =O61 -> 650676 | O66: =L66*M66 -> 195202.8
C67: UTILIDAD | L67: 0.05 | M67: =O61 -> 650676 | O67: =L67*M67 -> 32533.8
C68: SUBTOTAL $ | O68: =ROUND(SUM(O66:O67),0) -> 227737
C70: Precio Unitario Total Aproximado al peso $ | O70: =O61+O68 -> 878413
H74: Firma
H75: Nombre:
...

Sheet ITEM 3,03
B1: Formulario 1 - Propuesta económica - Documento tipo de selección abreviada de menor cuantía
B2: Versión: 1 del 21 de agosto de 2025
C5: [La entidad podrá utilizar este formato para la presentación de los análisis de precios unitarios el contratista en la oportunidad prevista en el numeral 8.2. del Documento Base]
D8: ALCALDIA DE VILLA DEL ROSARIO
L9: VERSIÓN
D10: [NÚMERO DEL PROCESO]
L11: PÁGINA | M11: 1 | N11: DE | O11: 1
D13: ANALISIS DE PRECIOS UNITARIOS
L15: FECHA | M15: DD | N15: MM | O15: AA
C17: ITEMS DE LA PROPUESTA ECONÓMICA
C21: DATOS ESPECÍFICOS
C23: ITEM | D23: DESCRIPCIÓN | M23: UNIDAD | O23: CANTIDAD
C24: ='PRESUPUESTO OFICIAL (Entidad)'!C28 -> 3.03 | D24: ='PRESUPUESTO OFICIAL (Entidad)'!G28 -> LAVAPLATOS 60 X 40 INOXIDABLE EMPOTRAR | M24: ='PRESUPUESTO OFICIAL (Entidad)'!H28 -> UND | O24: ='PRESUPUESTO OFICIAL (Entidad)'!I28 -> 10
C25: I. EQUIPO
C28: DESCRIPCIÓN | H28: MARCA | J28: TIPO | L28: TARIFA/HORA | M28: RENDIMIENTO | O28: Vr. UNITARIO
C31: HERRAMIENTA MENOR (5%) | M31: 0.05 | O31: =M31*O57 -> 4775
C32: SUBTOTAL $ | O32: =ROUND(SUM(O29:O31),0) -> 4775
C33: II. MATERIALES
C36: DESCRIPCIÓN | K36: UNIDAD | L36: CANTIDAD | M36: PRECIO UNIT. | O36: Vr. UNITARIO
C37: CEMENTO BLANCO | K37: KG | L37: 1 | M37: 3629 | O37: =L37*M37 -> 3629
C38: MANGUERA EXTENSION FLEXIBLE | K38: UND | L38: 2 | M38: 14683 | O38: =L38*M38 -> 29366
C39: LAVAPLATOS 60 X 40 INOXIDABLE EMPOTRAR | K39: UND | L39: 1 | M39: 154907.99 | O39: =L39*M39 -> 154907.99
C41: SUBTOTAL $ | O41: =ROUND(SUM(O37:O40),0) -> 187903
C42: III. TRANSPORTES
C45: MATERIAL | J45: VOL. o PESO | K45: DISTANCIA | L45: M3 o Ton/Km | M45: TARIFA | O45: Vr. UNITARIO
O46: =M46*J46 -> 0
C48: SUBTOTAL $ | O48: =ROUND(SUM(O45:O47),0) -> 0
C49: IV. MANO DE OBRA
C52: TRABAJADOR | J52: JORNAL | K52: PRESTACIONES | L52: JORNAL TOTAL | M52: RENDIMIENTO | O52: Vr. UNITARIO
C53: CUADRILLA 1 AYUDANTE + 1 OFICIAL | J53: ='MANO DE OBRA '!C42 -> 300293 | K53: 1.13 | L53: =J53*K53 -> 339331.09 | M53: 3.5532051 | O53: =L53/M53 -> 95500
C57: SUBTOTAL $ | O57: =ROUND(SUM(O53:O56),0) -> 95500
C59: TOTAL COSTO DIRECTO $ | O59: =O32+O41+O48+O57 -> 288178
C60: V. COSTOS INDIRECTOS
C63: Descripción | L63: Porcentaje | M63: Valor Total
C64: ADMINISTRACION | L64: 0.3 | M64: =O59 -> 288178 | O64: =L64*M64 -> 86453.4
C65: UTILIDAD | L65: 0.05 | M65: =O59 -> 288178 | O65: =L65*M65 -> 14408.9
C66: SUBTOTAL $ | O66: =ROUND(SUM(O64:O65),0) -> 100862
C68: Precio Unitario Total Aproximado al peso $ | O68: =O59+O66 -> 389040
H72: Firma
H73: Nombre:
...

Sheet ITEM 3,04
B1: Formulario 1 - Propuesta económica - Documento tipo de selección abreviada de menor cuantía
B2: Versión: 1 del 21 de agosto de 2025
C5: [La entidad podrá utilizar este formato para la presentación de los análisis de precios unitarios el contratista en la oportunidad prevista en el numeral 8.2. del Documento Base]
D8: ALCALDIA DE VILLA DEL ROSARIO
L9: VERSIÓN
D10: [NÚMERO DEL PROCESO]
L11: PÁGINA | M11: 1 | N11: DE | O11: 1
D13: ANALISIS DE PRECIOS UNITARIOS
L15: FECHA | M15: DD | N15: MM | O15: AA
C17: ITEMS DE LA PROPUESTA ECONÓMICA
C21: DATOS ESPECÍFICOS
C23: ITEM | D23: DESCRIPCIÓN | M23: UNIDAD | O23: CANTIDAD
C24: ='PRESUPUESTO OFICIAL (Entidad)'!C29 -> 3.04 | D24: ='PRESUPUESTO OFICIAL (Entidad)'!G29 -> SUMINISTRO E INSTALACION DE GRIFERIA PARA LAVAPLATOS - TIPO ECONOMICA CON MEZCLADOR y MONOCONTROL (Incluye accesorios) | M24: ='PRESUPUESTO OFICIAL (Entidad)'!H29 -> UND | O24: ='PRESUPUESTO OFICIAL (Entidad)'!I29 -> 10
C25: I. EQUIPO
C28: DESCRIPCIÓN | H28: MARCA | J28: TIPO | L28: TARIFA/HORA | M28: RENDIMIENTO | O28: Vr. UNITARIO
C31: HERRAMIENTA MENOR (5%) | M31: 0.05 | O31: =M31*O57 -> 3821.05
C32: SUBTOTAL $ | O32: =ROUND(SUM(O29:O31),0) -> 3821
C33: II. MATERIALES
C36: DESCRIPCIÓN | K36: UNIDAD | L36: CANTIDAD | M36: PRECIO UNIT. | O36: Vr. UNITARIO
C37: MANGUERA EXTENSION FLEXIBLE | K37: UND | L37: 1 | M37: 14683 | O37: =L37*M37 -> 14683
C38: GRIFERIA LAVAPLATOS MONOCONTROL | K38: UND | L38: 1 | M38: 157361 | O38: =L38*M38 -> 157361
C41: SUBTOTAL $ | O41: =ROUND(SUM(O37:O40),0) -> 172044
C42: III. TRANSPORTES
C45: MATERIAL | J45: VOL. o PESO | K45: DISTANCIA | L45: M3 o Ton/Km | M45: TARIFA | O45: Vr. UNITARIO
O46: =M46*J46 -> 0
C48: SUBTOTAL $ | O48: =ROUND(SUM(O45:O47),0) -> 0
C49: IV. MANO DE OBRA
C52: TRABAJADOR | J52: JORNAL | K52: PRESTACIONES | L52: JORNAL TOTAL | M52: RENDIMIENTO | O52: Vr. UNITARIO
C53: CUADRILLA 1 AYUDANTE + 1 OFICIAL | J53: ='MANO DE OBRA '!C42 -> 300293 | K53: 1.13 | L53: =J53*K53 -> 339331.09 | M53: 4.4402859 | O53: =L53/M53 -> 76421.001
C57: SUBTOTAL $ | O57: =ROUND(SUM(O53:O56),0) -> 76421
C59: TOTAL COSTO DIRECTO $ | O59: =O32+O41+O48+O57 -> 252286
C60: V. COSTOS INDIRECTOS
C63: Descripción | L63: Porcentaje | M63: Valor Total
C64: ADMINISTRACION | L64: 0.3 | M64: =O59 -> 252286 | O64: =L64*M64 -> 75685.8
C65: UTILIDAD | L65: 0.05 | M65: =O59 -> 252286 | O65: =L65*M65 -> 12614.3
C66: SUBTOTAL $ | O66: =ROUND(SUM(O64:O65),0) -> 88300
C68: Precio Unitario Total Aproximado al peso $ | O68: =O59+O66 -> 340586
H72: Firma
H73: Nombre:
H74: Representante Legal del Contratista o su Apoderado
...

Sheet ITEM 4,01
B1: Formulario 1 - Propuesta económica - Documento tipo de selección abreviada de menor cuantía
B2: Versión: 1 del 21 de agosto de 2025
C5: [La entidad podrá utilizar este formato para la presentación de los análisis de precios unitarios el contratista en la oportunidad prevista en el numeral 8.2. del Documento Base]
D8: ALCALDIA DE VILLA DEL ROSARIO
L9: VERSIÓN
D10: [NÚMERO DEL PROCESO]
L11: PÁGINA | M11: 1 | N11: DE | O11: 1
D13: ANALISIS DE PRECIOS UNITARIOS
L15: FECHA | M15: DD | N15: MM | O15: AA
C17: ITEMS DE LA PROPUESTA ECONÓMICA
C21: DATOS ESPECÍFICOS
C23: ITEM | D23: DESCRIPCIÓN | M23: UNIDAD | O23: CANTIDAD
C24: ='PRESUPUESTO OFICIAL (Entidad)'!C32 -> 4.01 | D24: ='PRESUPUESTO OFICIAL (Entidad)'!G32 -> PISO EN CONCRETO CON MALLA ELECTROSOLDADA e=10cm | M24: ='PRESUPUESTO OFICIAL (Entidad)'!H32 -> M2 | O24: ='PRESUPUESTO OFICIAL (Entidad)'!I32 -> 170
C25: I. EQUIPO
C28: DESCRIPCIÓN | H28: MARCA | J28: TIPO | L28: TARIFA/HORA | M28: RENDIMIENTO | O28: Vr. UNITARIO
C29: VIBRADOR ELECTRICO AGUJA PARA CONCRETO | J29: DU | L29: 105000 | M29: 0.051428571 | O29: =L29*M29 -> 5400
C30: LLANADORA MECANICA | J30: DU | L30: 149500 | M30: 110 | O30: =L30/M30 -> 1359.0909
C31: HERRAMIENTA MENOR (5%) | M31: 0.05 | O31: =M31*O63 -> 2936.65
C32: SUBTOTAL $ | O32: =ROUND(SUM(O29:O31),0) -> 9696
C33: II. MATERIALES
C36: DESCRIPCIÓN | K36: UNIDAD | L36: CANTIDAD | M36: PRECIO UNIT. | O36: Vr. UNITARIO
C37: CONCRETO 3000 PSI | K37: M3 | L37: 0.105 | M37: ='C-21 MPA '!O60 -> 532752 | O37: =L37*M37 -> 55938.96
C38: MALLA ELECTROSOLDADA 4MM | K38: M2 | L38: 1.1 | M38: 17411.82 | O38: =L38*M38 -> 19153.002
C47: SUBTOTAL $ | O47: =ROUND(SUM(O37:O46),0) -> 75092
C48: III. TRANSPORTES
C51: MATERIAL | J51: VOL. o PESO | K51: DISTANCIA | L51: M3 o Ton/Km | M51: TARIFA | O51: Vr. UNITARIO
O52: =M52*J52 -> 0
C54: SUBTOTAL $ | O54: =ROUND(SUM(O51:O53),0) -> 0
C55: IV. MANO DE OBRA
C58: TRABAJADOR | J58: JORNAL | K58: PRESTACIONES | L58: JORNAL TOTAL | M58: RENDIMIENTO | O58: Vr. UNITARIO
C59: 1 OFICIAL +1 AYUDANTE | J59: ='MANO DE OBRA '!C42 -> 300293 | K59: 1.13 | L59: =J59*K59 -> 339331.09 | M59: 5.7774904 | O59: =L59/M59 -> 58733.303
C63: SUBTOTAL $ | O63: =ROUND(SUM(O59:O62),0) -> 58733
C65: TOTAL COSTO DIRECTO $ | O65: =O32+O47+O54+O63 -> 143521
C66: V. COSTOS INDIRECTOS
C69: Descripción | L69: Porcentaje | M69: Valor Total
C70: ADMINISTRACION | L70: 0.3 | M70: =O65 -> 143521 | O70: =L70*M70 -> 43056.3
C71: UTILIDAD | L71: 0.05 | M71: =O65 -> 143521 | O71: =L71*M71 -> 7176.05
C72: SUBTOTAL $ | O72: =ROUND(SUM(O70:O71),0) -> 50232
C74: Precio Unitario Total Aproximado al peso $ | O74: =O65+O72 -> 193753
H78: Firma
...

Sheet ITEM 4,02
B1: Formulario 1 - Propuesta económica - Documento tipo de selección abreviada de menor cuantía
B2: Versión: 1 del 21 de agosto de 2025
C5: [La entidad podrá utilizar este formato para la presentación de los análisis de precios unitarios el contratista en la oportunidad prevista en el numeral 8.2. del Documento Base]
D8: ALCALDIA DE VILLA DEL ROSARIO
L9: VERSIÓN
D10: [NÚMERO DEL PROCESO]
L11: PÁGINA | M11: 1 | N11: DE | O11: 1
D13: ANALISIS DE PRECIOS UNITARIOS
L15: FECHA | M15: DD | N15: MM | O15: AA
C17: ITEMS DE LA PROPUESTA ECONÓMICA
C21: DATOS ESPECÍFICOS
C23: ITEM | D23: DESCRIPCIÓN | M23: UNIDAD | O23: CANTIDAD
C24: ='PRESUPUESTO OFICIAL (Entidad)'!C33 -> 4.02 | D24: ='PRESUPUESTO OFICIAL (Entidad)'!G33 -> SUMINISTRO E INSTALACION PARED EN CERAMICA BRILLANTE LISA, FORMATOS 20 cm x 30 cm hasta 30 cm x 60 cm (INCLUYE - ADHESIVO Y BOQUILLA) TIPO CORONA O SIMILAR. | M24: ='PRESUPUESTO OFICIAL (Entidad)'!H33 -> M2 | O24: ='PRESUPUESTO OFICIAL (Entidad)'!I33 -> 85.8
C25: I. EQUIPO
C28: DESCRIPCIÓN | H28: MARCA | J28: TIPO | L28: TARIFA/HORA | M28: RENDIMIENTO | O28: Vr. UNITARIO
C31: HERRAMIENTA MENOR (5%) | M31: 0.05 | O31: =M31*O63 -> 1696.65
C32: SUBTOTAL $ | O32: =ROUND(SUM(O29:O31),0) -> 1697
C33: II. MATERIALES
C36: DESCRIPCIÓN | K36: UNIDAD | L36: CANTIDAD | M36: PRECIO UNIT. | O36: Vr. UNITARIO
C37: Ceramica Blanca 60 x60cm (ceramica italia) | K37: M2 | L37: 1 | M37: 79200 | O37: =L37*M37 -> 79200
C38: Adhesivo cementoso de uso exclusivo para interiores, Ci, color gris (PEGACOR ) | K38: KG | L38: 2 | M38: 2120 | O38: =L38*M38 -> 4240
C39: Boquilla cementica juntas estrechas NTC 6050 CG2A | K39: KG | L39: 1 | M39: 4000 | O39: =L39*M39 -> 4000
C47: SUBTOTAL $ | O47: =ROUND(SUM(O37:O46),0) -> 87440
C48: III. TRANSPORTES
C51: MATERIAL | J51: VOL. o PESO | K51: DISTANCIA | L51: M3 o Ton/Km | M51: TARIFA | O51: Vr. UNITARIO
O52: =M52*J52 -> 0
C54: SUBTOTAL $ | O54: =ROUND(SUM(O51:O53),0) -> 0
C55: IV. MANO DE OBRA
C58: TRABAJADOR | J58: JORNAL | K58: PRESTACIONES | L58: JORNAL TOTAL | M58: RENDIMIENTO | O58: Vr. UNITARIO
C59: 1 OFICIAL + 2 AYUDANTES | J59: ='MANO DE OBRA '!C43 -> 420410 | K59: 1.13 | L59: =J59*K59 -> 475063.3 | M59: 14 | O59: =L59/M59 -> 33933.093
C63: SUBTOTAL $ | O63: =ROUND(SUM(O59:O62),0) -> 33933
C65: TOTAL COSTO DIRECTO $ | O65: =O32+O47+O54+O63 -> 123070
C66: V. COSTOS INDIRECTOS
C69: Descripción | L69: Porcentaje | M69: Valor Total
C70: ADMINISTRACION | L70: 0.3 | M70: =O65 -> 123070 | O70: =L70*M70 -> 36921
C71: UTILIDAD | L71: 0.05 | M71: =O65 -> 123070 | O71: =L71*M71 -> 6153.5
C72: SUBTOTAL $ | O72: =ROUND(SUM(O70:O71),0) -> 43075
C74: Precio Unitario Total Aproximado al peso $ | O74: =O65+O72 -> 166145
H78: Firma
H79: Nombre:
...

Sheet ITEM 4,03
B1: Formulario 1 - Propuesta económica - Documento tipo de selección abreviada de menor cuantía
B2: Versión: 1 del 21 de agosto de 2025
C5: [La entidad podrá utilizar este formato para la presentación de los análisis de precios unitarios el contratista en la oportunidad prevista en el numeral 8.2. del Documento Base]
D8: ALCALDIA DE VILLA DEL ROSARIO
L9: VERSIÓN
D10: [NÚMERO DEL PROCESO]
L11: PÁGINA | M11: 1 | N11: DE | O11: 1
D13: ANALISIS DE PRECIOS UNITARIOS
L15: FECHA | M15: DD | N15: MM | O15: AA
C17: ITEMS DE LA PROPUESTA ECONÓMICA
C21: DATOS ESPECÍFICOS
C23: ITEM | D23: DESCRIPCIÓN | M23: UNIDAD | O23: CANTIDAD
C24: ='PRESUPUESTO OFICIAL (Entidad)'!C34 -> 4.03 | D24: ='PRESUPUESTO OFICIAL (Entidad)'!G34 -> SUMINISTRO E INSTALACION DE PISO CERAMICA ANTIDESLIZANTE, FORMATOS de 33,8 cm x 33,8 cm HASTA 61 cm x 61 cm (INCLUYE - ADHESIVO Y BOQUILLA) TIPO CORONA O SIMILAR. | M24: ='PRESUPUESTO OFICIAL (Entidad)'!H34 -> M2 | O24: ='PRESUPUESTO OFICIAL (Entidad)'!I34 -> 243
C25: I. EQUIPO
C28: DESCRIPCIÓN | H28: MARCA | J28: TIPO | L28: TARIFA/HORA | M28: RENDIMIENTO | O28: Vr. UNITARIO
C31: HERRAMIENTA MENOR (5%) | M31: 0.05 | O31: =M31*O63 -> 1696.7
C32: SUBTOTAL $ | O32: =ROUND(SUM(O29:O31),0) -> 1697
C33: II. MATERIALES
C36: DESCRIPCIÓN | K36: UNIDAD | L36: CANTIDAD | M36: PRECIO UNIT. | O36: Vr. UNITARIO
C37: Adhesivo cementoso de uso exclusivo para interiores, Ci, color gris (PAGACOR ) | K37: KG | L37: 2 | M37: 2120 | O37: =L37*M37 -> 4240
C38: PISO CERAMICO DE ALTO TRAFICO | K38: M2 | L38: 1 | M38: 97785 | O38: =L38*M38 -> 97785
C39: Boquilla cementica juntas estrechas NTC 6050 CG2A | K39: KG | L39: 1 | M39: 4000 | O39: =L39*M39 -> 4000
C47: SUBTOTAL $ | O47: =ROUND(SUM(O37:O46),0) -> 106025
C48: III. TRANSPORTES
C51: MATERIAL | J51: VOL. o PESO | K51: DISTANCIA | L51: M3 o Ton/Km | M51: TARIFA | O51: Vr. UNITARIO
O52: =M52*J52 -> 0
C54: SUBTOTAL $ | O54: =ROUND(SUM(O51:O53),0) -> 0
C55: IV. MANO DE OBRA
C58: TRABAJADOR | J58: JORNAL | K58: PRESTACIONES | L58: JORNAL TOTAL | M58: RENDIMIENTO | O58: Vr. UNITARIO
C59: 1 OFICIAL +2 AYUDANTES | J59: ='MANO DE OBRA '!C43 -> 420410 | K59: 1.13 | L59: =J59*K59 -> 475063.3 | M59: 13.999711 | O59: =L59/M59 -> 33933.793
C63: SUBTOTAL $ | O63: =ROUND(SUM(O59:O62),0) -> 33934
C65: TOTAL COSTO DIRECTO $ | O65: =O32+O47+O54+O63 -> 141656
C66: V. COSTOS INDIRECTOS
C69: Descripción | L69: Porcentaje | M69: Valor Total
C70: ADMINISTRACION | L70: 0.3 | M70: =O65 -> 141656 | O70: =L70*M70 -> 42496.8
C71: UTILIDAD | L71: 0.05 | M71: =O65 -> 141656 | O71: =L71*M71 -> 7082.8
C72: SUBTOTAL $ | O72: =ROUND(SUM(O70:O71),0) -> 49580
C74: Precio Unitario Total Aproximado al peso $ | O74: =O65+O72 -> 191236
H78: Firma
H79: Nombre:
...

Sheet ITEM 4,04
B1: Formulario 1 - Propuesta económica - Documento tipo de selección abreviada de menor cuantía
B2: Versión: 1 del 21 de agosto de 2025
C5: [La entidad podrá utilizar este formato para la presentación de los análisis de precios unitarios el contratista en la oportunidad prevista en el numeral 8.2. del Documento Base]
D8: ALCALDIA DE VILLA DEL ROSARIO
L9: VERSIÓN
D10: [NÚMERO DEL PROCESO]
L11: PÁGINA | M11: 1 | N11: DE | O11: 1
D13: ANALISIS DE PRECIOS UNITARIOS
L15: FECHA | M15: DD | N15: MM | O15: AA
C17: ITEMS DE LA PROPUESTA ECONÓMICA
C21: DATOS ESPECÍFICOS
C23: ITEM | D23: DESCRIPCIÓN | M23: UNIDAD | O23: CANTIDAD
C24: ='PRESUPUESTO OFICIAL (Entidad)'!C35 -> 4.04 | D24: ='PRESUPUESTO OFICIAL (Entidad)'!G35 -> SUMINISTRO E INSTALACION DE GUARDAESCOBA EN CERAMICA ANTIDESLIZANTE, h=8 cm (Incluye adhesivo y boquilla) | M24: ='PRESUPUESTO OFICIAL (Entidad)'!H35 -> ML | O24: ='PRESUPUESTO OFICIAL (Entidad)'!I35 -> 100
C25: I. EQUIPO
C28: DESCRIPCIÓN | H28: MARCA | J28: TIPO | L28: TARIFA/HORA | M28: RENDIMIENTO | O28: Vr. UNITARIO
C31: HERRAMIENTA MENOR (5%) | M31: 0.05 | O31: =M31*O63 -> 721.9
C32: SUBTOTAL $ | O32: =ROUND(SUM(O29:O31),0) -> 722
C33: II. MATERIALES
C36: DESCRIPCIÓN | K36: UNIDAD | L36: CANTIDAD | M36: PRECIO UNIT. | O36: Vr. UNITARIO
C37: Adhesivo cementoso de uso exclusivo para interiores, Ci, color gris (PAGACOR ) | K37: KG | L37: 1.3 | M37: 3485.8711 | O37: =L37*M37 -> 4531.6325
C38: PISO CERAMICO DE ALTO TRAFICO | K38: M2 | L38: 0.086 | M38: 39173 | O38: =L38*M38 -> 3368.878
C39: CONCOLOR 5 KG BLANCO NACAR O SIMILAR | K39: KG | L39: 0.03 | M39: 5140 | O39: =L39*M39 -> 154.2
C47: SUBTOTAL $ | O47: =ROUND(SUM(O37:O46),0) -> 8055
C48: III. TRANSPORTES
C51: MATERIAL | J51: VOL. o PESO | K51: DISTANCIA | L51: M3 o Ton/Km | M51: TARIFA | O51: Vr. UNITARIO
O52: =M52*J52 -> 0
C54: SUBTOTAL $ | O54: =ROUND(SUM(O51:O53),0) -> 0
C55: IV. MANO DE OBRA
C58: TRABAJADOR | J58: JORNAL | K58: PRESTACIONES | L58: JORNAL TOTAL | M58: RENDIMIENTO | O58: Vr. UNITARIO
C59: CUADRILLA ESPECIALIZADA 1X2 | J59: ='MANO DE OBRA '!C42 -> 300293 | K59: 1.13 | L59: =J59*K59 -> 339331.09 | M59: 23.50306 | O59: =L59/M59 -> 14437.741
C63: SUBTOTAL $ | O63: =ROUND(SUM(O59:O62),0) -> 14438
C65: TOTAL COSTO DIRECTO $ | O65: =O32+O47+O54+O63 -> 23215
C66: V. COSTOS INDIRECTOS
C69: Descripción | L69: Porcentaje | M69: Valor Total
C70: ADMINISTRACION | L70: 0.3 | M70: =O65 -> 23215 | O70: =L70*M70 -> 6964.5
C71: UTILIDAD | L71: 0.05 | M71: =O65 -> 23215 | O71: =L71*M71 -> 1160.75
C72: SUBTOTAL $ | O72: =ROUND(SUM(O70:O71),0) -> 8125
C74: Precio Unitario Total Aproximado al peso $ | O74: =O65+O72 -> 31340
H78: Firma
H79: Nombre:
...

Sheet ITEM 4,05
B1: Formulario 1 - Propuesta económica - Documento tipo de selección abreviada de menor cuantía
B2: Versión: 1 del 21 de agosto de 2025
C5: [La entidad podrá utilizar este formato para la presentación de los análisis de precios unitarios el contratista en la oportunidad prevista en el numeral 8.2. del Documento Base]
D8: ALCALDIA DE VILLA DEL ROSARIO
L9: VERSIÓN
D10: [NÚMERO DEL PROCESO]
L11: PÁGINA | M11: 1 | N11: DE | O11: 1
D13: ANALISIS DE PRECIOS UNITARIOS
L15: FECHA | M15: DD | N15: MM | O15: AA
C17: ITEMS DE LA PROPUESTA ECONÓMICA
C21: DATOS ESPECÍFICOS
C23: ITEM | D23: DESCRIPCIÓN | M23: UNIDAD | O23: CANTIDAD
C24: ='PRESUPUESTO OFICIAL (Entidad)'!C36 -> 4.05 | D24: ='PRESUPUESTO OFICIAL (Entidad)'!G36 -> SUMINISTRO E INSTALACION DE ENCHAPE DE MESON CERAMICA, FORMATOS de 20 cm x 30 cm hasta 30 cm x 40 cm (Incluye adhesivo y boquilla). | M24: ='PRESUPUESTO OFICIAL (Entidad)'!H36 -> M2 | O24: ='PRESUPUESTO OFICIAL (Entidad)'!I36 -> 14.1
C25: I. EQUIPO
C28: DESCRIPCIÓN | H28: MARCA | J28: TIPO | L28: TARIFA/HORA | M28: RENDIMIENTO | O28: Vr. UNITARIO
C31: HERRAMIENTA MENOR (5%) | M31: 0.05 | O31: =M31*O63 -> 3393.3
C32: SUBTOTAL $ | O32: =ROUND(SUM(O29:O31),0) -> 3393
C33: II. MATERIALES
C36: DESCRIPCIÓN | K36: UNIDAD | L36: CANTIDAD | M36: PRECIO UNIT. | O36: Vr. UNITARIO
C37: Ceramica Blanca 60 x60cm (ceramica italia) | K37: M2 | L37: 1.1 | M37: 79200 | O37: =L37*M37 -> 87120
C38: Adhesivo cementoso de uso exclusivo para interiores, Ci, color gris (PAGACOR ) | K38: KG | L38: 5 | M38: 2120 | O38: =L38*M38 -> 10600
C39: Boquilla cementica juntas estrechas NTC 6050 CG2A | K39: KG | L39: 1 | M39: 4000 | O39: =L39*M39 -> 4000
C40: Silicona antihongos para sellos | K40: UND | L40: 0.1 | M40: 30000 | O40: =L40*M40 -> 3000
C47: SUBTOTAL $ | O47: =ROUND(SUM(O37:O46),0) -> 104720
C48: III. TRANSPORTES
C51: MATERIAL | J51: VOL. o PESO | K51: DISTANCIA | L51: M3 o Ton/Km | M51: TARIFA | O51: Vr. UNITARIO
O52: =M52*J52 -> 0
C54: SUBTOTAL $ | O54: =ROUND(SUM(O51:O53),0) -> 0
C55: IV. MANO DE OBRA
C58: TRABAJADOR | J58: JORNAL | K58: PRESTACIONES | L58: JORNAL TOTAL | M58: RENDIMIENTO | O58: Vr. UNITARIO
C59: 1 OFICIAL + 2 AYUDANETES | J59: ='MANO DE OBRA '!C43 -> 420410 | K59: 1.13 | L59: =J59*K59 -> 475063.3 | M59: 7 | O59: =L59/M59 -> 67866.186
C63: SUBTOTAL $ | O63: =ROUND(SUM(O59:O62),0) -> 67866
C65: TOTAL COSTO DIRECTO $ | O65: =O32+O47+O54+O63 -> 175979
C66: V. COSTOS INDIRECTOS
C69: Descripción | L69: Porcentaje | M69: Valor Total
C70: ADMINISTRACION | L70: 0.3 | M70: =O65 -> 175979 | O70: =L70*M70 -> 52793.7
